{"text_format":"1","workbook":"xlsx","n_sheets":7,"sheets":["Ceiling Speaker Calculator","Instructions","Revision Log","Speaker Data","Calculations","Speaker Placement Pattern","Cone Coverage Pattern"],"not_rendered":{"charts":3,"images":8,"macros":1,"external_links":0,"defined_names":0,"comments":0,"pivot_tables":0},"unopened":[],"bounds":{"document_bytes":16777216,"sheet_cells":100000,"rows_first":2000,"rows_last":500,"rows_between":2000,"halvings":0,"cell_chars":16384,"cell_head_chars":4096},"cells_cut":0,"cells_raw":0,"read":"whole","date_system":"1900"}

{"sheet":"Ceiling Speaker Calculator","index":0,"n_rows":33,"n_cols":12,"rows_kept":33,"cut":false,"hidden":false,"merged":[[4,8,4,11],[11,8,11,11],[5,5,19,6],[23,8,23,9],[24,8,24,11],[19,8,19,11],[6,8,6,9],[7,8,7,9],[8,8,8,9],[9,8,9,9],[32,2,32,3],[29,2,29,3],[18,2,18,3],[10,1,10,3],[27,1,27,3],[17,1,17,3],[11,2,11,3],[28,2,28,3],[31,2,31,3],[30,2,30,3],[24,2,24,3],[30,10,30,11],[31,10,31,11],[32,10,32,11],[12,8,12,9],[13,8,13,9],[14,8,14,9],[15,8,15,9],[16,8,16,9],[2,5,2,6],[2,8,2,11],[4,5,4,6],[21,5,21,6],[22,5,32,5],[22,6,32,6],[26,8,26,11],[27,9,27,11],[27,8,28,8],[28,10,28,11],[29,10,29,11],[20,8,20,9],[21,8,21,9],[22,8,22,9],[17,8,17,9],[5,8,5,9]]}
[]
[]
[null,null,null,null,null,"BOSCH / Electro-Voice Ceiling & Pendant Speaker Calculator",null,null,{"$f":"CONCATENATE(\"Ver. \",'Revision Log'!B4)","v":"Ver. 4.0"}]
[]
[null,null,null,null,null,"Speaker Placement Pattern",null,null,"Speakers"]
[null,null,null,null,null,null,null,null,"Coverage Angle (nominal)",null,{"$f":"Calculations!C7","v":120},"°"]
[null,null,null,null,null,null,null,null,"Sensitivity (1w/1m)",null,{"$f":"Calculations!C8","v":90},"dB"]
[null,null,null,null,null,null,null,null,"Total Number of Speakers",null,{"$f":"Calculations!C30","v":48},"pc"]
[null,null,null,null,null,null,null,null,"Number of Speakers - Width",null,{"$f":"Calculations!C28","v":8},"pc"]
[null,null,null,null,null,null,null,null,"Number of Speakers - Length",null,{"$f":"Calculations!C29","v":6},"pc"]
[null,"Loudspeaker Selection"]
[null,"Speaker Model","EV EVID-C6.2",null,null,null,null,null,"Speaker Placement"]
[null,"Sensitivity",{"$f":"Calculations!C8","v":90},"dB",null,null,null,null,"Distance from wall to first speaker (width)",null,{"$f":"K14/2","v":9.375},{"$f":"IF($C$19=\"Feet\",\"ft\",\"m\")","v":"ft"}]
[null,"Coverage (-6dB)",{"$f":"Calculations!C7","v":120},"°",null,null,null,null,"Distance between speakers (width)",null,{"$f":"C20/K9","v":18.75},"ft"]
[null,"Tap Wattage Setting",1.88,"W",null,null,null,null,"Distance from wall to first speaker (length)",null,{"$f":"K16/2","v":10},"ft"]
[null,"- Recommended",{"$f":"IF(C25<>\"None\",Calculations!L25,\"\")","v":""},{"$f":"IF(C25<>\"None\",\"W\",\"\")","v":""},null,null,null,null,"Distance between speakers (length)",null,{"$f":"C21/K10","v":20},"ft"]
[null,null,null,null,null,null,null,null,"Overlap between 6dB cones (width)",null,{"$f":"-K14+Calculations!F20","v":0.81198559136614179},"ft"]
[null,"Room Data",null,null,null,null,null,null,"Overlap between 6db cones (length)",null,{"$f":"-K16+Calculations!F20","v":-0.43801440863385821},"ft"]
[null,"Units","Feet"]
[null,"Width",150,{"$f":"IF($C$19=\"Feet\",\"ft\",\"m\")","v":"ft"},null,null,null,null,"Room Installation Information (Estimations)"]
[null,"Length",120,{"$f":"IF($C$19=\"Feet\",\"ft\",\"m\")","v":"ft"},null,null,null,null,"SPL variation in room",null,{"$f":"Calculations!H37","v":-2.9732047221825662},"dB"]
[null,"Ceiling Height",12,{"$f":"IF($C$19=\"Feet\",\"ft\",\"m\")","v":"ft"},null,"-6dB Coverage Cones",null,null,"Average SPL in room (at rated power)",null,{"$f":"Calculations!C39","v":88.079755336459058},"dB"]
[null,"Installation Height",12,{"$f":"IF($C$19=\"Feet\",\"ft\",\"m\")","v":"ft"},null,null,null,null,"Base cabling length needed (wire pair)",null,{"$f":"IF(K9>K10,K9*C21+C20,K10*C20+C21)","v":1110},{"$f":"IF($C$19=\"Feet\",\"ft\",\"m\")","v":"ft"}]
[null,"Listener Height",4,{"$f":"IF($C$19=\"Feet\",\"ft\",\"m\")","v":"ft"},null,null,null,null,"Total base power requirements",null,{"$f":"C15*K8*1.29","v":116.4096},"W"]
[null,"Use / Application","None",null,null,null,null,null,"* No factor for cable loss included in power estimate"]
[null,"- Noise dB",null,{"$f":"IF(C25<>\"None\",\"dB\",\"\")","v":""}]
[null,null,null,null,null,null,null,null,"Minimum Wire Size Guide"]
[null,"Configuration",null,null,null,null,null,null,"Wire Gauge","Maximum Rated Power"]
[null,"Pattern","Square",null,null,null,null,null,null,"@70 Volts","@100 Volts"]
[null,"Density","Medium (good coverage)",null,null,null,null,null,18,{"$f":"ROUND(70*3,0)","v":210},{"$f":"ROUND(100*3,0)","v":300}]
[null,"Density Adjustment",null,null,null,null,null,null,16,{"$f":"ROUND(70*6,0)","v":420},{"$f":"ROUND(100*6,0)","v":600}]
[null,"- Width (-3 to +3)",0,null,null,null,null,null,14,{"$f":"ROUND(70*15,0)","v":1050},{"$f":"ROUND(100*15,0)","v":1500}]
[null,"- Length (-3 to +3)",0,null,null,null,null,null,12,{"$f":"ROUND(70*20,0)","v":1400},{"$f":"ROUND(100*20,0)","v":2000}]

{"sheet":"Instructions","index":1,"n_rows":68,"n_cols":18,"rows_kept":68,"cut":false,"hidden":false,"merged":[[1,4,1,16],[1,17,1,19],[3,1,3,6],[36,6,36,8],[7,7,8,19],[21,6,22,19],[25,6,25,19],[26,6,26,19],[28,6,28,19],[20,6,20,19],[17,6,17,19],[18,6,18,19],[19,6,19,19],[9,6,9,19],[14,6,14,19],[15,6,15,19],[16,6,16,19],[6,6,6,19],[38,6,38,19],[54,1,54,5],[10,7,11,19],[56,6,57,19],[29,6,29,19],[33,1,33,5],[67,6,67,19],[59,6,61,19],[63,6,65,19],[46,6,46,8],[48,6,49,19]]}
[]
[null,null,null,null,"Quick Guide for the BOSCH / Electro-Voice Ceiling & Pendant Speaker Calculator",null,null,null,null,null,null,null,null,null,null,null,null,{"$f":"CONCATENATE(\"Ver. \",'Revision Log'!B4)","v":"Ver. 4.0"}]
[]
[null,"Room Setup"]
[]
[]
[null,null,null,null,null,null,"1) Select the Speaker that you want to use"]
[null,null,null,null,null,null,null,"Here you can see the Sensitivity and Coverage specifications for the selected Speaker"]
[]
[null,null,null,null,null,null,"2) Select the intended Tap Wattage for the Speaker"]
[null,null,null,null,null,null,null,"If a Use/Application is selected this shows you the recommended Tap Wattage Setting. If a higher Tap Setting is required this field will show in Red. If the selected Speaker can't reach the required SPL with any of it's available tap settings, this field will say \"Error\"."]
[]
[]
[]
[null,null,null,null,null,null,"3) Select if you want data to be shown and input in Metric or Imperial "]
[null,null,null,null,null,null,"4) Input the Width of the room"]
[null,null,null,null,null,null,"5) Input the Length of the room"]
[null,null,null,null,null,null,"6) Input the Height of the Ceiling in the room (for Ceiling Speakers this is also the Installation Height)"]
[null,null,null,null,null,null,"6a) If a Pendant Speaker is selected, input the Installation Height of the Speaker"]
[null,null,null,null,null,null,"7) Input the Listener Height"]
[null,null,null,null,null,null,"OPTIONAL - If a Use/Application is desired, select it from the Dropdown box or select \"Custom\" to input a desired background noise level"]
[null,null,null,null,null,null,"OPTIONAL - If a Use/Application is selected, here you'll see the background noise level used for that application. If \"Custom\" is selected you can input a background noise level"]
[]
[]
[]
[null,null,null,null,null,null,"8) Select a Speaker Pattern: Square or Hexadecimal"]
[null,null,null,null,null,null,"9) Select a Density for the Speaker Pattern. Medium produces around 3dB of maximum level variation in the room"]
[]
[null,null,null,null,null,null,"OPTIONAL - Adjust the number of Rows in the Speaker Pattern (from -3 to +3)"]
[null,null,null,null,null,null,"OPTIONAL - Adjust the number of Colunns in the Speaker Pattern (from -3 to +3)"]
[]
[]
[]
[null,"Speaker Pattern Results Graph"]
[]
[]
[null,null,null,null,null,null,"Speaker Placement Graph"]
[]
[null,null,null,null,null,null,"The Speaker Placement Pattern Graph shows the dimensions of the room and the positioning of the loudspeakers in the room"]
[]
[]
[]
[]
[]
[]
[]
[null,null,null,null,null,null,"-6dB Coverage Cones Graph"]
[]
[null,null,null,null,null,null,"The -6dB Coverage Cones Graph is an elevation that shows the -6dB Coverage Cones of the selected Speaker, both by Width and Length, and how much these cones overlap."]
[]
[]
[]
[]
[]
[null,"Room Coverage Information"]
[]
[null,null,null,null,null,null,"These tables show information about the number of Speakers needed to cover the room, as well as their positions and approximate SPL levels of coverage in the room."]
[]
[]
[null,null,null,null,null,null,"The Room Installation Information table also shows the amount of cable required for connecting the speakers. This assumes that all the speakers are connected together on a single cable. The actual amount of cable required will depend on where the amplifiers are relative the room and, where required, how the room is broken up into zones."]
[]
[]
[]
[null,null,null,null,null,null,"The amplifier requirements for the total number of speakers used is shown on the Room Installation Information table. This value reflects the total number of speakers multiplied by the the power tap selected, plus a factor for loss in the speaker's transformer.  If the room uses long runs of wire it may be desirable to increase the amplifier power slightly to compensate of losses in the wiring."]
[]
[]
[]
[null,null,null,null,null,null,"The information is shown in Metric or Imperial units, depending on what's selected in the Room Data table."]

{"sheet":"Revision Log","index":2,"n_rows":9,"n_cols":3,"rows_kept":9,"cut":false,"hidden":true,"merged":[[0,0,0,2]]}
["BOSCH / Electro-Voice Ceiling & Pendant Speaker Calculator"]
[]
["Current"]
["Version","4.0"]
["Date","2020-02-21"]
[]
["Version","Description","Date"]
["4.0 RC","Completely rewritten from previous ceiling speaker calculator (latest version 3.4). Added the option to account for pendant speakers as well. New speakers added:","2020-01-13"]
[4,"Final release after several bug fixes. Works with Excel for Mac 16 (16.16.17)","2020-02-21"]

{"sheet":"Speaker Data","index":3,"n_rows":28,"n_cols":18,"rows_kept":28,"cut":false,"hidden":true,"merged":[]}
["Model","Sensitivity","Power Rating","Coverage (6dB)","Power Tap #1 (Lowest)","Power Tap #2","Power Tap #3","Power Tap #4","Power Tap #5 (Highest)","Type",null,null,null,null,null,null,"Application","dB Reference"]
["Bosch LBC3951/11",88,null,120,0.75,1.5,3,6,null,"Ceiling",null,null,null,null,null,null,"None"]
["Bosch LC1-UM06E8",89,null,85,0.75,1.5,3,6,null,"Ceiling",null,null,null,null,null,null,"Custom"]
["Bosch LC1-UM12E8",89,null,85,1.5,3,6,12,null,"Ceiling",null,null,null,null,null,null,"Assembly Line",80]
["Bosch LC1-UM24E8",89,null,85,3,6,12,24,null,"Ceiling",null,null,null,null,null,null,"Bank - Public Area",70]
["Bosch LC1-WM06E8",88,null,120,0.75,1.5,3,6,null,"Ceiling",null,null,null,null,null,null,"Department Store",70]
["Bosch LC2-PC30G6-4",86,75,130,1.88,3.75,7.5,15,30,"Ceiling",null,null,null,null,null,null,"Doctor's Office",60]
["Bosch LC2-PC30G6-8",91,100,110,1.88,3.75,7.5,15,30,"Ceiling",null,null,null,null,null,null,"Hospital",60]
["Bosch LC2-PC30G6-8L",91,100,110,1.88,3.75,7.5,15,30,"Ceiling",null,null,null,null,null,null,"Hotel Lobby",65]
["Bosch LC2-PC60G6-12",100,null,100,4,8,16,32,64,"Ceiling",null,null,null,null,null,null,"Machine Shop",80]
["Bosch LC2-PC60G6-8H",93,100,75,7.5,15,30,60,null,"Ceiling",null,null,null,null,null,null,"Office",65]
["Bosch LC4-UC06E",88,9,170,0.75,1.5,3,6,null,"Ceiling",null,null,null,null,null,null,"Restaurant/Bar",70]
["Bosch LC4-UC12E",88,18,170,1.5,3,6,12,null,"Ceiling",null,null,null,null,null,null,"Shipping/Warehouse",80]
["Bosch LC4-UC24E",88,36,170,3,6,12,24,null,"Ceiling",null,null,null,null,null,null,"Supermarket",75]
["Bosch LHM0606/00",92,null,85,1.5,3,6,null,null,"Ceiling",null,null,null,null,null,null,"Transportation - Waiting Room",80]
["Bosch LHM0606/10",92,null,85,1.5,3,6,null,null,"Ceiling"]
["Bosch LS1-OC100-E1",90,100,137,25,50,100,null,null,"Pendant"]
["Bosch LS1-UC10U",92,10,120,2.5,5,10,null,null,"Pendant"]
["EV EVID C12.2",100,null,100,4,8,16,32,64,"Ceiling"]
["EV EVID C4.2",86,75,130,1.88,3.75,7.5,15,30,"Ceiling"]
["EV EVID-C4.2LP",86,50,130,1.88,3.75,7.5,15,30,"Ceiling"]
["EV EVID-C6.2",90,75,120,1.88,3.75,7.5,15,30,"Ceiling"]
["EV EVID C8.2",91,100,110,1.88,3.75,7.5,15,30,"Ceiling"]
["EV EVID C8.2LP",91,100,110,1.88,3.75,7.5,15,30,"Ceiling"]
["EV EVID C8.2HC",93,100,75,7.5,15,30,60,null,"Ceiling"]
["EV EVID-PC6.2",87,100,100,7.5,15,30,60,null,"Ceiling"]
["EV EVID-PC8.2",88,100,120,7.5,15,30,60,null,"Ceiling"]
["EV EVID-P6.2",87,75,115,1.88,3.75,7.5,15,30,"Pendant"]

{"sheet":"Calculations","index":4,"n_rows":39,"n_cols":13,"rows_kept":39,"cut":false,"hidden":true,"merged":[]}
[]
[null,"Selected Unit Factor",{"$f":"IF('Ceiling Speaker Calculator'!C19=\"Feet\",3.2808399,1)","v":3.2808399000000001},null,null,null,null,null,null,null,"Graph Data"]
[null,null,null,null,null,null,null,null,null,null,"Last Width Cell (down)",{"$f":"ROW(INDEX('Speaker Placement Pattern'!B:B,MATCH(L9,'Speaker Placement Pattern'!B:B,1),0))","v":8}]
[null,"Selected Speaker",{"$f":"'Ceiling Speaker Calculator'!C12","v":"EV EVID-C6.2"},null,null,null,null,null,null,null,"Last Length Cell (right)",{"$f":"SUBSTITUTE(ADDRESS(1,COLUMN(INDEX('Speaker Placement Pattern'!1:1,,MATCH(L8,'Speaker Placement Pattern'!1:1,1))),4),\"1\",\"\")","v":"J"}]
[null,"Speaker Type",{"$f":"INDEX('Speaker Data'!$A:$J,MATCH($C$4,'Speaker Data'!$A:$A,0),10)","v":"Ceiling"}]
[null,"Tap Settings",{"$f":"INDEX('Speaker Data'!$A:$I,MATCH($C$4,'Speaker Data'!$A:$A,0),5)","v":1.88},{"$f":"INDEX('Speaker Data'!$A:$I,MATCH($C$4,'Speaker Data'!$A:$A,0),6)","v":3.75},{"$f":"INDEX('Speaker Data'!$A:$I,MATCH($C$4,'Speaker Data'!$A:$A,0),7)","v":7.5},{"$f":"INDEX('Speaker Data'!$A:$I,MATCH($C$4,'Speaker Data'!$A:$A,0),8)","v":15},{"$f":"INDEX('Speaker Data'!$A:$I,MATCH($C$4,'Speaker Data'!$A:$A,0),9)","v":30},null,null,null,"Last Cell",{"$f":"CONCATENATE(L4,L3)","v":"J8"}]
[null,"Coverage",{"$f":"INDEX('Speaker Data'!$A:$I,MATCH($C$4,'Speaker Data'!$A:$A,0),4)","v":120}]
[null,"Sensitivity",{"$f":"INDEX('Speaker Data'!$A:$I,MATCH($C$4,'Speaker Data'!$A:$A,0),2)","v":90},null,null,null,null,null,null,null,"Scale Width (down)",{"$f":"C28*('Ceiling Speaker Calculator'!K14)","v":150}]
[null,"Ceiling to Listener Distance",{"$f":"'Ceiling Speaker Calculator'!C23-'Ceiling Speaker Calculator'!C24","v":8},null,null,null,null,null,null,null,"Scale Height (right)",{"$f":"C29*('Ceiling Speaker Calculator'!K16)","v":120}]
[null,"Coverage Factor",{"$f":"C7/360*PI()","v":1.0471975511965976}]
[null,"Coverage Q Factor",{"$f":"C9/COS(C10)-C9","v":7.9999999999999964}]
[null,"Coverage Width Factor",{"$f":"C11*SIN(C10)/1.7","v":4.0754136648679449},null,null,null,null,null,null,null,"-6dB Coverage Cones"]
[null,"Coverage Height Factor",{"$f":"C9*TAN(C10)","v":13.856406460551014},null,null,null,null,null,null,null,"Width",{"$f":"IF(C28>3,'Ceiling Speaker Calculator'!K14*3,'Ceiling Speaker Calculator'!K14*C28)","v":56.25}]
[null,"Calculated Effecitve Coverage",{"$f":"360*ATAN((C13-C12)/C9)/PI()","v":101.43964892992638},null,null,null,null,null,null,null,"Length",{"$f":"IF(C29>3,'Ceiling Speaker Calculator'!K16*3,'Ceiling Speaker Calculator'!K16*C29)","v":60}]
[]
[null,"Density",{"$f":"IF(LEFT('Ceiling Speaker Calculator'!C30,1)=\"L\",1,IF(LEFT('Ceiling Speaker Calculator'!C30,1)=\"M\",2,3))","v":2},null,null,null,null,null,null,null,"Use/Application Background Noise"]
[null,"Selected Power Tap",{"$f":"'Ceiling Speaker Calculator'!C15","v":1.88},null,null,null,null,null,null,null,{"$f":"'Ceiling Speaker Calculator'!C25","v":"None"},{"$f":"IF(K17<>\"Custom\",INDEX('Speaker Data'!R2:R15,MATCH(Calculations!K17,'Speaker Data'!Q2:Q15,0),0),'Ceiling Speaker Calculator'!C26)","v":0}]
[null,null,null,null,null,null,null,null,null,null,"Minimum",{"$f":"L17+10","v":10}]
[null,"Coverage Area @Listener",{"$f":"2*TAN((C7/2)/360*PI()*2)*C9","v":27.712812921102028},null,null,null,null,null,null,null,"Tap #1",{"$f":"INDEX('Speaker Data'!$A:$I,MATCH($C$4,'Speaker Data'!$A:$A,0),5)","v":1.88},{"$f":"-1+(20*LOG(SQRT(L19)*H36*POWER(10,C8/20)*(C2/C9))+40*LOG(SQRT(L19)*H36*POWER(10,(C8+E37)/20)*(C2/C9)))/3","v":88.079755336459058}]
[null,"Coverage Area 6db @ Listener",{"$f":"IF('Ceiling Speaker Calculator'!C29:D29=\"Square\",Calculations!F20,Calculations!I20)","v":19.561985591366142},null,"Square",{"$f":"2*TAN((C14/2)/360*PI()*2)*C9","v":19.561985591366142},null,"Hex",{"$f":"2*0.886*TAN((C14/2)/360*PI()*2)*C9","v":17.331919233950401},null,"Tap #2",{"$f":"INDEX('Speaker Data'!$A:$I,MATCH($C$4,'Speaker Data'!$A:$A,0),6)","v":3.75},{"$f":"IF(L20<>\"\",M19+3,\"\")","v":91.079755336459058}]
[null,"Coverage Area 6db @ Listener",{"$f":"IF('Ceiling Speaker Calculator'!C29:D29=\"Square\",Calculations!F20,Calculations!I21)","v":19.561985591366142},null,null,null,null,null,{"$f":"2*0.577*0.886*TAN((C14/2)/360*PI()*2)*C9","v":10.00051739798938},null,"Tap #3",{"$f":"INDEX('Speaker Data'!$A:$I,MATCH($C$4,'Speaker Data'!$A:$A,0),7)","v":7.5},{"$f":"IF(L21<>\"\",M20+3,\"\")","v":94.079755336459058}]
[null,null,null,null,null,null,null,null,null,null,"Tap #4",{"$f":"INDEX('Speaker Data'!$A:$I,MATCH($C$4,'Speaker Data'!$A:$A,0),8)","v":15},97.079755336459058]
[null,"Geomerty Hex",{"$f":"'Ceiling Speaker Calculator'!K14-1/2*Calculations!F20","v":8.9690072043169291},null,null,null,null,null,null,null,"Tap #5",{"$f":"INDEX('Speaker Data'!$A:$I,MATCH($C$4,'Speaker Data'!$A:$A,0),9)","v":30},100.07975533645906]
[null,"Geometry Hex",{"$f":"'Ceiling Speaker Calculator'!K16","v":20},null,null,null,null,null,null,null,"Recommended Tap",{"$f":"INDEX(L19:L23,MATCH(TRUE,L18<M19:M23,0),0)","v":1.88}]
[null,"Geometry Hex",{"$f":"IF(C23<0,C23+C24,SQRT(POWER(C23,2)+POWER(C24,2)))","v":21.919012072424454},null,null,null,null,null,null,null,"Recommended Tap - Used",{"$f":"_xlfn.IFNA(L24,\"Error\")","v":1.88}]
[]
[null,null,"Used (>0)","Real",null,null,null,null,null,null,"Density Adjustment","Width","Length"]
[null,"Speakers x Width",{"$f":"IF(D28>0,D28,1)","v":8},{"$f":"ROUND(('Ceiling Speaker Calculator'!C20/Calculations!$C$20)*(Calculations!$C$16/2),0)+'Ceiling Speaker Calculator'!C32","v":8},null,null,null,null,null,null,"Current",{"$f":"'Ceiling Speaker Calculator'!C32","v":0},{"$f":"'Ceiling Speaker Calculator'!C33","v":0}]
[null,"Speakers x Length",{"$f":"IF(D29>0,D29,1)","v":6},{"$f":"ROUND(('Ceiling Speaker Calculator'!C21/Calculations!$C$21)*($C$16/2),0)+'Ceiling Speaker Calculator'!C33","v":6},null,null,null,null,null,null,null,-3,-3]
[null,"Total Speakers",{"$f":"IF('Ceiling Speaker Calculator'!C29:D29=\"Square\",Calculations!C28*Calculations!C29,ROUNDUP((Calculations!C28*Calculations!C29)/2,0))","v":48},null,null,null,null,null,null,null,null,-2,-2]
[null,null,null,null,null,null,null,null,null,null,null,-1,-1]
[null,"Level Calculations","On Axis","Min Level Hex","Min Level Square",null,null,"Used (square/hex)",null,null,null,0,0]
[null,"Polar Radius",{"$f":"F20/2","v":9.7809927956830709},null,null,null,null,null,null,null,null,1,1]
[null,"Actual Distance",{"$f":"SQRT(POWER('Ceiling Speaker Calculator'!K14,2)+POWER('Ceiling Speaker Calculator'!K16,2))","v":27.414640249326634},{"$f":"('Ceiling Speaker Calculator'!K14+1/0.577*'Ceiling Speaker Calculator'!K16)/2-1/4*Calculations!F20","v":21.815526132487754},{"$f":"SQRT(POWER(0.5*'Ceiling Speaker Calculator'!K14,2)+POWER(0.5*'Ceiling Speaker Calculator'!K16,2))","v":13.707320124663317},{"$f":"('Ceiling Speaker Calculator'!K14+'Ceiling Speaker Calculator'!K16)/2","v":19.375},null,null,null,null,null,2,2]
[null,"Level Factor",{"$f":"0.5*C33/C34","v":0.17838995344692357},{"$f":"0.5*C33/C25","v":0.22311664329041994},{"$f":"0.5*C33/E34","v":0.35677990689384714},{"$f":"0.5*C33/F34","v":0.25241271730795023},null,null,null,null,null,3,3]
[null,"Total",{"$f":"1+6*C35","v":2.0703397206815417},{"$f":"3*D35","v":0.66934992987125985},{"$f":"4*E35","v":1.4271196275753886},{"$f":"1+4*F35","v":2.0096508692318009},null,{"$f":"IF('Ceiling Speaker Calculator'!C29=\"Square\",Calculations!F36,Calculations!C36-0.25)","v":2.0096508692318009}]
[null,"dB Difference",null,{"$f":"10*LOG(D36/C36)","v":-4.9038839217722359},{"$f":"20*(LOG(E36/F36))","v":-2.9732047221825662},null,null,{"$f":"IF('Ceiling Speaker Calculator'!C29=\"Square\",Calculations!E37,Calculations!D37)","v":-2.9732047221825662}]
[]
[null,"Average SPL in Room",{"$f":"-1+(20*LOG(SQRT(C17)*H36*POWER(10,C8/20)*(C2/C9))+40*LOG(SQRT(C17)*H36*POWER(10,(C8+H37)/20)*(C2/C9)))/3","v":88.079755336459058}]

{"sheet":"Speaker Placement Pattern","index":5,"n_rows":102,"n_cols":102,"rows_kept":102,"cut":false,"hidden":true,"merged":[]}
[null,null,{"$f":"'Ceiling Speaker Calculator'!$K$13","v":9.375},{"$f":"$C1+('Ceiling Speaker Calculator'!$K$14*C2)","v":28.125},{"$f":"$C1+('Ceiling Speaker Calculator'!$K$14*D2)","v":46.875},{"$f":"$C1+('Ceiling Speaker Calculator'!$K$14*E2)","v":65.625},{"$f":"$C1+('Ceiling Speaker Calculator'!$K$14*F2)","v":84.375},{"$f":"$C1+('Ceiling Speaker Calculator'!$K$14*G2)","v":103.125},{"$f":"$C1+('Ceiling Speaker Calculator'!$K$14*H2)","v":121.875},{"$f":"$C1+('Ceiling Speaker Calculator'!$K$14*I2)","v":140.625},{"$f":"$C1+('Ceiling Speaker Calculator'!$K$14*J2)","v":159.375},{"$f":"$C1+('Ceiling Speaker Calculator'!$K$14*K2)","v":178.125},{"$f":"$C1+('Ceiling Speaker Calculator'!$K$14*L2)","v":196.875},{"$f":"$C1+('Ceiling Speaker Calculator'!$K$14*M2)","v":215.625},{"$f":"$C1+('Ceiling Speaker Calculator'!$K$14*N2)","v":234.375},{"$f":"$C1+('Ceiling Speaker Calculator'!$K$14*O2)","v":253.125},{"$f":"$C1+('Ceiling Speaker Calculator'!$K$14*P2)","v":271.875},{"$f":"$C1+('Ceiling Speaker Calculator'!$K$14*Q2)","v":290.625},{"$f":"$C1+('Ceiling Speaker Calculator'!$K$14*R2)","v":309.375},{"$f":"$C1+('Ceiling Speaker Calculator'!$K$14*S2)","v":328.125},{"$f":"$C1+('Ceiling Speaker Calculator'!$K$14*T2)","v":346.875},{"$f":"$C1+('Ceiling Speaker Calculator'!$K$14*U2)","v":365.625},{"$f":"$C1+('Ceiling Speaker Calculator'!$K$14*V2)","v":384.375},{"$f":"$C1+('Ceiling Speaker Calculator'!$K$14*W2)","v":403.125},{"$f":"$C1+('Ceiling Speaker Calculator'!$K$14*X2)","v":421.875},{"$f":"$C1+('Ceiling Speaker Calculator'!$K$14*Y2)","v":440.625},{"$f":"$C1+('Ceiling Speaker Calculator'!$K$14*Z2)","v":459.375},{"$f":"$C1+('Ceiling Speaker Calculator'!$K$14*AA2)","v":478.125},{"$f":"$C1+('Ceiling Speaker Calculator'!$K$14*AB2)","v":496.875},{"$f":"$C1+('Ceiling Speaker Calculator'!$K$14*AC2)","v":515.625},{"$f":"$C1+('Ceiling Speaker Calculator'!$K$14*AD2)","v":534.375},{"$f":"$C1+('Ceiling Speaker Calculator'!$K$14*AE2)","v":553.125},{"$f":"$C1+('Ceiling Speaker Calculator'!$K$14*AF2)","v":571.875},{"$f":"$C1+('Ceiling Speaker Calculator'!$K$14*AG2)","v":590.625},{"$f":"$C1+('Ceiling Speaker Calculator'!$K$14*AH2)","v":609.375},{"$f":"$C1+('Ceiling Speaker Calculator'!$K$14*AI2)","v":628.125},{"$f":"$C1+('Ceiling Speaker Calculator'!$K$14*AJ2)","v":646.875},{"$f":"$C1+('Ceiling Speaker Calculator'!$K$14*AK2)","v":665.625},{"$f":"$C1+('Ceiling Speaker Calculator'!$K$14*AL2)","v":684.375},{"$f":"$C1+('Ceiling Speaker Calculator'!$K$14*AM2)","v":703.125},{"$f":"$C1+('Ceiling Speaker Calculator'!$K$14*AN2)","v":721.875},{"$f":"$C1+('Ceiling Speaker Calculator'!$K$14*AO2)","v":740.625},{"$f":"$C1+('Ceiling Speaker Calculator'!$K$14*AP2)","v":759.375},{"$f":"$C1+('Ceiling Speaker Calculator'!$K$14*AQ2)","v":778.125},{"$f":"$C1+('Ceiling Speaker Calculator'!$K$14*AR2)","v":796.875},{"$f":"$C1+('Ceiling Speaker Calculator'!$K$14*AS2)","v":815.625},{"$f":"$C1+('Ceiling Speaker Calculator'!$K$14*AT2)","v":834.375},{"$f":"$C1+('Ceiling Speaker Calculator'!$K$14*AU2)","v":853.125},{"$f":"$C1+('Ceiling Speaker Calculator'!$K$14*AV2)","v":871.875},{"$f":"$C1+('Ceiling Speaker Calculator'!$K$14*AW2)","v":890.625},{"$f":"$C1+('Ceiling Speaker Calculator'!$K$14*AX2)","v":909.375},{"$f":"$C1+('Ceiling Speaker Calculator'!$K$14*AY2)","v":928.125},{"$f":"$C1+('Ceiling Speaker Calculator'!$K$14*AZ2)","v":946.875},{"$f":"$C1+('Ceiling Speaker Calculator'!$K$14*BA2)","v":965.625},{"$f":"$C1+('Ceiling Speaker Calculator'!$K$14*BB2)","v":984.375},{"$f":"$C1+('Ceiling Speaker Calculator'!$K$14*BC2)","v":1003.125},{"$f":"$C1+('Ceiling Speaker Calculator'!$K$14*BD2)","v":1021.875},{"$f":"$C1+('Ceiling Speaker Calculator'!$K$14*BE2)","v":1040.625},{"$f":"$C1+('Ceiling Speaker Calculator'!$K$14*BF2)","v":1059.375},{"$f":"$C1+('Ceiling Speaker Calculator'!$K$14*BG2)","v":1078.125},{"$f":"$C1+('Ceiling Speaker Calculator'!$K$14*BH2)","v":1096.875},{"$f":"$C1+('Ceiling Speaker Calculator'!$K$14*BI2)","v":1115.625},{"$f":"$C1+('Ceiling Speaker Calculator'!$K$14*BJ2)","v":1134.375},{"$f":"$C1+('Ceiling Speaker Calculator'!$K$14*BK2)","v":1153.125},{"$f":"$C1+('Ceiling Speaker Calculator'!$K$14*BL2)","v":1171.875},{"$f":"$C1+('Ceiling Speaker Calculator'!$K$14*BM2)","v":1190.625},{"$f":"$C1+('Ceiling Speaker Calculator'!$K$14*BN2)","v":1209.375},{"$f":"$C1+('Ceiling Speaker Calculator'!$K$14*BO2)","v":1228.125},{"$f":"$C1+('Ceiling Speaker Calculator'!$K$14*BP2)","v":1246.875},{"$f":"$C1+('Ceiling Speaker Calculator'!$K$14*BQ2)","v":1265.625},{"$f":"$C1+('Ceiling Speaker Calculator'!$K$14*BR2)","v":1284.375},{"$f":"$C1+('Ceiling Speaker Calculator'!$K$14*BS2)","v":1303.125},{"$f":"$C1+('Ceiling Speaker Calculator'!$K$14*BT2)","v":1321.875},{"$f":"$C1+('Ceiling Speaker Calculator'!$K$14*BU2)","v":1340.625},{"$f":"$C1+('Ceiling Speaker Calculator'!$K$14*BV2)","v":1359.375},{"$f":"$C1+('Ceiling Speaker Calculator'!$K$14*BW2)","v":1378.125},{"$f":"$C1+('Ceiling Speaker Calculator'!$K$14*BX2)","v":1396.875},{"$f":"$C1+('Ceiling Speaker Calculator'!$K$14*BY2)","v":1415.625},{"$f":"$C1+('Ceiling Speaker Calculator'!$K$14*BZ2)","v":1434.375},{"$f":"$C1+('Ceiling Speaker Calculator'!$K$14*CA2)","v":1453.125},{"$f":"$C1+('Ceiling Speaker Calculator'!$K$14*CB2)","v":1471.875},{"$f":"$C1+('Ceiling Speaker Calculator'!$K$14*CC2)","v":1490.625},{"$f":"$C1+('Ceiling Speaker Calculator'!$K$14*CD2)","v":1509.375},{"$f":"$C1+('Ceiling Speaker Calculator'!$K$14*CE2)","v":1528.125},{"$f":"$C1+('Ceiling Speaker Calculator'!$K$14*CF2)","v":1546.875},{"$f":"$C1+('Ceiling Speaker Calculator'!$K$14*CG2)","v":1565.625},{"$f":"$C1+('Ceiling Speaker Calculator'!$K$14*CH2)","v":1584.375},{"$f":"$C1+('Ceiling Speaker Calculator'!$K$14*CI2)","v":1603.125},{"$f":"$C1+('Ceiling Speaker Calculator'!$K$14*CJ2)","v":1621.875},{"$f":"$C1+('Ceiling Speaker Calculator'!$K$14*CK2)","v":1640.625},{"$f":"$C1+('Ceiling Speaker Calculator'!$K$14*CL2)","v":1659.375},{"$f":"$C1+('Ceiling Speaker Calculator'!$K$14*CM2)","v":1678.125},{"$f":"$C1+('Ceiling Speaker Calculator'!$K$14*CN2)","v":1696.875},{"$f":"$C1+('Ceiling Speaker Calculator'!$K$14*CO2)","v":1715.625},{"$f":"$C1+('Ceiling Speaker Calculator'!$K$14*CP2)","v":1734.375},{"$f":"$C1+('Ceiling Speaker Calculator'!$K$14*CQ2)","v":1753.125},{"$f":"$C1+('Ceiling Speaker Calculator'!$K$14*CR2)","v":1771.875},{"$f":"$C1+('Ceiling Speaker Calculator'!$K$14*CS2)","v":1790.625},{"$f":"$C1+('Ceiling Speaker Calculator'!$K$14*CT2)","v":1809.375},{"$f":"$C1+('Ceiling Speaker Calculator'!$K$14*CU2)","v":1828.125},{"$f":"$C1+('Ceiling Speaker Calculator'!$K$14*CV2)","v":1846.875},{"$f":"$C1+('Ceiling Speaker Calculator'!$K$14*CW2)","v":1865.625}]
[null,0,1,2,3,4,5,6,7,8,9,10,11,12,13,14,15,16,17,18,19,20,21,22,23,24,25,26,27,28,29,30,31,32,33,34,35,36,37,38,39,40,41,42,43,44,45,46,47,48,49,50,51,52,53,54,55,56,57,58,59,60,61,62,63,64,65,66,67,68,69,70,71,72,73,74,75,76,77,78,79,80,81,82,83,84,85,86,87,88,89,90,91,92,93,94,95,96,97,98,99,100]
[1,{"$f":"'Ceiling Speaker Calculator'!K15","v":10},{"$f":"IF('Ceiling Speaker Calculator'!$C$29=\"Square\",C$1,IF(OR(AND(ODD($A3)=$A3,ODD(C$2)=C$2),AND(EVEN($A3)=$A3,EVEN(C$2)=C$2)),C$1,-100))","v":9.375},{"$f":"IF('Ceiling Speaker Calculator'!$C$29=\"Square\",D$1,IF(OR(AND(ODD($A3)=$A3,ODD(D$2)=D$2),AND(EVEN($A3)=$A3,EVEN(D$2)=D$2)),D$1,-100))","v":28.125},{"$f":"IF('Ceiling Speaker Calculator'!$C$29=\"Square\",E$1,IF(OR(AND(ODD($A3)=$A3,ODD(E$2)=E$2),AND(EVEN($A3)=$A3,EVEN(E$2)=E$2)),E$1,-100))","v":46.875},{"$f":"IF('Ceiling Speaker Calculator'!$C$29=\"Square\",F$1,IF(OR(AND(ODD($A3)=$A3,ODD(F$2)=F$2),AND(EVEN($A3)=$A3,EVEN(F$2)=F$2)),F$1,-100))","v":65.625},{"$f":"IF('Ceiling Speaker Calculator'!$C$29=\"Square\",G$1,IF(OR(AND(ODD($A3)=$A3,ODD(G$2)=G$2),AND(EVEN($A3)=$A3,EVEN(G$2)=G$2)),G$1,-100))","v":84.375},{"$f":"IF('Ceiling Speaker Calculator'!$C$29=\"Square\",H$1,IF(OR(AND(ODD($A3)=$A3,ODD(H$2)=H$2),AND(EVEN($A3)=$A3,EVEN(H$2)=H$2)),H$1,-100))","v":103.125},{"$f":"IF('Ceiling Speaker Calculator'!$C$29=\"Square\",I$1,IF(OR(AND(ODD($A3)=$A3,ODD(I$2)=I$2),AND(EVEN($A3)=$A3,EVEN(I$2)=I$2)),I$1,-100))","v":121.875},{"$f":"IF('Ceiling Speaker Calculator'!$C$29=\"Square\",J$1,IF(OR(AND(ODD($A3)=$A3,ODD(J$2)=J$2),AND(EVEN($A3)=$A3,EVEN(J$2)=J$2)),J$1,-100))","v":140.625},{"$f":"IF('Ceiling Speaker Calculator'!$C$29=\"Square\",K$1,IF(OR(AND(ODD($A3)=$A3,ODD(K$2)=K$2),AND(EVEN($A3)=$A3,EVEN(K$2)=K$2)),K$1,-100))","v":159.375},{"$f":"IF('Ceiling Speaker Calculator'!$C$29=\"Square\",L$1,IF(OR(AND(ODD($A3)=$A3,ODD(L$2)=L$2),AND(EVEN($A3)=$A3,EVEN(L$2)=L$2)),L$1,-100))","v":178.125},{"$f":"IF('Ceiling Speaker Calculator'!$C$29=\"Square\",M$1,IF(OR(AND(ODD($A3)=$A3,ODD(M$2)=M$2),AND(EVEN($A3)=$A3,EVEN(M$2)=M$2)),M$1,-100))","v":196.875},{"$f":"IF('Ceiling Speaker Calculator'!$C$29=\"Square\",N$1,IF(OR(AND(ODD($A3)=$A3,ODD(N$2)=N$2),AND(EVEN($A3)=$A3,EVEN(N$2)=N$2)),N$1,-100))","v":215.625},{"$f":"IF('Ceiling Speaker Calculator'!$C$29=\"Square\",O$1,IF(OR(AND(ODD($A3)=$A3,ODD(O$2)=O$2),AND(EVEN($A3)=$A3,EVEN(O$2)=O$2)),O$1,-100))","v":234.375},{"$f":"IF('Ceiling Speaker Calculator'!$C$29=\"Square\",P$1,IF(OR(AND(ODD($A3)=$A3,ODD(P$2)=P$2),AND(EVEN($A3)=$A3,EVEN(P$2)=P$2)),P$1,-100))","v":253.125},{"$f":"IF('Ceiling Speaker Calculator'!$C$29=\"Square\",Q$1,IF(OR(AND(ODD($A3)=$A3,ODD(Q$2)=Q$2),AND(EVEN($A3)=$A3,EVEN(Q$2)=Q$2)),Q$1,-100))","v":271.875},{"$f":"IF('Ceiling Speaker Calculator'!$C$29=\"Square\",R$1,IF(OR(AND(ODD($A3)=$A3,ODD(R$2)=R$2),AND(EVEN($A3)=$A3,EVEN(R$2)=R$2)),R$1,-100))","v":290.625},{"$f":"IF('Ceiling Speaker Calculator'!$C$29=\"Square\",S$1,IF(OR(AND(ODD($A3)=$A3,ODD(S$2)=S$2),AND(EVEN($A3)=$A3,EVEN(S$2)=S$2)),S$1,-100))","v":309.375},{"$f":"IF('Ceiling Speaker Calculator'!$C$29=\"Square\",T$1,IF(OR(AND(ODD($A3)=$A3,ODD(T$2)=T$2),AND(EVEN($A3)=$A3,EVEN(T$2)=T$2)),T$1,-100))","v":328.125},{"$f":"IF('Ceiling Speaker Calculator'!$C$29=\"Square\",U$1,IF(OR(AND(ODD($A3)=$A3,ODD(U$2)=U$2),AND(EVEN($A3)=$A3,EVEN(U$2)=U$2)),U$1,-100))","v":346.875},{"$f":"IF('Ceiling Speaker Calculator'!$C$29=\"Square\",V$1,IF(OR(AND(ODD($A3)=$A3,ODD(V$2)=V$2),AND(EVEN($A3)=$A3,EVEN(V$2)=V$2)),V$1,-100))","v":365.625},{"$f":"IF('Ceiling Speaker Calculator'!$C$29=\"Square\",W$1,IF(OR(AND(ODD($A3)=$A3,ODD(W$2)=W$2),AND(EVEN($A3)=$A3,EVEN(W$2)=W$2)),W$1,-100))","v":384.375},{"$f":"IF('Ceiling Speaker Calculator'!$C$29=\"Square\",X$1,IF(OR(AND(ODD($A3)=$A3,ODD(X$2)=X$2),AND(EVEN($A3)=$A3,EVEN(X$2)=X$2)),X$1,-100))","v":403.125},{"$f":"IF('Ceiling Speaker Calculator'!$C$29=\"Square\",Y$1,IF(OR(AND(ODD($A3)=$A3,ODD(Y$2)=Y$2),AND(EVEN($A3)=$A3,EVEN(Y$2)=Y$2)),Y$1,-100))","v":421.875},{"$f":"IF('Ceiling Speaker Calculator'!$C$29=\"Square\",Z$1,IF(OR(AND(ODD($A3)=$A3,ODD(Z$2)=Z$2),AND(EVEN($A3)=$A3,EVEN(Z$2)=Z$2)),Z$1,-100))","v":440.625},{"$f":"IF('Ceiling Speaker Calculator'!$C$29=\"Square\",AA$1,IF(OR(AND(ODD($A3)=$A3,ODD(AA$2)=AA$2),AND(EVEN($A3)=$A3,EVEN(AA$2)=AA$2)),AA$1,-100))","v":459.375},{"$f":"IF('Ceiling Speaker Calculator'!$C$29=\"Square\",AB$1,IF(OR(AND(ODD($A3)=$A3,ODD(AB$2)=AB$2),AND(EVEN($A3)=$A3,EVEN(AB$2)=AB$2)),AB$1,-100))","v":478.125},{"$f":"IF('Ceiling Speaker Calculator'!$C$29=\"Square\",AC$1,IF(OR(AND(ODD($A3)=$A3,ODD(AC$2)=AC$2),AND(EVEN($A3)=$A3,EVEN(AC$2)=AC$2)),AC$1,-100))","v":496.875},{"$f":"IF('Ceiling Speaker Calculator'!$C$29=\"Square\",AD$1,IF(OR(AND(ODD($A3)=$A3,ODD(AD$2)=AD$2),AND(EVEN($A3)=$A3,EVEN(AD$2)=AD$2)),AD$1,-100))","v":515.625},{"$f":"IF('Ceiling Speaker Calculator'!$C$29=\"Square\",AE$1,IF(OR(AND(ODD($A3)=$A3,ODD(AE$2)=AE$2),AND(EVEN($A3)=$A3,EVEN(AE$2)=AE$2)),AE$1,-100))","v":534.375},{"$f":"IF('Ceiling Speaker Calculator'!$C$29=\"Square\",AF$1,IF(OR(AND(ODD($A3)=$A3,ODD(AF$2)=AF$2),AND(EVEN($A3)=$A3,EVEN(AF$2)=AF$2)),AF$1,-100))","v":553.125},{"$f":"IF('Ceiling Speaker Calculator'!$C$29=\"Square\",AG$1,IF(OR(AND(ODD($A3)=$A3,ODD(AG$2)=AG$2),AND(EVEN($A3)=$A3,EVEN(AG$2)=AG$2)),AG$1,-100))","v":571.875},{"$f":"IF('Ceiling Speaker Calculator'!$C$29=\"Square\",AH$1,IF(OR(AND(ODD($A3)=$A3,ODD(AH$2)=AH$2),AND(EVEN($A3)=$A3,EVEN(AH$2)=AH$2)),AH$1,-100))","v":590.625},{"$f":"IF('Ceiling Speaker Calculator'!$C$29=\"Square\",AI$1,IF(OR(AND(ODD($A3)=$A3,ODD(AI$2)=AI$2),AND(EVEN($A3)=$A3,EVEN(AI$2)=AI$2)),AI$1,-100))","v":609.375},{"$f":"IF('Ceiling Speaker Calculator'!$C$29=\"Square\",AJ$1,IF(OR(AND(ODD($A3)=$A3,ODD(AJ$2)=AJ$2),AND(EVEN($A3)=$A3,EVEN(AJ$2)=AJ$2)),AJ$1,-100))","v":628.125},{"$f":"IF('Ceiling Speaker Calculator'!$C$29=\"Square\",AK$1,IF(OR(AND(ODD($A3)=$A3,ODD(AK$2)=AK$2),AND(EVEN($A3)=$A3,EVEN(AK$2)=AK$2)),AK$1,-100))","v":646.875},{"$f":"IF('Ceiling Speaker Calculator'!$C$29=\"Square\",AL$1,IF(OR(AND(ODD($A3)=$A3,ODD(AL$2)=AL$2),AND(EVEN($A3)=$A3,EVEN(AL$2)=AL$2)),AL$1,-100))","v":665.625},{"$f":"IF('Ceiling Speaker Calculator'!$C$29=\"Square\",AM$1,IF(OR(AND(ODD($A3)=$A3,ODD(AM$2)=AM$2),AND(EVEN($A3)=$A3,EVEN(AM$2)=AM$2)),AM$1,-100))","v":684.375},{"$f":"IF('Ceiling Speaker Calculator'!$C$29=\"Square\",AN$1,IF(OR(AND(ODD($A3)=$A3,ODD(AN$2)=AN$2),AND(EVEN($A3)=$A3,EVEN(AN$2)=AN$2)),AN$1,-100))","v":703.125},{"$f":"IF('Ceiling Speaker Calculator'!$C$29=\"Square\",AO$1,IF(OR(AND(ODD($A3)=$A3,ODD(AO$2)=AO$2),AND(EVEN($A3)=$A3,EVEN(AO$2)=AO$2)),AO$1,-100))","v":721.875},{"$f":"IF('Ceiling Speaker Calculator'!$C$29=\"Square\",AP$1,IF(OR(AND(ODD($A3)=$A3,ODD(AP$2)=AP$2),AND(EVEN($A3)=$A3,EVEN(AP$2)=AP$2)),AP$1,-100))","v":740.625},{"$f":"IF('Ceiling Speaker Calculator'!$C$29=\"Square\",AQ$1,IF(OR(AND(ODD($A3)=$A3,ODD(AQ$2)=AQ$2),AND(EVEN($A3)=$A3,EVEN(AQ$2)=AQ$2)),AQ$1,-100))","v":759.375},{"$f":"IF('Ceiling Speaker Calculator'!$C$29=\"Square\",AR$1,IF(OR(AND(ODD($A3)=$A3,ODD(AR$2)=AR$2),AND(EVEN($A3)=$A3,EVEN(AR$2)=AR$2)),AR$1,-100))","v":778.125},{"$f":"IF('Ceiling Speaker Calculator'!$C$29=\"Square\",AS$1,IF(OR(AND(ODD($A3)=$A3,ODD(AS$2)=AS$2),AND(EVEN($A3)=$A3,EVEN(AS$2)=AS$2)),AS$1,-100))","v":796.875},{"$f":"IF('Ceiling Speaker Calculator'!$C$29=\"Square\",AT$1,IF(OR(AND(ODD($A3)=$A3,ODD(AT$2)=AT$2),AND(EVEN($A3)=$A3,EVEN(AT$2)=AT$2)),AT$1,-100))","v":815.625},{"$f":"IF('Ceiling Speaker Calculator'!$C$29=\"Square\",AU$1,IF(OR(AND(ODD($A3)=$A3,ODD(AU$2)=AU$2),AND(EVEN($A3)=$A3,EVEN(AU$2)=AU$2)),AU$1,-100))","v":834.375},{"$f":"IF('Ceiling Speaker Calculator'!$C$29=\"Square\",AV$1,IF(OR(AND(ODD($A3)=$A3,ODD(AV$2)=AV$2),AND(EVEN($A3)=$A3,EVEN(AV$2)=AV$2)),AV$1,-100))","v":853.125},{"$f":"IF('Ceiling Speaker Calculator'!$C$29=\"Square\",AW$1,IF(OR(AND(ODD($A3)=$A3,ODD(AW$2)=AW$2),AND(EVEN($A3)=$A3,EVEN(AW$2)=AW$2)),AW$1,-100))","v":871.875},{"$f":"IF('Ceiling Speaker Calculator'!$C$29=\"Square\",AX$1,IF(OR(AND(ODD($A3)=$A3,ODD(AX$2)=AX$2),AND(EVEN($A3)=$A3,EVEN(AX$2)=AX$2)),AX$1,-100))","v":890.625},{"$f":"IF('Ceiling Speaker Calculator'!$C$29=\"Square\",AY$1,IF(OR(AND(ODD($A3)=$A3,ODD(AY$2)=AY$2),AND(EVEN($A3)=$A3,EVEN(AY$2)=AY$2)),AY$1,-100))","v":909.375},{"$f":"IF('Ceiling Speaker Calculator'!$C$29=\"Square\",AZ$1,IF(OR(AND(ODD($A3)=$A3,ODD(AZ$2)=AZ$2),AND(EVEN($A3)=$A3,EVEN(AZ$2)=AZ$2)),AZ$1,-100))","v":928.125},{"$f":"IF('Ceiling Speaker Calculator'!$C$29=\"Square\",BA$1,IF(OR(AND(ODD($A3)=$A3,ODD(BA$2)=BA$2),AND(EVEN($A3)=$A3,EVEN(BA$2)=BA$2)),BA$1,-100))","v":946.875},{"$f":"IF('Ceiling Speaker Calculator'!$C$29=\"Square\",BB$1,IF(OR(AND(ODD($A3)=$A3,ODD(BB$2)=BB$2),AND(EVEN($A3)=$A3,EVEN(BB$2)=BB$2)),BB$1,-100))","v":965.625},{"$f":"IF('Ceiling Speaker Calculator'!$C$29=\"Square\",BC$1,IF(OR(AND(ODD($A3)=$A3,ODD(BC$2)=BC$2),AND(EVEN($A3)=$A3,EVEN(BC$2)=BC$2)),BC$1,-100))","v":984.375},{"$f":"IF('Ceiling Speaker Calculator'!$C$29=\"Square\",BD$1,IF(OR(AND(ODD($A3)=$A3,ODD(BD$2)=BD$2),AND(EVEN($A3)=$A3,EVEN(BD$2)=BD$2)),BD$1,-100))","v":1003.125},{"$f":"IF('Ceiling Speaker Calculator'!$C$29=\"Square\",BE$1,IF(OR(AND(ODD($A3)=$A3,ODD(BE$2)=BE$2),AND(EVEN($A3)=$A3,EVEN(BE$2)=BE$2)),BE$1,-100))","v":1021.875},{"$f":"IF('Ceiling Speaker Calculator'!$C$29=\"Square\",BF$1,IF(OR(AND(ODD($A3)=$A3,ODD(BF$2)=BF$2),AND(EVEN($A3)=$A3,EVEN(BF$2)=BF$2)),BF$1,-100))","v":1040.625},{"$f":"IF('Ceiling Speaker Calculator'!$C$29=\"Square\",BG$1,IF(OR(AND(ODD($A3)=$A3,ODD(BG$2)=BG$2),AND(EVEN($A3)=$A3,EVEN(BG$2)=BG$2)),BG$1,-100))","v":1059.375},{"$f":"IF('Ceiling Speaker Calculator'!$C$29=\"Square\",BH$1,IF(OR(AND(ODD($A3)=$A3,ODD(BH$2)=BH$2),AND(EVEN($A3)=$A3,EVEN(BH$2)=BH$2)),BH$1,-100))","v":1078.125},{"$f":"IF('Ceiling Speaker Calculator'!$C$29=\"Square\",BI$1,IF(OR(AND(ODD($A3)=$A3,ODD(BI$2)=BI$2),AND(EVEN($A3)=$A3,EVEN(BI$2)=BI$2)),BI$1,-100))","v":1096.875},{"$f":"IF('Ceiling Speaker Calculator'!$C$29=\"Square\",BJ$1,IF(OR(AND(ODD($A3)=$A3,ODD(BJ$2)=BJ$2),AND(EVEN($A3)=$A3,EVEN(BJ$2)=BJ$2)),BJ$1,-100))","v":1115.625},{"$f":"IF('Ceiling Speaker Calculator'!$C$29=\"Square\",BK$1,IF(OR(AND(ODD($A3)=$A3,ODD(BK$2)=BK$2),AND(EVEN($A3)=$A3,EVEN(BK$2)=BK$2)),BK$1,-100))","v":1134.375},{"$f":"IF('Ceiling Speaker Calculator'!$C$29=\"Square\",BL$1,IF(OR(AND(ODD($A3)=$A3,ODD(BL$2)=BL$2),AND(EVEN($A3)=$A3,EVEN(BL$2)=BL$2)),BL$1,-100))","v":1153.125},{"$f":"IF('Ceiling Speaker Calculator'!$C$29=\"Square\",BM$1,IF(OR(AND(ODD($A3)=$A3,ODD(BM$2)=BM$2),AND(EVEN($A3)=$A3,EVEN(BM$2)=BM$2)),BM$1,-100))","v":1171.875},{"$f":"IF('Ceiling Speaker Calculator'!$C$29=\"Square\",BN$1,IF(OR(AND(ODD($A3)=$A3,ODD(BN$2)=BN$2),AND(EVEN($A3)=$A3,EVEN(BN$2)=BN$2)),BN$1,-100))","v":1190.625},{"$f":"IF('Ceiling Speaker Calculator'!$C$29=\"Square\",BO$1,IF(OR(AND(ODD($A3)=$A3,ODD(BO$2)=BO$2),AND(EVEN($A3)=$A3,EVEN(BO$2)=BO$2)),BO$1,-100))","v":1209.375},{"$f":"IF('Ceiling Speaker Calculator'!$C$29=\"Square\",BP$1,IF(OR(AND(ODD($A3)=$A3,ODD(BP$2)=BP$2),AND(EVEN($A3)=$A3,EVEN(BP$2)=BP$2)),BP$1,-100))","v":1228.125},{"$f":"IF('Ceiling Speaker Calculator'!$C$29=\"Square\",BQ$1,IF(OR(AND(ODD($A3)=$A3,ODD(BQ$2)=BQ$2),AND(EVEN($A3)=$A3,EVEN(BQ$2)=BQ$2)),BQ$1,-100))","v":1246.875},{"$f":"IF('Ceiling Speaker Calculator'!$C$29=\"Square\",BR$1,IF(OR(AND(ODD($A3)=$A3,ODD(BR$2)=BR$2),AND(EVEN($A3)=$A3,EVEN(BR$2)=BR$2)),BR$1,-100))","v":1265.625},{"$f":"IF('Ceiling Speaker Calculator'!$C$29=\"Square\",BS$1,IF(OR(AND(ODD($A3)=$A3,ODD(BS$2)=BS$2),AND(EVEN($A3)=$A3,EVEN(BS$2)=BS$2)),BS$1,-100))","v":1284.375},{"$f":"IF('Ceiling Speaker Calculator'!$C$29=\"Square\",BT$1,IF(OR(AND(ODD($A3)=$A3,ODD(BT$2)=BT$2),AND(EVEN($A3)=$A3,EVEN(BT$2)=BT$2)),BT$1,-100))","v":1303.125},{"$f":"IF('Ceiling Speaker Calculator'!$C$29=\"Square\",BU$1,IF(OR(AND(ODD($A3)=$A3,ODD(BU$2)=BU$2),AND(EVEN($A3)=$A3,EVEN(BU$2)=BU$2)),BU$1,-100))","v":1321.875},{"$f":"IF('Ceiling Speaker Calculator'!$C$29=\"Square\",BV$1,IF(OR(AND(ODD($A3)=$A3,ODD(BV$2)=BV$2),AND(EVEN($A3)=$A3,EVEN(BV$2)=BV$2)),BV$1,-100))","v":1340.625},{"$f":"IF('Ceiling Speaker Calculator'!$C$29=\"Square\",BW$1,IF(OR(AND(ODD($A3)=$A3,ODD(BW$2)=BW$2),AND(EVEN($A3)=$A3,EVEN(BW$2)=BW$2)),BW$1,-100))","v":1359.375},{"$f":"IF('Ceiling Speaker Calculator'!$C$29=\"Square\",BX$1,IF(OR(AND(ODD($A3)=$A3,ODD(BX$2)=BX$2),AND(EVEN($A3)=$A3,EVEN(BX$2)=BX$2)),BX$1,-100))","v":1378.125},{"$f":"IF('Ceiling Speaker Calculator'!$C$29=\"Square\",BY$1,IF(OR(AND(ODD($A3)=$A3,ODD(BY$2)=BY$2),AND(EVEN($A3)=$A3,EVEN(BY$2)=BY$2)),BY$1,-100))","v":1396.875},{"$f":"IF('Ceiling Speaker Calculator'!$C$29=\"Square\",BZ$1,IF(OR(AND(ODD($A3)=$A3,ODD(BZ$2)=BZ$2),AND(EVEN($A3)=$A3,EVEN(BZ$2)=BZ$2)),BZ$1,-100))","v":1415.625},{"$f":"IF('Ceiling Speaker Calculator'!$C$29=\"Square\",CA$1,IF(OR(AND(ODD($A3)=$A3,ODD(CA$2)=CA$2),AND(EVEN($A3)=$A3,EVEN(CA$2)=CA$2)),CA$1,-100))","v":1434.375},{"$f":"IF('Ceiling Speaker Calculator'!$C$29=\"Square\",CB$1,IF(OR(AND(ODD($A3)=$A3,ODD(CB$2)=CB$2),AND(EVEN($A3)=$A3,EVEN(CB$2)=CB$2)),CB$1,-100))","v":1453.125},{"$f":"IF('Ceiling Speaker Calculator'!$C$29=\"Square\",CC$1,IF(OR(AND(ODD($A3)=$A3,ODD(CC$2)=CC$2),AND(EVEN($A3)=$A3,EVEN(CC$2)=CC$2)),CC$1,-100))","v":1471.875},{"$f":"IF('Ceiling Speaker Calculator'!$C$29=\"Square\",CD$1,IF(OR(AND(ODD($A3)=$A3,ODD(CD$2)=CD$2),AND(EVEN($A3)=$A3,EVEN(CD$2)=CD$2)),CD$1,-100))","v":1490.625},{"$f":"IF('Ceiling Speaker Calculator'!$C$29=\"Square\",CE$1,IF(OR(AND(ODD($A3)=$A3,ODD(CE$2)=CE$2),AND(EVEN($A3)=$A3,EVEN(CE$2)=CE$2)),CE$1,-100))","v":1509.375},{"$f":"IF('Ceiling Speaker Calculator'!$C$29=\"Square\",CF$1,IF(OR(AND(ODD($A3)=$A3,ODD(CF$2)=CF$2),AND(EVEN($A3)=$A3,EVEN(CF$2)=CF$2)),CF$1,-100))","v":1528.125},{"$f":"IF('Ceiling Speaker Calculator'!$C$29=\"Square\",CG$1,IF(OR(AND(ODD($A3)=$A3,ODD(CG$2)=CG$2),AND(EVEN($A3)=$A3,EVEN(CG$2)=CG$2)),CG$1,-100))","v":1546.875},{"$f":"IF('Ceiling Speaker Calculator'!$C$29=\"Square\",CH$1,IF(OR(AND(ODD($A3)=$A3,ODD(CH$2)=CH$2),AND(EVEN($A3)=$A3,EVEN(CH$2)=CH$2)),CH$1,-100))","v":1565.625},{"$f":"IF('Ceiling Speaker Calculator'!$C$29=\"Square\",CI$1,IF(OR(AND(ODD($A3)=$A3,ODD(CI$2)=CI$2),AND(EVEN($A3)=$A3,EVEN(CI$2)=CI$2)),CI$1,-100))","v":1584.375},{"$f":"IF('Ceiling Speaker Calculator'!$C$29=\"Square\",CJ$1,IF(OR(AND(ODD($A3)=$A3,ODD(CJ$2)=CJ$2),AND(EVEN($A3)=$A3,EVEN(CJ$2)=CJ$2)),CJ$1,-100))","v":1603.125},{"$f":"IF('Ceiling Speaker Calculator'!$C$29=\"Square\",CK$1,IF(OR(AND(ODD($A3)=$A3,ODD(CK$2)=CK$2),AND(EVEN($A3)=$A3,EVEN(CK$2)=CK$2)),CK$1,-100))","v":1621.875},{"$f":"IF('Ceiling Speaker Calculator'!$C$29=\"Square\",CL$1,IF(OR(AND(ODD($A3)=$A3,ODD(CL$2)=CL$2),AND(EVEN($A3)=$A3,EVEN(CL$2)=CL$2)),CL$1,-100))","v":1640.625},{"$f":"IF('Ceiling Speaker Calculator'!$C$29=\"Square\",CM$1,IF(OR(AND(ODD($A3)=$A3,ODD(CM$2)=CM$2),AND(EVEN($A3)=$A3,EVEN(CM$2)=CM$2)),CM$1,-100))","v":1659.375},{"$f":"IF('Ceiling Speaker Calculator'!$C$29=\"Square\",CN$1,IF(OR(AND(ODD($A3)=$A3,ODD(CN$2)=CN$2),AND(EVEN($A3)=$A3,EVEN(CN$2)=CN$2)),CN$1,-100))","v":1678.125},{"$f":"IF('Ceiling Speaker Calculator'!$C$29=\"Square\",CO$1,IF(OR(AND(ODD($A3)=$A3,ODD(CO$2)=CO$2),AND(EVEN($A3)=$A3,EVEN(CO$2)=CO$2)),CO$1,-100))","v":1696.875},{"$f":"IF('Ceiling Speaker Calculator'!$C$29=\"Square\",CP$1,IF(OR(AND(ODD($A3)=$A3,ODD(CP$2)=CP$2),AND(EVEN($A3)=$A3,EVEN(CP$2)=CP$2)),CP$1,-100))","v":1715.625},{"$f":"IF('Ceiling Speaker Calculator'!$C$29=\"Square\",CQ$1,IF(OR(AND(ODD($A3)=$A3,ODD(CQ$2)=CQ$2),AND(EVEN($A3)=$A3,EVEN(CQ$2)=CQ$2)),CQ$1,-100))","v":1734.375},{"$f":"IF('Ceiling Speaker Calculator'!$C$29=\"Square\",CR$1,IF(OR(AND(ODD($A3)=$A3,ODD(CR$2)=CR$2),AND(EVEN($A3)=$A3,EVEN(CR$2)=CR$2)),CR$1,-100))","v":1753.125},{"$f":"IF('Ceiling Speaker Calculator'!$C$29=\"Square\",CS$1,IF(OR(AND(ODD($A3)=$A3,ODD(CS$2)=CS$2),AND(EVEN($A3)=$A3,EVEN(CS$2)=CS$2)),CS$1,-100))","v":1771.875},{"$f":"IF('Ceiling Speaker Calculator'!$C$29=\"Square\",CT$1,IF(OR(AND(ODD($A3)=$A3,ODD(CT$2)=CT$2),AND(EVEN($A3)=$A3,EVEN(CT$2)=CT$2)),CT$1,-100))","v":1790.625},{"$f":"IF('Ceiling Speaker Calculator'!$C$29=\"Square\",CU$1,IF(OR(AND(ODD($A3)=$A3,ODD(CU$2)=CU$2),AND(EVEN($A3)=$A3,EVEN(CU$2)=CU$2)),CU$1,-100))","v":1809.375},{"$f":"IF('Ceiling Speaker Calculator'!$C$29=\"Square\",CV$1,IF(OR(AND(ODD($A3)=$A3,ODD(CV$2)=CV$2),AND(EVEN($A3)=$A3,EVEN(CV$2)=CV$2)),CV$1,-100))","v":1828.125},{"$f":"IF('Ceiling Speaker Calculator'!$C$29=\"Square\",CW$1,IF(OR(AND(ODD($A3)=$A3,ODD(CW$2)=CW$2),AND(EVEN($A3)=$A3,EVEN(CW$2)=CW$2)),CW$1,-100))","v":1846.875},{"$f":"IF('Ceiling Speaker Calculator'!$C$29=\"Square\",CX$1,IF(OR(AND(ODD($A3)=$A3,ODD(CX$2)=CX$2),AND(EVEN($A3)=$A3,EVEN(CX$2)=CX$2)),CX$1,-100))","v":1865.625}]
[2,{"$f":"B3+'Ceiling Speaker Calculator'!$K$16","v":30},{"$f":"IF('Ceiling Speaker Calculator'!$C$29=\"Square\",C$1,IF(OR(AND(ODD($A4)=$A4,ODD(C$2)=C$2),AND(EVEN($A4)=$A4,EVEN(C$2)=C$2)),C$1,-100))","v":9.375},{"$f":"IF('Ceiling Speaker Calculator'!$C$29=\"Square\",D$1,IF(OR(AND(ODD($A4)=$A4,ODD(D$2)=D$2),AND(EVEN($A4)=$A4,EVEN(D$2)=D$2)),D$1,-100))","v":28.125},{"$f":"IF('Ceiling Speaker Calculator'!$C$29=\"Square\",E$1,IF(OR(AND(ODD($A4)=$A4,ODD(E$2)=E$2),AND(EVEN($A4)=$A4,EVEN(E$2)=E$2)),E$1,-100))","v":46.875},{"$f":"IF('Ceiling Speaker Calculator'!$C$29=\"Square\",F$1,IF(OR(AND(ODD($A4)=$A4,ODD(F$2)=F$2),AND(EVEN($A4)=$A4,EVEN(F$2)=F$2)),F$1,-100))","v":65.625},{"$f":"IF('Ceiling Speaker Calculator'!$C$29=\"Square\",G$1,IF(OR(AND(ODD($A4)=$A4,ODD(G$2)=G$2),AND(EVEN($A4)=$A4,EVEN(G$2)=G$2)),G$1,-100))","v":84.375},{"$f":"IF('Ceiling Speaker Calculator'!$C$29=\"Square\",H$1,IF(OR(AND(ODD($A4)=$A4,ODD(H$2)=H$2),AND(EVEN($A4)=$A4,EVEN(H$2)=H$2)),H$1,-100))","v":103.125},{"$f":"IF('Ceiling Speaker Calculator'!$C$29=\"Square\",I$1,IF(OR(AND(ODD($A4)=$A4,ODD(I$2)=I$2),AND(EVEN($A4)=$A4,EVEN(I$2)=I$2)),I$1,-100))","v":121.875},{"$f":"IF('Ceiling Speaker Calculator'!$C$29=\"Square\",J$1,IF(OR(AND(ODD($A4)=$A4,ODD(J$2)=J$2),AND(EVEN($A4)=$A4,EVEN(J$2)=J$2)),J$1,-100))","v":140.625},{"$f":"IF('Ceiling Speaker Calculator'!$C$29=\"Square\",K$1,IF(OR(AND(ODD($A4)=$A4,ODD(K$2)=K$2),AND(EVEN($A4)=$A4,EVEN(K$2)=K$2)),K$1,-100))","v":159.375},{"$f":"IF('Ceiling Speaker Calculator'!$C$29=\"Square\",L$1,IF(OR(AND(ODD($A4)=$A4,ODD(L$2)=L$2),AND(EVEN($A4)=$A4,EVEN(L$2)=L$2)),L$1,-100))","v":178.125},{"$f":"IF('Ceiling Speaker Calculator'!$C$29=\"Square\",M$1,IF(OR(AND(ODD($A4)=$A4,ODD(M$2)=M$2),AND(EVEN($A4)=$A4,EVEN(M$2)=M$2)),M$1,-100))","v":196.875},{"$f":"IF('Ceiling Speaker Calculator'!$C$29=\"Square\",N$1,IF(OR(AND(ODD($A4)=$A4,ODD(N$2)=N$2),AND(EVEN($A4)=$A4,EVEN(N$2)=N$2)),N$1,-100))","v":215.625},{"$f":"IF('Ceiling Speaker Calculator'!$C$29=\"Square\",O$1,IF(OR(AND(ODD($A4)=$A4,ODD(O$2)=O$2),AND(EVEN($A4)=$A4,EVEN(O$2)=O$2)),O$1,-100))","v":234.375},{"$f":"IF('Ceiling Speaker Calculator'!$C$29=\"Square\",P$1,IF(OR(AND(ODD($A4)=$A4,ODD(P$2)=P$2),AND(EVEN($A4)=$A4,EVEN(P$2)=P$2)),P$1,-100))","v":253.125},{"$f":"IF('Ceiling Speaker Calculator'!$C$29=\"Square\",Q$1,IF(OR(AND(ODD($A4)=$A4,ODD(Q$2)=Q$2),AND(EVEN($A4)=$A4,EVEN(Q$2)=Q$2)),Q$1,-100))","v":271.875},{"$f":"IF('Ceiling Speaker Calculator'!$C$29=\"Square\",R$1,IF(OR(AND(ODD($A4)=$A4,ODD(R$2)=R$2),AND(EVEN($A4)=$A4,EVEN(R$2)=R$2)),R$1,-100))","v":290.625},{"$f":"IF('Ceiling Speaker Calculator'!$C$29=\"Square\",S$1,IF(OR(AND(ODD($A4)=$A4,ODD(S$2)=S$2),AND(EVEN($A4)=$A4,EVEN(S$2)=S$2)),S$1,-100))","v":309.375},{"$f":"IF('Ceiling Speaker Calculator'!$C$29=\"Square\",T$1,IF(OR(AND(ODD($A4)=$A4,ODD(T$2)=T$2),AND(EVEN($A4)=$A4,EVEN(T$2)=T$2)),T$1,-100))","v":328.125},{"$f":"IF('Ceiling Speaker Calculator'!$C$29=\"Square\",U$1,IF(OR(AND(ODD($A4)=$A4,ODD(U$2)=U$2),AND(EVEN($A4)=$A4,EVEN(U$2)=U$2)),U$1,-100))","v":346.875},{"$f":"IF('Ceiling Speaker Calculator'!$C$29=\"Square\",V$1,IF(OR(AND(ODD($A4)=$A4,ODD(V$2)=V$2),AND(EVEN($A4)=$A4,EVEN(V$2)=V$2)),V$1,-100))","v":365.625},{"$f":"IF('Ceiling Speaker Calculator'!$C$29=\"Square\",W$1,IF(OR(AND(ODD($A4)=$A4,ODD(W$2)=W$2),AND(EVEN($A4)=$A4,EVEN(W$2)=W$2)),W$1,-100))","v":384.375},{"$f":"IF('Ceiling Speaker Calculator'!$C$29=\"Square\",X$1,IF(OR(AND(ODD($A4)=$A4,ODD(X$2)=X$2),AND(EVEN($A4)=$A4,EVEN(X$2)=X$2)),X$1,-100))","v":403.125},{"$f":"IF('Ceiling Speaker Calculator'!$C$29=\"Square\",Y$1,IF(OR(AND(ODD($A4)=$A4,ODD(Y$2)=Y$2),AND(EVEN($A4)=$A4,EVEN(Y$2)=Y$2)),Y$1,-100))","v":421.875},{"$f":"IF('Ceiling Speaker Calculator'!$C$29=\"Square\",Z$1,IF(OR(AND(ODD($A4)=$A4,ODD(Z$2)=Z$2),AND(EVEN($A4)=$A4,EVEN(Z$2)=Z$2)),Z$1,-100))","v":440.625},{"$f":"IF('Ceiling Speaker Calculator'!$C$29=\"Square\",AA$1,IF(OR(AND(ODD($A4)=$A4,ODD(AA$2)=AA$2),AND(EVEN($A4)=$A4,EVEN(AA$2)=AA$2)),AA$1,-100))","v":459.375},{"$f":"IF('Ceiling Speaker Calculator'!$C$29=\"Square\",AB$1,IF(OR(AND(ODD($A4)=$A4,ODD(AB$2)=AB$2),AND(EVEN($A4)=$A4,EVEN(AB$2)=AB$2)),AB$1,-100))","v":478.125},{"$f":"IF('Ceiling Speaker Calculator'!$C$29=\"Square\",AC$1,IF(OR(AND(ODD($A4)=$A4,ODD(AC$2)=AC$2),AND(EVEN($A4)=$A4,EVEN(AC$2)=AC$2)),AC$1,-100))","v":496.875},{"$f":"IF('Ceiling Speaker Calculator'!$C$29=\"Square\",AD$1,IF(OR(AND(ODD($A4)=$A4,ODD(AD$2)=AD$2),AND(EVEN($A4)=$A4,EVEN(AD$2)=AD$2)),AD$1,-100))","v":515.625},{"$f":"IF('Ceiling Speaker Calculator'!$C$29=\"Square\",AE$1,IF(OR(AND(ODD($A4)=$A4,ODD(AE$2)=AE$2),AND(EVEN($A4)=$A4,EVEN(AE$2)=AE$2)),AE$1,-100))","v":534.375},{"$f":"IF('Ceiling Speaker Calculator'!$C$29=\"Square\",AF$1,IF(OR(AND(ODD($A4)=$A4,ODD(AF$2)=AF$2),AND(EVEN($A4)=$A4,EVEN(AF$2)=AF$2)),AF$1,-100))","v":553.125},{"$f":"IF('Ceiling Speaker Calculator'!$C$29=\"Square\",AG$1,IF(OR(AND(ODD($A4)=$A4,ODD(AG$2)=AG$2),AND(EVEN($A4)=$A4,EVEN(AG$2)=AG$2)),AG$1,-100))","v":571.875},{"$f":"IF('Ceiling Speaker Calculator'!$C$29=\"Square\",AH$1,IF(OR(AND(ODD($A4)=$A4,ODD(AH$2)=AH$2),AND(EVEN($A4)=$A4,EVEN(AH$2)=AH$2)),AH$1,-100))","v":590.625},{"$f":"IF('Ceiling Speaker Calculator'!$C$29=\"Square\",AI$1,IF(OR(AND(ODD($A4)=$A4,ODD(AI$2)=AI$2),AND(EVEN($A4)=$A4,EVEN(AI$2)=AI$2)),AI$1,-100))","v":609.375},{"$f":"IF('Ceiling Speaker Calculator'!$C$29=\"Square\",AJ$1,IF(OR(AND(ODD($A4)=$A4,ODD(AJ$2)=AJ$2),AND(EVEN($A4)=$A4,EVEN(AJ$2)=AJ$2)),AJ$1,-100))","v":628.125},{"$f":"IF('Ceiling Speaker Calculator'!$C$29=\"Square\",AK$1,IF(OR(AND(ODD($A4)=$A4,ODD(AK$2)=AK$2),AND(EVEN($A4)=$A4,EVEN(AK$2)=AK$2)),AK$1,-100))","v":646.875},{"$f":"IF('Ceiling Speaker Calculator'!$C$29=\"Square\",AL$1,IF(OR(AND(ODD($A4)=$A4,ODD(AL$2)=AL$2),AND(EVEN($A4)=$A4,EVEN(AL$2)=AL$2)),AL$1,-100))","v":665.625},{"$f":"IF('Ceiling Speaker Calculator'!$C$29=\"Square\",AM$1,IF(OR(AND(ODD($A4)=$A4,ODD(AM$2)=AM$2),AND(EVEN($A4)=$A4,EVEN(AM$2)=AM$2)),AM$1,-100))","v":684.375},{"$f":"IF('Ceiling Speaker Calculator'!$C$29=\"Square\",AN$1,IF(OR(AND(ODD($A4)=$A4,ODD(AN$2)=AN$2),AND(EVEN($A4)=$A4,EVEN(AN$2)=AN$2)),AN$1,-100))","v":703.125},{"$f":"IF('Ceiling Speaker Calculator'!$C$29=\"Square\",AO$1,IF(OR(AND(ODD($A4)=$A4,ODD(AO$2)=AO$2),AND(EVEN($A4)=$A4,EVEN(AO$2)=AO$2)),AO$1,-100))","v":721.875},{"$f":"IF('Ceiling Speaker Calculator'!$C$29=\"Square\",AP$1,IF(OR(AND(ODD($A4)=$A4,ODD(AP$2)=AP$2),AND(EVEN($A4)=$A4,EVEN(AP$2)=AP$2)),AP$1,-100))","v":740.625},{"$f":"IF('Ceiling Speaker Calculator'!$C$29=\"Square\",AQ$1,IF(OR(AND(ODD($A4)=$A4,ODD(AQ$2)=AQ$2),AND(EVEN($A4)=$A4,EVEN(AQ$2)=AQ$2)),AQ$1,-100))","v":759.375},{"$f":"IF('Ceiling Speaker Calculator'!$C$29=\"Square\",AR$1,IF(OR(AND(ODD($A4)=$A4,ODD(AR$2)=AR$2),AND(EVEN($A4)=$A4,EVEN(AR$2)=AR$2)),AR$1,-100))","v":778.125},{"$f":"IF('Ceiling Speaker Calculator'!$C$29=\"Square\",AS$1,IF(OR(AND(ODD($A4)=$A4,ODD(AS$2)=AS$2),AND(EVEN($A4)=$A4,EVEN(AS$2)=AS$2)),AS$1,-100))","v":796.875},{"$f":"IF('Ceiling Speaker Calculator'!$C$29=\"Square\",AT$1,IF(OR(AND(ODD($A4)=$A4,ODD(AT$2)=AT$2),AND(EVEN($A4)=$A4,EVEN(AT$2)=AT$2)),AT$1,-100))","v":815.625},{"$f":"IF('Ceiling Speaker Calculator'!$C$29=\"Square\",AU$1,IF(OR(AND(ODD($A4)=$A4,ODD(AU$2)=AU$2),AND(EVEN($A4)=$A4,EVEN(AU$2)=AU$2)),AU$1,-100))","v":834.375},{"$f":"IF('Ceiling Speaker Calculator'!$C$29=\"Square\",AV$1,IF(OR(AND(ODD($A4)=$A4,ODD(AV$2)=AV$2),AND(EVEN($A4)=$A4,EVEN(AV$2)=AV$2)),AV$1,-100))","v":853.125},{"$f":"IF('Ceiling Speaker Calculator'!$C$29=\"Square\",AW$1,IF(OR(AND(ODD($A4)=$A4,ODD(AW$2)=AW$2),AND(EVEN($A4)=$A4,EVEN(AW$2)=AW$2)),AW$1,-100))","v":871.875},{"$f":"IF('Ceiling Speaker Calculator'!$C$29=\"Square\",AX$1,IF(OR(AND(ODD($A4)=$A4,ODD(AX$2)=AX$2),AND(EVEN($A4)=$A4,EVEN(AX$2)=AX$2)),AX$1,-100))","v":890.625},{"$f":"IF('Ceiling Speaker Calculator'!$C$29=\"Square\",AY$1,IF(OR(AND(ODD($A4)=$A4,ODD(AY$2)=AY$2),AND(EVEN($A4)=$A4,EVEN(AY$2)=AY$2)),AY$1,-100))","v":909.375},{"$f":"IF('Ceiling Speaker Calculator'!$C$29=\"Square\",AZ$1,IF(OR(AND(ODD($A4)=$A4,ODD(AZ$2)=AZ$2),AND(EVEN($A4)=$A4,EVEN(AZ$2)=AZ$2)),AZ$1,-100))","v":928.125},{"$f":"IF('Ceiling Speaker Calculator'!$C$29=\"Square\",BA$1,IF(OR(AND(ODD($A4)=$A4,ODD(BA$2)=BA$2),AND(EVEN($A4)=$A4,EVEN(BA$2)=BA$2)),BA$1,-100))","v":946.875},{"$f":"IF('Ceiling Speaker Calculator'!$C$29=\"Square\",BB$1,IF(OR(AND(ODD($A4)=$A4,ODD(BB$2)=BB$2),AND(EVEN($A4)=$A4,EVEN(BB$2)=BB$2)),BB$1,-100))","v":965.625},{"$f":"IF('Ceiling Speaker Calculator'!$C$29=\"Square\",BC$1,IF(OR(AND(ODD($A4)=$A4,ODD(BC$2)=BC$2),AND(EVEN($A4)=$A4,EVEN(BC$2)=BC$2)),BC$1,-100))","v":984.375},{"$f":"IF('Ceiling Speaker Calculator'!$C$29=\"Square\",BD$1,IF(OR(AND(ODD($A4)=$A4,ODD(BD$2)=BD$2),AND(EVEN($A4)=$A4,EVEN(BD$2)=BD$2)),BD$1,-100))","v":1003.125},{"$f":"IF('Ceiling Speaker Calculator'!$C$29=\"Square\",BE$1,IF(OR(AND(ODD($A4)=$A4,ODD(BE$2)=BE$2),AND(EVEN($A4)=$A4,EVEN(BE$2)=BE$2)),BE$1,-100))","v":1021.875},{"$f":"IF('Ceiling Speaker Calculator'!$C$29=\"Square\",BF$1,IF(OR(AND(ODD($A4)=$A4,ODD(BF$2)=BF$2),AND(EVEN($A4)=$A4,EVEN(BF$2)=BF$2)),BF$1,-100))","v":1040.625},{"$f":"IF('Ceiling Speaker Calculator'!$C$29=\"Square\",BG$1,IF(OR(AND(ODD($A4)=$A4,ODD(BG$2)=BG$2),AND(EVEN($A4)=$A4,EVEN(BG$2)=BG$2)),BG$1,-100))","v":1059.375},{"$f":"IF('Ceiling Speaker Calculator'!$C$29=\"Square\",BH$1,IF(OR(AND(ODD($A4)=$A4,ODD(BH$2)=BH$2),AND(EVEN($A4)=$A4,EVEN(BH$2)=BH$2)),BH$1,-100))","v":1078.125},{"$f":"IF('Ceiling Speaker Calculator'!$C$29=\"Square\",BI$1,IF(OR(AND(ODD($A4)=$A4,ODD(BI$2)=BI$2),AND(EVEN($A4)=$A4,EVEN(BI$2)=BI$2)),BI$1,-100))","v":1096.875},{"$f":"IF('Ceiling Speaker Calculator'!$C$29=\"Square\",BJ$1,IF(OR(AND(ODD($A4)=$A4,ODD(BJ$2)=BJ$2),AND(EVEN($A4)=$A4,EVEN(BJ$2)=BJ$2)),BJ$1,-100))","v":1115.625},{"$f":"IF('Ceiling Speaker Calculator'!$C$29=\"Square\",BK$1,IF(OR(AND(ODD($A4)=$A4,ODD(BK$2)=BK$2),AND(EVEN($A4)=$A4,EVEN(BK$2)=BK$2)),BK$1,-100))","v":1134.375},{"$f":"IF('Ceiling Speaker Calculator'!$C$29=\"Square\",BL$1,IF(OR(AND(ODD($A4)=$A4,ODD(BL$2)=BL$2),AND(EVEN($A4)=$A4,EVEN(BL$2)=BL$2)),BL$1,-100))","v":1153.125},{"$f":"IF('Ceiling Speaker Calculator'!$C$29=\"Square\",BM$1,IF(OR(AND(ODD($A4)=$A4,ODD(BM$2)=BM$2),AND(EVEN($A4)=$A4,EVEN(BM$2)=BM$2)),BM$1,-100))","v":1171.875},{"$f":"IF('Ceiling Speaker Calculator'!$C$29=\"Square\",BN$1,IF(OR(AND(ODD($A4)=$A4,ODD(BN$2)=BN$2),AND(EVEN($A4)=$A4,EVEN(BN$2)=BN$2)),BN$1,-100))","v":1190.625},{"$f":"IF('Ceiling Speaker Calculator'!$C$29=\"Square\",BO$1,IF(OR(AND(ODD($A4)=$A4,ODD(BO$2)=BO$2),AND(EVEN($A4)=$A4,EVEN(BO$2)=BO$2)),BO$1,-100))","v":1209.375},{"$f":"IF('Ceiling Speaker Calculator'!$C$29=\"Square\",BP$1,IF(OR(AND(ODD($A4)=$A4,ODD(BP$2)=BP$2),AND(EVEN($A4)=$A4,EVEN(BP$2)=BP$2)),BP$1,-100))","v":1228.125},{"$f":"IF('Ceiling Speaker Calculator'!$C$29=\"Square\",BQ$1,IF(OR(AND(ODD($A4)=$A4,ODD(BQ$2)=BQ$2),AND(EVEN($A4)=$A4,EVEN(BQ$2)=BQ$2)),BQ$1,-100))","v":1246.875},{"$f":"IF('Ceiling Speaker Calculator'!$C$29=\"Square\",BR$1,IF(OR(AND(ODD($A4)=$A4,ODD(BR$2)=BR$2),AND(EVEN($A4)=$A4,EVEN(BR$2)=BR$2)),BR$1,-100))","v":1265.625},{"$f":"IF('Ceiling Speaker Calculator'!$C$29=\"Square\",BS$1,IF(OR(AND(ODD($A4)=$A4,ODD(BS$2)=BS$2),AND(EVEN($A4)=$A4,EVEN(BS$2)=BS$2)),BS$1,-100))","v":1284.375},{"$f":"IF('Ceiling Speaker Calculator'!$C$29=\"Square\",BT$1,IF(OR(AND(ODD($A4)=$A4,ODD(BT$2)=BT$2),AND(EVEN($A4)=$A4,EVEN(BT$2)=BT$2)),BT$1,-100))","v":1303.125},{"$f":"IF('Ceiling Speaker Calculator'!$C$29=\"Square\",BU$1,IF(OR(AND(ODD($A4)=$A4,ODD(BU$2)=BU$2),AND(EVEN($A4)=$A4,EVEN(BU$2)=BU$2)),BU$1,-100))","v":1321.875},{"$f":"IF('Ceiling Speaker Calculator'!$C$29=\"Square\",BV$1,IF(OR(AND(ODD($A4)=$A4,ODD(BV$2)=BV$2),AND(EVEN($A4)=$A4,EVEN(BV$2)=BV$2)),BV$1,-100))","v":1340.625},{"$f":"IF('Ceiling Speaker Calculator'!$C$29=\"Square\",BW$1,IF(OR(AND(ODD($A4)=$A4,ODD(BW$2)=BW$2),AND(EVEN($A4)=$A4,EVEN(BW$2)=BW$2)),BW$1,-100))","v":1359.375},{"$f":"IF('Ceiling Speaker Calculator'!$C$29=\"Square\",BX$1,IF(OR(AND(ODD($A4)=$A4,ODD(BX$2)=BX$2),AND(EVEN($A4)=$A4,EVEN(BX$2)=BX$2)),BX$1,-100))","v":1378.125},{"$f":"IF('Ceiling Speaker Calculator'!$C$29=\"Square\",BY$1,IF(OR(AND(ODD($A4)=$A4,ODD(BY$2)=BY$2),AND(EVEN($A4)=$A4,EVEN(BY$2)=BY$2)),BY$1,-100))","v":1396.875},{"$f":"IF('Ceiling Speaker Calculator'!$C$29=\"Square\",BZ$1,IF(OR(AND(ODD($A4)=$A4,ODD(BZ$2)=BZ$2),AND(EVEN($A4)=$A4,EVEN(BZ$2)=BZ$2)),BZ$1,-100))","v":1415.625},{"$f":"IF('Ceiling Speaker Calculator'!$C$29=\"Square\",CA$1,IF(OR(AND(ODD($A4)=$A4,ODD(CA$2)=CA$2),AND(EVEN($A4)=$A4,EVEN(CA$2)=CA$2)),CA$1,-100))","v":1434.375},{"$f":"IF('Ceiling Speaker Calculator'!$C$29=\"Square\",CB$1,IF(OR(AND(ODD($A4)=$A4,ODD(CB$2)=CB$2),AND(EVEN($A4)=$A4,EVEN(CB$2)=CB$2)),CB$1,-100))","v":1453.125},{"$f":"IF('Ceiling Speaker Calculator'!$C$29=\"Square\",CC$1,IF(OR(AND(ODD($A4)=$A4,ODD(CC$2)=CC$2),AND(EVEN($A4)=$A4,EVEN(CC$2)=CC$2)),CC$1,-100))","v":1471.875},{"$f":"IF('Ceiling Speaker Calculator'!$C$29=\"Square\",CD$1,IF(OR(AND(ODD($A4)=$A4,ODD(CD$2)=CD$2),AND(EVEN($A4)=$A4,EVEN(CD$2)=CD$2)),CD$1,-100))","v":1490.625},{"$f":"IF('Ceiling Speaker Calculator'!$C$29=\"Square\",CE$1,IF(OR(AND(ODD($A4)=$A4,ODD(CE$2)=CE$2),AND(EVEN($A4)=$A4,EVEN(CE$2)=CE$2)),CE$1,-100))","v":1509.375},{"$f":"IF('Ceiling Speaker Calculator'!$C$29=\"Square\",CF$1,IF(OR(AND(ODD($A4)=$A4,ODD(CF$2)=CF$2),AND(EVEN($A4)=$A4,EVEN(CF$2)=CF$2)),CF$1,-100))","v":1528.125},{"$f":"IF('Ceiling Speaker Calculator'!$C$29=\"Square\",CG$1,IF(OR(AND(ODD($A4)=$A4,ODD(CG$2)=CG$2),AND(EVEN($A4)=$A4,EVEN(CG$2)=CG$2)),CG$1,-100))","v":1546.875},{"$f":"IF('Ceiling Speaker Calculator'!$C$29=\"Square\",CH$1,IF(OR(AND(ODD($A4)=$A4,ODD(CH$2)=CH$2),AND(EVEN($A4)=$A4,EVEN(CH$2)=CH$2)),CH$1,-100))","v":1565.625},{"$f":"IF('Ceiling Speaker Calculator'!$C$29=\"Square\",CI$1,IF(OR(AND(ODD($A4)=$A4,ODD(CI$2)=CI$2),AND(EVEN($A4)=$A4,EVEN(CI$2)=CI$2)),CI$1,-100))","v":1584.375},{"$f":"IF('Ceiling Speaker Calculator'!$C$29=\"Square\",CJ$1,IF(OR(AND(ODD($A4)=$A4,ODD(CJ$2)=CJ$2),AND(EVEN($A4)=$A4,EVEN(CJ$2)=CJ$2)),CJ$1,-100))","v":1603.125},{"$f":"IF('Ceiling Speaker Calculator'!$C$29=\"Square\",CK$1,IF(OR(AND(ODD($A4)=$A4,ODD(CK$2)=CK$2),AND(EVEN($A4)=$A4,EVEN(CK$2)=CK$2)),CK$1,-100))","v":1621.875},{"$f":"IF('Ceiling Speaker Calculator'!$C$29=\"Square\",CL$1,IF(OR(AND(ODD($A4)=$A4,ODD(CL$2)=CL$2),AND(EVEN($A4)=$A4,EVEN(CL$2)=CL$2)),CL$1,-100))","v":1640.625},{"$f":"IF('Ceiling Speaker Calculator'!$C$29=\"Square\",CM$1,IF(OR(AND(ODD($A4)=$A4,ODD(CM$2)=CM$2),AND(EVEN($A4)=$A4,EVEN(CM$2)=CM$2)),CM$1,-100))","v":1659.375},{"$f":"IF('Ceiling Speaker Calculator'!$C$29=\"Square\",CN$1,IF(OR(AND(ODD($A4)=$A4,ODD(CN$2)=CN$2),AND(EVEN($A4)=$A4,EVEN(CN$2)=CN$2)),CN$1,-100))","v":1678.125},{"$f":"IF('Ceiling Speaker Calculator'!$C$29=\"Square\",CO$1,IF(OR(AND(ODD($A4)=$A4,ODD(CO$2)=CO$2),AND(EVEN($A4)=$A4,EVEN(CO$2)=CO$2)),CO$1,-100))","v":1696.875},{"$f":"IF('Ceiling Speaker Calculator'!$C$29=\"Square\",CP$1,IF(OR(AND(ODD($A4)=$A4,ODD(CP$2)=CP$2),AND(EVEN($A4)=$A4,EVEN(CP$2)=CP$2)),CP$1,-100))","v":1715.625},{"$f":"IF('Ceiling Speaker Calculator'!$C$29=\"Square\",CQ$1,IF(OR(AND(ODD($A4)=$A4,ODD(CQ$2)=CQ$2),AND(EVEN($A4)=$A4,EVEN(CQ$2)=CQ$2)),CQ$1,-100))","v":1734.375},{"$f":"IF('Ceiling Speaker Calculator'!$C$29=\"Square\",CR$1,IF(OR(AND(ODD($A4)=$A4,ODD(CR$2)=CR$2),AND(EVEN($A4)=$A4,EVEN(CR$2)=CR$2)),CR$1,-100))","v":1753.125},{"$f":"IF('Ceiling Speaker Calculator'!$C$29=\"Square\",CS$1,IF(OR(AND(ODD($A4)=$A4,ODD(CS$2)=CS$2),AND(EVEN($A4)=$A4,EVEN(CS$2)=CS$2)),CS$1,-100))","v":1771.875},{"$f":"IF('Ceiling Speaker Calculator'!$C$29=\"Square\",CT$1,IF(OR(AND(ODD($A4)=$A4,ODD(CT$2)=CT$2),AND(EVEN($A4)=$A4,EVEN(CT$2)=CT$2)),CT$1,-100))","v":1790.625},{"$f":"IF('Ceiling Speaker Calculator'!$C$29=\"Square\",CU$1,IF(OR(AND(ODD($A4)=$A4,ODD(CU$2)=CU$2),AND(EVEN($A4)=$A4,EVEN(CU$2)=CU$2)),CU$1,-100))","v":1809.375},{"$f":"IF('Ceiling Speaker Calculator'!$C$29=\"Square\",CV$1,IF(OR(AND(ODD($A4)=$A4,ODD(CV$2)=CV$2),AND(EVEN($A4)=$A4,EVEN(CV$2)=CV$2)),CV$1,-100))","v":1828.125},{"$f":"IF('Ceiling Speaker Calculator'!$C$29=\"Square\",CW$1,IF(OR(AND(ODD($A4)=$A4,ODD(CW$2)=CW$2),AND(EVEN($A4)=$A4,EVEN(CW$2)=CW$2)),CW$1,-100))","v":1846.875},{"$f":"IF('Ceiling Speaker Calculator'!$C$29=\"Square\",CX$1,IF(OR(AND(ODD($A4)=$A4,ODD(CX$2)=CX$2),AND(EVEN($A4)=$A4,EVEN(CX$2)=CX$2)),CX$1,-100))","v":1865.625}]
[3,{"$f":"B4+'Ceiling Speaker Calculator'!$K$16","v":50},{"$f":"IF('Ceiling Speaker Calculator'!$C$29=\"Square\",C$1,IF(OR(AND(ODD($A5)=$A5,ODD(C$2)=C$2),AND(EVEN($A5)=$A5,EVEN(C$2)=C$2)),C$1,-100))","v":9.375},{"$f":"IF('Ceiling Speaker Calculator'!$C$29=\"Square\",D$1,IF(OR(AND(ODD($A5)=$A5,ODD(D$2)=D$2),AND(EVEN($A5)=$A5,EVEN(D$2)=D$2)),D$1,-100))","v":28.125},{"$f":"IF('Ceiling Speaker Calculator'!$C$29=\"Square\",E$1,IF(OR(AND(ODD($A5)=$A5,ODD(E$2)=E$2),AND(EVEN($A5)=$A5,EVEN(E$2)=E$2)),E$1,-100))","v":46.875},{"$f":"IF('Ceiling Speaker Calculator'!$C$29=\"Square\",F$1,IF(OR(AND(ODD($A5)=$A5,ODD(F$2)=F$2),AND(EVEN($A5)=$A5,EVEN(F$2)=F$2)),F$1,-100))","v":65.625},{"$f":"IF('Ceiling Speaker Calculator'!$C$29=\"Square\",G$1,IF(OR(AND(ODD($A5)=$A5,ODD(G$2)=G$2),AND(EVEN($A5)=$A5,EVEN(G$2)=G$2)),G$1,-100))","v":84.375},{"$f":"IF('Ceiling Speaker Calculator'!$C$29=\"Square\",H$1,IF(OR(AND(ODD($A5)=$A5,ODD(H$2)=H$2),AND(EVEN($A5)=$A5,EVEN(H$2)=H$2)),H$1,-100))","v":103.125},{"$f":"IF('Ceiling Speaker Calculator'!$C$29=\"Square\",I$1,IF(OR(AND(ODD($A5)=$A5,ODD(I$2)=I$2),AND(EVEN($A5)=$A5,EVEN(I$2)=I$2)),I$1,-100))","v":121.875},{"$f":"IF('Ceiling Speaker Calculator'!$C$29=\"Square\",J$1,IF(OR(AND(ODD($A5)=$A5,ODD(J$2)=J$2),AND(EVEN($A5)=$A5,EVEN(J$2)=J$2)),J$1,-100))","v":140.625},{"$f":"IF('Ceiling Speaker Calculator'!$C$29=\"Square\",K$1,IF(OR(AND(ODD($A5)=$A5,ODD(K$2)=K$2),AND(EVEN($A5)=$A5,EVEN(K$2)=K$2)),K$1,-100))","v":159.375},{"$f":"IF('Ceiling Speaker Calculator'!$C$29=\"Square\",L$1,IF(OR(AND(ODD($A5)=$A5,ODD(L$2)=L$2),AND(EVEN($A5)=$A5,EVEN(L$2)=L$2)),L$1,-100))","v":178.125},{"$f":"IF('Ceiling Speaker Calculator'!$C$29=\"Square\",M$1,IF(OR(AND(ODD($A5)=$A5,ODD(M$2)=M$2),AND(EVEN($A5)=$A5,EVEN(M$2)=M$2)),M$1,-100))","v":196.875},{"$f":"IF('Ceiling Speaker Calculator'!$C$29=\"Square\",N$1,IF(OR(AND(ODD($A5)=$A5,ODD(N$2)=N$2),AND(EVEN($A5)=$A5,EVEN(N$2)=N$2)),N$1,-100))","v":215.625},{"$f":"IF('Ceiling Speaker Calculator'!$C$29=\"Square\",O$1,IF(OR(AND(ODD($A5)=$A5,ODD(O$2)=O$2),AND(EVEN($A5)=$A5,EVEN(O$2)=O$2)),O$1,-100))","v":234.375},{"$f":"IF('Ceiling Speaker Calculator'!$C$29=\"Square\",P$1,IF(OR(AND(ODD($A5)=$A5,ODD(P$2)=P$2),AND(EVEN($A5)=$A5,EVEN(P$2)=P$2)),P$1,-100))","v":253.125},{"$f":"IF('Ceiling Speaker Calculator'!$C$29=\"Square\",Q$1,IF(OR(AND(ODD($A5)=$A5,ODD(Q$2)=Q$2),AND(EVEN($A5)=$A5,EVEN(Q$2)=Q$2)),Q$1,-100))","v":271.875},{"$f":"IF('Ceiling Speaker Calculator'!$C$29=\"Square\",R$1,IF(OR(AND(ODD($A5)=$A5,ODD(R$2)=R$2),AND(EVEN($A5)=$A5,EVEN(R$2)=R$2)),R$1,-100))","v":290.625},{"$f":"IF('Ceiling Speaker Calculator'!$C$29=\"Square\",S$1,IF(OR(AND(ODD($A5)=$A5,ODD(S$2)=S$2),AND(EVEN($A5)=$A5,EVEN(S$2)=S$2)),S$1,-100))","v":309.375},{"$f":"IF('Ceiling Speaker Calculator'!$C$29=\"Square\",T$1,IF(OR(AND(ODD($A5)=$A5,ODD(T$2)=T$2),AND(EVEN($A5)=$A5,EVEN(T$2)=T$2)),T$1,-100))","v":328.125},{"$f":"IF('Ceiling Speaker Calculator'!$C$29=\"Square\",U$1,IF(OR(AND(ODD($A5)=$A5,ODD(U$2)=U$2),AND(EVEN($A5)=$A5,EVEN(U$2)=U$2)),U$1,-100))","v":346.875},{"$f":"IF('Ceiling Speaker Calculator'!$C$29=\"Square\",V$1,IF(OR(AND(ODD($A5)=$A5,ODD(V$2)=V$2),AND(EVEN($A5)=$A5,EVEN(V$2)=V$2)),V$1,-100))","v":365.625},{"$f":"IF('Ceiling Speaker Calculator'!$C$29=\"Square\",W$1,IF(OR(AND(ODD($A5)=$A5,ODD(W$2)=W$2),AND(EVEN($A5)=$A5,EVEN(W$2)=W$2)),W$1,-100))","v":384.375},{"$f":"IF('Ceiling Speaker Calculator'!$C$29=\"Square\",X$1,IF(OR(AND(ODD($A5)=$A5,ODD(X$2)=X$2),AND(EVEN($A5)=$A5,EVEN(X$2)=X$2)),X$1,-100))","v":403.125},{"$f":"IF('Ceiling Speaker Calculator'!$C$29=\"Square\",Y$1,IF(OR(AND(ODD($A5)=$A5,ODD(Y$2)=Y$2),AND(EVEN($A5)=$A5,EVEN(Y$2)=Y$2)),Y$1,-100))","v":421.875},{"$f":"IF('Ceiling Speaker Calculator'!$C$29=\"Square\",Z$1,IF(OR(AND(ODD($A5)=$A5,ODD(Z$2)=Z$2),AND(EVEN($A5)=$A5,EVEN(Z$2)=Z$2)),Z$1,-100))","v":440.625},{"$f":"IF('Ceiling Speaker Calculator'!$C$29=\"Square\",AA$1,IF(OR(AND(ODD($A5)=$A5,ODD(AA$2)=AA$2),AND(EVEN($A5)=$A5,EVEN(AA$2)=AA$2)),AA$1,-100))","v":459.375},{"$f":"IF('Ceiling Speaker Calculator'!$C$29=\"Square\",AB$1,IF(OR(AND(ODD($A5)=$A5,ODD(AB$2)=AB$2),AND(EVEN($A5)=$A5,EVEN(AB$2)=AB$2)),AB$1,-100))","v":478.125},{"$f":"IF('Ceiling Speaker Calculator'!$C$29=\"Square\",AC$1,IF(OR(AND(ODD($A5)=$A5,ODD(AC$2)=AC$2),AND(EVEN($A5)=$A5,EVEN(AC$2)=AC$2)),AC$1,-100))","v":496.875},{"$f":"IF('Ceiling Speaker Calculator'!$C$29=\"Square\",AD$1,IF(OR(AND(ODD($A5)=$A5,ODD(AD$2)=AD$2),AND(EVEN($A5)=$A5,EVEN(AD$2)=AD$2)),AD$1,-100))","v":515.625},{"$f":"IF('Ceiling Speaker Calculator'!$C$29=\"Square\",AE$1,IF(OR(AND(ODD($A5)=$A5,ODD(AE$2)=AE$2),AND(EVEN($A5)=$A5,EVEN(AE$2)=AE$2)),AE$1,-100))","v":534.375},{"$f":"IF('Ceiling Speaker Calculator'!$C$29=\"Square\",AF$1,IF(OR(AND(ODD($A5)=$A5,ODD(AF$2)=AF$2),AND(EVEN($A5)=$A5,EVEN(AF$2)=AF$2)),AF$1,-100))","v":553.125},{"$f":"IF('Ceiling Speaker Calculator'!$C$29=\"Square\",AG$1,IF(OR(AND(ODD($A5)=$A5,ODD(AG$2)=AG$2),AND(EVEN($A5)=$A5,EVEN(AG$2)=AG$2)),AG$1,-100))","v":571.875},{"$f":"IF('Ceiling Speaker Calculator'!$C$29=\"Square\",AH$1,IF(OR(AND(ODD($A5)=$A5,ODD(AH$2)=AH$2),AND(EVEN($A5)=$A5,EVEN(AH$2)=AH$2)),AH$1,-100))","v":590.625},{"$f":"IF('Ceiling Speaker Calculator'!$C$29=\"Square\",AI$1,IF(OR(AND(ODD($A5)=$A5,ODD(AI$2)=AI$2),AND(EVEN($A5)=$A5,EVEN(AI$2)=AI$2)),AI$1,-100))","v":609.375},{"$f":"IF('Ceiling Speaker Calculator'!$C$29=\"Square\",AJ$1,IF(OR(AND(ODD($A5)=$A5,ODD(AJ$2)=AJ$2),AND(EVEN($A5)=$A5,EVEN(AJ$2)=AJ$2)),AJ$1,-100))","v":628.125},{"$f":"IF('Ceiling Speaker Calculator'!$C$29=\"Square\",AK$1,IF(OR(AND(ODD($A5)=$A5,ODD(AK$2)=AK$2),AND(EVEN($A5)=$A5,EVEN(AK$2)=AK$2)),AK$1,-100))","v":646.875},{"$f":"IF('Ceiling Speaker Calculator'!$C$29=\"Square\",AL$1,IF(OR(AND(ODD($A5)=$A5,ODD(AL$2)=AL$2),AND(EVEN($A5)=$A5,EVEN(AL$2)=AL$2)),AL$1,-100))","v":665.625},{"$f":"IF('Ceiling Speaker Calculator'!$C$29=\"Square\",AM$1,IF(OR(AND(ODD($A5)=$A5,ODD(AM$2)=AM$2),AND(EVEN($A5)=$A5,EVEN(AM$2)=AM$2)),AM$1,-100))","v":684.375},{"$f":"IF('Ceiling Speaker Calculator'!$C$29=\"Square\",AN$1,IF(OR(AND(ODD($A5)=$A5,ODD(AN$2)=AN$2),AND(EVEN($A5)=$A5,EVEN(AN$2)=AN$2)),AN$1,-100))","v":703.125},{"$f":"IF('Ceiling Speaker Calculator'!$C$29=\"Square\",AO$1,IF(OR(AND(ODD($A5)=$A5,ODD(AO$2)=AO$2),AND(EVEN($A5)=$A5,EVEN(AO$2)=AO$2)),AO$1,-100))","v":721.875},{"$f":"IF('Ceiling Speaker Calculator'!$C$29=\"Square\",AP$1,IF(OR(AND(ODD($A5)=$A5,ODD(AP$2)=AP$2),AND(EVEN($A5)=$A5,EVEN(AP$2)=AP$2)),AP$1,-100))","v":740.625},{"$f":"IF('Ceiling Speaker Calculator'!$C$29=\"Square\",AQ$1,IF(OR(AND(ODD($A5)=$A5,ODD(AQ$2)=AQ$2),AND(EVEN($A5)=$A5,EVEN(AQ$2)=AQ$2)),AQ$1,-100))","v":759.375},{"$f":"IF('Ceiling Speaker Calculator'!$C$29=\"Square\",AR$1,IF(OR(AND(ODD($A5)=$A5,ODD(AR$2)=AR$2),AND(EVEN($A5)=$A5,EVEN(AR$2)=AR$2)),AR$1,-100))","v":778.125},{"$f":"IF('Ceiling Speaker Calculator'!$C$29=\"Square\",AS$1,IF(OR(AND(ODD($A5)=$A5,ODD(AS$2)=AS$2),AND(EVEN($A5)=$A5,EVEN(AS$2)=AS$2)),AS$1,-100))","v":796.875},{"$f":"IF('Ceiling Speaker Calculator'!$C$29=\"Square\",AT$1,IF(OR(AND(ODD($A5)=$A5,ODD(AT$2)=AT$2),AND(EVEN($A5)=$A5,EVEN(AT$2)=AT$2)),AT$1,-100))","v":815.625},{"$f":"IF('Ceiling Speaker Calculator'!$C$29=\"Square\",AU$1,IF(OR(AND(ODD($A5)=$A5,ODD(AU$2)=AU$2),AND(EVEN($A5)=$A5,EVEN(AU$2)=AU$2)),AU$1,-100))","v":834.375},{"$f":"IF('Ceiling Speaker Calculator'!$C$29=\"Square\",AV$1,IF(OR(AND(ODD($A5)=$A5,ODD(AV$2)=AV$2),AND(EVEN($A5)=$A5,EVEN(AV$2)=AV$2)),AV$1,-100))","v":853.125},{"$f":"IF('Ceiling Speaker Calculator'!$C$29=\"Square\",AW$1,IF(OR(AND(ODD($A5)=$A5,ODD(AW$2)=AW$2),AND(EVEN($A5)=$A5,EVEN(AW$2)=AW$2)),AW$1,-100))","v":871.875},{"$f":"IF('Ceiling Speaker Calculator'!$C$29=\"Square\",AX$1,IF(OR(AND(ODD($A5)=$A5,ODD(AX$2)=AX$2),AND(EVEN($A5)=$A5,EVEN(AX$2)=AX$2)),AX$1,-100))","v":890.625},{"$f":"IF('Ceiling Speaker Calculator'!$C$29=\"Square\",AY$1,IF(OR(AND(ODD($A5)=$A5,ODD(AY$2)=AY$2),AND(EVEN($A5)=$A5,EVEN(AY$2)=AY$2)),AY$1,-100))","v":909.375},{"$f":"IF('Ceiling Speaker Calculator'!$C$29=\"Square\",AZ$1,IF(OR(AND(ODD($A5)=$A5,ODD(AZ$2)=AZ$2),AND(EVEN($A5)=$A5,EVEN(AZ$2)=AZ$2)),AZ$1,-100))","v":928.125},{"$f":"IF('Ceiling Speaker Calculator'!$C$29=\"Square\",BA$1,IF(OR(AND(ODD($A5)=$A5,ODD(BA$2)=BA$2),AND(EVEN($A5)=$A5,EVEN(BA$2)=BA$2)),BA$1,-100))","v":946.875},{"$f":"IF('Ceiling Speaker Calculator'!$C$29=\"Square\",BB$1,IF(OR(AND(ODD($A5)=$A5,ODD(BB$2)=BB$2),AND(EVEN($A5)=$A5,EVEN(BB$2)=BB$2)),BB$1,-100))","v":965.625},{"$f":"IF('Ceiling Speaker Calculator'!$C$29=\"Square\",BC$1,IF(OR(AND(ODD($A5)=$A5,ODD(BC$2)=BC$2),AND(EVEN($A5)=$A5,EVEN(BC$2)=BC$2)),BC$1,-100))","v":984.375},{"$f":"IF('Ceiling Speaker Calculator'!$C$29=\"Square\",BD$1,IF(OR(AND(ODD($A5)=$A5,ODD(BD$2)=BD$2),AND(EVEN($A5)=$A5,EVEN(BD$2)=BD$2)),BD$1,-100))","v":1003.125},{"$f":"IF('Ceiling Speaker Calculator'!$C$29=\"Square\",BE$1,IF(OR(AND(ODD($A5)=$A5,ODD(BE$2)=BE$2),AND(EVEN($A5)=$A5,EVEN(BE$2)=BE$2)),BE$1,-100))","v":1021.875},{"$f":"IF('Ceiling Speaker Calculator'!$C$29=\"Square\",BF$1,IF(OR(AND(ODD($A5)=$A5,ODD(BF$2)=BF$2),AND(EVEN($A5)=$A5,EVEN(BF$2)=BF$2)),BF$1,-100))","v":1040.625},{"$f":"IF('Ceiling Speaker Calculator'!$C$29=\"Square\",BG$1,IF(OR(AND(ODD($A5)=$A5,ODD(BG$2)=BG$2),AND(EVEN($A5)=$A5,EVEN(BG$2)=BG$2)),BG$1,-100))","v":1059.375},{"$f":"IF('Ceiling Speaker Calculator'!$C$29=\"Square\",BH$1,IF(OR(AND(ODD($A5)=$A5,ODD(BH$2)=BH$2),AND(EVEN($A5)=$A5,EVEN(BH$2)=BH$2)),BH$1,-100))","v":1078.125},{"$f":"IF('Ceiling Speaker Calculator'!$C$29=\"Square\",BI$1,IF(OR(AND(ODD($A5)=$A5,ODD(BI$2)=BI$2),AND(EVEN($A5)=$A5,EVEN(BI$2)=BI$2)),BI$1,-100))","v":1096.875},{"$f":"IF('Ceiling Speaker Calculator'!$C$29=\"Square\",BJ$1,IF(OR(AND(ODD($A5)=$A5,ODD(BJ$2)=BJ$2),AND(EVEN($A5)=$A5,EVEN(BJ$2)=BJ$2)),BJ$1,-100))","v":1115.625},{"$f":"IF('Ceiling Speaker Calculator'!$C$29=\"Square\",BK$1,IF(OR(AND(ODD($A5)=$A5,ODD(BK$2)=BK$2),AND(EVEN($A5)=$A5,EVEN(BK$2)=BK$2)),BK$1,-100))","v":1134.375},{"$f":"IF('Ceiling Speaker Calculator'!$C$29=\"Square\",BL$1,IF(OR(AND(ODD($A5)=$A5,ODD(BL$2)=BL$2),AND(EVEN($A5)=$A5,EVEN(BL$2)=BL$2)),BL$1,-100))","v":1153.125},{"$f":"IF('Ceiling Speaker Calculator'!$C$29=\"Square\",BM$1,IF(OR(AND(ODD($A5)=$A5,ODD(BM$2)=BM$2),AND(EVEN($A5)=$A5,EVEN(BM$2)=BM$2)),BM$1,-100))","v":1171.875},{"$f":"IF('Ceiling Speaker Calculator'!$C$29=\"Square\",BN$1,IF(OR(AND(ODD($A5)=$A5,ODD(BN$2)=BN$2),AND(EVEN($A5)=$A5,EVEN(BN$2)=BN$2)),BN$1,-100))","v":1190.625},{"$f":"IF('Ceiling Speaker Calculator'!$C$29=\"Square\",BO$1,IF(OR(AND(ODD($A5)=$A5,ODD(BO$2)=BO$2),AND(EVEN($A5)=$A5,EVEN(BO$2)=BO$2)),BO$1,-100))","v":1209.375},{"$f":"IF('Ceiling Speaker Calculator'!$C$29=\"Square\",BP$1,IF(OR(AND(ODD($A5)=$A5,ODD(BP$2)=BP$2),AND(EVEN($A5)=$A5,EVEN(BP$2)=BP$2)),BP$1,-100))","v":1228.125},{"$f":"IF('Ceiling Speaker Calculator'!$C$29=\"Square\",BQ$1,IF(OR(AND(ODD($A5)=$A5,ODD(BQ$2)=BQ$2),AND(EVEN($A5)=$A5,EVEN(BQ$2)=BQ$2)),BQ$1,-100))","v":1246.875},{"$f":"IF('Ceiling Speaker Calculator'!$C$29=\"Square\",BR$1,IF(OR(AND(ODD($A5)=$A5,ODD(BR$2)=BR$2),AND(EVEN($A5)=$A5,EVEN(BR$2)=BR$2)),BR$1,-100))","v":1265.625},{"$f":"IF('Ceiling Speaker Calculator'!$C$29=\"Square\",BS$1,IF(OR(AND(ODD($A5)=$A5,ODD(BS$2)=BS$2),AND(EVEN($A5)=$A5,EVEN(BS$2)=BS$2)),BS$1,-100))","v":1284.375},{"$f":"IF('Ceiling Speaker Calculator'!$C$29=\"Square\",BT$1,IF(OR(AND(ODD($A5)=$A5,ODD(BT$2)=BT$2),AND(EVEN($A5)=$A5,EVEN(BT$2)=BT$2)),BT$1,-100))","v":1303.125},{"$f":"IF('Ceiling Speaker Calculator'!$C$29=\"Square\",BU$1,IF(OR(AND(ODD($A5)=$A5,ODD(BU$2)=BU$2),AND(EVEN($A5)=$A5,EVEN(BU$2)=BU$2)),BU$1,-100))","v":1321.875},{"$f":"IF('Ceiling Speaker Calculator'!$C$29=\"Square\",BV$1,IF(OR(AND(ODD($A5)=$A5,ODD(BV$2)=BV$2),AND(EVEN($A5)=$A5,EVEN(BV$2)=BV$2)),BV$1,-100))","v":1340.625},{"$f":"IF('Ceiling Speaker Calculator'!$C$29=\"Square\",BW$1,IF(OR(AND(ODD($A5)=$A5,ODD(BW$2)=BW$2),AND(EVEN($A5)=$A5,EVEN(BW$2)=BW$2)),BW$1,-100))","v":1359.375},{"$f":"IF('Ceiling Speaker Calculator'!$C$29=\"Square\",BX$1,IF(OR(AND(ODD($A5)=$A5,ODD(BX$2)=BX$2),AND(EVEN($A5)=$A5,EVEN(BX$2)=BX$2)),BX$1,-100))","v":1378.125},{"$f":"IF('Ceiling Speaker Calculator'!$C$29=\"Square\",BY$1,IF(OR(AND(ODD($A5)=$A5,ODD(BY$2)=BY$2),AND(EVEN($A5)=$A5,EVEN(BY$2)=BY$2)),BY$1,-100))","v":1396.875},{"$f":"IF('Ceiling Speaker Calculator'!$C$29=\"Square\",BZ$1,IF(OR(AND(ODD($A5)=$A5,ODD(BZ$2)=BZ$2),AND(EVEN($A5)=$A5,EVEN(BZ$2)=BZ$2)),BZ$1,-100))","v":1415.625},{"$f":"IF('Ceiling Speaker Calculator'!$C$29=\"Square\",CA$1,IF(OR(AND(ODD($A5)=$A5,ODD(CA$2)=CA$2),AND(EVEN($A5)=$A5,EVEN(CA$2)=CA$2)),CA$1,-100))","v":1434.375},{"$f":"IF('Ceiling Speaker Calculator'!$C$29=\"Square\",CB$1,IF(OR(AND(ODD($A5)=$A5,ODD(CB$2)=CB$2),AND(EVEN($A5)=$A5,EVEN(CB$2)=CB$2)),CB$1,-100))","v":1453.125},{"$f":"IF('Ceiling Speaker Calculator'!$C$29=\"Square\",CC$1,IF(OR(AND(ODD($A5)=$A5,ODD(CC$2)=CC$2),AND(EVEN($A5)=$A5,EVEN(CC$2)=CC$2)),CC$1,-100))","v":1471.875},{"$f":"IF('Ceiling Speaker Calculator'!$C$29=\"Square\",CD$1,IF(OR(AND(ODD($A5)=$A5,ODD(CD$2)=CD$2),AND(EVEN($A5)=$A5,EVEN(CD$2)=CD$2)),CD$1,-100))","v":1490.625},{"$f":"IF('Ceiling Speaker Calculator'!$C$29=\"Square\",CE$1,IF(OR(AND(ODD($A5)=$A5,ODD(CE$2)=CE$2),AND(EVEN($A5)=$A5,EVEN(CE$2)=CE$2)),CE$1,-100))","v":1509.375},{"$f":"IF('Ceiling Speaker Calculator'!$C$29=\"Square\",CF$1,IF(OR(AND(ODD($A5)=$A5,ODD(CF$2)=CF$2),AND(EVEN($A5)=$A5,EVEN(CF$2)=CF$2)),CF$1,-100))","v":1528.125},{"$f":"IF('Ceiling Speaker Calculator'!$C$29=\"Square\",CG$1,IF(OR(AND(ODD($A5)=$A5,ODD(CG$2)=CG$2),AND(EVEN($A5)=$A5,EVEN(CG$2)=CG$2)),CG$1,-100))","v":1546.875},{"$f":"IF('Ceiling Speaker Calculator'!$C$29=\"Square\",CH$1,IF(OR(AND(ODD($A5)=$A5,ODD(CH$2)=CH$2),AND(EVEN($A5)=$A5,EVEN(CH$2)=CH$2)),CH$1,-100))","v":1565.625},{"$f":"IF('Ceiling Speaker Calculator'!$C$29=\"Square\",CI$1,IF(OR(AND(ODD($A5)=$A5,ODD(CI$2)=CI$2),AND(EVEN($A5)=$A5,EVEN(CI$2)=CI$2)),CI$1,-100))","v":1584.375},{"$f":"IF('Ceiling Speaker Calculator'!$C$29=\"Square\",CJ$1,IF(OR(AND(ODD($A5)=$A5,ODD(CJ$2)=CJ$2),AND(EVEN($A5)=$A5,EVEN(CJ$2)=CJ$2)),CJ$1,-100))","v":1603.125},{"$f":"IF('Ceiling Speaker Calculator'!$C$29=\"Square\",CK$1,IF(OR(AND(ODD($A5)=$A5,ODD(CK$2)=CK$2),AND(EVEN($A5)=$A5,EVEN(CK$2)=CK$2)),CK$1,-100))","v":1621.875},{"$f":"IF('Ceiling Speaker Calculator'!$C$29=\"Square\",CL$1,IF(OR(AND(ODD($A5)=$A5,ODD(CL$2)=CL$2),AND(EVEN($A5)=$A5,EVEN(CL$2)=CL$2)),CL$1,-100))","v":1640.625},{"$f":"IF('Ceiling Speaker Calculator'!$C$29=\"Square\",CM$1,IF(OR(AND(ODD($A5)=$A5,ODD(CM$2)=CM$2),AND(EVEN($A5)=$A5,EVEN(CM$2)=CM$2)),CM$1,-100))","v":1659.375},{"$f":"IF('Ceiling Speaker Calculator'!$C$29=\"Square\",CN$1,IF(OR(AND(ODD($A5)=$A5,ODD(CN$2)=CN$2),AND(EVEN($A5)=$A5,EVEN(CN$2)=CN$2)),CN$1,-100))","v":1678.125},{"$f":"IF('Ceiling Speaker Calculator'!$C$29=\"Square\",CO$1,IF(OR(AND(ODD($A5)=$A5,ODD(CO$2)=CO$2),AND(EVEN($A5)=$A5,EVEN(CO$2)=CO$2)),CO$1,-100))","v":1696.875},{"$f":"IF('Ceiling Speaker Calculator'!$C$29=\"Square\",CP$1,IF(OR(AND(ODD($A5)=$A5,ODD(CP$2)=CP$2),AND(EVEN($A5)=$A5,EVEN(CP$2)=CP$2)),CP$1,-100))","v":1715.625},{"$f":"IF('Ceiling Speaker Calculator'!$C$29=\"Square\",CQ$1,IF(OR(AND(ODD($A5)=$A5,ODD(CQ$2)=CQ$2),AND(EVEN($A5)=$A5,EVEN(CQ$2)=CQ$2)),CQ$1,-100))","v":1734.375},{"$f":"IF('Ceiling Speaker Calculator'!$C$29=\"Square\",CR$1,IF(OR(AND(ODD($A5)=$A5,ODD(CR$2)=CR$2),AND(EVEN($A5)=$A5,EVEN(CR$2)=CR$2)),CR$1,-100))","v":1753.125},{"$f":"IF('Ceiling Speaker Calculator'!$C$29=\"Square\",CS$1,IF(OR(AND(ODD($A5)=$A5,ODD(CS$2)=CS$2),AND(EVEN($A5)=$A5,EVEN(CS$2)=CS$2)),CS$1,-100))","v":1771.875},{"$f":"IF('Ceiling Speaker Calculator'!$C$29=\"Square\",CT$1,IF(OR(AND(ODD($A5)=$A5,ODD(CT$2)=CT$2),AND(EVEN($A5)=$A5,EVEN(CT$2)=CT$2)),CT$1,-100))","v":1790.625},{"$f":"IF('Ceiling Speaker Calculator'!$C$29=\"Square\",CU$1,IF(OR(AND(ODD($A5)=$A5,ODD(CU$2)=CU$2),AND(EVEN($A5)=$A5,EVEN(CU$2)=CU$2)),CU$1,-100))","v":1809.375},{"$f":"IF('Ceiling Speaker Calculator'!$C$29=\"Square\",CV$1,IF(OR(AND(ODD($A5)=$A5,ODD(CV$2)=CV$2),AND(EVEN($A5)=$A5,EVEN(CV$2)=CV$2)),CV$1,-100))","v":1828.125},{"$f":"IF('Ceiling Speaker Calculator'!$C$29=\"Square\",CW$1,IF(OR(AND(ODD($A5)=$A5,ODD(CW$2)=CW$2),AND(EVEN($A5)=$A5,EVEN(CW$2)=CW$2)),CW$1,-100))","v":1846.875},{"$f":"IF('Ceiling Speaker Calculator'!$C$29=\"Square\",CX$1,IF(OR(AND(ODD($A5)=$A5,ODD(CX$2)=CX$2),AND(EVEN($A5)=$A5,EVEN(CX$2)=CX$2)),CX$1,-100))","v":1865.625}]
[4,{"$f":"B5+'Ceiling Speaker Calculator'!$K$16","v":70},{"$f":"IF('Ceiling Speaker Calculator'!$C$29=\"Square\",C$1,IF(OR(AND(ODD($A6)=$A6,ODD(C$2)=C$2),AND(EVEN($A6)=$A6,EVEN(C$2)=C$2)),C$1,-100))","v":9.375},{"$f":"IF('Ceiling Speaker Calculator'!$C$29=\"Square\",D$1,IF(OR(AND(ODD($A6)=$A6,ODD(D$2)=D$2),AND(EVEN($A6)=$A6,EVEN(D$2)=D$2)),D$1,-100))","v":28.125},{"$f":"IF('Ceiling Speaker Calculator'!$C$29=\"Square\",E$1,IF(OR(AND(ODD($A6)=$A6,ODD(E$2)=E$2),AND(EVEN($A6)=$A6,EVEN(E$2)=E$2)),E$1,-100))","v":46.875},{"$f":"IF('Ceiling Speaker Calculator'!$C$29=\"Square\",F$1,IF(OR(AND(ODD($A6)=$A6,ODD(F$2)=F$2),AND(EVEN($A6)=$A6,EVEN(F$2)=F$2)),F$1,-100))","v":65.625},{"$f":"IF('Ceiling Speaker Calculator'!$C$29=\"Square\",G$1,IF(OR(AND(ODD($A6)=$A6,ODD(G$2)=G$2),AND(EVEN($A6)=$A6,EVEN(G$2)=G$2)),G$1,-100))","v":84.375},{"$f":"IF('Ceiling Speaker Calculator'!$C$29=\"Square\",H$1,IF(OR(AND(ODD($A6)=$A6,ODD(H$2)=H$2),AND(EVEN($A6)=$A6,EVEN(H$2)=H$2)),H$1,-100))","v":103.125},{"$f":"IF('Ceiling Speaker Calculator'!$C$29=\"Square\",I$1,IF(OR(AND(ODD($A6)=$A6,ODD(I$2)=I$2),AND(EVEN($A6)=$A6,EVEN(I$2)=I$2)),I$1,-100))","v":121.875},{"$f":"IF('Ceiling Speaker Calculator'!$C$29=\"Square\",J$1,IF(OR(AND(ODD($A6)=$A6,ODD(J$2)=J$2),AND(EVEN($A6)=$A6,EVEN(J$2)=J$2)),J$1,-100))","v":140.625},{"$f":"IF('Ceiling Speaker Calculator'!$C$29=\"Square\",K$1,IF(OR(AND(ODD($A6)=$A6,ODD(K$2)=K$2),AND(EVEN($A6)=$A6,EVEN(K$2)=K$2)),K$1,-100))","v":159.375},{"$f":"IF('Ceiling Speaker Calculator'!$C$29=\"Square\",L$1,IF(OR(AND(ODD($A6)=$A6,ODD(L$2)=L$2),AND(EVEN($A6)=$A6,EVEN(L$2)=L$2)),L$1,-100))","v":178.125},{"$f":"IF('Ceiling Speaker Calculator'!$C$29=\"Square\",M$1,IF(OR(AND(ODD($A6)=$A6,ODD(M$2)=M$2),AND(EVEN($A6)=$A6,EVEN(M$2)=M$2)),M$1,-100))","v":196.875},{"$f":"IF('Ceiling Speaker Calculator'!$C$29=\"Square\",N$1,IF(OR(AND(ODD($A6)=$A6,ODD(N$2)=N$2),AND(EVEN($A6)=$A6,EVEN(N$2)=N$2)),N$1,-100))","v":215.625},{"$f":"IF('Ceiling Speaker Calculator'!$C$29=\"Square\",O$1,IF(OR(AND(ODD($A6)=$A6,ODD(O$2)=O$2),AND(EVEN($A6)=$A6,EVEN(O$2)=O$2)),O$1,-100))","v":234.375},{"$f":"IF('Ceiling Speaker Calculator'!$C$29=\"Square\",P$1,IF(OR(AND(ODD($A6)=$A6,ODD(P$2)=P$2),AND(EVEN($A6)=$A6,EVEN(P$2)=P$2)),P$1,-100))","v":253.125},{"$f":"IF('Ceiling Speaker Calculator'!$C$29=\"Square\",Q$1,IF(OR(AND(ODD($A6)=$A6,ODD(Q$2)=Q$2),AND(EVEN($A6)=$A6,EVEN(Q$2)=Q$2)),Q$1,-100))","v":271.875},{"$f":"IF('Ceiling Speaker Calculator'!$C$29=\"Square\",R$1,IF(OR(AND(ODD($A6)=$A6,ODD(R$2)=R$2),AND(EVEN($A6)=$A6,EVEN(R$2)=R$2)),R$1,-100))","v":290.625},{"$f":"IF('Ceiling Speaker Calculator'!$C$29=\"Square\",S$1,IF(OR(AND(ODD($A6)=$A6,ODD(S$2)=S$2),AND(EVEN($A6)=$A6,EVEN(S$2)=S$2)),S$1,-100))","v":309.375},{"$f":"IF('Ceiling Speaker Calculator'!$C$29=\"Square\",T$1,IF(OR(AND(ODD($A6)=$A6,ODD(T$2)=T$2),AND(EVEN($A6)=$A6,EVEN(T$2)=T$2)),T$1,-100))","v":328.125},{"$f":"IF('Ceiling Speaker Calculator'!$C$29=\"Square\",U$1,IF(OR(AND(ODD($A6)=$A6,ODD(U$2)=U$2),AND(EVEN($A6)=$A6,EVEN(U$2)=U$2)),U$1,-100))","v":346.875},{"$f":"IF('Ceiling Speaker Calculator'!$C$29=\"Square\",V$1,IF(OR(AND(ODD($A6)=$A6,ODD(V$2)=V$2),AND(EVEN($A6)=$A6,EVEN(V$2)=V$2)),V$1,-100))","v":365.625},{"$f":"IF('Ceiling Speaker Calculator'!$C$29=\"Square\",W$1,IF(OR(AND(ODD($A6)=$A6,ODD(W$2)=W$2),AND(EVEN($A6)=$A6,EVEN(W$2)=W$2)),W$1,-100))","v":384.375},{"$f":"IF('Ceiling Speaker Calculator'!$C$29=\"Square\",X$1,IF(OR(AND(ODD($A6)=$A6,ODD(X$2)=X$2),AND(EVEN($A6)=$A6,EVEN(X$2)=X$2)),X$1,-100))","v":403.125},{"$f":"IF('Ceiling Speaker Calculator'!$C$29=\"Square\",Y$1,IF(OR(AND(ODD($A6)=$A6,ODD(Y$2)=Y$2),AND(EVEN($A6)=$A6,EVEN(Y$2)=Y$2)),Y$1,-100))","v":421.875},{"$f":"IF('Ceiling Speaker Calculator'!$C$29=\"Square\",Z$1,IF(OR(AND(ODD($A6)=$A6,ODD(Z$2)=Z$2),AND(EVEN($A6)=$A6,EVEN(Z$2)=Z$2)),Z$1,-100))","v":440.625},{"$f":"IF('Ceiling Speaker Calculator'!$C$29=\"Square\",AA$1,IF(OR(AND(ODD($A6)=$A6,ODD(AA$2)=AA$2),AND(EVEN($A6)=$A6,EVEN(AA$2)=AA$2)),AA$1,-100))","v":459.375},{"$f":"IF('Ceiling Speaker Calculator'!$C$29=\"Square\",AB$1,IF(OR(AND(ODD($A6)=$A6,ODD(AB$2)=AB$2),AND(EVEN($A6)=$A6,EVEN(AB$2)=AB$2)),AB$1,-100))","v":478.125},{"$f":"IF('Ceiling Speaker Calculator'!$C$29=\"Square\",AC$1,IF(OR(AND(ODD($A6)=$A6,ODD(AC$2)=AC$2),AND(EVEN($A6)=$A6,EVEN(AC$2)=AC$2)),AC$1,-100))","v":496.875},{"$f":"IF('Ceiling Speaker Calculator'!$C$29=\"Square\",AD$1,IF(OR(AND(ODD($A6)=$A6,ODD(AD$2)=AD$2),AND(EVEN($A6)=$A6,EVEN(AD$2)=AD$2)),AD$1,-100))","v":515.625},{"$f":"IF('Ceiling Speaker Calculator'!$C$29=\"Square\",AE$1,IF(OR(AND(ODD($A6)=$A6,ODD(AE$2)=AE$2),AND(EVEN($A6)=$A6,EVEN(AE$2)=AE$2)),AE$1,-100))","v":534.375},{"$f":"IF('Ceiling Speaker Calculator'!$C$29=\"Square\",AF$1,IF(OR(AND(ODD($A6)=$A6,ODD(AF$2)=AF$2),AND(EVEN($A6)=$A6,EVEN(AF$2)=AF$2)),AF$1,-100))","v":553.125},{"$f":"IF('Ceiling Speaker Calculator'!$C$29=\"Square\",AG$1,IF(OR(AND(ODD($A6)=$A6,ODD(AG$2)=AG$2),AND(EVEN($A6)=$A6,EVEN(AG$2)=AG$2)),AG$1,-100))","v":571.875},{"$f":"IF('Ceiling Speaker Calculator'!$C$29=\"Square\",AH$1,IF(OR(AND(ODD($A6)=$A6,ODD(AH$2)=AH$2),AND(EVEN($A6)=$A6,EVEN(AH$2)=AH$2)),AH$1,-100))","v":590.625},{"$f":"IF('Ceiling Speaker Calculator'!$C$29=\"Square\",AI$1,IF(OR(AND(ODD($A6)=$A6,ODD(AI$2)=AI$2),AND(EVEN($A6)=$A6,EVEN(AI$2)=AI$2)),AI$1,-100))","v":609.375},{"$f":"IF('Ceiling Speaker Calculator'!$C$29=\"Square\",AJ$1,IF(OR(AND(ODD($A6)=$A6,ODD(AJ$2)=AJ$2),AND(EVEN($A6)=$A6,EVEN(AJ$2)=AJ$2)),AJ$1,-100))","v":628.125},{"$f":"IF('Ceiling Speaker Calculator'!$C$29=\"Square\",AK$1,IF(OR(AND(ODD($A6)=$A6,ODD(AK$2)=AK$2),AND(EVEN($A6)=$A6,EVEN(AK$2)=AK$2)),AK$1,-100))","v":646.875},{"$f":"IF('Ceiling Speaker Calculator'!$C$29=\"Square\",AL$1,IF(OR(AND(ODD($A6)=$A6,ODD(AL$2)=AL$2),AND(EVEN($A6)=$A6,EVEN(AL$2)=AL$2)),AL$1,-100))","v":665.625},{"$f":"IF('Ceiling Speaker Calculator'!$C$29=\"Square\",AM$1,IF(OR(AND(ODD($A6)=$A6,ODD(AM$2)=AM$2),AND(EVEN($A6)=$A6,EVEN(AM$2)=AM$2)),AM$1,-100))","v":684.375},{"$f":"IF('Ceiling Speaker Calculator'!$C$29=\"Square\",AN$1,IF(OR(AND(ODD($A6)=$A6,ODD(AN$2)=AN$2),AND(EVEN($A6)=$A6,EVEN(AN$2)=AN$2)),AN$1,-100))","v":703.125},{"$f":"IF('Ceiling Speaker Calculator'!$C$29=\"Square\",AO$1,IF(OR(AND(ODD($A6)=$A6,ODD(AO$2)=AO$2),AND(EVEN($A6)=$A6,EVEN(AO$2)=AO$2)),AO$1,-100))","v":721.875},{"$f":"IF('Ceiling Speaker Calculator'!$C$29=\"Square\",AP$1,IF(OR(AND(ODD($A6)=$A6,ODD(AP$2)=AP$2),AND(EVEN($A6)=$A6,EVEN(AP$2)=AP$2)),AP$1,-100))","v":740.625},{"$f":"IF('Ceiling Speaker Calculator'!$C$29=\"Square\",AQ$1,IF(OR(AND(ODD($A6)=$A6,ODD(AQ$2)=AQ$2),AND(EVEN($A6)=$A6,EVEN(AQ$2)=AQ$2)),AQ$1,-100))","v":759.375},{"$f":"IF('Ceiling Speaker Calculator'!$C$29=\"Square\",AR$1,IF(OR(AND(ODD($A6)=$A6,ODD(AR$2)=AR$2),AND(EVEN($A6)=$A6,EVEN(AR$2)=AR$2)),AR$1,-100))","v":778.125},{"$f":"IF('Ceiling Speaker Calculator'!$C$29=\"Square\",AS$1,IF(OR(AND(ODD($A6)=$A6,ODD(AS$2)=AS$2),AND(EVEN($A6)=$A6,EVEN(AS$2)=AS$2)),AS$1,-100))","v":796.875},{"$f":"IF('Ceiling Speaker Calculator'!$C$29=\"Square\",AT$1,IF(OR(AND(ODD($A6)=$A6,ODD(AT$2)=AT$2),AND(EVEN($A6)=$A6,EVEN(AT$2)=AT$2)),AT$1,-100))","v":815.625},{"$f":"IF('Ceiling Speaker Calculator'!$C$29=\"Square\",AU$1,IF(OR(AND(ODD($A6)=$A6,ODD(AU$2)=AU$2),AND(EVEN($A6)=$A6,EVEN(AU$2)=AU$2)),AU$1,-100))","v":834.375},{"$f":"IF('Ceiling Speaker Calculator'!$C$29=\"Square\",AV$1,IF(OR(AND(ODD($A6)=$A6,ODD(AV$2)=AV$2),AND(EVEN($A6)=$A6,EVEN(AV$2)=AV$2)),AV$1,-100))","v":853.125},{"$f":"IF('Ceiling Speaker Calculator'!$C$29=\"Square\",AW$1,IF(OR(AND(ODD($A6)=$A6,ODD(AW$2)=AW$2),AND(EVEN($A6)=$A6,EVEN(AW$2)=AW$2)),AW$1,-100))","v":871.875},{"$f":"IF('Ceiling Speaker Calculator'!$C$29=\"Square\",AX$1,IF(OR(AND(ODD($A6)=$A6,ODD(AX$2)=AX$2),AND(EVEN($A6)=$A6,EVEN(AX$2)=AX$2)),AX$1,-100))","v":890.625},{"$f":"IF('Ceiling Speaker Calculator'!$C$29=\"Square\",AY$1,IF(OR(AND(ODD($A6)=$A6,ODD(AY$2)=AY$2),AND(EVEN($A6)=$A6,EVEN(AY$2)=AY$2)),AY$1,-100))","v":909.375},{"$f":"IF('Ceiling Speaker Calculator'!$C$29=\"Square\",AZ$1,IF(OR(AND(ODD($A6)=$A6,ODD(AZ$2)=AZ$2),AND(EVEN($A6)=$A6,EVEN(AZ$2)=AZ$2)),AZ$1,-100))","v":928.125},{"$f":"IF('Ceiling Speaker Calculator'!$C$29=\"Square\",BA$1,IF(OR(AND(ODD($A6)=$A6,ODD(BA$2)=BA$2),AND(EVEN($A6)=$A6,EVEN(BA$2)=BA$2)),BA$1,-100))","v":946.875},{"$f":"IF('Ceiling Speaker Calculator'!$C$29=\"Square\",BB$1,IF(OR(AND(ODD($A6)=$A6,ODD(BB$2)=BB$2),AND(EVEN($A6)=$A6,EVEN(BB$2)=BB$2)),BB$1,-100))","v":965.625},{"$f":"IF('Ceiling Speaker Calculator'!$C$29=\"Square\",BC$1,IF(OR(AND(ODD($A6)=$A6,ODD(BC$2)=BC$2),AND(EVEN($A6)=$A6,EVEN(BC$2)=BC$2)),BC$1,-100))","v":984.375},{"$f":"IF('Ceiling Speaker Calculator'!$C$29=\"Square\",BD$1,IF(OR(AND(ODD($A6)=$A6,ODD(BD$2)=BD$2),AND(EVEN($A6)=$A6,EVEN(BD$2)=BD$2)),BD$1,-100))","v":1003.125},{"$f":"IF('Ceiling Speaker Calculator'!$C$29=\"Square\",BE$1,IF(OR(AND(ODD($A6)=$A6,ODD(BE$2)=BE$2),AND(EVEN($A6)=$A6,EVEN(BE$2)=BE$2)),BE$1,-100))","v":1021.875},{"$f":"IF('Ceiling Speaker Calculator'!$C$29=\"Square\",BF$1,IF(OR(AND(ODD($A6)=$A6,ODD(BF$2)=BF$2),AND(EVEN($A6)=$A6,EVEN(BF$2)=BF$2)),BF$1,-100))","v":1040.625},{"$f":"IF('Ceiling Speaker Calculator'!$C$29=\"Square\",BG$1,IF(OR(AND(ODD($A6)=$A6,ODD(BG$2)=BG$2),AND(EVEN($A6)=$A6,EVEN(BG$2)=BG$2)),BG$1,-100))","v":1059.375},{"$f":"IF('Ceiling Speaker Calculator'!$C$29=\"Square\",BH$1,IF(OR(AND(ODD($A6)=$A6,ODD(BH$2)=BH$2),AND(EVEN($A6)=$A6,EVEN(BH$2)=BH$2)),BH$1,-100))","v":1078.125},{"$f":"IF('Ceiling Speaker Calculator'!$C$29=\"Square\",BI$1,IF(OR(AND(ODD($A6)=$A6,ODD(BI$2)=BI$2),AND(EVEN($A6)=$A6,EVEN(BI$2)=BI$2)),BI$1,-100))","v":1096.875},{"$f":"IF('Ceiling Speaker Calculator'!$C$29=\"Square\",BJ$1,IF(OR(AND(ODD($A6)=$A6,ODD(BJ$2)=BJ$2),AND(EVEN($A6)=$A6,EVEN(BJ$2)=BJ$2)),BJ$1,-100))","v":1115.625},{"$f":"IF('Ceiling Speaker Calculator'!$C$29=\"Square\",BK$1,IF(OR(AND(ODD($A6)=$A6,ODD(BK$2)=BK$2),AND(EVEN($A6)=$A6,EVEN(BK$2)=BK$2)),BK$1,-100))","v":1134.375},{"$f":"IF('Ceiling Speaker Calculator'!$C$29=\"Square\",BL$1,IF(OR(AND(ODD($A6)=$A6,ODD(BL$2)=BL$2),AND(EVEN($A6)=$A6,EVEN(BL$2)=BL$2)),BL$1,-100))","v":1153.125},{"$f":"IF('Ceiling Speaker Calculator'!$C$29=\"Square\",BM$1,IF(OR(AND(ODD($A6)=$A6,ODD(BM$2)=BM$2),AND(EVEN($A6)=$A6,EVEN(BM$2)=BM$2)),BM$1,-100))","v":1171.875},{"$f":"IF('Ceiling Speaker Calculator'!$C$29=\"Square\",BN$1,IF(OR(AND(ODD($A6)=$A6,ODD(BN$2)=BN$2),AND(EVEN($A6)=$A6,EVEN(BN$2)=BN$2)),BN$1,-100))","v":1190.625},{"$f":"IF('Ceiling Speaker Calculator'!$C$29=\"Square\",BO$1,IF(OR(AND(ODD($A6)=$A6,ODD(BO$2)=BO$2),AND(EVEN($A6)=$A6,EVEN(BO$2)=BO$2)),BO$1,-100))","v":1209.375},{"$f":"IF('Ceiling Speaker Calculator'!$C$29=\"Square\",BP$1,IF(OR(AND(ODD($A6)=$A6,ODD(BP$2)=BP$2),AND(EVEN($A6)=$A6,EVEN(BP$2)=BP$2)),BP$1,-100))","v":1228.125},{"$f":"IF('Ceiling Speaker Calculator'!$C$29=\"Square\",BQ$1,IF(OR(AND(ODD($A6)=$A6,ODD(BQ$2)=BQ$2),AND(EVEN($A6)=$A6,EVEN(BQ$2)=BQ$2)),BQ$1,-100))","v":1246.875},{"$f":"IF('Ceiling Speaker Calculator'!$C$29=\"Square\",BR$1,IF(OR(AND(ODD($A6)=$A6,ODD(BR$2)=BR$2),AND(EVEN($A6)=$A6,EVEN(BR$2)=BR$2)),BR$1,-100))","v":1265.625},{"$f":"IF('Ceiling Speaker Calculator'!$C$29=\"Square\",BS$1,IF(OR(AND(ODD($A6)=$A6,ODD(BS$2)=BS$2),AND(EVEN($A6)=$A6,EVEN(BS$2)=BS$2)),BS$1,-100))","v":1284.375},{"$f":"IF('Ceiling Speaker Calculator'!$C$29=\"Square\",BT$1,IF(OR(AND(ODD($A6)=$A6,ODD(BT$2)=BT$2),AND(EVEN($A6)=$A6,EVEN(BT$2)=BT$2)),BT$1,-100))","v":1303.125},{"$f":"IF('Ceiling Speaker Calculator'!$C$29=\"Square\",BU$1,IF(OR(AND(ODD($A6)=$A6,ODD(BU$2)=BU$2),AND(EVEN($A6)=$A6,EVEN(BU$2)=BU$2)),BU$1,-100))","v":1321.875},{"$f":"IF('Ceiling Speaker Calculator'!$C$29=\"Square\",BV$1,IF(OR(AND(ODD($A6)=$A6,ODD(BV$2)=BV$2),AND(EVEN($A6)=$A6,EVEN(BV$2)=BV$2)),BV$1,-100))","v":1340.625},{"$f":"IF('Ceiling Speaker Calculator'!$C$29=\"Square\",BW$1,IF(OR(AND(ODD($A6)=$A6,ODD(BW$2)=BW$2),AND(EVEN($A6)=$A6,EVEN(BW$2)=BW$2)),BW$1,-100))","v":1359.375},{"$f":"IF('Ceiling Speaker Calculator'!$C$29=\"Square\",BX$1,IF(OR(AND(ODD($A6)=$A6,ODD(BX$2)=BX$2),AND(EVEN($A6)=$A6,EVEN(BX$2)=BX$2)),BX$1,-100))","v":1378.125},{"$f":"IF('Ceiling Speaker Calculator'!$C$29=\"Square\",BY$1,IF(OR(AND(ODD($A6)=$A6,ODD(BY$2)=BY$2),AND(EVEN($A6)=$A6,EVEN(BY$2)=BY$2)),BY$1,-100))","v":1396.875},{"$f":"IF('Ceiling Speaker Calculator'!$C$29=\"Square\",BZ$1,IF(OR(AND(ODD($A6)=$A6,ODD(BZ$2)=BZ$2),AND(EVEN($A6)=$A6,EVEN(BZ$2)=BZ$2)),BZ$1,-100))","v":1415.625},{"$f":"IF('Ceiling Speaker Calculator'!$C$29=\"Square\",CA$1,IF(OR(AND(ODD($A6)=$A6,ODD(CA$2)=CA$2),AND(EVEN($A6)=$A6,EVEN(CA$2)=CA$2)),CA$1,-100))","v":1434.375},{"$f":"IF('Ceiling Speaker Calculator'!$C$29=\"Square\",CB$1,IF(OR(AND(ODD($A6)=$A6,ODD(CB$2)=CB$2),AND(EVEN($A6)=$A6,EVEN(CB$2)=CB$2)),CB$1,-100))","v":1453.125},{"$f":"IF('Ceiling Speaker Calculator'!$C$29=\"Square\",CC$1,IF(OR(AND(ODD($A6)=$A6,ODD(CC$2)=CC$2),AND(EVEN($A6)=$A6,EVEN(CC$2)=CC$2)),CC$1,-100))","v":1471.875},{"$f":"IF('Ceiling Speaker Calculator'!$C$29=\"Square\",CD$1,IF(OR(AND(ODD($A6)=$A6,ODD(CD$2)=CD$2),AND(EVEN($A6)=$A6,EVEN(CD$2)=CD$2)),CD$1,-100))","v":1490.625},{"$f":"IF('Ceiling Speaker Calculator'!$C$29=\"Square\",CE$1,IF(OR(AND(ODD($A6)=$A6,ODD(CE$2)=CE$2),AND(EVEN($A6)=$A6,EVEN(CE$2)=CE$2)),CE$1,-100))","v":1509.375},{"$f":"IF('Ceiling Speaker Calculator'!$C$29=\"Square\",CF$1,IF(OR(AND(ODD($A6)=$A6,ODD(CF$2)=CF$2),AND(EVEN($A6)=$A6,EVEN(CF$2)=CF$2)),CF$1,-100))","v":1528.125},{"$f":"IF('Ceiling Speaker Calculator'!$C$29=\"Square\",CG$1,IF(OR(AND(ODD($A6)=$A6,ODD(CG$2)=CG$2),AND(EVEN($A6)=$A6,EVEN(CG$2)=CG$2)),CG$1,-100))","v":1546.875},{"$f":"IF('Ceiling Speaker Calculator'!$C$29=\"Square\",CH$1,IF(OR(AND(ODD($A6)=$A6,ODD(CH$2)=CH$2),AND(EVEN($A6)=$A6,EVEN(CH$2)=CH$2)),CH$1,-100))","v":1565.625},{"$f":"IF('Ceiling Speaker Calculator'!$C$29=\"Square\",CI$1,IF(OR(AND(ODD($A6)=$A6,ODD(CI$2)=CI$2),AND(EVEN($A6)=$A6,EVEN(CI$2)=CI$2)),CI$1,-100))","v":1584.375},{"$f":"IF('Ceiling Speaker Calculator'!$C$29=\"Square\",CJ$1,IF(OR(AND(ODD($A6)=$A6,ODD(CJ$2)=CJ$2),AND(EVEN($A6)=$A6,EVEN(CJ$2)=CJ$2)),CJ$1,-100))","v":1603.125},{"$f":"IF('Ceiling Speaker Calculator'!$C$29=\"Square\",CK$1,IF(OR(AND(ODD($A6)=$A6,ODD(CK$2)=CK$2),AND(EVEN($A6)=$A6,EVEN(CK$2)=CK$2)),CK$1,-100))","v":1621.875},{"$f":"IF('Ceiling Speaker Calculator'!$C$29=\"Square\",CL$1,IF(OR(AND(ODD($A6)=$A6,ODD(CL$2)=CL$2),AND(EVEN($A6)=$A6,EVEN(CL$2)=CL$2)),CL$1,-100))","v":1640.625},{"$f":"IF('Ceiling Speaker Calculator'!$C$29=\"Square\",CM$1,IF(OR(AND(ODD($A6)=$A6,ODD(CM$2)=CM$2),AND(EVEN($A6)=$A6,EVEN(CM$2)=CM$2)),CM$1,-100))","v":1659.375},{"$f":"IF('Ceiling Speaker Calculator'!$C$29=\"Square\",CN$1,IF(OR(AND(ODD($A6)=$A6,ODD(CN$2)=CN$2),AND(EVEN($A6)=$A6,EVEN(CN$2)=CN$2)),CN$1,-100))","v":1678.125},{"$f":"IF('Ceiling Speaker Calculator'!$C$29=\"Square\",CO$1,IF(OR(AND(ODD($A6)=$A6,ODD(CO$2)=CO$2),AND(EVEN($A6)=$A6,EVEN(CO$2)=CO$2)),CO$1,-100))","v":1696.875},{"$f":"IF('Ceiling Speaker Calculator'!$C$29=\"Square\",CP$1,IF(OR(AND(ODD($A6)=$A6,ODD(CP$2)=CP$2),AND(EVEN($A6)=$A6,EVEN(CP$2)=CP$2)),CP$1,-100))","v":1715.625},{"$f":"IF('Ceiling Speaker Calculator'!$C$29=\"Square\",CQ$1,IF(OR(AND(ODD($A6)=$A6,ODD(CQ$2)=CQ$2),AND(EVEN($A6)=$A6,EVEN(CQ$2)=CQ$2)),CQ$1,-100))","v":1734.375},{"$f":"IF('Ceiling Speaker Calculator'!$C$29=\"Square\",CR$1,IF(OR(AND(ODD($A6)=$A6,ODD(CR$2)=CR$2),AND(EVEN($A6)=$A6,EVEN(CR$2)=CR$2)),CR$1,-100))","v":1753.125},{"$f":"IF('Ceiling Speaker Calculator'!$C$29=\"Square\",CS$1,IF(OR(AND(ODD($A6)=$A6,ODD(CS$2)=CS$2),AND(EVEN($A6)=$A6,EVEN(CS$2)=CS$2)),CS$1,-100))","v":1771.875},{"$f":"IF('Ceiling Speaker Calculator'!$C$29=\"Square\",CT$1,IF(OR(AND(ODD($A6)=$A6,ODD(CT$2)=CT$2),AND(EVEN($A6)=$A6,EVEN(CT$2)=CT$2)),CT$1,-100))","v":1790.625},{"$f":"IF('Ceiling Speaker Calculator'!$C$29=\"Square\",CU$1,IF(OR(AND(ODD($A6)=$A6,ODD(CU$2)=CU$2),AND(EVEN($A6)=$A6,EVEN(CU$2)=CU$2)),CU$1,-100))","v":1809.375},{"$f":"IF('Ceiling Speaker Calculator'!$C$29=\"Square\",CV$1,IF(OR(AND(ODD($A6)=$A6,ODD(CV$2)=CV$2),AND(EVEN($A6)=$A6,EVEN(CV$2)=CV$2)),CV$1,-100))","v":1828.125},{"$f":"IF('Ceiling Speaker Calculator'!$C$29=\"Square\",CW$1,IF(OR(AND(ODD($A6)=$A6,ODD(CW$2)=CW$2),AND(EVEN($A6)=$A6,EVEN(CW$2)=CW$2)),CW$1,-100))","v":1846.875},{"$f":"IF('Ceiling Speaker Calculator'!$C$29=\"Square\",CX$1,IF(OR(AND(ODD($A6)=$A6,ODD(CX$2)=CX$2),AND(EVEN($A6)=$A6,EVEN(CX$2)=CX$2)),CX$1,-100))","v":1865.625}]
[5,{"$f":"B6+'Ceiling Speaker Calculator'!$K$16","v":90},{"$f":"IF('Ceiling Speaker Calculator'!$C$29=\"Square\",C$1,IF(OR(AND(ODD($A7)=$A7,ODD(C$2)=C$2),AND(EVEN($A7)=$A7,EVEN(C$2)=C$2)),C$1,-100))","v":9.375},{"$f":"IF('Ceiling Speaker Calculator'!$C$29=\"Square\",D$1,IF(OR(AND(ODD($A7)=$A7,ODD(D$2)=D$2),AND(EVEN($A7)=$A7,EVEN(D$2)=D$2)),D$1,-100))","v":28.125},{"$f":"IF('Ceiling Speaker Calculator'!$C$29=\"Square\",E$1,IF(OR(AND(ODD($A7)=$A7,ODD(E$2)=E$2),AND(EVEN($A7)=$A7,EVEN(E$2)=E$2)),E$1,-100))","v":46.875},{"$f":"IF('Ceiling Speaker Calculator'!$C$29=\"Square\",F$1,IF(OR(AND(ODD($A7)=$A7,ODD(F$2)=F$2),AND(EVEN($A7)=$A7,EVEN(F$2)=F$2)),F$1,-100))","v":65.625},{"$f":"IF('Ceiling Speaker Calculator'!$C$29=\"Square\",G$1,IF(OR(AND(ODD($A7)=$A7,ODD(G$2)=G$2),AND(EVEN($A7)=$A7,EVEN(G$2)=G$2)),G$1,-100))","v":84.375},{"$f":"IF('Ceiling Speaker Calculator'!$C$29=\"Square\",H$1,IF(OR(AND(ODD($A7)=$A7,ODD(H$2)=H$2),AND(EVEN($A7)=$A7,EVEN(H$2)=H$2)),H$1,-100))","v":103.125},{"$f":"IF('Ceiling Speaker Calculator'!$C$29=\"Square\",I$1,IF(OR(AND(ODD($A7)=$A7,ODD(I$2)=I$2),AND(EVEN($A7)=$A7,EVEN(I$2)=I$2)),I$1,-100))","v":121.875},{"$f":"IF('Ceiling Speaker Calculator'!$C$29=\"Square\",J$1,IF(OR(AND(ODD($A7)=$A7,ODD(J$2)=J$2),AND(EVEN($A7)=$A7,EVEN(J$2)=J$2)),J$1,-100))","v":140.625},{"$f":"IF('Ceiling Speaker Calculator'!$C$29=\"Square\",K$1,IF(OR(AND(ODD($A7)=$A7,ODD(K$2)=K$2),AND(EVEN($A7)=$A7,EVEN(K$2)=K$2)),K$1,-100))","v":159.375},{"$f":"IF('Ceiling Speaker Calculator'!$C$29=\"Square\",L$1,IF(OR(AND(ODD($A7)=$A7,ODD(L$2)=L$2),AND(EVEN($A7)=$A7,EVEN(L$2)=L$2)),L$1,-100))","v":178.125},{"$f":"IF('Ceiling Speaker Calculator'!$C$29=\"Square\",M$1,IF(OR(AND(ODD($A7)=$A7,ODD(M$2)=M$2),AND(EVEN($A7)=$A7,EVEN(M$2)=M$2)),M$1,-100))","v":196.875},{"$f":"IF('Ceiling Speaker Calculator'!$C$29=\"Square\",N$1,IF(OR(AND(ODD($A7)=$A7,ODD(N$2)=N$2),AND(EVEN($A7)=$A7,EVEN(N$2)=N$2)),N$1,-100))","v":215.625},{"$f":"IF('Ceiling Speaker Calculator'!$C$29=\"Square\",O$1,IF(OR(AND(ODD($A7)=$A7,ODD(O$2)=O$2),AND(EVEN($A7)=$A7,EVEN(O$2)=O$2)),O$1,-100))","v":234.375},{"$f":"IF('Ceiling Speaker Calculator'!$C$29=\"Square\",P$1,IF(OR(AND(ODD($A7)=$A7,ODD(P$2)=P$2),AND(EVEN($A7)=$A7,EVEN(P$2)=P$2)),P$1,-100))","v":253.125},{"$f":"IF('Ceiling Speaker Calculator'!$C$29=\"Square\",Q$1,IF(OR(AND(ODD($A7)=$A7,ODD(Q$2)=Q$2),AND(EVEN($A7)=$A7,EVEN(Q$2)=Q$2)),Q$1,-100))","v":271.875},{"$f":"IF('Ceiling Speaker Calculator'!$C$29=\"Square\",R$1,IF(OR(AND(ODD($A7)=$A7,ODD(R$2)=R$2),AND(EVEN($A7)=$A7,EVEN(R$2)=R$2)),R$1,-100))","v":290.625},{"$f":"IF('Ceiling Speaker Calculator'!$C$29=\"Square\",S$1,IF(OR(AND(ODD($A7)=$A7,ODD(S$2)=S$2),AND(EVEN($A7)=$A7,EVEN(S$2)=S$2)),S$1,-100))","v":309.375},{"$f":"IF('Ceiling Speaker Calculator'!$C$29=\"Square\",T$1,IF(OR(AND(ODD($A7)=$A7,ODD(T$2)=T$2),AND(EVEN($A7)=$A7,EVEN(T$2)=T$2)),T$1,-100))","v":328.125},{"$f":"IF('Ceiling Speaker Calculator'!$C$29=\"Square\",U$1,IF(OR(AND(ODD($A7)=$A7,ODD(U$2)=U$2),AND(EVEN($A7)=$A7,EVEN(U$2)=U$2)),U$1,-100))","v":346.875},{"$f":"IF('Ceiling Speaker Calculator'!$C$29=\"Square\",V$1,IF(OR(AND(ODD($A7)=$A7,ODD(V$2)=V$2),AND(EVEN($A7)=$A7,EVEN(V$2)=V$2)),V$1,-100))","v":365.625},{"$f":"IF('Ceiling Speaker Calculator'!$C$29=\"Square\",W$1,IF(OR(AND(ODD($A7)=$A7,ODD(W$2)=W$2),AND(EVEN($A7)=$A7,EVEN(W$2)=W$2)),W$1,-100))","v":384.375},{"$f":"IF('Ceiling Speaker Calculator'!$C$29=\"Square\",X$1,IF(OR(AND(ODD($A7)=$A7,ODD(X$2)=X$2),AND(EVEN($A7)=$A7,EVEN(X$2)=X$2)),X$1,-100))","v":403.125},{"$f":"IF('Ceiling Speaker Calculator'!$C$29=\"Square\",Y$1,IF(OR(AND(ODD($A7)=$A7,ODD(Y$2)=Y$2),AND(EVEN($A7)=$A7,EVEN(Y$2)=Y$2)),Y$1,-100))","v":421.875},{"$f":"IF('Ceiling Speaker Calculator'!$C$29=\"Square\",Z$1,IF(OR(AND(ODD($A7)=$A7,ODD(Z$2)=Z$2),AND(EVEN($A7)=$A7,EVEN(Z$2)=Z$2)),Z$1,-100))","v":440.625},{"$f":"IF('Ceiling Speaker Calculator'!$C$29=\"Square\",AA$1,IF(OR(AND(ODD($A7)=$A7,ODD(AA$2)=AA$2),AND(EVEN($A7)=$A7,EVEN(AA$2)=AA$2)),AA$1,-100))","v":459.375},{"$f":"IF('Ceiling Speaker Calculator'!$C$29=\"Square\",AB$1,IF(OR(AND(ODD($A7)=$A7,ODD(AB$2)=AB$2),AND(EVEN($A7)=$A7,EVEN(AB$2)=AB$2)),AB$1,-100))","v":478.125},{"$f":"IF('Ceiling Speaker Calculator'!$C$29=\"Square\",AC$1,IF(OR(AND(ODD($A7)=$A7,ODD(AC$2)=AC$2),AND(EVEN($A7)=$A7,EVEN(AC$2)=AC$2)),AC$1,-100))","v":496.875},{"$f":"IF('Ceiling Speaker Calculator'!$C$29=\"Square\",AD$1,IF(OR(AND(ODD($A7)=$A7,ODD(AD$2)=AD$2),AND(EVEN($A7)=$A7,EVEN(AD$2)=AD$2)),AD$1,-100))","v":515.625},{"$f":"IF('Ceiling Speaker Calculator'!$C$29=\"Square\",AE$1,IF(OR(AND(ODD($A7)=$A7,ODD(AE$2)=AE$2),AND(EVEN($A7)=$A7,EVEN(AE$2)=AE$2)),AE$1,-100))","v":534.375},{"$f":"IF('Ceiling Speaker Calculator'!$C$29=\"Square\",AF$1,IF(OR(AND(ODD($A7)=$A7,ODD(AF$2)=AF$2),AND(EVEN($A7)=$A7,EVEN(AF$2)=AF$2)),AF$1,-100))","v":553.125},{"$f":"IF('Ceiling Speaker Calculator'!$C$29=\"Square\",AG$1,IF(OR(AND(ODD($A7)=$A7,ODD(AG$2)=AG$2),AND(EVEN($A7)=$A7,EVEN(AG$2)=AG$2)),AG$1,-100))","v":571.875},{"$f":"IF('Ceiling Speaker Calculator'!$C$29=\"Square\",AH$1,IF(OR(AND(ODD($A7)=$A7,ODD(AH$2)=AH$2),AND(EVEN($A7)=$A7,EVEN(AH$2)=AH$2)),AH$1,-100))","v":590.625},{"$f":"IF('Ceiling Speaker Calculator'!$C$29=\"Square\",AI$1,IF(OR(AND(ODD($A7)=$A7,ODD(AI$2)=AI$2),AND(EVEN($A7)=$A7,EVEN(AI$2)=AI$2)),AI$1,-100))","v":609.375},{"$f":"IF('Ceiling Speaker Calculator'!$C$29=\"Square\",AJ$1,IF(OR(AND(ODD($A7)=$A7,ODD(AJ$2)=AJ$2),AND(EVEN($A7)=$A7,EVEN(AJ$2)=AJ$2)),AJ$1,-100))","v":628.125},{"$f":"IF('Ceiling Speaker Calculator'!$C$29=\"Square\",AK$1,IF(OR(AND(ODD($A7)=$A7,ODD(AK$2)=AK$2),AND(EVEN($A7)=$A7,EVEN(AK$2)=AK$2)),AK$1,-100))","v":646.875},{"$f":"IF('Ceiling Speaker Calculator'!$C$29=\"Square\",AL$1,IF(OR(AND(ODD($A7)=$A7,ODD(AL$2)=AL$2),AND(EVEN($A7)=$A7,EVEN(AL$2)=AL$2)),AL$1,-100))","v":665.625},{"$f":"IF('Ceiling Speaker Calculator'!$C$29=\"Square\",AM$1,IF(OR(AND(ODD($A7)=$A7,ODD(AM$2)=AM$2),AND(EVEN($A7)=$A7,EVEN(AM$2)=AM$2)),AM$1,-100))","v":684.375},{"$f":"IF('Ceiling Speaker Calculator'!$C$29=\"Square\",AN$1,IF(OR(AND(ODD($A7)=$A7,ODD(AN$2)=AN$2),AND(EVEN($A7)=$A7,EVEN(AN$2)=AN$2)),AN$1,-100))","v":703.125},{"$f":"IF('Ceiling Speaker Calculator'!$C$29=\"Square\",AO$1,IF(OR(AND(ODD($A7)=$A7,ODD(AO$2)=AO$2),AND(EVEN($A7)=$A7,EVEN(AO$2)=AO$2)),AO$1,-100))","v":721.875},{"$f":"IF('Ceiling Speaker Calculator'!$C$29=\"Square\",AP$1,IF(OR(AND(ODD($A7)=$A7,ODD(AP$2)=AP$2),AND(EVEN($A7)=$A7,EVEN(AP$2)=AP$2)),AP$1,-100))","v":740.625},{"$f":"IF('Ceiling Speaker Calculator'!$C$29=\"Square\",AQ$1,IF(OR(AND(ODD($A7)=$A7,ODD(AQ$2)=AQ$2),AND(EVEN($A7)=$A7,EVEN(AQ$2)=AQ$2)),AQ$1,-100))","v":759.375},{"$f":"IF('Ceiling Speaker Calculator'!$C$29=\"Square\",AR$1,IF(OR(AND(ODD($A7)=$A7,ODD(AR$2)=AR$2),AND(EVEN($A7)=$A7,EVEN(AR$2)=AR$2)),AR$1,-100))","v":778.125},{"$f":"IF('Ceiling Speaker Calculator'!$C$29=\"Square\",AS$1,IF(OR(AND(ODD($A7)=$A7,ODD(AS$2)=AS$2),AND(EVEN($A7)=$A7,EVEN(AS$2)=AS$2)),AS$1,-100))","v":796.875},{"$f":"IF('Ceiling Speaker Calculator'!$C$29=\"Square\",AT$1,IF(OR(AND(ODD($A7)=$A7,ODD(AT$2)=AT$2),AND(EVEN($A7)=$A7,EVEN(AT$2)=AT$2)),AT$1,-100))","v":815.625},{"$f":"IF('Ceiling Speaker Calculator'!$C$29=\"Square\",AU$1,IF(OR(AND(ODD($A7)=$A7,ODD(AU$2)=AU$2),AND(EVEN($A7)=$A7,EVEN(AU$2)=AU$2)),AU$1,-100))","v":834.375},{"$f":"IF('Ceiling Speaker Calculator'!$C$29=\"Square\",AV$1,IF(OR(AND(ODD($A7)=$A7,ODD(AV$2)=AV$2),AND(EVEN($A7)=$A7,EVEN(AV$2)=AV$2)),AV$1,-100))","v":853.125},{"$f":"IF('Ceiling Speaker Calculator'!$C$29=\"Square\",AW$1,IF(OR(AND(ODD($A7)=$A7,ODD(AW$2)=AW$2),AND(EVEN($A7)=$A7,EVEN(AW$2)=AW$2)),AW$1,-100))","v":871.875},{"$f":"IF('Ceiling Speaker Calculator'!$C$29=\"Square\",AX$1,IF(OR(AND(ODD($A7)=$A7,ODD(AX$2)=AX$2),AND(EVEN($A7)=$A7,EVEN(AX$2)=AX$2)),AX$1,-100))","v":890.625},{"$f":"IF('Ceiling Speaker Calculator'!$C$29=\"Square\",AY$1,IF(OR(AND(ODD($A7)=$A7,ODD(AY$2)=AY$2),AND(EVEN($A7)=$A7,EVEN(AY$2)=AY$2)),AY$1,-100))","v":909.375},{"$f":"IF('Ceiling Speaker Calculator'!$C$29=\"Square\",AZ$1,IF(OR(AND(ODD($A7)=$A7,ODD(AZ$2)=AZ$2),AND(EVEN($A7)=$A7,EVEN(AZ$2)=AZ$2)),AZ$1,-100))","v":928.125},{"$f":"IF('Ceiling Speaker Calculator'!$C$29=\"Square\",BA$1,IF(OR(AND(ODD($A7)=$A7,ODD(BA$2)=BA$2),AND(EVEN($A7)=$A7,EVEN(BA$2)=BA$2)),BA$1,-100))","v":946.875},{"$f":"IF('Ceiling Speaker Calculator'!$C$29=\"Square\",BB$1,IF(OR(AND(ODD($A7)=$A7,ODD(BB$2)=BB$2),AND(EVEN($A7)=$A7,EVEN(BB$2)=BB$2)),BB$1,-100))","v":965.625},{"$f":"IF('Ceiling Speaker Calculator'!$C$29=\"Square\",BC$1,IF(OR(AND(ODD($A7)=$A7,ODD(BC$2)=BC$2),AND(EVEN($A7)=$A7,EVEN(BC$2)=BC$2)),BC$1,-100))","v":984.375},{"$f":"IF('Ceiling Speaker Calculator'!$C$29=\"Square\",BD$1,IF(OR(AND(ODD($A7)=$A7,ODD(BD$2)=BD$2),AND(EVEN($A7)=$A7,EVEN(BD$2)=BD$2)),BD$1,-100))","v":1003.125},{"$f":"IF('Ceiling Speaker Calculator'!$C$29=\"Square\",BE$1,IF(OR(AND(ODD($A7)=$A7,ODD(BE$2)=BE$2),AND(EVEN($A7)=$A7,EVEN(BE$2)=BE$2)),BE$1,-100))","v":1021.875},{"$f":"IF('Ceiling Speaker Calculator'!$C$29=\"Square\",BF$1,IF(OR(AND(ODD($A7)=$A7,ODD(BF$2)=BF$2),AND(EVEN($A7)=$A7,EVEN(BF$2)=BF$2)),BF$1,-100))","v":1040.625},{"$f":"IF('Ceiling Speaker Calculator'!$C$29=\"Square\",BG$1,IF(OR(AND(ODD($A7)=$A7,ODD(BG$2)=BG$2),AND(EVEN($A7)=$A7,EVEN(BG$2)=BG$2)),BG$1,-100))","v":1059.375},{"$f":"IF('Ceiling Speaker Calculator'!$C$29=\"Square\",BH$1,IF(OR(AND(ODD($A7)=$A7,ODD(BH$2)=BH$2),AND(EVEN($A7)=$A7,EVEN(BH$2)=BH$2)),BH$1,-100))","v":1078.125},{"$f":"IF('Ceiling Speaker Calculator'!$C$29=\"Square\",BI$1,IF(OR(AND(ODD($A7)=$A7,ODD(BI$2)=BI$2),AND(EVEN($A7)=$A7,EVEN(BI$2)=BI$2)),BI$1,-100))","v":1096.875},{"$f":"IF('Ceiling Speaker Calculator'!$C$29=\"Square\",BJ$1,IF(OR(AND(ODD($A7)=$A7,ODD(BJ$2)=BJ$2),AND(EVEN($A7)=$A7,EVEN(BJ$2)=BJ$2)),BJ$1,-100))","v":1115.625},{"$f":"IF('Ceiling Speaker Calculator'!$C$29=\"Square\",BK$1,IF(OR(AND(ODD($A7)=$A7,ODD(BK$2)=BK$2),AND(EVEN($A7)=$A7,EVEN(BK$2)=BK$2)),BK$1,-100))","v":1134.375},{"$f":"IF('Ceiling Speaker Calculator'!$C$29=\"Square\",BL$1,IF(OR(AND(ODD($A7)=$A7,ODD(BL$2)=BL$2),AND(EVEN($A7)=$A7,EVEN(BL$2)=BL$2)),BL$1,-100))","v":1153.125},{"$f":"IF('Ceiling Speaker Calculator'!$C$29=\"Square\",BM$1,IF(OR(AND(ODD($A7)=$A7,ODD(BM$2)=BM$2),AND(EVEN($A7)=$A7,EVEN(BM$2)=BM$2)),BM$1,-100))","v":1171.875},{"$f":"IF('Ceiling Speaker Calculator'!$C$29=\"Square\",BN$1,IF(OR(AND(ODD($A7)=$A7,ODD(BN$2)=BN$2),AND(EVEN($A7)=$A7,EVEN(BN$2)=BN$2)),BN$1,-100))","v":1190.625},{"$f":"IF('Ceiling Speaker Calculator'!$C$29=\"Square\",BO$1,IF(OR(AND(ODD($A7)=$A7,ODD(BO$2)=BO$2),AND(EVEN($A7)=$A7,EVEN(BO$2)=BO$2)),BO$1,-100))","v":1209.375},{"$f":"IF('Ceiling Speaker Calculator'!$C$29=\"Square\",BP$1,IF(OR(AND(ODD($A7)=$A7,ODD(BP$2)=BP$2),AND(EVEN($A7)=$A7,EVEN(BP$2)=BP$2)),BP$1,-100))","v":1228.125},{"$f":"IF('Ceiling Speaker Calculator'!$C$29=\"Square\",BQ$1,IF(OR(AND(ODD($A7)=$A7,ODD(BQ$2)=BQ$2),AND(EVEN($A7)=$A7,EVEN(BQ$2)=BQ$2)),BQ$1,-100))","v":1246.875},{"$f":"IF('Ceiling Speaker Calculator'!$C$29=\"Square\",BR$1,IF(OR(AND(ODD($A7)=$A7,ODD(BR$2)=BR$2),AND(EVEN($A7)=$A7,EVEN(BR$2)=BR$2)),BR$1,-100))","v":1265.625},{"$f":"IF('Ceiling Speaker Calculator'!$C$29=\"Square\",BS$1,IF(OR(AND(ODD($A7)=$A7,ODD(BS$2)=BS$2),AND(EVEN($A7)=$A7,EVEN(BS$2)=BS$2)),BS$1,-100))","v":1284.375},{"$f":"IF('Ceiling Speaker Calculator'!$C$29=\"Square\",BT$1,IF(OR(AND(ODD($A7)=$A7,ODD(BT$2)=BT$2),AND(EVEN($A7)=$A7,EVEN(BT$2)=BT$2)),BT$1,-100))","v":1303.125},{"$f":"IF('Ceiling Speaker Calculator'!$C$29=\"Square\",BU$1,IF(OR(AND(ODD($A7)=$A7,ODD(BU$2)=BU$2),AND(EVEN($A7)=$A7,EVEN(BU$2)=BU$2)),BU$1,-100))","v":1321.875},{"$f":"IF('Ceiling Speaker Calculator'!$C$29=\"Square\",BV$1,IF(OR(AND(ODD($A7)=$A7,ODD(BV$2)=BV$2),AND(EVEN($A7)=$A7,EVEN(BV$2)=BV$2)),BV$1,-100))","v":1340.625},{"$f":"IF('Ceiling Speaker Calculator'!$C$29=\"Square\",BW$1,IF(OR(AND(ODD($A7)=$A7,ODD(BW$2)=BW$2),AND(EVEN($A7)=$A7,EVEN(BW$2)=BW$2)),BW$1,-100))","v":1359.375},{"$f":"IF('Ceiling Speaker Calculator'!$C$29=\"Square\",BX$1,IF(OR(AND(ODD($A7)=$A7,ODD(BX$2)=BX$2),AND(EVEN($A7)=$A7,EVEN(BX$2)=BX$2)),BX$1,-100))","v":1378.125},{"$f":"IF('Ceiling Speaker Calculator'!$C$29=\"Square\",BY$1,IF(OR(AND(ODD($A7)=$A7,ODD(BY$2)=BY$2),AND(EVEN($A7)=$A7,EVEN(BY$2)=BY$2)),BY$1,-100))","v":1396.875},{"$f":"IF('Ceiling Speaker Calculator'!$C$29=\"Square\",BZ$1,IF(OR(AND(ODD($A7)=$A7,ODD(BZ$2)=BZ$2),AND(EVEN($A7)=$A7,EVEN(BZ$2)=BZ$2)),BZ$1,-100))","v":1415.625},{"$f":"IF('Ceiling Speaker Calculator'!$C$29=\"Square\",CA$1,IF(OR(AND(ODD($A7)=$A7,ODD(CA$2)=CA$2),AND(EVEN($A7)=$A7,EVEN(CA$2)=CA$2)),CA$1,-100))","v":1434.375},{"$f":"IF('Ceiling Speaker Calculator'!$C$29=\"Square\",CB$1,IF(OR(AND(ODD($A7)=$A7,ODD(CB$2)=CB$2),AND(EVEN($A7)=$A7,EVEN(CB$2)=CB$2)),CB$1,-100))","v":1453.125},{"$f":"IF('Ceiling Speaker Calculator'!$C$29=\"Square\",CC$1,IF(OR(AND(ODD($A7)=$A7,ODD(CC$2)=CC$2),AND(EVEN($A7)=$A7,EVEN(CC$2)=CC$2)),CC$1,-100))","v":1471.875},{"$f":"IF('Ceiling Speaker Calculator'!$C$29=\"Square\",CD$1,IF(OR(AND(ODD($A7)=$A7,ODD(CD$2)=CD$2),AND(EVEN($A7)=$A7,EVEN(CD$2)=CD$2)),CD$1,-100))","v":1490.625},{"$f":"IF('Ceiling Speaker Calculator'!$C$29=\"Square\",CE$1,IF(OR(AND(ODD($A7)=$A7,ODD(CE$2)=CE$2),AND(EVEN($A7)=$A7,EVEN(CE$2)=CE$2)),CE$1,-100))","v":1509.375},{"$f":"IF('Ceiling Speaker Calculator'!$C$29=\"Square\",CF$1,IF(OR(AND(ODD($A7)=$A7,ODD(CF$2)=CF$2),AND(EVEN($A7)=$A7,EVEN(CF$2)=CF$2)),CF$1,-100))","v":1528.125},{"$f":"IF('Ceiling Speaker Calculator'!$C$29=\"Square\",CG$1,IF(OR(AND(ODD($A7)=$A7,ODD(CG$2)=CG$2),AND(EVEN($A7)=$A7,EVEN(CG$2)=CG$2)),CG$1,-100))","v":1546.875},{"$f":"IF('Ceiling Speaker Calculator'!$C$29=\"Square\",CH$1,IF(OR(AND(ODD($A7)=$A7,ODD(CH$2)=CH$2),AND(EVEN($A7)=$A7,EVEN(CH$2)=CH$2)),CH$1,-100))","v":1565.625},{"$f":"IF('Ceiling Speaker Calculator'!$C$29=\"Square\",CI$1,IF(OR(AND(ODD($A7)=$A7,ODD(CI$2)=CI$2),AND(EVEN($A7)=$A7,EVEN(CI$2)=CI$2)),CI$1,-100))","v":1584.375},{"$f":"IF('Ceiling Speaker Calculator'!$C$29=\"Square\",CJ$1,IF(OR(AND(ODD($A7)=$A7,ODD(CJ$2)=CJ$2),AND(EVEN($A7)=$A7,EVEN(CJ$2)=CJ$2)),CJ$1,-100))","v":1603.125},{"$f":"IF('Ceiling Speaker Calculator'!$C$29=\"Square\",CK$1,IF(OR(AND(ODD($A7)=$A7,ODD(CK$2)=CK$2),AND(EVEN($A7)=$A7,EVEN(CK$2)=CK$2)),CK$1,-100))","v":1621.875},{"$f":"IF('Ceiling Speaker Calculator'!$C$29=\"Square\",CL$1,IF(OR(AND(ODD($A7)=$A7,ODD(CL$2)=CL$2),AND(EVEN($A7)=$A7,EVEN(CL$2)=CL$2)),CL$1,-100))","v":1640.625},{"$f":"IF('Ceiling Speaker Calculator'!$C$29=\"Square\",CM$1,IF(OR(AND(ODD($A7)=$A7,ODD(CM$2)=CM$2),AND(EVEN($A7)=$A7,EVEN(CM$2)=CM$2)),CM$1,-100))","v":1659.375},{"$f":"IF('Ceiling Speaker Calculator'!$C$29=\"Square\",CN$1,IF(OR(AND(ODD($A7)=$A7,ODD(CN$2)=CN$2),AND(EVEN($A7)=$A7,EVEN(CN$2)=CN$2)),CN$1,-100))","v":1678.125},{"$f":"IF('Ceiling Speaker Calculator'!$C$29=\"Square\",CO$1,IF(OR(AND(ODD($A7)=$A7,ODD(CO$2)=CO$2),AND(EVEN($A7)=$A7,EVEN(CO$2)=CO$2)),CO$1,-100))","v":1696.875},{"$f":"IF('Ceiling Speaker Calculator'!$C$29=\"Square\",CP$1,IF(OR(AND(ODD($A7)=$A7,ODD(CP$2)=CP$2),AND(EVEN($A7)=$A7,EVEN(CP$2)=CP$2)),CP$1,-100))","v":1715.625},{"$f":"IF('Ceiling Speaker Calculator'!$C$29=\"Square\",CQ$1,IF(OR(AND(ODD($A7)=$A7,ODD(CQ$2)=CQ$2),AND(EVEN($A7)=$A7,EVEN(CQ$2)=CQ$2)),CQ$1,-100))","v":1734.375},{"$f":"IF('Ceiling Speaker Calculator'!$C$29=\"Square\",CR$1,IF(OR(AND(ODD($A7)=$A7,ODD(CR$2)=CR$2),AND(EVEN($A7)=$A7,EVEN(CR$2)=CR$2)),CR$1,-100))","v":1753.125},{"$f":"IF('Ceiling Speaker Calculator'!$C$29=\"Square\",CS$1,IF(OR(AND(ODD($A7)=$A7,ODD(CS$2)=CS$2),AND(EVEN($A7)=$A7,EVEN(CS$2)=CS$2)),CS$1,-100))","v":1771.875},{"$f":"IF('Ceiling Speaker Calculator'!$C$29=\"Square\",CT$1,IF(OR(AND(ODD($A7)=$A7,ODD(CT$2)=CT$2),AND(EVEN($A7)=$A7,EVEN(CT$2)=CT$2)),CT$1,-100))","v":1790.625},{"$f":"IF('Ceiling Speaker Calculator'!$C$29=\"Square\",CU$1,IF(OR(AND(ODD($A7)=$A7,ODD(CU$2)=CU$2),AND(EVEN($A7)=$A7,EVEN(CU$2)=CU$2)),CU$1,-100))","v":1809.375},{"$f":"IF('Ceiling Speaker Calculator'!$C$29=\"Square\",CV$1,IF(OR(AND(ODD($A7)=$A7,ODD(CV$2)=CV$2),AND(EVEN($A7)=$A7,EVEN(CV$2)=CV$2)),CV$1,-100))","v":1828.125},{"$f":"IF('Ceiling Speaker Calculator'!$C$29=\"Square\",CW$1,IF(OR(AND(ODD($A7)=$A7,ODD(CW$2)=CW$2),AND(EVEN($A7)=$A7,EVEN(CW$2)=CW$2)),CW$1,-100))","v":1846.875},{"$f":"IF('Ceiling Speaker Calculator'!$C$29=\"Square\",CX$1,IF(OR(AND(ODD($A7)=$A7,ODD(CX$2)=CX$2),AND(EVEN($A7)=$A7,EVEN(CX$2)=CX$2)),CX$1,-100))","v":1865.625}]
[6,{"$f":"B7+'Ceiling Speaker Calculator'!$K$16","v":110},{"$f":"IF('Ceiling Speaker Calculator'!$C$29=\"Square\",C$1,IF(OR(AND(ODD($A8)=$A8,ODD(C$2)=C$2),AND(EVEN($A8)=$A8,EVEN(C$2)=C$2)),C$1,-100))","v":9.375},{"$f":"IF('Ceiling Speaker Calculator'!$C$29=\"Square\",D$1,IF(OR(AND(ODD($A8)=$A8,ODD(D$2)=D$2),AND(EVEN($A8)=$A8,EVEN(D$2)=D$2)),D$1,-100))","v":28.125},{"$f":"IF('Ceiling Speaker Calculator'!$C$29=\"Square\",E$1,IF(OR(AND(ODD($A8)=$A8,ODD(E$2)=E$2),AND(EVEN($A8)=$A8,EVEN(E$2)=E$2)),E$1,-100))","v":46.875},{"$f":"IF('Ceiling Speaker Calculator'!$C$29=\"Square\",F$1,IF(OR(AND(ODD($A8)=$A8,ODD(F$2)=F$2),AND(EVEN($A8)=$A8,EVEN(F$2)=F$2)),F$1,-100))","v":65.625},{"$f":"IF('Ceiling Speaker Calculator'!$C$29=\"Square\",G$1,IF(OR(AND(ODD($A8)=$A8,ODD(G$2)=G$2),AND(EVEN($A8)=$A8,EVEN(G$2)=G$2)),G$1,-100))","v":84.375},{"$f":"IF('Ceiling Speaker Calculator'!$C$29=\"Square\",H$1,IF(OR(AND(ODD($A8)=$A8,ODD(H$2)=H$2),AND(EVEN($A8)=$A8,EVEN(H$2)=H$2)),H$1,-100))","v":103.125},{"$f":"IF('Ceiling Speaker Calculator'!$C$29=\"Square\",I$1,IF(OR(AND(ODD($A8)=$A8,ODD(I$2)=I$2),AND(EVEN($A8)=$A8,EVEN(I$2)=I$2)),I$1,-100))","v":121.875},{"$f":"IF('Ceiling Speaker Calculator'!$C$29=\"Square\",J$1,IF(OR(AND(ODD($A8)=$A8,ODD(J$2)=J$2),AND(EVEN($A8)=$A8,EVEN(J$2)=J$2)),J$1,-100))","v":140.625},{"$f":"IF('Ceiling Speaker Calculator'!$C$29=\"Square\",K$1,IF(OR(AND(ODD($A8)=$A8,ODD(K$2)=K$2),AND(EVEN($A8)=$A8,EVEN(K$2)=K$2)),K$1,-100))","v":159.375},{"$f":"IF('Ceiling Speaker Calculator'!$C$29=\"Square\",L$1,IF(OR(AND(ODD($A8)=$A8,ODD(L$2)=L$2),AND(EVEN($A8)=$A8,EVEN(L$2)=L$2)),L$1,-100))","v":178.125},{"$f":"IF('Ceiling Speaker Calculator'!$C$29=\"Square\",M$1,IF(OR(AND(ODD($A8)=$A8,ODD(M$2)=M$2),AND(EVEN($A8)=$A8,EVEN(M$2)=M$2)),M$1,-100))","v":196.875},{"$f":"IF('Ceiling Speaker Calculator'!$C$29=\"Square\",N$1,IF(OR(AND(ODD($A8)=$A8,ODD(N$2)=N$2),AND(EVEN($A8)=$A8,EVEN(N$2)=N$2)),N$1,-100))","v":215.625},{"$f":"IF('Ceiling Speaker Calculator'!$C$29=\"Square\",O$1,IF(OR(AND(ODD($A8)=$A8,ODD(O$2)=O$2),AND(EVEN($A8)=$A8,EVEN(O$2)=O$2)),O$1,-100))","v":234.375},{"$f":"IF('Ceiling Speaker Calculator'!$C$29=\"Square\",P$1,IF(OR(AND(ODD($A8)=$A8,ODD(P$2)=P$2),AND(EVEN($A8)=$A8,EVEN(P$2)=P$2)),P$1,-100))","v":253.125},{"$f":"IF('Ceiling Speaker Calculator'!$C$29=\"Square\",Q$1,IF(OR(AND(ODD($A8)=$A8,ODD(Q$2)=Q$2),AND(EVEN($A8)=$A8,EVEN(Q$2)=Q$2)),Q$1,-100))","v":271.875},{"$f":"IF('Ceiling Speaker Calculator'!$C$29=\"Square\",R$1,IF(OR(AND(ODD($A8)=$A8,ODD(R$2)=R$2),AND(EVEN($A8)=$A8,EVEN(R$2)=R$2)),R$1,-100))","v":290.625},{"$f":"IF('Ceiling Speaker Calculator'!$C$29=\"Square\",S$1,IF(OR(AND(ODD($A8)=$A8,ODD(S$2)=S$2),AND(EVEN($A8)=$A8,EVEN(S$2)=S$2)),S$1,-100))","v":309.375},{"$f":"IF('Ceiling Speaker Calculator'!$C$29=\"Square\",T$1,IF(OR(AND(ODD($A8)=$A8,ODD(T$2)=T$2),AND(EVEN($A8)=$A8,EVEN(T$2)=T$2)),T$1,-100))","v":328.125},{"$f":"IF('Ceiling Speaker Calculator'!$C$29=\"Square\",U$1,IF(OR(AND(ODD($A8)=$A8,ODD(U$2)=U$2),AND(EVEN($A8)=$A8,EVEN(U$2)=U$2)),U$1,-100))","v":346.875},{"$f":"IF('Ceiling Speaker Calculator'!$C$29=\"Square\",V$1,IF(OR(AND(ODD($A8)=$A8,ODD(V$2)=V$2),AND(EVEN($A8)=$A8,EVEN(V$2)=V$2)),V$1,-100))","v":365.625},{"$f":"IF('Ceiling Speaker Calculator'!$C$29=\"Square\",W$1,IF(OR(AND(ODD($A8)=$A8,ODD(W$2)=W$2),AND(EVEN($A8)=$A8,EVEN(W$2)=W$2)),W$1,-100))","v":384.375},{"$f":"IF('Ceiling Speaker Calculator'!$C$29=\"Square\",X$1,IF(OR(AND(ODD($A8)=$A8,ODD(X$2)=X$2),AND(EVEN($A8)=$A8,EVEN(X$2)=X$2)),X$1,-100))","v":403.125},{"$f":"IF('Ceiling Speaker Calculator'!$C$29=\"Square\",Y$1,IF(OR(AND(ODD($A8)=$A8,ODD(Y$2)=Y$2),AND(EVEN($A8)=$A8,EVEN(Y$2)=Y$2)),Y$1,-100))","v":421.875},{"$f":"IF('Ceiling Speaker Calculator'!$C$29=\"Square\",Z$1,IF(OR(AND(ODD($A8)=$A8,ODD(Z$2)=Z$2),AND(EVEN($A8)=$A8,EVEN(Z$2)=Z$2)),Z$1,-100))","v":440.625},{"$f":"IF('Ceiling Speaker Calculator'!$C$29=\"Square\",AA$1,IF(OR(AND(ODD($A8)=$A8,ODD(AA$2)=AA$2),AND(EVEN($A8)=$A8,EVEN(AA$2)=AA$2)),AA$1,-100))","v":459.375},{"$f":"IF('Ceiling Speaker Calculator'!$C$29=\"Square\",AB$1,IF(OR(AND(ODD($A8)=$A8,ODD(AB$2)=AB$2),AND(EVEN($A8)=$A8,EVEN(AB$2)=AB$2)),AB$1,-100))","v":478.125},{"$f":"IF('Ceiling Speaker Calculator'!$C$29=\"Square\",AC$1,IF(OR(AND(ODD($A8)=$A8,ODD(AC$2)=AC$2),AND(EVEN($A8)=$A8,EVEN(AC$2)=AC$2)),AC$1,-100))","v":496.875},{"$f":"IF('Ceiling Speaker Calculator'!$C$29=\"Square\",AD$1,IF(OR(AND(ODD($A8)=$A8,ODD(AD$2)=AD$2),AND(EVEN($A8)=$A8,EVEN(AD$2)=AD$2)),AD$1,-100))","v":515.625},{"$f":"IF('Ceiling Speaker Calculator'!$C$29=\"Square\",AE$1,IF(OR(AND(ODD($A8)=$A8,ODD(AE$2)=AE$2),AND(EVEN($A8)=$A8,EVEN(AE$2)=AE$2)),AE$1,-100))","v":534.375},{"$f":"IF('Ceiling Speaker Calculator'!$C$29=\"Square\",AF$1,IF(OR(AND(ODD($A8)=$A8,ODD(AF$2)=AF$2),AND(EVEN($A8)=$A8,EVEN(AF$2)=AF$2)),AF$1,-100))","v":553.125},{"$f":"IF('Ceiling Speaker Calculator'!$C$29=\"Square\",AG$1,IF(OR(AND(ODD($A8)=$A8,ODD(AG$2)=AG$2),AND(EVEN($A8)=$A8,EVEN(AG$2)=AG$2)),AG$1,-100))","v":571.875},{"$f":"IF('Ceiling Speaker Calculator'!$C$29=\"Square\",AH$1,IF(OR(AND(ODD($A8)=$A8,ODD(AH$2)=AH$2),AND(EVEN($A8)=$A8,EVEN(AH$2)=AH$2)),AH$1,-100))","v":590.625},{"$f":"IF('Ceiling Speaker Calculator'!$C$29=\"Square\",AI$1,IF(OR(AND(ODD($A8)=$A8,ODD(AI$2)=AI$2),AND(EVEN($A8)=$A8,EVEN(AI$2)=AI$2)),AI$1,-100))","v":609.375},{"$f":"IF('Ceiling Speaker Calculator'!$C$29=\"Square\",AJ$1,IF(OR(AND(ODD($A8)=$A8,ODD(AJ$2)=AJ$2),AND(EVEN($A8)=$A8,EVEN(AJ$2)=AJ$2)),AJ$1,-100))","v":628.125},{"$f":"IF('Ceiling Speaker Calculator'!$C$29=\"Square\",AK$1,IF(OR(AND(ODD($A8)=$A8,ODD(AK$2)=AK$2),AND(EVEN($A8)=$A8,EVEN(AK$2)=AK$2)),AK$1,-100))","v":646.875},{"$f":"IF('Ceiling Speaker Calculator'!$C$29=\"Square\",AL$1,IF(OR(AND(ODD($A8)=$A8,ODD(AL$2)=AL$2),AND(EVEN($A8)=$A8,EVEN(AL$2)=AL$2)),AL$1,-100))","v":665.625},{"$f":"IF('Ceiling Speaker Calculator'!$C$29=\"Square\",AM$1,IF(OR(AND(ODD($A8)=$A8,ODD(AM$2)=AM$2),AND(EVEN($A8)=$A8,EVEN(AM$2)=AM$2)),AM$1,-100))","v":684.375},{"$f":"IF('Ceiling Speaker Calculator'!$C$29=\"Square\",AN$1,IF(OR(AND(ODD($A8)=$A8,ODD(AN$2)=AN$2),AND(EVEN($A8)=$A8,EVEN(AN$2)=AN$2)),AN$1,-100))","v":703.125},{"$f":"IF('Ceiling Speaker Calculator'!$C$29=\"Square\",AO$1,IF(OR(AND(ODD($A8)=$A8,ODD(AO$2)=AO$2),AND(EVEN($A8)=$A8,EVEN(AO$2)=AO$2)),AO$1,-100))","v":721.875},{"$f":"IF('Ceiling Speaker Calculator'!$C$29=\"Square\",AP$1,IF(OR(AND(ODD($A8)=$A8,ODD(AP$2)=AP$2),AND(EVEN($A8)=$A8,EVEN(AP$2)=AP$2)),AP$1,-100))","v":740.625},{"$f":"IF('Ceiling Speaker Calculator'!$C$29=\"Square\",AQ$1,IF(OR(AND(ODD($A8)=$A8,ODD(AQ$2)=AQ$2),AND(EVEN($A8)=$A8,EVEN(AQ$2)=AQ$2)),AQ$1,-100))","v":759.375},{"$f":"IF('Ceiling Speaker Calculator'!$C$29=\"Square\",AR$1,IF(OR(AND(ODD($A8)=$A8,ODD(AR$2)=AR$2),AND(EVEN($A8)=$A8,EVEN(AR$2)=AR$2)),AR$1,-100))","v":778.125},{"$f":"IF('Ceiling Speaker Calculator'!$C$29=\"Square\",AS$1,IF(OR(AND(ODD($A8)=$A8,ODD(AS$2)=AS$2),AND(EVEN($A8)=$A8,EVEN(AS$2)=AS$2)),AS$1,-100))","v":796.875},{"$f":"IF('Ceiling Speaker Calculator'!$C$29=\"Square\",AT$1,IF(OR(AND(ODD($A8)=$A8,ODD(AT$2)=AT$2),AND(EVEN($A8)=$A8,EVEN(AT$2)=AT$2)),AT$1,-100))","v":815.625},{"$f":"IF('Ceiling Speaker Calculator'!$C$29=\"Square\",AU$1,IF(OR(AND(ODD($A8)=$A8,ODD(AU$2)=AU$2),AND(EVEN($A8)=$A8,EVEN(AU$2)=AU$2)),AU$1,-100))","v":834.375},{"$f":"IF('Ceiling Speaker Calculator'!$C$29=\"Square\",AV$1,IF(OR(AND(ODD($A8)=$A8,ODD(AV$2)=AV$2),AND(EVEN($A8)=$A8,EVEN(AV$2)=AV$2)),AV$1,-100))","v":853.125},{"$f":"IF('Ceiling Speaker Calculator'!$C$29=\"Square\",AW$1,IF(OR(AND(ODD($A8)=$A8,ODD(AW$2)=AW$2),AND(EVEN($A8)=$A8,EVEN(AW$2)=AW$2)),AW$1,-100))","v":871.875},{"$f":"IF('Ceiling Speaker Calculator'!$C$29=\"Square\",AX$1,IF(OR(AND(ODD($A8)=$A8,ODD(AX$2)=AX$2),AND(EVEN($A8)=$A8,EVEN(AX$2)=AX$2)),AX$1,-100))","v":890.625},{"$f":"IF('Ceiling Speaker Calculator'!$C$29=\"Square\",AY$1,IF(OR(AND(ODD($A8)=$A8,ODD(AY$2)=AY$2),AND(EVEN($A8)=$A8,EVEN(AY$2)=AY$2)),AY$1,-100))","v":909.375},{"$f":"IF('Ceiling Speaker Calculator'!$C$29=\"Square\",AZ$1,IF(OR(AND(ODD($A8)=$A8,ODD(AZ$2)=AZ$2),AND(EVEN($A8)=$A8,EVEN(AZ$2)=AZ$2)),AZ$1,-100))","v":928.125},{"$f":"IF('Ceiling Speaker Calculator'!$C$29=\"Square\",BA$1,IF(OR(AND(ODD($A8)=$A8,ODD(BA$2)=BA$2),AND(EVEN($A8)=$A8,EVEN(BA$2)=BA$2)),BA$1,-100))","v":946.875},{"$f":"IF('Ceiling Speaker Calculator'!$C$29=\"Square\",BB$1,IF(OR(AND(ODD($A8)=$A8,ODD(BB$2)=BB$2),AND(EVEN($A8)=$A8,EVEN(BB$2)=BB$2)),BB$1,-100))","v":965.625},{"$f":"IF('Ceiling Speaker Calculator'!$C$29=\"Square\",BC$1,IF(OR(AND(ODD($A8)=$A8,ODD(BC$2)=BC$2),AND(EVEN($A8)=$A8,EVEN(BC$2)=BC$2)),BC$1,-100))","v":984.375},{"$f":"IF('Ceiling Speaker Calculator'!$C$29=\"Square\",BD$1,IF(OR(AND(ODD($A8)=$A8,ODD(BD$2)=BD$2),AND(EVEN($A8)=$A8,EVEN(BD$2)=BD$2)),BD$1,-100))","v":1003.125},{"$f":"IF('Ceiling Speaker Calculator'!$C$29=\"Square\",BE$1,IF(OR(AND(ODD($A8)=$A8,ODD(BE$2)=BE$2),AND(EVEN($A8)=$A8,EVEN(BE$2)=BE$2)),BE$1,-100))","v":1021.875},{"$f":"IF('Ceiling Speaker Calculator'!$C$29=\"Square\",BF$1,IF(OR(AND(ODD($A8)=$A8,ODD(BF$2)=BF$2),AND(EVEN($A8)=$A8,EVEN(BF$2)=BF$2)),BF$1,-100))","v":1040.625},{"$f":"IF('Ceiling Speaker Calculator'!$C$29=\"Square\",BG$1,IF(OR(AND(ODD($A8)=$A8,ODD(BG$2)=BG$2),AND(EVEN($A8)=$A8,EVEN(BG$2)=BG$2)),BG$1,-100))","v":1059.375},{"$f":"IF('Ceiling Speaker Calculator'!$C$29=\"Square\",BH$1,IF(OR(AND(ODD($A8)=$A8,ODD(BH$2)=BH$2),AND(EVEN($A8)=$A8,EVEN(BH$2)=BH$2)),BH$1,-100))","v":1078.125},{"$f":"IF('Ceiling Speaker Calculator'!$C$29=\"Square\",BI$1,IF(OR(AND(ODD($A8)=$A8,ODD(BI$2)=BI$2),AND(EVEN($A8)=$A8,EVEN(BI$2)=BI$2)),BI$1,-100))","v":1096.875},{"$f":"IF('Ceiling Speaker Calculator'!$C$29=\"Square\",BJ$1,IF(OR(AND(ODD($A8)=$A8,ODD(BJ$2)=BJ$2),AND(EVEN($A8)=$A8,EVEN(BJ$2)=BJ$2)),BJ$1,-100))","v":1115.625},{"$f":"IF('Ceiling Speaker Calculator'!$C$29=\"Square\",BK$1,IF(OR(AND(ODD($A8)=$A8,ODD(BK$2)=BK$2),AND(EVEN($A8)=$A8,EVEN(BK$2)=BK$2)),BK$1,-100))","v":1134.375},{"$f":"IF('Ceiling Speaker Calculator'!$C$29=\"Square\",BL$1,IF(OR(AND(ODD($A8)=$A8,ODD(BL$2)=BL$2),AND(EVEN($A8)=$A8,EVEN(BL$2)=BL$2)),BL$1,-100))","v":1153.125},{"$f":"IF('Ceiling Speaker Calculator'!$C$29=\"Square\",BM$1,IF(OR(AND(ODD($A8)=$A8,ODD(BM$2)=BM$2),AND(EVEN($A8)=$A8,EVEN(BM$2)=BM$2)),BM$1,-100))","v":1171.875},{"$f":"IF('Ceiling Speaker Calculator'!$C$29=\"Square\",BN$1,IF(OR(AND(ODD($A8)=$A8,ODD(BN$2)=BN$2),AND(EVEN($A8)=$A8,EVEN(BN$2)=BN$2)),BN$1,-100))","v":1190.625},{"$f":"IF('Ceiling Speaker Calculator'!$C$29=\"Square\",BO$1,IF(OR(AND(ODD($A8)=$A8,ODD(BO$2)=BO$2),AND(EVEN($A8)=$A8,EVEN(BO$2)=BO$2)),BO$1,-100))","v":1209.375},{"$f":"IF('Ceiling Speaker Calculator'!$C$29=\"Square\",BP$1,IF(OR(AND(ODD($A8)=$A8,ODD(BP$2)=BP$2),AND(EVEN($A8)=$A8,EVEN(BP$2)=BP$2)),BP$1,-100))","v":1228.125},{"$f":"IF('Ceiling Speaker Calculator'!$C$29=\"Square\",BQ$1,IF(OR(AND(ODD($A8)=$A8,ODD(BQ$2)=BQ$2),AND(EVEN($A8)=$A8,EVEN(BQ$2)=BQ$2)),BQ$1,-100))","v":1246.875},{"$f":"IF('Ceiling Speaker Calculator'!$C$29=\"Square\",BR$1,IF(OR(AND(ODD($A8)=$A8,ODD(BR$2)=BR$2),AND(EVEN($A8)=$A8,EVEN(BR$2)=BR$2)),BR$1,-100))","v":1265.625},{"$f":"IF('Ceiling Speaker Calculator'!$C$29=\"Square\",BS$1,IF(OR(AND(ODD($A8)=$A8,ODD(BS$2)=BS$2),AND(EVEN($A8)=$A8,EVEN(BS$2)=BS$2)),BS$1,-100))","v":1284.375},{"$f":"IF('Ceiling Speaker Calculator'!$C$29=\"Square\",BT$1,IF(OR(AND(ODD($A8)=$A8,ODD(BT$2)=BT$2),AND(EVEN($A8)=$A8,EVEN(BT$2)=BT$2)),BT$1,-100))","v":1303.125},{"$f":"IF('Ceiling Speaker Calculator'!$C$29=\"Square\",BU$1,IF(OR(AND(ODD($A8)=$A8,ODD(BU$2)=BU$2),AND(EVEN($A8)=$A8,EVEN(BU$2)=BU$2)),BU$1,-100))","v":1321.875},{"$f":"IF('Ceiling Speaker Calculator'!$C$29=\"Square\",BV$1,IF(OR(AND(ODD($A8)=$A8,ODD(BV$2)=BV$2),AND(EVEN($A8)=$A8,EVEN(BV$2)=BV$2)),BV$1,-100))","v":1340.625},{"$f":"IF('Ceiling Speaker Calculator'!$C$29=\"Square\",BW$1,IF(OR(AND(ODD($A8)=$A8,ODD(BW$2)=BW$2),AND(EVEN($A8)=$A8,EVEN(BW$2)=BW$2)),BW$1,-100))","v":1359.375},{"$f":"IF('Ceiling Speaker Calculator'!$C$29=\"Square\",BX$1,IF(OR(AND(ODD($A8)=$A8,ODD(BX$2)=BX$2),AND(EVEN($A8)=$A8,EVEN(BX$2)=BX$2)),BX$1,-100))","v":1378.125},{"$f":"IF('Ceiling Speaker Calculator'!$C$29=\"Square\",BY$1,IF(OR(AND(ODD($A8)=$A8,ODD(BY$2)=BY$2),AND(EVEN($A8)=$A8,EVEN(BY$2)=BY$2)),BY$1,-100))","v":1396.875},{"$f":"IF('Ceiling Speaker Calculator'!$C$29=\"Square\",BZ$1,IF(OR(AND(ODD($A8)=$A8,ODD(BZ$2)=BZ$2),AND(EVEN($A8)=$A8,EVEN(BZ$2)=BZ$2)),BZ$1,-100))","v":1415.625},{"$f":"IF('Ceiling Speaker Calculator'!$C$29=\"Square\",CA$1,IF(OR(AND(ODD($A8)=$A8,ODD(CA$2)=CA$2),AND(EVEN($A8)=$A8,EVEN(CA$2)=CA$2)),CA$1,-100))","v":1434.375},{"$f":"IF('Ceiling Speaker Calculator'!$C$29=\"Square\",CB$1,IF(OR(AND(ODD($A8)=$A8,ODD(CB$2)=CB$2),AND(EVEN($A8)=$A8,EVEN(CB$2)=CB$2)),CB$1,-100))","v":1453.125},{"$f":"IF('Ceiling Speaker Calculator'!$C$29=\"Square\",CC$1,IF(OR(AND(ODD($A8)=$A8,ODD(CC$2)=CC$2),AND(EVEN($A8)=$A8,EVEN(CC$2)=CC$2)),CC$1,-100))","v":1471.875},{"$f":"IF('Ceiling Speaker Calculator'!$C$29=\"Square\",CD$1,IF(OR(AND(ODD($A8)=$A8,ODD(CD$2)=CD$2),AND(EVEN($A8)=$A8,EVEN(CD$2)=CD$2)),CD$1,-100))","v":1490.625},{"$f":"IF('Ceiling Speaker Calculator'!$C$29=\"Square\",CE$1,IF(OR(AND(ODD($A8)=$A8,ODD(CE$2)=CE$2),AND(EVEN($A8)=$A8,EVEN(CE$2)=CE$2)),CE$1,-100))","v":1509.375},{"$f":"IF('Ceiling Speaker Calculator'!$C$29=\"Square\",CF$1,IF(OR(AND(ODD($A8)=$A8,ODD(CF$2)=CF$2),AND(EVEN($A8)=$A8,EVEN(CF$2)=CF$2)),CF$1,-100))","v":1528.125},{"$f":"IF('Ceiling Speaker Calculator'!$C$29=\"Square\",CG$1,IF(OR(AND(ODD($A8)=$A8,ODD(CG$2)=CG$2),AND(EVEN($A8)=$A8,EVEN(CG$2)=CG$2)),CG$1,-100))","v":1546.875},{"$f":"IF('Ceiling Speaker Calculator'!$C$29=\"Square\",CH$1,IF(OR(AND(ODD($A8)=$A8,ODD(CH$2)=CH$2),AND(EVEN($A8)=$A8,EVEN(CH$2)=CH$2)),CH$1,-100))","v":1565.625},{"$f":"IF('Ceiling Speaker Calculator'!$C$29=\"Square\",CI$1,IF(OR(AND(ODD($A8)=$A8,ODD(CI$2)=CI$2),AND(EVEN($A8)=$A8,EVEN(CI$2)=CI$2)),CI$1,-100))","v":1584.375},{"$f":"IF('Ceiling Speaker Calculator'!$C$29=\"Square\",CJ$1,IF(OR(AND(ODD($A8)=$A8,ODD(CJ$2)=CJ$2),AND(EVEN($A8)=$A8,EVEN(CJ$2)=CJ$2)),CJ$1,-100))","v":1603.125},{"$f":"IF('Ceiling Speaker Calculator'!$C$29=\"Square\",CK$1,IF(OR(AND(ODD($A8)=$A8,ODD(CK$2)=CK$2),AND(EVEN($A8)=$A8,EVEN(CK$2)=CK$2)),CK$1,-100))","v":1621.875},{"$f":"IF('Ceiling Speaker Calculator'!$C$29=\"Square\",CL$1,IF(OR(AND(ODD($A8)=$A8,ODD(CL$2)=CL$2),AND(EVEN($A8)=$A8,EVEN(CL$2)=CL$2)),CL$1,-100))","v":1640.625},{"$f":"IF('Ceiling Speaker Calculator'!$C$29=\"Square\",CM$1,IF(OR(AND(ODD($A8)=$A8,ODD(CM$2)=CM$2),AND(EVEN($A8)=$A8,EVEN(CM$2)=CM$2)),CM$1,-100))","v":1659.375},{"$f":"IF('Ceiling Speaker Calculator'!$C$29=\"Square\",CN$1,IF(OR(AND(ODD($A8)=$A8,ODD(CN$2)=CN$2),AND(EVEN($A8)=$A8,EVEN(CN$2)=CN$2)),CN$1,-100))","v":1678.125},{"$f":"IF('Ceiling Speaker Calculator'!$C$29=\"Square\",CO$1,IF(OR(AND(ODD($A8)=$A8,ODD(CO$2)=CO$2),AND(EVEN($A8)=$A8,EVEN(CO$2)=CO$2)),CO$1,-100))","v":1696.875},{"$f":"IF('Ceiling Speaker Calculator'!$C$29=\"Square\",CP$1,IF(OR(AND(ODD($A8)=$A8,ODD(CP$2)=CP$2),AND(EVEN($A8)=$A8,EVEN(CP$2)=CP$2)),CP$1,-100))","v":1715.625},{"$f":"IF('Ceiling Speaker Calculator'!$C$29=\"Square\",CQ$1,IF(OR(AND(ODD($A8)=$A8,ODD(CQ$2)=CQ$2),AND(EVEN($A8)=$A8,EVEN(CQ$2)=CQ$2)),CQ$1,-100))","v":1734.375},{"$f":"IF('Ceiling Speaker Calculator'!$C$29=\"Square\",CR$1,IF(OR(AND(ODD($A8)=$A8,ODD(CR$2)=CR$2),AND(EVEN($A8)=$A8,EVEN(CR$2)=CR$2)),CR$1,-100))","v":1753.125},{"$f":"IF('Ceiling Speaker Calculator'!$C$29=\"Square\",CS$1,IF(OR(AND(ODD($A8)=$A8,ODD(CS$2)=CS$2),AND(EVEN($A8)=$A8,EVEN(CS$2)=CS$2)),CS$1,-100))","v":1771.875},{"$f":"IF('Ceiling Speaker Calculator'!$C$29=\"Square\",CT$1,IF(OR(AND(ODD($A8)=$A8,ODD(CT$2)=CT$2),AND(EVEN($A8)=$A8,EVEN(CT$2)=CT$2)),CT$1,-100))","v":1790.625},{"$f":"IF('Ceiling Speaker Calculator'!$C$29=\"Square\",CU$1,IF(OR(AND(ODD($A8)=$A8,ODD(CU$2)=CU$2),AND(EVEN($A8)=$A8,EVEN(CU$2)=CU$2)),CU$1,-100))","v":1809.375},{"$f":"IF('Ceiling Speaker Calculator'!$C$29=\"Square\",CV$1,IF(OR(AND(ODD($A8)=$A8,ODD(CV$2)=CV$2),AND(EVEN($A8)=$A8,EVEN(CV$2)=CV$2)),CV$1,-100))","v":1828.125},{"$f":"IF('Ceiling Speaker Calculator'!$C$29=\"Square\",CW$1,IF(OR(AND(ODD($A8)=$A8,ODD(CW$2)=CW$2),AND(EVEN($A8)=$A8,EVEN(CW$2)=CW$2)),CW$1,-100))","v":1846.875},{"$f":"IF('Ceiling Speaker Calculator'!$C$29=\"Square\",CX$1,IF(OR(AND(ODD($A8)=$A8,ODD(CX$2)=CX$2),AND(EVEN($A8)=$A8,EVEN(CX$2)=CX$2)),CX$1,-100))","v":1865.625}]
[7,{"$f":"B8+'Ceiling Speaker Calculator'!$K$16","v":130},{"$f":"IF('Ceiling Speaker Calculator'!$C$29=\"Square\",C$1,IF(OR(AND(ODD($A9)=$A9,ODD(C$2)=C$2),AND(EVEN($A9)=$A9,EVEN(C$2)=C$2)),C$1,-100))","v":9.375},{"$f":"IF('Ceiling Speaker Calculator'!$C$29=\"Square\",D$1,IF(OR(AND(ODD($A9)=$A9,ODD(D$2)=D$2),AND(EVEN($A9)=$A9,EVEN(D$2)=D$2)),D$1,-100))","v":28.125},{"$f":"IF('Ceiling Speaker Calculator'!$C$29=\"Square\",E$1,IF(OR(AND(ODD($A9)=$A9,ODD(E$2)=E$2),AND(EVEN($A9)=$A9,EVEN(E$2)=E$2)),E$1,-100))","v":46.875},{"$f":"IF('Ceiling Speaker Calculator'!$C$29=\"Square\",F$1,IF(OR(AND(ODD($A9)=$A9,ODD(F$2)=F$2),AND(EVEN($A9)=$A9,EVEN(F$2)=F$2)),F$1,-100))","v":65.625},{"$f":"IF('Ceiling Speaker Calculator'!$C$29=\"Square\",G$1,IF(OR(AND(ODD($A9)=$A9,ODD(G$2)=G$2),AND(EVEN($A9)=$A9,EVEN(G$2)=G$2)),G$1,-100))","v":84.375},{"$f":"IF('Ceiling Speaker Calculator'!$C$29=\"Square\",H$1,IF(OR(AND(ODD($A9)=$A9,ODD(H$2)=H$2),AND(EVEN($A9)=$A9,EVEN(H$2)=H$2)),H$1,-100))","v":103.125},{"$f":"IF('Ceiling Speaker Calculator'!$C$29=\"Square\",I$1,IF(OR(AND(ODD($A9)=$A9,ODD(I$2)=I$2),AND(EVEN($A9)=$A9,EVEN(I$2)=I$2)),I$1,-100))","v":121.875},{"$f":"IF('Ceiling Speaker Calculator'!$C$29=\"Square\",J$1,IF(OR(AND(ODD($A9)=$A9,ODD(J$2)=J$2),AND(EVEN($A9)=$A9,EVEN(J$2)=J$2)),J$1,-100))","v":140.625},{"$f":"IF('Ceiling Speaker Calculator'!$C$29=\"Square\",K$1,IF(OR(AND(ODD($A9)=$A9,ODD(K$2)=K$2),AND(EVEN($A9)=$A9,EVEN(K$2)=K$2)),K$1,-100))","v":159.375},{"$f":"IF('Ceiling Speaker Calculator'!$C$29=\"Square\",L$1,IF(OR(AND(ODD($A9)=$A9,ODD(L$2)=L$2),AND(EVEN($A9)=$A9,EVEN(L$2)=L$2)),L$1,-100))","v":178.125},{"$f":"IF('Ceiling Speaker Calculator'!$C$29=\"Square\",M$1,IF(OR(AND(ODD($A9)=$A9,ODD(M$2)=M$2),AND(EVEN($A9)=$A9,EVEN(M$2)=M$2)),M$1,-100))","v":196.875},{"$f":"IF('Ceiling Speaker Calculator'!$C$29=\"Square\",N$1,IF(OR(AND(ODD($A9)=$A9,ODD(N$2)=N$2),AND(EVEN($A9)=$A9,EVEN(N$2)=N$2)),N$1,-100))","v":215.625},{"$f":"IF('Ceiling Speaker Calculator'!$C$29=\"Square\",O$1,IF(OR(AND(ODD($A9)=$A9,ODD(O$2)=O$2),AND(EVEN($A9)=$A9,EVEN(O$2)=O$2)),O$1,-100))","v":234.375},{"$f":"IF('Ceiling Speaker Calculator'!$C$29=\"Square\",P$1,IF(OR(AND(ODD($A9)=$A9,ODD(P$2)=P$2),AND(EVEN($A9)=$A9,EVEN(P$2)=P$2)),P$1,-100))","v":253.125},{"$f":"IF('Ceiling Speaker Calculator'!$C$29=\"Square\",Q$1,IF(OR(AND(ODD($A9)=$A9,ODD(Q$2)=Q$2),AND(EVEN($A9)=$A9,EVEN(Q$2)=Q$2)),Q$1,-100))","v":271.875},{"$f":"IF('Ceiling Speaker Calculator'!$C$29=\"Square\",R$1,IF(OR(AND(ODD($A9)=$A9,ODD(R$2)=R$2),AND(EVEN($A9)=$A9,EVEN(R$2)=R$2)),R$1,-100))","v":290.625},{"$f":"IF('Ceiling Speaker Calculator'!$C$29=\"Square\",S$1,IF(OR(AND(ODD($A9)=$A9,ODD(S$2)=S$2),AND(EVEN($A9)=$A9,EVEN(S$2)=S$2)),S$1,-100))","v":309.375},{"$f":"IF('Ceiling Speaker Calculator'!$C$29=\"Square\",T$1,IF(OR(AND(ODD($A9)=$A9,ODD(T$2)=T$2),AND(EVEN($A9)=$A9,EVEN(T$2)=T$2)),T$1,-100))","v":328.125},{"$f":"IF('Ceiling Speaker Calculator'!$C$29=\"Square\",U$1,IF(OR(AND(ODD($A9)=$A9,ODD(U$2)=U$2),AND(EVEN($A9)=$A9,EVEN(U$2)=U$2)),U$1,-100))","v":346.875},{"$f":"IF('Ceiling Speaker Calculator'!$C$29=\"Square\",V$1,IF(OR(AND(ODD($A9)=$A9,ODD(V$2)=V$2),AND(EVEN($A9)=$A9,EVEN(V$2)=V$2)),V$1,-100))","v":365.625},{"$f":"IF('Ceiling Speaker Calculator'!$C$29=\"Square\",W$1,IF(OR(AND(ODD($A9)=$A9,ODD(W$2)=W$2),AND(EVEN($A9)=$A9,EVEN(W$2)=W$2)),W$1,-100))","v":384.375},{"$f":"IF('Ceiling Speaker Calculator'!$C$29=\"Square\",X$1,IF(OR(AND(ODD($A9)=$A9,ODD(X$2)=X$2),AND(EVEN($A9)=$A9,EVEN(X$2)=X$2)),X$1,-100))","v":403.125},{"$f":"IF('Ceiling Speaker Calculator'!$C$29=\"Square\",Y$1,IF(OR(AND(ODD($A9)=$A9,ODD(Y$2)=Y$2),AND(EVEN($A9)=$A9,EVEN(Y$2)=Y$2)),Y$1,-100))","v":421.875},{"$f":"IF('Ceiling Speaker Calculator'!$C$29=\"Square\",Z$1,IF(OR(AND(ODD($A9)=$A9,ODD(Z$2)=Z$2),AND(EVEN($A9)=$A9,EVEN(Z$2)=Z$2)),Z$1,-100))","v":440.625},{"$f":"IF('Ceiling Speaker Calculator'!$C$29=\"Square\",AA$1,IF(OR(AND(ODD($A9)=$A9,ODD(AA$2)=AA$2),AND(EVEN($A9)=$A9,EVEN(AA$2)=AA$2)),AA$1,-100))","v":459.375},{"$f":"IF('Ceiling Speaker Calculator'!$C$29=\"Square\",AB$1,IF(OR(AND(ODD($A9)=$A9,ODD(AB$2)=AB$2),AND(EVEN($A9)=$A9,EVEN(AB$2)=AB$2)),AB$1,-100))","v":478.125},{"$f":"IF('Ceiling Speaker Calculator'!$C$29=\"Square\",AC$1,IF(OR(AND(ODD($A9)=$A9,ODD(AC$2)=AC$2),AND(EVEN($A9)=$A9,EVEN(AC$2)=AC$2)),AC$1,-100))","v":496.875},{"$f":"IF('Ceiling Speaker Calculator'!$C$29=\"Square\",AD$1,IF(OR(AND(ODD($A9)=$A9,ODD(AD$2)=AD$2),AND(EVEN($A9)=$A9,EVEN(AD$2)=AD$2)),AD$1,-100))","v":515.625},{"$f":"IF('Ceiling Speaker Calculator'!$C$29=\"Square\",AE$1,IF(OR(AND(ODD($A9)=$A9,ODD(AE$2)=AE$2),AND(EVEN($A9)=$A9,EVEN(AE$2)=AE$2)),AE$1,-100))","v":534.375},{"$f":"IF('Ceiling Speaker Calculator'!$C$29=\"Square\",AF$1,IF(OR(AND(ODD($A9)=$A9,ODD(AF$2)=AF$2),AND(EVEN($A9)=$A9,EVEN(AF$2)=AF$2)),AF$1,-100))","v":553.125},{"$f":"IF('Ceiling Speaker Calculator'!$C$29=\"Square\",AG$1,IF(OR(AND(ODD($A9)=$A9,ODD(AG$2)=AG$2),AND(EVEN($A9)=$A9,EVEN(AG$2)=AG$2)),AG$1,-100))","v":571.875},{"$f":"IF('Ceiling Speaker Calculator'!$C$29=\"Square\",AH$1,IF(OR(AND(ODD($A9)=$A9,ODD(AH$2)=AH$2),AND(EVEN($A9)=$A9,EVEN(AH$2)=AH$2)),AH$1,-100))","v":590.625},{"$f":"IF('Ceiling Speaker Calculator'!$C$29=\"Square\",AI$1,IF(OR(AND(ODD($A9)=$A9,ODD(AI$2)=AI$2),AND(EVEN($A9)=$A9,EVEN(AI$2)=AI$2)),AI$1,-100))","v":609.375},{"$f":"IF('Ceiling Speaker Calculator'!$C$29=\"Square\",AJ$1,IF(OR(AND(ODD($A9)=$A9,ODD(AJ$2)=AJ$2),AND(EVEN($A9)=$A9,EVEN(AJ$2)=AJ$2)),AJ$1,-100))","v":628.125},{"$f":"IF('Ceiling Speaker Calculator'!$C$29=\"Square\",AK$1,IF(OR(AND(ODD($A9)=$A9,ODD(AK$2)=AK$2),AND(EVEN($A9)=$A9,EVEN(AK$2)=AK$2)),AK$1,-100))","v":646.875},{"$f":"IF('Ceiling Speaker Calculator'!$C$29=\"Square\",AL$1,IF(OR(AND(ODD($A9)=$A9,ODD(AL$2)=AL$2),AND(EVEN($A9)=$A9,EVEN(AL$2)=AL$2)),AL$1,-100))","v":665.625},{"$f":"IF('Ceiling Speaker Calculator'!$C$29=\"Square\",AM$1,IF(OR(AND(ODD($A9)=$A9,ODD(AM$2)=AM$2),AND(EVEN($A9)=$A9,EVEN(AM$2)=AM$2)),AM$1,-100))","v":684.375},{"$f":"IF('Ceiling Speaker Calculator'!$C$29=\"Square\",AN$1,IF(OR(AND(ODD($A9)=$A9,ODD(AN$2)=AN$2),AND(EVEN($A9)=$A9,EVEN(AN$2)=AN$2)),AN$1,-100))","v":703.125},{"$f":"IF('Ceiling Speaker Calculator'!$C$29=\"Square\",AO$1,IF(OR(AND(ODD($A9)=$A9,ODD(AO$2)=AO$2),AND(EVEN($A9)=$A9,EVEN(AO$2)=AO$2)),AO$1,-100))","v":721.875},{"$f":"IF('Ceiling Speaker Calculator'!$C$29=\"Square\",AP$1,IF(OR(AND(ODD($A9)=$A9,ODD(AP$2)=AP$2),AND(EVEN($A9)=$A9,EVEN(AP$2)=AP$2)),AP$1,-100))","v":740.625},{"$f":"IF('Ceiling Speaker Calculator'!$C$29=\"Square\",AQ$1,IF(OR(AND(ODD($A9)=$A9,ODD(AQ$2)=AQ$2),AND(EVEN($A9)=$A9,EVEN(AQ$2)=AQ$2)),AQ$1,-100))","v":759.375},{"$f":"IF('Ceiling Speaker Calculator'!$C$29=\"Square\",AR$1,IF(OR(AND(ODD($A9)=$A9,ODD(AR$2)=AR$2),AND(EVEN($A9)=$A9,EVEN(AR$2)=AR$2)),AR$1,-100))","v":778.125},{"$f":"IF('Ceiling Speaker Calculator'!$C$29=\"Square\",AS$1,IF(OR(AND(ODD($A9)=$A9,ODD(AS$2)=AS$2),AND(EVEN($A9)=$A9,EVEN(AS$2)=AS$2)),AS$1,-100))","v":796.875},{"$f":"IF('Ceiling Speaker Calculator'!$C$29=\"Square\",AT$1,IF(OR(AND(ODD($A9)=$A9,ODD(AT$2)=AT$2),AND(EVEN($A9)=$A9,EVEN(AT$2)=AT$2)),AT$1,-100))","v":815.625},{"$f":"IF('Ceiling Speaker Calculator'!$C$29=\"Square\",AU$1,IF(OR(AND(ODD($A9)=$A9,ODD(AU$2)=AU$2),AND(EVEN($A9)=$A9,EVEN(AU$2)=AU$2)),AU$1,-100))","v":834.375},{"$f":"IF('Ceiling Speaker Calculator'!$C$29=\"Square\",AV$1,IF(OR(AND(ODD($A9)=$A9,ODD(AV$2)=AV$2),AND(EVEN($A9)=$A9,EVEN(AV$2)=AV$2)),AV$1,-100))","v":853.125},{"$f":"IF('Ceiling Speaker Calculator'!$C$29=\"Square\",AW$1,IF(OR(AND(ODD($A9)=$A9,ODD(AW$2)=AW$2),AND(EVEN($A9)=$A9,EVEN(AW$2)=AW$2)),AW$1,-100))","v":871.875},{"$f":"IF('Ceiling Speaker Calculator'!$C$29=\"Square\",AX$1,IF(OR(AND(ODD($A9)=$A9,ODD(AX$2)=AX$2),AND(EVEN($A9)=$A9,EVEN(AX$2)=AX$2)),AX$1,-100))","v":890.625},{"$f":"IF('Ceiling Speaker Calculator'!$C$29=\"Square\",AY$1,IF(OR(AND(ODD($A9)=$A9,ODD(AY$2)=AY$2),AND(EVEN($A9)=$A9,EVEN(AY$2)=AY$2)),AY$1,-100))","v":909.375},{"$f":"IF('Ceiling Speaker Calculator'!$C$29=\"Square\",AZ$1,IF(OR(AND(ODD($A9)=$A9,ODD(AZ$2)=AZ$2),AND(EVEN($A9)=$A9,EVEN(AZ$2)=AZ$2)),AZ$1,-100))","v":928.125},{"$f":"IF('Ceiling Speaker Calculator'!$C$29=\"Square\",BA$1,IF(OR(AND(ODD($A9)=$A9,ODD(BA$2)=BA$2),AND(EVEN($A9)=$A9,EVEN(BA$2)=BA$2)),BA$1,-100))","v":946.875},{"$f":"IF('Ceiling Speaker Calculator'!$C$29=\"Square\",BB$1,IF(OR(AND(ODD($A9)=$A9,ODD(BB$2)=BB$2),AND(EVEN($A9)=$A9,EVEN(BB$2)=BB$2)),BB$1,-100))","v":965.625},{"$f":"IF('Ceiling Speaker Calculator'!$C$29=\"Square\",BC$1,IF(OR(AND(ODD($A9)=$A9,ODD(BC$2)=BC$2),AND(EVEN($A9)=$A9,EVEN(BC$2)=BC$2)),BC$1,-100))","v":984.375},{"$f":"IF('Ceiling Speaker Calculator'!$C$29=\"Square\",BD$1,IF(OR(AND(ODD($A9)=$A9,ODD(BD$2)=BD$2),AND(EVEN($A9)=$A9,EVEN(BD$2)=BD$2)),BD$1,-100))","v":1003.125},{"$f":"IF('Ceiling Speaker Calculator'!$C$29=\"Square\",BE$1,IF(OR(AND(ODD($A9)=$A9,ODD(BE$2)=BE$2),AND(EVEN($A9)=$A9,EVEN(BE$2)=BE$2)),BE$1,-100))","v":1021.875},{"$f":"IF('Ceiling Speaker Calculator'!$C$29=\"Square\",BF$1,IF(OR(AND(ODD($A9)=$A9,ODD(BF$2)=BF$2),AND(EVEN($A9)=$A9,EVEN(BF$2)=BF$2)),BF$1,-100))","v":1040.625},{"$f":"IF('Ceiling Speaker Calculator'!$C$29=\"Square\",BG$1,IF(OR(AND(ODD($A9)=$A9,ODD(BG$2)=BG$2),AND(EVEN($A9)=$A9,EVEN(BG$2)=BG$2)),BG$1,-100))","v":1059.375},{"$f":"IF('Ceiling Speaker Calculator'!$C$29=\"Square\",BH$1,IF(OR(AND(ODD($A9)=$A9,ODD(BH$2)=BH$2),AND(EVEN($A9)=$A9,EVEN(BH$2)=BH$2)),BH$1,-100))","v":1078.125},{"$f":"IF('Ceiling Speaker Calculator'!$C$29=\"Square\",BI$1,IF(OR(AND(ODD($A9)=$A9,ODD(BI$2)=BI$2),AND(EVEN($A9)=$A9,EVEN(BI$2)=BI$2)),BI$1,-100))","v":1096.875},{"$f":"IF('Ceiling Speaker Calculator'!$C$29=\"Square\",BJ$1,IF(OR(AND(ODD($A9)=$A9,ODD(BJ$2)=BJ$2),AND(EVEN($A9)=$A9,EVEN(BJ$2)=BJ$2)),BJ$1,-100))","v":1115.625},{"$f":"IF('Ceiling Speaker Calculator'!$C$29=\"Square\",BK$1,IF(OR(AND(ODD($A9)=$A9,ODD(BK$2)=BK$2),AND(EVEN($A9)=$A9,EVEN(BK$2)=BK$2)),BK$1,-100))","v":1134.375},{"$f":"IF('Ceiling Speaker Calculator'!$C$29=\"Square\",BL$1,IF(OR(AND(ODD($A9)=$A9,ODD(BL$2)=BL$2),AND(EVEN($A9)=$A9,EVEN(BL$2)=BL$2)),BL$1,-100))","v":1153.125},{"$f":"IF('Ceiling Speaker Calculator'!$C$29=\"Square\",BM$1,IF(OR(AND(ODD($A9)=$A9,ODD(BM$2)=BM$2),AND(EVEN($A9)=$A9,EVEN(BM$2)=BM$2)),BM$1,-100))","v":1171.875},{"$f":"IF('Ceiling Speaker Calculator'!$C$29=\"Square\",BN$1,IF(OR(AND(ODD($A9)=$A9,ODD(BN$2)=BN$2),AND(EVEN($A9)=$A9,EVEN(BN$2)=BN$2)),BN$1,-100))","v":1190.625},{"$f":"IF('Ceiling Speaker Calculator'!$C$29=\"Square\",BO$1,IF(OR(AND(ODD($A9)=$A9,ODD(BO$2)=BO$2),AND(EVEN($A9)=$A9,EVEN(BO$2)=BO$2)),BO$1,-100))","v":1209.375},{"$f":"IF('Ceiling Speaker Calculator'!$C$29=\"Square\",BP$1,IF(OR(AND(ODD($A9)=$A9,ODD(BP$2)=BP$2),AND(EVEN($A9)=$A9,EVEN(BP$2)=BP$2)),BP$1,-100))","v":1228.125},{"$f":"IF('Ceiling Speaker Calculator'!$C$29=\"Square\",BQ$1,IF(OR(AND(ODD($A9)=$A9,ODD(BQ$2)=BQ$2),AND(EVEN($A9)=$A9,EVEN(BQ$2)=BQ$2)),BQ$1,-100))","v":1246.875},{"$f":"IF('Ceiling Speaker Calculator'!$C$29=\"Square\",BR$1,IF(OR(AND(ODD($A9)=$A9,ODD(BR$2)=BR$2),AND(EVEN($A9)=$A9,EVEN(BR$2)=BR$2)),BR$1,-100))","v":1265.625},{"$f":"IF('Ceiling Speaker Calculator'!$C$29=\"Square\",BS$1,IF(OR(AND(ODD($A9)=$A9,ODD(BS$2)=BS$2),AND(EVEN($A9)=$A9,EVEN(BS$2)=BS$2)),BS$1,-100))","v":1284.375},{"$f":"IF('Ceiling Speaker Calculator'!$C$29=\"Square\",BT$1,IF(OR(AND(ODD($A9)=$A9,ODD(BT$2)=BT$2),AND(EVEN($A9)=$A9,EVEN(BT$2)=BT$2)),BT$1,-100))","v":1303.125},{"$f":"IF('Ceiling Speaker Calculator'!$C$29=\"Square\",BU$1,IF(OR(AND(ODD($A9)=$A9,ODD(BU$2)=BU$2),AND(EVEN($A9)=$A9,EVEN(BU$2)=BU$2)),BU$1,-100))","v":1321.875},{"$f":"IF('Ceiling Speaker Calculator'!$C$29=\"Square\",BV$1,IF(OR(AND(ODD($A9)=$A9,ODD(BV$2)=BV$2),AND(EVEN($A9)=$A9,EVEN(BV$2)=BV$2)),BV$1,-100))","v":1340.625},{"$f":"IF('Ceiling Speaker Calculator'!$C$29=\"Square\",BW$1,IF(OR(AND(ODD($A9)=$A9,ODD(BW$2)=BW$2),AND(EVEN($A9)=$A9,EVEN(BW$2)=BW$2)),BW$1,-100))","v":1359.375},{"$f":"IF('Ceiling Speaker Calculator'!$C$29=\"Square\",BX$1,IF(OR(AND(ODD($A9)=$A9,ODD(BX$2)=BX$2),AND(EVEN($A9)=$A9,EVEN(BX$2)=BX$2)),BX$1,-100))","v":1378.125},{"$f":"IF('Ceiling Speaker Calculator'!$C$29=\"Square\",BY$1,IF(OR(AND(ODD($A9)=$A9,ODD(BY$2)=BY$2),AND(EVEN($A9)=$A9,EVEN(BY$2)=BY$2)),BY$1,-100))","v":1396.875},{"$f":"IF('Ceiling Speaker Calculator'!$C$29=\"Square\",BZ$1,IF(OR(AND(ODD($A9)=$A9,ODD(BZ$2)=BZ$2),AND(EVEN($A9)=$A9,EVEN(BZ$2)=BZ$2)),BZ$1,-100))","v":1415.625},{"$f":"IF('Ceiling Speaker Calculator'!$C$29=\"Square\",CA$1,IF(OR(AND(ODD($A9)=$A9,ODD(CA$2)=CA$2),AND(EVEN($A9)=$A9,EVEN(CA$2)=CA$2)),CA$1,-100))","v":1434.375},{"$f":"IF('Ceiling Speaker Calculator'!$C$29=\"Square\",CB$1,IF(OR(AND(ODD($A9)=$A9,ODD(CB$2)=CB$2),AND(EVEN($A9)=$A9,EVEN(CB$2)=CB$2)),CB$1,-100))","v":1453.125},{"$f":"IF('Ceiling Speaker Calculator'!$C$29=\"Square\",CC$1,IF(OR(AND(ODD($A9)=$A9,ODD(CC$2)=CC$2),AND(EVEN($A9)=$A9,EVEN(CC$2)=CC$2)),CC$1,-100))","v":1471.875},{"$f":"IF('Ceiling Speaker Calculator'!$C$29=\"Square\",CD$1,IF(OR(AND(ODD($A9)=$A9,ODD(CD$2)=CD$2),AND(EVEN($A9)=$A9,EVEN(CD$2)=CD$2)),CD$1,-100))","v":1490.625},{"$f":"IF('Ceiling Speaker Calculator'!$C$29=\"Square\",CE$1,IF(OR(AND(ODD($A9)=$A9,ODD(CE$2)=CE$2),AND(EVEN($A9)=$A9,EVEN(CE$2)=CE$2)),CE$1,-100))","v":1509.375},{"$f":"IF('Ceiling Speaker Calculator'!$C$29=\"Square\",CF$1,IF(OR(AND(ODD($A9)=$A9,ODD(CF$2)=CF$2),AND(EVEN($A9)=$A9,EVEN(CF$2)=CF$2)),CF$1,-100))","v":1528.125},{"$f":"IF('Ceiling Speaker Calculator'!$C$29=\"Square\",CG$1,IF(OR(AND(ODD($A9)=$A9,ODD(CG$2)=CG$2),AND(EVEN($A9)=$A9,EVEN(CG$2)=CG$2)),CG$1,-100))","v":1546.875},{"$f":"IF('Ceiling Speaker Calculator'!$C$29=\"Square\",CH$1,IF(OR(AND(ODD($A9)=$A9,ODD(CH$2)=CH$2),AND(EVEN($A9)=$A9,EVEN(CH$2)=CH$2)),CH$1,-100))","v":1565.625},{"$f":"IF('Ceiling Speaker Calculator'!$C$29=\"Square\",CI$1,IF(OR(AND(ODD($A9)=$A9,ODD(CI$2)=CI$2),AND(EVEN($A9)=$A9,EVEN(CI$2)=CI$2)),CI$1,-100))","v":1584.375},{"$f":"IF('Ceiling Speaker Calculator'!$C$29=\"Square\",CJ$1,IF(OR(AND(ODD($A9)=$A9,ODD(CJ$2)=CJ$2),AND(EVEN($A9)=$A9,EVEN(CJ$2)=CJ$2)),CJ$1,-100))","v":1603.125},{"$f":"IF('Ceiling Speaker Calculator'!$C$29=\"Square\",CK$1,IF(OR(AND(ODD($A9)=$A9,ODD(CK$2)=CK$2),AND(EVEN($A9)=$A9,EVEN(CK$2)=CK$2)),CK$1,-100))","v":1621.875},{"$f":"IF('Ceiling Speaker Calculator'!$C$29=\"Square\",CL$1,IF(OR(AND(ODD($A9)=$A9,ODD(CL$2)=CL$2),AND(EVEN($A9)=$A9,EVEN(CL$2)=CL$2)),CL$1,-100))","v":1640.625},{"$f":"IF('Ceiling Speaker Calculator'!$C$29=\"Square\",CM$1,IF(OR(AND(ODD($A9)=$A9,ODD(CM$2)=CM$2),AND(EVEN($A9)=$A9,EVEN(CM$2)=CM$2)),CM$1,-100))","v":1659.375},{"$f":"IF('Ceiling Speaker Calculator'!$C$29=\"Square\",CN$1,IF(OR(AND(ODD($A9)=$A9,ODD(CN$2)=CN$2),AND(EVEN($A9)=$A9,EVEN(CN$2)=CN$2)),CN$1,-100))","v":1678.125},{"$f":"IF('Ceiling Speaker Calculator'!$C$29=\"Square\",CO$1,IF(OR(AND(ODD($A9)=$A9,ODD(CO$2)=CO$2),AND(EVEN($A9)=$A9,EVEN(CO$2)=CO$2)),CO$1,-100))","v":1696.875},{"$f":"IF('Ceiling Speaker Calculator'!$C$29=\"Square\",CP$1,IF(OR(AND(ODD($A9)=$A9,ODD(CP$2)=CP$2),AND(EVEN($A9)=$A9,EVEN(CP$2)=CP$2)),CP$1,-100))","v":1715.625},{"$f":"IF('Ceiling Speaker Calculator'!$C$29=\"Square\",CQ$1,IF(OR(AND(ODD($A9)=$A9,ODD(CQ$2)=CQ$2),AND(EVEN($A9)=$A9,EVEN(CQ$2)=CQ$2)),CQ$1,-100))","v":1734.375},{"$f":"IF('Ceiling Speaker Calculator'!$C$29=\"Square\",CR$1,IF(OR(AND(ODD($A9)=$A9,ODD(CR$2)=CR$2),AND(EVEN($A9)=$A9,EVEN(CR$2)=CR$2)),CR$1,-100))","v":1753.125},{"$f":"IF('Ceiling Speaker Calculator'!$C$29=\"Square\",CS$1,IF(OR(AND(ODD($A9)=$A9,ODD(CS$2)=CS$2),AND(EVEN($A9)=$A9,EVEN(CS$2)=CS$2)),CS$1,-100))","v":1771.875},{"$f":"IF('Ceiling Speaker Calculator'!$C$29=\"Square\",CT$1,IF(OR(AND(ODD($A9)=$A9,ODD(CT$2)=CT$2),AND(EVEN($A9)=$A9,EVEN(CT$2)=CT$2)),CT$1,-100))","v":1790.625},{"$f":"IF('Ceiling Speaker Calculator'!$C$29=\"Square\",CU$1,IF(OR(AND(ODD($A9)=$A9,ODD(CU$2)=CU$2),AND(EVEN($A9)=$A9,EVEN(CU$2)=CU$2)),CU$1,-100))","v":1809.375},{"$f":"IF('Ceiling Speaker Calculator'!$C$29=\"Square\",CV$1,IF(OR(AND(ODD($A9)=$A9,ODD(CV$2)=CV$2),AND(EVEN($A9)=$A9,EVEN(CV$2)=CV$2)),CV$1,-100))","v":1828.125},{"$f":"IF('Ceiling Speaker Calculator'!$C$29=\"Square\",CW$1,IF(OR(AND(ODD($A9)=$A9,ODD(CW$2)=CW$2),AND(EVEN($A9)=$A9,EVEN(CW$2)=CW$2)),CW$1,-100))","v":1846.875},{"$f":"IF('Ceiling Speaker Calculator'!$C$29=\"Square\",CX$1,IF(OR(AND(ODD($A9)=$A9,ODD(CX$2)=CX$2),AND(EVEN($A9)=$A9,EVEN(CX$2)=CX$2)),CX$1,-100))","v":1865.625}]
[8,{"$f":"B9+'Ceiling Speaker Calculator'!$K$16","v":150},{"$f":"IF('Ceiling Speaker Calculator'!$C$29=\"Square\",C$1,IF(OR(AND(ODD($A10)=$A10,ODD(C$2)=C$2),AND(EVEN($A10)=$A10,EVEN(C$2)=C$2)),C$1,-100))","v":9.375},{"$f":"IF('Ceiling Speaker Calculator'!$C$29=\"Square\",D$1,IF(OR(AND(ODD($A10)=$A10,ODD(D$2)=D$2),AND(EVEN($A10)=$A10,EVEN(D$2)=D$2)),D$1,-100))","v":28.125},{"$f":"IF('Ceiling Speaker Calculator'!$C$29=\"Square\",E$1,IF(OR(AND(ODD($A10)=$A10,ODD(E$2)=E$2),AND(EVEN($A10)=$A10,EVEN(E$2)=E$2)),E$1,-100))","v":46.875},{"$f":"IF('Ceiling Speaker Calculator'!$C$29=\"Square\",F$1,IF(OR(AND(ODD($A10)=$A10,ODD(F$2)=F$2),AND(EVEN($A10)=$A10,EVEN(F$2)=F$2)),F$1,-100))","v":65.625},{"$f":"IF('Ceiling Speaker Calculator'!$C$29=\"Square\",G$1,IF(OR(AND(ODD($A10)=$A10,ODD(G$2)=G$2),AND(EVEN($A10)=$A10,EVEN(G$2)=G$2)),G$1,-100))","v":84.375},{"$f":"IF('Ceiling Speaker Calculator'!$C$29=\"Square\",H$1,IF(OR(AND(ODD($A10)=$A10,ODD(H$2)=H$2),AND(EVEN($A10)=$A10,EVEN(H$2)=H$2)),H$1,-100))","v":103.125},{"$f":"IF('Ceiling Speaker Calculator'!$C$29=\"Square\",I$1,IF(OR(AND(ODD($A10)=$A10,ODD(I$2)=I$2),AND(EVEN($A10)=$A10,EVEN(I$2)=I$2)),I$1,-100))","v":121.875},{"$f":"IF('Ceiling Speaker Calculator'!$C$29=\"Square\",J$1,IF(OR(AND(ODD($A10)=$A10,ODD(J$2)=J$2),AND(EVEN($A10)=$A10,EVEN(J$2)=J$2)),J$1,-100))","v":140.625},{"$f":"IF('Ceiling Speaker Calculator'!$C$29=\"Square\",K$1,IF(OR(AND(ODD($A10)=$A10,ODD(K$2)=K$2),AND(EVEN($A10)=$A10,EVEN(K$2)=K$2)),K$1,-100))","v":159.375},{"$f":"IF('Ceiling Speaker Calculator'!$C$29=\"Square\",L$1,IF(OR(AND(ODD($A10)=$A10,ODD(L$2)=L$2),AND(EVEN($A10)=$A10,EVEN(L$2)=L$2)),L$1,-100))","v":178.125},{"$f":"IF('Ceiling Speaker Calculator'!$C$29=\"Square\",M$1,IF(OR(AND(ODD($A10)=$A10,ODD(M$2)=M$2),AND(EVEN($A10)=$A10,EVEN(M$2)=M$2)),M$1,-100))","v":196.875},{"$f":"IF('Ceiling Speaker Calculator'!$C$29=\"Square\",N$1,IF(OR(AND(ODD($A10)=$A10,ODD(N$2)=N$2),AND(EVEN($A10)=$A10,EVEN(N$2)=N$2)),N$1,-100))","v":215.625},{"$f":"IF('Ceiling Speaker Calculator'!$C$29=\"Square\",O$1,IF(OR(AND(ODD($A10)=$A10,ODD(O$2)=O$2),AND(EVEN($A10)=$A10,EVEN(O$2)=O$2)),O$1,-100))","v":234.375},{"$f":"IF('Ceiling Speaker Calculator'!$C$29=\"Square\",P$1,IF(OR(AND(ODD($A10)=$A10,ODD(P$2)=P$2),AND(EVEN($A10)=$A10,EVEN(P$2)=P$2)),P$1,-100))","v":253.125},{"$f":"IF('Ceiling Speaker Calculator'!$C$29=\"Square\",Q$1,IF(OR(AND(ODD($A10)=$A10,ODD(Q$2)=Q$2),AND(EVEN($A10)=$A10,EVEN(Q$2)=Q$2)),Q$1,-100))","v":271.875},{"$f":"IF('Ceiling Speaker Calculator'!$C$29=\"Square\",R$1,IF(OR(AND(ODD($A10)=$A10,ODD(R$2)=R$2),AND(EVEN($A10)=$A10,EVEN(R$2)=R$2)),R$1,-100))","v":290.625},{"$f":"IF('Ceiling Speaker Calculator'!$C$29=\"Square\",S$1,IF(OR(AND(ODD($A10)=$A10,ODD(S$2)=S$2),AND(EVEN($A10)=$A10,EVEN(S$2)=S$2)),S$1,-100))","v":309.375},{"$f":"IF('Ceiling Speaker Calculator'!$C$29=\"Square\",T$1,IF(OR(AND(ODD($A10)=$A10,ODD(T$2)=T$2),AND(EVEN($A10)=$A10,EVEN(T$2)=T$2)),T$1,-100))","v":328.125},{"$f":"IF('Ceiling Speaker Calculator'!$C$29=\"Square\",U$1,IF(OR(AND(ODD($A10)=$A10,ODD(U$2)=U$2),AND(EVEN($A10)=$A10,EVEN(U$2)=U$2)),U$1,-100))","v":346.875},{"$f":"IF('Ceiling Speaker Calculator'!$C$29=\"Square\",V$1,IF(OR(AND(ODD($A10)=$A10,ODD(V$2)=V$2),AND(EVEN($A10)=$A10,EVEN(V$2)=V$2)),V$1,-100))","v":365.625},{"$f":"IF('Ceiling Speaker Calculator'!$C$29=\"Square\",W$1,IF(OR(AND(ODD($A10)=$A10,ODD(W$2)=W$2),AND(EVEN($A10)=$A10,EVEN(W$2)=W$2)),W$1,-100))","v":384.375},{"$f":"IF('Ceiling Speaker Calculator'!$C$29=\"Square\",X$1,IF(OR(AND(ODD($A10)=$A10,ODD(X$2)=X$2),AND(EVEN($A10)=$A10,EVEN(X$2)=X$2)),X$1,-100))","v":403.125},{"$f":"IF('Ceiling Speaker Calculator'!$C$29=\"Square\",Y$1,IF(OR(AND(ODD($A10)=$A10,ODD(Y$2)=Y$2),AND(EVEN($A10)=$A10,EVEN(Y$2)=Y$2)),Y$1,-100))","v":421.875},{"$f":"IF('Ceiling Speaker Calculator'!$C$29=\"Square\",Z$1,IF(OR(AND(ODD($A10)=$A10,ODD(Z$2)=Z$2),AND(EVEN($A10)=$A10,EVEN(Z$2)=Z$2)),Z$1,-100))","v":440.625},{"$f":"IF('Ceiling Speaker Calculator'!$C$29=\"Square\",AA$1,IF(OR(AND(ODD($A10)=$A10,ODD(AA$2)=AA$2),AND(EVEN($A10)=$A10,EVEN(AA$2)=AA$2)),AA$1,-100))","v":459.375},{"$f":"IF('Ceiling Speaker Calculator'!$C$29=\"Square\",AB$1,IF(OR(AND(ODD($A10)=$A10,ODD(AB$2)=AB$2),AND(EVEN($A10)=$A10,EVEN(AB$2)=AB$2)),AB$1,-100))","v":478.125},{"$f":"IF('Ceiling Speaker Calculator'!$C$29=\"Square\",AC$1,IF(OR(AND(ODD($A10)=$A10,ODD(AC$2)=AC$2),AND(EVEN($A10)=$A10,EVEN(AC$2)=AC$2)),AC$1,-100))","v":496.875},{"$f":"IF('Ceiling Speaker Calculator'!$C$29=\"Square\",AD$1,IF(OR(AND(ODD($A10)=$A10,ODD(AD$2)=AD$2),AND(EVEN($A10)=$A10,EVEN(AD$2)=AD$2)),AD$1,-100))","v":515.625},{"$f":"IF('Ceiling Speaker Calculator'!$C$29=\"Square\",AE$1,IF(OR(AND(ODD($A10)=$A10,ODD(AE$2)=AE$2),AND(EVEN($A10)=$A10,EVEN(AE$2)=AE$2)),AE$1,-100))","v":534.375},{"$f":"IF('Ceiling Speaker Calculator'!$C$29=\"Square\",AF$1,IF(OR(AND(ODD($A10)=$A10,ODD(AF$2)=AF$2),AND(EVEN($A10)=$A10,EVEN(AF$2)=AF$2)),AF$1,-100))","v":553.125},{"$f":"IF('Ceiling Speaker Calculator'!$C$29=\"Square\",AG$1,IF(OR(AND(ODD($A10)=$A10,ODD(AG$2)=AG$2),AND(EVEN($A10)=$A10,EVEN(AG$2)=AG$2)),AG$1,-100))","v":571.875},{"$f":"IF('Ceiling Speaker Calculator'!$C$29=\"Square\",AH$1,IF(OR(AND(ODD($A10)=$A10,ODD(AH$2)=AH$2),AND(EVEN($A10)=$A10,EVEN(AH$2)=AH$2)),AH$1,-100))","v":590.625},{"$f":"IF('Ceiling Speaker Calculator'!$C$29=\"Square\",AI$1,IF(OR(AND(ODD($A10)=$A10,ODD(AI$2)=AI$2),AND(EVEN($A10)=$A10,EVEN(AI$2)=AI$2)),AI$1,-100))","v":609.375},{"$f":"IF('Ceiling Speaker Calculator'!$C$29=\"Square\",AJ$1,IF(OR(AND(ODD($A10)=$A10,ODD(AJ$2)=AJ$2),AND(EVEN($A10)=$A10,EVEN(AJ$2)=AJ$2)),AJ$1,-100))","v":628.125},{"$f":"IF('Ceiling Speaker Calculator'!$C$29=\"Square\",AK$1,IF(OR(AND(ODD($A10)=$A10,ODD(AK$2)=AK$2),AND(EVEN($A10)=$A10,EVEN(AK$2)=AK$2)),AK$1,-100))","v":646.875},{"$f":"IF('Ceiling Speaker Calculator'!$C$29=\"Square\",AL$1,IF(OR(AND(ODD($A10)=$A10,ODD(AL$2)=AL$2),AND(EVEN($A10)=$A10,EVEN(AL$2)=AL$2)),AL$1,-100))","v":665.625},{"$f":"IF('Ceiling Speaker Calculator'!$C$29=\"Square\",AM$1,IF(OR(AND(ODD($A10)=$A10,ODD(AM$2)=AM$2),AND(EVEN($A10)=$A10,EVEN(AM$2)=AM$2)),AM$1,-100))","v":684.375},{"$f":"IF('Ceiling Speaker Calculator'!$C$29=\"Square\",AN$1,IF(OR(AND(ODD($A10)=$A10,ODD(AN$2)=AN$2),AND(EVEN($A10)=$A10,EVEN(AN$2)=AN$2)),AN$1,-100))","v":703.125},{"$f":"IF('Ceiling Speaker Calculator'!$C$29=\"Square\",AO$1,IF(OR(AND(ODD($A10)=$A10,ODD(AO$2)=AO$2),AND(EVEN($A10)=$A10,EVEN(AO$2)=AO$2)),AO$1,-100))","v":721.875},{"$f":"IF('Ceiling Speaker Calculator'!$C$29=\"Square\",AP$1,IF(OR(AND(ODD($A10)=$A10,ODD(AP$2)=AP$2),AND(EVEN($A10)=$A10,EVEN(AP$2)=AP$2)),AP$1,-100))","v":740.625},{"$f":"IF('Ceiling Speaker Calculator'!$C$29=\"Square\",AQ$1,IF(OR(AND(ODD($A10)=$A10,ODD(AQ$2)=AQ$2),AND(EVEN($A10)=$A10,EVEN(AQ$2)=AQ$2)),AQ$1,-100))","v":759.375},{"$f":"IF('Ceiling Speaker Calculator'!$C$29=\"Square\",AR$1,IF(OR(AND(ODD($A10)=$A10,ODD(AR$2)=AR$2),AND(EVEN($A10)=$A10,EVEN(AR$2)=AR$2)),AR$1,-100))","v":778.125},{"$f":"IF('Ceiling Speaker Calculator'!$C$29=\"Square\",AS$1,IF(OR(AND(ODD($A10)=$A10,ODD(AS$2)=AS$2),AND(EVEN($A10)=$A10,EVEN(AS$2)=AS$2)),AS$1,-100))","v":796.875},{"$f":"IF('Ceiling Speaker Calculator'!$C$29=\"Square\",AT$1,IF(OR(AND(ODD($A10)=$A10,ODD(AT$2)=AT$2),AND(EVEN($A10)=$A10,EVEN(AT$2)=AT$2)),AT$1,-100))","v":815.625},{"$f":"IF('Ceiling Speaker Calculator'!$C$29=\"Square\",AU$1,IF(OR(AND(ODD($A10)=$A10,ODD(AU$2)=AU$2),AND(EVEN($A10)=$A10,EVEN(AU$2)=AU$2)),AU$1,-100))","v":834.375},{"$f":"IF('Ceiling Speaker Calculator'!$C$29=\"Square\",AV$1,IF(OR(AND(ODD($A10)=$A10,ODD(AV$2)=AV$2),AND(EVEN($A10)=$A10,EVEN(AV$2)=AV$2)),AV$1,-100))","v":853.125},{"$f":"IF('Ceiling Speaker Calculator'!$C$29=\"Square\",AW$1,IF(OR(AND(ODD($A10)=$A10,ODD(AW$2)=AW$2),AND(EVEN($A10)=$A10,EVEN(AW$2)=AW$2)),AW$1,-100))","v":871.875},{"$f":"IF('Ceiling Speaker Calculator'!$C$29=\"Square\",AX$1,IF(OR(AND(ODD($A10)=$A10,ODD(AX$2)=AX$2),AND(EVEN($A10)=$A10,EVEN(AX$2)=AX$2)),AX$1,-100))","v":890.625},{"$f":"IF('Ceiling Speaker Calculator'!$C$29=\"Square\",AY$1,IF(OR(AND(ODD($A10)=$A10,ODD(AY$2)=AY$2),AND(EVEN($A10)=$A10,EVEN(AY$2)=AY$2)),AY$1,-100))","v":909.375},{"$f":"IF('Ceiling Speaker Calculator'!$C$29=\"Square\",AZ$1,IF(OR(AND(ODD($A10)=$A10,ODD(AZ$2)=AZ$2),AND(EVEN($A10)=$A10,EVEN(AZ$2)=AZ$2)),AZ$1,-100))","v":928.125},{"$f":"IF('Ceiling Speaker Calculator'!$C$29=\"Square\",BA$1,IF(OR(AND(ODD($A10)=$A10,ODD(BA$2)=BA$2),AND(EVEN($A10)=$A10,EVEN(BA$2)=BA$2)),BA$1,-100))","v":946.875},{"$f":"IF('Ceiling Speaker Calculator'!$C$29=\"Square\",BB$1,IF(OR(AND(ODD($A10)=$A10,ODD(BB$2)=BB$2),AND(EVEN($A10)=$A10,EVEN(BB$2)=BB$2)),BB$1,-100))","v":965.625},{"$f":"IF('Ceiling Speaker Calculator'!$C$29=\"Square\",BC$1,IF(OR(AND(ODD($A10)=$A10,ODD(BC$2)=BC$2),AND(EVEN($A10)=$A10,EVEN(BC$2)=BC$2)),BC$1,-100))","v":984.375},{"$f":"IF('Ceiling Speaker Calculator'!$C$29=\"Square\",BD$1,IF(OR(AND(ODD($A10)=$A10,ODD(BD$2)=BD$2),AND(EVEN($A10)=$A10,EVEN(BD$2)=BD$2)),BD$1,-100))","v":1003.125},{"$f":"IF('Ceiling Speaker Calculator'!$C$29=\"Square\",BE$1,IF(OR(AND(ODD($A10)=$A10,ODD(BE$2)=BE$2),AND(EVEN($A10)=$A10,EVEN(BE$2)=BE$2)),BE$1,-100))","v":1021.875},{"$f":"IF('Ceiling Speaker Calculator'!$C$29=\"Square\",BF$1,IF(OR(AND(ODD($A10)=$A10,ODD(BF$2)=BF$2),AND(EVEN($A10)=$A10,EVEN(BF$2)=BF$2)),BF$1,-100))","v":1040.625},{"$f":"IF('Ceiling Speaker Calculator'!$C$29=\"Square\",BG$1,IF(OR(AND(ODD($A10)=$A10,ODD(BG$2)=BG$2),AND(EVEN($A10)=$A10,EVEN(BG$2)=BG$2)),BG$1,-100))","v":1059.375},{"$f":"IF('Ceiling Speaker Calculator'!$C$29=\"Square\",BH$1,IF(OR(AND(ODD($A10)=$A10,ODD(BH$2)=BH$2),AND(EVEN($A10)=$A10,EVEN(BH$2)=BH$2)),BH$1,-100))","v":1078.125},{"$f":"IF('Ceiling Speaker Calculator'!$C$29=\"Square\",BI$1,IF(OR(AND(ODD($A10)=$A10,ODD(BI$2)=BI$2),AND(EVEN($A10)=$A10,EVEN(BI$2)=BI$2)),BI$1,-100))","v":1096.875},{"$f":"IF('Ceiling Speaker Calculator'!$C$29=\"Square\",BJ$1,IF(OR(AND(ODD($A10)=$A10,ODD(BJ$2)=BJ$2),AND(EVEN($A10)=$A10,EVEN(BJ$2)=BJ$2)),BJ$1,-100))","v":1115.625},{"$f":"IF('Ceiling Speaker Calculator'!$C$29=\"Square\",BK$1,IF(OR(AND(ODD($A10)=$A10,ODD(BK$2)=BK$2),AND(EVEN($A10)=$A10,EVEN(BK$2)=BK$2)),BK$1,-100))","v":1134.375},{"$f":"IF('Ceiling Speaker Calculator'!$C$29=\"Square\",BL$1,IF(OR(AND(ODD($A10)=$A10,ODD(BL$2)=BL$2),AND(EVEN($A10)=$A10,EVEN(BL$2)=BL$2)),BL$1,-100))","v":1153.125},{"$f":"IF('Ceiling Speaker Calculator'!$C$29=\"Square\",BM$1,IF(OR(AND(ODD($A10)=$A10,ODD(BM$2)=BM$2),AND(EVEN($A10)=$A10,EVEN(BM$2)=BM$2)),BM$1,-100))","v":1171.875},{"$f":"IF('Ceiling Speaker Calculator'!$C$29=\"Square\",BN$1,IF(OR(AND(ODD($A10)=$A10,ODD(BN$2)=BN$2),AND(EVEN($A10)=$A10,EVEN(BN$2)=BN$2)),BN$1,-100))","v":1190.625},{"$f":"IF('Ceiling Speaker Calculator'!$C$29=\"Square\",BO$1,IF(OR(AND(ODD($A10)=$A10,ODD(BO$2)=BO$2),AND(EVEN($A10)=$A10,EVEN(BO$2)=BO$2)),BO$1,-100))","v":1209.375},{"$f":"IF('Ceiling Speaker Calculator'!$C$29=\"Square\",BP$1,IF(OR(AND(ODD($A10)=$A10,ODD(BP$2)=BP$2),AND(EVEN($A10)=$A10,EVEN(BP$2)=BP$2)),BP$1,-100))","v":1228.125},{"$f":"IF('Ceiling Speaker Calculator'!$C$29=\"Square\",BQ$1,IF(OR(AND(ODD($A10)=$A10,ODD(BQ$2)=BQ$2),AND(EVEN($A10)=$A10,EVEN(BQ$2)=BQ$2)),BQ$1,-100))","v":1246.875},{"$f":"IF('Ceiling Speaker Calculator'!$C$29=\"Square\",BR$1,IF(OR(AND(ODD($A10)=$A10,ODD(BR$2)=BR$2),AND(EVEN($A10)=$A10,EVEN(BR$2)=BR$2)),BR$1,-100))","v":1265.625},{"$f":"IF('Ceiling Speaker Calculator'!$C$29=\"Square\",BS$1,IF(OR(AND(ODD($A10)=$A10,ODD(BS$2)=BS$2),AND(EVEN($A10)=$A10,EVEN(BS$2)=BS$2)),BS$1,-100))","v":1284.375},{"$f":"IF('Ceiling Speaker Calculator'!$C$29=\"Square\",BT$1,IF(OR(AND(ODD($A10)=$A10,ODD(BT$2)=BT$2),AND(EVEN($A10)=$A10,EVEN(BT$2)=BT$2)),BT$1,-100))","v":1303.125},{"$f":"IF('Ceiling Speaker Calculator'!$C$29=\"Square\",BU$1,IF(OR(AND(ODD($A10)=$A10,ODD(BU$2)=BU$2),AND(EVEN($A10)=$A10,EVEN(BU$2)=BU$2)),BU$1,-100))","v":1321.875},{"$f":"IF('Ceiling Speaker Calculator'!$C$29=\"Square\",BV$1,IF(OR(AND(ODD($A10)=$A10,ODD(BV$2)=BV$2),AND(EVEN($A10)=$A10,EVEN(BV$2)=BV$2)),BV$1,-100))","v":1340.625},{"$f":"IF('Ceiling Speaker Calculator'!$C$29=\"Square\",BW$1,IF(OR(AND(ODD($A10)=$A10,ODD(BW$2)=BW$2),AND(EVEN($A10)=$A10,EVEN(BW$2)=BW$2)),BW$1,-100))","v":1359.375},{"$f":"IF('Ceiling Speaker Calculator'!$C$29=\"Square\",BX$1,IF(OR(AND(ODD($A10)=$A10,ODD(BX$2)=BX$2),AND(EVEN($A10)=$A10,EVEN(BX$2)=BX$2)),BX$1,-100))","v":1378.125},{"$f":"IF('Ceiling Speaker Calculator'!$C$29=\"Square\",BY$1,IF(OR(AND(ODD($A10)=$A10,ODD(BY$2)=BY$2),AND(EVEN($A10)=$A10,EVEN(BY$2)=BY$2)),BY$1,-100))","v":1396.875},{"$f":"IF('Ceiling Speaker Calculator'!$C$29=\"Square\",BZ$1,IF(OR(AND(ODD($A10)=$A10,ODD(BZ$2)=BZ$2),AND(EVEN($A10)=$A10,EVEN(BZ$2)=BZ$2)),BZ$1,-100))","v":1415.625},{"$f":"IF('Ceiling Speaker Calculator'!$C$29=\"Square\",CA$1,IF(OR(AND(ODD($A10)=$A10,ODD(CA$2)=CA$2),AND(EVEN($A10)=$A10,EVEN(CA$2)=CA$2)),CA$1,-100))","v":1434.375},{"$f":"IF('Ceiling Speaker Calculator'!$C$29=\"Square\",CB$1,IF(OR(AND(ODD($A10)=$A10,ODD(CB$2)=CB$2),AND(EVEN($A10)=$A10,EVEN(CB$2)=CB$2)),CB$1,-100))","v":1453.125},{"$f":"IF('Ceiling Speaker Calculator'!$C$29=\"Square\",CC$1,IF(OR(AND(ODD($A10)=$A10,ODD(CC$2)=CC$2),AND(EVEN($A10)=$A10,EVEN(CC$2)=CC$2)),CC$1,-100))","v":1471.875},{"$f":"IF('Ceiling Speaker Calculator'!$C$29=\"Square\",CD$1,IF(OR(AND(ODD($A10)=$A10,ODD(CD$2)=CD$2),AND(EVEN($A10)=$A10,EVEN(CD$2)=CD$2)),CD$1,-100))","v":1490.625},{"$f":"IF('Ceiling Speaker Calculator'!$C$29=\"Square\",CE$1,IF(OR(AND(ODD($A10)=$A10,ODD(CE$2)=CE$2),AND(EVEN($A10)=$A10,EVEN(CE$2)=CE$2)),CE$1,-100))","v":1509.375},{"$f":"IF('Ceiling Speaker Calculator'!$C$29=\"Square\",CF$1,IF(OR(AND(ODD($A10)=$A10,ODD(CF$2)=CF$2),AND(EVEN($A10)=$A10,EVEN(CF$2)=CF$2)),CF$1,-100))","v":1528.125},{"$f":"IF('Ceiling Speaker Calculator'!$C$29=\"Square\",CG$1,IF(OR(AND(ODD($A10)=$A10,ODD(CG$2)=CG$2),AND(EVEN($A10)=$A10,EVEN(CG$2)=CG$2)),CG$1,-100))","v":1546.875},{"$f":"IF('Ceiling Speaker Calculator'!$C$29=\"Square\",CH$1,IF(OR(AND(ODD($A10)=$A10,ODD(CH$2)=CH$2),AND(EVEN($A10)=$A10,EVEN(CH$2)=CH$2)),CH$1,-100))","v":1565.625},{"$f":"IF('Ceiling Speaker Calculator'!$C$29=\"Square\",CI$1,IF(OR(AND(ODD($A10)=$A10,ODD(CI$2)=CI$2),AND(EVEN($A10)=$A10,EVEN(CI$2)=CI$2)),CI$1,-100))","v":1584.375},{"$f":"IF('Ceiling Speaker Calculator'!$C$29=\"Square\",CJ$1,IF(OR(AND(ODD($A10)=$A10,ODD(CJ$2)=CJ$2),AND(EVEN($A10)=$A10,EVEN(CJ$2)=CJ$2)),CJ$1,-100))","v":1603.125},{"$f":"IF('Ceiling Speaker Calculator'!$C$29=\"Square\",CK$1,IF(OR(AND(ODD($A10)=$A10,ODD(CK$2)=CK$2),AND(EVEN($A10)=$A10,EVEN(CK$2)=CK$2)),CK$1,-100))","v":1621.875},{"$f":"IF('Ceiling Speaker Calculator'!$C$29=\"Square\",CL$1,IF(OR(AND(ODD($A10)=$A10,ODD(CL$2)=CL$2),AND(EVEN($A10)=$A10,EVEN(CL$2)=CL$2)),CL$1,-100))","v":1640.625},{"$f":"IF('Ceiling Speaker Calculator'!$C$29=\"Square\",CM$1,IF(OR(AND(ODD($A10)=$A10,ODD(CM$2)=CM$2),AND(EVEN($A10)=$A10,EVEN(CM$2)=CM$2)),CM$1,-100))","v":1659.375},{"$f":"IF('Ceiling Speaker Calculator'!$C$29=\"Square\",CN$1,IF(OR(AND(ODD($A10)=$A10,ODD(CN$2)=CN$2),AND(EVEN($A10)=$A10,EVEN(CN$2)=CN$2)),CN$1,-100))","v":1678.125},{"$f":"IF('Ceiling Speaker Calculator'!$C$29=\"Square\",CO$1,IF(OR(AND(ODD($A10)=$A10,ODD(CO$2)=CO$2),AND(EVEN($A10)=$A10,EVEN(CO$2)=CO$2)),CO$1,-100))","v":1696.875},{"$f":"IF('Ceiling Speaker Calculator'!$C$29=\"Square\",CP$1,IF(OR(AND(ODD($A10)=$A10,ODD(CP$2)=CP$2),AND(EVEN($A10)=$A10,EVEN(CP$2)=CP$2)),CP$1,-100))","v":1715.625},{"$f":"IF('Ceiling Speaker Calculator'!$C$29=\"Square\",CQ$1,IF(OR(AND(ODD($A10)=$A10,ODD(CQ$2)=CQ$2),AND(EVEN($A10)=$A10,EVEN(CQ$2)=CQ$2)),CQ$1,-100))","v":1734.375},{"$f":"IF('Ceiling Speaker Calculator'!$C$29=\"Square\",CR$1,IF(OR(AND(ODD($A10)=$A10,ODD(CR$2)=CR$2),AND(EVEN($A10)=$A10,EVEN(CR$2)=CR$2)),CR$1,-100))","v":1753.125},{"$f":"IF('Ceiling Speaker Calculator'!$C$29=\"Square\",CS$1,IF(OR(AND(ODD($A10)=$A10,ODD(CS$2)=CS$2),AND(EVEN($A10)=$A10,EVEN(CS$2)=CS$2)),CS$1,-100))","v":1771.875},{"$f":"IF('Ceiling Speaker Calculator'!$C$29=\"Square\",CT$1,IF(OR(AND(ODD($A10)=$A10,ODD(CT$2)=CT$2),AND(EVEN($A10)=$A10,EVEN(CT$2)=CT$2)),CT$1,-100))","v":1790.625},{"$f":"IF('Ceiling Speaker Calculator'!$C$29=\"Square\",CU$1,IF(OR(AND(ODD($A10)=$A10,ODD(CU$2)=CU$2),AND(EVEN($A10)=$A10,EVEN(CU$2)=CU$2)),CU$1,-100))","v":1809.375},{"$f":"IF('Ceiling Speaker Calculator'!$C$29=\"Square\",CV$1,IF(OR(AND(ODD($A10)=$A10,ODD(CV$2)=CV$2),AND(EVEN($A10)=$A10,EVEN(CV$2)=CV$2)),CV$1,-100))","v":1828.125},{"$f":"IF('Ceiling Speaker Calculator'!$C$29=\"Square\",CW$1,IF(OR(AND(ODD($A10)=$A10,ODD(CW$2)=CW$2),AND(EVEN($A10)=$A10,EVEN(CW$2)=CW$2)),CW$1,-100))","v":1846.875},{"$f":"IF('Ceiling Speaker Calculator'!$C$29=\"Square\",CX$1,IF(OR(AND(ODD($A10)=$A10,ODD(CX$2)=CX$2),AND(EVEN($A10)=$A10,EVEN(CX$2)=CX$2)),CX$1,-100))","v":1865.625}]
[9,{"$f":"B10+'Ceiling Speaker Calculator'!$K$16","v":170},{"$f":"IF('Ceiling Speaker Calculator'!$C$29=\"Square\",C$1,IF(OR(AND(ODD($A11)=$A11,ODD(C$2)=C$2),AND(EVEN($A11)=$A11,EVEN(C$2)=C$2)),C$1,-100))","v":9.375},{"$f":"IF('Ceiling Speaker Calculator'!$C$29=\"Square\",D$1,IF(OR(AND(ODD($A11)=$A11,ODD(D$2)=D$2),AND(EVEN($A11)=$A11,EVEN(D$2)=D$2)),D$1,-100))","v":28.125},{"$f":"IF('Ceiling Speaker Calculator'!$C$29=\"Square\",E$1,IF(OR(AND(ODD($A11)=$A11,ODD(E$2)=E$2),AND(EVEN($A11)=$A11,EVEN(E$2)=E$2)),E$1,-100))","v":46.875},{"$f":"IF('Ceiling Speaker Calculator'!$C$29=\"Square\",F$1,IF(OR(AND(ODD($A11)=$A11,ODD(F$2)=F$2),AND(EVEN($A11)=$A11,EVEN(F$2)=F$2)),F$1,-100))","v":65.625},{"$f":"IF('Ceiling Speaker Calculator'!$C$29=\"Square\",G$1,IF(OR(AND(ODD($A11)=$A11,ODD(G$2)=G$2),AND(EVEN($A11)=$A11,EVEN(G$2)=G$2)),G$1,-100))","v":84.375},{"$f":"IF('Ceiling Speaker Calculator'!$C$29=\"Square\",H$1,IF(OR(AND(ODD($A11)=$A11,ODD(H$2)=H$2),AND(EVEN($A11)=$A11,EVEN(H$2)=H$2)),H$1,-100))","v":103.125},{"$f":"IF('Ceiling Speaker Calculator'!$C$29=\"Square\",I$1,IF(OR(AND(ODD($A11)=$A11,ODD(I$2)=I$2),AND(EVEN($A11)=$A11,EVEN(I$2)=I$2)),I$1,-100))","v":121.875},{"$f":"IF('Ceiling Speaker Calculator'!$C$29=\"Square\",J$1,IF(OR(AND(ODD($A11)=$A11,ODD(J$2)=J$2),AND(EVEN($A11)=$A11,EVEN(J$2)=J$2)),J$1,-100))","v":140.625},{"$f":"IF('Ceiling Speaker Calculator'!$C$29=\"Square\",K$1,IF(OR(AND(ODD($A11)=$A11,ODD(K$2)=K$2),AND(EVEN($A11)=$A11,EVEN(K$2)=K$2)),K$1,-100))","v":159.375},{"$f":"IF('Ceiling Speaker Calculator'!$C$29=\"Square\",L$1,IF(OR(AND(ODD($A11)=$A11,ODD(L$2)=L$2),AND(EVEN($A11)=$A11,EVEN(L$2)=L$2)),L$1,-100))","v":178.125},{"$f":"IF('Ceiling Speaker Calculator'!$C$29=\"Square\",M$1,IF(OR(AND(ODD($A11)=$A11,ODD(M$2)=M$2),AND(EVEN($A11)=$A11,EVEN(M$2)=M$2)),M$1,-100))","v":196.875},{"$f":"IF('Ceiling Speaker Calculator'!$C$29=\"Square\",N$1,IF(OR(AND(ODD($A11)=$A11,ODD(N$2)=N$2),AND(EVEN($A11)=$A11,EVEN(N$2)=N$2)),N$1,-100))","v":215.625},{"$f":"IF('Ceiling Speaker Calculator'!$C$29=\"Square\",O$1,IF(OR(AND(ODD($A11)=$A11,ODD(O$2)=O$2),AND(EVEN($A11)=$A11,EVEN(O$2)=O$2)),O$1,-100))","v":234.375},{"$f":"IF('Ceiling Speaker Calculator'!$C$29=\"Square\",P$1,IF(OR(AND(ODD($A11)=$A11,ODD(P$2)=P$2),AND(EVEN($A11)=$A11,EVEN(P$2)=P$2)),P$1,-100))","v":253.125},{"$f":"IF('Ceiling Speaker Calculator'!$C$29=\"Square\",Q$1,IF(OR(AND(ODD($A11)=$A11,ODD(Q$2)=Q$2),AND(EVEN($A11)=$A11,EVEN(Q$2)=Q$2)),Q$1,-100))","v":271.875},{"$f":"IF('Ceiling Speaker Calculator'!$C$29=\"Square\",R$1,IF(OR(AND(ODD($A11)=$A11,ODD(R$2)=R$2),AND(EVEN($A11)=$A11,EVEN(R$2)=R$2)),R$1,-100))","v":290.625},{"$f":"IF('Ceiling Speaker Calculator'!$C$29=\"Square\",S$1,IF(OR(AND(ODD($A11)=$A11,ODD(S$2)=S$2),AND(EVEN($A11)=$A11,EVEN(S$2)=S$2)),S$1,-100))","v":309.375},{"$f":"IF('Ceiling Speaker Calculator'!$C$29=\"Square\",T$1,IF(OR(AND(ODD($A11)=$A11,ODD(T$2)=T$2),AND(EVEN($A11)=$A11,EVEN(T$2)=T$2)),T$1,-100))","v":328.125},{"$f":"IF('Ceiling Speaker Calculator'!$C$29=\"Square\",U$1,IF(OR(AND(ODD($A11)=$A11,ODD(U$2)=U$2),AND(EVEN($A11)=$A11,EVEN(U$2)=U$2)),U$1,-100))","v":346.875},{"$f":"IF('Ceiling Speaker Calculator'!$C$29=\"Square\",V$1,IF(OR(AND(ODD($A11)=$A11,ODD(V$2)=V$2),AND(EVEN($A11)=$A11,EVEN(V$2)=V$2)),V$1,-100))","v":365.625},{"$f":"IF('Ceiling Speaker Calculator'!$C$29=\"Square\",W$1,IF(OR(AND(ODD($A11)=$A11,ODD(W$2)=W$2),AND(EVEN($A11)=$A11,EVEN(W$2)=W$2)),W$1,-100))","v":384.375},{"$f":"IF('Ceiling Speaker Calculator'!$C$29=\"Square\",X$1,IF(OR(AND(ODD($A11)=$A11,ODD(X$2)=X$2),AND(EVEN($A11)=$A11,EVEN(X$2)=X$2)),X$1,-100))","v":403.125},{"$f":"IF('Ceiling Speaker Calculator'!$C$29=\"Square\",Y$1,IF(OR(AND(ODD($A11)=$A11,ODD(Y$2)=Y$2),AND(EVEN($A11)=$A11,EVEN(Y$2)=Y$2)),Y$1,-100))","v":421.875},{"$f":"IF('Ceiling Speaker Calculator'!$C$29=\"Square\",Z$1,IF(OR(AND(ODD($A11)=$A11,ODD(Z$2)=Z$2),AND(EVEN($A11)=$A11,EVEN(Z$2)=Z$2)),Z$1,-100))","v":440.625},{"$f":"IF('Ceiling Speaker Calculator'!$C$29=\"Square\",AA$1,IF(OR(AND(ODD($A11)=$A11,ODD(AA$2)=AA$2),AND(EVEN($A11)=$A11,EVEN(AA$2)=AA$2)),AA$1,-100))","v":459.375},{"$f":"IF('Ceiling Speaker Calculator'!$C$29=\"Square\",AB$1,IF(OR(AND(ODD($A11)=$A11,ODD(AB$2)=AB$2),AND(EVEN($A11)=$A11,EVEN(AB$2)=AB$2)),AB$1,-100))","v":478.125},{"$f":"IF('Ceiling Speaker Calculator'!$C$29=\"Square\",AC$1,IF(OR(AND(ODD($A11)=$A11,ODD(AC$2)=AC$2),AND(EVEN($A11)=$A11,EVEN(AC$2)=AC$2)),AC$1,-100))","v":496.875},{"$f":"IF('Ceiling Speaker Calculator'!$C$29=\"Square\",AD$1,IF(OR(AND(ODD($A11)=$A11,ODD(AD$2)=AD$2),AND(EVEN($A11)=$A11,EVEN(AD$2)=AD$2)),AD$1,-100))","v":515.625},{"$f":"IF('Ceiling Speaker Calculator'!$C$29=\"Square\",AE$1,IF(OR(AND(ODD($A11)=$A11,ODD(AE$2)=AE$2),AND(EVEN($A11)=$A11,EVEN(AE$2)=AE$2)),AE$1,-100))","v":534.375},{"$f":"IF('Ceiling Speaker Calculator'!$C$29=\"Square\",AF$1,IF(OR(AND(ODD($A11)=$A11,ODD(AF$2)=AF$2),AND(EVEN($A11)=$A11,EVEN(AF$2)=AF$2)),AF$1,-100))","v":553.125},{"$f":"IF('Ceiling Speaker Calculator'!$C$29=\"Square\",AG$1,IF(OR(AND(ODD($A11)=$A11,ODD(AG$2)=AG$2),AND(EVEN($A11)=$A11,EVEN(AG$2)=AG$2)),AG$1,-100))","v":571.875},{"$f":"IF('Ceiling Speaker Calculator'!$C$29=\"Square\",AH$1,IF(OR(AND(ODD($A11)=$A11,ODD(AH$2)=AH$2),AND(EVEN($A11)=$A11,EVEN(AH$2)=AH$2)),AH$1,-100))","v":590.625},{"$f":"IF('Ceiling Speaker Calculator'!$C$29=\"Square\",AI$1,IF(OR(AND(ODD($A11)=$A11,ODD(AI$2)=AI$2),AND(EVEN($A11)=$A11,EVEN(AI$2)=AI$2)),AI$1,-100))","v":609.375},{"$f":"IF('Ceiling Speaker Calculator'!$C$29=\"Square\",AJ$1,IF(OR(AND(ODD($A11)=$A11,ODD(AJ$2)=AJ$2),AND(EVEN($A11)=$A11,EVEN(AJ$2)=AJ$2)),AJ$1,-100))","v":628.125},{"$f":"IF('Ceiling Speaker Calculator'!$C$29=\"Square\",AK$1,IF(OR(AND(ODD($A11)=$A11,ODD(AK$2)=AK$2),AND(EVEN($A11)=$A11,EVEN(AK$2)=AK$2)),AK$1,-100))","v":646.875},{"$f":"IF('Ceiling Speaker Calculator'!$C$29=\"Square\",AL$1,IF(OR(AND(ODD($A11)=$A11,ODD(AL$2)=AL$2),AND(EVEN($A11)=$A11,EVEN(AL$2)=AL$2)),AL$1,-100))","v":665.625},{"$f":"IF('Ceiling Speaker Calculator'!$C$29=\"Square\",AM$1,IF(OR(AND(ODD($A11)=$A11,ODD(AM$2)=AM$2),AND(EVEN($A11)=$A11,EVEN(AM$2)=AM$2)),AM$1,-100))","v":684.375},{"$f":"IF('Ceiling Speaker Calculator'!$C$29=\"Square\",AN$1,IF(OR(AND(ODD($A11)=$A11,ODD(AN$2)=AN$2),AND(EVEN($A11)=$A11,EVEN(AN$2)=AN$2)),AN$1,-100))","v":703.125},{"$f":"IF('Ceiling Speaker Calculator'!$C$29=\"Square\",AO$1,IF(OR(AND(ODD($A11)=$A11,ODD(AO$2)=AO$2),AND(EVEN($A11)=$A11,EVEN(AO$2)=AO$2)),AO$1,-100))","v":721.875},{"$f":"IF('Ceiling Speaker Calculator'!$C$29=\"Square\",AP$1,IF(OR(AND(ODD($A11)=$A11,ODD(AP$2)=AP$2),AND(EVEN($A11)=$A11,EVEN(AP$2)=AP$2)),AP$1,-100))","v":740.625},{"$f":"IF('Ceiling Speaker Calculator'!$C$29=\"Square\",AQ$1,IF(OR(AND(ODD($A11)=$A11,ODD(AQ$2)=AQ$2),AND(EVEN($A11)=$A11,EVEN(AQ$2)=AQ$2)),AQ$1,-100))","v":759.375},{"$f":"IF('Ceiling Speaker Calculator'!$C$29=\"Square\",AR$1,IF(OR(AND(ODD($A11)=$A11,ODD(AR$2)=AR$2),AND(EVEN($A11)=$A11,EVEN(AR$2)=AR$2)),AR$1,-100))","v":778.125},{"$f":"IF('Ceiling Speaker Calculator'!$C$29=\"Square\",AS$1,IF(OR(AND(ODD($A11)=$A11,ODD(AS$2)=AS$2),AND(EVEN($A11)=$A11,EVEN(AS$2)=AS$2)),AS$1,-100))","v":796.875},{"$f":"IF('Ceiling Speaker Calculator'!$C$29=\"Square\",AT$1,IF(OR(AND(ODD($A11)=$A11,ODD(AT$2)=AT$2),AND(EVEN($A11)=$A11,EVEN(AT$2)=AT$2)),AT$1,-100))","v":815.625},{"$f":"IF('Ceiling Speaker Calculator'!$C$29=\"Square\",AU$1,IF(OR(AND(ODD($A11)=$A11,ODD(AU$2)=AU$2),AND(EVEN($A11)=$A11,EVEN(AU$2)=AU$2)),AU$1,-100))","v":834.375},{"$f":"IF('Ceiling Speaker Calculator'!$C$29=\"Square\",AV$1,IF(OR(AND(ODD($A11)=$A11,ODD(AV$2)=AV$2),AND(EVEN($A11)=$A11,EVEN(AV$2)=AV$2)),AV$1,-100))","v":853.125},{"$f":"IF('Ceiling Speaker Calculator'!$C$29=\"Square\",AW$1,IF(OR(AND(ODD($A11)=$A11,ODD(AW$2)=AW$2),AND(EVEN($A11)=$A11,EVEN(AW$2)=AW$2)),AW$1,-100))","v":871.875},{"$f":"IF('Ceiling Speaker Calculator'!$C$29=\"Square\",AX$1,IF(OR(AND(ODD($A11)=$A11,ODD(AX$2)=AX$2),AND(EVEN($A11)=$A11,EVEN(AX$2)=AX$2)),AX$1,-100))","v":890.625},{"$f":"IF('Ceiling Speaker Calculator'!$C$29=\"Square\",AY$1,IF(OR(AND(ODD($A11)=$A11,ODD(AY$2)=AY$2),AND(EVEN($A11)=$A11,EVEN(AY$2)=AY$2)),AY$1,-100))","v":909.375},{"$f":"IF('Ceiling Speaker Calculator'!$C$29=\"Square\",AZ$1,IF(OR(AND(ODD($A11)=$A11,ODD(AZ$2)=AZ$2),AND(EVEN($A11)=$A11,EVEN(AZ$2)=AZ$2)),AZ$1,-100))","v":928.125},{"$f":"IF('Ceiling Speaker Calculator'!$C$29=\"Square\",BA$1,IF(OR(AND(ODD($A11)=$A11,ODD(BA$2)=BA$2),AND(EVEN($A11)=$A11,EVEN(BA$2)=BA$2)),BA$1,-100))","v":946.875},{"$f":"IF('Ceiling Speaker Calculator'!$C$29=\"Square\",BB$1,IF(OR(AND(ODD($A11)=$A11,ODD(BB$2)=BB$2),AND(EVEN($A11)=$A11,EVEN(BB$2)=BB$2)),BB$1,-100))","v":965.625},{"$f":"IF('Ceiling Speaker Calculator'!$C$29=\"Square\",BC$1,IF(OR(AND(ODD($A11)=$A11,ODD(BC$2)=BC$2),AND(EVEN($A11)=$A11,EVEN(BC$2)=BC$2)),BC$1,-100))","v":984.375},{"$f":"IF('Ceiling Speaker Calculator'!$C$29=\"Square\",BD$1,IF(OR(AND(ODD($A11)=$A11,ODD(BD$2)=BD$2),AND(EVEN($A11)=$A11,EVEN(BD$2)=BD$2)),BD$1,-100))","v":1003.125},{"$f":"IF('Ceiling Speaker Calculator'!$C$29=\"Square\",BE$1,IF(OR(AND(ODD($A11)=$A11,ODD(BE$2)=BE$2),AND(EVEN($A11)=$A11,EVEN(BE$2)=BE$2)),BE$1,-100))","v":1021.875},{"$f":"IF('Ceiling Speaker Calculator'!$C$29=\"Square\",BF$1,IF(OR(AND(ODD($A11)=$A11,ODD(BF$2)=BF$2),AND(EVEN($A11)=$A11,EVEN(BF$2)=BF$2)),BF$1,-100))","v":1040.625},{"$f":"IF('Ceiling Speaker Calculator'!$C$29=\"Square\",BG$1,IF(OR(AND(ODD($A11)=$A11,ODD(BG$2)=BG$2),AND(EVEN($A11)=$A11,EVEN(BG$2)=BG$2)),BG$1,-100))","v":1059.375},{"$f":"IF('Ceiling Speaker Calculator'!$C$29=\"Square\",BH$1,IF(OR(AND(ODD($A11)=$A11,ODD(BH$2)=BH$2),AND(EVEN($A11)=$A11,EVEN(BH$2)=BH$2)),BH$1,-100))","v":1078.125},{"$f":"IF('Ceiling Speaker Calculator'!$C$29=\"Square\",BI$1,IF(OR(AND(ODD($A11)=$A11,ODD(BI$2)=BI$2),AND(EVEN($A11)=$A11,EVEN(BI$2)=BI$2)),BI$1,-100))","v":1096.875},{"$f":"IF('Ceiling Speaker Calculator'!$C$29=\"Square\",BJ$1,IF(OR(AND(ODD($A11)=$A11,ODD(BJ$2)=BJ$2),AND(EVEN($A11)=$A11,EVEN(BJ$2)=BJ$2)),BJ$1,-100))","v":1115.625},{"$f":"IF('Ceiling Speaker Calculator'!$C$29=\"Square\",BK$1,IF(OR(AND(ODD($A11)=$A11,ODD(BK$2)=BK$2),AND(EVEN($A11)=$A11,EVEN(BK$2)=BK$2)),BK$1,-100))","v":1134.375},{"$f":"IF('Ceiling Speaker Calculator'!$C$29=\"Square\",BL$1,IF(OR(AND(ODD($A11)=$A11,ODD(BL$2)=BL$2),AND(EVEN($A11)=$A11,EVEN(BL$2)=BL$2)),BL$1,-100))","v":1153.125},{"$f":"IF('Ceiling Speaker Calculator'!$C$29=\"Square\",BM$1,IF(OR(AND(ODD($A11)=$A11,ODD(BM$2)=BM$2),AND(EVEN($A11)=$A11,EVEN(BM$2)=BM$2)),BM$1,-100))","v":1171.875},{"$f":"IF('Ceiling Speaker Calculator'!$C$29=\"Square\",BN$1,IF(OR(AND(ODD($A11)=$A11,ODD(BN$2)=BN$2),AND(EVEN($A11)=$A11,EVEN(BN$2)=BN$2)),BN$1,-100))","v":1190.625},{"$f":"IF('Ceiling Speaker Calculator'!$C$29=\"Square\",BO$1,IF(OR(AND(ODD($A11)=$A11,ODD(BO$2)=BO$2),AND(EVEN($A11)=$A11,EVEN(BO$2)=BO$2)),BO$1,-100))","v":1209.375},{"$f":"IF('Ceiling Speaker Calculator'!$C$29=\"Square\",BP$1,IF(OR(AND(ODD($A11)=$A11,ODD(BP$2)=BP$2),AND(EVEN($A11)=$A11,EVEN(BP$2)=BP$2)),BP$1,-100))","v":1228.125},{"$f":"IF('Ceiling Speaker Calculator'!$C$29=\"Square\",BQ$1,IF(OR(AND(ODD($A11)=$A11,ODD(BQ$2)=BQ$2),AND(EVEN($A11)=$A11,EVEN(BQ$2)=BQ$2)),BQ$1,-100))","v":1246.875},{"$f":"IF('Ceiling Speaker Calculator'!$C$29=\"Square\",BR$1,IF(OR(AND(ODD($A11)=$A11,ODD(BR$2)=BR$2),AND(EVEN($A11)=$A11,EVEN(BR$2)=BR$2)),BR$1,-100))","v":1265.625},{"$f":"IF('Ceiling Speaker Calculator'!$C$29=\"Square\",BS$1,IF(OR(AND(ODD($A11)=$A11,ODD(BS$2)=BS$2),AND(EVEN($A11)=$A11,EVEN(BS$2)=BS$2)),BS$1,-100))","v":1284.375},{"$f":"IF('Ceiling Speaker Calculator'!$C$29=\"Square\",BT$1,IF(OR(AND(ODD($A11)=$A11,ODD(BT$2)=BT$2),AND(EVEN($A11)=$A11,EVEN(BT$2)=BT$2)),BT$1,-100))","v":1303.125},{"$f":"IF('Ceiling Speaker Calculator'!$C$29=\"Square\",BU$1,IF(OR(AND(ODD($A11)=$A11,ODD(BU$2)=BU$2),AND(EVEN($A11)=$A11,EVEN(BU$2)=BU$2)),BU$1,-100))","v":1321.875},{"$f":"IF('Ceiling Speaker Calculator'!$C$29=\"Square\",BV$1,IF(OR(AND(ODD($A11)=$A11,ODD(BV$2)=BV$2),AND(EVEN($A11)=$A11,EVEN(BV$2)=BV$2)),BV$1,-100))","v":1340.625},{"$f":"IF('Ceiling Speaker Calculator'!$C$29=\"Square\",BW$1,IF(OR(AND(ODD($A11)=$A11,ODD(BW$2)=BW$2),AND(EVEN($A11)=$A11,EVEN(BW$2)=BW$2)),BW$1,-100))","v":1359.375},{"$f":"IF('Ceiling Speaker Calculator'!$C$29=\"Square\",BX$1,IF(OR(AND(ODD($A11)=$A11,ODD(BX$2)=BX$2),AND(EVEN($A11)=$A11,EVEN(BX$2)=BX$2)),BX$1,-100))","v":1378.125},{"$f":"IF('Ceiling Speaker Calculator'!$C$29=\"Square\",BY$1,IF(OR(AND(ODD($A11)=$A11,ODD(BY$2)=BY$2),AND(EVEN($A11)=$A11,EVEN(BY$2)=BY$2)),BY$1,-100))","v":1396.875},{"$f":"IF('Ceiling Speaker Calculator'!$C$29=\"Square\",BZ$1,IF(OR(AND(ODD($A11)=$A11,ODD(BZ$2)=BZ$2),AND(EVEN($A11)=$A11,EVEN(BZ$2)=BZ$2)),BZ$1,-100))","v":1415.625},{"$f":"IF('Ceiling Speaker Calculator'!$C$29=\"Square\",CA$1,IF(OR(AND(ODD($A11)=$A11,ODD(CA$2)=CA$2),AND(EVEN($A11)=$A11,EVEN(CA$2)=CA$2)),CA$1,-100))","v":1434.375},{"$f":"IF('Ceiling Speaker Calculator'!$C$29=\"Square\",CB$1,IF(OR(AND(ODD($A11)=$A11,ODD(CB$2)=CB$2),AND(EVEN($A11)=$A11,EVEN(CB$2)=CB$2)),CB$1,-100))","v":1453.125},{"$f":"IF('Ceiling Speaker Calculator'!$C$29=\"Square\",CC$1,IF(OR(AND(ODD($A11)=$A11,ODD(CC$2)=CC$2),AND(EVEN($A11)=$A11,EVEN(CC$2)=CC$2)),CC$1,-100))","v":1471.875},{"$f":"IF('Ceiling Speaker Calculator'!$C$29=\"Square\",CD$1,IF(OR(AND(ODD($A11)=$A11,ODD(CD$2)=CD$2),AND(EVEN($A11)=$A11,EVEN(CD$2)=CD$2)),CD$1,-100))","v":1490.625},{"$f":"IF('Ceiling Speaker Calculator'!$C$29=\"Square\",CE$1,IF(OR(AND(ODD($A11)=$A11,ODD(CE$2)=CE$2),AND(EVEN($A11)=$A11,EVEN(CE$2)=CE$2)),CE$1,-100))","v":1509.375},{"$f":"IF('Ceiling Speaker Calculator'!$C$29=\"Square\",CF$1,IF(OR(AND(ODD($A11)=$A11,ODD(CF$2)=CF$2),AND(EVEN($A11)=$A11,EVEN(CF$2)=CF$2)),CF$1,-100))","v":1528.125},{"$f":"IF('Ceiling Speaker Calculator'!$C$29=\"Square\",CG$1,IF(OR(AND(ODD($A11)=$A11,ODD(CG$2)=CG$2),AND(EVEN($A11)=$A11,EVEN(CG$2)=CG$2)),CG$1,-100))","v":1546.875},{"$f":"IF('Ceiling Speaker Calculator'!$C$29=\"Square\",CH$1,IF(OR(AND(ODD($A11)=$A11,ODD(CH$2)=CH$2),AND(EVEN($A11)=$A11,EVEN(CH$2)=CH$2)),CH$1,-100))","v":1565.625},{"$f":"IF('Ceiling Speaker Calculator'!$C$29=\"Square\",CI$1,IF(OR(AND(ODD($A11)=$A11,ODD(CI$2)=CI$2),AND(EVEN($A11)=$A11,EVEN(CI$2)=CI$2)),CI$1,-100))","v":1584.375},{"$f":"IF('Ceiling Speaker Calculator'!$C$29=\"Square\",CJ$1,IF(OR(AND(ODD($A11)=$A11,ODD(CJ$2)=CJ$2),AND(EVEN($A11)=$A11,EVEN(CJ$2)=CJ$2)),CJ$1,-100))","v":1603.125},{"$f":"IF('Ceiling Speaker Calculator'!$C$29=\"Square\",CK$1,IF(OR(AND(ODD($A11)=$A11,ODD(CK$2)=CK$2),AND(EVEN($A11)=$A11,EVEN(CK$2)=CK$2)),CK$1,-100))","v":1621.875},{"$f":"IF('Ceiling Speaker Calculator'!$C$29=\"Square\",CL$1,IF(OR(AND(ODD($A11)=$A11,ODD(CL$2)=CL$2),AND(EVEN($A11)=$A11,EVEN(CL$2)=CL$2)),CL$1,-100))","v":1640.625},{"$f":"IF('Ceiling Speaker Calculator'!$C$29=\"Square\",CM$1,IF(OR(AND(ODD($A11)=$A11,ODD(CM$2)=CM$2),AND(EVEN($A11)=$A11,EVEN(CM$2)=CM$2)),CM$1,-100))","v":1659.375},{"$f":"IF('Ceiling Speaker Calculator'!$C$29=\"Square\",CN$1,IF(OR(AND(ODD($A11)=$A11,ODD(CN$2)=CN$2),AND(EVEN($A11)=$A11,EVEN(CN$2)=CN$2)),CN$1,-100))","v":1678.125},{"$f":"IF('Ceiling Speaker Calculator'!$C$29=\"Square\",CO$1,IF(OR(AND(ODD($A11)=$A11,ODD(CO$2)=CO$2),AND(EVEN($A11)=$A11,EVEN(CO$2)=CO$2)),CO$1,-100))","v":1696.875},{"$f":"IF('Ceiling Speaker Calculator'!$C$29=\"Square\",CP$1,IF(OR(AND(ODD($A11)=$A11,ODD(CP$2)=CP$2),AND(EVEN($A11)=$A11,EVEN(CP$2)=CP$2)),CP$1,-100))","v":1715.625},{"$f":"IF('Ceiling Speaker Calculator'!$C$29=\"Square\",CQ$1,IF(OR(AND(ODD($A11)=$A11,ODD(CQ$2)=CQ$2),AND(EVEN($A11)=$A11,EVEN(CQ$2)=CQ$2)),CQ$1,-100))","v":1734.375},{"$f":"IF('Ceiling Speaker Calculator'!$C$29=\"Square\",CR$1,IF(OR(AND(ODD($A11)=$A11,ODD(CR$2)=CR$2),AND(EVEN($A11)=$A11,EVEN(CR$2)=CR$2)),CR$1,-100))","v":1753.125},{"$f":"IF('Ceiling Speaker Calculator'!$C$29=\"Square\",CS$1,IF(OR(AND(ODD($A11)=$A11,ODD(CS$2)=CS$2),AND(EVEN($A11)=$A11,EVEN(CS$2)=CS$2)),CS$1,-100))","v":1771.875},{"$f":"IF('Ceiling Speaker Calculator'!$C$29=\"Square\",CT$1,IF(OR(AND(ODD($A11)=$A11,ODD(CT$2)=CT$2),AND(EVEN($A11)=$A11,EVEN(CT$2)=CT$2)),CT$1,-100))","v":1790.625},{"$f":"IF('Ceiling Speaker Calculator'!$C$29=\"Square\",CU$1,IF(OR(AND(ODD($A11)=$A11,ODD(CU$2)=CU$2),AND(EVEN($A11)=$A11,EVEN(CU$2)=CU$2)),CU$1,-100))","v":1809.375},{"$f":"IF('Ceiling Speaker Calculator'!$C$29=\"Square\",CV$1,IF(OR(AND(ODD($A11)=$A11,ODD(CV$2)=CV$2),AND(EVEN($A11)=$A11,EVEN(CV$2)=CV$2)),CV$1,-100))","v":1828.125},{"$f":"IF('Ceiling Speaker Calculator'!$C$29=\"Square\",CW$1,IF(OR(AND(ODD($A11)=$A11,ODD(CW$2)=CW$2),AND(EVEN($A11)=$A11,EVEN(CW$2)=CW$2)),CW$1,-100))","v":1846.875},{"$f":"IF('Ceiling Speaker Calculator'!$C$29=\"Square\",CX$1,IF(OR(AND(ODD($A11)=$A11,ODD(CX$2)=CX$2),AND(EVEN($A11)=$A11,EVEN(CX$2)=CX$2)),CX$1,-100))","v":1865.625}]
[10,{"$f":"B11+'Ceiling Speaker Calculator'!$K$16","v":190},{"$f":"IF('Ceiling Speaker Calculator'!$C$29=\"Square\",C$1,IF(OR(AND(ODD($A12)=$A12,ODD(C$2)=C$2),AND(EVEN($A12)=$A12,EVEN(C$2)=C$2)),C$1,-100))","v":9.375},{"$f":"IF('Ceiling Speaker Calculator'!$C$29=\"Square\",D$1,IF(OR(AND(ODD($A12)=$A12,ODD(D$2)=D$2),AND(EVEN($A12)=$A12,EVEN(D$2)=D$2)),D$1,-100))","v":28.125},{"$f":"IF('Ceiling Speaker Calculator'!$C$29=\"Square\",E$1,IF(OR(AND(ODD($A12)=$A12,ODD(E$2)=E$2),AND(EVEN($A12)=$A12,EVEN(E$2)=E$2)),E$1,-100))","v":46.875},{"$f":"IF('Ceiling Speaker Calculator'!$C$29=\"Square\",F$1,IF(OR(AND(ODD($A12)=$A12,ODD(F$2)=F$2),AND(EVEN($A12)=$A12,EVEN(F$2)=F$2)),F$1,-100))","v":65.625},{"$f":"IF('Ceiling Speaker Calculator'!$C$29=\"Square\",G$1,IF(OR(AND(ODD($A12)=$A12,ODD(G$2)=G$2),AND(EVEN($A12)=$A12,EVEN(G$2)=G$2)),G$1,-100))","v":84.375},{"$f":"IF('Ceiling Speaker Calculator'!$C$29=\"Square\",H$1,IF(OR(AND(ODD($A12)=$A12,ODD(H$2)=H$2),AND(EVEN($A12)=$A12,EVEN(H$2)=H$2)),H$1,-100))","v":103.125},{"$f":"IF('Ceiling Speaker Calculator'!$C$29=\"Square\",I$1,IF(OR(AND(ODD($A12)=$A12,ODD(I$2)=I$2),AND(EVEN($A12)=$A12,EVEN(I$2)=I$2)),I$1,-100))","v":121.875},{"$f":"IF('Ceiling Speaker Calculator'!$C$29=\"Square\",J$1,IF(OR(AND(ODD($A12)=$A12,ODD(J$2)=J$2),AND(EVEN($A12)=$A12,EVEN(J$2)=J$2)),J$1,-100))","v":140.625},{"$f":"IF('Ceiling Speaker Calculator'!$C$29=\"Square\",K$1,IF(OR(AND(ODD($A12)=$A12,ODD(K$2)=K$2),AND(EVEN($A12)=$A12,EVEN(K$2)=K$2)),K$1,-100))","v":159.375},{"$f":"IF('Ceiling Speaker Calculator'!$C$29=\"Square\",L$1,IF(OR(AND(ODD($A12)=$A12,ODD(L$2)=L$2),AND(EVEN($A12)=$A12,EVEN(L$2)=L$2)),L$1,-100))","v":178.125},{"$f":"IF('Ceiling Speaker Calculator'!$C$29=\"Square\",M$1,IF(OR(AND(ODD($A12)=$A12,ODD(M$2)=M$2),AND(EVEN($A12)=$A12,EVEN(M$2)=M$2)),M$1,-100))","v":196.875},{"$f":"IF('Ceiling Speaker Calculator'!$C$29=\"Square\",N$1,IF(OR(AND(ODD($A12)=$A12,ODD(N$2)=N$2),AND(EVEN($A12)=$A12,EVEN(N$2)=N$2)),N$1,-100))","v":215.625},{"$f":"IF('Ceiling Speaker Calculator'!$C$29=\"Square\",O$1,IF(OR(AND(ODD($A12)=$A12,ODD(O$2)=O$2),AND(EVEN($A12)=$A12,EVEN(O$2)=O$2)),O$1,-100))","v":234.375},{"$f":"IF('Ceiling Speaker Calculator'!$C$29=\"Square\",P$1,IF(OR(AND(ODD($A12)=$A12,ODD(P$2)=P$2),AND(EVEN($A12)=$A12,EVEN(P$2)=P$2)),P$1,-100))","v":253.125},{"$f":"IF('Ceiling Speaker Calculator'!$C$29=\"Square\",Q$1,IF(OR(AND(ODD($A12)=$A12,ODD(Q$2)=Q$2),AND(EVEN($A12)=$A12,EVEN(Q$2)=Q$2)),Q$1,-100))","v":271.875},{"$f":"IF('Ceiling Speaker Calculator'!$C$29=\"Square\",R$1,IF(OR(AND(ODD($A12)=$A12,ODD(R$2)=R$2),AND(EVEN($A12)=$A12,EVEN(R$2)=R$2)),R$1,-100))","v":290.625},{"$f":"IF('Ceiling Speaker Calculator'!$C$29=\"Square\",S$1,IF(OR(AND(ODD($A12)=$A12,ODD(S$2)=S$2),AND(EVEN($A12)=$A12,EVEN(S$2)=S$2)),S$1,-100))","v":309.375},{"$f":"IF('Ceiling Speaker Calculator'!$C$29=\"Square\",T$1,IF(OR(AND(ODD($A12)=$A12,ODD(T$2)=T$2),AND(EVEN($A12)=$A12,EVEN(T$2)=T$2)),T$1,-100))","v":328.125},{"$f":"IF('Ceiling Speaker Calculator'!$C$29=\"Square\",U$1,IF(OR(AND(ODD($A12)=$A12,ODD(U$2)=U$2),AND(EVEN($A12)=$A12,EVEN(U$2)=U$2)),U$1,-100))","v":346.875},{"$f":"IF('Ceiling Speaker Calculator'!$C$29=\"Square\",V$1,IF(OR(AND(ODD($A12)=$A12,ODD(V$2)=V$2),AND(EVEN($A12)=$A12,EVEN(V$2)=V$2)),V$1,-100))","v":365.625},{"$f":"IF('Ceiling Speaker Calculator'!$C$29=\"Square\",W$1,IF(OR(AND(ODD($A12)=$A12,ODD(W$2)=W$2),AND(EVEN($A12)=$A12,EVEN(W$2)=W$2)),W$1,-100))","v":384.375},{"$f":"IF('Ceiling Speaker Calculator'!$C$29=\"Square\",X$1,IF(OR(AND(ODD($A12)=$A12,ODD(X$2)=X$2),AND(EVEN($A12)=$A12,EVEN(X$2)=X$2)),X$1,-100))","v":403.125},{"$f":"IF('Ceiling Speaker Calculator'!$C$29=\"Square\",Y$1,IF(OR(AND(ODD($A12)=$A12,ODD(Y$2)=Y$2),AND(EVEN($A12)=$A12,EVEN(Y$2)=Y$2)),Y$1,-100))","v":421.875},{"$f":"IF('Ceiling Speaker Calculator'!$C$29=\"Square\",Z$1,IF(OR(AND(ODD($A12)=$A12,ODD(Z$2)=Z$2),AND(EVEN($A12)=$A12,EVEN(Z$2)=Z$2)),Z$1,-100))","v":440.625},{"$f":"IF('Ceiling Speaker Calculator'!$C$29=\"Square\",AA$1,IF(OR(AND(ODD($A12)=$A12,ODD(AA$2)=AA$2),AND(EVEN($A12)=$A12,EVEN(AA$2)=AA$2)),AA$1,-100))","v":459.375},{"$f":"IF('Ceiling Speaker Calculator'!$C$29=\"Square\",AB$1,IF(OR(AND(ODD($A12)=$A12,ODD(AB$2)=AB$2),AND(EVEN($A12)=$A12,EVEN(AB$2)=AB$2)),AB$1,-100))","v":478.125},{"$f":"IF('Ceiling Speaker Calculator'!$C$29=\"Square\",AC$1,IF(OR(AND(ODD($A12)=$A12,ODD(AC$2)=AC$2),AND(EVEN($A12)=$A12,EVEN(AC$2)=AC$2)),AC$1,-100))","v":496.875},{"$f":"IF('Ceiling Speaker Calculator'!$C$29=\"Square\",AD$1,IF(OR(AND(ODD($A12)=$A12,ODD(AD$2)=AD$2),AND(EVEN($A12)=$A12,EVEN(AD$2)=AD$2)),AD$1,-100))","v":515.625},{"$f":"IF('Ceiling Speaker Calculator'!$C$29=\"Square\",AE$1,IF(OR(AND(ODD($A12)=$A12,ODD(AE$2)=AE$2),AND(EVEN($A12)=$A12,EVEN(AE$2)=AE$2)),AE$1,-100))","v":534.375},{"$f":"IF('Ceiling Speaker Calculator'!$C$29=\"Square\",AF$1,IF(OR(AND(ODD($A12)=$A12,ODD(AF$2)=AF$2),AND(EVEN($A12)=$A12,EVEN(AF$2)=AF$2)),AF$1,-100))","v":553.125},{"$f":"IF('Ceiling Speaker Calculator'!$C$29=\"Square\",AG$1,IF(OR(AND(ODD($A12)=$A12,ODD(AG$2)=AG$2),AND(EVEN($A12)=$A12,EVEN(AG$2)=AG$2)),AG$1,-100))","v":571.875},{"$f":"IF('Ceiling Speaker Calculator'!$C$29=\"Square\",AH$1,IF(OR(AND(ODD($A12)=$A12,ODD(AH$2)=AH$2),AND(EVEN($A12)=$A12,EVEN(AH$2)=AH$2)),AH$1,-100))","v":590.625},{"$f":"IF('Ceiling Speaker Calculator'!$C$29=\"Square\",AI$1,IF(OR(AND(ODD($A12)=$A12,ODD(AI$2)=AI$2),AND(EVEN($A12)=$A12,EVEN(AI$2)=AI$2)),AI$1,-100))","v":609.375},{"$f":"IF('Ceiling Speaker Calculator'!$C$29=\"Square\",AJ$1,IF(OR(AND(ODD($A12)=$A12,ODD(AJ$2)=AJ$2),AND(EVEN($A12)=$A12,EVEN(AJ$2)=AJ$2)),AJ$1,-100))","v":628.125},{"$f":"IF('Ceiling Speaker Calculator'!$C$29=\"Square\",AK$1,IF(OR(AND(ODD($A12)=$A12,ODD(AK$2)=AK$2),AND(EVEN($A12)=$A12,EVEN(AK$2)=AK$2)),AK$1,-100))","v":646.875},{"$f":"IF('Ceiling Speaker Calculator'!$C$29=\"Square\",AL$1,IF(OR(AND(ODD($A12)=$A12,ODD(AL$2)=AL$2),AND(EVEN($A12)=$A12,EVEN(AL$2)=AL$2)),AL$1,-100))","v":665.625},{"$f":"IF('Ceiling Speaker Calculator'!$C$29=\"Square\",AM$1,IF(OR(AND(ODD($A12)=$A12,ODD(AM$2)=AM$2),AND(EVEN($A12)=$A12,EVEN(AM$2)=AM$2)),AM$1,-100))","v":684.375},{"$f":"IF('Ceiling Speaker Calculator'!$C$29=\"Square\",AN$1,IF(OR(AND(ODD($A12)=$A12,ODD(AN$2)=AN$2),AND(EVEN($A12)=$A12,EVEN(AN$2)=AN$2)),AN$1,-100))","v":703.125},{"$f":"IF('Ceiling Speaker Calculator'!$C$29=\"Square\",AO$1,IF(OR(AND(ODD($A12)=$A12,ODD(AO$2)=AO$2),AND(EVEN($A12)=$A12,EVEN(AO$2)=AO$2)),AO$1,-100))","v":721.875},{"$f":"IF('Ceiling Speaker Calculator'!$C$29=\"Square\",AP$1,IF(OR(AND(ODD($A12)=$A12,ODD(AP$2)=AP$2),AND(EVEN($A12)=$A12,EVEN(AP$2)=AP$2)),AP$1,-100))","v":740.625},{"$f":"IF('Ceiling Speaker Calculator'!$C$29=\"Square\",AQ$1,IF(OR(AND(ODD($A12)=$A12,ODD(AQ$2)=AQ$2),AND(EVEN($A12)=$A12,EVEN(AQ$2)=AQ$2)),AQ$1,-100))","v":759.375},{"$f":"IF('Ceiling Speaker Calculator'!$C$29=\"Square\",AR$1,IF(OR(AND(ODD($A12)=$A12,ODD(AR$2)=AR$2),AND(EVEN($A12)=$A12,EVEN(AR$2)=AR$2)),AR$1,-100))","v":778.125},{"$f":"IF('Ceiling Speaker Calculator'!$C$29=\"Square\",AS$1,IF(OR(AND(ODD($A12)=$A12,ODD(AS$2)=AS$2),AND(EVEN($A12)=$A12,EVEN(AS$2)=AS$2)),AS$1,-100))","v":796.875},{"$f":"IF('Ceiling Speaker Calculator'!$C$29=\"Square\",AT$1,IF(OR(AND(ODD($A12)=$A12,ODD(AT$2)=AT$2),AND(EVEN($A12)=$A12,EVEN(AT$2)=AT$2)),AT$1,-100))","v":815.625},{"$f":"IF('Ceiling Speaker Calculator'!$C$29=\"Square\",AU$1,IF(OR(AND(ODD($A12)=$A12,ODD(AU$2)=AU$2),AND(EVEN($A12)=$A12,EVEN(AU$2)=AU$2)),AU$1,-100))","v":834.375},{"$f":"IF('Ceiling Speaker Calculator'!$C$29=\"Square\",AV$1,IF(OR(AND(ODD($A12)=$A12,ODD(AV$2)=AV$2),AND(EVEN($A12)=$A12,EVEN(AV$2)=AV$2)),AV$1,-100))","v":853.125},{"$f":"IF('Ceiling Speaker Calculator'!$C$29=\"Square\",AW$1,IF(OR(AND(ODD($A12)=$A12,ODD(AW$2)=AW$2),AND(EVEN($A12)=$A12,EVEN(AW$2)=AW$2)),AW$1,-100))","v":871.875},{"$f":"IF('Ceiling Speaker Calculator'!$C$29=\"Square\",AX$1,IF(OR(AND(ODD($A12)=$A12,ODD(AX$2)=AX$2),AND(EVEN($A12)=$A12,EVEN(AX$2)=AX$2)),AX$1,-100))","v":890.625},{"$f":"IF('Ceiling Speaker Calculator'!$C$29=\"Square\",AY$1,IF(OR(AND(ODD($A12)=$A12,ODD(AY$2)=AY$2),AND(EVEN($A12)=$A12,EVEN(AY$2)=AY$2)),AY$1,-100))","v":909.375},{"$f":"IF('Ceiling Speaker Calculator'!$C$29=\"Square\",AZ$1,IF(OR(AND(ODD($A12)=$A12,ODD(AZ$2)=AZ$2),AND(EVEN($A12)=$A12,EVEN(AZ$2)=AZ$2)),AZ$1,-100))","v":928.125},{"$f":"IF('Ceiling Speaker Calculator'!$C$29=\"Square\",BA$1,IF(OR(AND(ODD($A12)=$A12,ODD(BA$2)=BA$2),AND(EVEN($A12)=$A12,EVEN(BA$2)=BA$2)),BA$1,-100))","v":946.875},{"$f":"IF('Ceiling Speaker Calculator'!$C$29=\"Square\",BB$1,IF(OR(AND(ODD($A12)=$A12,ODD(BB$2)=BB$2),AND(EVEN($A12)=$A12,EVEN(BB$2)=BB$2)),BB$1,-100))","v":965.625},{"$f":"IF('Ceiling Speaker Calculator'!$C$29=\"Square\",BC$1,IF(OR(AND(ODD($A12)=$A12,ODD(BC$2)=BC$2),AND(EVEN($A12)=$A12,EVEN(BC$2)=BC$2)),BC$1,-100))","v":984.375},{"$f":"IF('Ceiling Speaker Calculator'!$C$29=\"Square\",BD$1,IF(OR(AND(ODD($A12)=$A12,ODD(BD$2)=BD$2),AND(EVEN($A12)=$A12,EVEN(BD$2)=BD$2)),BD$1,-100))","v":1003.125},{"$f":"IF('Ceiling Speaker Calculator'!$C$29=\"Square\",BE$1,IF(OR(AND(ODD($A12)=$A12,ODD(BE$2)=BE$2),AND(EVEN($A12)=$A12,EVEN(BE$2)=BE$2)),BE$1,-100))","v":1021.875},{"$f":"IF('Ceiling Speaker Calculator'!$C$29=\"Square\",BF$1,IF(OR(AND(ODD($A12)=$A12,ODD(BF$2)=BF$2),AND(EVEN($A12)=$A12,EVEN(BF$2)=BF$2)),BF$1,-100))","v":1040.625},{"$f":"IF('Ceiling Speaker Calculator'!$C$29=\"Square\",BG$1,IF(OR(AND(ODD($A12)=$A12,ODD(BG$2)=BG$2),AND(EVEN($A12)=$A12,EVEN(BG$2)=BG$2)),BG$1,-100))","v":1059.375},{"$f":"IF('Ceiling Speaker Calculator'!$C$29=\"Square\",BH$1,IF(OR(AND(ODD($A12)=$A12,ODD(BH$2)=BH$2),AND(EVEN($A12)=$A12,EVEN(BH$2)=BH$2)),BH$1,-100))","v":1078.125},{"$f":"IF('Ceiling Speaker Calculator'!$C$29=\"Square\",BI$1,IF(OR(AND(ODD($A12)=$A12,ODD(BI$2)=BI$2),AND(EVEN($A12)=$A12,EVEN(BI$2)=BI$2)),BI$1,-100))","v":1096.875},{"$f":"IF('Ceiling Speaker Calculator'!$C$29=\"Square\",BJ$1,IF(OR(AND(ODD($A12)=$A12,ODD(BJ$2)=BJ$2),AND(EVEN($A12)=$A12,EVEN(BJ$2)=BJ$2)),BJ$1,-100))","v":1115.625},{"$f":"IF('Ceiling Speaker Calculator'!$C$29=\"Square\",BK$1,IF(OR(AND(ODD($A12)=$A12,ODD(BK$2)=BK$2),AND(EVEN($A12)=$A12,EVEN(BK$2)=BK$2)),BK$1,-100))","v":1134.375},{"$f":"IF('Ceiling Speaker Calculator'!$C$29=\"Square\",BL$1,IF(OR(AND(ODD($A12)=$A12,ODD(BL$2)=BL$2),AND(EVEN($A12)=$A12,EVEN(BL$2)=BL$2)),BL$1,-100))","v":1153.125},{"$f":"IF('Ceiling Speaker Calculator'!$C$29=\"Square\",BM$1,IF(OR(AND(ODD($A12)=$A12,ODD(BM$2)=BM$2),AND(EVEN($A12)=$A12,EVEN(BM$2)=BM$2)),BM$1,-100))","v":1171.875},{"$f":"IF('Ceiling Speaker Calculator'!$C$29=\"Square\",BN$1,IF(OR(AND(ODD($A12)=$A12,ODD(BN$2)=BN$2),AND(EVEN($A12)=$A12,EVEN(BN$2)=BN$2)),BN$1,-100))","v":1190.625},{"$f":"IF('Ceiling Speaker Calculator'!$C$29=\"Square\",BO$1,IF(OR(AND(ODD($A12)=$A12,ODD(BO$2)=BO$2),AND(EVEN($A12)=$A12,EVEN(BO$2)=BO$2)),BO$1,-100))","v":1209.375},{"$f":"IF('Ceiling Speaker Calculator'!$C$29=\"Square\",BP$1,IF(OR(AND(ODD($A12)=$A12,ODD(BP$2)=BP$2),AND(EVEN($A12)=$A12,EVEN(BP$2)=BP$2)),BP$1,-100))","v":1228.125},{"$f":"IF('Ceiling Speaker Calculator'!$C$29=\"Square\",BQ$1,IF(OR(AND(ODD($A12)=$A12,ODD(BQ$2)=BQ$2),AND(EVEN($A12)=$A12,EVEN(BQ$2)=BQ$2)),BQ$1,-100))","v":1246.875},{"$f":"IF('Ceiling Speaker Calculator'!$C$29=\"Square\",BR$1,IF(OR(AND(ODD($A12)=$A12,ODD(BR$2)=BR$2),AND(EVEN($A12)=$A12,EVEN(BR$2)=BR$2)),BR$1,-100))","v":1265.625},{"$f":"IF('Ceiling Speaker Calculator'!$C$29=\"Square\",BS$1,IF(OR(AND(ODD($A12)=$A12,ODD(BS$2)=BS$2),AND(EVEN($A12)=$A12,EVEN(BS$2)=BS$2)),BS$1,-100))","v":1284.375},{"$f":"IF('Ceiling Speaker Calculator'!$C$29=\"Square\",BT$1,IF(OR(AND(ODD($A12)=$A12,ODD(BT$2)=BT$2),AND(EVEN($A12)=$A12,EVEN(BT$2)=BT$2)),BT$1,-100))","v":1303.125},{"$f":"IF('Ceiling Speaker Calculator'!$C$29=\"Square\",BU$1,IF(OR(AND(ODD($A12)=$A12,ODD(BU$2)=BU$2),AND(EVEN($A12)=$A12,EVEN(BU$2)=BU$2)),BU$1,-100))","v":1321.875},{"$f":"IF('Ceiling Speaker Calculator'!$C$29=\"Square\",BV$1,IF(OR(AND(ODD($A12)=$A12,ODD(BV$2)=BV$2),AND(EVEN($A12)=$A12,EVEN(BV$2)=BV$2)),BV$1,-100))","v":1340.625},{"$f":"IF('Ceiling Speaker Calculator'!$C$29=\"Square\",BW$1,IF(OR(AND(ODD($A12)=$A12,ODD(BW$2)=BW$2),AND(EVEN($A12)=$A12,EVEN(BW$2)=BW$2)),BW$1,-100))","v":1359.375},{"$f":"IF('Ceiling Speaker Calculator'!$C$29=\"Square\",BX$1,IF(OR(AND(ODD($A12)=$A12,ODD(BX$2)=BX$2),AND(EVEN($A12)=$A12,EVEN(BX$2)=BX$2)),BX$1,-100))","v":1378.125},{"$f":"IF('Ceiling Speaker Calculator'!$C$29=\"Square\",BY$1,IF(OR(AND(ODD($A12)=$A12,ODD(BY$2)=BY$2),AND(EVEN($A12)=$A12,EVEN(BY$2)=BY$2)),BY$1,-100))","v":1396.875},{"$f":"IF('Ceiling Speaker Calculator'!$C$29=\"Square\",BZ$1,IF(OR(AND(ODD($A12)=$A12,ODD(BZ$2)=BZ$2),AND(EVEN($A12)=$A12,EVEN(BZ$2)=BZ$2)),BZ$1,-100))","v":1415.625},{"$f":"IF('Ceiling Speaker Calculator'!$C$29=\"Square\",CA$1,IF(OR(AND(ODD($A12)=$A12,ODD(CA$2)=CA$2),AND(EVEN($A12)=$A12,EVEN(CA$2)=CA$2)),CA$1,-100))","v":1434.375},{"$f":"IF('Ceiling Speaker Calculator'!$C$29=\"Square\",CB$1,IF(OR(AND(ODD($A12)=$A12,ODD(CB$2)=CB$2),AND(EVEN($A12)=$A12,EVEN(CB$2)=CB$2)),CB$1,-100))","v":1453.125},{"$f":"IF('Ceiling Speaker Calculator'!$C$29=\"Square\",CC$1,IF(OR(AND(ODD($A12)=$A12,ODD(CC$2)=CC$2),AND(EVEN($A12)=$A12,EVEN(CC$2)=CC$2)),CC$1,-100))","v":1471.875},{"$f":"IF('Ceiling Speaker Calculator'!$C$29=\"Square\",CD$1,IF(OR(AND(ODD($A12)=$A12,ODD(CD$2)=CD$2),AND(EVEN($A12)=$A12,EVEN(CD$2)=CD$2)),CD$1,-100))","v":1490.625},{"$f":"IF('Ceiling Speaker Calculator'!$C$29=\"Square\",CE$1,IF(OR(AND(ODD($A12)=$A12,ODD(CE$2)=CE$2),AND(EVEN($A12)=$A12,EVEN(CE$2)=CE$2)),CE$1,-100))","v":1509.375},{"$f":"IF('Ceiling Speaker Calculator'!$C$29=\"Square\",CF$1,IF(OR(AND(ODD($A12)=$A12,ODD(CF$2)=CF$2),AND(EVEN($A12)=$A12,EVEN(CF$2)=CF$2)),CF$1,-100))","v":1528.125},{"$f":"IF('Ceiling Speaker Calculator'!$C$29=\"Square\",CG$1,IF(OR(AND(ODD($A12)=$A12,ODD(CG$2)=CG$2),AND(EVEN($A12)=$A12,EVEN(CG$2)=CG$2)),CG$1,-100))","v":1546.875},{"$f":"IF('Ceiling Speaker Calculator'!$C$29=\"Square\",CH$1,IF(OR(AND(ODD($A12)=$A12,ODD(CH$2)=CH$2),AND(EVEN($A12)=$A12,EVEN(CH$2)=CH$2)),CH$1,-100))","v":1565.625},{"$f":"IF('Ceiling Speaker Calculator'!$C$29=\"Square\",CI$1,IF(OR(AND(ODD($A12)=$A12,ODD(CI$2)=CI$2),AND(EVEN($A12)=$A12,EVEN(CI$2)=CI$2)),CI$1,-100))","v":1584.375},{"$f":"IF('Ceiling Speaker Calculator'!$C$29=\"Square\",CJ$1,IF(OR(AND(ODD($A12)=$A12,ODD(CJ$2)=CJ$2),AND(EVEN($A12)=$A12,EVEN(CJ$2)=CJ$2)),CJ$1,-100))","v":1603.125},{"$f":"IF('Ceiling Speaker Calculator'!$C$29=\"Square\",CK$1,IF(OR(AND(ODD($A12)=$A12,ODD(CK$2)=CK$2),AND(EVEN($A12)=$A12,EVEN(CK$2)=CK$2)),CK$1,-100))","v":1621.875},{"$f":"IF('Ceiling Speaker Calculator'!$C$29=\"Square\",CL$1,IF(OR(AND(ODD($A12)=$A12,ODD(CL$2)=CL$2),AND(EVEN($A12)=$A12,EVEN(CL$2)=CL$2)),CL$1,-100))","v":1640.625},{"$f":"IF('Ceiling Speaker Calculator'!$C$29=\"Square\",CM$1,IF(OR(AND(ODD($A12)=$A12,ODD(CM$2)=CM$2),AND(EVEN($A12)=$A12,EVEN(CM$2)=CM$2)),CM$1,-100))","v":1659.375},{"$f":"IF('Ceiling Speaker Calculator'!$C$29=\"Square\",CN$1,IF(OR(AND(ODD($A12)=$A12,ODD(CN$2)=CN$2),AND(EVEN($A12)=$A12,EVEN(CN$2)=CN$2)),CN$1,-100))","v":1678.125},{"$f":"IF('Ceiling Speaker Calculator'!$C$29=\"Square\",CO$1,IF(OR(AND(ODD($A12)=$A12,ODD(CO$2)=CO$2),AND(EVEN($A12)=$A12,EVEN(CO$2)=CO$2)),CO$1,-100))","v":1696.875},{"$f":"IF('Ceiling Speaker Calculator'!$C$29=\"Square\",CP$1,IF(OR(AND(ODD($A12)=$A12,ODD(CP$2)=CP$2),AND(EVEN($A12)=$A12,EVEN(CP$2)=CP$2)),CP$1,-100))","v":1715.625},{"$f":"IF('Ceiling Speaker Calculator'!$C$29=\"Square\",CQ$1,IF(OR(AND(ODD($A12)=$A12,ODD(CQ$2)=CQ$2),AND(EVEN($A12)=$A12,EVEN(CQ$2)=CQ$2)),CQ$1,-100))","v":1734.375},{"$f":"IF('Ceiling Speaker Calculator'!$C$29=\"Square\",CR$1,IF(OR(AND(ODD($A12)=$A12,ODD(CR$2)=CR$2),AND(EVEN($A12)=$A12,EVEN(CR$2)=CR$2)),CR$1,-100))","v":1753.125},{"$f":"IF('Ceiling Speaker Calculator'!$C$29=\"Square\",CS$1,IF(OR(AND(ODD($A12)=$A12,ODD(CS$2)=CS$2),AND(EVEN($A12)=$A12,EVEN(CS$2)=CS$2)),CS$1,-100))","v":1771.875},{"$f":"IF('Ceiling Speaker Calculator'!$C$29=\"Square\",CT$1,IF(OR(AND(ODD($A12)=$A12,ODD(CT$2)=CT$2),AND(EVEN($A12)=$A12,EVEN(CT$2)=CT$2)),CT$1,-100))","v":1790.625},{"$f":"IF('Ceiling Speaker Calculator'!$C$29=\"Square\",CU$1,IF(OR(AND(ODD($A12)=$A12,ODD(CU$2)=CU$2),AND(EVEN($A12)=$A12,EVEN(CU$2)=CU$2)),CU$1,-100))","v":1809.375},{"$f":"IF('Ceiling Speaker Calculator'!$C$29=\"Square\",CV$1,IF(OR(AND(ODD($A12)=$A12,ODD(CV$2)=CV$2),AND(EVEN($A12)=$A12,EVEN(CV$2)=CV$2)),CV$1,-100))","v":1828.125},{"$f":"IF('Ceiling Speaker Calculator'!$C$29=\"Square\",CW$1,IF(OR(AND(ODD($A12)=$A12,ODD(CW$2)=CW$2),AND(EVEN($A12)=$A12,EVEN(CW$2)=CW$2)),CW$1,-100))","v":1846.875},{"$f":"IF('Ceiling Speaker Calculator'!$C$29=\"Square\",CX$1,IF(OR(AND(ODD($A12)=$A12,ODD(CX$2)=CX$2),AND(EVEN($A12)=$A12,EVEN(CX$2)=CX$2)),CX$1,-100))","v":1865.625}]
[11,{"$f":"B12+'Ceiling Speaker Calculator'!$K$16","v":210},{"$f":"IF('Ceiling Speaker Calculator'!$C$29=\"Square\",C$1,IF(OR(AND(ODD($A13)=$A13,ODD(C$2)=C$2),AND(EVEN($A13)=$A13,EVEN(C$2)=C$2)),C$1,-100))","v":9.375},{"$f":"IF('Ceiling Speaker Calculator'!$C$29=\"Square\",D$1,IF(OR(AND(ODD($A13)=$A13,ODD(D$2)=D$2),AND(EVEN($A13)=$A13,EVEN(D$2)=D$2)),D$1,-100))","v":28.125},{"$f":"IF('Ceiling Speaker Calculator'!$C$29=\"Square\",E$1,IF(OR(AND(ODD($A13)=$A13,ODD(E$2)=E$2),AND(EVEN($A13)=$A13,EVEN(E$2)=E$2)),E$1,-100))","v":46.875},{"$f":"IF('Ceiling Speaker Calculator'!$C$29=\"Square\",F$1,IF(OR(AND(ODD($A13)=$A13,ODD(F$2)=F$2),AND(EVEN($A13)=$A13,EVEN(F$2)=F$2)),F$1,-100))","v":65.625},{"$f":"IF('Ceiling Speaker Calculator'!$C$29=\"Square\",G$1,IF(OR(AND(ODD($A13)=$A13,ODD(G$2)=G$2),AND(EVEN($A13)=$A13,EVEN(G$2)=G$2)),G$1,-100))","v":84.375},{"$f":"IF('Ceiling Speaker Calculator'!$C$29=\"Square\",H$1,IF(OR(AND(ODD($A13)=$A13,ODD(H$2)=H$2),AND(EVEN($A13)=$A13,EVEN(H$2)=H$2)),H$1,-100))","v":103.125},{"$f":"IF('Ceiling Speaker Calculator'!$C$29=\"Square\",I$1,IF(OR(AND(ODD($A13)=$A13,ODD(I$2)=I$2),AND(EVEN($A13)=$A13,EVEN(I$2)=I$2)),I$1,-100))","v":121.875},{"$f":"IF('Ceiling Speaker Calculator'!$C$29=\"Square\",J$1,IF(OR(AND(ODD($A13)=$A13,ODD(J$2)=J$2),AND(EVEN($A13)=$A13,EVEN(J$2)=J$2)),J$1,-100))","v":140.625},{"$f":"IF('Ceiling Speaker Calculator'!$C$29=\"Square\",K$1,IF(OR(AND(ODD($A13)=$A13,ODD(K$2)=K$2),AND(EVEN($A13)=$A13,EVEN(K$2)=K$2)),K$1,-100))","v":159.375},{"$f":"IF('Ceiling Speaker Calculator'!$C$29=\"Square\",L$1,IF(OR(AND(ODD($A13)=$A13,ODD(L$2)=L$2),AND(EVEN($A13)=$A13,EVEN(L$2)=L$2)),L$1,-100))","v":178.125},{"$f":"IF('Ceiling Speaker Calculator'!$C$29=\"Square\",M$1,IF(OR(AND(ODD($A13)=$A13,ODD(M$2)=M$2),AND(EVEN($A13)=$A13,EVEN(M$2)=M$2)),M$1,-100))","v":196.875},{"$f":"IF('Ceiling Speaker Calculator'!$C$29=\"Square\",N$1,IF(OR(AND(ODD($A13)=$A13,ODD(N$2)=N$2),AND(EVEN($A13)=$A13,EVEN(N$2)=N$2)),N$1,-100))","v":215.625},{"$f":"IF('Ceiling Speaker Calculator'!$C$29=\"Square\",O$1,IF(OR(AND(ODD($A13)=$A13,ODD(O$2)=O$2),AND(EVEN($A13)=$A13,EVEN(O$2)=O$2)),O$1,-100))","v":234.375},{"$f":"IF('Ceiling Speaker Calculator'!$C$29=\"Square\",P$1,IF(OR(AND(ODD($A13)=$A13,ODD(P$2)=P$2),AND(EVEN($A13)=$A13,EVEN(P$2)=P$2)),P$1,-100))","v":253.125},{"$f":"IF('Ceiling Speaker Calculator'!$C$29=\"Square\",Q$1,IF(OR(AND(ODD($A13)=$A13,ODD(Q$2)=Q$2),AND(EVEN($A13)=$A13,EVEN(Q$2)=Q$2)),Q$1,-100))","v":271.875},{"$f":"IF('Ceiling Speaker Calculator'!$C$29=\"Square\",R$1,IF(OR(AND(ODD($A13)=$A13,ODD(R$2)=R$2),AND(EVEN($A13)=$A13,EVEN(R$2)=R$2)),R$1,-100))","v":290.625},{"$f":"IF('Ceiling Speaker Calculator'!$C$29=\"Square\",S$1,IF(OR(AND(ODD($A13)=$A13,ODD(S$2)=S$2),AND(EVEN($A13)=$A13,EVEN(S$2)=S$2)),S$1,-100))","v":309.375},{"$f":"IF('Ceiling Speaker Calculator'!$C$29=\"Square\",T$1,IF(OR(AND(ODD($A13)=$A13,ODD(T$2)=T$2),AND(EVEN($A13)=$A13,EVEN(T$2)=T$2)),T$1,-100))","v":328.125},{"$f":"IF('Ceiling Speaker Calculator'!$C$29=\"Square\",U$1,IF(OR(AND(ODD($A13)=$A13,ODD(U$2)=U$2),AND(EVEN($A13)=$A13,EVEN(U$2)=U$2)),U$1,-100))","v":346.875},{"$f":"IF('Ceiling Speaker Calculator'!$C$29=\"Square\",V$1,IF(OR(AND(ODD($A13)=$A13,ODD(V$2)=V$2),AND(EVEN($A13)=$A13,EVEN(V$2)=V$2)),V$1,-100))","v":365.625},{"$f":"IF('Ceiling Speaker Calculator'!$C$29=\"Square\",W$1,IF(OR(AND(ODD($A13)=$A13,ODD(W$2)=W$2),AND(EVEN($A13)=$A13,EVEN(W$2)=W$2)),W$1,-100))","v":384.375},{"$f":"IF('Ceiling Speaker Calculator'!$C$29=\"Square\",X$1,IF(OR(AND(ODD($A13)=$A13,ODD(X$2)=X$2),AND(EVEN($A13)=$A13,EVEN(X$2)=X$2)),X$1,-100))","v":403.125},{"$f":"IF('Ceiling Speaker Calculator'!$C$29=\"Square\",Y$1,IF(OR(AND(ODD($A13)=$A13,ODD(Y$2)=Y$2),AND(EVEN($A13)=$A13,EVEN(Y$2)=Y$2)),Y$1,-100))","v":421.875},{"$f":"IF('Ceiling Speaker Calculator'!$C$29=\"Square\",Z$1,IF(OR(AND(ODD($A13)=$A13,ODD(Z$2)=Z$2),AND(EVEN($A13)=$A13,EVEN(Z$2)=Z$2)),Z$1,-100))","v":440.625},{"$f":"IF('Ceiling Speaker Calculator'!$C$29=\"Square\",AA$1,IF(OR(AND(ODD($A13)=$A13,ODD(AA$2)=AA$2),AND(EVEN($A13)=$A13,EVEN(AA$2)=AA$2)),AA$1,-100))","v":459.375},{"$f":"IF('Ceiling Speaker Calculator'!$C$29=\"Square\",AB$1,IF(OR(AND(ODD($A13)=$A13,ODD(AB$2)=AB$2),AND(EVEN($A13)=$A13,EVEN(AB$2)=AB$2)),AB$1,-100))","v":478.125},{"$f":"IF('Ceiling Speaker Calculator'!$C$29=\"Square\",AC$1,IF(OR(AND(ODD($A13)=$A13,ODD(AC$2)=AC$2),AND(EVEN($A13)=$A13,EVEN(AC$2)=AC$2)),AC$1,-100))","v":496.875},{"$f":"IF('Ceiling Speaker Calculator'!$C$29=\"Square\",AD$1,IF(OR(AND(ODD($A13)=$A13,ODD(AD$2)=AD$2),AND(EVEN($A13)=$A13,EVEN(AD$2)=AD$2)),AD$1,-100))","v":515.625},{"$f":"IF('Ceiling Speaker Calculator'!$C$29=\"Square\",AE$1,IF(OR(AND(ODD($A13)=$A13,ODD(AE$2)=AE$2),AND(EVEN($A13)=$A13,EVEN(AE$2)=AE$2)),AE$1,-100))","v":534.375},{"$f":"IF('Ceiling Speaker Calculator'!$C$29=\"Square\",AF$1,IF(OR(AND(ODD($A13)=$A13,ODD(AF$2)=AF$2),AND(EVEN($A13)=$A13,EVEN(AF$2)=AF$2)),AF$1,-100))","v":553.125},{"$f":"IF('Ceiling Speaker Calculator'!$C$29=\"Square\",AG$1,IF(OR(AND(ODD($A13)=$A13,ODD(AG$2)=AG$2),AND(EVEN($A13)=$A13,EVEN(AG$2)=AG$2)),AG$1,-100))","v":571.875},{"$f":"IF('Ceiling Speaker Calculator'!$C$29=\"Square\",AH$1,IF(OR(AND(ODD($A13)=$A13,ODD(AH$2)=AH$2),AND(EVEN($A13)=$A13,EVEN(AH$2)=AH$2)),AH$1,-100))","v":590.625},{"$f":"IF('Ceiling Speaker Calculator'!$C$29=\"Square\",AI$1,IF(OR(AND(ODD($A13)=$A13,ODD(AI$2)=AI$2),AND(EVEN($A13)=$A13,EVEN(AI$2)=AI$2)),AI$1,-100))","v":609.375},{"$f":"IF('Ceiling Speaker Calculator'!$C$29=\"Square\",AJ$1,IF(OR(AND(ODD($A13)=$A13,ODD(AJ$2)=AJ$2),AND(EVEN($A13)=$A13,EVEN(AJ$2)=AJ$2)),AJ$1,-100))","v":628.125},{"$f":"IF('Ceiling Speaker Calculator'!$C$29=\"Square\",AK$1,IF(OR(AND(ODD($A13)=$A13,ODD(AK$2)=AK$2),AND(EVEN($A13)=$A13,EVEN(AK$2)=AK$2)),AK$1,-100))","v":646.875},{"$f":"IF('Ceiling Speaker Calculator'!$C$29=\"Square\",AL$1,IF(OR(AND(ODD($A13)=$A13,ODD(AL$2)=AL$2),AND(EVEN($A13)=$A13,EVEN(AL$2)=AL$2)),AL$1,-100))","v":665.625},{"$f":"IF('Ceiling Speaker Calculator'!$C$29=\"Square\",AM$1,IF(OR(AND(ODD($A13)=$A13,ODD(AM$2)=AM$2),AND(EVEN($A13)=$A13,EVEN(AM$2)=AM$2)),AM$1,-100))","v":684.375},{"$f":"IF('Ceiling Speaker Calculator'!$C$29=\"Square\",AN$1,IF(OR(AND(ODD($A13)=$A13,ODD(AN$2)=AN$2),AND(EVEN($A13)=$A13,EVEN(AN$2)=AN$2)),AN$1,-100))","v":703.125},{"$f":"IF('Ceiling Speaker Calculator'!$C$29=\"Square\",AO$1,IF(OR(AND(ODD($A13)=$A13,ODD(AO$2)=AO$2),AND(EVEN($A13)=$A13,EVEN(AO$2)=AO$2)),AO$1,-100))","v":721.875},{"$f":"IF('Ceiling Speaker Calculator'!$C$29=\"Square\",AP$1,IF(OR(AND(ODD($A13)=$A13,ODD(AP$2)=AP$2),AND(EVEN($A13)=$A13,EVEN(AP$2)=AP$2)),AP$1,-100))","v":740.625},{"$f":"IF('Ceiling Speaker Calculator'!$C$29=\"Square\",AQ$1,IF(OR(AND(ODD($A13)=$A13,ODD(AQ$2)=AQ$2),AND(EVEN($A13)=$A13,EVEN(AQ$2)=AQ$2)),AQ$1,-100))","v":759.375},{"$f":"IF('Ceiling Speaker Calculator'!$C$29=\"Square\",AR$1,IF(OR(AND(ODD($A13)=$A13,ODD(AR$2)=AR$2),AND(EVEN($A13)=$A13,EVEN(AR$2)=AR$2)),AR$1,-100))","v":778.125},{"$f":"IF('Ceiling Speaker Calculator'!$C$29=\"Square\",AS$1,IF(OR(AND(ODD($A13)=$A13,ODD(AS$2)=AS$2),AND(EVEN($A13)=$A13,EVEN(AS$2)=AS$2)),AS$1,-100))","v":796.875},{"$f":"IF('Ceiling Speaker Calculator'!$C$29=\"Square\",AT$1,IF(OR(AND(ODD($A13)=$A13,ODD(AT$2)=AT$2),AND(EVEN($A13)=$A13,EVEN(AT$2)=AT$2)),AT$1,-100))","v":815.625},{"$f":"IF('Ceiling Speaker Calculator'!$C$29=\"Square\",AU$1,IF(OR(AND(ODD($A13)=$A13,ODD(AU$2)=AU$2),AND(EVEN($A13)=$A13,EVEN(AU$2)=AU$2)),AU$1,-100))","v":834.375},{"$f":"IF('Ceiling Speaker Calculator'!$C$29=\"Square\",AV$1,IF(OR(AND(ODD($A13)=$A13,ODD(AV$2)=AV$2),AND(EVEN($A13)=$A13,EVEN(AV$2)=AV$2)),AV$1,-100))","v":853.125},{"$f":"IF('Ceiling Speaker Calculator'!$C$29=\"Square\",AW$1,IF(OR(AND(ODD($A13)=$A13,ODD(AW$2)=AW$2),AND(EVEN($A13)=$A13,EVEN(AW$2)=AW$2)),AW$1,-100))","v":871.875},{"$f":"IF('Ceiling Speaker Calculator'!$C$29=\"Square\",AX$1,IF(OR(AND(ODD($A13)=$A13,ODD(AX$2)=AX$2),AND(EVEN($A13)=$A13,EVEN(AX$2)=AX$2)),AX$1,-100))","v":890.625},{"$f":"IF('Ceiling Speaker Calculator'!$C$29=\"Square\",AY$1,IF(OR(AND(ODD($A13)=$A13,ODD(AY$2)=AY$2),AND(EVEN($A13)=$A13,EVEN(AY$2)=AY$2)),AY$1,-100))","v":909.375},{"$f":"IF('Ceiling Speaker Calculator'!$C$29=\"Square\",AZ$1,IF(OR(AND(ODD($A13)=$A13,ODD(AZ$2)=AZ$2),AND(EVEN($A13)=$A13,EVEN(AZ$2)=AZ$2)),AZ$1,-100))","v":928.125},{"$f":"IF('Ceiling Speaker Calculator'!$C$29=\"Square\",BA$1,IF(OR(AND(ODD($A13)=$A13,ODD(BA$2)=BA$2),AND(EVEN($A13)=$A13,EVEN(BA$2)=BA$2)),BA$1,-100))","v":946.875},{"$f":"IF('Ceiling Speaker Calculator'!$C$29=\"Square\",BB$1,IF(OR(AND(ODD($A13)=$A13,ODD(BB$2)=BB$2),AND(EVEN($A13)=$A13,EVEN(BB$2)=BB$2)),BB$1,-100))","v":965.625},{"$f":"IF('Ceiling Speaker Calculator'!$C$29=\"Square\",BC$1,IF(OR(AND(ODD($A13)=$A13,ODD(BC$2)=BC$2),AND(EVEN($A13)=$A13,EVEN(BC$2)=BC$2)),BC$1,-100))","v":984.375},{"$f":"IF('Ceiling Speaker Calculator'!$C$29=\"Square\",BD$1,IF(OR(AND(ODD($A13)=$A13,ODD(BD$2)=BD$2),AND(EVEN($A13)=$A13,EVEN(BD$2)=BD$2)),BD$1,-100))","v":1003.125},{"$f":"IF('Ceiling Speaker Calculator'!$C$29=\"Square\",BE$1,IF(OR(AND(ODD($A13)=$A13,ODD(BE$2)=BE$2),AND(EVEN($A13)=$A13,EVEN(BE$2)=BE$2)),BE$1,-100))","v":1021.875},{"$f":"IF('Ceiling Speaker Calculator'!$C$29=\"Square\",BF$1,IF(OR(AND(ODD($A13)=$A13,ODD(BF$2)=BF$2),AND(EVEN($A13)=$A13,EVEN(BF$2)=BF$2)),BF$1,-100))","v":1040.625},{"$f":"IF('Ceiling Speaker Calculator'!$C$29=\"Square\",BG$1,IF(OR(AND(ODD($A13)=$A13,ODD(BG$2)=BG$2),AND(EVEN($A13)=$A13,EVEN(BG$2)=BG$2)),BG$1,-100))","v":1059.375},{"$f":"IF('Ceiling Speaker Calculator'!$C$29=\"Square\",BH$1,IF(OR(AND(ODD($A13)=$A13,ODD(BH$2)=BH$2),AND(EVEN($A13)=$A13,EVEN(BH$2)=BH$2)),BH$1,-100))","v":1078.125},{"$f":"IF('Ceiling Speaker Calculator'!$C$29=\"Square\",BI$1,IF(OR(AND(ODD($A13)=$A13,ODD(BI$2)=BI$2),AND(EVEN($A13)=$A13,EVEN(BI$2)=BI$2)),BI$1,-100))","v":1096.875},{"$f":"IF('Ceiling Speaker Calculator'!$C$29=\"Square\",BJ$1,IF(OR(AND(ODD($A13)=$A13,ODD(BJ$2)=BJ$2),AND(EVEN($A13)=$A13,EVEN(BJ$2)=BJ$2)),BJ$1,-100))","v":1115.625},{"$f":"IF('Ceiling Speaker Calculator'!$C$29=\"Square\",BK$1,IF(OR(AND(ODD($A13)=$A13,ODD(BK$2)=BK$2),AND(EVEN($A13)=$A13,EVEN(BK$2)=BK$2)),BK$1,-100))","v":1134.375},{"$f":"IF('Ceiling Speaker Calculator'!$C$29=\"Square\",BL$1,IF(OR(AND(ODD($A13)=$A13,ODD(BL$2)=BL$2),AND(EVEN($A13)=$A13,EVEN(BL$2)=BL$2)),BL$1,-100))","v":1153.125},{"$f":"IF('Ceiling Speaker Calculator'!$C$29=\"Square\",BM$1,IF(OR(AND(ODD($A13)=$A13,ODD(BM$2)=BM$2),AND(EVEN($A13)=$A13,EVEN(BM$2)=BM$2)),BM$1,-100))","v":1171.875},{"$f":"IF('Ceiling Speaker Calculator'!$C$29=\"Square\",BN$1,IF(OR(AND(ODD($A13)=$A13,ODD(BN$2)=BN$2),AND(EVEN($A13)=$A13,EVEN(BN$2)=BN$2)),BN$1,-100))","v":1190.625},{"$f":"IF('Ceiling Speaker Calculator'!$C$29=\"Square\",BO$1,IF(OR(AND(ODD($A13)=$A13,ODD(BO$2)=BO$2),AND(EVEN($A13)=$A13,EVEN(BO$2)=BO$2)),BO$1,-100))","v":1209.375},{"$f":"IF('Ceiling Speaker Calculator'!$C$29=\"Square\",BP$1,IF(OR(AND(ODD($A13)=$A13,ODD(BP$2)=BP$2),AND(EVEN($A13)=$A13,EVEN(BP$2)=BP$2)),BP$1,-100))","v":1228.125},{"$f":"IF('Ceiling Speaker Calculator'!$C$29=\"Square\",BQ$1,IF(OR(AND(ODD($A13)=$A13,ODD(BQ$2)=BQ$2),AND(EVEN($A13)=$A13,EVEN(BQ$2)=BQ$2)),BQ$1,-100))","v":1246.875},{"$f":"IF('Ceiling Speaker Calculator'!$C$29=\"Square\",BR$1,IF(OR(AND(ODD($A13)=$A13,ODD(BR$2)=BR$2),AND(EVEN($A13)=$A13,EVEN(BR$2)=BR$2)),BR$1,-100))","v":1265.625},{"$f":"IF('Ceiling Speaker Calculator'!$C$29=\"Square\",BS$1,IF(OR(AND(ODD($A13)=$A13,ODD(BS$2)=BS$2),AND(EVEN($A13)=$A13,EVEN(BS$2)=BS$2)),BS$1,-100))","v":1284.375},{"$f":"IF('Ceiling Speaker Calculator'!$C$29=\"Square\",BT$1,IF(OR(AND(ODD($A13)=$A13,ODD(BT$2)=BT$2),AND(EVEN($A13)=$A13,EVEN(BT$2)=BT$2)),BT$1,-100))","v":1303.125},{"$f":"IF('Ceiling Speaker Calculator'!$C$29=\"Square\",BU$1,IF(OR(AND(ODD($A13)=$A13,ODD(BU$2)=BU$2),AND(EVEN($A13)=$A13,EVEN(BU$2)=BU$2)),BU$1,-100))","v":1321.875},{"$f":"IF('Ceiling Speaker Calculator'!$C$29=\"Square\",BV$1,IF(OR(AND(ODD($A13)=$A13,ODD(BV$2)=BV$2),AND(EVEN($A13)=$A13,EVEN(BV$2)=BV$2)),BV$1,-100))","v":1340.625},{"$f":"IF('Ceiling Speaker Calculator'!$C$29=\"Square\",BW$1,IF(OR(AND(ODD($A13)=$A13,ODD(BW$2)=BW$2),AND(EVEN($A13)=$A13,EVEN(BW$2)=BW$2)),BW$1,-100))","v":1359.375},{"$f":"IF('Ceiling Speaker Calculator'!$C$29=\"Square\",BX$1,IF(OR(AND(ODD($A13)=$A13,ODD(BX$2)=BX$2),AND(EVEN($A13)=$A13,EVEN(BX$2)=BX$2)),BX$1,-100))","v":1378.125},{"$f":"IF('Ceiling Speaker Calculator'!$C$29=\"Square\",BY$1,IF(OR(AND(ODD($A13)=$A13,ODD(BY$2)=BY$2),AND(EVEN($A13)=$A13,EVEN(BY$2)=BY$2)),BY$1,-100))","v":1396.875},{"$f":"IF('Ceiling Speaker Calculator'!$C$29=\"Square\",BZ$1,IF(OR(AND(ODD($A13)=$A13,ODD(BZ$2)=BZ$2),AND(EVEN($A13)=$A13,EVEN(BZ$2)=BZ$2)),BZ$1,-100))","v":1415.625},{"$f":"IF('Ceiling Speaker Calculator'!$C$29=\"Square\",CA$1,IF(OR(AND(ODD($A13)=$A13,ODD(CA$2)=CA$2),AND(EVEN($A13)=$A13,EVEN(CA$2)=CA$2)),CA$1,-100))","v":1434.375},{"$f":"IF('Ceiling Speaker Calculator'!$C$29=\"Square\",CB$1,IF(OR(AND(ODD($A13)=$A13,ODD(CB$2)=CB$2),AND(EVEN($A13)=$A13,EVEN(CB$2)=CB$2)),CB$1,-100))","v":1453.125},{"$f":"IF('Ceiling Speaker Calculator'!$C$29=\"Square\",CC$1,IF(OR(AND(ODD($A13)=$A13,ODD(CC$2)=CC$2),AND(EVEN($A13)=$A13,EVEN(CC$2)=CC$2)),CC$1,-100))","v":1471.875},{"$f":"IF('Ceiling Speaker Calculator'!$C$29=\"Square\",CD$1,IF(OR(AND(ODD($A13)=$A13,ODD(CD$2)=CD$2),AND(EVEN($A13)=$A13,EVEN(CD$2)=CD$2)),CD$1,-100))","v":1490.625},{"$f":"IF('Ceiling Speaker Calculator'!$C$29=\"Square\",CE$1,IF(OR(AND(ODD($A13)=$A13,ODD(CE$2)=CE$2),AND(EVEN($A13)=$A13,EVEN(CE$2)=CE$2)),CE$1,-100))","v":1509.375},{"$f":"IF('Ceiling Speaker Calculator'!$C$29=\"Square\",CF$1,IF(OR(AND(ODD($A13)=$A13,ODD(CF$2)=CF$2),AND(EVEN($A13)=$A13,EVEN(CF$2)=CF$2)),CF$1,-100))","v":1528.125},{"$f":"IF('Ceiling Speaker Calculator'!$C$29=\"Square\",CG$1,IF(OR(AND(ODD($A13)=$A13,ODD(CG$2)=CG$2),AND(EVEN($A13)=$A13,EVEN(CG$2)=CG$2)),CG$1,-100))","v":1546.875},{"$f":"IF('Ceiling Speaker Calculator'!$C$29=\"Square\",CH$1,IF(OR(AND(ODD($A13)=$A13,ODD(CH$2)=CH$2),AND(EVEN($A13)=$A13,EVEN(CH$2)=CH$2)),CH$1,-100))","v":1565.625},{"$f":"IF('Ceiling Speaker Calculator'!$C$29=\"Square\",CI$1,IF(OR(AND(ODD($A13)=$A13,ODD(CI$2)=CI$2),AND(EVEN($A13)=$A13,EVEN(CI$2)=CI$2)),CI$1,-100))","v":1584.375},{"$f":"IF('Ceiling Speaker Calculator'!$C$29=\"Square\",CJ$1,IF(OR(AND(ODD($A13)=$A13,ODD(CJ$2)=CJ$2),AND(EVEN($A13)=$A13,EVEN(CJ$2)=CJ$2)),CJ$1,-100))","v":1603.125},{"$f":"IF('Ceiling Speaker Calculator'!$C$29=\"Square\",CK$1,IF(OR(AND(ODD($A13)=$A13,ODD(CK$2)=CK$2),AND(EVEN($A13)=$A13,EVEN(CK$2)=CK$2)),CK$1,-100))","v":1621.875},{"$f":"IF('Ceiling Speaker Calculator'!$C$29=\"Square\",CL$1,IF(OR(AND(ODD($A13)=$A13,ODD(CL$2)=CL$2),AND(EVEN($A13)=$A13,EVEN(CL$2)=CL$2)),CL$1,-100))","v":1640.625},{"$f":"IF('Ceiling Speaker Calculator'!$C$29=\"Square\",CM$1,IF(OR(AND(ODD($A13)=$A13,ODD(CM$2)=CM$2),AND(EVEN($A13)=$A13,EVEN(CM$2)=CM$2)),CM$1,-100))","v":1659.375},{"$f":"IF('Ceiling Speaker Calculator'!$C$29=\"Square\",CN$1,IF(OR(AND(ODD($A13)=$A13,ODD(CN$2)=CN$2),AND(EVEN($A13)=$A13,EVEN(CN$2)=CN$2)),CN$1,-100))","v":1678.125},{"$f":"IF('Ceiling Speaker Calculator'!$C$29=\"Square\",CO$1,IF(OR(AND(ODD($A13)=$A13,ODD(CO$2)=CO$2),AND(EVEN($A13)=$A13,EVEN(CO$2)=CO$2)),CO$1,-100))","v":1696.875},{"$f":"IF('Ceiling Speaker Calculator'!$C$29=\"Square\",CP$1,IF(OR(AND(ODD($A13)=$A13,ODD(CP$2)=CP$2),AND(EVEN($A13)=$A13,EVEN(CP$2)=CP$2)),CP$1,-100))","v":1715.625},{"$f":"IF('Ceiling Speaker Calculator'!$C$29=\"Square\",CQ$1,IF(OR(AND(ODD($A13)=$A13,ODD(CQ$2)=CQ$2),AND(EVEN($A13)=$A13,EVEN(CQ$2)=CQ$2)),CQ$1,-100))","v":1734.375},{"$f":"IF('Ceiling Speaker Calculator'!$C$29=\"Square\",CR$1,IF(OR(AND(ODD($A13)=$A13,ODD(CR$2)=CR$2),AND(EVEN($A13)=$A13,EVEN(CR$2)=CR$2)),CR$1,-100))","v":1753.125},{"$f":"IF('Ceiling Speaker Calculator'!$C$29=\"Square\",CS$1,IF(OR(AND(ODD($A13)=$A13,ODD(CS$2)=CS$2),AND(EVEN($A13)=$A13,EVEN(CS$2)=CS$2)),CS$1,-100))","v":1771.875},{"$f":"IF('Ceiling Speaker Calculator'!$C$29=\"Square\",CT$1,IF(OR(AND(ODD($A13)=$A13,ODD(CT$2)=CT$2),AND(EVEN($A13)=$A13,EVEN(CT$2)=CT$2)),CT$1,-100))","v":1790.625},{"$f":"IF('Ceiling Speaker Calculator'!$C$29=\"Square\",CU$1,IF(OR(AND(ODD($A13)=$A13,ODD(CU$2)=CU$2),AND(EVEN($A13)=$A13,EVEN(CU$2)=CU$2)),CU$1,-100))","v":1809.375},{"$f":"IF('Ceiling Speaker Calculator'!$C$29=\"Square\",CV$1,IF(OR(AND(ODD($A13)=$A13,ODD(CV$2)=CV$2),AND(EVEN($A13)=$A13,EVEN(CV$2)=CV$2)),CV$1,-100))","v":1828.125},{"$f":"IF('Ceiling Speaker Calculator'!$C$29=\"Square\",CW$1,IF(OR(AND(ODD($A13)=$A13,ODD(CW$2)=CW$2),AND(EVEN($A13)=$A13,EVEN(CW$2)=CW$2)),CW$1,-100))","v":1846.875},{"$f":"IF('Ceiling Speaker Calculator'!$C$29=\"Square\",CX$1,IF(OR(AND(ODD($A13)=$A13,ODD(CX$2)=CX$2),AND(EVEN($A13)=$A13,EVEN(CX$2)=CX$2)),CX$1,-100))","v":1865.625}]
[12,{"$f":"B13+'Ceiling Speaker Calculator'!$K$16","v":230},{"$f":"IF('Ceiling Speaker Calculator'!$C$29=\"Square\",C$1,IF(OR(AND(ODD($A14)=$A14,ODD(C$2)=C$2),AND(EVEN($A14)=$A14,EVEN(C$2)=C$2)),C$1,-100))","v":9.375},{"$f":"IF('Ceiling Speaker Calculator'!$C$29=\"Square\",D$1,IF(OR(AND(ODD($A14)=$A14,ODD(D$2)=D$2),AND(EVEN($A14)=$A14,EVEN(D$2)=D$2)),D$1,-100))","v":28.125},{"$f":"IF('Ceiling Speaker Calculator'!$C$29=\"Square\",E$1,IF(OR(AND(ODD($A14)=$A14,ODD(E$2)=E$2),AND(EVEN($A14)=$A14,EVEN(E$2)=E$2)),E$1,-100))","v":46.875},{"$f":"IF('Ceiling Speaker Calculator'!$C$29=\"Square\",F$1,IF(OR(AND(ODD($A14)=$A14,ODD(F$2)=F$2),AND(EVEN($A14)=$A14,EVEN(F$2)=F$2)),F$1,-100))","v":65.625},{"$f":"IF('Ceiling Speaker Calculator'!$C$29=\"Square\",G$1,IF(OR(AND(ODD($A14)=$A14,ODD(G$2)=G$2),AND(EVEN($A14)=$A14,EVEN(G$2)=G$2)),G$1,-100))","v":84.375},{"$f":"IF('Ceiling Speaker Calculator'!$C$29=\"Square\",H$1,IF(OR(AND(ODD($A14)=$A14,ODD(H$2)=H$2),AND(EVEN($A14)=$A14,EVEN(H$2)=H$2)),H$1,-100))","v":103.125},{"$f":"IF('Ceiling Speaker Calculator'!$C$29=\"Square\",I$1,IF(OR(AND(ODD($A14)=$A14,ODD(I$2)=I$2),AND(EVEN($A14)=$A14,EVEN(I$2)=I$2)),I$1,-100))","v":121.875},{"$f":"IF('Ceiling Speaker Calculator'!$C$29=\"Square\",J$1,IF(OR(AND(ODD($A14)=$A14,ODD(J$2)=J$2),AND(EVEN($A14)=$A14,EVEN(J$2)=J$2)),J$1,-100))","v":140.625},{"$f":"IF('Ceiling Speaker Calculator'!$C$29=\"Square\",K$1,IF(OR(AND(ODD($A14)=$A14,ODD(K$2)=K$2),AND(EVEN($A14)=$A14,EVEN(K$2)=K$2)),K$1,-100))","v":159.375},{"$f":"IF('Ceiling Speaker Calculator'!$C$29=\"Square\",L$1,IF(OR(AND(ODD($A14)=$A14,ODD(L$2)=L$2),AND(EVEN($A14)=$A14,EVEN(L$2)=L$2)),L$1,-100))","v":178.125},{"$f":"IF('Ceiling Speaker Calculator'!$C$29=\"Square\",M$1,IF(OR(AND(ODD($A14)=$A14,ODD(M$2)=M$2),AND(EVEN($A14)=$A14,EVEN(M$2)=M$2)),M$1,-100))","v":196.875},{"$f":"IF('Ceiling Speaker Calculator'!$C$29=\"Square\",N$1,IF(OR(AND(ODD($A14)=$A14,ODD(N$2)=N$2),AND(EVEN($A14)=$A14,EVEN(N$2)=N$2)),N$1,-100))","v":215.625},{"$f":"IF('Ceiling Speaker Calculator'!$C$29=\"Square\",O$1,IF(OR(AND(ODD($A14)=$A14,ODD(O$2)=O$2),AND(EVEN($A14)=$A14,EVEN(O$2)=O$2)),O$1,-100))","v":234.375},{"$f":"IF('Ceiling Speaker Calculator'!$C$29=\"Square\",P$1,IF(OR(AND(ODD($A14)=$A14,ODD(P$2)=P$2),AND(EVEN($A14)=$A14,EVEN(P$2)=P$2)),P$1,-100))","v":253.125},{"$f":"IF('Ceiling Speaker Calculator'!$C$29=\"Square\",Q$1,IF(OR(AND(ODD($A14)=$A14,ODD(Q$2)=Q$2),AND(EVEN($A14)=$A14,EVEN(Q$2)=Q$2)),Q$1,-100))","v":271.875},{"$f":"IF('Ceiling Speaker Calculator'!$C$29=\"Square\",R$1,IF(OR(AND(ODD($A14)=$A14,ODD(R$2)=R$2),AND(EVEN($A14)=$A14,EVEN(R$2)=R$2)),R$1,-100))","v":290.625},{"$f":"IF('Ceiling Speaker Calculator'!$C$29=\"Square\",S$1,IF(OR(AND(ODD($A14)=$A14,ODD(S$2)=S$2),AND(EVEN($A14)=$A14,EVEN(S$2)=S$2)),S$1,-100))","v":309.375},{"$f":"IF('Ceiling Speaker Calculator'!$C$29=\"Square\",T$1,IF(OR(AND(ODD($A14)=$A14,ODD(T$2)=T$2),AND(EVEN($A14)=$A14,EVEN(T$2)=T$2)),T$1,-100))","v":328.125},{"$f":"IF('Ceiling Speaker Calculator'!$C$29=\"Square\",U$1,IF(OR(AND(ODD($A14)=$A14,ODD(U$2)=U$2),AND(EVEN($A14)=$A14,EVEN(U$2)=U$2)),U$1,-100))","v":346.875},{"$f":"IF('Ceiling Speaker Calculator'!$C$29=\"Square\",V$1,IF(OR(AND(ODD($A14)=$A14,ODD(V$2)=V$2),AND(EVEN($A14)=$A14,EVEN(V$2)=V$2)),V$1,-100))","v":365.625},{"$f":"IF('Ceiling Speaker Calculator'!$C$29=\"Square\",W$1,IF(OR(AND(ODD($A14)=$A14,ODD(W$2)=W$2),AND(EVEN($A14)=$A14,EVEN(W$2)=W$2)),W$1,-100))","v":384.375},{"$f":"IF('Ceiling Speaker Calculator'!$C$29=\"Square\",X$1,IF(OR(AND(ODD($A14)=$A14,ODD(X$2)=X$2),AND(EVEN($A14)=$A14,EVEN(X$2)=X$2)),X$1,-100))","v":403.125},{"$f":"IF('Ceiling Speaker Calculator'!$C$29=\"Square\",Y$1,IF(OR(AND(ODD($A14)=$A14,ODD(Y$2)=Y$2),AND(EVEN($A14)=$A14,EVEN(Y$2)=Y$2)),Y$1,-100))","v":421.875},{"$f":"IF('Ceiling Speaker Calculator'!$C$29=\"Square\",Z$1,IF(OR(AND(ODD($A14)=$A14,ODD(Z$2)=Z$2),AND(EVEN($A14)=$A14,EVEN(Z$2)=Z$2)),Z$1,-100))","v":440.625},{"$f":"IF('Ceiling Speaker Calculator'!$C$29=\"Square\",AA$1,IF(OR(AND(ODD($A14)=$A14,ODD(AA$2)=AA$2),AND(EVEN($A14)=$A14,EVEN(AA$2)=AA$2)),AA$1,-100))","v":459.375},{"$f":"IF('Ceiling Speaker Calculator'!$C$29=\"Square\",AB$1,IF(OR(AND(ODD($A14)=$A14,ODD(AB$2)=AB$2),AND(EVEN($A14)=$A14,EVEN(AB$2)=AB$2)),AB$1,-100))","v":478.125},{"$f":"IF('Ceiling Speaker Calculator'!$C$29=\"Square\",AC$1,IF(OR(AND(ODD($A14)=$A14,ODD(AC$2)=AC$2),AND(EVEN($A14)=$A14,EVEN(AC$2)=AC$2)),AC$1,-100))","v":496.875},{"$f":"IF('Ceiling Speaker Calculator'!$C$29=\"Square\",AD$1,IF(OR(AND(ODD($A14)=$A14,ODD(AD$2)=AD$2),AND(EVEN($A14)=$A14,EVEN(AD$2)=AD$2)),AD$1,-100))","v":515.625},{"$f":"IF('Ceiling Speaker Calculator'!$C$29=\"Square\",AE$1,IF(OR(AND(ODD($A14)=$A14,ODD(AE$2)=AE$2),AND(EVEN($A14)=$A14,EVEN(AE$2)=AE$2)),AE$1,-100))","v":534.375},{"$f":"IF('Ceiling Speaker Calculator'!$C$29=\"Square\",AF$1,IF(OR(AND(ODD($A14)=$A14,ODD(AF$2)=AF$2),AND(EVEN($A14)=$A14,EVEN(AF$2)=AF$2)),AF$1,-100))","v":553.125},{"$f":"IF('Ceiling Speaker Calculator'!$C$29=\"Square\",AG$1,IF(OR(AND(ODD($A14)=$A14,ODD(AG$2)=AG$2),AND(EVEN($A14)=$A14,EVEN(AG$2)=AG$2)),AG$1,-100))","v":571.875},{"$f":"IF('Ceiling Speaker Calculator'!$C$29=\"Square\",AH$1,IF(OR(AND(ODD($A14)=$A14,ODD(AH$2)=AH$2),AND(EVEN($A14)=$A14,EVEN(AH$2)=AH$2)),AH$1,-100))","v":590.625},{"$f":"IF('Ceiling Speaker Calculator'!$C$29=\"Square\",AI$1,IF(OR(AND(ODD($A14)=$A14,ODD(AI$2)=AI$2),AND(EVEN($A14)=$A14,EVEN(AI$2)=AI$2)),AI$1,-100))","v":609.375},{"$f":"IF('Ceiling Speaker Calculator'!$C$29=\"Square\",AJ$1,IF(OR(AND(ODD($A14)=$A14,ODD(AJ$2)=AJ$2),AND(EVEN($A14)=$A14,EVEN(AJ$2)=AJ$2)),AJ$1,-100))","v":628.125},{"$f":"IF('Ceiling Speaker Calculator'!$C$29=\"Square\",AK$1,IF(OR(AND(ODD($A14)=$A14,ODD(AK$2)=AK$2),AND(EVEN($A14)=$A14,EVEN(AK$2)=AK$2)),AK$1,-100))","v":646.875},{"$f":"IF('Ceiling Speaker Calculator'!$C$29=\"Square\",AL$1,IF(OR(AND(ODD($A14)=$A14,ODD(AL$2)=AL$2),AND(EVEN($A14)=$A14,EVEN(AL$2)=AL$2)),AL$1,-100))","v":665.625},{"$f":"IF('Ceiling Speaker Calculator'!$C$29=\"Square\",AM$1,IF(OR(AND(ODD($A14)=$A14,ODD(AM$2)=AM$2),AND(EVEN($A14)=$A14,EVEN(AM$2)=AM$2)),AM$1,-100))","v":684.375},{"$f":"IF('Ceiling Speaker Calculator'!$C$29=\"Square\",AN$1,IF(OR(AND(ODD($A14)=$A14,ODD(AN$2)=AN$2),AND(EVEN($A14)=$A14,EVEN(AN$2)=AN$2)),AN$1,-100))","v":703.125},{"$f":"IF('Ceiling Speaker Calculator'!$C$29=\"Square\",AO$1,IF(OR(AND(ODD($A14)=$A14,ODD(AO$2)=AO$2),AND(EVEN($A14)=$A14,EVEN(AO$2)=AO$2)),AO$1,-100))","v":721.875},{"$f":"IF('Ceiling Speaker Calculator'!$C$29=\"Square\",AP$1,IF(OR(AND(ODD($A14)=$A14,ODD(AP$2)=AP$2),AND(EVEN($A14)=$A14,EVEN(AP$2)=AP$2)),AP$1,-100))","v":740.625},{"$f":"IF('Ceiling Speaker Calculator'!$C$29=\"Square\",AQ$1,IF(OR(AND(ODD($A14)=$A14,ODD(AQ$2)=AQ$2),AND(EVEN($A14)=$A14,EVEN(AQ$2)=AQ$2)),AQ$1,-100))","v":759.375},{"$f":"IF('Ceiling Speaker Calculator'!$C$29=\"Square\",AR$1,IF(OR(AND(ODD($A14)=$A14,ODD(AR$2)=AR$2),AND(EVEN($A14)=$A14,EVEN(AR$2)=AR$2)),AR$1,-100))","v":778.125},{"$f":"IF('Ceiling Speaker Calculator'!$C$29=\"Square\",AS$1,IF(OR(AND(ODD($A14)=$A14,ODD(AS$2)=AS$2),AND(EVEN($A14)=$A14,EVEN(AS$2)=AS$2)),AS$1,-100))","v":796.875},{"$f":"IF('Ceiling Speaker Calculator'!$C$29=\"Square\",AT$1,IF(OR(AND(ODD($A14)=$A14,ODD(AT$2)=AT$2),AND(EVEN($A14)=$A14,EVEN(AT$2)=AT$2)),AT$1,-100))","v":815.625},{"$f":"IF('Ceiling Speaker Calculator'!$C$29=\"Square\",AU$1,IF(OR(AND(ODD($A14)=$A14,ODD(AU$2)=AU$2),AND(EVEN($A14)=$A14,EVEN(AU$2)=AU$2)),AU$1,-100))","v":834.375},{"$f":"IF('Ceiling Speaker Calculator'!$C$29=\"Square\",AV$1,IF(OR(AND(ODD($A14)=$A14,ODD(AV$2)=AV$2),AND(EVEN($A14)=$A14,EVEN(AV$2)=AV$2)),AV$1,-100))","v":853.125},{"$f":"IF('Ceiling Speaker Calculator'!$C$29=\"Square\",AW$1,IF(OR(AND(ODD($A14)=$A14,ODD(AW$2)=AW$2),AND(EVEN($A14)=$A14,EVEN(AW$2)=AW$2)),AW$1,-100))","v":871.875},{"$f":"IF('Ceiling Speaker Calculator'!$C$29=\"Square\",AX$1,IF(OR(AND(ODD($A14)=$A14,ODD(AX$2)=AX$2),AND(EVEN($A14)=$A14,EVEN(AX$2)=AX$2)),AX$1,-100))","v":890.625},{"$f":"IF('Ceiling Speaker Calculator'!$C$29=\"Square\",AY$1,IF(OR(AND(ODD($A14)=$A14,ODD(AY$2)=AY$2),AND(EVEN($A14)=$A14,EVEN(AY$2)=AY$2)),AY$1,-100))","v":909.375},{"$f":"IF('Ceiling Speaker Calculator'!$C$29=\"Square\",AZ$1,IF(OR(AND(ODD($A14)=$A14,ODD(AZ$2)=AZ$2),AND(EVEN($A14)=$A14,EVEN(AZ$2)=AZ$2)),AZ$1,-100))","v":928.125},{"$f":"IF('Ceiling Speaker Calculator'!$C$29=\"Square\",BA$1,IF(OR(AND(ODD($A14)=$A14,ODD(BA$2)=BA$2),AND(EVEN($A14)=$A14,EVEN(BA$2)=BA$2)),BA$1,-100))","v":946.875},{"$f":"IF('Ceiling Speaker Calculator'!$C$29=\"Square\",BB$1,IF(OR(AND(ODD($A14)=$A14,ODD(BB$2)=BB$2),AND(EVEN($A14)=$A14,EVEN(BB$2)=BB$2)),BB$1,-100))","v":965.625},{"$f":"IF('Ceiling Speaker Calculator'!$C$29=\"Square\",BC$1,IF(OR(AND(ODD($A14)=$A14,ODD(BC$2)=BC$2),AND(EVEN($A14)=$A14,EVEN(BC$2)=BC$2)),BC$1,-100))","v":984.375},{"$f":"IF('Ceiling Speaker Calculator'!$C$29=\"Square\",BD$1,IF(OR(AND(ODD($A14)=$A14,ODD(BD$2)=BD$2),AND(EVEN($A14)=$A14,EVEN(BD$2)=BD$2)),BD$1,-100))","v":1003.125},{"$f":"IF('Ceiling Speaker Calculator'!$C$29=\"Square\",BE$1,IF(OR(AND(ODD($A14)=$A14,ODD(BE$2)=BE$2),AND(EVEN($A14)=$A14,EVEN(BE$2)=BE$2)),BE$1,-100))","v":1021.875},{"$f":"IF('Ceiling Speaker Calculator'!$C$29=\"Square\",BF$1,IF(OR(AND(ODD($A14)=$A14,ODD(BF$2)=BF$2),AND(EVEN($A14)=$A14,EVEN(BF$2)=BF$2)),BF$1,-100))","v":1040.625},{"$f":"IF('Ceiling Speaker Calculator'!$C$29=\"Square\",BG$1,IF(OR(AND(ODD($A14)=$A14,ODD(BG$2)=BG$2),AND(EVEN($A14)=$A14,EVEN(BG$2)=BG$2)),BG$1,-100))","v":1059.375},{"$f":"IF('Ceiling Speaker Calculator'!$C$29=\"Square\",BH$1,IF(OR(AND(ODD($A14)=$A14,ODD(BH$2)=BH$2),AND(EVEN($A14)=$A14,EVEN(BH$2)=BH$2)),BH$1,-100))","v":1078.125},{"$f":"IF('Ceiling Speaker Calculator'!$C$29=\"Square\",BI$1,IF(OR(AND(ODD($A14)=$A14,ODD(BI$2)=BI$2),AND(EVEN($A14)=$A14,EVEN(BI$2)=BI$2)),BI$1,-100))","v":1096.875},{"$f":"IF('Ceiling Speaker Calculator'!$C$29=\"Square\",BJ$1,IF(OR(AND(ODD($A14)=$A14,ODD(BJ$2)=BJ$2),AND(EVEN($A14)=$A14,EVEN(BJ$2)=BJ$2)),BJ$1,-100))","v":1115.625},{"$f":"IF('Ceiling Speaker Calculator'!$C$29=\"Square\",BK$1,IF(OR(AND(ODD($A14)=$A14,ODD(BK$2)=BK$2),AND(EVEN($A14)=$A14,EVEN(BK$2)=BK$2)),BK$1,-100))","v":1134.375},{"$f":"IF('Ceiling Speaker Calculator'!$C$29=\"Square\",BL$1,IF(OR(AND(ODD($A14)=$A14,ODD(BL$2)=BL$2),AND(EVEN($A14)=$A14,EVEN(BL$2)=BL$2)),BL$1,-100))","v":1153.125},{"$f":"IF('Ceiling Speaker Calculator'!$C$29=\"Square\",BM$1,IF(OR(AND(ODD($A14)=$A14,ODD(BM$2)=BM$2),AND(EVEN($A14)=$A14,EVEN(BM$2)=BM$2)),BM$1,-100))","v":1171.875},{"$f":"IF('Ceiling Speaker Calculator'!$C$29=\"Square\",BN$1,IF(OR(AND(ODD($A14)=$A14,ODD(BN$2)=BN$2),AND(EVEN($A14)=$A14,EVEN(BN$2)=BN$2)),BN$1,-100))","v":1190.625},{"$f":"IF('Ceiling Speaker Calculator'!$C$29=\"Square\",BO$1,IF(OR(AND(ODD($A14)=$A14,ODD(BO$2)=BO$2),AND(EVEN($A14)=$A14,EVEN(BO$2)=BO$2)),BO$1,-100))","v":1209.375},{"$f":"IF('Ceiling Speaker Calculator'!$C$29=\"Square\",BP$1,IF(OR(AND(ODD($A14)=$A14,ODD(BP$2)=BP$2),AND(EVEN($A14)=$A14,EVEN(BP$2)=BP$2)),BP$1,-100))","v":1228.125},{"$f":"IF('Ceiling Speaker Calculator'!$C$29=\"Square\",BQ$1,IF(OR(AND(ODD($A14)=$A14,ODD(BQ$2)=BQ$2),AND(EVEN($A14)=$A14,EVEN(BQ$2)=BQ$2)),BQ$1,-100))","v":1246.875},{"$f":"IF('Ceiling Speaker Calculator'!$C$29=\"Square\",BR$1,IF(OR(AND(ODD($A14)=$A14,ODD(BR$2)=BR$2),AND(EVEN($A14)=$A14,EVEN(BR$2)=BR$2)),BR$1,-100))","v":1265.625},{"$f":"IF('Ceiling Speaker Calculator'!$C$29=\"Square\",BS$1,IF(OR(AND(ODD($A14)=$A14,ODD(BS$2)=BS$2),AND(EVEN($A14)=$A14,EVEN(BS$2)=BS$2)),BS$1,-100))","v":1284.375},{"$f":"IF('Ceiling Speaker Calculator'!$C$29=\"Square\",BT$1,IF(OR(AND(ODD($A14)=$A14,ODD(BT$2)=BT$2),AND(EVEN($A14)=$A14,EVEN(BT$2)=BT$2)),BT$1,-100))","v":1303.125},{"$f":"IF('Ceiling Speaker Calculator'!$C$29=\"Square\",BU$1,IF(OR(AND(ODD($A14)=$A14,ODD(BU$2)=BU$2),AND(EVEN($A14)=$A14,EVEN(BU$2)=BU$2)),BU$1,-100))","v":1321.875},{"$f":"IF('Ceiling Speaker Calculator'!$C$29=\"Square\",BV$1,IF(OR(AND(ODD($A14)=$A14,ODD(BV$2)=BV$2),AND(EVEN($A14)=$A14,EVEN(BV$2)=BV$2)),BV$1,-100))","v":1340.625},{"$f":"IF('Ceiling Speaker Calculator'!$C$29=\"Square\",BW$1,IF(OR(AND(ODD($A14)=$A14,ODD(BW$2)=BW$2),AND(EVEN($A14)=$A14,EVEN(BW$2)=BW$2)),BW$1,-100))","v":1359.375},{"$f":"IF('Ceiling Speaker Calculator'!$C$29=\"Square\",BX$1,IF(OR(AND(ODD($A14)=$A14,ODD(BX$2)=BX$2),AND(EVEN($A14)=$A14,EVEN(BX$2)=BX$2)),BX$1,-100))","v":1378.125},{"$f":"IF('Ceiling Speaker Calculator'!$C$29=\"Square\",BY$1,IF(OR(AND(ODD($A14)=$A14,ODD(BY$2)=BY$2),AND(EVEN($A14)=$A14,EVEN(BY$2)=BY$2)),BY$1,-100))","v":1396.875},{"$f":"IF('Ceiling Speaker Calculator'!$C$29=\"Square\",BZ$1,IF(OR(AND(ODD($A14)=$A14,ODD(BZ$2)=BZ$2),AND(EVEN($A14)=$A14,EVEN(BZ$2)=BZ$2)),BZ$1,-100))","v":1415.625},{"$f":"IF('Ceiling Speaker Calculator'!$C$29=\"Square\",CA$1,IF(OR(AND(ODD($A14)=$A14,ODD(CA$2)=CA$2),AND(EVEN($A14)=$A14,EVEN(CA$2)=CA$2)),CA$1,-100))","v":1434.375},{"$f":"IF('Ceiling Speaker Calculator'!$C$29=\"Square\",CB$1,IF(OR(AND(ODD($A14)=$A14,ODD(CB$2)=CB$2),AND(EVEN($A14)=$A14,EVEN(CB$2)=CB$2)),CB$1,-100))","v":1453.125},{"$f":"IF('Ceiling Speaker Calculator'!$C$29=\"Square\",CC$1,IF(OR(AND(ODD($A14)=$A14,ODD(CC$2)=CC$2),AND(EVEN($A14)=$A14,EVEN(CC$2)=CC$2)),CC$1,-100))","v":1471.875},{"$f":"IF('Ceiling Speaker Calculator'!$C$29=\"Square\",CD$1,IF(OR(AND(ODD($A14)=$A14,ODD(CD$2)=CD$2),AND(EVEN($A14)=$A14,EVEN(CD$2)=CD$2)),CD$1,-100))","v":1490.625},{"$f":"IF('Ceiling Speaker Calculator'!$C$29=\"Square\",CE$1,IF(OR(AND(ODD($A14)=$A14,ODD(CE$2)=CE$2),AND(EVEN($A14)=$A14,EVEN(CE$2)=CE$2)),CE$1,-100))","v":1509.375},{"$f":"IF('Ceiling Speaker Calculator'!$C$29=\"Square\",CF$1,IF(OR(AND(ODD($A14)=$A14,ODD(CF$2)=CF$2),AND(EVEN($A14)=$A14,EVEN(CF$2)=CF$2)),CF$1,-100))","v":1528.125},{"$f":"IF('Ceiling Speaker Calculator'!$C$29=\"Square\",CG$1,IF(OR(AND(ODD($A14)=$A14,ODD(CG$2)=CG$2),AND(EVEN($A14)=$A14,EVEN(CG$2)=CG$2)),CG$1,-100))","v":1546.875},{"$f":"IF('Ceiling Speaker Calculator'!$C$29=\"Square\",CH$1,IF(OR(AND(ODD($A14)=$A14,ODD(CH$2)=CH$2),AND(EVEN($A14)=$A14,EVEN(CH$2)=CH$2)),CH$1,-100))","v":1565.625},{"$f":"IF('Ceiling Speaker Calculator'!$C$29=\"Square\",CI$1,IF(OR(AND(ODD($A14)=$A14,ODD(CI$2)=CI$2),AND(EVEN($A14)=$A14,EVEN(CI$2)=CI$2)),CI$1,-100))","v":1584.375},{"$f":"IF('Ceiling Speaker Calculator'!$C$29=\"Square\",CJ$1,IF(OR(AND(ODD($A14)=$A14,ODD(CJ$2)=CJ$2),AND(EVEN($A14)=$A14,EVEN(CJ$2)=CJ$2)),CJ$1,-100))","v":1603.125},{"$f":"IF('Ceiling Speaker Calculator'!$C$29=\"Square\",CK$1,IF(OR(AND(ODD($A14)=$A14,ODD(CK$2)=CK$2),AND(EVEN($A14)=$A14,EVEN(CK$2)=CK$2)),CK$1,-100))","v":1621.875},{"$f":"IF('Ceiling Speaker Calculator'!$C$29=\"Square\",CL$1,IF(OR(AND(ODD($A14)=$A14,ODD(CL$2)=CL$2),AND(EVEN($A14)=$A14,EVEN(CL$2)=CL$2)),CL$1,-100))","v":1640.625},{"$f":"IF('Ceiling Speaker Calculator'!$C$29=\"Square\",CM$1,IF(OR(AND(ODD($A14)=$A14,ODD(CM$2)=CM$2),AND(EVEN($A14)=$A14,EVEN(CM$2)=CM$2)),CM$1,-100))","v":1659.375},{"$f":"IF('Ceiling Speaker Calculator'!$C$29=\"Square\",CN$1,IF(OR(AND(ODD($A14)=$A14,ODD(CN$2)=CN$2),AND(EVEN($A14)=$A14,EVEN(CN$2)=CN$2)),CN$1,-100))","v":1678.125},{"$f":"IF('Ceiling Speaker Calculator'!$C$29=\"Square\",CO$1,IF(OR(AND(ODD($A14)=$A14,ODD(CO$2)=CO$2),AND(EVEN($A14)=$A14,EVEN(CO$2)=CO$2)),CO$1,-100))","v":1696.875},{"$f":"IF('Ceiling Speaker Calculator'!$C$29=\"Square\",CP$1,IF(OR(AND(ODD($A14)=$A14,ODD(CP$2)=CP$2),AND(EVEN($A14)=$A14,EVEN(CP$2)=CP$2)),CP$1,-100))","v":1715.625},{"$f":"IF('Ceiling Speaker Calculator'!$C$29=\"Square\",CQ$1,IF(OR(AND(ODD($A14)=$A14,ODD(CQ$2)=CQ$2),AND(EVEN($A14)=$A14,EVEN(CQ$2)=CQ$2)),CQ$1,-100))","v":1734.375},{"$f":"IF('Ceiling Speaker Calculator'!$C$29=\"Square\",CR$1,IF(OR(AND(ODD($A14)=$A14,ODD(CR$2)=CR$2),AND(EVEN($A14)=$A14,EVEN(CR$2)=CR$2)),CR$1,-100))","v":1753.125},{"$f":"IF('Ceiling Speaker Calculator'!$C$29=\"Square\",CS$1,IF(OR(AND(ODD($A14)=$A14,ODD(CS$2)=CS$2),AND(EVEN($A14)=$A14,EVEN(CS$2)=CS$2)),CS$1,-100))","v":1771.875},{"$f":"IF('Ceiling Speaker Calculator'!$C$29=\"Square\",CT$1,IF(OR(AND(ODD($A14)=$A14,ODD(CT$2)=CT$2),AND(EVEN($A14)=$A14,EVEN(CT$2)=CT$2)),CT$1,-100))","v":1790.625},{"$f":"IF('Ceiling Speaker Calculator'!$C$29=\"Square\",CU$1,IF(OR(AND(ODD($A14)=$A14,ODD(CU$2)=CU$2),AND(EVEN($A14)=$A14,EVEN(CU$2)=CU$2)),CU$1,-100))","v":1809.375},{"$f":"IF('Ceiling Speaker Calculator'!$C$29=\"Square\",CV$1,IF(OR(AND(ODD($A14)=$A14,ODD(CV$2)=CV$2),AND(EVEN($A14)=$A14,EVEN(CV$2)=CV$2)),CV$1,-100))","v":1828.125},{"$f":"IF('Ceiling Speaker Calculator'!$C$29=\"Square\",CW$1,IF(OR(AND(ODD($A14)=$A14,ODD(CW$2)=CW$2),AND(EVEN($A14)=$A14,EVEN(CW$2)=CW$2)),CW$1,-100))","v":1846.875},{"$f":"IF('Ceiling Speaker Calculator'!$C$29=\"Square\",CX$1,IF(OR(AND(ODD($A14)=$A14,ODD(CX$2)=CX$2),AND(EVEN($A14)=$A14,EVEN(CX$2)=CX$2)),CX$1,-100))","v":1865.625}]
[13,{"$f":"B14+'Ceiling Speaker Calculator'!$K$16","v":250},{"$f":"IF('Ceiling Speaker Calculator'!$C$29=\"Square\",C$1,IF(OR(AND(ODD($A15)=$A15,ODD(C$2)=C$2),AND(EVEN($A15)=$A15,EVEN(C$2)=C$2)),C$1,-100))","v":9.375},{"$f":"IF('Ceiling Speaker Calculator'!$C$29=\"Square\",D$1,IF(OR(AND(ODD($A15)=$A15,ODD(D$2)=D$2),AND(EVEN($A15)=$A15,EVEN(D$2)=D$2)),D$1,-100))","v":28.125},{"$f":"IF('Ceiling Speaker Calculator'!$C$29=\"Square\",E$1,IF(OR(AND(ODD($A15)=$A15,ODD(E$2)=E$2),AND(EVEN($A15)=$A15,EVEN(E$2)=E$2)),E$1,-100))","v":46.875},{"$f":"IF('Ceiling Speaker Calculator'!$C$29=\"Square\",F$1,IF(OR(AND(ODD($A15)=$A15,ODD(F$2)=F$2),AND(EVEN($A15)=$A15,EVEN(F$2)=F$2)),F$1,-100))","v":65.625},{"$f":"IF('Ceiling Speaker Calculator'!$C$29=\"Square\",G$1,IF(OR(AND(ODD($A15)=$A15,ODD(G$2)=G$2),AND(EVEN($A15)=$A15,EVEN(G$2)=G$2)),G$1,-100))","v":84.375},{"$f":"IF('Ceiling Speaker Calculator'!$C$29=\"Square\",H$1,IF(OR(AND(ODD($A15)=$A15,ODD(H$2)=H$2),AND(EVEN($A15)=$A15,EVEN(H$2)=H$2)),H$1,-100))","v":103.125},{"$f":"IF('Ceiling Speaker Calculator'!$C$29=\"Square\",I$1,IF(OR(AND(ODD($A15)=$A15,ODD(I$2)=I$2),AND(EVEN($A15)=$A15,EVEN(I$2)=I$2)),I$1,-100))","v":121.875},{"$f":"IF('Ceiling Speaker Calculator'!$C$29=\"Square\",J$1,IF(OR(AND(ODD($A15)=$A15,ODD(J$2)=J$2),AND(EVEN($A15)=$A15,EVEN(J$2)=J$2)),J$1,-100))","v":140.625},{"$f":"IF('Ceiling Speaker Calculator'!$C$29=\"Square\",K$1,IF(OR(AND(ODD($A15)=$A15,ODD(K$2)=K$2),AND(EVEN($A15)=$A15,EVEN(K$2)=K$2)),K$1,-100))","v":159.375},{"$f":"IF('Ceiling Speaker Calculator'!$C$29=\"Square\",L$1,IF(OR(AND(ODD($A15)=$A15,ODD(L$2)=L$2),AND(EVEN($A15)=$A15,EVEN(L$2)=L$2)),L$1,-100))","v":178.125},{"$f":"IF('Ceiling Speaker Calculator'!$C$29=\"Square\",M$1,IF(OR(AND(ODD($A15)=$A15,ODD(M$2)=M$2),AND(EVEN($A15)=$A15,EVEN(M$2)=M$2)),M$1,-100))","v":196.875},{"$f":"IF('Ceiling Speaker Calculator'!$C$29=\"Square\",N$1,IF(OR(AND(ODD($A15)=$A15,ODD(N$2)=N$2),AND(EVEN($A15)=$A15,EVEN(N$2)=N$2)),N$1,-100))","v":215.625},{"$f":"IF('Ceiling Speaker Calculator'!$C$29=\"Square\",O$1,IF(OR(AND(ODD($A15)=$A15,ODD(O$2)=O$2),AND(EVEN($A15)=$A15,EVEN(O$2)=O$2)),O$1,-100))","v":234.375},{"$f":"IF('Ceiling Speaker Calculator'!$C$29=\"Square\",P$1,IF(OR(AND(ODD($A15)=$A15,ODD(P$2)=P$2),AND(EVEN($A15)=$A15,EVEN(P$2)=P$2)),P$1,-100))","v":253.125},{"$f":"IF('Ceiling Speaker Calculator'!$C$29=\"Square\",Q$1,IF(OR(AND(ODD($A15)=$A15,ODD(Q$2)=Q$2),AND(EVEN($A15)=$A15,EVEN(Q$2)=Q$2)),Q$1,-100))","v":271.875},{"$f":"IF('Ceiling Speaker Calculator'!$C$29=\"Square\",R$1,IF(OR(AND(ODD($A15)=$A15,ODD(R$2)=R$2),AND(EVEN($A15)=$A15,EVEN(R$2)=R$2)),R$1,-100))","v":290.625},{"$f":"IF('Ceiling Speaker Calculator'!$C$29=\"Square\",S$1,IF(OR(AND(ODD($A15)=$A15,ODD(S$2)=S$2),AND(EVEN($A15)=$A15,EVEN(S$2)=S$2)),S$1,-100))","v":309.375},{"$f":"IF('Ceiling Speaker Calculator'!$C$29=\"Square\",T$1,IF(OR(AND(ODD($A15)=$A15,ODD(T$2)=T$2),AND(EVEN($A15)=$A15,EVEN(T$2)=T$2)),T$1,-100))","v":328.125},{"$f":"IF('Ceiling Speaker Calculator'!$C$29=\"Square\",U$1,IF(OR(AND(ODD($A15)=$A15,ODD(U$2)=U$2),AND(EVEN($A15)=$A15,EVEN(U$2)=U$2)),U$1,-100))","v":346.875},{"$f":"IF('Ceiling Speaker Calculator'!$C$29=\"Square\",V$1,IF(OR(AND(ODD($A15)=$A15,ODD(V$2)=V$2),AND(EVEN($A15)=$A15,EVEN(V$2)=V$2)),V$1,-100))","v":365.625},{"$f":"IF('Ceiling Speaker Calculator'!$C$29=\"Square\",W$1,IF(OR(AND(ODD($A15)=$A15,ODD(W$2)=W$2),AND(EVEN($A15)=$A15,EVEN(W$2)=W$2)),W$1,-100))","v":384.375},{"$f":"IF('Ceiling Speaker Calculator'!$C$29=\"Square\",X$1,IF(OR(AND(ODD($A15)=$A15,ODD(X$2)=X$2),AND(EVEN($A15)=$A15,EVEN(X$2)=X$2)),X$1,-100))","v":403.125},{"$f":"IF('Ceiling Speaker Calculator'!$C$29=\"Square\",Y$1,IF(OR(AND(ODD($A15)=$A15,ODD(Y$2)=Y$2),AND(EVEN($A15)=$A15,EVEN(Y$2)=Y$2)),Y$1,-100))","v":421.875},{"$f":"IF('Ceiling Speaker Calculator'!$C$29=\"Square\",Z$1,IF(OR(AND(ODD($A15)=$A15,ODD(Z$2)=Z$2),AND(EVEN($A15)=$A15,EVEN(Z$2)=Z$2)),Z$1,-100))","v":440.625},{"$f":"IF('Ceiling Speaker Calculator'!$C$29=\"Square\",AA$1,IF(OR(AND(ODD($A15)=$A15,ODD(AA$2)=AA$2),AND(EVEN($A15)=$A15,EVEN(AA$2)=AA$2)),AA$1,-100))","v":459.375},{"$f":"IF('Ceiling Speaker Calculator'!$C$29=\"Square\",AB$1,IF(OR(AND(ODD($A15)=$A15,ODD(AB$2)=AB$2),AND(EVEN($A15)=$A15,EVEN(AB$2)=AB$2)),AB$1,-100))","v":478.125},{"$f":"IF('Ceiling Speaker Calculator'!$C$29=\"Square\",AC$1,IF(OR(AND(ODD($A15)=$A15,ODD(AC$2)=AC$2),AND(EVEN($A15)=$A15,EVEN(AC$2)=AC$2)),AC$1,-100))","v":496.875},{"$f":"IF('Ceiling Speaker Calculator'!$C$29=\"Square\",AD$1,IF(OR(AND(ODD($A15)=$A15,ODD(AD$2)=AD$2),AND(EVEN($A15)=$A15,EVEN(AD$2)=AD$2)),AD$1,-100))","v":515.625},{"$f":"IF('Ceiling Speaker Calculator'!$C$29=\"Square\",AE$1,IF(OR(AND(ODD($A15)=$A15,ODD(AE$2)=AE$2),AND(EVEN($A15)=$A15,EVEN(AE$2)=AE$2)),AE$1,-100))","v":534.375},{"$f":"IF('Ceiling Speaker Calculator'!$C$29=\"Square\",AF$1,IF(OR(AND(ODD($A15)=$A15,ODD(AF$2)=AF$2),AND(EVEN($A15)=$A15,EVEN(AF$2)=AF$2)),AF$1,-100))","v":553.125},{"$f":"IF('Ceiling Speaker Calculator'!$C$29=\"Square\",AG$1,IF(OR(AND(ODD($A15)=$A15,ODD(AG$2)=AG$2),AND(EVEN($A15)=$A15,EVEN(AG$2)=AG$2)),AG$1,-100))","v":571.875},{"$f":"IF('Ceiling Speaker Calculator'!$C$29=\"Square\",AH$1,IF(OR(AND(ODD($A15)=$A15,ODD(AH$2)=AH$2),AND(EVEN($A15)=$A15,EVEN(AH$2)=AH$2)),AH$1,-100))","v":590.625},{"$f":"IF('Ceiling Speaker Calculator'!$C$29=\"Square\",AI$1,IF(OR(AND(ODD($A15)=$A15,ODD(AI$2)=AI$2),AND(EVEN($A15)=$A15,EVEN(AI$2)=AI$2)),AI$1,-100))","v":609.375},{"$f":"IF('Ceiling Speaker Calculator'!$C$29=\"Square\",AJ$1,IF(OR(AND(ODD($A15)=$A15,ODD(AJ$2)=AJ$2),AND(EVEN($A15)=$A15,EVEN(AJ$2)=AJ$2)),AJ$1,-100))","v":628.125},{"$f":"IF('Ceiling Speaker Calculator'!$C$29=\"Square\",AK$1,IF(OR(AND(ODD($A15)=$A15,ODD(AK$2)=AK$2),AND(EVEN($A15)=$A15,EVEN(AK$2)=AK$2)),AK$1,-100))","v":646.875},{"$f":"IF('Ceiling Speaker Calculator'!$C$29=\"Square\",AL$1,IF(OR(AND(ODD($A15)=$A15,ODD(AL$2)=AL$2),AND(EVEN($A15)=$A15,EVEN(AL$2)=AL$2)),AL$1,-100))","v":665.625},{"$f":"IF('Ceiling Speaker Calculator'!$C$29=\"Square\",AM$1,IF(OR(AND(ODD($A15)=$A15,ODD(AM$2)=AM$2),AND(EVEN($A15)=$A15,EVEN(AM$2)=AM$2)),AM$1,-100))","v":684.375},{"$f":"IF('Ceiling Speaker Calculator'!$C$29=\"Square\",AN$1,IF(OR(AND(ODD($A15)=$A15,ODD(AN$2)=AN$2),AND(EVEN($A15)=$A15,EVEN(AN$2)=AN$2)),AN$1,-100))","v":703.125},{"$f":"IF('Ceiling Speaker Calculator'!$C$29=\"Square\",AO$1,IF(OR(AND(ODD($A15)=$A15,ODD(AO$2)=AO$2),AND(EVEN($A15)=$A15,EVEN(AO$2)=AO$2)),AO$1,-100))","v":721.875},{"$f":"IF('Ceiling Speaker Calculator'!$C$29=\"Square\",AP$1,IF(OR(AND(ODD($A15)=$A15,ODD(AP$2)=AP$2),AND(EVEN($A15)=$A15,EVEN(AP$2)=AP$2)),AP$1,-100))","v":740.625},{"$f":"IF('Ceiling Speaker Calculator'!$C$29=\"Square\",AQ$1,IF(OR(AND(ODD($A15)=$A15,ODD(AQ$2)=AQ$2),AND(EVEN($A15)=$A15,EVEN(AQ$2)=AQ$2)),AQ$1,-100))","v":759.375},{"$f":"IF('Ceiling Speaker Calculator'!$C$29=\"Square\",AR$1,IF(OR(AND(ODD($A15)=$A15,ODD(AR$2)=AR$2),AND(EVEN($A15)=$A15,EVEN(AR$2)=AR$2)),AR$1,-100))","v":778.125},{"$f":"IF('Ceiling Speaker Calculator'!$C$29=\"Square\",AS$1,IF(OR(AND(ODD($A15)=$A15,ODD(AS$2)=AS$2),AND(EVEN($A15)=$A15,EVEN(AS$2)=AS$2)),AS$1,-100))","v":796.875},{"$f":"IF('Ceiling Speaker Calculator'!$C$29=\"Square\",AT$1,IF(OR(AND(ODD($A15)=$A15,ODD(AT$2)=AT$2),AND(EVEN($A15)=$A15,EVEN(AT$2)=AT$2)),AT$1,-100))","v":815.625},{"$f":"IF('Ceiling Speaker Calculator'!$C$29=\"Square\",AU$1,IF(OR(AND(ODD($A15)=$A15,ODD(AU$2)=AU$2),AND(EVEN($A15)=$A15,EVEN(AU$2)=AU$2)),AU$1,-100))","v":834.375},{"$f":"IF('Ceiling Speaker Calculator'!$C$29=\"Square\",AV$1,IF(OR(AND(ODD($A15)=$A15,ODD(AV$2)=AV$2),AND(EVEN($A15)=$A15,EVEN(AV$2)=AV$2)),AV$1,-100))","v":853.125},{"$f":"IF('Ceiling Speaker Calculator'!$C$29=\"Square\",AW$1,IF(OR(AND(ODD($A15)=$A15,ODD(AW$2)=AW$2),AND(EVEN($A15)=$A15,EVEN(AW$2)=AW$2)),AW$1,-100))","v":871.875},{"$f":"IF('Ceiling Speaker Calculator'!$C$29=\"Square\",AX$1,IF(OR(AND(ODD($A15)=$A15,ODD(AX$2)=AX$2),AND(EVEN($A15)=$A15,EVEN(AX$2)=AX$2)),AX$1,-100))","v":890.625},{"$f":"IF('Ceiling Speaker Calculator'!$C$29=\"Square\",AY$1,IF(OR(AND(ODD($A15)=$A15,ODD(AY$2)=AY$2),AND(EVEN($A15)=$A15,EVEN(AY$2)=AY$2)),AY$1,-100))","v":909.375},{"$f":"IF('Ceiling Speaker Calculator'!$C$29=\"Square\",AZ$1,IF(OR(AND(ODD($A15)=$A15,ODD(AZ$2)=AZ$2),AND(EVEN($A15)=$A15,EVEN(AZ$2)=AZ$2)),AZ$1,-100))","v":928.125},{"$f":"IF('Ceiling Speaker Calculator'!$C$29=\"Square\",BA$1,IF(OR(AND(ODD($A15)=$A15,ODD(BA$2)=BA$2),AND(EVEN($A15)=$A15,EVEN(BA$2)=BA$2)),BA$1,-100))","v":946.875},{"$f":"IF('Ceiling Speaker Calculator'!$C$29=\"Square\",BB$1,IF(OR(AND(ODD($A15)=$A15,ODD(BB$2)=BB$2),AND(EVEN($A15)=$A15,EVEN(BB$2)=BB$2)),BB$1,-100))","v":965.625},{"$f":"IF('Ceiling Speaker Calculator'!$C$29=\"Square\",BC$1,IF(OR(AND(ODD($A15)=$A15,ODD(BC$2)=BC$2),AND(EVEN($A15)=$A15,EVEN(BC$2)=BC$2)),BC$1,-100))","v":984.375},{"$f":"IF('Ceiling Speaker Calculator'!$C$29=\"Square\",BD$1,IF(OR(AND(ODD($A15)=$A15,ODD(BD$2)=BD$2),AND(EVEN($A15)=$A15,EVEN(BD$2)=BD$2)),BD$1,-100))","v":1003.125},{"$f":"IF('Ceiling Speaker Calculator'!$C$29=\"Square\",BE$1,IF(OR(AND(ODD($A15)=$A15,ODD(BE$2)=BE$2),AND(EVEN($A15)=$A15,EVEN(BE$2)=BE$2)),BE$1,-100))","v":1021.875},{"$f":"IF('Ceiling Speaker Calculator'!$C$29=\"Square\",BF$1,IF(OR(AND(ODD($A15)=$A15,ODD(BF$2)=BF$2),AND(EVEN($A15)=$A15,EVEN(BF$2)=BF$2)),BF$1,-100))","v":1040.625},{"$f":"IF('Ceiling Speaker Calculator'!$C$29=\"Square\",BG$1,IF(OR(AND(ODD($A15)=$A15,ODD(BG$2)=BG$2),AND(EVEN($A15)=$A15,EVEN(BG$2)=BG$2)),BG$1,-100))","v":1059.375},{"$f":"IF('Ceiling Speaker Calculator'!$C$29=\"Square\",BH$1,IF(OR(AND(ODD($A15)=$A15,ODD(BH$2)=BH$2),AND(EVEN($A15)=$A15,EVEN(BH$2)=BH$2)),BH$1,-100))","v":1078.125},{"$f":"IF('Ceiling Speaker Calculator'!$C$29=\"Square\",BI$1,IF(OR(AND(ODD($A15)=$A15,ODD(BI$2)=BI$2),AND(EVEN($A15)=$A15,EVEN(BI$2)=BI$2)),BI$1,-100))","v":1096.875},{"$f":"IF('Ceiling Speaker Calculator'!$C$29=\"Square\",BJ$1,IF(OR(AND(ODD($A15)=$A15,ODD(BJ$2)=BJ$2),AND(EVEN($A15)=$A15,EVEN(BJ$2)=BJ$2)),BJ$1,-100))","v":1115.625},{"$f":"IF('Ceiling Speaker Calculator'!$C$29=\"Square\",BK$1,IF(OR(AND(ODD($A15)=$A15,ODD(BK$2)=BK$2),AND(EVEN($A15)=$A15,EVEN(BK$2)=BK$2)),BK$1,-100))","v":1134.375},{"$f":"IF('Ceiling Speaker Calculator'!$C$29=\"Square\",BL$1,IF(OR(AND(ODD($A15)=$A15,ODD(BL$2)=BL$2),AND(EVEN($A15)=$A15,EVEN(BL$2)=BL$2)),BL$1,-100))","v":1153.125},{"$f":"IF('Ceiling Speaker Calculator'!$C$29=\"Square\",BM$1,IF(OR(AND(ODD($A15)=$A15,ODD(BM$2)=BM$2),AND(EVEN($A15)=$A15,EVEN(BM$2)=BM$2)),BM$1,-100))","v":1171.875},{"$f":"IF('Ceiling Speaker Calculator'!$C$29=\"Square\",BN$1,IF(OR(AND(ODD($A15)=$A15,ODD(BN$2)=BN$2),AND(EVEN($A15)=$A15,EVEN(BN$2)=BN$2)),BN$1,-100))","v":1190.625},{"$f":"IF('Ceiling Speaker Calculator'!$C$29=\"Square\",BO$1,IF(OR(AND(ODD($A15)=$A15,ODD(BO$2)=BO$2),AND(EVEN($A15)=$A15,EVEN(BO$2)=BO$2)),BO$1,-100))","v":1209.375},{"$f":"IF('Ceiling Speaker Calculator'!$C$29=\"Square\",BP$1,IF(OR(AND(ODD($A15)=$A15,ODD(BP$2)=BP$2),AND(EVEN($A15)=$A15,EVEN(BP$2)=BP$2)),BP$1,-100))","v":1228.125},{"$f":"IF('Ceiling Speaker Calculator'!$C$29=\"Square\",BQ$1,IF(OR(AND(ODD($A15)=$A15,ODD(BQ$2)=BQ$2),AND(EVEN($A15)=$A15,EVEN(BQ$2)=BQ$2)),BQ$1,-100))","v":1246.875},{"$f":"IF('Ceiling Speaker Calculator'!$C$29=\"Square\",BR$1,IF(OR(AND(ODD($A15)=$A15,ODD(BR$2)=BR$2),AND(EVEN($A15)=$A15,EVEN(BR$2)=BR$2)),BR$1,-100))","v":1265.625},{"$f":"IF('Ceiling Speaker Calculator'!$C$29=\"Square\",BS$1,IF(OR(AND(ODD($A15)=$A15,ODD(BS$2)=BS$2),AND(EVEN($A15)=$A15,EVEN(BS$2)=BS$2)),BS$1,-100))","v":1284.375},{"$f":"IF('Ceiling Speaker Calculator'!$C$29=\"Square\",BT$1,IF(OR(AND(ODD($A15)=$A15,ODD(BT$2)=BT$2),AND(EVEN($A15)=$A15,EVEN(BT$2)=BT$2)),BT$1,-100))","v":1303.125},{"$f":"IF('Ceiling Speaker Calculator'!$C$29=\"Square\",BU$1,IF(OR(AND(ODD($A15)=$A15,ODD(BU$2)=BU$2),AND(EVEN($A15)=$A15,EVEN(BU$2)=BU$2)),BU$1,-100))","v":1321.875},{"$f":"IF('Ceiling Speaker Calculator'!$C$29=\"Square\",BV$1,IF(OR(AND(ODD($A15)=$A15,ODD(BV$2)=BV$2),AND(EVEN($A15)=$A15,EVEN(BV$2)=BV$2)),BV$1,-100))","v":1340.625},{"$f":"IF('Ceiling Speaker Calculator'!$C$29=\"Square\",BW$1,IF(OR(AND(ODD($A15)=$A15,ODD(BW$2)=BW$2),AND(EVEN($A15)=$A15,EVEN(BW$2)=BW$2)),BW$1,-100))","v":1359.375},{"$f":"IF('Ceiling Speaker Calculator'!$C$29=\"Square\",BX$1,IF(OR(AND(ODD($A15)=$A15,ODD(BX$2)=BX$2),AND(EVEN($A15)=$A15,EVEN(BX$2)=BX$2)),BX$1,-100))","v":1378.125},{"$f":"IF('Ceiling Speaker Calculator'!$C$29=\"Square\",BY$1,IF(OR(AND(ODD($A15)=$A15,ODD(BY$2)=BY$2),AND(EVEN($A15)=$A15,EVEN(BY$2)=BY$2)),BY$1,-100))","v":1396.875},{"$f":"IF('Ceiling Speaker Calculator'!$C$29=\"Square\",BZ$1,IF(OR(AND(ODD($A15)=$A15,ODD(BZ$2)=BZ$2),AND(EVEN($A15)=$A15,EVEN(BZ$2)=BZ$2)),BZ$1,-100))","v":1415.625},{"$f":"IF('Ceiling Speaker Calculator'!$C$29=\"Square\",CA$1,IF(OR(AND(ODD($A15)=$A15,ODD(CA$2)=CA$2),AND(EVEN($A15)=$A15,EVEN(CA$2)=CA$2)),CA$1,-100))","v":1434.375},{"$f":"IF('Ceiling Speaker Calculator'!$C$29=\"Square\",CB$1,IF(OR(AND(ODD($A15)=$A15,ODD(CB$2)=CB$2),AND(EVEN($A15)=$A15,EVEN(CB$2)=CB$2)),CB$1,-100))","v":1453.125},{"$f":"IF('Ceiling Speaker Calculator'!$C$29=\"Square\",CC$1,IF(OR(AND(ODD($A15)=$A15,ODD(CC$2)=CC$2),AND(EVEN($A15)=$A15,EVEN(CC$2)=CC$2)),CC$1,-100))","v":1471.875},{"$f":"IF('Ceiling Speaker Calculator'!$C$29=\"Square\",CD$1,IF(OR(AND(ODD($A15)=$A15,ODD(CD$2)=CD$2),AND(EVEN($A15)=$A15,EVEN(CD$2)=CD$2)),CD$1,-100))","v":1490.625},{"$f":"IF('Ceiling Speaker Calculator'!$C$29=\"Square\",CE$1,IF(OR(AND(ODD($A15)=$A15,ODD(CE$2)=CE$2),AND(EVEN($A15)=$A15,EVEN(CE$2)=CE$2)),CE$1,-100))","v":1509.375},{"$f":"IF('Ceiling Speaker Calculator'!$C$29=\"Square\",CF$1,IF(OR(AND(ODD($A15)=$A15,ODD(CF$2)=CF$2),AND(EVEN($A15)=$A15,EVEN(CF$2)=CF$2)),CF$1,-100))","v":1528.125},{"$f":"IF('Ceiling Speaker Calculator'!$C$29=\"Square\",CG$1,IF(OR(AND(ODD($A15)=$A15,ODD(CG$2)=CG$2),AND(EVEN($A15)=$A15,EVEN(CG$2)=CG$2)),CG$1,-100))","v":1546.875},{"$f":"IF('Ceiling Speaker Calculator'!$C$29=\"Square\",CH$1,IF(OR(AND(ODD($A15)=$A15,ODD(CH$2)=CH$2),AND(EVEN($A15)=$A15,EVEN(CH$2)=CH$2)),CH$1,-100))","v":1565.625},{"$f":"IF('Ceiling Speaker Calculator'!$C$29=\"Square\",CI$1,IF(OR(AND(ODD($A15)=$A15,ODD(CI$2)=CI$2),AND(EVEN($A15)=$A15,EVEN(CI$2)=CI$2)),CI$1,-100))","v":1584.375},{"$f":"IF('Ceiling Speaker Calculator'!$C$29=\"Square\",CJ$1,IF(OR(AND(ODD($A15)=$A15,ODD(CJ$2)=CJ$2),AND(EVEN($A15)=$A15,EVEN(CJ$2)=CJ$2)),CJ$1,-100))","v":1603.125},{"$f":"IF('Ceiling Speaker Calculator'!$C$29=\"Square\",CK$1,IF(OR(AND(ODD($A15)=$A15,ODD(CK$2)=CK$2),AND(EVEN($A15)=$A15,EVEN(CK$2)=CK$2)),CK$1,-100))","v":1621.875},{"$f":"IF('Ceiling Speaker Calculator'!$C$29=\"Square\",CL$1,IF(OR(AND(ODD($A15)=$A15,ODD(CL$2)=CL$2),AND(EVEN($A15)=$A15,EVEN(CL$2)=CL$2)),CL$1,-100))","v":1640.625},{"$f":"IF('Ceiling Speaker Calculator'!$C$29=\"Square\",CM$1,IF(OR(AND(ODD($A15)=$A15,ODD(CM$2)=CM$2),AND(EVEN($A15)=$A15,EVEN(CM$2)=CM$2)),CM$1,-100))","v":1659.375},{"$f":"IF('Ceiling Speaker Calculator'!$C$29=\"Square\",CN$1,IF(OR(AND(ODD($A15)=$A15,ODD(CN$2)=CN$2),AND(EVEN($A15)=$A15,EVEN(CN$2)=CN$2)),CN$1,-100))","v":1678.125},{"$f":"IF('Ceiling Speaker Calculator'!$C$29=\"Square\",CO$1,IF(OR(AND(ODD($A15)=$A15,ODD(CO$2)=CO$2),AND(EVEN($A15)=$A15,EVEN(CO$2)=CO$2)),CO$1,-100))","v":1696.875},{"$f":"IF('Ceiling Speaker Calculator'!$C$29=\"Square\",CP$1,IF(OR(AND(ODD($A15)=$A15,ODD(CP$2)=CP$2),AND(EVEN($A15)=$A15,EVEN(CP$2)=CP$2)),CP$1,-100))","v":1715.625},{"$f":"IF('Ceiling Speaker Calculator'!$C$29=\"Square\",CQ$1,IF(OR(AND(ODD($A15)=$A15,ODD(CQ$2)=CQ$2),AND(EVEN($A15)=$A15,EVEN(CQ$2)=CQ$2)),CQ$1,-100))","v":1734.375},{"$f":"IF('Ceiling Speaker Calculator'!$C$29=\"Square\",CR$1,IF(OR(AND(ODD($A15)=$A15,ODD(CR$2)=CR$2),AND(EVEN($A15)=$A15,EVEN(CR$2)=CR$2)),CR$1,-100))","v":1753.125},{"$f":"IF('Ceiling Speaker Calculator'!$C$29=\"Square\",CS$1,IF(OR(AND(ODD($A15)=$A15,ODD(CS$2)=CS$2),AND(EVEN($A15)=$A15,EVEN(CS$2)=CS$2)),CS$1,-100))","v":1771.875},{"$f":"IF('Ceiling Speaker Calculator'!$C$29=\"Square\",CT$1,IF(OR(AND(ODD($A15)=$A15,ODD(CT$2)=CT$2),AND(EVEN($A15)=$A15,EVEN(CT$2)=CT$2)),CT$1,-100))","v":1790.625},{"$f":"IF('Ceiling Speaker Calculator'!$C$29=\"Square\",CU$1,IF(OR(AND(ODD($A15)=$A15,ODD(CU$2)=CU$2),AND(EVEN($A15)=$A15,EVEN(CU$2)=CU$2)),CU$1,-100))","v":1809.375},{"$f":"IF('Ceiling Speaker Calculator'!$C$29=\"Square\",CV$1,IF(OR(AND(ODD($A15)=$A15,ODD(CV$2)=CV$2),AND(EVEN($A15)=$A15,EVEN(CV$2)=CV$2)),CV$1,-100))","v":1828.125},{"$f":"IF('Ceiling Speaker Calculator'!$C$29=\"Square\",CW$1,IF(OR(AND(ODD($A15)=$A15,ODD(CW$2)=CW$2),AND(EVEN($A15)=$A15,EVEN(CW$2)=CW$2)),CW$1,-100))","v":1846.875},{"$f":"IF('Ceiling Speaker Calculator'!$C$29=\"Square\",CX$1,IF(OR(AND(ODD($A15)=$A15,ODD(CX$2)=CX$2),AND(EVEN($A15)=$A15,EVEN(CX$2)=CX$2)),CX$1,-100))","v":1865.625}]
[14,{"$f":"B15+'Ceiling Speaker Calculator'!$K$16","v":270},{"$f":"IF('Ceiling Speaker Calculator'!$C$29=\"Square\",C$1,IF(OR(AND(ODD($A16)=$A16,ODD(C$2)=C$2),AND(EVEN($A16)=$A16,EVEN(C$2)=C$2)),C$1,-100))","v":9.375},{"$f":"IF('Ceiling Speaker Calculator'!$C$29=\"Square\",D$1,IF(OR(AND(ODD($A16)=$A16,ODD(D$2)=D$2),AND(EVEN($A16)=$A16,EVEN(D$2)=D$2)),D$1,-100))","v":28.125},{"$f":"IF('Ceiling Speaker Calculator'!$C$29=\"Square\",E$1,IF(OR(AND(ODD($A16)=$A16,ODD(E$2)=E$2),AND(EVEN($A16)=$A16,EVEN(E$2)=E$2)),E$1,-100))","v":46.875},{"$f":"IF('Ceiling Speaker Calculator'!$C$29=\"Square\",F$1,IF(OR(AND(ODD($A16)=$A16,ODD(F$2)=F$2),AND(EVEN($A16)=$A16,EVEN(F$2)=F$2)),F$1,-100))","v":65.625},{"$f":"IF('Ceiling Speaker Calculator'!$C$29=\"Square\",G$1,IF(OR(AND(ODD($A16)=$A16,ODD(G$2)=G$2),AND(EVEN($A16)=$A16,EVEN(G$2)=G$2)),G$1,-100))","v":84.375},{"$f":"IF('Ceiling Speaker Calculator'!$C$29=\"Square\",H$1,IF(OR(AND(ODD($A16)=$A16,ODD(H$2)=H$2),AND(EVEN($A16)=$A16,EVEN(H$2)=H$2)),H$1,-100))","v":103.125},{"$f":"IF('Ceiling Speaker Calculator'!$C$29=\"Square\",I$1,IF(OR(AND(ODD($A16)=$A16,ODD(I$2)=I$2),AND(EVEN($A16)=$A16,EVEN(I$2)=I$2)),I$1,-100))","v":121.875},{"$f":"IF('Ceiling Speaker Calculator'!$C$29=\"Square\",J$1,IF(OR(AND(ODD($A16)=$A16,ODD(J$2)=J$2),AND(EVEN($A16)=$A16,EVEN(J$2)=J$2)),J$1,-100))","v":140.625},{"$f":"IF('Ceiling Speaker Calculator'!$C$29=\"Square\",K$1,IF(OR(AND(ODD($A16)=$A16,ODD(K$2)=K$2),AND(EVEN($A16)=$A16,EVEN(K$2)=K$2)),K$1,-100))","v":159.375},{"$f":"IF('Ceiling Speaker Calculator'!$C$29=\"Square\",L$1,IF(OR(AND(ODD($A16)=$A16,ODD(L$2)=L$2),AND(EVEN($A16)=$A16,EVEN(L$2)=L$2)),L$1,-100))","v":178.125},{"$f":"IF('Ceiling Speaker Calculator'!$C$29=\"Square\",M$1,IF(OR(AND(ODD($A16)=$A16,ODD(M$2)=M$2),AND(EVEN($A16)=$A16,EVEN(M$2)=M$2)),M$1,-100))","v":196.875},{"$f":"IF('Ceiling Speaker Calculator'!$C$29=\"Square\",N$1,IF(OR(AND(ODD($A16)=$A16,ODD(N$2)=N$2),AND(EVEN($A16)=$A16,EVEN(N$2)=N$2)),N$1,-100))","v":215.625},{"$f":"IF('Ceiling Speaker Calculator'!$C$29=\"Square\",O$1,IF(OR(AND(ODD($A16)=$A16,ODD(O$2)=O$2),AND(EVEN($A16)=$A16,EVEN(O$2)=O$2)),O$1,-100))","v":234.375},{"$f":"IF('Ceiling Speaker Calculator'!$C$29=\"Square\",P$1,IF(OR(AND(ODD($A16)=$A16,ODD(P$2)=P$2),AND(EVEN($A16)=$A16,EVEN(P$2)=P$2)),P$1,-100))","v":253.125},{"$f":"IF('Ceiling Speaker Calculator'!$C$29=\"Square\",Q$1,IF(OR(AND(ODD($A16)=$A16,ODD(Q$2)=Q$2),AND(EVEN($A16)=$A16,EVEN(Q$2)=Q$2)),Q$1,-100))","v":271.875},{"$f":"IF('Ceiling Speaker Calculator'!$C$29=\"Square\",R$1,IF(OR(AND(ODD($A16)=$A16,ODD(R$2)=R$2),AND(EVEN($A16)=$A16,EVEN(R$2)=R$2)),R$1,-100))","v":290.625},{"$f":"IF('Ceiling Speaker Calculator'!$C$29=\"Square\",S$1,IF(OR(AND(ODD($A16)=$A16,ODD(S$2)=S$2),AND(EVEN($A16)=$A16,EVEN(S$2)=S$2)),S$1,-100))","v":309.375},{"$f":"IF('Ceiling Speaker Calculator'!$C$29=\"Square\",T$1,IF(OR(AND(ODD($A16)=$A16,ODD(T$2)=T$2),AND(EVEN($A16)=$A16,EVEN(T$2)=T$2)),T$1,-100))","v":328.125},{"$f":"IF('Ceiling Speaker Calculator'!$C$29=\"Square\",U$1,IF(OR(AND(ODD($A16)=$A16,ODD(U$2)=U$2),AND(EVEN($A16)=$A16,EVEN(U$2)=U$2)),U$1,-100))","v":346.875},{"$f":"IF('Ceiling Speaker Calculator'!$C$29=\"Square\",V$1,IF(OR(AND(ODD($A16)=$A16,ODD(V$2)=V$2),AND(EVEN($A16)=$A16,EVEN(V$2)=V$2)),V$1,-100))","v":365.625},{"$f":"IF('Ceiling Speaker Calculator'!$C$29=\"Square\",W$1,IF(OR(AND(ODD($A16)=$A16,ODD(W$2)=W$2),AND(EVEN($A16)=$A16,EVEN(W$2)=W$2)),W$1,-100))","v":384.375},{"$f":"IF('Ceiling Speaker Calculator'!$C$29=\"Square\",X$1,IF(OR(AND(ODD($A16)=$A16,ODD(X$2)=X$2),AND(EVEN($A16)=$A16,EVEN(X$2)=X$2)),X$1,-100))","v":403.125},{"$f":"IF('Ceiling Speaker Calculator'!$C$29=\"Square\",Y$1,IF(OR(AND(ODD($A16)=$A16,ODD(Y$2)=Y$2),AND(EVEN($A16)=$A16,EVEN(Y$2)=Y$2)),Y$1,-100))","v":421.875},{"$f":"IF('Ceiling Speaker Calculator'!$C$29=\"Square\",Z$1,IF(OR(AND(ODD($A16)=$A16,ODD(Z$2)=Z$2),AND(EVEN($A16)=$A16,EVEN(Z$2)=Z$2)),Z$1,-100))","v":440.625},{"$f":"IF('Ceiling Speaker Calculator'!$C$29=\"Square\",AA$1,IF(OR(AND(ODD($A16)=$A16,ODD(AA$2)=AA$2),AND(EVEN($A16)=$A16,EVEN(AA$2)=AA$2)),AA$1,-100))","v":459.375},{"$f":"IF('Ceiling Speaker Calculator'!$C$29=\"Square\",AB$1,IF(OR(AND(ODD($A16)=$A16,ODD(AB$2)=AB$2),AND(EVEN($A16)=$A16,EVEN(AB$2)=AB$2)),AB$1,-100))","v":478.125},{"$f":"IF('Ceiling Speaker Calculator'!$C$29=\"Square\",AC$1,IF(OR(AND(ODD($A16)=$A16,ODD(AC$2)=AC$2),AND(EVEN($A16)=$A16,EVEN(AC$2)=AC$2)),AC$1,-100))","v":496.875},{"$f":"IF('Ceiling Speaker Calculator'!$C$29=\"Square\",AD$1,IF(OR(AND(ODD($A16)=$A16,ODD(AD$2)=AD$2),AND(EVEN($A16)=$A16,EVEN(AD$2)=AD$2)),AD$1,-100))","v":515.625},{"$f":"IF('Ceiling Speaker Calculator'!$C$29=\"Square\",AE$1,IF(OR(AND(ODD($A16)=$A16,ODD(AE$2)=AE$2),AND(EVEN($A16)=$A16,EVEN(AE$2)=AE$2)),AE$1,-100))","v":534.375},{"$f":"IF('Ceiling Speaker Calculator'!$C$29=\"Square\",AF$1,IF(OR(AND(ODD($A16)=$A16,ODD(AF$2)=AF$2),AND(EVEN($A16)=$A16,EVEN(AF$2)=AF$2)),AF$1,-100))","v":553.125},{"$f":"IF('Ceiling Speaker Calculator'!$C$29=\"Square\",AG$1,IF(OR(AND(ODD($A16)=$A16,ODD(AG$2)=AG$2),AND(EVEN($A16)=$A16,EVEN(AG$2)=AG$2)),AG$1,-100))","v":571.875},{"$f":"IF('Ceiling Speaker Calculator'!$C$29=\"Square\",AH$1,IF(OR(AND(ODD($A16)=$A16,ODD(AH$2)=AH$2),AND(EVEN($A16)=$A16,EVEN(AH$2)=AH$2)),AH$1,-100))","v":590.625},{"$f":"IF('Ceiling Speaker Calculator'!$C$29=\"Square\",AI$1,IF(OR(AND(ODD($A16)=$A16,ODD(AI$2)=AI$2),AND(EVEN($A16)=$A16,EVEN(AI$2)=AI$2)),AI$1,-100))","v":609.375},{"$f":"IF('Ceiling Speaker Calculator'!$C$29=\"Square\",AJ$1,IF(OR(AND(ODD($A16)=$A16,ODD(AJ$2)=AJ$2),AND(EVEN($A16)=$A16,EVEN(AJ$2)=AJ$2)),AJ$1,-100))","v":628.125},{"$f":"IF('Ceiling Speaker Calculator'!$C$29=\"Square\",AK$1,IF(OR(AND(ODD($A16)=$A16,ODD(AK$2)=AK$2),AND(EVEN($A16)=$A16,EVEN(AK$2)=AK$2)),AK$1,-100))","v":646.875},{"$f":"IF('Ceiling Speaker Calculator'!$C$29=\"Square\",AL$1,IF(OR(AND(ODD($A16)=$A16,ODD(AL$2)=AL$2),AND(EVEN($A16)=$A16,EVEN(AL$2)=AL$2)),AL$1,-100))","v":665.625},{"$f":"IF('Ceiling Speaker Calculator'!$C$29=\"Square\",AM$1,IF(OR(AND(ODD($A16)=$A16,ODD(AM$2)=AM$2),AND(EVEN($A16)=$A16,EVEN(AM$2)=AM$2)),AM$1,-100))","v":684.375},{"$f":"IF('Ceiling Speaker Calculator'!$C$29=\"Square\",AN$1,IF(OR(AND(ODD($A16)=$A16,ODD(AN$2)=AN$2),AND(EVEN($A16)=$A16,EVEN(AN$2)=AN$2)),AN$1,-100))","v":703.125},{"$f":"IF('Ceiling Speaker Calculator'!$C$29=\"Square\",AO$1,IF(OR(AND(ODD($A16)=$A16,ODD(AO$2)=AO$2),AND(EVEN($A16)=$A16,EVEN(AO$2)=AO$2)),AO$1,-100))","v":721.875},{"$f":"IF('Ceiling Speaker Calculator'!$C$29=\"Square\",AP$1,IF(OR(AND(ODD($A16)=$A16,ODD(AP$2)=AP$2),AND(EVEN($A16)=$A16,EVEN(AP$2)=AP$2)),AP$1,-100))","v":740.625},{"$f":"IF('Ceiling Speaker Calculator'!$C$29=\"Square\",AQ$1,IF(OR(AND(ODD($A16)=$A16,ODD(AQ$2)=AQ$2),AND(EVEN($A16)=$A16,EVEN(AQ$2)=AQ$2)),AQ$1,-100))","v":759.375},{"$f":"IF('Ceiling Speaker Calculator'!$C$29=\"Square\",AR$1,IF(OR(AND(ODD($A16)=$A16,ODD(AR$2)=AR$2),AND(EVEN($A16)=$A16,EVEN(AR$2)=AR$2)),AR$1,-100))","v":778.125},{"$f":"IF('Ceiling Speaker Calculator'!$C$29=\"Square\",AS$1,IF(OR(AND(ODD($A16)=$A16,ODD(AS$2)=AS$2),AND(EVEN($A16)=$A16,EVEN(AS$2)=AS$2)),AS$1,-100))","v":796.875},{"$f":"IF('Ceiling Speaker Calculator'!$C$29=\"Square\",AT$1,IF(OR(AND(ODD($A16)=$A16,ODD(AT$2)=AT$2),AND(EVEN($A16)=$A16,EVEN(AT$2)=AT$2)),AT$1,-100))","v":815.625},{"$f":"IF('Ceiling Speaker Calculator'!$C$29=\"Square\",AU$1,IF(OR(AND(ODD($A16)=$A16,ODD(AU$2)=AU$2),AND(EVEN($A16)=$A16,EVEN(AU$2)=AU$2)),AU$1,-100))","v":834.375},{"$f":"IF('Ceiling Speaker Calculator'!$C$29=\"Square\",AV$1,IF(OR(AND(ODD($A16)=$A16,ODD(AV$2)=AV$2),AND(EVEN($A16)=$A16,EVEN(AV$2)=AV$2)),AV$1,-100))","v":853.125},{"$f":"IF('Ceiling Speaker Calculator'!$C$29=\"Square\",AW$1,IF(OR(AND(ODD($A16)=$A16,ODD(AW$2)=AW$2),AND(EVEN($A16)=$A16,EVEN(AW$2)=AW$2)),AW$1,-100))","v":871.875},{"$f":"IF('Ceiling Speaker Calculator'!$C$29=\"Square\",AX$1,IF(OR(AND(ODD($A16)=$A16,ODD(AX$2)=AX$2),AND(EVEN($A16)=$A16,EVEN(AX$2)=AX$2)),AX$1,-100))","v":890.625},{"$f":"IF('Ceiling Speaker Calculator'!$C$29=\"Square\",AY$1,IF(OR(AND(ODD($A16)=$A16,ODD(AY$2)=AY$2),AND(EVEN($A16)=$A16,EVEN(AY$2)=AY$2)),AY$1,-100))","v":909.375},{"$f":"IF('Ceiling Speaker Calculator'!$C$29=\"Square\",AZ$1,IF(OR(AND(ODD($A16)=$A16,ODD(AZ$2)=AZ$2),AND(EVEN($A16)=$A16,EVEN(AZ$2)=AZ$2)),AZ$1,-100))","v":928.125},{"$f":"IF('Ceiling Speaker Calculator'!$C$29=\"Square\",BA$1,IF(OR(AND(ODD($A16)=$A16,ODD(BA$2)=BA$2),AND(EVEN($A16)=$A16,EVEN(BA$2)=BA$2)),BA$1,-100))","v":946.875},{"$f":"IF('Ceiling Speaker Calculator'!$C$29=\"Square\",BB$1,IF(OR(AND(ODD($A16)=$A16,ODD(BB$2)=BB$2),AND(EVEN($A16)=$A16,EVEN(BB$2)=BB$2)),BB$1,-100))","v":965.625},{"$f":"IF('Ceiling Speaker Calculator'!$C$29=\"Square\",BC$1,IF(OR(AND(ODD($A16)=$A16,ODD(BC$2)=BC$2),AND(EVEN($A16)=$A16,EVEN(BC$2)=BC$2)),BC$1,-100))","v":984.375},{"$f":"IF('Ceiling Speaker Calculator'!$C$29=\"Square\",BD$1,IF(OR(AND(ODD($A16)=$A16,ODD(BD$2)=BD$2),AND(EVEN($A16)=$A16,EVEN(BD$2)=BD$2)),BD$1,-100))","v":1003.125},{"$f":"IF('Ceiling Speaker Calculator'!$C$29=\"Square\",BE$1,IF(OR(AND(ODD($A16)=$A16,ODD(BE$2)=BE$2),AND(EVEN($A16)=$A16,EVEN(BE$2)=BE$2)),BE$1,-100))","v":1021.875},{"$f":"IF('Ceiling Speaker Calculator'!$C$29=\"Square\",BF$1,IF(OR(AND(ODD($A16)=$A16,ODD(BF$2)=BF$2),AND(EVEN($A16)=$A16,EVEN(BF$2)=BF$2)),BF$1,-100))","v":1040.625},{"$f":"IF('Ceiling Speaker Calculator'!$C$29=\"Square\",BG$1,IF(OR(AND(ODD($A16)=$A16,ODD(BG$2)=BG$2),AND(EVEN($A16)=$A16,EVEN(BG$2)=BG$2)),BG$1,-100))","v":1059.375},{"$f":"IF('Ceiling Speaker Calculator'!$C$29=\"Square\",BH$1,IF(OR(AND(ODD($A16)=$A16,ODD(BH$2)=BH$2),AND(EVEN($A16)=$A16,EVEN(BH$2)=BH$2)),BH$1,-100))","v":1078.125},{"$f":"IF('Ceiling Speaker Calculator'!$C$29=\"Square\",BI$1,IF(OR(AND(ODD($A16)=$A16,ODD(BI$2)=BI$2),AND(EVEN($A16)=$A16,EVEN(BI$2)=BI$2)),BI$1,-100))","v":1096.875},{"$f":"IF('Ceiling Speaker Calculator'!$C$29=\"Square\",BJ$1,IF(OR(AND(ODD($A16)=$A16,ODD(BJ$2)=BJ$2),AND(EVEN($A16)=$A16,EVEN(BJ$2)=BJ$2)),BJ$1,-100))","v":1115.625},{"$f":"IF('Ceiling Speaker Calculator'!$C$29=\"Square\",BK$1,IF(OR(AND(ODD($A16)=$A16,ODD(BK$2)=BK$2),AND(EVEN($A16)=$A16,EVEN(BK$2)=BK$2)),BK$1,-100))","v":1134.375},{"$f":"IF('Ceiling Speaker Calculator'!$C$29=\"Square\",BL$1,IF(OR(AND(ODD($A16)=$A16,ODD(BL$2)=BL$2),AND(EVEN($A16)=$A16,EVEN(BL$2)=BL$2)),BL$1,-100))","v":1153.125},{"$f":"IF('Ceiling Speaker Calculator'!$C$29=\"Square\",BM$1,IF(OR(AND(ODD($A16)=$A16,ODD(BM$2)=BM$2),AND(EVEN($A16)=$A16,EVEN(BM$2)=BM$2)),BM$1,-100))","v":1171.875},{"$f":"IF('Ceiling Speaker Calculator'!$C$29=\"Square\",BN$1,IF(OR(AND(ODD($A16)=$A16,ODD(BN$2)=BN$2),AND(EVEN($A16)=$A16,EVEN(BN$2)=BN$2)),BN$1,-100))","v":1190.625},{"$f":"IF('Ceiling Speaker Calculator'!$C$29=\"Square\",BO$1,IF(OR(AND(ODD($A16)=$A16,ODD(BO$2)=BO$2),AND(EVEN($A16)=$A16,EVEN(BO$2)=BO$2)),BO$1,-100))","v":1209.375},{"$f":"IF('Ceiling Speaker Calculator'!$C$29=\"Square\",BP$1,IF(OR(AND(ODD($A16)=$A16,ODD(BP$2)=BP$2),AND(EVEN($A16)=$A16,EVEN(BP$2)=BP$2)),BP$1,-100))","v":1228.125},{"$f":"IF('Ceiling Speaker Calculator'!$C$29=\"Square\",BQ$1,IF(OR(AND(ODD($A16)=$A16,ODD(BQ$2)=BQ$2),AND(EVEN($A16)=$A16,EVEN(BQ$2)=BQ$2)),BQ$1,-100))","v":1246.875},{"$f":"IF('Ceiling Speaker Calculator'!$C$29=\"Square\",BR$1,IF(OR(AND(ODD($A16)=$A16,ODD(BR$2)=BR$2),AND(EVEN($A16)=$A16,EVEN(BR$2)=BR$2)),BR$1,-100))","v":1265.625},{"$f":"IF('Ceiling Speaker Calculator'!$C$29=\"Square\",BS$1,IF(OR(AND(ODD($A16)=$A16,ODD(BS$2)=BS$2),AND(EVEN($A16)=$A16,EVEN(BS$2)=BS$2)),BS$1,-100))","v":1284.375},{"$f":"IF('Ceiling Speaker Calculator'!$C$29=\"Square\",BT$1,IF(OR(AND(ODD($A16)=$A16,ODD(BT$2)=BT$2),AND(EVEN($A16)=$A16,EVEN(BT$2)=BT$2)),BT$1,-100))","v":1303.125},{"$f":"IF('Ceiling Speaker Calculator'!$C$29=\"Square\",BU$1,IF(OR(AND(ODD($A16)=$A16,ODD(BU$2)=BU$2),AND(EVEN($A16)=$A16,EVEN(BU$2)=BU$2)),BU$1,-100))","v":1321.875},{"$f":"IF('Ceiling Speaker Calculator'!$C$29=\"Square\",BV$1,IF(OR(AND(ODD($A16)=$A16,ODD(BV$2)=BV$2),AND(EVEN($A16)=$A16,EVEN(BV$2)=BV$2)),BV$1,-100))","v":1340.625},{"$f":"IF('Ceiling Speaker Calculator'!$C$29=\"Square\",BW$1,IF(OR(AND(ODD($A16)=$A16,ODD(BW$2)=BW$2),AND(EVEN($A16)=$A16,EVEN(BW$2)=BW$2)),BW$1,-100))","v":1359.375},{"$f":"IF('Ceiling Speaker Calculator'!$C$29=\"Square\",BX$1,IF(OR(AND(ODD($A16)=$A16,ODD(BX$2)=BX$2),AND(EVEN($A16)=$A16,EVEN(BX$2)=BX$2)),BX$1,-100))","v":1378.125},{"$f":"IF('Ceiling Speaker Calculator'!$C$29=\"Square\",BY$1,IF(OR(AND(ODD($A16)=$A16,ODD(BY$2)=BY$2),AND(EVEN($A16)=$A16,EVEN(BY$2)=BY$2)),BY$1,-100))","v":1396.875},{"$f":"IF('Ceiling Speaker Calculator'!$C$29=\"Square\",BZ$1,IF(OR(AND(ODD($A16)=$A16,ODD(BZ$2)=BZ$2),AND(EVEN($A16)=$A16,EVEN(BZ$2)=BZ$2)),BZ$1,-100))","v":1415.625},{"$f":"IF('Ceiling Speaker Calculator'!$C$29=\"Square\",CA$1,IF(OR(AND(ODD($A16)=$A16,ODD(CA$2)=CA$2),AND(EVEN($A16)=$A16,EVEN(CA$2)=CA$2)),CA$1,-100))","v":1434.375},{"$f":"IF('Ceiling Speaker Calculator'!$C$29=\"Square\",CB$1,IF(OR(AND(ODD($A16)=$A16,ODD(CB$2)=CB$2),AND(EVEN($A16)=$A16,EVEN(CB$2)=CB$2)),CB$1,-100))","v":1453.125},{"$f":"IF('Ceiling Speaker Calculator'!$C$29=\"Square\",CC$1,IF(OR(AND(ODD($A16)=$A16,ODD(CC$2)=CC$2),AND(EVEN($A16)=$A16,EVEN(CC$2)=CC$2)),CC$1,-100))","v":1471.875},{"$f":"IF('Ceiling Speaker Calculator'!$C$29=\"Square\",CD$1,IF(OR(AND(ODD($A16)=$A16,ODD(CD$2)=CD$2),AND(EVEN($A16)=$A16,EVEN(CD$2)=CD$2)),CD$1,-100))","v":1490.625},{"$f":"IF('Ceiling Speaker Calculator'!$C$29=\"Square\",CE$1,IF(OR(AND(ODD($A16)=$A16,ODD(CE$2)=CE$2),AND(EVEN($A16)=$A16,EVEN(CE$2)=CE$2)),CE$1,-100))","v":1509.375},{"$f":"IF('Ceiling Speaker Calculator'!$C$29=\"Square\",CF$1,IF(OR(AND(ODD($A16)=$A16,ODD(CF$2)=CF$2),AND(EVEN($A16)=$A16,EVEN(CF$2)=CF$2)),CF$1,-100))","v":1528.125},{"$f":"IF('Ceiling Speaker Calculator'!$C$29=\"Square\",CG$1,IF(OR(AND(ODD($A16)=$A16,ODD(CG$2)=CG$2),AND(EVEN($A16)=$A16,EVEN(CG$2)=CG$2)),CG$1,-100))","v":1546.875},{"$f":"IF('Ceiling Speaker Calculator'!$C$29=\"Square\",CH$1,IF(OR(AND(ODD($A16)=$A16,ODD(CH$2)=CH$2),AND(EVEN($A16)=$A16,EVEN(CH$2)=CH$2)),CH$1,-100))","v":1565.625},{"$f":"IF('Ceiling Speaker Calculator'!$C$29=\"Square\",CI$1,IF(OR(AND(ODD($A16)=$A16,ODD(CI$2)=CI$2),AND(EVEN($A16)=$A16,EVEN(CI$2)=CI$2)),CI$1,-100))","v":1584.375},{"$f":"IF('Ceiling Speaker Calculator'!$C$29=\"Square\",CJ$1,IF(OR(AND(ODD($A16)=$A16,ODD(CJ$2)=CJ$2),AND(EVEN($A16)=$A16,EVEN(CJ$2)=CJ$2)),CJ$1,-100))","v":1603.125},{"$f":"IF('Ceiling Speaker Calculator'!$C$29=\"Square\",CK$1,IF(OR(AND(ODD($A16)=$A16,ODD(CK$2)=CK$2),AND(EVEN($A16)=$A16,EVEN(CK$2)=CK$2)),CK$1,-100))","v":1621.875},{"$f":"IF('Ceiling Speaker Calculator'!$C$29=\"Square\",CL$1,IF(OR(AND(ODD($A16)=$A16,ODD(CL$2)=CL$2),AND(EVEN($A16)=$A16,EVEN(CL$2)=CL$2)),CL$1,-100))","v":1640.625},{"$f":"IF('Ceiling Speaker Calculator'!$C$29=\"Square\",CM$1,IF(OR(AND(ODD($A16)=$A16,ODD(CM$2)=CM$2),AND(EVEN($A16)=$A16,EVEN(CM$2)=CM$2)),CM$1,-100))","v":1659.375},{"$f":"IF('Ceiling Speaker Calculator'!$C$29=\"Square\",CN$1,IF(OR(AND(ODD($A16)=$A16,ODD(CN$2)=CN$2),AND(EVEN($A16)=$A16,EVEN(CN$2)=CN$2)),CN$1,-100))","v":1678.125},{"$f":"IF('Ceiling Speaker Calculator'!$C$29=\"Square\",CO$1,IF(OR(AND(ODD($A16)=$A16,ODD(CO$2)=CO$2),AND(EVEN($A16)=$A16,EVEN(CO$2)=CO$2)),CO$1,-100))","v":1696.875},{"$f":"IF('Ceiling Speaker Calculator'!$C$29=\"Square\",CP$1,IF(OR(AND(ODD($A16)=$A16,ODD(CP$2)=CP$2),AND(EVEN($A16)=$A16,EVEN(CP$2)=CP$2)),CP$1,-100))","v":1715.625},{"$f":"IF('Ceiling Speaker Calculator'!$C$29=\"Square\",CQ$1,IF(OR(AND(ODD($A16)=$A16,ODD(CQ$2)=CQ$2),AND(EVEN($A16)=$A16,EVEN(CQ$2)=CQ$2)),CQ$1,-100))","v":1734.375},{"$f":"IF('Ceiling Speaker Calculator'!$C$29=\"Square\",CR$1,IF(OR(AND(ODD($A16)=$A16,ODD(CR$2)=CR$2),AND(EVEN($A16)=$A16,EVEN(CR$2)=CR$2)),CR$1,-100))","v":1753.125},{"$f":"IF('Ceiling Speaker Calculator'!$C$29=\"Square\",CS$1,IF(OR(AND(ODD($A16)=$A16,ODD(CS$2)=CS$2),AND(EVEN($A16)=$A16,EVEN(CS$2)=CS$2)),CS$1,-100))","v":1771.875},{"$f":"IF('Ceiling Speaker Calculator'!$C$29=\"Square\",CT$1,IF(OR(AND(ODD($A16)=$A16,ODD(CT$2)=CT$2),AND(EVEN($A16)=$A16,EVEN(CT$2)=CT$2)),CT$1,-100))","v":1790.625},{"$f":"IF('Ceiling Speaker Calculator'!$C$29=\"Square\",CU$1,IF(OR(AND(ODD($A16)=$A16,ODD(CU$2)=CU$2),AND(EVEN($A16)=$A16,EVEN(CU$2)=CU$2)),CU$1,-100))","v":1809.375},{"$f":"IF('Ceiling Speaker Calculator'!$C$29=\"Square\",CV$1,IF(OR(AND(ODD($A16)=$A16,ODD(CV$2)=CV$2),AND(EVEN($A16)=$A16,EVEN(CV$2)=CV$2)),CV$1,-100))","v":1828.125},{"$f":"IF('Ceiling Speaker Calculator'!$C$29=\"Square\",CW$1,IF(OR(AND(ODD($A16)=$A16,ODD(CW$2)=CW$2),AND(EVEN($A16)=$A16,EVEN(CW$2)=CW$2)),CW$1,-100))","v":1846.875},{"$f":"IF('Ceiling Speaker Calculator'!$C$29=\"Square\",CX$1,IF(OR(AND(ODD($A16)=$A16,ODD(CX$2)=CX$2),AND(EVEN($A16)=$A16,EVEN(CX$2)=CX$2)),CX$1,-100))","v":1865.625}]
[15,{"$f":"B16+'Ceiling Speaker Calculator'!$K$16","v":290},{"$f":"IF('Ceiling Speaker Calculator'!$C$29=\"Square\",C$1,IF(OR(AND(ODD($A17)=$A17,ODD(C$2)=C$2),AND(EVEN($A17)=$A17,EVEN(C$2)=C$2)),C$1,-100))","v":9.375},{"$f":"IF('Ceiling Speaker Calculator'!$C$29=\"Square\",D$1,IF(OR(AND(ODD($A17)=$A17,ODD(D$2)=D$2),AND(EVEN($A17)=$A17,EVEN(D$2)=D$2)),D$1,-100))","v":28.125},{"$f":"IF('Ceiling Speaker Calculator'!$C$29=\"Square\",E$1,IF(OR(AND(ODD($A17)=$A17,ODD(E$2)=E$2),AND(EVEN($A17)=$A17,EVEN(E$2)=E$2)),E$1,-100))","v":46.875},{"$f":"IF('Ceiling Speaker Calculator'!$C$29=\"Square\",F$1,IF(OR(AND(ODD($A17)=$A17,ODD(F$2)=F$2),AND(EVEN($A17)=$A17,EVEN(F$2)=F$2)),F$1,-100))","v":65.625},{"$f":"IF('Ceiling Speaker Calculator'!$C$29=\"Square\",G$1,IF(OR(AND(ODD($A17)=$A17,ODD(G$2)=G$2),AND(EVEN($A17)=$A17,EVEN(G$2)=G$2)),G$1,-100))","v":84.375},{"$f":"IF('Ceiling Speaker Calculator'!$C$29=\"Square\",H$1,IF(OR(AND(ODD($A17)=$A17,ODD(H$2)=H$2),AND(EVEN($A17)=$A17,EVEN(H$2)=H$2)),H$1,-100))","v":103.125},{"$f":"IF('Ceiling Speaker Calculator'!$C$29=\"Square\",I$1,IF(OR(AND(ODD($A17)=$A17,ODD(I$2)=I$2),AND(EVEN($A17)=$A17,EVEN(I$2)=I$2)),I$1,-100))","v":121.875},{"$f":"IF('Ceiling Speaker Calculator'!$C$29=\"Square\",J$1,IF(OR(AND(ODD($A17)=$A17,ODD(J$2)=J$2),AND(EVEN($A17)=$A17,EVEN(J$2)=J$2)),J$1,-100))","v":140.625},{"$f":"IF('Ceiling Speaker Calculator'!$C$29=\"Square\",K$1,IF(OR(AND(ODD($A17)=$A17,ODD(K$2)=K$2),AND(EVEN($A17)=$A17,EVEN(K$2)=K$2)),K$1,-100))","v":159.375},{"$f":"IF('Ceiling Speaker Calculator'!$C$29=\"Square\",L$1,IF(OR(AND(ODD($A17)=$A17,ODD(L$2)=L$2),AND(EVEN($A17)=$A17,EVEN(L$2)=L$2)),L$1,-100))","v":178.125},{"$f":"IF('Ceiling Speaker Calculator'!$C$29=\"Square\",M$1,IF(OR(AND(ODD($A17)=$A17,ODD(M$2)=M$2),AND(EVEN($A17)=$A17,EVEN(M$2)=M$2)),M$1,-100))","v":196.875},{"$f":"IF('Ceiling Speaker Calculator'!$C$29=\"Square\",N$1,IF(OR(AND(ODD($A17)=$A17,ODD(N$2)=N$2),AND(EVEN($A17)=$A17,EVEN(N$2)=N$2)),N$1,-100))","v":215.625},{"$f":"IF('Ceiling Speaker Calculator'!$C$29=\"Square\",O$1,IF(OR(AND(ODD($A17)=$A17,ODD(O$2)=O$2),AND(EVEN($A17)=$A17,EVEN(O$2)=O$2)),O$1,-100))","v":234.375},{"$f":"IF('Ceiling Speaker Calculator'!$C$29=\"Square\",P$1,IF(OR(AND(ODD($A17)=$A17,ODD(P$2)=P$2),AND(EVEN($A17)=$A17,EVEN(P$2)=P$2)),P$1,-100))","v":253.125},{"$f":"IF('Ceiling Speaker Calculator'!$C$29=\"Square\",Q$1,IF(OR(AND(ODD($A17)=$A17,ODD(Q$2)=Q$2),AND(EVEN($A17)=$A17,EVEN(Q$2)=Q$2)),Q$1,-100))","v":271.875},{"$f":"IF('Ceiling Speaker Calculator'!$C$29=\"Square\",R$1,IF(OR(AND(ODD($A17)=$A17,ODD(R$2)=R$2),AND(EVEN($A17)=$A17,EVEN(R$2)=R$2)),R$1,-100))","v":290.625},{"$f":"IF('Ceiling Speaker Calculator'!$C$29=\"Square\",S$1,IF(OR(AND(ODD($A17)=$A17,ODD(S$2)=S$2),AND(EVEN($A17)=$A17,EVEN(S$2)=S$2)),S$1,-100))","v":309.375},{"$f":"IF('Ceiling Speaker Calculator'!$C$29=\"Square\",T$1,IF(OR(AND(ODD($A17)=$A17,ODD(T$2)=T$2),AND(EVEN($A17)=$A17,EVEN(T$2)=T$2)),T$1,-100))","v":328.125},{"$f":"IF('Ceiling Speaker Calculator'!$C$29=\"Square\",U$1,IF(OR(AND(ODD($A17)=$A17,ODD(U$2)=U$2),AND(EVEN($A17)=$A17,EVEN(U$2)=U$2)),U$1,-100))","v":346.875},{"$f":"IF('Ceiling Speaker Calculator'!$C$29=\"Square\",V$1,IF(OR(AND(ODD($A17)=$A17,ODD(V$2)=V$2),AND(EVEN($A17)=$A17,EVEN(V$2)=V$2)),V$1,-100))","v":365.625},{"$f":"IF('Ceiling Speaker Calculator'!$C$29=\"Square\",W$1,IF(OR(AND(ODD($A17)=$A17,ODD(W$2)=W$2),AND(EVEN($A17)=$A17,EVEN(W$2)=W$2)),W$1,-100))","v":384.375},{"$f":"IF('Ceiling Speaker Calculator'!$C$29=\"Square\",X$1,IF(OR(AND(ODD($A17)=$A17,ODD(X$2)=X$2),AND(EVEN($A17)=$A17,EVEN(X$2)=X$2)),X$1,-100))","v":403.125},{"$f":"IF('Ceiling Speaker Calculator'!$C$29=\"Square\",Y$1,IF(OR(AND(ODD($A17)=$A17,ODD(Y$2)=Y$2),AND(EVEN($A17)=$A17,EVEN(Y$2)=Y$2)),Y$1,-100))","v":421.875},{"$f":"IF('Ceiling Speaker Calculator'!$C$29=\"Square\",Z$1,IF(OR(AND(ODD($A17)=$A17,ODD(Z$2)=Z$2),AND(EVEN($A17)=$A17,EVEN(Z$2)=Z$2)),Z$1,-100))","v":440.625},{"$f":"IF('Ceiling Speaker Calculator'!$C$29=\"Square\",AA$1,IF(OR(AND(ODD($A17)=$A17,ODD(AA$2)=AA$2),AND(EVEN($A17)=$A17,EVEN(AA$2)=AA$2)),AA$1,-100))","v":459.375},{"$f":"IF('Ceiling Speaker Calculator'!$C$29=\"Square\",AB$1,IF(OR(AND(ODD($A17)=$A17,ODD(AB$2)=AB$2),AND(EVEN($A17)=$A17,EVEN(AB$2)=AB$2)),AB$1,-100))","v":478.125},{"$f":"IF('Ceiling Speaker Calculator'!$C$29=\"Square\",AC$1,IF(OR(AND(ODD($A17)=$A17,ODD(AC$2)=AC$2),AND(EVEN($A17)=$A17,EVEN(AC$2)=AC$2)),AC$1,-100))","v":496.875},{"$f":"IF('Ceiling Speaker Calculator'!$C$29=\"Square\",AD$1,IF(OR(AND(ODD($A17)=$A17,ODD(AD$2)=AD$2),AND(EVEN($A17)=$A17,EVEN(AD$2)=AD$2)),AD$1,-100))","v":515.625},{"$f":"IF('Ceiling Speaker Calculator'!$C$29=\"Square\",AE$1,IF(OR(AND(ODD($A17)=$A17,ODD(AE$2)=AE$2),AND(EVEN($A17)=$A17,EVEN(AE$2)=AE$2)),AE$1,-100))","v":534.375},{"$f":"IF('Ceiling Speaker Calculator'!$C$29=\"Square\",AF$1,IF(OR(AND(ODD($A17)=$A17,ODD(AF$2)=AF$2),AND(EVEN($A17)=$A17,EVEN(AF$2)=AF$2)),AF$1,-100))","v":553.125},{"$f":"IF('Ceiling Speaker Calculator'!$C$29=\"Square\",AG$1,IF(OR(AND(ODD($A17)=$A17,ODD(AG$2)=AG$2),AND(EVEN($A17)=$A17,EVEN(AG$2)=AG$2)),AG$1,-100))","v":571.875},{"$f":"IF('Ceiling Speaker Calculator'!$C$29=\"Square\",AH$1,IF(OR(AND(ODD($A17)=$A17,ODD(AH$2)=AH$2),AND(EVEN($A17)=$A17,EVEN(AH$2)=AH$2)),AH$1,-100))","v":590.625},{"$f":"IF('Ceiling Speaker Calculator'!$C$29=\"Square\",AI$1,IF(OR(AND(ODD($A17)=$A17,ODD(AI$2)=AI$2),AND(EVEN($A17)=$A17,EVEN(AI$2)=AI$2)),AI$1,-100))","v":609.375},{"$f":"IF('Ceiling Speaker Calculator'!$C$29=\"Square\",AJ$1,IF(OR(AND(ODD($A17)=$A17,ODD(AJ$2)=AJ$2),AND(EVEN($A17)=$A17,EVEN(AJ$2)=AJ$2)),AJ$1,-100))","v":628.125},{"$f":"IF('Ceiling Speaker Calculator'!$C$29=\"Square\",AK$1,IF(OR(AND(ODD($A17)=$A17,ODD(AK$2)=AK$2),AND(EVEN($A17)=$A17,EVEN(AK$2)=AK$2)),AK$1,-100))","v":646.875},{"$f":"IF('Ceiling Speaker Calculator'!$C$29=\"Square\",AL$1,IF(OR(AND(ODD($A17)=$A17,ODD(AL$2)=AL$2),AND(EVEN($A17)=$A17,EVEN(AL$2)=AL$2)),AL$1,-100))","v":665.625},{"$f":"IF('Ceiling Speaker Calculator'!$C$29=\"Square\",AM$1,IF(OR(AND(ODD($A17)=$A17,ODD(AM$2)=AM$2),AND(EVEN($A17)=$A17,EVEN(AM$2)=AM$2)),AM$1,-100))","v":684.375},{"$f":"IF('Ceiling Speaker Calculator'!$C$29=\"Square\",AN$1,IF(OR(AND(ODD($A17)=$A17,ODD(AN$2)=AN$2),AND(EVEN($A17)=$A17,EVEN(AN$2)=AN$2)),AN$1,-100))","v":703.125},{"$f":"IF('Ceiling Speaker Calculator'!$C$29=\"Square\",AO$1,IF(OR(AND(ODD($A17)=$A17,ODD(AO$2)=AO$2),AND(EVEN($A17)=$A17,EVEN(AO$2)=AO$2)),AO$1,-100))","v":721.875},{"$f":"IF('Ceiling Speaker Calculator'!$C$29=\"Square\",AP$1,IF(OR(AND(ODD($A17)=$A17,ODD(AP$2)=AP$2),AND(EVEN($A17)=$A17,EVEN(AP$2)=AP$2)),AP$1,-100))","v":740.625},{"$f":"IF('Ceiling Speaker Calculator'!$C$29=\"Square\",AQ$1,IF(OR(AND(ODD($A17)=$A17,ODD(AQ$2)=AQ$2),AND(EVEN($A17)=$A17,EVEN(AQ$2)=AQ$2)),AQ$1,-100))","v":759.375},{"$f":"IF('Ceiling Speaker Calculator'!$C$29=\"Square\",AR$1,IF(OR(AND(ODD($A17)=$A17,ODD(AR$2)=AR$2),AND(EVEN($A17)=$A17,EVEN(AR$2)=AR$2)),AR$1,-100))","v":778.125},{"$f":"IF('Ceiling Speaker Calculator'!$C$29=\"Square\",AS$1,IF(OR(AND(ODD($A17)=$A17,ODD(AS$2)=AS$2),AND(EVEN($A17)=$A17,EVEN(AS$2)=AS$2)),AS$1,-100))","v":796.875},{"$f":"IF('Ceiling Speaker Calculator'!$C$29=\"Square\",AT$1,IF(OR(AND(ODD($A17)=$A17,ODD(AT$2)=AT$2),AND(EVEN($A17)=$A17,EVEN(AT$2)=AT$2)),AT$1,-100))","v":815.625},{"$f":"IF('Ceiling Speaker Calculator'!$C$29=\"Square\",AU$1,IF(OR(AND(ODD($A17)=$A17,ODD(AU$2)=AU$2),AND(EVEN($A17)=$A17,EVEN(AU$2)=AU$2)),AU$1,-100))","v":834.375},{"$f":"IF('Ceiling Speaker Calculator'!$C$29=\"Square\",AV$1,IF(OR(AND(ODD($A17)=$A17,ODD(AV$2)=AV$2),AND(EVEN($A17)=$A17,EVEN(AV$2)=AV$2)),AV$1,-100))","v":853.125},{"$f":"IF('Ceiling Speaker Calculator'!$C$29=\"Square\",AW$1,IF(OR(AND(ODD($A17)=$A17,ODD(AW$2)=AW$2),AND(EVEN($A17)=$A17,EVEN(AW$2)=AW$2)),AW$1,-100))","v":871.875},{"$f":"IF('Ceiling Speaker Calculator'!$C$29=\"Square\",AX$1,IF(OR(AND(ODD($A17)=$A17,ODD(AX$2)=AX$2),AND(EVEN($A17)=$A17,EVEN(AX$2)=AX$2)),AX$1,-100))","v":890.625},{"$f":"IF('Ceiling Speaker Calculator'!$C$29=\"Square\",AY$1,IF(OR(AND(ODD($A17)=$A17,ODD(AY$2)=AY$2),AND(EVEN($A17)=$A17,EVEN(AY$2)=AY$2)),AY$1,-100))","v":909.375},{"$f":"IF('Ceiling Speaker Calculator'!$C$29=\"Square\",AZ$1,IF(OR(AND(ODD($A17)=$A17,ODD(AZ$2)=AZ$2),AND(EVEN($A17)=$A17,EVEN(AZ$2)=AZ$2)),AZ$1,-100))","v":928.125},{"$f":"IF('Ceiling Speaker Calculator'!$C$29=\"Square\",BA$1,IF(OR(AND(ODD($A17)=$A17,ODD(BA$2)=BA$2),AND(EVEN($A17)=$A17,EVEN(BA$2)=BA$2)),BA$1,-100))","v":946.875},{"$f":"IF('Ceiling Speaker Calculator'!$C$29=\"Square\",BB$1,IF(OR(AND(ODD($A17)=$A17,ODD(BB$2)=BB$2),AND(EVEN($A17)=$A17,EVEN(BB$2)=BB$2)),BB$1,-100))","v":965.625},{"$f":"IF('Ceiling Speaker Calculator'!$C$29=\"Square\",BC$1,IF(OR(AND(ODD($A17)=$A17,ODD(BC$2)=BC$2),AND(EVEN($A17)=$A17,EVEN(BC$2)=BC$2)),BC$1,-100))","v":984.375},{"$f":"IF('Ceiling Speaker Calculator'!$C$29=\"Square\",BD$1,IF(OR(AND(ODD($A17)=$A17,ODD(BD$2)=BD$2),AND(EVEN($A17)=$A17,EVEN(BD$2)=BD$2)),BD$1,-100))","v":1003.125},{"$f":"IF('Ceiling Speaker Calculator'!$C$29=\"Square\",BE$1,IF(OR(AND(ODD($A17)=$A17,ODD(BE$2)=BE$2),AND(EVEN($A17)=$A17,EVEN(BE$2)=BE$2)),BE$1,-100))","v":1021.875},{"$f":"IF('Ceiling Speaker Calculator'!$C$29=\"Square\",BF$1,IF(OR(AND(ODD($A17)=$A17,ODD(BF$2)=BF$2),AND(EVEN($A17)=$A17,EVEN(BF$2)=BF$2)),BF$1,-100))","v":1040.625},{"$f":"IF('Ceiling Speaker Calculator'!$C$29=\"Square\",BG$1,IF(OR(AND(ODD($A17)=$A17,ODD(BG$2)=BG$2),AND(EVEN($A17)=$A17,EVEN(BG$2)=BG$2)),BG$1,-100))","v":1059.375},{"$f":"IF('Ceiling Speaker Calculator'!$C$29=\"Square\",BH$1,IF(OR(AND(ODD($A17)=$A17,ODD(BH$2)=BH$2),AND(EVEN($A17)=$A17,EVEN(BH$2)=BH$2)),BH$1,-100))","v":1078.125},{"$f":"IF('Ceiling Speaker Calculator'!$C$29=\"Square\",BI$1,IF(OR(AND(ODD($A17)=$A17,ODD(BI$2)=BI$2),AND(EVEN($A17)=$A17,EVEN(BI$2)=BI$2)),BI$1,-100))","v":1096.875},{"$f":"IF('Ceiling Speaker Calculator'!$C$29=\"Square\",BJ$1,IF(OR(AND(ODD($A17)=$A17,ODD(BJ$2)=BJ$2),AND(EVEN($A17)=$A17,EVEN(BJ$2)=BJ$2)),BJ$1,-100))","v":1115.625},{"$f":"IF('Ceiling Speaker Calculator'!$C$29=\"Square\",BK$1,IF(OR(AND(ODD($A17)=$A17,ODD(BK$2)=BK$2),AND(EVEN($A17)=$A17,EVEN(BK$2)=BK$2)),BK$1,-100))","v":1134.375},{"$f":"IF('Ceiling Speaker Calculator'!$C$29=\"Square\",BL$1,IF(OR(AND(ODD($A17)=$A17,ODD(BL$2)=BL$2),AND(EVEN($A17)=$A17,EVEN(BL$2)=BL$2)),BL$1,-100))","v":1153.125},{"$f":"IF('Ceiling Speaker Calculator'!$C$29=\"Square\",BM$1,IF(OR(AND(ODD($A17)=$A17,ODD(BM$2)=BM$2),AND(EVEN($A17)=$A17,EVEN(BM$2)=BM$2)),BM$1,-100))","v":1171.875},{"$f":"IF('Ceiling Speaker Calculator'!$C$29=\"Square\",BN$1,IF(OR(AND(ODD($A17)=$A17,ODD(BN$2)=BN$2),AND(EVEN($A17)=$A17,EVEN(BN$2)=BN$2)),BN$1,-100))","v":1190.625},{"$f":"IF('Ceiling Speaker Calculator'!$C$29=\"Square\",BO$1,IF(OR(AND(ODD($A17)=$A17,ODD(BO$2)=BO$2),AND(EVEN($A17)=$A17,EVEN(BO$2)=BO$2)),BO$1,-100))","v":1209.375},{"$f":"IF('Ceiling Speaker Calculator'!$C$29=\"Square\",BP$1,IF(OR(AND(ODD($A17)=$A17,ODD(BP$2)=BP$2),AND(EVEN($A17)=$A17,EVEN(BP$2)=BP$2)),BP$1,-100))","v":1228.125},{"$f":"IF('Ceiling Speaker Calculator'!$C$29=\"Square\",BQ$1,IF(OR(AND(ODD($A17)=$A17,ODD(BQ$2)=BQ$2),AND(EVEN($A17)=$A17,EVEN(BQ$2)=BQ$2)),BQ$1,-100))","v":1246.875},{"$f":"IF('Ceiling Speaker Calculator'!$C$29=\"Square\",BR$1,IF(OR(AND(ODD($A17)=$A17,ODD(BR$2)=BR$2),AND(EVEN($A17)=$A17,EVEN(BR$2)=BR$2)),BR$1,-100))","v":1265.625},{"$f":"IF('Ceiling Speaker Calculator'!$C$29=\"Square\",BS$1,IF(OR(AND(ODD($A17)=$A17,ODD(BS$2)=BS$2),AND(EVEN($A17)=$A17,EVEN(BS$2)=BS$2)),BS$1,-100))","v":1284.375},{"$f":"IF('Ceiling Speaker Calculator'!$C$29=\"Square\",BT$1,IF(OR(AND(ODD($A17)=$A17,ODD(BT$2)=BT$2),AND(EVEN($A17)=$A17,EVEN(BT$2)=BT$2)),BT$1,-100))","v":1303.125},{"$f":"IF('Ceiling Speaker Calculator'!$C$29=\"Square\",BU$1,IF(OR(AND(ODD($A17)=$A17,ODD(BU$2)=BU$2),AND(EVEN($A17)=$A17,EVEN(BU$2)=BU$2)),BU$1,-100))","v":1321.875},{"$f":"IF('Ceiling Speaker Calculator'!$C$29=\"Square\",BV$1,IF(OR(AND(ODD($A17)=$A17,ODD(BV$2)=BV$2),AND(EVEN($A17)=$A17,EVEN(BV$2)=BV$2)),BV$1,-100))","v":1340.625},{"$f":"IF('Ceiling Speaker Calculator'!$C$29=\"Square\",BW$1,IF(OR(AND(ODD($A17)=$A17,ODD(BW$2)=BW$2),AND(EVEN($A17)=$A17,EVEN(BW$2)=BW$2)),BW$1,-100))","v":1359.375},{"$f":"IF('Ceiling Speaker Calculator'!$C$29=\"Square\",BX$1,IF(OR(AND(ODD($A17)=$A17,ODD(BX$2)=BX$2),AND(EVEN($A17)=$A17,EVEN(BX$2)=BX$2)),BX$1,-100))","v":1378.125},{"$f":"IF('Ceiling Speaker Calculator'!$C$29=\"Square\",BY$1,IF(OR(AND(ODD($A17)=$A17,ODD(BY$2)=BY$2),AND(EVEN($A17)=$A17,EVEN(BY$2)=BY$2)),BY$1,-100))","v":1396.875},{"$f":"IF('Ceiling Speaker Calculator'!$C$29=\"Square\",BZ$1,IF(OR(AND(ODD($A17)=$A17,ODD(BZ$2)=BZ$2),AND(EVEN($A17)=$A17,EVEN(BZ$2)=BZ$2)),BZ$1,-100))","v":1415.625},{"$f":"IF('Ceiling Speaker Calculator'!$C$29=\"Square\",CA$1,IF(OR(AND(ODD($A17)=$A17,ODD(CA$2)=CA$2),AND(EVEN($A17)=$A17,EVEN(CA$2)=CA$2)),CA$1,-100))","v":1434.375},{"$f":"IF('Ceiling Speaker Calculator'!$C$29=\"Square\",CB$1,IF(OR(AND(ODD($A17)=$A17,ODD(CB$2)=CB$2),AND(EVEN($A17)=$A17,EVEN(CB$2)=CB$2)),CB$1,-100))","v":1453.125},{"$f":"IF('Ceiling Speaker Calculator'!$C$29=\"Square\",CC$1,IF(OR(AND(ODD($A17)=$A17,ODD(CC$2)=CC$2),AND(EVEN($A17)=$A17,EVEN(CC$2)=CC$2)),CC$1,-100))","v":1471.875},{"$f":"IF('Ceiling Speaker Calculator'!$C$29=\"Square\",CD$1,IF(OR(AND(ODD($A17)=$A17,ODD(CD$2)=CD$2),AND(EVEN($A17)=$A17,EVEN(CD$2)=CD$2)),CD$1,-100))","v":1490.625},{"$f":"IF('Ceiling Speaker Calculator'!$C$29=\"Square\",CE$1,IF(OR(AND(ODD($A17)=$A17,ODD(CE$2)=CE$2),AND(EVEN($A17)=$A17,EVEN(CE$2)=CE$2)),CE$1,-100))","v":1509.375},{"$f":"IF('Ceiling Speaker Calculator'!$C$29=\"Square\",CF$1,IF(OR(AND(ODD($A17)=$A17,ODD(CF$2)=CF$2),AND(EVEN($A17)=$A17,EVEN(CF$2)=CF$2)),CF$1,-100))","v":1528.125},{"$f":"IF('Ceiling Speaker Calculator'!$C$29=\"Square\",CG$1,IF(OR(AND(ODD($A17)=$A17,ODD(CG$2)=CG$2),AND(EVEN($A17)=$A17,EVEN(CG$2)=CG$2)),CG$1,-100))","v":1546.875},{"$f":"IF('Ceiling Speaker Calculator'!$C$29=\"Square\",CH$1,IF(OR(AND(ODD($A17)=$A17,ODD(CH$2)=CH$2),AND(EVEN($A17)=$A17,EVEN(CH$2)=CH$2)),CH$1,-100))","v":1565.625},{"$f":"IF('Ceiling Speaker Calculator'!$C$29=\"Square\",CI$1,IF(OR(AND(ODD($A17)=$A17,ODD(CI$2)=CI$2),AND(EVEN($A17)=$A17,EVEN(CI$2)=CI$2)),CI$1,-100))","v":1584.375},{"$f":"IF('Ceiling Speaker Calculator'!$C$29=\"Square\",CJ$1,IF(OR(AND(ODD($A17)=$A17,ODD(CJ$2)=CJ$2),AND(EVEN($A17)=$A17,EVEN(CJ$2)=CJ$2)),CJ$1,-100))","v":1603.125},{"$f":"IF('Ceiling Speaker Calculator'!$C$29=\"Square\",CK$1,IF(OR(AND(ODD($A17)=$A17,ODD(CK$2)=CK$2),AND(EVEN($A17)=$A17,EVEN(CK$2)=CK$2)),CK$1,-100))","v":1621.875},{"$f":"IF('Ceiling Speaker Calculator'!$C$29=\"Square\",CL$1,IF(OR(AND(ODD($A17)=$A17,ODD(CL$2)=CL$2),AND(EVEN($A17)=$A17,EVEN(CL$2)=CL$2)),CL$1,-100))","v":1640.625},{"$f":"IF('Ceiling Speaker Calculator'!$C$29=\"Square\",CM$1,IF(OR(AND(ODD($A17)=$A17,ODD(CM$2)=CM$2),AND(EVEN($A17)=$A17,EVEN(CM$2)=CM$2)),CM$1,-100))","v":1659.375},{"$f":"IF('Ceiling Speaker Calculator'!$C$29=\"Square\",CN$1,IF(OR(AND(ODD($A17)=$A17,ODD(CN$2)=CN$2),AND(EVEN($A17)=$A17,EVEN(CN$2)=CN$2)),CN$1,-100))","v":1678.125},{"$f":"IF('Ceiling Speaker Calculator'!$C$29=\"Square\",CO$1,IF(OR(AND(ODD($A17)=$A17,ODD(CO$2)=CO$2),AND(EVEN($A17)=$A17,EVEN(CO$2)=CO$2)),CO$1,-100))","v":1696.875},{"$f":"IF('Ceiling Speaker Calculator'!$C$29=\"Square\",CP$1,IF(OR(AND(ODD($A17)=$A17,ODD(CP$2)=CP$2),AND(EVEN($A17)=$A17,EVEN(CP$2)=CP$2)),CP$1,-100))","v":1715.625},{"$f":"IF('Ceiling Speaker Calculator'!$C$29=\"Square\",CQ$1,IF(OR(AND(ODD($A17)=$A17,ODD(CQ$2)=CQ$2),AND(EVEN($A17)=$A17,EVEN(CQ$2)=CQ$2)),CQ$1,-100))","v":1734.375},{"$f":"IF('Ceiling Speaker Calculator'!$C$29=\"Square\",CR$1,IF(OR(AND(ODD($A17)=$A17,ODD(CR$2)=CR$2),AND(EVEN($A17)=$A17,EVEN(CR$2)=CR$2)),CR$1,-100))","v":1753.125},{"$f":"IF('Ceiling Speaker Calculator'!$C$29=\"Square\",CS$1,IF(OR(AND(ODD($A17)=$A17,ODD(CS$2)=CS$2),AND(EVEN($A17)=$A17,EVEN(CS$2)=CS$2)),CS$1,-100))","v":1771.875},{"$f":"IF('Ceiling Speaker Calculator'!$C$29=\"Square\",CT$1,IF(OR(AND(ODD($A17)=$A17,ODD(CT$2)=CT$2),AND(EVEN($A17)=$A17,EVEN(CT$2)=CT$2)),CT$1,-100))","v":1790.625},{"$f":"IF('Ceiling Speaker Calculator'!$C$29=\"Square\",CU$1,IF(OR(AND(ODD($A17)=$A17,ODD(CU$2)=CU$2),AND(EVEN($A17)=$A17,EVEN(CU$2)=CU$2)),CU$1,-100))","v":1809.375},{"$f":"IF('Ceiling Speaker Calculator'!$C$29=\"Square\",CV$1,IF(OR(AND(ODD($A17)=$A17,ODD(CV$2)=CV$2),AND(EVEN($A17)=$A17,EVEN(CV$2)=CV$2)),CV$1,-100))","v":1828.125},{"$f":"IF('Ceiling Speaker Calculator'!$C$29=\"Square\",CW$1,IF(OR(AND(ODD($A17)=$A17,ODD(CW$2)=CW$2),AND(EVEN($A17)=$A17,EVEN(CW$2)=CW$2)),CW$1,-100))","v":1846.875},{"$f":"IF('Ceiling Speaker Calculator'!$C$29=\"Square\",CX$1,IF(OR(AND(ODD($A17)=$A17,ODD(CX$2)=CX$2),AND(EVEN($A17)=$A17,EVEN(CX$2)=CX$2)),CX$1,-100))","v":1865.625}]
[16,{"$f":"B17+'Ceiling Speaker Calculator'!$K$16","v":310},{"$f":"IF('Ceiling Speaker Calculator'!$C$29=\"Square\",C$1,IF(OR(AND(ODD($A18)=$A18,ODD(C$2)=C$2),AND(EVEN($A18)=$A18,EVEN(C$2)=C$2)),C$1,-100))","v":9.375},{"$f":"IF('Ceiling Speaker Calculator'!$C$29=\"Square\",D$1,IF(OR(AND(ODD($A18)=$A18,ODD(D$2)=D$2),AND(EVEN($A18)=$A18,EVEN(D$2)=D$2)),D$1,-100))","v":28.125},{"$f":"IF('Ceiling Speaker Calculator'!$C$29=\"Square\",E$1,IF(OR(AND(ODD($A18)=$A18,ODD(E$2)=E$2),AND(EVEN($A18)=$A18,EVEN(E$2)=E$2)),E$1,-100))","v":46.875},{"$f":"IF('Ceiling Speaker Calculator'!$C$29=\"Square\",F$1,IF(OR(AND(ODD($A18)=$A18,ODD(F$2)=F$2),AND(EVEN($A18)=$A18,EVEN(F$2)=F$2)),F$1,-100))","v":65.625},{"$f":"IF('Ceiling Speaker Calculator'!$C$29=\"Square\",G$1,IF(OR(AND(ODD($A18)=$A18,ODD(G$2)=G$2),AND(EVEN($A18)=$A18,EVEN(G$2)=G$2)),G$1,-100))","v":84.375},{"$f":"IF('Ceiling Speaker Calculator'!$C$29=\"Square\",H$1,IF(OR(AND(ODD($A18)=$A18,ODD(H$2)=H$2),AND(EVEN($A18)=$A18,EVEN(H$2)=H$2)),H$1,-100))","v":103.125},{"$f":"IF('Ceiling Speaker Calculator'!$C$29=\"Square\",I$1,IF(OR(AND(ODD($A18)=$A18,ODD(I$2)=I$2),AND(EVEN($A18)=$A18,EVEN(I$2)=I$2)),I$1,-100))","v":121.875},{"$f":"IF('Ceiling Speaker Calculator'!$C$29=\"Square\",J$1,IF(OR(AND(ODD($A18)=$A18,ODD(J$2)=J$2),AND(EVEN($A18)=$A18,EVEN(J$2)=J$2)),J$1,-100))","v":140.625},{"$f":"IF('Ceiling Speaker Calculator'!$C$29=\"Square\",K$1,IF(OR(AND(ODD($A18)=$A18,ODD(K$2)=K$2),AND(EVEN($A18)=$A18,EVEN(K$2)=K$2)),K$1,-100))","v":159.375},{"$f":"IF('Ceiling Speaker Calculator'!$C$29=\"Square\",L$1,IF(OR(AND(ODD($A18)=$A18,ODD(L$2)=L$2),AND(EVEN($A18)=$A18,EVEN(L$2)=L$2)),L$1,-100))","v":178.125},{"$f":"IF('Ceiling Speaker Calculator'!$C$29=\"Square\",M$1,IF(OR(AND(ODD($A18)=$A18,ODD(M$2)=M$2),AND(EVEN($A18)=$A18,EVEN(M$2)=M$2)),M$1,-100))","v":196.875},{"$f":"IF('Ceiling Speaker Calculator'!$C$29=\"Square\",N$1,IF(OR(AND(ODD($A18)=$A18,ODD(N$2)=N$2),AND(EVEN($A18)=$A18,EVEN(N$2)=N$2)),N$1,-100))","v":215.625},{"$f":"IF('Ceiling Speaker Calculator'!$C$29=\"Square\",O$1,IF(OR(AND(ODD($A18)=$A18,ODD(O$2)=O$2),AND(EVEN($A18)=$A18,EVEN(O$2)=O$2)),O$1,-100))","v":234.375},{"$f":"IF('Ceiling Speaker Calculator'!$C$29=\"Square\",P$1,IF(OR(AND(ODD($A18)=$A18,ODD(P$2)=P$2),AND(EVEN($A18)=$A18,EVEN(P$2)=P$2)),P$1,-100))","v":253.125},{"$f":"IF('Ceiling Speaker Calculator'!$C$29=\"Square\",Q$1,IF(OR(AND(ODD($A18)=$A18,ODD(Q$2)=Q$2),AND(EVEN($A18)=$A18,EVEN(Q$2)=Q$2)),Q$1,-100))","v":271.875},{"$f":"IF('Ceiling Speaker Calculator'!$C$29=\"Square\",R$1,IF(OR(AND(ODD($A18)=$A18,ODD(R$2)=R$2),AND(EVEN($A18)=$A18,EVEN(R$2)=R$2)),R$1,-100))","v":290.625},{"$f":"IF('Ceiling Speaker Calculator'!$C$29=\"Square\",S$1,IF(OR(AND(ODD($A18)=$A18,ODD(S$2)=S$2),AND(EVEN($A18)=$A18,EVEN(S$2)=S$2)),S$1,-100))","v":309.375},{"$f":"IF('Ceiling Speaker Calculator'!$C$29=\"Square\",T$1,IF(OR(AND(ODD($A18)=$A18,ODD(T$2)=T$2),AND(EVEN($A18)=$A18,EVEN(T$2)=T$2)),T$1,-100))","v":328.125},{"$f":"IF('Ceiling Speaker Calculator'!$C$29=\"Square\",U$1,IF(OR(AND(ODD($A18)=$A18,ODD(U$2)=U$2),AND(EVEN($A18)=$A18,EVEN(U$2)=U$2)),U$1,-100))","v":346.875},{"$f":"IF('Ceiling Speaker Calculator'!$C$29=\"Square\",V$1,IF(OR(AND(ODD($A18)=$A18,ODD(V$2)=V$2),AND(EVEN($A18)=$A18,EVEN(V$2)=V$2)),V$1,-100))","v":365.625},{"$f":"IF('Ceiling Speaker Calculator'!$C$29=\"Square\",W$1,IF(OR(AND(ODD($A18)=$A18,ODD(W$2)=W$2),AND(EVEN($A18)=$A18,EVEN(W$2)=W$2)),W$1,-100))","v":384.375},{"$f":"IF('Ceiling Speaker Calculator'!$C$29=\"Square\",X$1,IF(OR(AND(ODD($A18)=$A18,ODD(X$2)=X$2),AND(EVEN($A18)=$A18,EVEN(X$2)=X$2)),X$1,-100))","v":403.125},{"$f":"IF('Ceiling Speaker Calculator'!$C$29=\"Square\",Y$1,IF(OR(AND(ODD($A18)=$A18,ODD(Y$2)=Y$2),AND(EVEN($A18)=$A18,EVEN(Y$2)=Y$2)),Y$1,-100))","v":421.875},{"$f":"IF('Ceiling Speaker Calculator'!$C$29=\"Square\",Z$1,IF(OR(AND(ODD($A18)=$A18,ODD(Z$2)=Z$2),AND(EVEN($A18)=$A18,EVEN(Z$2)=Z$2)),Z$1,-100))","v":440.625},{"$f":"IF('Ceiling Speaker Calculator'!$C$29=\"Square\",AA$1,IF(OR(AND(ODD($A18)=$A18,ODD(AA$2)=AA$2),AND(EVEN($A18)=$A18,EVEN(AA$2)=AA$2)),AA$1,-100))","v":459.375},{"$f":"IF('Ceiling Speaker Calculator'!$C$29=\"Square\",AB$1,IF(OR(AND(ODD($A18)=$A18,ODD(AB$2)=AB$2),AND(EVEN($A18)=$A18,EVEN(AB$2)=AB$2)),AB$1,-100))","v":478.125},{"$f":"IF('Ceiling Speaker Calculator'!$C$29=\"Square\",AC$1,IF(OR(AND(ODD($A18)=$A18,ODD(AC$2)=AC$2),AND(EVEN($A18)=$A18,EVEN(AC$2)=AC$2)),AC$1,-100))","v":496.875},{"$f":"IF('Ceiling Speaker Calculator'!$C$29=\"Square\",AD$1,IF(OR(AND(ODD($A18)=$A18,ODD(AD$2)=AD$2),AND(EVEN($A18)=$A18,EVEN(AD$2)=AD$2)),AD$1,-100))","v":515.625},{"$f":"IF('Ceiling Speaker Calculator'!$C$29=\"Square\",AE$1,IF(OR(AND(ODD($A18)=$A18,ODD(AE$2)=AE$2),AND(EVEN($A18)=$A18,EVEN(AE$2)=AE$2)),AE$1,-100))","v":534.375},{"$f":"IF('Ceiling Speaker Calculator'!$C$29=\"Square\",AF$1,IF(OR(AND(ODD($A18)=$A18,ODD(AF$2)=AF$2),AND(EVEN($A18)=$A18,EVEN(AF$2)=AF$2)),AF$1,-100))","v":553.125},{"$f":"IF('Ceiling Speaker Calculator'!$C$29=\"Square\",AG$1,IF(OR(AND(ODD($A18)=$A18,ODD(AG$2)=AG$2),AND(EVEN($A18)=$A18,EVEN(AG$2)=AG$2)),AG$1,-100))","v":571.875},{"$f":"IF('Ceiling Speaker Calculator'!$C$29=\"Square\",AH$1,IF(OR(AND(ODD($A18)=$A18,ODD(AH$2)=AH$2),AND(EVEN($A18)=$A18,EVEN(AH$2)=AH$2)),AH$1,-100))","v":590.625},{"$f":"IF('Ceiling Speaker Calculator'!$C$29=\"Square\",AI$1,IF(OR(AND(ODD($A18)=$A18,ODD(AI$2)=AI$2),AND(EVEN($A18)=$A18,EVEN(AI$2)=AI$2)),AI$1,-100))","v":609.375},{"$f":"IF('Ceiling Speaker Calculator'!$C$29=\"Square\",AJ$1,IF(OR(AND(ODD($A18)=$A18,ODD(AJ$2)=AJ$2),AND(EVEN($A18)=$A18,EVEN(AJ$2)=AJ$2)),AJ$1,-100))","v":628.125},{"$f":"IF('Ceiling Speaker Calculator'!$C$29=\"Square\",AK$1,IF(OR(AND(ODD($A18)=$A18,ODD(AK$2)=AK$2),AND(EVEN($A18)=$A18,EVEN(AK$2)=AK$2)),AK$1,-100))","v":646.875},{"$f":"IF('Ceiling Speaker Calculator'!$C$29=\"Square\",AL$1,IF(OR(AND(ODD($A18)=$A18,ODD(AL$2)=AL$2),AND(EVEN($A18)=$A18,EVEN(AL$2)=AL$2)),AL$1,-100))","v":665.625},{"$f":"IF('Ceiling Speaker Calculator'!$C$29=\"Square\",AM$1,IF(OR(AND(ODD($A18)=$A18,ODD(AM$2)=AM$2),AND(EVEN($A18)=$A18,EVEN(AM$2)=AM$2)),AM$1,-100))","v":684.375},{"$f":"IF('Ceiling Speaker Calculator'!$C$29=\"Square\",AN$1,IF(OR(AND(ODD($A18)=$A18,ODD(AN$2)=AN$2),AND(EVEN($A18)=$A18,EVEN(AN$2)=AN$2)),AN$1,-100))","v":703.125},{"$f":"IF('Ceiling Speaker Calculator'!$C$29=\"Square\",AO$1,IF(OR(AND(ODD($A18)=$A18,ODD(AO$2)=AO$2),AND(EVEN($A18)=$A18,EVEN(AO$2)=AO$2)),AO$1,-100))","v":721.875},{"$f":"IF('Ceiling Speaker Calculator'!$C$29=\"Square\",AP$1,IF(OR(AND(ODD($A18)=$A18,ODD(AP$2)=AP$2),AND(EVEN($A18)=$A18,EVEN(AP$2)=AP$2)),AP$1,-100))","v":740.625},{"$f":"IF('Ceiling Speaker Calculator'!$C$29=\"Square\",AQ$1,IF(OR(AND(ODD($A18)=$A18,ODD(AQ$2)=AQ$2),AND(EVEN($A18)=$A18,EVEN(AQ$2)=AQ$2)),AQ$1,-100))","v":759.375},{"$f":"IF('Ceiling Speaker Calculator'!$C$29=\"Square\",AR$1,IF(OR(AND(ODD($A18)=$A18,ODD(AR$2)=AR$2),AND(EVEN($A18)=$A18,EVEN(AR$2)=AR$2)),AR$1,-100))","v":778.125},{"$f":"IF('Ceiling Speaker Calculator'!$C$29=\"Square\",AS$1,IF(OR(AND(ODD($A18)=$A18,ODD(AS$2)=AS$2),AND(EVEN($A18)=$A18,EVEN(AS$2)=AS$2)),AS$1,-100))","v":796.875},{"$f":"IF('Ceiling Speaker Calculator'!$C$29=\"Square\",AT$1,IF(OR(AND(ODD($A18)=$A18,ODD(AT$2)=AT$2),AND(EVEN($A18)=$A18,EVEN(AT$2)=AT$2)),AT$1,-100))","v":815.625},{"$f":"IF('Ceiling Speaker Calculator'!$C$29=\"Square\",AU$1,IF(OR(AND(ODD($A18)=$A18,ODD(AU$2)=AU$2),AND(EVEN($A18)=$A18,EVEN(AU$2)=AU$2)),AU$1,-100))","v":834.375},{"$f":"IF('Ceiling Speaker Calculator'!$C$29=\"Square\",AV$1,IF(OR(AND(ODD($A18)=$A18,ODD(AV$2)=AV$2),AND(EVEN($A18)=$A18,EVEN(AV$2)=AV$2)),AV$1,-100))","v":853.125},{"$f":"IF('Ceiling Speaker Calculator'!$C$29=\"Square\",AW$1,IF(OR(AND(ODD($A18)=$A18,ODD(AW$2)=AW$2),AND(EVEN($A18)=$A18,EVEN(AW$2)=AW$2)),AW$1,-100))","v":871.875},{"$f":"IF('Ceiling Speaker Calculator'!$C$29=\"Square\",AX$1,IF(OR(AND(ODD($A18)=$A18,ODD(AX$2)=AX$2),AND(EVEN($A18)=$A18,EVEN(AX$2)=AX$2)),AX$1,-100))","v":890.625},{"$f":"IF('Ceiling Speaker Calculator'!$C$29=\"Square\",AY$1,IF(OR(AND(ODD($A18)=$A18,ODD(AY$2)=AY$2),AND(EVEN($A18)=$A18,EVEN(AY$2)=AY$2)),AY$1,-100))","v":909.375},{"$f":"IF('Ceiling Speaker Calculator'!$C$29=\"Square\",AZ$1,IF(OR(AND(ODD($A18)=$A18,ODD(AZ$2)=AZ$2),AND(EVEN($A18)=$A18,EVEN(AZ$2)=AZ$2)),AZ$1,-100))","v":928.125},{"$f":"IF('Ceiling Speaker Calculator'!$C$29=\"Square\",BA$1,IF(OR(AND(ODD($A18)=$A18,ODD(BA$2)=BA$2),AND(EVEN($A18)=$A18,EVEN(BA$2)=BA$2)),BA$1,-100))","v":946.875},{"$f":"IF('Ceiling Speaker Calculator'!$C$29=\"Square\",BB$1,IF(OR(AND(ODD($A18)=$A18,ODD(BB$2)=BB$2),AND(EVEN($A18)=$A18,EVEN(BB$2)=BB$2)),BB$1,-100))","v":965.625},{"$f":"IF('Ceiling Speaker Calculator'!$C$29=\"Square\",BC$1,IF(OR(AND(ODD($A18)=$A18,ODD(BC$2)=BC$2),AND(EVEN($A18)=$A18,EVEN(BC$2)=BC$2)),BC$1,-100))","v":984.375},{"$f":"IF('Ceiling Speaker Calculator'!$C$29=\"Square\",BD$1,IF(OR(AND(ODD($A18)=$A18,ODD(BD$2)=BD$2),AND(EVEN($A18)=$A18,EVEN(BD$2)=BD$2)),BD$1,-100))","v":1003.125},{"$f":"IF('Ceiling Speaker Calculator'!$C$29=\"Square\",BE$1,IF(OR(AND(ODD($A18)=$A18,ODD(BE$2)=BE$2),AND(EVEN($A18)=$A18,EVEN(BE$2)=BE$2)),BE$1,-100))","v":1021.875},{"$f":"IF('Ceiling Speaker Calculator'!$C$29=\"Square\",BF$1,IF(OR(AND(ODD($A18)=$A18,ODD(BF$2)=BF$2),AND(EVEN($A18)=$A18,EVEN(BF$2)=BF$2)),BF$1,-100))","v":1040.625},{"$f":"IF('Ceiling Speaker Calculator'!$C$29=\"Square\",BG$1,IF(OR(AND(ODD($A18)=$A18,ODD(BG$2)=BG$2),AND(EVEN($A18)=$A18,EVEN(BG$2)=BG$2)),BG$1,-100))","v":1059.375},{"$f":"IF('Ceiling Speaker Calculator'!$C$29=\"Square\",BH$1,IF(OR(AND(ODD($A18)=$A18,ODD(BH$2)=BH$2),AND(EVEN($A18)=$A18,EVEN(BH$2)=BH$2)),BH$1,-100))","v":1078.125},{"$f":"IF('Ceiling Speaker Calculator'!$C$29=\"Square\",BI$1,IF(OR(AND(ODD($A18)=$A18,ODD(BI$2)=BI$2),AND(EVEN($A18)=$A18,EVEN(BI$2)=BI$2)),BI$1,-100))","v":1096.875},{"$f":"IF('Ceiling Speaker Calculator'!$C$29=\"Square\",BJ$1,IF(OR(AND(ODD($A18)=$A18,ODD(BJ$2)=BJ$2),AND(EVEN($A18)=$A18,EVEN(BJ$2)=BJ$2)),BJ$1,-100))","v":1115.625},{"$f":"IF('Ceiling Speaker Calculator'!$C$29=\"Square\",BK$1,IF(OR(AND(ODD($A18)=$A18,ODD(BK$2)=BK$2),AND(EVEN($A18)=$A18,EVEN(BK$2)=BK$2)),BK$1,-100))","v":1134.375},{"$f":"IF('Ceiling Speaker Calculator'!$C$29=\"Square\",BL$1,IF(OR(AND(ODD($A18)=$A18,ODD(BL$2)=BL$2),AND(EVEN($A18)=$A18,EVEN(BL$2)=BL$2)),BL$1,-100))","v":1153.125},{"$f":"IF('Ceiling Speaker Calculator'!$C$29=\"Square\",BM$1,IF(OR(AND(ODD($A18)=$A18,ODD(BM$2)=BM$2),AND(EVEN($A18)=$A18,EVEN(BM$2)=BM$2)),BM$1,-100))","v":1171.875},{"$f":"IF('Ceiling Speaker Calculator'!$C$29=\"Square\",BN$1,IF(OR(AND(ODD($A18)=$A18,ODD(BN$2)=BN$2),AND(EVEN($A18)=$A18,EVEN(BN$2)=BN$2)),BN$1,-100))","v":1190.625},{"$f":"IF('Ceiling Speaker Calculator'!$C$29=\"Square\",BO$1,IF(OR(AND(ODD($A18)=$A18,ODD(BO$2)=BO$2),AND(EVEN($A18)=$A18,EVEN(BO$2)=BO$2)),BO$1,-100))","v":1209.375},{"$f":"IF('Ceiling Speaker Calculator'!$C$29=\"Square\",BP$1,IF(OR(AND(ODD($A18)=$A18,ODD(BP$2)=BP$2),AND(EVEN($A18)=$A18,EVEN(BP$2)=BP$2)),BP$1,-100))","v":1228.125},{"$f":"IF('Ceiling Speaker Calculator'!$C$29=\"Square\",BQ$1,IF(OR(AND(ODD($A18)=$A18,ODD(BQ$2)=BQ$2),AND(EVEN($A18)=$A18,EVEN(BQ$2)=BQ$2)),BQ$1,-100))","v":1246.875},{"$f":"IF('Ceiling Speaker Calculator'!$C$29=\"Square\",BR$1,IF(OR(AND(ODD($A18)=$A18,ODD(BR$2)=BR$2),AND(EVEN($A18)=$A18,EVEN(BR$2)=BR$2)),BR$1,-100))","v":1265.625},{"$f":"IF('Ceiling Speaker Calculator'!$C$29=\"Square\",BS$1,IF(OR(AND(ODD($A18)=$A18,ODD(BS$2)=BS$2),AND(EVEN($A18)=$A18,EVEN(BS$2)=BS$2)),BS$1,-100))","v":1284.375},{"$f":"IF('Ceiling Speaker Calculator'!$C$29=\"Square\",BT$1,IF(OR(AND(ODD($A18)=$A18,ODD(BT$2)=BT$2),AND(EVEN($A18)=$A18,EVEN(BT$2)=BT$2)),BT$1,-100))","v":1303.125},{"$f":"IF('Ceiling Speaker Calculator'!$C$29=\"Square\",BU$1,IF(OR(AND(ODD($A18)=$A18,ODD(BU$2)=BU$2),AND(EVEN($A18)=$A18,EVEN(BU$2)=BU$2)),BU$1,-100))","v":1321.875},{"$f":"IF('Ceiling Speaker Calculator'!$C$29=\"Square\",BV$1,IF(OR(AND(ODD($A18)=$A18,ODD(BV$2)=BV$2),AND(EVEN($A18)=$A18,EVEN(BV$2)=BV$2)),BV$1,-100))","v":1340.625},{"$f":"IF('Ceiling Speaker Calculator'!$C$29=\"Square\",BW$1,IF(OR(AND(ODD($A18)=$A18,ODD(BW$2)=BW$2),AND(EVEN($A18)=$A18,EVEN(BW$2)=BW$2)),BW$1,-100))","v":1359.375},{"$f":"IF('Ceiling Speaker Calculator'!$C$29=\"Square\",BX$1,IF(OR(AND(ODD($A18)=$A18,ODD(BX$2)=BX$2),AND(EVEN($A18)=$A18,EVEN(BX$2)=BX$2)),BX$1,-100))","v":1378.125},{"$f":"IF('Ceiling Speaker Calculator'!$C$29=\"Square\",BY$1,IF(OR(AND(ODD($A18)=$A18,ODD(BY$2)=BY$2),AND(EVEN($A18)=$A18,EVEN(BY$2)=BY$2)),BY$1,-100))","v":1396.875},{"$f":"IF('Ceiling Speaker Calculator'!$C$29=\"Square\",BZ$1,IF(OR(AND(ODD($A18)=$A18,ODD(BZ$2)=BZ$2),AND(EVEN($A18)=$A18,EVEN(BZ$2)=BZ$2)),BZ$1,-100))","v":1415.625},{"$f":"IF('Ceiling Speaker Calculator'!$C$29=\"Square\",CA$1,IF(OR(AND(ODD($A18)=$A18,ODD(CA$2)=CA$2),AND(EVEN($A18)=$A18,EVEN(CA$2)=CA$2)),CA$1,-100))","v":1434.375},{"$f":"IF('Ceiling Speaker Calculator'!$C$29=\"Square\",CB$1,IF(OR(AND(ODD($A18)=$A18,ODD(CB$2)=CB$2),AND(EVEN($A18)=$A18,EVEN(CB$2)=CB$2)),CB$1,-100))","v":1453.125},{"$f":"IF('Ceiling Speaker Calculator'!$C$29=\"Square\",CC$1,IF(OR(AND(ODD($A18)=$A18,ODD(CC$2)=CC$2),AND(EVEN($A18)=$A18,EVEN(CC$2)=CC$2)),CC$1,-100))","v":1471.875},{"$f":"IF('Ceiling Speaker Calculator'!$C$29=\"Square\",CD$1,IF(OR(AND(ODD($A18)=$A18,ODD(CD$2)=CD$2),AND(EVEN($A18)=$A18,EVEN(CD$2)=CD$2)),CD$1,-100))","v":1490.625},{"$f":"IF('Ceiling Speaker Calculator'!$C$29=\"Square\",CE$1,IF(OR(AND(ODD($A18)=$A18,ODD(CE$2)=CE$2),AND(EVEN($A18)=$A18,EVEN(CE$2)=CE$2)),CE$1,-100))","v":1509.375},{"$f":"IF('Ceiling Speaker Calculator'!$C$29=\"Square\",CF$1,IF(OR(AND(ODD($A18)=$A18,ODD(CF$2)=CF$2),AND(EVEN($A18)=$A18,EVEN(CF$2)=CF$2)),CF$1,-100))","v":1528.125},{"$f":"IF('Ceiling Speaker Calculator'!$C$29=\"Square\",CG$1,IF(OR(AND(ODD($A18)=$A18,ODD(CG$2)=CG$2),AND(EVEN($A18)=$A18,EVEN(CG$2)=CG$2)),CG$1,-100))","v":1546.875},{"$f":"IF('Ceiling Speaker Calculator'!$C$29=\"Square\",CH$1,IF(OR(AND(ODD($A18)=$A18,ODD(CH$2)=CH$2),AND(EVEN($A18)=$A18,EVEN(CH$2)=CH$2)),CH$1,-100))","v":1565.625},{"$f":"IF('Ceiling Speaker Calculator'!$C$29=\"Square\",CI$1,IF(OR(AND(ODD($A18)=$A18,ODD(CI$2)=CI$2),AND(EVEN($A18)=$A18,EVEN(CI$2)=CI$2)),CI$1,-100))","v":1584.375},{"$f":"IF('Ceiling Speaker Calculator'!$C$29=\"Square\",CJ$1,IF(OR(AND(ODD($A18)=$A18,ODD(CJ$2)=CJ$2),AND(EVEN($A18)=$A18,EVEN(CJ$2)=CJ$2)),CJ$1,-100))","v":1603.125},{"$f":"IF('Ceiling Speaker Calculator'!$C$29=\"Square\",CK$1,IF(OR(AND(ODD($A18)=$A18,ODD(CK$2)=CK$2),AND(EVEN($A18)=$A18,EVEN(CK$2)=CK$2)),CK$1,-100))","v":1621.875},{"$f":"IF('Ceiling Speaker Calculator'!$C$29=\"Square\",CL$1,IF(OR(AND(ODD($A18)=$A18,ODD(CL$2)=CL$2),AND(EVEN($A18)=$A18,EVEN(CL$2)=CL$2)),CL$1,-100))","v":1640.625},{"$f":"IF('Ceiling Speaker Calculator'!$C$29=\"Square\",CM$1,IF(OR(AND(ODD($A18)=$A18,ODD(CM$2)=CM$2),AND(EVEN($A18)=$A18,EVEN(CM$2)=CM$2)),CM$1,-100))","v":1659.375},{"$f":"IF('Ceiling Speaker Calculator'!$C$29=\"Square\",CN$1,IF(OR(AND(ODD($A18)=$A18,ODD(CN$2)=CN$2),AND(EVEN($A18)=$A18,EVEN(CN$2)=CN$2)),CN$1,-100))","v":1678.125},{"$f":"IF('Ceiling Speaker Calculator'!$C$29=\"Square\",CO$1,IF(OR(AND(ODD($A18)=$A18,ODD(CO$2)=CO$2),AND(EVEN($A18)=$A18,EVEN(CO$2)=CO$2)),CO$1,-100))","v":1696.875},{"$f":"IF('Ceiling Speaker Calculator'!$C$29=\"Square\",CP$1,IF(OR(AND(ODD($A18)=$A18,ODD(CP$2)=CP$2),AND(EVEN($A18)=$A18,EVEN(CP$2)=CP$2)),CP$1,-100))","v":1715.625},{"$f":"IF('Ceiling Speaker Calculator'!$C$29=\"Square\",CQ$1,IF(OR(AND(ODD($A18)=$A18,ODD(CQ$2)=CQ$2),AND(EVEN($A18)=$A18,EVEN(CQ$2)=CQ$2)),CQ$1,-100))","v":1734.375},{"$f":"IF('Ceiling Speaker Calculator'!$C$29=\"Square\",CR$1,IF(OR(AND(ODD($A18)=$A18,ODD(CR$2)=CR$2),AND(EVEN($A18)=$A18,EVEN(CR$2)=CR$2)),CR$1,-100))","v":1753.125},{"$f":"IF('Ceiling Speaker Calculator'!$C$29=\"Square\",CS$1,IF(OR(AND(ODD($A18)=$A18,ODD(CS$2)=CS$2),AND(EVEN($A18)=$A18,EVEN(CS$2)=CS$2)),CS$1,-100))","v":1771.875},{"$f":"IF('Ceiling Speaker Calculator'!$C$29=\"Square\",CT$1,IF(OR(AND(ODD($A18)=$A18,ODD(CT$2)=CT$2),AND(EVEN($A18)=$A18,EVEN(CT$2)=CT$2)),CT$1,-100))","v":1790.625},{"$f":"IF('Ceiling Speaker Calculator'!$C$29=\"Square\",CU$1,IF(OR(AND(ODD($A18)=$A18,ODD(CU$2)=CU$2),AND(EVEN($A18)=$A18,EVEN(CU$2)=CU$2)),CU$1,-100))","v":1809.375},{"$f":"IF('Ceiling Speaker Calculator'!$C$29=\"Square\",CV$1,IF(OR(AND(ODD($A18)=$A18,ODD(CV$2)=CV$2),AND(EVEN($A18)=$A18,EVEN(CV$2)=CV$2)),CV$1,-100))","v":1828.125},{"$f":"IF('Ceiling Speaker Calculator'!$C$29=\"Square\",CW$1,IF(OR(AND(ODD($A18)=$A18,ODD(CW$2)=CW$2),AND(EVEN($A18)=$A18,EVEN(CW$2)=CW$2)),CW$1,-100))","v":1846.875},{"$f":"IF('Ceiling Speaker Calculator'!$C$29=\"Square\",CX$1,IF(OR(AND(ODD($A18)=$A18,ODD(CX$2)=CX$2),AND(EVEN($A18)=$A18,EVEN(CX$2)=CX$2)),CX$1,-100))","v":1865.625}]
[17,{"$f":"B18+'Ceiling Speaker Calculator'!$K$16","v":330},{"$f":"IF('Ceiling Speaker Calculator'!$C$29=\"Square\",C$1,IF(OR(AND(ODD($A19)=$A19,ODD(C$2)=C$2),AND(EVEN($A19)=$A19,EVEN(C$2)=C$2)),C$1,-100))","v":9.375},{"$f":"IF('Ceiling Speaker Calculator'!$C$29=\"Square\",D$1,IF(OR(AND(ODD($A19)=$A19,ODD(D$2)=D$2),AND(EVEN($A19)=$A19,EVEN(D$2)=D$2)),D$1,-100))","v":28.125},{"$f":"IF('Ceiling Speaker Calculator'!$C$29=\"Square\",E$1,IF(OR(AND(ODD($A19)=$A19,ODD(E$2)=E$2),AND(EVEN($A19)=$A19,EVEN(E$2)=E$2)),E$1,-100))","v":46.875},{"$f":"IF('Ceiling Speaker Calculator'!$C$29=\"Square\",F$1,IF(OR(AND(ODD($A19)=$A19,ODD(F$2)=F$2),AND(EVEN($A19)=$A19,EVEN(F$2)=F$2)),F$1,-100))","v":65.625},{"$f":"IF('Ceiling Speaker Calculator'!$C$29=\"Square\",G$1,IF(OR(AND(ODD($A19)=$A19,ODD(G$2)=G$2),AND(EVEN($A19)=$A19,EVEN(G$2)=G$2)),G$1,-100))","v":84.375},{"$f":"IF('Ceiling Speaker Calculator'!$C$29=\"Square\",H$1,IF(OR(AND(ODD($A19)=$A19,ODD(H$2)=H$2),AND(EVEN($A19)=$A19,EVEN(H$2)=H$2)),H$1,-100))","v":103.125},{"$f":"IF('Ceiling Speaker Calculator'!$C$29=\"Square\",I$1,IF(OR(AND(ODD($A19)=$A19,ODD(I$2)=I$2),AND(EVEN($A19)=$A19,EVEN(I$2)=I$2)),I$1,-100))","v":121.875},{"$f":"IF('Ceiling Speaker Calculator'!$C$29=\"Square\",J$1,IF(OR(AND(ODD($A19)=$A19,ODD(J$2)=J$2),AND(EVEN($A19)=$A19,EVEN(J$2)=J$2)),J$1,-100))","v":140.625},{"$f":"IF('Ceiling Speaker Calculator'!$C$29=\"Square\",K$1,IF(OR(AND(ODD($A19)=$A19,ODD(K$2)=K$2),AND(EVEN($A19)=$A19,EVEN(K$2)=K$2)),K$1,-100))","v":159.375},{"$f":"IF('Ceiling Speaker Calculator'!$C$29=\"Square\",L$1,IF(OR(AND(ODD($A19)=$A19,ODD(L$2)=L$2),AND(EVEN($A19)=$A19,EVEN(L$2)=L$2)),L$1,-100))","v":178.125},{"$f":"IF('Ceiling Speaker Calculator'!$C$29=\"Square\",M$1,IF(OR(AND(ODD($A19)=$A19,ODD(M$2)=M$2),AND(EVEN($A19)=$A19,EVEN(M$2)=M$2)),M$1,-100))","v":196.875},{"$f":"IF('Ceiling Speaker Calculator'!$C$29=\"Square\",N$1,IF(OR(AND(ODD($A19)=$A19,ODD(N$2)=N$2),AND(EVEN($A19)=$A19,EVEN(N$2)=N$2)),N$1,-100))","v":215.625},{"$f":"IF('Ceiling Speaker Calculator'!$C$29=\"Square\",O$1,IF(OR(AND(ODD($A19)=$A19,ODD(O$2)=O$2),AND(EVEN($A19)=$A19,EVEN(O$2)=O$2)),O$1,-100))","v":234.375},{"$f":"IF('Ceiling Speaker Calculator'!$C$29=\"Square\",P$1,IF(OR(AND(ODD($A19)=$A19,ODD(P$2)=P$2),AND(EVEN($A19)=$A19,EVEN(P$2)=P$2)),P$1,-100))","v":253.125},{"$f":"IF('Ceiling Speaker Calculator'!$C$29=\"Square\",Q$1,IF(OR(AND(ODD($A19)=$A19,ODD(Q$2)=Q$2),AND(EVEN($A19)=$A19,EVEN(Q$2)=Q$2)),Q$1,-100))","v":271.875},{"$f":"IF('Ceiling Speaker Calculator'!$C$29=\"Square\",R$1,IF(OR(AND(ODD($A19)=$A19,ODD(R$2)=R$2),AND(EVEN($A19)=$A19,EVEN(R$2)=R$2)),R$1,-100))","v":290.625},{"$f":"IF('Ceiling Speaker Calculator'!$C$29=\"Square\",S$1,IF(OR(AND(ODD($A19)=$A19,ODD(S$2)=S$2),AND(EVEN($A19)=$A19,EVEN(S$2)=S$2)),S$1,-100))","v":309.375},{"$f":"IF('Ceiling Speaker Calculator'!$C$29=\"Square\",T$1,IF(OR(AND(ODD($A19)=$A19,ODD(T$2)=T$2),AND(EVEN($A19)=$A19,EVEN(T$2)=T$2)),T$1,-100))","v":328.125},{"$f":"IF('Ceiling Speaker Calculator'!$C$29=\"Square\",U$1,IF(OR(AND(ODD($A19)=$A19,ODD(U$2)=U$2),AND(EVEN($A19)=$A19,EVEN(U$2)=U$2)),U$1,-100))","v":346.875},{"$f":"IF('Ceiling Speaker Calculator'!$C$29=\"Square\",V$1,IF(OR(AND(ODD($A19)=$A19,ODD(V$2)=V$2),AND(EVEN($A19)=$A19,EVEN(V$2)=V$2)),V$1,-100))","v":365.625},{"$f":"IF('Ceiling Speaker Calculator'!$C$29=\"Square\",W$1,IF(OR(AND(ODD($A19)=$A19,ODD(W$2)=W$2),AND(EVEN($A19)=$A19,EVEN(W$2)=W$2)),W$1,-100))","v":384.375},{"$f":"IF('Ceiling Speaker Calculator'!$C$29=\"Square\",X$1,IF(OR(AND(ODD($A19)=$A19,ODD(X$2)=X$2),AND(EVEN($A19)=$A19,EVEN(X$2)=X$2)),X$1,-100))","v":403.125},{"$f":"IF('Ceiling Speaker Calculator'!$C$29=\"Square\",Y$1,IF(OR(AND(ODD($A19)=$A19,ODD(Y$2)=Y$2),AND(EVEN($A19)=$A19,EVEN(Y$2)=Y$2)),Y$1,-100))","v":421.875},{"$f":"IF('Ceiling Speaker Calculator'!$C$29=\"Square\",Z$1,IF(OR(AND(ODD($A19)=$A19,ODD(Z$2)=Z$2),AND(EVEN($A19)=$A19,EVEN(Z$2)=Z$2)),Z$1,-100))","v":440.625},{"$f":"IF('Ceiling Speaker Calculator'!$C$29=\"Square\",AA$1,IF(OR(AND(ODD($A19)=$A19,ODD(AA$2)=AA$2),AND(EVEN($A19)=$A19,EVEN(AA$2)=AA$2)),AA$1,-100))","v":459.375},{"$f":"IF('Ceiling Speaker Calculator'!$C$29=\"Square\",AB$1,IF(OR(AND(ODD($A19)=$A19,ODD(AB$2)=AB$2),AND(EVEN($A19)=$A19,EVEN(AB$2)=AB$2)),AB$1,-100))","v":478.125},{"$f":"IF('Ceiling Speaker Calculator'!$C$29=\"Square\",AC$1,IF(OR(AND(ODD($A19)=$A19,ODD(AC$2)=AC$2),AND(EVEN($A19)=$A19,EVEN(AC$2)=AC$2)),AC$1,-100))","v":496.875},{"$f":"IF('Ceiling Speaker Calculator'!$C$29=\"Square\",AD$1,IF(OR(AND(ODD($A19)=$A19,ODD(AD$2)=AD$2),AND(EVEN($A19)=$A19,EVEN(AD$2)=AD$2)),AD$1,-100))","v":515.625},{"$f":"IF('Ceiling Speaker Calculator'!$C$29=\"Square\",AE$1,IF(OR(AND(ODD($A19)=$A19,ODD(AE$2)=AE$2),AND(EVEN($A19)=$A19,EVEN(AE$2)=AE$2)),AE$1,-100))","v":534.375},{"$f":"IF('Ceiling Speaker Calculator'!$C$29=\"Square\",AF$1,IF(OR(AND(ODD($A19)=$A19,ODD(AF$2)=AF$2),AND(EVEN($A19)=$A19,EVEN(AF$2)=AF$2)),AF$1,-100))","v":553.125},{"$f":"IF('Ceiling Speaker Calculator'!$C$29=\"Square\",AG$1,IF(OR(AND(ODD($A19)=$A19,ODD(AG$2)=AG$2),AND(EVEN($A19)=$A19,EVEN(AG$2)=AG$2)),AG$1,-100))","v":571.875},{"$f":"IF('Ceiling Speaker Calculator'!$C$29=\"Square\",AH$1,IF(OR(AND(ODD($A19)=$A19,ODD(AH$2)=AH$2),AND(EVEN($A19)=$A19,EVEN(AH$2)=AH$2)),AH$1,-100))","v":590.625},{"$f":"IF('Ceiling Speaker Calculator'!$C$29=\"Square\",AI$1,IF(OR(AND(ODD($A19)=$A19,ODD(AI$2)=AI$2),AND(EVEN($A19)=$A19,EVEN(AI$2)=AI$2)),AI$1,-100))","v":609.375},{"$f":"IF('Ceiling Speaker Calculator'!$C$29=\"Square\",AJ$1,IF(OR(AND(ODD($A19)=$A19,ODD(AJ$2)=AJ$2),AND(EVEN($A19)=$A19,EVEN(AJ$2)=AJ$2)),AJ$1,-100))","v":628.125},{"$f":"IF('Ceiling Speaker Calculator'!$C$29=\"Square\",AK$1,IF(OR(AND(ODD($A19)=$A19,ODD(AK$2)=AK$2),AND(EVEN($A19)=$A19,EVEN(AK$2)=AK$2)),AK$1,-100))","v":646.875},{"$f":"IF('Ceiling Speaker Calculator'!$C$29=\"Square\",AL$1,IF(OR(AND(ODD($A19)=$A19,ODD(AL$2)=AL$2),AND(EVEN($A19)=$A19,EVEN(AL$2)=AL$2)),AL$1,-100))","v":665.625},{"$f":"IF('Ceiling Speaker Calculator'!$C$29=\"Square\",AM$1,IF(OR(AND(ODD($A19)=$A19,ODD(AM$2)=AM$2),AND(EVEN($A19)=$A19,EVEN(AM$2)=AM$2)),AM$1,-100))","v":684.375},{"$f":"IF('Ceiling Speaker Calculator'!$C$29=\"Square\",AN$1,IF(OR(AND(ODD($A19)=$A19,ODD(AN$2)=AN$2),AND(EVEN($A19)=$A19,EVEN(AN$2)=AN$2)),AN$1,-100))","v":703.125},{"$f":"IF('Ceiling Speaker Calculator'!$C$29=\"Square\",AO$1,IF(OR(AND(ODD($A19)=$A19,ODD(AO$2)=AO$2),AND(EVEN($A19)=$A19,EVEN(AO$2)=AO$2)),AO$1,-100))","v":721.875},{"$f":"IF('Ceiling Speaker Calculator'!$C$29=\"Square\",AP$1,IF(OR(AND(ODD($A19)=$A19,ODD(AP$2)=AP$2),AND(EVEN($A19)=$A19,EVEN(AP$2)=AP$2)),AP$1,-100))","v":740.625},{"$f":"IF('Ceiling Speaker Calculator'!$C$29=\"Square\",AQ$1,IF(OR(AND(ODD($A19)=$A19,ODD(AQ$2)=AQ$2),AND(EVEN($A19)=$A19,EVEN(AQ$2)=AQ$2)),AQ$1,-100))","v":759.375},{"$f":"IF('Ceiling Speaker Calculator'!$C$29=\"Square\",AR$1,IF(OR(AND(ODD($A19)=$A19,ODD(AR$2)=AR$2),AND(EVEN($A19)=$A19,EVEN(AR$2)=AR$2)),AR$1,-100))","v":778.125},{"$f":"IF('Ceiling Speaker Calculator'!$C$29=\"Square\",AS$1,IF(OR(AND(ODD($A19)=$A19,ODD(AS$2)=AS$2),AND(EVEN($A19)=$A19,EVEN(AS$2)=AS$2)),AS$1,-100))","v":796.875},{"$f":"IF('Ceiling Speaker Calculator'!$C$29=\"Square\",AT$1,IF(OR(AND(ODD($A19)=$A19,ODD(AT$2)=AT$2),AND(EVEN($A19)=$A19,EVEN(AT$2)=AT$2)),AT$1,-100))","v":815.625},{"$f":"IF('Ceiling Speaker Calculator'!$C$29=\"Square\",AU$1,IF(OR(AND(ODD($A19)=$A19,ODD(AU$2)=AU$2),AND(EVEN($A19)=$A19,EVEN(AU$2)=AU$2)),AU$1,-100))","v":834.375},{"$f":"IF('Ceiling Speaker Calculator'!$C$29=\"Square\",AV$1,IF(OR(AND(ODD($A19)=$A19,ODD(AV$2)=AV$2),AND(EVEN($A19)=$A19,EVEN(AV$2)=AV$2)),AV$1,-100))","v":853.125},{"$f":"IF('Ceiling Speaker Calculator'!$C$29=\"Square\",AW$1,IF(OR(AND(ODD($A19)=$A19,ODD(AW$2)=AW$2),AND(EVEN($A19)=$A19,EVEN(AW$2)=AW$2)),AW$1,-100))","v":871.875},{"$f":"IF('Ceiling Speaker Calculator'!$C$29=\"Square\",AX$1,IF(OR(AND(ODD($A19)=$A19,ODD(AX$2)=AX$2),AND(EVEN($A19)=$A19,EVEN(AX$2)=AX$2)),AX$1,-100))","v":890.625},{"$f":"IF('Ceiling Speaker Calculator'!$C$29=\"Square\",AY$1,IF(OR(AND(ODD($A19)=$A19,ODD(AY$2)=AY$2),AND(EVEN($A19)=$A19,EVEN(AY$2)=AY$2)),AY$1,-100))","v":909.375},{"$f":"IF('Ceiling Speaker Calculator'!$C$29=\"Square\",AZ$1,IF(OR(AND(ODD($A19)=$A19,ODD(AZ$2)=AZ$2),AND(EVEN($A19)=$A19,EVEN(AZ$2)=AZ$2)),AZ$1,-100))","v":928.125},{"$f":"IF('Ceiling Speaker Calculator'!$C$29=\"Square\",BA$1,IF(OR(AND(ODD($A19)=$A19,ODD(BA$2)=BA$2),AND(EVEN($A19)=$A19,EVEN(BA$2)=BA$2)),BA$1,-100))","v":946.875},{"$f":"IF('Ceiling Speaker Calculator'!$C$29=\"Square\",BB$1,IF(OR(AND(ODD($A19)=$A19,ODD(BB$2)=BB$2),AND(EVEN($A19)=$A19,EVEN(BB$2)=BB$2)),BB$1,-100))","v":965.625},{"$f":"IF('Ceiling Speaker Calculator'!$C$29=\"Square\",BC$1,IF(OR(AND(ODD($A19)=$A19,ODD(BC$2)=BC$2),AND(EVEN($A19)=$A19,EVEN(BC$2)=BC$2)),BC$1,-100))","v":984.375},{"$f":"IF('Ceiling Speaker Calculator'!$C$29=\"Square\",BD$1,IF(OR(AND(ODD($A19)=$A19,ODD(BD$2)=BD$2),AND(EVEN($A19)=$A19,EVEN(BD$2)=BD$2)),BD$1,-100))","v":1003.125},{"$f":"IF('Ceiling Speaker Calculator'!$C$29=\"Square\",BE$1,IF(OR(AND(ODD($A19)=$A19,ODD(BE$2)=BE$2),AND(EVEN($A19)=$A19,EVEN(BE$2)=BE$2)),BE$1,-100))","v":1021.875},{"$f":"IF('Ceiling Speaker Calculator'!$C$29=\"Square\",BF$1,IF(OR(AND(ODD($A19)=$A19,ODD(BF$2)=BF$2),AND(EVEN($A19)=$A19,EVEN(BF$2)=BF$2)),BF$1,-100))","v":1040.625},{"$f":"IF('Ceiling Speaker Calculator'!$C$29=\"Square\",BG$1,IF(OR(AND(ODD($A19)=$A19,ODD(BG$2)=BG$2),AND(EVEN($A19)=$A19,EVEN(BG$2)=BG$2)),BG$1,-100))","v":1059.375},{"$f":"IF('Ceiling Speaker Calculator'!$C$29=\"Square\",BH$1,IF(OR(AND(ODD($A19)=$A19,ODD(BH$2)=BH$2),AND(EVEN($A19)=$A19,EVEN(BH$2)=BH$2)),BH$1,-100))","v":1078.125},{"$f":"IF('Ceiling Speaker Calculator'!$C$29=\"Square\",BI$1,IF(OR(AND(ODD($A19)=$A19,ODD(BI$2)=BI$2),AND(EVEN($A19)=$A19,EVEN(BI$2)=BI$2)),BI$1,-100))","v":1096.875},{"$f":"IF('Ceiling Speaker Calculator'!$C$29=\"Square\",BJ$1,IF(OR(AND(ODD($A19)=$A19,ODD(BJ$2)=BJ$2),AND(EVEN($A19)=$A19,EVEN(BJ$2)=BJ$2)),BJ$1,-100))","v":1115.625},{"$f":"IF('Ceiling Speaker Calculator'!$C$29=\"Square\",BK$1,IF(OR(AND(ODD($A19)=$A19,ODD(BK$2)=BK$2),AND(EVEN($A19)=$A19,EVEN(BK$2)=BK$2)),BK$1,-100))","v":1134.375},{"$f":"IF('Ceiling Speaker Calculator'!$C$29=\"Square\",BL$1,IF(OR(AND(ODD($A19)=$A19,ODD(BL$2)=BL$2),AND(EVEN($A19)=$A19,EVEN(BL$2)=BL$2)),BL$1,-100))","v":1153.125},{"$f":"IF('Ceiling Speaker Calculator'!$C$29=\"Square\",BM$1,IF(OR(AND(ODD($A19)=$A19,ODD(BM$2)=BM$2),AND(EVEN($A19)=$A19,EVEN(BM$2)=BM$2)),BM$1,-100))","v":1171.875},{"$f":"IF('Ceiling Speaker Calculator'!$C$29=\"Square\",BN$1,IF(OR(AND(ODD($A19)=$A19,ODD(BN$2)=BN$2),AND(EVEN($A19)=$A19,EVEN(BN$2)=BN$2)),BN$1,-100))","v":1190.625},{"$f":"IF('Ceiling Speaker Calculator'!$C$29=\"Square\",BO$1,IF(OR(AND(ODD($A19)=$A19,ODD(BO$2)=BO$2),AND(EVEN($A19)=$A19,EVEN(BO$2)=BO$2)),BO$1,-100))","v":1209.375},{"$f":"IF('Ceiling Speaker Calculator'!$C$29=\"Square\",BP$1,IF(OR(AND(ODD($A19)=$A19,ODD(BP$2)=BP$2),AND(EVEN($A19)=$A19,EVEN(BP$2)=BP$2)),BP$1,-100))","v":1228.125},{"$f":"IF('Ceiling Speaker Calculator'!$C$29=\"Square\",BQ$1,IF(OR(AND(ODD($A19)=$A19,ODD(BQ$2)=BQ$2),AND(EVEN($A19)=$A19,EVEN(BQ$2)=BQ$2)),BQ$1,-100))","v":1246.875},{"$f":"IF('Ceiling Speaker Calculator'!$C$29=\"Square\",BR$1,IF(OR(AND(ODD($A19)=$A19,ODD(BR$2)=BR$2),AND(EVEN($A19)=$A19,EVEN(BR$2)=BR$2)),BR$1,-100))","v":1265.625},{"$f":"IF('Ceiling Speaker Calculator'!$C$29=\"Square\",BS$1,IF(OR(AND(ODD($A19)=$A19,ODD(BS$2)=BS$2),AND(EVEN($A19)=$A19,EVEN(BS$2)=BS$2)),BS$1,-100))","v":1284.375},{"$f":"IF('Ceiling Speaker Calculator'!$C$29=\"Square\",BT$1,IF(OR(AND(ODD($A19)=$A19,ODD(BT$2)=BT$2),AND(EVEN($A19)=$A19,EVEN(BT$2)=BT$2)),BT$1,-100))","v":1303.125},{"$f":"IF('Ceiling Speaker Calculator'!$C$29=\"Square\",BU$1,IF(OR(AND(ODD($A19)=$A19,ODD(BU$2)=BU$2),AND(EVEN($A19)=$A19,EVEN(BU$2)=BU$2)),BU$1,-100))","v":1321.875},{"$f":"IF('Ceiling Speaker Calculator'!$C$29=\"Square\",BV$1,IF(OR(AND(ODD($A19)=$A19,ODD(BV$2)=BV$2),AND(EVEN($A19)=$A19,EVEN(BV$2)=BV$2)),BV$1,-100))","v":1340.625},{"$f":"IF('Ceiling Speaker Calculator'!$C$29=\"Square\",BW$1,IF(OR(AND(ODD($A19)=$A19,ODD(BW$2)=BW$2),AND(EVEN($A19)=$A19,EVEN(BW$2)=BW$2)),BW$1,-100))","v":1359.375},{"$f":"IF('Ceiling Speaker Calculator'!$C$29=\"Square\",BX$1,IF(OR(AND(ODD($A19)=$A19,ODD(BX$2)=BX$2),AND(EVEN($A19)=$A19,EVEN(BX$2)=BX$2)),BX$1,-100))","v":1378.125},{"$f":"IF('Ceiling Speaker Calculator'!$C$29=\"Square\",BY$1,IF(OR(AND(ODD($A19)=$A19,ODD(BY$2)=BY$2),AND(EVEN($A19)=$A19,EVEN(BY$2)=BY$2)),BY$1,-100))","v":1396.875},{"$f":"IF('Ceiling Speaker Calculator'!$C$29=\"Square\",BZ$1,IF(OR(AND(ODD($A19)=$A19,ODD(BZ$2)=BZ$2),AND(EVEN($A19)=$A19,EVEN(BZ$2)=BZ$2)),BZ$1,-100))","v":1415.625},{"$f":"IF('Ceiling Speaker Calculator'!$C$29=\"Square\",CA$1,IF(OR(AND(ODD($A19)=$A19,ODD(CA$2)=CA$2),AND(EVEN($A19)=$A19,EVEN(CA$2)=CA$2)),CA$1,-100))","v":1434.375},{"$f":"IF('Ceiling Speaker Calculator'!$C$29=\"Square\",CB$1,IF(OR(AND(ODD($A19)=$A19,ODD(CB$2)=CB$2),AND(EVEN($A19)=$A19,EVEN(CB$2)=CB$2)),CB$1,-100))","v":1453.125},{"$f":"IF('Ceiling Speaker Calculator'!$C$29=\"Square\",CC$1,IF(OR(AND(ODD($A19)=$A19,ODD(CC$2)=CC$2),AND(EVEN($A19)=$A19,EVEN(CC$2)=CC$2)),CC$1,-100))","v":1471.875},{"$f":"IF('Ceiling Speaker Calculator'!$C$29=\"Square\",CD$1,IF(OR(AND(ODD($A19)=$A19,ODD(CD$2)=CD$2),AND(EVEN($A19)=$A19,EVEN(CD$2)=CD$2)),CD$1,-100))","v":1490.625},{"$f":"IF('Ceiling Speaker Calculator'!$C$29=\"Square\",CE$1,IF(OR(AND(ODD($A19)=$A19,ODD(CE$2)=CE$2),AND(EVEN($A19)=$A19,EVEN(CE$2)=CE$2)),CE$1,-100))","v":1509.375},{"$f":"IF('Ceiling Speaker Calculator'!$C$29=\"Square\",CF$1,IF(OR(AND(ODD($A19)=$A19,ODD(CF$2)=CF$2),AND(EVEN($A19)=$A19,EVEN(CF$2)=CF$2)),CF$1,-100))","v":1528.125},{"$f":"IF('Ceiling Speaker Calculator'!$C$29=\"Square\",CG$1,IF(OR(AND(ODD($A19)=$A19,ODD(CG$2)=CG$2),AND(EVEN($A19)=$A19,EVEN(CG$2)=CG$2)),CG$1,-100))","v":1546.875},{"$f":"IF('Ceiling Speaker Calculator'!$C$29=\"Square\",CH$1,IF(OR(AND(ODD($A19)=$A19,ODD(CH$2)=CH$2),AND(EVEN($A19)=$A19,EVEN(CH$2)=CH$2)),CH$1,-100))","v":1565.625},{"$f":"IF('Ceiling Speaker Calculator'!$C$29=\"Square\",CI$1,IF(OR(AND(ODD($A19)=$A19,ODD(CI$2)=CI$2),AND(EVEN($A19)=$A19,EVEN(CI$2)=CI$2)),CI$1,-100))","v":1584.375},{"$f":"IF('Ceiling Speaker Calculator'!$C$29=\"Square\",CJ$1,IF(OR(AND(ODD($A19)=$A19,ODD(CJ$2)=CJ$2),AND(EVEN($A19)=$A19,EVEN(CJ$2)=CJ$2)),CJ$1,-100))","v":1603.125},{"$f":"IF('Ceiling Speaker Calculator'!$C$29=\"Square\",CK$1,IF(OR(AND(ODD($A19)=$A19,ODD(CK$2)=CK$2),AND(EVEN($A19)=$A19,EVEN(CK$2)=CK$2)),CK$1,-100))","v":1621.875},{"$f":"IF('Ceiling Speaker Calculator'!$C$29=\"Square\",CL$1,IF(OR(AND(ODD($A19)=$A19,ODD(CL$2)=CL$2),AND(EVEN($A19)=$A19,EVEN(CL$2)=CL$2)),CL$1,-100))","v":1640.625},{"$f":"IF('Ceiling Speaker Calculator'!$C$29=\"Square\",CM$1,IF(OR(AND(ODD($A19)=$A19,ODD(CM$2)=CM$2),AND(EVEN($A19)=$A19,EVEN(CM$2)=CM$2)),CM$1,-100))","v":1659.375},{"$f":"IF('Ceiling Speaker Calculator'!$C$29=\"Square\",CN$1,IF(OR(AND(ODD($A19)=$A19,ODD(CN$2)=CN$2),AND(EVEN($A19)=$A19,EVEN(CN$2)=CN$2)),CN$1,-100))","v":1678.125},{"$f":"IF('Ceiling Speaker Calculator'!$C$29=\"Square\",CO$1,IF(OR(AND(ODD($A19)=$A19,ODD(CO$2)=CO$2),AND(EVEN($A19)=$A19,EVEN(CO$2)=CO$2)),CO$1,-100))","v":1696.875},{"$f":"IF('Ceiling Speaker Calculator'!$C$29=\"Square\",CP$1,IF(OR(AND(ODD($A19)=$A19,ODD(CP$2)=CP$2),AND(EVEN($A19)=$A19,EVEN(CP$2)=CP$2)),CP$1,-100))","v":1715.625},{"$f":"IF('Ceiling Speaker Calculator'!$C$29=\"Square\",CQ$1,IF(OR(AND(ODD($A19)=$A19,ODD(CQ$2)=CQ$2),AND(EVEN($A19)=$A19,EVEN(CQ$2)=CQ$2)),CQ$1,-100))","v":1734.375},{"$f":"IF('Ceiling Speaker Calculator'!$C$29=\"Square\",CR$1,IF(OR(AND(ODD($A19)=$A19,ODD(CR$2)=CR$2),AND(EVEN($A19)=$A19,EVEN(CR$2)=CR$2)),CR$1,-100))","v":1753.125},{"$f":"IF('Ceiling Speaker Calculator'!$C$29=\"Square\",CS$1,IF(OR(AND(ODD($A19)=$A19,ODD(CS$2)=CS$2),AND(EVEN($A19)=$A19,EVEN(CS$2)=CS$2)),CS$1,-100))","v":1771.875},{"$f":"IF('Ceiling Speaker Calculator'!$C$29=\"Square\",CT$1,IF(OR(AND(ODD($A19)=$A19,ODD(CT$2)=CT$2),AND(EVEN($A19)=$A19,EVEN(CT$2)=CT$2)),CT$1,-100))","v":1790.625},{"$f":"IF('Ceiling Speaker Calculator'!$C$29=\"Square\",CU$1,IF(OR(AND(ODD($A19)=$A19,ODD(CU$2)=CU$2),AND(EVEN($A19)=$A19,EVEN(CU$2)=CU$2)),CU$1,-100))","v":1809.375},{"$f":"IF('Ceiling Speaker Calculator'!$C$29=\"Square\",CV$1,IF(OR(AND(ODD($A19)=$A19,ODD(CV$2)=CV$2),AND(EVEN($A19)=$A19,EVEN(CV$2)=CV$2)),CV$1,-100))","v":1828.125},{"$f":"IF('Ceiling Speaker Calculator'!$C$29=\"Square\",CW$1,IF(OR(AND(ODD($A19)=$A19,ODD(CW$2)=CW$2),AND(EVEN($A19)=$A19,EVEN(CW$2)=CW$2)),CW$1,-100))","v":1846.875},{"$f":"IF('Ceiling Speaker Calculator'!$C$29=\"Square\",CX$1,IF(OR(AND(ODD($A19)=$A19,ODD(CX$2)=CX$2),AND(EVEN($A19)=$A19,EVEN(CX$2)=CX$2)),CX$1,-100))","v":1865.625}]
[18,{"$f":"B19+'Ceiling Speaker Calculator'!$K$16","v":350},{"$f":"IF('Ceiling Speaker Calculator'!$C$29=\"Square\",C$1,IF(OR(AND(ODD($A20)=$A20,ODD(C$2)=C$2),AND(EVEN($A20)=$A20,EVEN(C$2)=C$2)),C$1,-100))","v":9.375},{"$f":"IF('Ceiling Speaker Calculator'!$C$29=\"Square\",D$1,IF(OR(AND(ODD($A20)=$A20,ODD(D$2)=D$2),AND(EVEN($A20)=$A20,EVEN(D$2)=D$2)),D$1,-100))","v":28.125},{"$f":"IF('Ceiling Speaker Calculator'!$C$29=\"Square\",E$1,IF(OR(AND(ODD($A20)=$A20,ODD(E$2)=E$2),AND(EVEN($A20)=$A20,EVEN(E$2)=E$2)),E$1,-100))","v":46.875},{"$f":"IF('Ceiling Speaker Calculator'!$C$29=\"Square\",F$1,IF(OR(AND(ODD($A20)=$A20,ODD(F$2)=F$2),AND(EVEN($A20)=$A20,EVEN(F$2)=F$2)),F$1,-100))","v":65.625},{"$f":"IF('Ceiling Speaker Calculator'!$C$29=\"Square\",G$1,IF(OR(AND(ODD($A20)=$A20,ODD(G$2)=G$2),AND(EVEN($A20)=$A20,EVEN(G$2)=G$2)),G$1,-100))","v":84.375},{"$f":"IF('Ceiling Speaker Calculator'!$C$29=\"Square\",H$1,IF(OR(AND(ODD($A20)=$A20,ODD(H$2)=H$2),AND(EVEN($A20)=$A20,EVEN(H$2)=H$2)),H$1,-100))","v":103.125},{"$f":"IF('Ceiling Speaker Calculator'!$C$29=\"Square\",I$1,IF(OR(AND(ODD($A20)=$A20,ODD(I$2)=I$2),AND(EVEN($A20)=$A20,EVEN(I$2)=I$2)),I$1,-100))","v":121.875},{"$f":"IF('Ceiling Speaker Calculator'!$C$29=\"Square\",J$1,IF(OR(AND(ODD($A20)=$A20,ODD(J$2)=J$2),AND(EVEN($A20)=$A20,EVEN(J$2)=J$2)),J$1,-100))","v":140.625},{"$f":"IF('Ceiling Speaker Calculator'!$C$29=\"Square\",K$1,IF(OR(AND(ODD($A20)=$A20,ODD(K$2)=K$2),AND(EVEN($A20)=$A20,EVEN(K$2)=K$2)),K$1,-100))","v":159.375},{"$f":"IF('Ceiling Speaker Calculator'!$C$29=\"Square\",L$1,IF(OR(AND(ODD($A20)=$A20,ODD(L$2)=L$2),AND(EVEN($A20)=$A20,EVEN(L$2)=L$2)),L$1,-100))","v":178.125},{"$f":"IF('Ceiling Speaker Calculator'!$C$29=\"Square\",M$1,IF(OR(AND(ODD($A20)=$A20,ODD(M$2)=M$2),AND(EVEN($A20)=$A20,EVEN(M$2)=M$2)),M$1,-100))","v":196.875},{"$f":"IF('Ceiling Speaker Calculator'!$C$29=\"Square\",N$1,IF(OR(AND(ODD($A20)=$A20,ODD(N$2)=N$2),AND(EVEN($A20)=$A20,EVEN(N$2)=N$2)),N$1,-100))","v":215.625},{"$f":"IF('Ceiling Speaker Calculator'!$C$29=\"Square\",O$1,IF(OR(AND(ODD($A20)=$A20,ODD(O$2)=O$2),AND(EVEN($A20)=$A20,EVEN(O$2)=O$2)),O$1,-100))","v":234.375},{"$f":"IF('Ceiling Speaker Calculator'!$C$29=\"Square\",P$1,IF(OR(AND(ODD($A20)=$A20,ODD(P$2)=P$2),AND(EVEN($A20)=$A20,EVEN(P$2)=P$2)),P$1,-100))","v":253.125},{"$f":"IF('Ceiling Speaker Calculator'!$C$29=\"Square\",Q$1,IF(OR(AND(ODD($A20)=$A20,ODD(Q$2)=Q$2),AND(EVEN($A20)=$A20,EVEN(Q$2)=Q$2)),Q$1,-100))","v":271.875},{"$f":"IF('Ceiling Speaker Calculator'!$C$29=\"Square\",R$1,IF(OR(AND(ODD($A20)=$A20,ODD(R$2)=R$2),AND(EVEN($A20)=$A20,EVEN(R$2)=R$2)),R$1,-100))","v":290.625},{"$f":"IF('Ceiling Speaker Calculator'!$C$29=\"Square\",S$1,IF(OR(AND(ODD($A20)=$A20,ODD(S$2)=S$2),AND(EVEN($A20)=$A20,EVEN(S$2)=S$2)),S$1,-100))","v":309.375},{"$f":"IF('Ceiling Speaker Calculator'!$C$29=\"Square\",T$1,IF(OR(AND(ODD($A20)=$A20,ODD(T$2)=T$2),AND(EVEN($A20)=$A20,EVEN(T$2)=T$2)),T$1,-100))","v":328.125},{"$f":"IF('Ceiling Speaker Calculator'!$C$29=\"Square\",U$1,IF(OR(AND(ODD($A20)=$A20,ODD(U$2)=U$2),AND(EVEN($A20)=$A20,EVEN(U$2)=U$2)),U$1,-100))","v":346.875},{"$f":"IF('Ceiling Speaker Calculator'!$C$29=\"Square\",V$1,IF(OR(AND(ODD($A20)=$A20,ODD(V$2)=V$2),AND(EVEN($A20)=$A20,EVEN(V$2)=V$2)),V$1,-100))","v":365.625},{"$f":"IF('Ceiling Speaker Calculator'!$C$29=\"Square\",W$1,IF(OR(AND(ODD($A20)=$A20,ODD(W$2)=W$2),AND(EVEN($A20)=$A20,EVEN(W$2)=W$2)),W$1,-100))","v":384.375},{"$f":"IF('Ceiling Speaker Calculator'!$C$29=\"Square\",X$1,IF(OR(AND(ODD($A20)=$A20,ODD(X$2)=X$2),AND(EVEN($A20)=$A20,EVEN(X$2)=X$2)),X$1,-100))","v":403.125},{"$f":"IF('Ceiling Speaker Calculator'!$C$29=\"Square\",Y$1,IF(OR(AND(ODD($A20)=$A20,ODD(Y$2)=Y$2),AND(EVEN($A20)=$A20,EVEN(Y$2)=Y$2)),Y$1,-100))","v":421.875},{"$f":"IF('Ceiling Speaker Calculator'!$C$29=\"Square\",Z$1,IF(OR(AND(ODD($A20)=$A20,ODD(Z$2)=Z$2),AND(EVEN($A20)=$A20,EVEN(Z$2)=Z$2)),Z$1,-100))","v":440.625},{"$f":"IF('Ceiling Speaker Calculator'!$C$29=\"Square\",AA$1,IF(OR(AND(ODD($A20)=$A20,ODD(AA$2)=AA$2),AND(EVEN($A20)=$A20,EVEN(AA$2)=AA$2)),AA$1,-100))","v":459.375},{"$f":"IF('Ceiling Speaker Calculator'!$C$29=\"Square\",AB$1,IF(OR(AND(ODD($A20)=$A20,ODD(AB$2)=AB$2),AND(EVEN($A20)=$A20,EVEN(AB$2)=AB$2)),AB$1,-100))","v":478.125},{"$f":"IF('Ceiling Speaker Calculator'!$C$29=\"Square\",AC$1,IF(OR(AND(ODD($A20)=$A20,ODD(AC$2)=AC$2),AND(EVEN($A20)=$A20,EVEN(AC$2)=AC$2)),AC$1,-100))","v":496.875},{"$f":"IF('Ceiling Speaker Calculator'!$C$29=\"Square\",AD$1,IF(OR(AND(ODD($A20)=$A20,ODD(AD$2)=AD$2),AND(EVEN($A20)=$A20,EVEN(AD$2)=AD$2)),AD$1,-100))","v":515.625},{"$f":"IF('Ceiling Speaker Calculator'!$C$29=\"Square\",AE$1,IF(OR(AND(ODD($A20)=$A20,ODD(AE$2)=AE$2),AND(EVEN($A20)=$A20,EVEN(AE$2)=AE$2)),AE$1,-100))","v":534.375},{"$f":"IF('Ceiling Speaker Calculator'!$C$29=\"Square\",AF$1,IF(OR(AND(ODD($A20)=$A20,ODD(AF$2)=AF$2),AND(EVEN($A20)=$A20,EVEN(AF$2)=AF$2)),AF$1,-100))","v":553.125},{"$f":"IF('Ceiling Speaker Calculator'!$C$29=\"Square\",AG$1,IF(OR(AND(ODD($A20)=$A20,ODD(AG$2)=AG$2),AND(EVEN($A20)=$A20,EVEN(AG$2)=AG$2)),AG$1,-100))","v":571.875},{"$f":"IF('Ceiling Speaker Calculator'!$C$29=\"Square\",AH$1,IF(OR(AND(ODD($A20)=$A20,ODD(AH$2)=AH$2),AND(EVEN($A20)=$A20,EVEN(AH$2)=AH$2)),AH$1,-100))","v":590.625},{"$f":"IF('Ceiling Speaker Calculator'!$C$29=\"Square\",AI$1,IF(OR(AND(ODD($A20)=$A20,ODD(AI$2)=AI$2),AND(EVEN($A20)=$A20,EVEN(AI$2)=AI$2)),AI$1,-100))","v":609.375},{"$f":"IF('Ceiling Speaker Calculator'!$C$29=\"Square\",AJ$1,IF(OR(AND(ODD($A20)=$A20,ODD(AJ$2)=AJ$2),AND(EVEN($A20)=$A20,EVEN(AJ$2)=AJ$2)),AJ$1,-100))","v":628.125},{"$f":"IF('Ceiling Speaker Calculator'!$C$29=\"Square\",AK$1,IF(OR(AND(ODD($A20)=$A20,ODD(AK$2)=AK$2),AND(EVEN($A20)=$A20,EVEN(AK$2)=AK$2)),AK$1,-100))","v":646.875},{"$f":"IF('Ceiling Speaker Calculator'!$C$29=\"Square\",AL$1,IF(OR(AND(ODD($A20)=$A20,ODD(AL$2)=AL$2),AND(EVEN($A20)=$A20,EVEN(AL$2)=AL$2)),AL$1,-100))","v":665.625},{"$f":"IF('Ceiling Speaker Calculator'!$C$29=\"Square\",AM$1,IF(OR(AND(ODD($A20)=$A20,ODD(AM$2)=AM$2),AND(EVEN($A20)=$A20,EVEN(AM$2)=AM$2)),AM$1,-100))","v":684.375},{"$f":"IF('Ceiling Speaker Calculator'!$C$29=\"Square\",AN$1,IF(OR(AND(ODD($A20)=$A20,ODD(AN$2)=AN$2),AND(EVEN($A20)=$A20,EVEN(AN$2)=AN$2)),AN$1,-100))","v":703.125},{"$f":"IF('Ceiling Speaker Calculator'!$C$29=\"Square\",AO$1,IF(OR(AND(ODD($A20)=$A20,ODD(AO$2)=AO$2),AND(EVEN($A20)=$A20,EVEN(AO$2)=AO$2)),AO$1,-100))","v":721.875},{"$f":"IF('Ceiling Speaker Calculator'!$C$29=\"Square\",AP$1,IF(OR(AND(ODD($A20)=$A20,ODD(AP$2)=AP$2),AND(EVEN($A20)=$A20,EVEN(AP$2)=AP$2)),AP$1,-100))","v":740.625},{"$f":"IF('Ceiling Speaker Calculator'!$C$29=\"Square\",AQ$1,IF(OR(AND(ODD($A20)=$A20,ODD(AQ$2)=AQ$2),AND(EVEN($A20)=$A20,EVEN(AQ$2)=AQ$2)),AQ$1,-100))","v":759.375},{"$f":"IF('Ceiling Speaker Calculator'!$C$29=\"Square\",AR$1,IF(OR(AND(ODD($A20)=$A20,ODD(AR$2)=AR$2),AND(EVEN($A20)=$A20,EVEN(AR$2)=AR$2)),AR$1,-100))","v":778.125},{"$f":"IF('Ceiling Speaker Calculator'!$C$29=\"Square\",AS$1,IF(OR(AND(ODD($A20)=$A20,ODD(AS$2)=AS$2),AND(EVEN($A20)=$A20,EVEN(AS$2)=AS$2)),AS$1,-100))","v":796.875},{"$f":"IF('Ceiling Speaker Calculator'!$C$29=\"Square\",AT$1,IF(OR(AND(ODD($A20)=$A20,ODD(AT$2)=AT$2),AND(EVEN($A20)=$A20,EVEN(AT$2)=AT$2)),AT$1,-100))","v":815.625},{"$f":"IF('Ceiling Speaker Calculator'!$C$29=\"Square\",AU$1,IF(OR(AND(ODD($A20)=$A20,ODD(AU$2)=AU$2),AND(EVEN($A20)=$A20,EVEN(AU$2)=AU$2)),AU$1,-100))","v":834.375},{"$f":"IF('Ceiling Speaker Calculator'!$C$29=\"Square\",AV$1,IF(OR(AND(ODD($A20)=$A20,ODD(AV$2)=AV$2),AND(EVEN($A20)=$A20,EVEN(AV$2)=AV$2)),AV$1,-100))","v":853.125},{"$f":"IF('Ceiling Speaker Calculator'!$C$29=\"Square\",AW$1,IF(OR(AND(ODD($A20)=$A20,ODD(AW$2)=AW$2),AND(EVEN($A20)=$A20,EVEN(AW$2)=AW$2)),AW$1,-100))","v":871.875},{"$f":"IF('Ceiling Speaker Calculator'!$C$29=\"Square\",AX$1,IF(OR(AND(ODD($A20)=$A20,ODD(AX$2)=AX$2),AND(EVEN($A20)=$A20,EVEN(AX$2)=AX$2)),AX$1,-100))","v":890.625},{"$f":"IF('Ceiling Speaker Calculator'!$C$29=\"Square\",AY$1,IF(OR(AND(ODD($A20)=$A20,ODD(AY$2)=AY$2),AND(EVEN($A20)=$A20,EVEN(AY$2)=AY$2)),AY$1,-100))","v":909.375},{"$f":"IF('Ceiling Speaker Calculator'!$C$29=\"Square\",AZ$1,IF(OR(AND(ODD($A20)=$A20,ODD(AZ$2)=AZ$2),AND(EVEN($A20)=$A20,EVEN(AZ$2)=AZ$2)),AZ$1,-100))","v":928.125},{"$f":"IF('Ceiling Speaker Calculator'!$C$29=\"Square\",BA$1,IF(OR(AND(ODD($A20)=$A20,ODD(BA$2)=BA$2),AND(EVEN($A20)=$A20,EVEN(BA$2)=BA$2)),BA$1,-100))","v":946.875},{"$f":"IF('Ceiling Speaker Calculator'!$C$29=\"Square\",BB$1,IF(OR(AND(ODD($A20)=$A20,ODD(BB$2)=BB$2),AND(EVEN($A20)=$A20,EVEN(BB$2)=BB$2)),BB$1,-100))","v":965.625},{"$f":"IF('Ceiling Speaker Calculator'!$C$29=\"Square\",BC$1,IF(OR(AND(ODD($A20)=$A20,ODD(BC$2)=BC$2),AND(EVEN($A20)=$A20,EVEN(BC$2)=BC$2)),BC$1,-100))","v":984.375},{"$f":"IF('Ceiling Speaker Calculator'!$C$29=\"Square\",BD$1,IF(OR(AND(ODD($A20)=$A20,ODD(BD$2)=BD$2),AND(EVEN($A20)=$A20,EVEN(BD$2)=BD$2)),BD$1,-100))","v":1003.125},{"$f":"IF('Ceiling Speaker Calculator'!$C$29=\"Square\",BE$1,IF(OR(AND(ODD($A20)=$A20,ODD(BE$2)=BE$2),AND(EVEN($A20)=$A20,EVEN(BE$2)=BE$2)),BE$1,-100))","v":1021.875},{"$f":"IF('Ceiling Speaker Calculator'!$C$29=\"Square\",BF$1,IF(OR(AND(ODD($A20)=$A20,ODD(BF$2)=BF$2),AND(EVEN($A20)=$A20,EVEN(BF$2)=BF$2)),BF$1,-100))","v":1040.625},{"$f":"IF('Ceiling Speaker Calculator'!$C$29=\"Square\",BG$1,IF(OR(AND(ODD($A20)=$A20,ODD(BG$2)=BG$2),AND(EVEN($A20)=$A20,EVEN(BG$2)=BG$2)),BG$1,-100))","v":1059.375},{"$f":"IF('Ceiling Speaker Calculator'!$C$29=\"Square\",BH$1,IF(OR(AND(ODD($A20)=$A20,ODD(BH$2)=BH$2),AND(EVEN($A20)=$A20,EVEN(BH$2)=BH$2)),BH$1,-100))","v":1078.125},{"$f":"IF('Ceiling Speaker Calculator'!$C$29=\"Square\",BI$1,IF(OR(AND(ODD($A20)=$A20,ODD(BI$2)=BI$2),AND(EVEN($A20)=$A20,EVEN(BI$2)=BI$2)),BI$1,-100))","v":1096.875},{"$f":"IF('Ceiling Speaker Calculator'!$C$29=\"Square\",BJ$1,IF(OR(AND(ODD($A20)=$A20,ODD(BJ$2)=BJ$2),AND(EVEN($A20)=$A20,EVEN(BJ$2)=BJ$2)),BJ$1,-100))","v":1115.625},{"$f":"IF('Ceiling Speaker Calculator'!$C$29=\"Square\",BK$1,IF(OR(AND(ODD($A20)=$A20,ODD(BK$2)=BK$2),AND(EVEN($A20)=$A20,EVEN(BK$2)=BK$2)),BK$1,-100))","v":1134.375},{"$f":"IF('Ceiling Speaker Calculator'!$C$29=\"Square\",BL$1,IF(OR(AND(ODD($A20)=$A20,ODD(BL$2)=BL$2),AND(EVEN($A20)=$A20,EVEN(BL$2)=BL$2)),BL$1,-100))","v":1153.125},{"$f":"IF('Ceiling Speaker Calculator'!$C$29=\"Square\",BM$1,IF(OR(AND(ODD($A20)=$A20,ODD(BM$2)=BM$2),AND(EVEN($A20)=$A20,EVEN(BM$2)=BM$2)),BM$1,-100))","v":1171.875},{"$f":"IF('Ceiling Speaker Calculator'!$C$29=\"Square\",BN$1,IF(OR(AND(ODD($A20)=$A20,ODD(BN$2)=BN$2),AND(EVEN($A20)=$A20,EVEN(BN$2)=BN$2)),BN$1,-100))","v":1190.625},{"$f":"IF('Ceiling Speaker Calculator'!$C$29=\"Square\",BO$1,IF(OR(AND(ODD($A20)=$A20,ODD(BO$2)=BO$2),AND(EVEN($A20)=$A20,EVEN(BO$2)=BO$2)),BO$1,-100))","v":1209.375},{"$f":"IF('Ceiling Speaker Calculator'!$C$29=\"Square\",BP$1,IF(OR(AND(ODD($A20)=$A20,ODD(BP$2)=BP$2),AND(EVEN($A20)=$A20,EVEN(BP$2)=BP$2)),BP$1,-100))","v":1228.125},{"$f":"IF('Ceiling Speaker Calculator'!$C$29=\"Square\",BQ$1,IF(OR(AND(ODD($A20)=$A20,ODD(BQ$2)=BQ$2),AND(EVEN($A20)=$A20,EVEN(BQ$2)=BQ$2)),BQ$1,-100))","v":1246.875},{"$f":"IF('Ceiling Speaker Calculator'!$C$29=\"Square\",BR$1,IF(OR(AND(ODD($A20)=$A20,ODD(BR$2)=BR$2),AND(EVEN($A20)=$A20,EVEN(BR$2)=BR$2)),BR$1,-100))","v":1265.625},{"$f":"IF('Ceiling Speaker Calculator'!$C$29=\"Square\",BS$1,IF(OR(AND(ODD($A20)=$A20,ODD(BS$2)=BS$2),AND(EVEN($A20)=$A20,EVEN(BS$2)=BS$2)),BS$1,-100))","v":1284.375},{"$f":"IF('Ceiling Speaker Calculator'!$C$29=\"Square\",BT$1,IF(OR(AND(ODD($A20)=$A20,ODD(BT$2)=BT$2),AND(EVEN($A20)=$A20,EVEN(BT$2)=BT$2)),BT$1,-100))","v":1303.125},{"$f":"IF('Ceiling Speaker Calculator'!$C$29=\"Square\",BU$1,IF(OR(AND(ODD($A20)=$A20,ODD(BU$2)=BU$2),AND(EVEN($A20)=$A20,EVEN(BU$2)=BU$2)),BU$1,-100))","v":1321.875},{"$f":"IF('Ceiling Speaker Calculator'!$C$29=\"Square\",BV$1,IF(OR(AND(ODD($A20)=$A20,ODD(BV$2)=BV$2),AND(EVEN($A20)=$A20,EVEN(BV$2)=BV$2)),BV$1,-100))","v":1340.625},{"$f":"IF('Ceiling Speaker Calculator'!$C$29=\"Square\",BW$1,IF(OR(AND(ODD($A20)=$A20,ODD(BW$2)=BW$2),AND(EVEN($A20)=$A20,EVEN(BW$2)=BW$2)),BW$1,-100))","v":1359.375},{"$f":"IF('Ceiling Speaker Calculator'!$C$29=\"Square\",BX$1,IF(OR(AND(ODD($A20)=$A20,ODD(BX$2)=BX$2),AND(EVEN($A20)=$A20,EVEN(BX$2)=BX$2)),BX$1,-100))","v":1378.125},{"$f":"IF('Ceiling Speaker Calculator'!$C$29=\"Square\",BY$1,IF(OR(AND(ODD($A20)=$A20,ODD(BY$2)=BY$2),AND(EVEN($A20)=$A20,EVEN(BY$2)=BY$2)),BY$1,-100))","v":1396.875},{"$f":"IF('Ceiling Speaker Calculator'!$C$29=\"Square\",BZ$1,IF(OR(AND(ODD($A20)=$A20,ODD(BZ$2)=BZ$2),AND(EVEN($A20)=$A20,EVEN(BZ$2)=BZ$2)),BZ$1,-100))","v":1415.625},{"$f":"IF('Ceiling Speaker Calculator'!$C$29=\"Square\",CA$1,IF(OR(AND(ODD($A20)=$A20,ODD(CA$2)=CA$2),AND(EVEN($A20)=$A20,EVEN(CA$2)=CA$2)),CA$1,-100))","v":1434.375},{"$f":"IF('Ceiling Speaker Calculator'!$C$29=\"Square\",CB$1,IF(OR(AND(ODD($A20)=$A20,ODD(CB$2)=CB$2),AND(EVEN($A20)=$A20,EVEN(CB$2)=CB$2)),CB$1,-100))","v":1453.125},{"$f":"IF('Ceiling Speaker Calculator'!$C$29=\"Square\",CC$1,IF(OR(AND(ODD($A20)=$A20,ODD(CC$2)=CC$2),AND(EVEN($A20)=$A20,EVEN(CC$2)=CC$2)),CC$1,-100))","v":1471.875},{"$f":"IF('Ceiling Speaker Calculator'!$C$29=\"Square\",CD$1,IF(OR(AND(ODD($A20)=$A20,ODD(CD$2)=CD$2),AND(EVEN($A20)=$A20,EVEN(CD$2)=CD$2)),CD$1,-100))","v":1490.625},{"$f":"IF('Ceiling Speaker Calculator'!$C$29=\"Square\",CE$1,IF(OR(AND(ODD($A20)=$A20,ODD(CE$2)=CE$2),AND(EVEN($A20)=$A20,EVEN(CE$2)=CE$2)),CE$1,-100))","v":1509.375},{"$f":"IF('Ceiling Speaker Calculator'!$C$29=\"Square\",CF$1,IF(OR(AND(ODD($A20)=$A20,ODD(CF$2)=CF$2),AND(EVEN($A20)=$A20,EVEN(CF$2)=CF$2)),CF$1,-100))","v":1528.125},{"$f":"IF('Ceiling Speaker Calculator'!$C$29=\"Square\",CG$1,IF(OR(AND(ODD($A20)=$A20,ODD(CG$2)=CG$2),AND(EVEN($A20)=$A20,EVEN(CG$2)=CG$2)),CG$1,-100))","v":1546.875},{"$f":"IF('Ceiling Speaker Calculator'!$C$29=\"Square\",CH$1,IF(OR(AND(ODD($A20)=$A20,ODD(CH$2)=CH$2),AND(EVEN($A20)=$A20,EVEN(CH$2)=CH$2)),CH$1,-100))","v":1565.625},{"$f":"IF('Ceiling Speaker Calculator'!$C$29=\"Square\",CI$1,IF(OR(AND(ODD($A20)=$A20,ODD(CI$2)=CI$2),AND(EVEN($A20)=$A20,EVEN(CI$2)=CI$2)),CI$1,-100))","v":1584.375},{"$f":"IF('Ceiling Speaker Calculator'!$C$29=\"Square\",CJ$1,IF(OR(AND(ODD($A20)=$A20,ODD(CJ$2)=CJ$2),AND(EVEN($A20)=$A20,EVEN(CJ$2)=CJ$2)),CJ$1,-100))","v":1603.125},{"$f":"IF('Ceiling Speaker Calculator'!$C$29=\"Square\",CK$1,IF(OR(AND(ODD($A20)=$A20,ODD(CK$2)=CK$2),AND(EVEN($A20)=$A20,EVEN(CK$2)=CK$2)),CK$1,-100))","v":1621.875},{"$f":"IF('Ceiling Speaker Calculator'!$C$29=\"Square\",CL$1,IF(OR(AND(ODD($A20)=$A20,ODD(CL$2)=CL$2),AND(EVEN($A20)=$A20,EVEN(CL$2)=CL$2)),CL$1,-100))","v":1640.625},{"$f":"IF('Ceiling Speaker Calculator'!$C$29=\"Square\",CM$1,IF(OR(AND(ODD($A20)=$A20,ODD(CM$2)=CM$2),AND(EVEN($A20)=$A20,EVEN(CM$2)=CM$2)),CM$1,-100))","v":1659.375},{"$f":"IF('Ceiling Speaker Calculator'!$C$29=\"Square\",CN$1,IF(OR(AND(ODD($A20)=$A20,ODD(CN$2)=CN$2),AND(EVEN($A20)=$A20,EVEN(CN$2)=CN$2)),CN$1,-100))","v":1678.125},{"$f":"IF('Ceiling Speaker Calculator'!$C$29=\"Square\",CO$1,IF(OR(AND(ODD($A20)=$A20,ODD(CO$2)=CO$2),AND(EVEN($A20)=$A20,EVEN(CO$2)=CO$2)),CO$1,-100))","v":1696.875},{"$f":"IF('Ceiling Speaker Calculator'!$C$29=\"Square\",CP$1,IF(OR(AND(ODD($A20)=$A20,ODD(CP$2)=CP$2),AND(EVEN($A20)=$A20,EVEN(CP$2)=CP$2)),CP$1,-100))","v":1715.625},{"$f":"IF('Ceiling Speaker Calculator'!$C$29=\"Square\",CQ$1,IF(OR(AND(ODD($A20)=$A20,ODD(CQ$2)=CQ$2),AND(EVEN($A20)=$A20,EVEN(CQ$2)=CQ$2)),CQ$1,-100))","v":1734.375},{"$f":"IF('Ceiling Speaker Calculator'!$C$29=\"Square\",CR$1,IF(OR(AND(ODD($A20)=$A20,ODD(CR$2)=CR$2),AND(EVEN($A20)=$A20,EVEN(CR$2)=CR$2)),CR$1,-100))","v":1753.125},{"$f":"IF('Ceiling Speaker Calculator'!$C$29=\"Square\",CS$1,IF(OR(AND(ODD($A20)=$A20,ODD(CS$2)=CS$2),AND(EVEN($A20)=$A20,EVEN(CS$2)=CS$2)),CS$1,-100))","v":1771.875},{"$f":"IF('Ceiling Speaker Calculator'!$C$29=\"Square\",CT$1,IF(OR(AND(ODD($A20)=$A20,ODD(CT$2)=CT$2),AND(EVEN($A20)=$A20,EVEN(CT$2)=CT$2)),CT$1,-100))","v":1790.625},{"$f":"IF('Ceiling Speaker Calculator'!$C$29=\"Square\",CU$1,IF(OR(AND(ODD($A20)=$A20,ODD(CU$2)=CU$2),AND(EVEN($A20)=$A20,EVEN(CU$2)=CU$2)),CU$1,-100))","v":1809.375},{"$f":"IF('Ceiling Speaker Calculator'!$C$29=\"Square\",CV$1,IF(OR(AND(ODD($A20)=$A20,ODD(CV$2)=CV$2),AND(EVEN($A20)=$A20,EVEN(CV$2)=CV$2)),CV$1,-100))","v":1828.125},{"$f":"IF('Ceiling Speaker Calculator'!$C$29=\"Square\",CW$1,IF(OR(AND(ODD($A20)=$A20,ODD(CW$2)=CW$2),AND(EVEN($A20)=$A20,EVEN(CW$2)=CW$2)),CW$1,-100))","v":1846.875},{"$f":"IF('Ceiling Speaker Calculator'!$C$29=\"Square\",CX$1,IF(OR(AND(ODD($A20)=$A20,ODD(CX$2)=CX$2),AND(EVEN($A20)=$A20,EVEN(CX$2)=CX$2)),CX$1,-100))","v":1865.625}]
[19,{"$f":"B20+'Ceiling Speaker Calculator'!$K$16","v":370},{"$f":"IF('Ceiling Speaker Calculator'!$C$29=\"Square\",C$1,IF(OR(AND(ODD($A21)=$A21,ODD(C$2)=C$2),AND(EVEN($A21)=$A21,EVEN(C$2)=C$2)),C$1,-100))","v":9.375},{"$f":"IF('Ceiling Speaker Calculator'!$C$29=\"Square\",D$1,IF(OR(AND(ODD($A21)=$A21,ODD(D$2)=D$2),AND(EVEN($A21)=$A21,EVEN(D$2)=D$2)),D$1,-100))","v":28.125},{"$f":"IF('Ceiling Speaker Calculator'!$C$29=\"Square\",E$1,IF(OR(AND(ODD($A21)=$A21,ODD(E$2)=E$2),AND(EVEN($A21)=$A21,EVEN(E$2)=E$2)),E$1,-100))","v":46.875},{"$f":"IF('Ceiling Speaker Calculator'!$C$29=\"Square\",F$1,IF(OR(AND(ODD($A21)=$A21,ODD(F$2)=F$2),AND(EVEN($A21)=$A21,EVEN(F$2)=F$2)),F$1,-100))","v":65.625},{"$f":"IF('Ceiling Speaker Calculator'!$C$29=\"Square\",G$1,IF(OR(AND(ODD($A21)=$A21,ODD(G$2)=G$2),AND(EVEN($A21)=$A21,EVEN(G$2)=G$2)),G$1,-100))","v":84.375},{"$f":"IF('Ceiling Speaker Calculator'!$C$29=\"Square\",H$1,IF(OR(AND(ODD($A21)=$A21,ODD(H$2)=H$2),AND(EVEN($A21)=$A21,EVEN(H$2)=H$2)),H$1,-100))","v":103.125},{"$f":"IF('Ceiling Speaker Calculator'!$C$29=\"Square\",I$1,IF(OR(AND(ODD($A21)=$A21,ODD(I$2)=I$2),AND(EVEN($A21)=$A21,EVEN(I$2)=I$2)),I$1,-100))","v":121.875},{"$f":"IF('Ceiling Speaker Calculator'!$C$29=\"Square\",J$1,IF(OR(AND(ODD($A21)=$A21,ODD(J$2)=J$2),AND(EVEN($A21)=$A21,EVEN(J$2)=J$2)),J$1,-100))","v":140.625},{"$f":"IF('Ceiling Speaker Calculator'!$C$29=\"Square\",K$1,IF(OR(AND(ODD($A21)=$A21,ODD(K$2)=K$2),AND(EVEN($A21)=$A21,EVEN(K$2)=K$2)),K$1,-100))","v":159.375},{"$f":"IF('Ceiling Speaker Calculator'!$C$29=\"Square\",L$1,IF(OR(AND(ODD($A21)=$A21,ODD(L$2)=L$2),AND(EVEN($A21)=$A21,EVEN(L$2)=L$2)),L$1,-100))","v":178.125},{"$f":"IF('Ceiling Speaker Calculator'!$C$29=\"Square\",M$1,IF(OR(AND(ODD($A21)=$A21,ODD(M$2)=M$2),AND(EVEN($A21)=$A21,EVEN(M$2)=M$2)),M$1,-100))","v":196.875},{"$f":"IF('Ceiling Speaker Calculator'!$C$29=\"Square\",N$1,IF(OR(AND(ODD($A21)=$A21,ODD(N$2)=N$2),AND(EVEN($A21)=$A21,EVEN(N$2)=N$2)),N$1,-100))","v":215.625},{"$f":"IF('Ceiling Speaker Calculator'!$C$29=\"Square\",O$1,IF(OR(AND(ODD($A21)=$A21,ODD(O$2)=O$2),AND(EVEN($A21)=$A21,EVEN(O$2)=O$2)),O$1,-100))","v":234.375},{"$f":"IF('Ceiling Speaker Calculator'!$C$29=\"Square\",P$1,IF(OR(AND(ODD($A21)=$A21,ODD(P$2)=P$2),AND(EVEN($A21)=$A21,EVEN(P$2)=P$2)),P$1,-100))","v":253.125},{"$f":"IF('Ceiling Speaker Calculator'!$C$29=\"Square\",Q$1,IF(OR(AND(ODD($A21)=$A21,ODD(Q$2)=Q$2),AND(EVEN($A21)=$A21,EVEN(Q$2)=Q$2)),Q$1,-100))","v":271.875},{"$f":"IF('Ceiling Speaker Calculator'!$C$29=\"Square\",R$1,IF(OR(AND(ODD($A21)=$A21,ODD(R$2)=R$2),AND(EVEN($A21)=$A21,EVEN(R$2)=R$2)),R$1,-100))","v":290.625},{"$f":"IF('Ceiling Speaker Calculator'!$C$29=\"Square\",S$1,IF(OR(AND(ODD($A21)=$A21,ODD(S$2)=S$2),AND(EVEN($A21)=$A21,EVEN(S$2)=S$2)),S$1,-100))","v":309.375},{"$f":"IF('Ceiling Speaker Calculator'!$C$29=\"Square\",T$1,IF(OR(AND(ODD($A21)=$A21,ODD(T$2)=T$2),AND(EVEN($A21)=$A21,EVEN(T$2)=T$2)),T$1,-100))","v":328.125},{"$f":"IF('Ceiling Speaker Calculator'!$C$29=\"Square\",U$1,IF(OR(AND(ODD($A21)=$A21,ODD(U$2)=U$2),AND(EVEN($A21)=$A21,EVEN(U$2)=U$2)),U$1,-100))","v":346.875},{"$f":"IF('Ceiling Speaker Calculator'!$C$29=\"Square\",V$1,IF(OR(AND(ODD($A21)=$A21,ODD(V$2)=V$2),AND(EVEN($A21)=$A21,EVEN(V$2)=V$2)),V$1,-100))","v":365.625},{"$f":"IF('Ceiling Speaker Calculator'!$C$29=\"Square\",W$1,IF(OR(AND(ODD($A21)=$A21,ODD(W$2)=W$2),AND(EVEN($A21)=$A21,EVEN(W$2)=W$2)),W$1,-100))","v":384.375},{"$f":"IF('Ceiling Speaker Calculator'!$C$29=\"Square\",X$1,IF(OR(AND(ODD($A21)=$A21,ODD(X$2)=X$2),AND(EVEN($A21)=$A21,EVEN(X$2)=X$2)),X$1,-100))","v":403.125},{"$f":"IF('Ceiling Speaker Calculator'!$C$29=\"Square\",Y$1,IF(OR(AND(ODD($A21)=$A21,ODD(Y$2)=Y$2),AND(EVEN($A21)=$A21,EVEN(Y$2)=Y$2)),Y$1,-100))","v":421.875},{"$f":"IF('Ceiling Speaker Calculator'!$C$29=\"Square\",Z$1,IF(OR(AND(ODD($A21)=$A21,ODD(Z$2)=Z$2),AND(EVEN($A21)=$A21,EVEN(Z$2)=Z$2)),Z$1,-100))","v":440.625},{"$f":"IF('Ceiling Speaker Calculator'!$C$29=\"Square\",AA$1,IF(OR(AND(ODD($A21)=$A21,ODD(AA$2)=AA$2),AND(EVEN($A21)=$A21,EVEN(AA$2)=AA$2)),AA$1,-100))","v":459.375},{"$f":"IF('Ceiling Speaker Calculator'!$C$29=\"Square\",AB$1,IF(OR(AND(ODD($A21)=$A21,ODD(AB$2)=AB$2),AND(EVEN($A21)=$A21,EVEN(AB$2)=AB$2)),AB$1,-100))","v":478.125},{"$f":"IF('Ceiling Speaker Calculator'!$C$29=\"Square\",AC$1,IF(OR(AND(ODD($A21)=$A21,ODD(AC$2)=AC$2),AND(EVEN($A21)=$A21,EVEN(AC$2)=AC$2)),AC$1,-100))","v":496.875},{"$f":"IF('Ceiling Speaker Calculator'!$C$29=\"Square\",AD$1,IF(OR(AND(ODD($A21)=$A21,ODD(AD$2)=AD$2),AND(EVEN($A21)=$A21,EVEN(AD$2)=AD$2)),AD$1,-100))","v":515.625},{"$f":"IF('Ceiling Speaker Calculator'!$C$29=\"Square\",AE$1,IF(OR(AND(ODD($A21)=$A21,ODD(AE$2)=AE$2),AND(EVEN($A21)=$A21,EVEN(AE$2)=AE$2)),AE$1,-100))","v":534.375},{"$f":"IF('Ceiling Speaker Calculator'!$C$29=\"Square\",AF$1,IF(OR(AND(ODD($A21)=$A21,ODD(AF$2)=AF$2),AND(EVEN($A21)=$A21,EVEN(AF$2)=AF$2)),AF$1,-100))","v":553.125},{"$f":"IF('Ceiling Speaker Calculator'!$C$29=\"Square\",AG$1,IF(OR(AND(ODD($A21)=$A21,ODD(AG$2)=AG$2),AND(EVEN($A21)=$A21,EVEN(AG$2)=AG$2)),AG$1,-100))","v":571.875},{"$f":"IF('Ceiling Speaker Calculator'!$C$29=\"Square\",AH$1,IF(OR(AND(ODD($A21)=$A21,ODD(AH$2)=AH$2),AND(EVEN($A21)=$A21,EVEN(AH$2)=AH$2)),AH$1,-100))","v":590.625},{"$f":"IF('Ceiling Speaker Calculator'!$C$29=\"Square\",AI$1,IF(OR(AND(ODD($A21)=$A21,ODD(AI$2)=AI$2),AND(EVEN($A21)=$A21,EVEN(AI$2)=AI$2)),AI$1,-100))","v":609.375},{"$f":"IF('Ceiling Speaker Calculator'!$C$29=\"Square\",AJ$1,IF(OR(AND(ODD($A21)=$A21,ODD(AJ$2)=AJ$2),AND(EVEN($A21)=$A21,EVEN(AJ$2)=AJ$2)),AJ$1,-100))","v":628.125},{"$f":"IF('Ceiling Speaker Calculator'!$C$29=\"Square\",AK$1,IF(OR(AND(ODD($A21)=$A21,ODD(AK$2)=AK$2),AND(EVEN($A21)=$A21,EVEN(AK$2)=AK$2)),AK$1,-100))","v":646.875},{"$f":"IF('Ceiling Speaker Calculator'!$C$29=\"Square\",AL$1,IF(OR(AND(ODD($A21)=$A21,ODD(AL$2)=AL$2),AND(EVEN($A21)=$A21,EVEN(AL$2)=AL$2)),AL$1,-100))","v":665.625},{"$f":"IF('Ceiling Speaker Calculator'!$C$29=\"Square\",AM$1,IF(OR(AND(ODD($A21)=$A21,ODD(AM$2)=AM$2),AND(EVEN($A21)=$A21,EVEN(AM$2)=AM$2)),AM$1,-100))","v":684.375},{"$f":"IF('Ceiling Speaker Calculator'!$C$29=\"Square\",AN$1,IF(OR(AND(ODD($A21)=$A21,ODD(AN$2)=AN$2),AND(EVEN($A21)=$A21,EVEN(AN$2)=AN$2)),AN$1,-100))","v":703.125},{"$f":"IF('Ceiling Speaker Calculator'!$C$29=\"Square\",AO$1,IF(OR(AND(ODD($A21)=$A21,ODD(AO$2)=AO$2),AND(EVEN($A21)=$A21,EVEN(AO$2)=AO$2)),AO$1,-100))","v":721.875},{"$f":"IF('Ceiling Speaker Calculator'!$C$29=\"Square\",AP$1,IF(OR(AND(ODD($A21)=$A21,ODD(AP$2)=AP$2),AND(EVEN($A21)=$A21,EVEN(AP$2)=AP$2)),AP$1,-100))","v":740.625},{"$f":"IF('Ceiling Speaker Calculator'!$C$29=\"Square\",AQ$1,IF(OR(AND(ODD($A21)=$A21,ODD(AQ$2)=AQ$2),AND(EVEN($A21)=$A21,EVEN(AQ$2)=AQ$2)),AQ$1,-100))","v":759.375},{"$f":"IF('Ceiling Speaker Calculator'!$C$29=\"Square\",AR$1,IF(OR(AND(ODD($A21)=$A21,ODD(AR$2)=AR$2),AND(EVEN($A21)=$A21,EVEN(AR$2)=AR$2)),AR$1,-100))","v":778.125},{"$f":"IF('Ceiling Speaker Calculator'!$C$29=\"Square\",AS$1,IF(OR(AND(ODD($A21)=$A21,ODD(AS$2)=AS$2),AND(EVEN($A21)=$A21,EVEN(AS$2)=AS$2)),AS$1,-100))","v":796.875},{"$f":"IF('Ceiling Speaker Calculator'!$C$29=\"Square\",AT$1,IF(OR(AND(ODD($A21)=$A21,ODD(AT$2)=AT$2),AND(EVEN($A21)=$A21,EVEN(AT$2)=AT$2)),AT$1,-100))","v":815.625},{"$f":"IF('Ceiling Speaker Calculator'!$C$29=\"Square\",AU$1,IF(OR(AND(ODD($A21)=$A21,ODD(AU$2)=AU$2),AND(EVEN($A21)=$A21,EVEN(AU$2)=AU$2)),AU$1,-100))","v":834.375},{"$f":"IF('Ceiling Speaker Calculator'!$C$29=\"Square\",AV$1,IF(OR(AND(ODD($A21)=$A21,ODD(AV$2)=AV$2),AND(EVEN($A21)=$A21,EVEN(AV$2)=AV$2)),AV$1,-100))","v":853.125},{"$f":"IF('Ceiling Speaker Calculator'!$C$29=\"Square\",AW$1,IF(OR(AND(ODD($A21)=$A21,ODD(AW$2)=AW$2),AND(EVEN($A21)=$A21,EVEN(AW$2)=AW$2)),AW$1,-100))","v":871.875},{"$f":"IF('Ceiling Speaker Calculator'!$C$29=\"Square\",AX$1,IF(OR(AND(ODD($A21)=$A21,ODD(AX$2)=AX$2),AND(EVEN($A21)=$A21,EVEN(AX$2)=AX$2)),AX$1,-100))","v":890.625},{"$f":"IF('Ceiling Speaker Calculator'!$C$29=\"Square\",AY$1,IF(OR(AND(ODD($A21)=$A21,ODD(AY$2)=AY$2),AND(EVEN($A21)=$A21,EVEN(AY$2)=AY$2)),AY$1,-100))","v":909.375},{"$f":"IF('Ceiling Speaker Calculator'!$C$29=\"Square\",AZ$1,IF(OR(AND(ODD($A21)=$A21,ODD(AZ$2)=AZ$2),AND(EVEN($A21)=$A21,EVEN(AZ$2)=AZ$2)),AZ$1,-100))","v":928.125},{"$f":"IF('Ceiling Speaker Calculator'!$C$29=\"Square\",BA$1,IF(OR(AND(ODD($A21)=$A21,ODD(BA$2)=BA$2),AND(EVEN($A21)=$A21,EVEN(BA$2)=BA$2)),BA$1,-100))","v":946.875},{"$f":"IF('Ceiling Speaker Calculator'!$C$29=\"Square\",BB$1,IF(OR(AND(ODD($A21)=$A21,ODD(BB$2)=BB$2),AND(EVEN($A21)=$A21,EVEN(BB$2)=BB$2)),BB$1,-100))","v":965.625},{"$f":"IF('Ceiling Speaker Calculator'!$C$29=\"Square\",BC$1,IF(OR(AND(ODD($A21)=$A21,ODD(BC$2)=BC$2),AND(EVEN($A21)=$A21,EVEN(BC$2)=BC$2)),BC$1,-100))","v":984.375},{"$f":"IF('Ceiling Speaker Calculator'!$C$29=\"Square\",BD$1,IF(OR(AND(ODD($A21)=$A21,ODD(BD$2)=BD$2),AND(EVEN($A21)=$A21,EVEN(BD$2)=BD$2)),BD$1,-100))","v":1003.125},{"$f":"IF('Ceiling Speaker Calculator'!$C$29=\"Square\",BE$1,IF(OR(AND(ODD($A21)=$A21,ODD(BE$2)=BE$2),AND(EVEN($A21)=$A21,EVEN(BE$2)=BE$2)),BE$1,-100))","v":1021.875},{"$f":"IF('Ceiling Speaker Calculator'!$C$29=\"Square\",BF$1,IF(OR(AND(ODD($A21)=$A21,ODD(BF$2)=BF$2),AND(EVEN($A21)=$A21,EVEN(BF$2)=BF$2)),BF$1,-100))","v":1040.625},{"$f":"IF('Ceiling Speaker Calculator'!$C$29=\"Square\",BG$1,IF(OR(AND(ODD($A21)=$A21,ODD(BG$2)=BG$2),AND(EVEN($A21)=$A21,EVEN(BG$2)=BG$2)),BG$1,-100))","v":1059.375},{"$f":"IF('Ceiling Speaker Calculator'!$C$29=\"Square\",BH$1,IF(OR(AND(ODD($A21)=$A21,ODD(BH$2)=BH$2),AND(EVEN($A21)=$A21,EVEN(BH$2)=BH$2)),BH$1,-100))","v":1078.125},{"$f":"IF('Ceiling Speaker Calculator'!$C$29=\"Square\",BI$1,IF(OR(AND(ODD($A21)=$A21,ODD(BI$2)=BI$2),AND(EVEN($A21)=$A21,EVEN(BI$2)=BI$2)),BI$1,-100))","v":1096.875},{"$f":"IF('Ceiling Speaker Calculator'!$C$29=\"Square\",BJ$1,IF(OR(AND(ODD($A21)=$A21,ODD(BJ$2)=BJ$2),AND(EVEN($A21)=$A21,EVEN(BJ$2)=BJ$2)),BJ$1,-100))","v":1115.625},{"$f":"IF('Ceiling Speaker Calculator'!$C$29=\"Square\",BK$1,IF(OR(AND(ODD($A21)=$A21,ODD(BK$2)=BK$2),AND(EVEN($A21)=$A21,EVEN(BK$2)=BK$2)),BK$1,-100))","v":1134.375},{"$f":"IF('Ceiling Speaker Calculator'!$C$29=\"Square\",BL$1,IF(OR(AND(ODD($A21)=$A21,ODD(BL$2)=BL$2),AND(EVEN($A21)=$A21,EVEN(BL$2)=BL$2)),BL$1,-100))","v":1153.125},{"$f":"IF('Ceiling Speaker Calculator'!$C$29=\"Square\",BM$1,IF(OR(AND(ODD($A21)=$A21,ODD(BM$2)=BM$2),AND(EVEN($A21)=$A21,EVEN(BM$2)=BM$2)),BM$1,-100))","v":1171.875},{"$f":"IF('Ceiling Speaker Calculator'!$C$29=\"Square\",BN$1,IF(OR(AND(ODD($A21)=$A21,ODD(BN$2)=BN$2),AND(EVEN($A21)=$A21,EVEN(BN$2)=BN$2)),BN$1,-100))","v":1190.625},{"$f":"IF('Ceiling Speaker Calculator'!$C$29=\"Square\",BO$1,IF(OR(AND(ODD($A21)=$A21,ODD(BO$2)=BO$2),AND(EVEN($A21)=$A21,EVEN(BO$2)=BO$2)),BO$1,-100))","v":1209.375},{"$f":"IF('Ceiling Speaker Calculator'!$C$29=\"Square\",BP$1,IF(OR(AND(ODD($A21)=$A21,ODD(BP$2)=BP$2),AND(EVEN($A21)=$A21,EVEN(BP$2)=BP$2)),BP$1,-100))","v":1228.125},{"$f":"IF('Ceiling Speaker Calculator'!$C$29=\"Square\",BQ$1,IF(OR(AND(ODD($A21)=$A21,ODD(BQ$2)=BQ$2),AND(EVEN($A21)=$A21,EVEN(BQ$2)=BQ$2)),BQ$1,-100))","v":1246.875},{"$f":"IF('Ceiling Speaker Calculator'!$C$29=\"Square\",BR$1,IF(OR(AND(ODD($A21)=$A21,ODD(BR$2)=BR$2),AND(EVEN($A21)=$A21,EVEN(BR$2)=BR$2)),BR$1,-100))","v":1265.625},{"$f":"IF('Ceiling Speaker Calculator'!$C$29=\"Square\",BS$1,IF(OR(AND(ODD($A21)=$A21,ODD(BS$2)=BS$2),AND(EVEN($A21)=$A21,EVEN(BS$2)=BS$2)),BS$1,-100))","v":1284.375},{"$f":"IF('Ceiling Speaker Calculator'!$C$29=\"Square\",BT$1,IF(OR(AND(ODD($A21)=$A21,ODD(BT$2)=BT$2),AND(EVEN($A21)=$A21,EVEN(BT$2)=BT$2)),BT$1,-100))","v":1303.125},{"$f":"IF('Ceiling Speaker Calculator'!$C$29=\"Square\",BU$1,IF(OR(AND(ODD($A21)=$A21,ODD(BU$2)=BU$2),AND(EVEN($A21)=$A21,EVEN(BU$2)=BU$2)),BU$1,-100))","v":1321.875},{"$f":"IF('Ceiling Speaker Calculator'!$C$29=\"Square\",BV$1,IF(OR(AND(ODD($A21)=$A21,ODD(BV$2)=BV$2),AND(EVEN($A21)=$A21,EVEN(BV$2)=BV$2)),BV$1,-100))","v":1340.625},{"$f":"IF('Ceiling Speaker Calculator'!$C$29=\"Square\",BW$1,IF(OR(AND(ODD($A21)=$A21,ODD(BW$2)=BW$2),AND(EVEN($A21)=$A21,EVEN(BW$2)=BW$2)),BW$1,-100))","v":1359.375},{"$f":"IF('Ceiling Speaker Calculator'!$C$29=\"Square\",BX$1,IF(OR(AND(ODD($A21)=$A21,ODD(BX$2)=BX$2),AND(EVEN($A21)=$A21,EVEN(BX$2)=BX$2)),BX$1,-100))","v":1378.125},{"$f":"IF('Ceiling Speaker Calculator'!$C$29=\"Square\",BY$1,IF(OR(AND(ODD($A21)=$A21,ODD(BY$2)=BY$2),AND(EVEN($A21)=$A21,EVEN(BY$2)=BY$2)),BY$1,-100))","v":1396.875},{"$f":"IF('Ceiling Speaker Calculator'!$C$29=\"Square\",BZ$1,IF(OR(AND(ODD($A21)=$A21,ODD(BZ$2)=BZ$2),AND(EVEN($A21)=$A21,EVEN(BZ$2)=BZ$2)),BZ$1,-100))","v":1415.625},{"$f":"IF('Ceiling Speaker Calculator'!$C$29=\"Square\",CA$1,IF(OR(AND(ODD($A21)=$A21,ODD(CA$2)=CA$2),AND(EVEN($A21)=$A21,EVEN(CA$2)=CA$2)),CA$1,-100))","v":1434.375},{"$f":"IF('Ceiling Speaker Calculator'!$C$29=\"Square\",CB$1,IF(OR(AND(ODD($A21)=$A21,ODD(CB$2)=CB$2),AND(EVEN($A21)=$A21,EVEN(CB$2)=CB$2)),CB$1,-100))","v":1453.125},{"$f":"IF('Ceiling Speaker Calculator'!$C$29=\"Square\",CC$1,IF(OR(AND(ODD($A21)=$A21,ODD(CC$2)=CC$2),AND(EVEN($A21)=$A21,EVEN(CC$2)=CC$2)),CC$1,-100))","v":1471.875},{"$f":"IF('Ceiling Speaker Calculator'!$C$29=\"Square\",CD$1,IF(OR(AND(ODD($A21)=$A21,ODD(CD$2)=CD$2),AND(EVEN($A21)=$A21,EVEN(CD$2)=CD$2)),CD$1,-100))","v":1490.625},{"$f":"IF('Ceiling Speaker Calculator'!$C$29=\"Square\",CE$1,IF(OR(AND(ODD($A21)=$A21,ODD(CE$2)=CE$2),AND(EVEN($A21)=$A21,EVEN(CE$2)=CE$2)),CE$1,-100))","v":1509.375},{"$f":"IF('Ceiling Speaker Calculator'!$C$29=\"Square\",CF$1,IF(OR(AND(ODD($A21)=$A21,ODD(CF$2)=CF$2),AND(EVEN($A21)=$A21,EVEN(CF$2)=CF$2)),CF$1,-100))","v":1528.125},{"$f":"IF('Ceiling Speaker Calculator'!$C$29=\"Square\",CG$1,IF(OR(AND(ODD($A21)=$A21,ODD(CG$2)=CG$2),AND(EVEN($A21)=$A21,EVEN(CG$2)=CG$2)),CG$1,-100))","v":1546.875},{"$f":"IF('Ceiling Speaker Calculator'!$C$29=\"Square\",CH$1,IF(OR(AND(ODD($A21)=$A21,ODD(CH$2)=CH$2),AND(EVEN($A21)=$A21,EVEN(CH$2)=CH$2)),CH$1,-100))","v":1565.625},{"$f":"IF('Ceiling Speaker Calculator'!$C$29=\"Square\",CI$1,IF(OR(AND(ODD($A21)=$A21,ODD(CI$2)=CI$2),AND(EVEN($A21)=$A21,EVEN(CI$2)=CI$2)),CI$1,-100))","v":1584.375},{"$f":"IF('Ceiling Speaker Calculator'!$C$29=\"Square\",CJ$1,IF(OR(AND(ODD($A21)=$A21,ODD(CJ$2)=CJ$2),AND(EVEN($A21)=$A21,EVEN(CJ$2)=CJ$2)),CJ$1,-100))","v":1603.125},{"$f":"IF('Ceiling Speaker Calculator'!$C$29=\"Square\",CK$1,IF(OR(AND(ODD($A21)=$A21,ODD(CK$2)=CK$2),AND(EVEN($A21)=$A21,EVEN(CK$2)=CK$2)),CK$1,-100))","v":1621.875},{"$f":"IF('Ceiling Speaker Calculator'!$C$29=\"Square\",CL$1,IF(OR(AND(ODD($A21)=$A21,ODD(CL$2)=CL$2),AND(EVEN($A21)=$A21,EVEN(CL$2)=CL$2)),CL$1,-100))","v":1640.625},{"$f":"IF('Ceiling Speaker Calculator'!$C$29=\"Square\",CM$1,IF(OR(AND(ODD($A21)=$A21,ODD(CM$2)=CM$2),AND(EVEN($A21)=$A21,EVEN(CM$2)=CM$2)),CM$1,-100))","v":1659.375},{"$f":"IF('Ceiling Speaker Calculator'!$C$29=\"Square\",CN$1,IF(OR(AND(ODD($A21)=$A21,ODD(CN$2)=CN$2),AND(EVEN($A21)=$A21,EVEN(CN$2)=CN$2)),CN$1,-100))","v":1678.125},{"$f":"IF('Ceiling Speaker Calculator'!$C$29=\"Square\",CO$1,IF(OR(AND(ODD($A21)=$A21,ODD(CO$2)=CO$2),AND(EVEN($A21)=$A21,EVEN(CO$2)=CO$2)),CO$1,-100))","v":1696.875},{"$f":"IF('Ceiling Speaker Calculator'!$C$29=\"Square\",CP$1,IF(OR(AND(ODD($A21)=$A21,ODD(CP$2)=CP$2),AND(EVEN($A21)=$A21,EVEN(CP$2)=CP$2)),CP$1,-100))","v":1715.625},{"$f":"IF('Ceiling Speaker Calculator'!$C$29=\"Square\",CQ$1,IF(OR(AND(ODD($A21)=$A21,ODD(CQ$2)=CQ$2),AND(EVEN($A21)=$A21,EVEN(CQ$2)=CQ$2)),CQ$1,-100))","v":1734.375},{"$f":"IF('Ceiling Speaker Calculator'!$C$29=\"Square\",CR$1,IF(OR(AND(ODD($A21)=$A21,ODD(CR$2)=CR$2),AND(EVEN($A21)=$A21,EVEN(CR$2)=CR$2)),CR$1,-100))","v":1753.125},{"$f":"IF('Ceiling Speaker Calculator'!$C$29=\"Square\",CS$1,IF(OR(AND(ODD($A21)=$A21,ODD(CS$2)=CS$2),AND(EVEN($A21)=$A21,EVEN(CS$2)=CS$2)),CS$1,-100))","v":1771.875},{"$f":"IF('Ceiling Speaker Calculator'!$C$29=\"Square\",CT$1,IF(OR(AND(ODD($A21)=$A21,ODD(CT$2)=CT$2),AND(EVEN($A21)=$A21,EVEN(CT$2)=CT$2)),CT$1,-100))","v":1790.625},{"$f":"IF('Ceiling Speaker Calculator'!$C$29=\"Square\",CU$1,IF(OR(AND(ODD($A21)=$A21,ODD(CU$2)=CU$2),AND(EVEN($A21)=$A21,EVEN(CU$2)=CU$2)),CU$1,-100))","v":1809.375},{"$f":"IF('Ceiling Speaker Calculator'!$C$29=\"Square\",CV$1,IF(OR(AND(ODD($A21)=$A21,ODD(CV$2)=CV$2),AND(EVEN($A21)=$A21,EVEN(CV$2)=CV$2)),CV$1,-100))","v":1828.125},{"$f":"IF('Ceiling Speaker Calculator'!$C$29=\"Square\",CW$1,IF(OR(AND(ODD($A21)=$A21,ODD(CW$2)=CW$2),AND(EVEN($A21)=$A21,EVEN(CW$2)=CW$2)),CW$1,-100))","v":1846.875},{"$f":"IF('Ceiling Speaker Calculator'!$C$29=\"Square\",CX$1,IF(OR(AND(ODD($A21)=$A21,ODD(CX$2)=CX$2),AND(EVEN($A21)=$A21,EVEN(CX$2)=CX$2)),CX$1,-100))","v":1865.625}]
[20,{"$f":"B21+'Ceiling Speaker Calculator'!$K$16","v":390},{"$f":"IF('Ceiling Speaker Calculator'!$C$29=\"Square\",C$1,IF(OR(AND(ODD($A22)=$A22,ODD(C$2)=C$2),AND(EVEN($A22)=$A22,EVEN(C$2)=C$2)),C$1,-100))","v":9.375},{"$f":"IF('Ceiling Speaker Calculator'!$C$29=\"Square\",D$1,IF(OR(AND(ODD($A22)=$A22,ODD(D$2)=D$2),AND(EVEN($A22)=$A22,EVEN(D$2)=D$2)),D$1,-100))","v":28.125},{"$f":"IF('Ceiling Speaker Calculator'!$C$29=\"Square\",E$1,IF(OR(AND(ODD($A22)=$A22,ODD(E$2)=E$2),AND(EVEN($A22)=$A22,EVEN(E$2)=E$2)),E$1,-100))","v":46.875},{"$f":"IF('Ceiling Speaker Calculator'!$C$29=\"Square\",F$1,IF(OR(AND(ODD($A22)=$A22,ODD(F$2)=F$2),AND(EVEN($A22)=$A22,EVEN(F$2)=F$2)),F$1,-100))","v":65.625},{"$f":"IF('Ceiling Speaker Calculator'!$C$29=\"Square\",G$1,IF(OR(AND(ODD($A22)=$A22,ODD(G$2)=G$2),AND(EVEN($A22)=$A22,EVEN(G$2)=G$2)),G$1,-100))","v":84.375},{"$f":"IF('Ceiling Speaker Calculator'!$C$29=\"Square\",H$1,IF(OR(AND(ODD($A22)=$A22,ODD(H$2)=H$2),AND(EVEN($A22)=$A22,EVEN(H$2)=H$2)),H$1,-100))","v":103.125},{"$f":"IF('Ceiling Speaker Calculator'!$C$29=\"Square\",I$1,IF(OR(AND(ODD($A22)=$A22,ODD(I$2)=I$2),AND(EVEN($A22)=$A22,EVEN(I$2)=I$2)),I$1,-100))","v":121.875},{"$f":"IF('Ceiling Speaker Calculator'!$C$29=\"Square\",J$1,IF(OR(AND(ODD($A22)=$A22,ODD(J$2)=J$2),AND(EVEN($A22)=$A22,EVEN(J$2)=J$2)),J$1,-100))","v":140.625},{"$f":"IF('Ceiling Speaker Calculator'!$C$29=\"Square\",K$1,IF(OR(AND(ODD($A22)=$A22,ODD(K$2)=K$2),AND(EVEN($A22)=$A22,EVEN(K$2)=K$2)),K$1,-100))","v":159.375},{"$f":"IF('Ceiling Speaker Calculator'!$C$29=\"Square\",L$1,IF(OR(AND(ODD($A22)=$A22,ODD(L$2)=L$2),AND(EVEN($A22)=$A22,EVEN(L$2)=L$2)),L$1,-100))","v":178.125},{"$f":"IF('Ceiling Speaker Calculator'!$C$29=\"Square\",M$1,IF(OR(AND(ODD($A22)=$A22,ODD(M$2)=M$2),AND(EVEN($A22)=$A22,EVEN(M$2)=M$2)),M$1,-100))","v":196.875},{"$f":"IF('Ceiling Speaker Calculator'!$C$29=\"Square\",N$1,IF(OR(AND(ODD($A22)=$A22,ODD(N$2)=N$2),AND(EVEN($A22)=$A22,EVEN(N$2)=N$2)),N$1,-100))","v":215.625},{"$f":"IF('Ceiling Speaker Calculator'!$C$29=\"Square\",O$1,IF(OR(AND(ODD($A22)=$A22,ODD(O$2)=O$2),AND(EVEN($A22)=$A22,EVEN(O$2)=O$2)),O$1,-100))","v":234.375},{"$f":"IF('Ceiling Speaker Calculator'!$C$29=\"Square\",P$1,IF(OR(AND(ODD($A22)=$A22,ODD(P$2)=P$2),AND(EVEN($A22)=$A22,EVEN(P$2)=P$2)),P$1,-100))","v":253.125},{"$f":"IF('Ceiling Speaker Calculator'!$C$29=\"Square\",Q$1,IF(OR(AND(ODD($A22)=$A22,ODD(Q$2)=Q$2),AND(EVEN($A22)=$A22,EVEN(Q$2)=Q$2)),Q$1,-100))","v":271.875},{"$f":"IF('Ceiling Speaker Calculator'!$C$29=\"Square\",R$1,IF(OR(AND(ODD($A22)=$A22,ODD(R$2)=R$2),AND(EVEN($A22)=$A22,EVEN(R$2)=R$2)),R$1,-100))","v":290.625},{"$f":"IF('Ceiling Speaker Calculator'!$C$29=\"Square\",S$1,IF(OR(AND(ODD($A22)=$A22,ODD(S$2)=S$2),AND(EVEN($A22)=$A22,EVEN(S$2)=S$2)),S$1,-100))","v":309.375},{"$f":"IF('Ceiling Speaker Calculator'!$C$29=\"Square\",T$1,IF(OR(AND(ODD($A22)=$A22,ODD(T$2)=T$2),AND(EVEN($A22)=$A22,EVEN(T$2)=T$2)),T$1,-100))","v":328.125},{"$f":"IF('Ceiling Speaker Calculator'!$C$29=\"Square\",U$1,IF(OR(AND(ODD($A22)=$A22,ODD(U$2)=U$2),AND(EVEN($A22)=$A22,EVEN(U$2)=U$2)),U$1,-100))","v":346.875},{"$f":"IF('Ceiling Speaker Calculator'!$C$29=\"Square\",V$1,IF(OR(AND(ODD($A22)=$A22,ODD(V$2)=V$2),AND(EVEN($A22)=$A22,EVEN(V$2)=V$2)),V$1,-100))","v":365.625},{"$f":"IF('Ceiling Speaker Calculator'!$C$29=\"Square\",W$1,IF(OR(AND(ODD($A22)=$A22,ODD(W$2)=W$2),AND(EVEN($A22)=$A22,EVEN(W$2)=W$2)),W$1,-100))","v":384.375},{"$f":"IF('Ceiling Speaker Calculator'!$C$29=\"Square\",X$1,IF(OR(AND(ODD($A22)=$A22,ODD(X$2)=X$2),AND(EVEN($A22)=$A22,EVEN(X$2)=X$2)),X$1,-100))","v":403.125},{"$f":"IF('Ceiling Speaker Calculator'!$C$29=\"Square\",Y$1,IF(OR(AND(ODD($A22)=$A22,ODD(Y$2)=Y$2),AND(EVEN($A22)=$A22,EVEN(Y$2)=Y$2)),Y$1,-100))","v":421.875},{"$f":"IF('Ceiling Speaker Calculator'!$C$29=\"Square\",Z$1,IF(OR(AND(ODD($A22)=$A22,ODD(Z$2)=Z$2),AND(EVEN($A22)=$A22,EVEN(Z$2)=Z$2)),Z$1,-100))","v":440.625},{"$f":"IF('Ceiling Speaker Calculator'!$C$29=\"Square\",AA$1,IF(OR(AND(ODD($A22)=$A22,ODD(AA$2)=AA$2),AND(EVEN($A22)=$A22,EVEN(AA$2)=AA$2)),AA$1,-100))","v":459.375},{"$f":"IF('Ceiling Speaker Calculator'!$C$29=\"Square\",AB$1,IF(OR(AND(ODD($A22)=$A22,ODD(AB$2)=AB$2),AND(EVEN($A22)=$A22,EVEN(AB$2)=AB$2)),AB$1,-100))","v":478.125},{"$f":"IF('Ceiling Speaker Calculator'!$C$29=\"Square\",AC$1,IF(OR(AND(ODD($A22)=$A22,ODD(AC$2)=AC$2),AND(EVEN($A22)=$A22,EVEN(AC$2)=AC$2)),AC$1,-100))","v":496.875},{"$f":"IF('Ceiling Speaker Calculator'!$C$29=\"Square\",AD$1,IF(OR(AND(ODD($A22)=$A22,ODD(AD$2)=AD$2),AND(EVEN($A22)=$A22,EVEN(AD$2)=AD$2)),AD$1,-100))","v":515.625},{"$f":"IF('Ceiling Speaker Calculator'!$C$29=\"Square\",AE$1,IF(OR(AND(ODD($A22)=$A22,ODD(AE$2)=AE$2),AND(EVEN($A22)=$A22,EVEN(AE$2)=AE$2)),AE$1,-100))","v":534.375},{"$f":"IF('Ceiling Speaker Calculator'!$C$29=\"Square\",AF$1,IF(OR(AND(ODD($A22)=$A22,ODD(AF$2)=AF$2),AND(EVEN($A22)=$A22,EVEN(AF$2)=AF$2)),AF$1,-100))","v":553.125},{"$f":"IF('Ceiling Speaker Calculator'!$C$29=\"Square\",AG$1,IF(OR(AND(ODD($A22)=$A22,ODD(AG$2)=AG$2),AND(EVEN($A22)=$A22,EVEN(AG$2)=AG$2)),AG$1,-100))","v":571.875},{"$f":"IF('Ceiling Speaker Calculator'!$C$29=\"Square\",AH$1,IF(OR(AND(ODD($A22)=$A22,ODD(AH$2)=AH$2),AND(EVEN($A22)=$A22,EVEN(AH$2)=AH$2)),AH$1,-100))","v":590.625},{"$f":"IF('Ceiling Speaker Calculator'!$C$29=\"Square\",AI$1,IF(OR(AND(ODD($A22)=$A22,ODD(AI$2)=AI$2),AND(EVEN($A22)=$A22,EVEN(AI$2)=AI$2)),AI$1,-100))","v":609.375},{"$f":"IF('Ceiling Speaker Calculator'!$C$29=\"Square\",AJ$1,IF(OR(AND(ODD($A22)=$A22,ODD(AJ$2)=AJ$2),AND(EVEN($A22)=$A22,EVEN(AJ$2)=AJ$2)),AJ$1,-100))","v":628.125},{"$f":"IF('Ceiling Speaker Calculator'!$C$29=\"Square\",AK$1,IF(OR(AND(ODD($A22)=$A22,ODD(AK$2)=AK$2),AND(EVEN($A22)=$A22,EVEN(AK$2)=AK$2)),AK$1,-100))","v":646.875},{"$f":"IF('Ceiling Speaker Calculator'!$C$29=\"Square\",AL$1,IF(OR(AND(ODD($A22)=$A22,ODD(AL$2)=AL$2),AND(EVEN($A22)=$A22,EVEN(AL$2)=AL$2)),AL$1,-100))","v":665.625},{"$f":"IF('Ceiling Speaker Calculator'!$C$29=\"Square\",AM$1,IF(OR(AND(ODD($A22)=$A22,ODD(AM$2)=AM$2),AND(EVEN($A22)=$A22,EVEN(AM$2)=AM$2)),AM$1,-100))","v":684.375},{"$f":"IF('Ceiling Speaker Calculator'!$C$29=\"Square\",AN$1,IF(OR(AND(ODD($A22)=$A22,ODD(AN$2)=AN$2),AND(EVEN($A22)=$A22,EVEN(AN$2)=AN$2)),AN$1,-100))","v":703.125},{"$f":"IF('Ceiling Speaker Calculator'!$C$29=\"Square\",AO$1,IF(OR(AND(ODD($A22)=$A22,ODD(AO$2)=AO$2),AND(EVEN($A22)=$A22,EVEN(AO$2)=AO$2)),AO$1,-100))","v":721.875},{"$f":"IF('Ceiling Speaker Calculator'!$C$29=\"Square\",AP$1,IF(OR(AND(ODD($A22)=$A22,ODD(AP$2)=AP$2),AND(EVEN($A22)=$A22,EVEN(AP$2)=AP$2)),AP$1,-100))","v":740.625},{"$f":"IF('Ceiling Speaker Calculator'!$C$29=\"Square\",AQ$1,IF(OR(AND(ODD($A22)=$A22,ODD(AQ$2)=AQ$2),AND(EVEN($A22)=$A22,EVEN(AQ$2)=AQ$2)),AQ$1,-100))","v":759.375},{"$f":"IF('Ceiling Speaker Calculator'!$C$29=\"Square\",AR$1,IF(OR(AND(ODD($A22)=$A22,ODD(AR$2)=AR$2),AND(EVEN($A22)=$A22,EVEN(AR$2)=AR$2)),AR$1,-100))","v":778.125},{"$f":"IF('Ceiling Speaker Calculator'!$C$29=\"Square\",AS$1,IF(OR(AND(ODD($A22)=$A22,ODD(AS$2)=AS$2),AND(EVEN($A22)=$A22,EVEN(AS$2)=AS$2)),AS$1,-100))","v":796.875},{"$f":"IF('Ceiling Speaker Calculator'!$C$29=\"Square\",AT$1,IF(OR(AND(ODD($A22)=$A22,ODD(AT$2)=AT$2),AND(EVEN($A22)=$A22,EVEN(AT$2)=AT$2)),AT$1,-100))","v":815.625},{"$f":"IF('Ceiling Speaker Calculator'!$C$29=\"Square\",AU$1,IF(OR(AND(ODD($A22)=$A22,ODD(AU$2)=AU$2),AND(EVEN($A22)=$A22,EVEN(AU$2)=AU$2)),AU$1,-100))","v":834.375},{"$f":"IF('Ceiling Speaker Calculator'!$C$29=\"Square\",AV$1,IF(OR(AND(ODD($A22)=$A22,ODD(AV$2)=AV$2),AND(EVEN($A22)=$A22,EVEN(AV$2)=AV$2)),AV$1,-100))","v":853.125},{"$f":"IF('Ceiling Speaker Calculator'!$C$29=\"Square\",AW$1,IF(OR(AND(ODD($A22)=$A22,ODD(AW$2)=AW$2),AND(EVEN($A22)=$A22,EVEN(AW$2)=AW$2)),AW$1,-100))","v":871.875},{"$f":"IF('Ceiling Speaker Calculator'!$C$29=\"Square\",AX$1,IF(OR(AND(ODD($A22)=$A22,ODD(AX$2)=AX$2),AND(EVEN($A22)=$A22,EVEN(AX$2)=AX$2)),AX$1,-100))","v":890.625},{"$f":"IF('Ceiling Speaker Calculator'!$C$29=\"Square\",AY$1,IF(OR(AND(ODD($A22)=$A22,ODD(AY$2)=AY$2),AND(EVEN($A22)=$A22,EVEN(AY$2)=AY$2)),AY$1,-100))","v":909.375},{"$f":"IF('Ceiling Speaker Calculator'!$C$29=\"Square\",AZ$1,IF(OR(AND(ODD($A22)=$A22,ODD(AZ$2)=AZ$2),AND(EVEN($A22)=$A22,EVEN(AZ$2)=AZ$2)),AZ$1,-100))","v":928.125},{"$f":"IF('Ceiling Speaker Calculator'!$C$29=\"Square\",BA$1,IF(OR(AND(ODD($A22)=$A22,ODD(BA$2)=BA$2),AND(EVEN($A22)=$A22,EVEN(BA$2)=BA$2)),BA$1,-100))","v":946.875},{"$f":"IF('Ceiling Speaker Calculator'!$C$29=\"Square\",BB$1,IF(OR(AND(ODD($A22)=$A22,ODD(BB$2)=BB$2),AND(EVEN($A22)=$A22,EVEN(BB$2)=BB$2)),BB$1,-100))","v":965.625},{"$f":"IF('Ceiling Speaker Calculator'!$C$29=\"Square\",BC$1,IF(OR(AND(ODD($A22)=$A22,ODD(BC$2)=BC$2),AND(EVEN($A22)=$A22,EVEN(BC$2)=BC$2)),BC$1,-100))","v":984.375},{"$f":"IF('Ceiling Speaker Calculator'!$C$29=\"Square\",BD$1,IF(OR(AND(ODD($A22)=$A22,ODD(BD$2)=BD$2),AND(EVEN($A22)=$A22,EVEN(BD$2)=BD$2)),BD$1,-100))","v":1003.125},{"$f":"IF('Ceiling Speaker Calculator'!$C$29=\"Square\",BE$1,IF(OR(AND(ODD($A22)=$A22,ODD(BE$2)=BE$2),AND(EVEN($A22)=$A22,EVEN(BE$2)=BE$2)),BE$1,-100))","v":1021.875},{"$f":"IF('Ceiling Speaker Calculator'!$C$29=\"Square\",BF$1,IF(OR(AND(ODD($A22)=$A22,ODD(BF$2)=BF$2),AND(EVEN($A22)=$A22,EVEN(BF$2)=BF$2)),BF$1,-100))","v":1040.625},{"$f":"IF('Ceiling Speaker Calculator'!$C$29=\"Square\",BG$1,IF(OR(AND(ODD($A22)=$A22,ODD(BG$2)=BG$2),AND(EVEN($A22)=$A22,EVEN(BG$2)=BG$2)),BG$1,-100))","v":1059.375},{"$f":"IF('Ceiling Speaker Calculator'!$C$29=\"Square\",BH$1,IF(OR(AND(ODD($A22)=$A22,ODD(BH$2)=BH$2),AND(EVEN($A22)=$A22,EVEN(BH$2)=BH$2)),BH$1,-100))","v":1078.125},{"$f":"IF('Ceiling Speaker Calculator'!$C$29=\"Square\",BI$1,IF(OR(AND(ODD($A22)=$A22,ODD(BI$2)=BI$2),AND(EVEN($A22)=$A22,EVEN(BI$2)=BI$2)),BI$1,-100))","v":1096.875},{"$f":"IF('Ceiling Speaker Calculator'!$C$29=\"Square\",BJ$1,IF(OR(AND(ODD($A22)=$A22,ODD(BJ$2)=BJ$2),AND(EVEN($A22)=$A22,EVEN(BJ$2)=BJ$2)),BJ$1,-100))","v":1115.625},{"$f":"IF('Ceiling Speaker Calculator'!$C$29=\"Square\",BK$1,IF(OR(AND(ODD($A22)=$A22,ODD(BK$2)=BK$2),AND(EVEN($A22)=$A22,EVEN(BK$2)=BK$2)),BK$1,-100))","v":1134.375},{"$f":"IF('Ceiling Speaker Calculator'!$C$29=\"Square\",BL$1,IF(OR(AND(ODD($A22)=$A22,ODD(BL$2)=BL$2),AND(EVEN($A22)=$A22,EVEN(BL$2)=BL$2)),BL$1,-100))","v":1153.125},{"$f":"IF('Ceiling Speaker Calculator'!$C$29=\"Square\",BM$1,IF(OR(AND(ODD($A22)=$A22,ODD(BM$2)=BM$2),AND(EVEN($A22)=$A22,EVEN(BM$2)=BM$2)),BM$1,-100))","v":1171.875},{"$f":"IF('Ceiling Speaker Calculator'!$C$29=\"Square\",BN$1,IF(OR(AND(ODD($A22)=$A22,ODD(BN$2)=BN$2),AND(EVEN($A22)=$A22,EVEN(BN$2)=BN$2)),BN$1,-100))","v":1190.625},{"$f":"IF('Ceiling Speaker Calculator'!$C$29=\"Square\",BO$1,IF(OR(AND(ODD($A22)=$A22,ODD(BO$2)=BO$2),AND(EVEN($A22)=$A22,EVEN(BO$2)=BO$2)),BO$1,-100))","v":1209.375},{"$f":"IF('Ceiling Speaker Calculator'!$C$29=\"Square\",BP$1,IF(OR(AND(ODD($A22)=$A22,ODD(BP$2)=BP$2),AND(EVEN($A22)=$A22,EVEN(BP$2)=BP$2)),BP$1,-100))","v":1228.125},{"$f":"IF('Ceiling Speaker Calculator'!$C$29=\"Square\",BQ$1,IF(OR(AND(ODD($A22)=$A22,ODD(BQ$2)=BQ$2),AND(EVEN($A22)=$A22,EVEN(BQ$2)=BQ$2)),BQ$1,-100))","v":1246.875},{"$f":"IF('Ceiling Speaker Calculator'!$C$29=\"Square\",BR$1,IF(OR(AND(ODD($A22)=$A22,ODD(BR$2)=BR$2),AND(EVEN($A22)=$A22,EVEN(BR$2)=BR$2)),BR$1,-100))","v":1265.625},{"$f":"IF('Ceiling Speaker Calculator'!$C$29=\"Square\",BS$1,IF(OR(AND(ODD($A22)=$A22,ODD(BS$2)=BS$2),AND(EVEN($A22)=$A22,EVEN(BS$2)=BS$2)),BS$1,-100))","v":1284.375},{"$f":"IF('Ceiling Speaker Calculator'!$C$29=\"Square\",BT$1,IF(OR(AND(ODD($A22)=$A22,ODD(BT$2)=BT$2),AND(EVEN($A22)=$A22,EVEN(BT$2)=BT$2)),BT$1,-100))","v":1303.125},{"$f":"IF('Ceiling Speaker Calculator'!$C$29=\"Square\",BU$1,IF(OR(AND(ODD($A22)=$A22,ODD(BU$2)=BU$2),AND(EVEN($A22)=$A22,EVEN(BU$2)=BU$2)),BU$1,-100))","v":1321.875},{"$f":"IF('Ceiling Speaker Calculator'!$C$29=\"Square\",BV$1,IF(OR(AND(ODD($A22)=$A22,ODD(BV$2)=BV$2),AND(EVEN($A22)=$A22,EVEN(BV$2)=BV$2)),BV$1,-100))","v":1340.625},{"$f":"IF('Ceiling Speaker Calculator'!$C$29=\"Square\",BW$1,IF(OR(AND(ODD($A22)=$A22,ODD(BW$2)=BW$2),AND(EVEN($A22)=$A22,EVEN(BW$2)=BW$2)),BW$1,-100))","v":1359.375},{"$f":"IF('Ceiling Speaker Calculator'!$C$29=\"Square\",BX$1,IF(OR(AND(ODD($A22)=$A22,ODD(BX$2)=BX$2),AND(EVEN($A22)=$A22,EVEN(BX$2)=BX$2)),BX$1,-100))","v":1378.125},{"$f":"IF('Ceiling Speaker Calculator'!$C$29=\"Square\",BY$1,IF(OR(AND(ODD($A22)=$A22,ODD(BY$2)=BY$2),AND(EVEN($A22)=$A22,EVEN(BY$2)=BY$2)),BY$1,-100))","v":1396.875},{"$f":"IF('Ceiling Speaker Calculator'!$C$29=\"Square\",BZ$1,IF(OR(AND(ODD($A22)=$A22,ODD(BZ$2)=BZ$2),AND(EVEN($A22)=$A22,EVEN(BZ$2)=BZ$2)),BZ$1,-100))","v":1415.625},{"$f":"IF('Ceiling Speaker Calculator'!$C$29=\"Square\",CA$1,IF(OR(AND(ODD($A22)=$A22,ODD(CA$2)=CA$2),AND(EVEN($A22)=$A22,EVEN(CA$2)=CA$2)),CA$1,-100))","v":1434.375},{"$f":"IF('Ceiling Speaker Calculator'!$C$29=\"Square\",CB$1,IF(OR(AND(ODD($A22)=$A22,ODD(CB$2)=CB$2),AND(EVEN($A22)=$A22,EVEN(CB$2)=CB$2)),CB$1,-100))","v":1453.125},{"$f":"IF('Ceiling Speaker Calculator'!$C$29=\"Square\",CC$1,IF(OR(AND(ODD($A22)=$A22,ODD(CC$2)=CC$2),AND(EVEN($A22)=$A22,EVEN(CC$2)=CC$2)),CC$1,-100))","v":1471.875},{"$f":"IF('Ceiling Speaker Calculator'!$C$29=\"Square\",CD$1,IF(OR(AND(ODD($A22)=$A22,ODD(CD$2)=CD$2),AND(EVEN($A22)=$A22,EVEN(CD$2)=CD$2)),CD$1,-100))","v":1490.625},{"$f":"IF('Ceiling Speaker Calculator'!$C$29=\"Square\",CE$1,IF(OR(AND(ODD($A22)=$A22,ODD(CE$2)=CE$2),AND(EVEN($A22)=$A22,EVEN(CE$2)=CE$2)),CE$1,-100))","v":1509.375},{"$f":"IF('Ceiling Speaker Calculator'!$C$29=\"Square\",CF$1,IF(OR(AND(ODD($A22)=$A22,ODD(CF$2)=CF$2),AND(EVEN($A22)=$A22,EVEN(CF$2)=CF$2)),CF$1,-100))","v":1528.125},{"$f":"IF('Ceiling Speaker Calculator'!$C$29=\"Square\",CG$1,IF(OR(AND(ODD($A22)=$A22,ODD(CG$2)=CG$2),AND(EVEN($A22)=$A22,EVEN(CG$2)=CG$2)),CG$1,-100))","v":1546.875},{"$f":"IF('Ceiling Speaker Calculator'!$C$29=\"Square\",CH$1,IF(OR(AND(ODD($A22)=$A22,ODD(CH$2)=CH$2),AND(EVEN($A22)=$A22,EVEN(CH$2)=CH$2)),CH$1,-100))","v":1565.625},{"$f":"IF('Ceiling Speaker Calculator'!$C$29=\"Square\",CI$1,IF(OR(AND(ODD($A22)=$A22,ODD(CI$2)=CI$2),AND(EVEN($A22)=$A22,EVEN(CI$2)=CI$2)),CI$1,-100))","v":1584.375},{"$f":"IF('Ceiling Speaker Calculator'!$C$29=\"Square\",CJ$1,IF(OR(AND(ODD($A22)=$A22,ODD(CJ$2)=CJ$2),AND(EVEN($A22)=$A22,EVEN(CJ$2)=CJ$2)),CJ$1,-100))","v":1603.125},{"$f":"IF('Ceiling Speaker Calculator'!$C$29=\"Square\",CK$1,IF(OR(AND(ODD($A22)=$A22,ODD(CK$2)=CK$2),AND(EVEN($A22)=$A22,EVEN(CK$2)=CK$2)),CK$1,-100))","v":1621.875},{"$f":"IF('Ceiling Speaker Calculator'!$C$29=\"Square\",CL$1,IF(OR(AND(ODD($A22)=$A22,ODD(CL$2)=CL$2),AND(EVEN($A22)=$A22,EVEN(CL$2)=CL$2)),CL$1,-100))","v":1640.625},{"$f":"IF('Ceiling Speaker Calculator'!$C$29=\"Square\",CM$1,IF(OR(AND(ODD($A22)=$A22,ODD(CM$2)=CM$2),AND(EVEN($A22)=$A22,EVEN(CM$2)=CM$2)),CM$1,-100))","v":1659.375},{"$f":"IF('Ceiling Speaker Calculator'!$C$29=\"Square\",CN$1,IF(OR(AND(ODD($A22)=$A22,ODD(CN$2)=CN$2),AND(EVEN($A22)=$A22,EVEN(CN$2)=CN$2)),CN$1,-100))","v":1678.125},{"$f":"IF('Ceiling Speaker Calculator'!$C$29=\"Square\",CO$1,IF(OR(AND(ODD($A22)=$A22,ODD(CO$2)=CO$2),AND(EVEN($A22)=$A22,EVEN(CO$2)=CO$2)),CO$1,-100))","v":1696.875},{"$f":"IF('Ceiling Speaker Calculator'!$C$29=\"Square\",CP$1,IF(OR(AND(ODD($A22)=$A22,ODD(CP$2)=CP$2),AND(EVEN($A22)=$A22,EVEN(CP$2)=CP$2)),CP$1,-100))","v":1715.625},{"$f":"IF('Ceiling Speaker Calculator'!$C$29=\"Square\",CQ$1,IF(OR(AND(ODD($A22)=$A22,ODD(CQ$2)=CQ$2),AND(EVEN($A22)=$A22,EVEN(CQ$2)=CQ$2)),CQ$1,-100))","v":1734.375},{"$f":"IF('Ceiling Speaker Calculator'!$C$29=\"Square\",CR$1,IF(OR(AND(ODD($A22)=$A22,ODD(CR$2)=CR$2),AND(EVEN($A22)=$A22,EVEN(CR$2)=CR$2)),CR$1,-100))","v":1753.125},{"$f":"IF('Ceiling Speaker Calculator'!$C$29=\"Square\",CS$1,IF(OR(AND(ODD($A22)=$A22,ODD(CS$2)=CS$2),AND(EVEN($A22)=$A22,EVEN(CS$2)=CS$2)),CS$1,-100))","v":1771.875},{"$f":"IF('Ceiling Speaker Calculator'!$C$29=\"Square\",CT$1,IF(OR(AND(ODD($A22)=$A22,ODD(CT$2)=CT$2),AND(EVEN($A22)=$A22,EVEN(CT$2)=CT$2)),CT$1,-100))","v":1790.625},{"$f":"IF('Ceiling Speaker Calculator'!$C$29=\"Square\",CU$1,IF(OR(AND(ODD($A22)=$A22,ODD(CU$2)=CU$2),AND(EVEN($A22)=$A22,EVEN(CU$2)=CU$2)),CU$1,-100))","v":1809.375},{"$f":"IF('Ceiling Speaker Calculator'!$C$29=\"Square\",CV$1,IF(OR(AND(ODD($A22)=$A22,ODD(CV$2)=CV$2),AND(EVEN($A22)=$A22,EVEN(CV$2)=CV$2)),CV$1,-100))","v":1828.125},{"$f":"IF('Ceiling Speaker Calculator'!$C$29=\"Square\",CW$1,IF(OR(AND(ODD($A22)=$A22,ODD(CW$2)=CW$2),AND(EVEN($A22)=$A22,EVEN(CW$2)=CW$2)),CW$1,-100))","v":1846.875},{"$f":"IF('Ceiling Speaker Calculator'!$C$29=\"Square\",CX$1,IF(OR(AND(ODD($A22)=$A22,ODD(CX$2)=CX$2),AND(EVEN($A22)=$A22,EVEN(CX$2)=CX$2)),CX$1,-100))","v":1865.625}]
[21,{"$f":"B22+'Ceiling Speaker Calculator'!$K$16","v":410},{"$f":"IF('Ceiling Speaker Calculator'!$C$29=\"Square\",C$1,IF(OR(AND(ODD($A23)=$A23,ODD(C$2)=C$2),AND(EVEN($A23)=$A23,EVEN(C$2)=C$2)),C$1,-100))","v":9.375},{"$f":"IF('Ceiling Speaker Calculator'!$C$29=\"Square\",D$1,IF(OR(AND(ODD($A23)=$A23,ODD(D$2)=D$2),AND(EVEN($A23)=$A23,EVEN(D$2)=D$2)),D$1,-100))","v":28.125},{"$f":"IF('Ceiling Speaker Calculator'!$C$29=\"Square\",E$1,IF(OR(AND(ODD($A23)=$A23,ODD(E$2)=E$2),AND(EVEN($A23)=$A23,EVEN(E$2)=E$2)),E$1,-100))","v":46.875},{"$f":"IF('Ceiling Speaker Calculator'!$C$29=\"Square\",F$1,IF(OR(AND(ODD($A23)=$A23,ODD(F$2)=F$2),AND(EVEN($A23)=$A23,EVEN(F$2)=F$2)),F$1,-100))","v":65.625},{"$f":"IF('Ceiling Speaker Calculator'!$C$29=\"Square\",G$1,IF(OR(AND(ODD($A23)=$A23,ODD(G$2)=G$2),AND(EVEN($A23)=$A23,EVEN(G$2)=G$2)),G$1,-100))","v":84.375},{"$f":"IF('Ceiling Speaker Calculator'!$C$29=\"Square\",H$1,IF(OR(AND(ODD($A23)=$A23,ODD(H$2)=H$2),AND(EVEN($A23)=$A23,EVEN(H$2)=H$2)),H$1,-100))","v":103.125},{"$f":"IF('Ceiling Speaker Calculator'!$C$29=\"Square\",I$1,IF(OR(AND(ODD($A23)=$A23,ODD(I$2)=I$2),AND(EVEN($A23)=$A23,EVEN(I$2)=I$2)),I$1,-100))","v":121.875},{"$f":"IF('Ceiling Speaker Calculator'!$C$29=\"Square\",J$1,IF(OR(AND(ODD($A23)=$A23,ODD(J$2)=J$2),AND(EVEN($A23)=$A23,EVEN(J$2)=J$2)),J$1,-100))","v":140.625},{"$f":"IF('Ceiling Speaker Calculator'!$C$29=\"Square\",K$1,IF(OR(AND(ODD($A23)=$A23,ODD(K$2)=K$2),AND(EVEN($A23)=$A23,EVEN(K$2)=K$2)),K$1,-100))","v":159.375},{"$f":"IF('Ceiling Speaker Calculator'!$C$29=\"Square\",L$1,IF(OR(AND(ODD($A23)=$A23,ODD(L$2)=L$2),AND(EVEN($A23)=$A23,EVEN(L$2)=L$2)),L$1,-100))","v":178.125},{"$f":"IF('Ceiling Speaker Calculator'!$C$29=\"Square\",M$1,IF(OR(AND(ODD($A23)=$A23,ODD(M$2)=M$2),AND(EVEN($A23)=$A23,EVEN(M$2)=M$2)),M$1,-100))","v":196.875},{"$f":"IF('Ceiling Speaker Calculator'!$C$29=\"Square\",N$1,IF(OR(AND(ODD($A23)=$A23,ODD(N$2)=N$2),AND(EVEN($A23)=$A23,EVEN(N$2)=N$2)),N$1,-100))","v":215.625},{"$f":"IF('Ceiling Speaker Calculator'!$C$29=\"Square\",O$1,IF(OR(AND(ODD($A23)=$A23,ODD(O$2)=O$2),AND(EVEN($A23)=$A23,EVEN(O$2)=O$2)),O$1,-100))","v":234.375},{"$f":"IF('Ceiling Speaker Calculator'!$C$29=\"Square\",P$1,IF(OR(AND(ODD($A23)=$A23,ODD(P$2)=P$2),AND(EVEN($A23)=$A23,EVEN(P$2)=P$2)),P$1,-100))","v":253.125},{"$f":"IF('Ceiling Speaker Calculator'!$C$29=\"Square\",Q$1,IF(OR(AND(ODD($A23)=$A23,ODD(Q$2)=Q$2),AND(EVEN($A23)=$A23,EVEN(Q$2)=Q$2)),Q$1,-100))","v":271.875},{"$f":"IF('Ceiling Speaker Calculator'!$C$29=\"Square\",R$1,IF(OR(AND(ODD($A23)=$A23,ODD(R$2)=R$2),AND(EVEN($A23)=$A23,EVEN(R$2)=R$2)),R$1,-100))","v":290.625},{"$f":"IF('Ceiling Speaker Calculator'!$C$29=\"Square\",S$1,IF(OR(AND(ODD($A23)=$A23,ODD(S$2)=S$2),AND(EVEN($A23)=$A23,EVEN(S$2)=S$2)),S$1,-100))","v":309.375},{"$f":"IF('Ceiling Speaker Calculator'!$C$29=\"Square\",T$1,IF(OR(AND(ODD($A23)=$A23,ODD(T$2)=T$2),AND(EVEN($A23)=$A23,EVEN(T$2)=T$2)),T$1,-100))","v":328.125},{"$f":"IF('Ceiling Speaker Calculator'!$C$29=\"Square\",U$1,IF(OR(AND(ODD($A23)=$A23,ODD(U$2)=U$2),AND(EVEN($A23)=$A23,EVEN(U$2)=U$2)),U$1,-100))","v":346.875},{"$f":"IF('Ceiling Speaker Calculator'!$C$29=\"Square\",V$1,IF(OR(AND(ODD($A23)=$A23,ODD(V$2)=V$2),AND(EVEN($A23)=$A23,EVEN(V$2)=V$2)),V$1,-100))","v":365.625},{"$f":"IF('Ceiling Speaker Calculator'!$C$29=\"Square\",W$1,IF(OR(AND(ODD($A23)=$A23,ODD(W$2)=W$2),AND(EVEN($A23)=$A23,EVEN(W$2)=W$2)),W$1,-100))","v":384.375},{"$f":"IF('Ceiling Speaker Calculator'!$C$29=\"Square\",X$1,IF(OR(AND(ODD($A23)=$A23,ODD(X$2)=X$2),AND(EVEN($A23)=$A23,EVEN(X$2)=X$2)),X$1,-100))","v":403.125},{"$f":"IF('Ceiling Speaker Calculator'!$C$29=\"Square\",Y$1,IF(OR(AND(ODD($A23)=$A23,ODD(Y$2)=Y$2),AND(EVEN($A23)=$A23,EVEN(Y$2)=Y$2)),Y$1,-100))","v":421.875},{"$f":"IF('Ceiling Speaker Calculator'!$C$29=\"Square\",Z$1,IF(OR(AND(ODD($A23)=$A23,ODD(Z$2)=Z$2),AND(EVEN($A23)=$A23,EVEN(Z$2)=Z$2)),Z$1,-100))","v":440.625},{"$f":"IF('Ceiling Speaker Calculator'!$C$29=\"Square\",AA$1,IF(OR(AND(ODD($A23)=$A23,ODD(AA$2)=AA$2),AND(EVEN($A23)=$A23,EVEN(AA$2)=AA$2)),AA$1,-100))","v":459.375},{"$f":"IF('Ceiling Speaker Calculator'!$C$29=\"Square\",AB$1,IF(OR(AND(ODD($A23)=$A23,ODD(AB$2)=AB$2),AND(EVEN($A23)=$A23,EVEN(AB$2)=AB$2)),AB$1,-100))","v":478.125},{"$f":"IF('Ceiling Speaker Calculator'!$C$29=\"Square\",AC$1,IF(OR(AND(ODD($A23)=$A23,ODD(AC$2)=AC$2),AND(EVEN($A23)=$A23,EVEN(AC$2)=AC$2)),AC$1,-100))","v":496.875},{"$f":"IF('Ceiling Speaker Calculator'!$C$29=\"Square\",AD$1,IF(OR(AND(ODD($A23)=$A23,ODD(AD$2)=AD$2),AND(EVEN($A23)=$A23,EVEN(AD$2)=AD$2)),AD$1,-100))","v":515.625},{"$f":"IF('Ceiling Speaker Calculator'!$C$29=\"Square\",AE$1,IF(OR(AND(ODD($A23)=$A23,ODD(AE$2)=AE$2),AND(EVEN($A23)=$A23,EVEN(AE$2)=AE$2)),AE$1,-100))","v":534.375},{"$f":"IF('Ceiling Speaker Calculator'!$C$29=\"Square\",AF$1,IF(OR(AND(ODD($A23)=$A23,ODD(AF$2)=AF$2),AND(EVEN($A23)=$A23,EVEN(AF$2)=AF$2)),AF$1,-100))","v":553.125},{"$f":"IF('Ceiling Speaker Calculator'!$C$29=\"Square\",AG$1,IF(OR(AND(ODD($A23)=$A23,ODD(AG$2)=AG$2),AND(EVEN($A23)=$A23,EVEN(AG$2)=AG$2)),AG$1,-100))","v":571.875},{"$f":"IF('Ceiling Speaker Calculator'!$C$29=\"Square\",AH$1,IF(OR(AND(ODD($A23)=$A23,ODD(AH$2)=AH$2),AND(EVEN($A23)=$A23,EVEN(AH$2)=AH$2)),AH$1,-100))","v":590.625},{"$f":"IF('Ceiling Speaker Calculator'!$C$29=\"Square\",AI$1,IF(OR(AND(ODD($A23)=$A23,ODD(AI$2)=AI$2),AND(EVEN($A23)=$A23,EVEN(AI$2)=AI$2)),AI$1,-100))","v":609.375},{"$f":"IF('Ceiling Speaker Calculator'!$C$29=\"Square\",AJ$1,IF(OR(AND(ODD($A23)=$A23,ODD(AJ$2)=AJ$2),AND(EVEN($A23)=$A23,EVEN(AJ$2)=AJ$2)),AJ$1,-100))","v":628.125},{"$f":"IF('Ceiling Speaker Calculator'!$C$29=\"Square\",AK$1,IF(OR(AND(ODD($A23)=$A23,ODD(AK$2)=AK$2),AND(EVEN($A23)=$A23,EVEN(AK$2)=AK$2)),AK$1,-100))","v":646.875},{"$f":"IF('Ceiling Speaker Calculator'!$C$29=\"Square\",AL$1,IF(OR(AND(ODD($A23)=$A23,ODD(AL$2)=AL$2),AND(EVEN($A23)=$A23,EVEN(AL$2)=AL$2)),AL$1,-100))","v":665.625},{"$f":"IF('Ceiling Speaker Calculator'!$C$29=\"Square\",AM$1,IF(OR(AND(ODD($A23)=$A23,ODD(AM$2)=AM$2),AND(EVEN($A23)=$A23,EVEN(AM$2)=AM$2)),AM$1,-100))","v":684.375},{"$f":"IF('Ceiling Speaker Calculator'!$C$29=\"Square\",AN$1,IF(OR(AND(ODD($A23)=$A23,ODD(AN$2)=AN$2),AND(EVEN($A23)=$A23,EVEN(AN$2)=AN$2)),AN$1,-100))","v":703.125},{"$f":"IF('Ceiling Speaker Calculator'!$C$29=\"Square\",AO$1,IF(OR(AND(ODD($A23)=$A23,ODD(AO$2)=AO$2),AND(EVEN($A23)=$A23,EVEN(AO$2)=AO$2)),AO$1,-100))","v":721.875},{"$f":"IF('Ceiling Speaker Calculator'!$C$29=\"Square\",AP$1,IF(OR(AND(ODD($A23)=$A23,ODD(AP$2)=AP$2),AND(EVEN($A23)=$A23,EVEN(AP$2)=AP$2)),AP$1,-100))","v":740.625},{"$f":"IF('Ceiling Speaker Calculator'!$C$29=\"Square\",AQ$1,IF(OR(AND(ODD($A23)=$A23,ODD(AQ$2)=AQ$2),AND(EVEN($A23)=$A23,EVEN(AQ$2)=AQ$2)),AQ$1,-100))","v":759.375},{"$f":"IF('Ceiling Speaker Calculator'!$C$29=\"Square\",AR$1,IF(OR(AND(ODD($A23)=$A23,ODD(AR$2)=AR$2),AND(EVEN($A23)=$A23,EVEN(AR$2)=AR$2)),AR$1,-100))","v":778.125},{"$f":"IF('Ceiling Speaker Calculator'!$C$29=\"Square\",AS$1,IF(OR(AND(ODD($A23)=$A23,ODD(AS$2)=AS$2),AND(EVEN($A23)=$A23,EVEN(AS$2)=AS$2)),AS$1,-100))","v":796.875},{"$f":"IF('Ceiling Speaker Calculator'!$C$29=\"Square\",AT$1,IF(OR(AND(ODD($A23)=$A23,ODD(AT$2)=AT$2),AND(EVEN($A23)=$A23,EVEN(AT$2)=AT$2)),AT$1,-100))","v":815.625},{"$f":"IF('Ceiling Speaker Calculator'!$C$29=\"Square\",AU$1,IF(OR(AND(ODD($A23)=$A23,ODD(AU$2)=AU$2),AND(EVEN($A23)=$A23,EVEN(AU$2)=AU$2)),AU$1,-100))","v":834.375},{"$f":"IF('Ceiling Speaker Calculator'!$C$29=\"Square\",AV$1,IF(OR(AND(ODD($A23)=$A23,ODD(AV$2)=AV$2),AND(EVEN($A23)=$A23,EVEN(AV$2)=AV$2)),AV$1,-100))","v":853.125},{"$f":"IF('Ceiling Speaker Calculator'!$C$29=\"Square\",AW$1,IF(OR(AND(ODD($A23)=$A23,ODD(AW$2)=AW$2),AND(EVEN($A23)=$A23,EVEN(AW$2)=AW$2)),AW$1,-100))","v":871.875},{"$f":"IF('Ceiling Speaker Calculator'!$C$29=\"Square\",AX$1,IF(OR(AND(ODD($A23)=$A23,ODD(AX$2)=AX$2),AND(EVEN($A23)=$A23,EVEN(AX$2)=AX$2)),AX$1,-100))","v":890.625},{"$f":"IF('Ceiling Speaker Calculator'!$C$29=\"Square\",AY$1,IF(OR(AND(ODD($A23)=$A23,ODD(AY$2)=AY$2),AND(EVEN($A23)=$A23,EVEN(AY$2)=AY$2)),AY$1,-100))","v":909.375},{"$f":"IF('Ceiling Speaker Calculator'!$C$29=\"Square\",AZ$1,IF(OR(AND(ODD($A23)=$A23,ODD(AZ$2)=AZ$2),AND(EVEN($A23)=$A23,EVEN(AZ$2)=AZ$2)),AZ$1,-100))","v":928.125},{"$f":"IF('Ceiling Speaker Calculator'!$C$29=\"Square\",BA$1,IF(OR(AND(ODD($A23)=$A23,ODD(BA$2)=BA$2),AND(EVEN($A23)=$A23,EVEN(BA$2)=BA$2)),BA$1,-100))","v":946.875},{"$f":"IF('Ceiling Speaker Calculator'!$C$29=\"Square\",BB$1,IF(OR(AND(ODD($A23)=$A23,ODD(BB$2)=BB$2),AND(EVEN($A23)=$A23,EVEN(BB$2)=BB$2)),BB$1,-100))","v":965.625},{"$f":"IF('Ceiling Speaker Calculator'!$C$29=\"Square\",BC$1,IF(OR(AND(ODD($A23)=$A23,ODD(BC$2)=BC$2),AND(EVEN($A23)=$A23,EVEN(BC$2)=BC$2)),BC$1,-100))","v":984.375},{"$f":"IF('Ceiling Speaker Calculator'!$C$29=\"Square\",BD$1,IF(OR(AND(ODD($A23)=$A23,ODD(BD$2)=BD$2),AND(EVEN($A23)=$A23,EVEN(BD$2)=BD$2)),BD$1,-100))","v":1003.125},{"$f":"IF('Ceiling Speaker Calculator'!$C$29=\"Square\",BE$1,IF(OR(AND(ODD($A23)=$A23,ODD(BE$2)=BE$2),AND(EVEN($A23)=$A23,EVEN(BE$2)=BE$2)),BE$1,-100))","v":1021.875},{"$f":"IF('Ceiling Speaker Calculator'!$C$29=\"Square\",BF$1,IF(OR(AND(ODD($A23)=$A23,ODD(BF$2)=BF$2),AND(EVEN($A23)=$A23,EVEN(BF$2)=BF$2)),BF$1,-100))","v":1040.625},{"$f":"IF('Ceiling Speaker Calculator'!$C$29=\"Square\",BG$1,IF(OR(AND(ODD($A23)=$A23,ODD(BG$2)=BG$2),AND(EVEN($A23)=$A23,EVEN(BG$2)=BG$2)),BG$1,-100))","v":1059.375},{"$f":"IF('Ceiling Speaker Calculator'!$C$29=\"Square\",BH$1,IF(OR(AND(ODD($A23)=$A23,ODD(BH$2)=BH$2),AND(EVEN($A23)=$A23,EVEN(BH$2)=BH$2)),BH$1,-100))","v":1078.125},{"$f":"IF('Ceiling Speaker Calculator'!$C$29=\"Square\",BI$1,IF(OR(AND(ODD($A23)=$A23,ODD(BI$2)=BI$2),AND(EVEN($A23)=$A23,EVEN(BI$2)=BI$2)),BI$1,-100))","v":1096.875},{"$f":"IF('Ceiling Speaker Calculator'!$C$29=\"Square\",BJ$1,IF(OR(AND(ODD($A23)=$A23,ODD(BJ$2)=BJ$2),AND(EVEN($A23)=$A23,EVEN(BJ$2)=BJ$2)),BJ$1,-100))","v":1115.625},{"$f":"IF('Ceiling Speaker Calculator'!$C$29=\"Square\",BK$1,IF(OR(AND(ODD($A23)=$A23,ODD(BK$2)=BK$2),AND(EVEN($A23)=$A23,EVEN(BK$2)=BK$2)),BK$1,-100))","v":1134.375},{"$f":"IF('Ceiling Speaker Calculator'!$C$29=\"Square\",BL$1,IF(OR(AND(ODD($A23)=$A23,ODD(BL$2)=BL$2),AND(EVEN($A23)=$A23,EVEN(BL$2)=BL$2)),BL$1,-100))","v":1153.125},{"$f":"IF('Ceiling Speaker Calculator'!$C$29=\"Square\",BM$1,IF(OR(AND(ODD($A23)=$A23,ODD(BM$2)=BM$2),AND(EVEN($A23)=$A23,EVEN(BM$2)=BM$2)),BM$1,-100))","v":1171.875},{"$f":"IF('Ceiling Speaker Calculator'!$C$29=\"Square\",BN$1,IF(OR(AND(ODD($A23)=$A23,ODD(BN$2)=BN$2),AND(EVEN($A23)=$A23,EVEN(BN$2)=BN$2)),BN$1,-100))","v":1190.625},{"$f":"IF('Ceiling Speaker Calculator'!$C$29=\"Square\",BO$1,IF(OR(AND(ODD($A23)=$A23,ODD(BO$2)=BO$2),AND(EVEN($A23)=$A23,EVEN(BO$2)=BO$2)),BO$1,-100))","v":1209.375},{"$f":"IF('Ceiling Speaker Calculator'!$C$29=\"Square\",BP$1,IF(OR(AND(ODD($A23)=$A23,ODD(BP$2)=BP$2),AND(EVEN($A23)=$A23,EVEN(BP$2)=BP$2)),BP$1,-100))","v":1228.125},{"$f":"IF('Ceiling Speaker Calculator'!$C$29=\"Square\",BQ$1,IF(OR(AND(ODD($A23)=$A23,ODD(BQ$2)=BQ$2),AND(EVEN($A23)=$A23,EVEN(BQ$2)=BQ$2)),BQ$1,-100))","v":1246.875},{"$f":"IF('Ceiling Speaker Calculator'!$C$29=\"Square\",BR$1,IF(OR(AND(ODD($A23)=$A23,ODD(BR$2)=BR$2),AND(EVEN($A23)=$A23,EVEN(BR$2)=BR$2)),BR$1,-100))","v":1265.625},{"$f":"IF('Ceiling Speaker Calculator'!$C$29=\"Square\",BS$1,IF(OR(AND(ODD($A23)=$A23,ODD(BS$2)=BS$2),AND(EVEN($A23)=$A23,EVEN(BS$2)=BS$2)),BS$1,-100))","v":1284.375},{"$f":"IF('Ceiling Speaker Calculator'!$C$29=\"Square\",BT$1,IF(OR(AND(ODD($A23)=$A23,ODD(BT$2)=BT$2),AND(EVEN($A23)=$A23,EVEN(BT$2)=BT$2)),BT$1,-100))","v":1303.125},{"$f":"IF('Ceiling Speaker Calculator'!$C$29=\"Square\",BU$1,IF(OR(AND(ODD($A23)=$A23,ODD(BU$2)=BU$2),AND(EVEN($A23)=$A23,EVEN(BU$2)=BU$2)),BU$1,-100))","v":1321.875},{"$f":"IF('Ceiling Speaker Calculator'!$C$29=\"Square\",BV$1,IF(OR(AND(ODD($A23)=$A23,ODD(BV$2)=BV$2),AND(EVEN($A23)=$A23,EVEN(BV$2)=BV$2)),BV$1,-100))","v":1340.625},{"$f":"IF('Ceiling Speaker Calculator'!$C$29=\"Square\",BW$1,IF(OR(AND(ODD($A23)=$A23,ODD(BW$2)=BW$2),AND(EVEN($A23)=$A23,EVEN(BW$2)=BW$2)),BW$1,-100))","v":1359.375},{"$f":"IF('Ceiling Speaker Calculator'!$C$29=\"Square\",BX$1,IF(OR(AND(ODD($A23)=$A23,ODD(BX$2)=BX$2),AND(EVEN($A23)=$A23,EVEN(BX$2)=BX$2)),BX$1,-100))","v":1378.125},{"$f":"IF('Ceiling Speaker Calculator'!$C$29=\"Square\",BY$1,IF(OR(AND(ODD($A23)=$A23,ODD(BY$2)=BY$2),AND(EVEN($A23)=$A23,EVEN(BY$2)=BY$2)),BY$1,-100))","v":1396.875},{"$f":"IF('Ceiling Speaker Calculator'!$C$29=\"Square\",BZ$1,IF(OR(AND(ODD($A23)=$A23,ODD(BZ$2)=BZ$2),AND(EVEN($A23)=$A23,EVEN(BZ$2)=BZ$2)),BZ$1,-100))","v":1415.625},{"$f":"IF('Ceiling Speaker Calculator'!$C$29=\"Square\",CA$1,IF(OR(AND(ODD($A23)=$A23,ODD(CA$2)=CA$2),AND(EVEN($A23)=$A23,EVEN(CA$2)=CA$2)),CA$1,-100))","v":1434.375},{"$f":"IF('Ceiling Speaker Calculator'!$C$29=\"Square\",CB$1,IF(OR(AND(ODD($A23)=$A23,ODD(CB$2)=CB$2),AND(EVEN($A23)=$A23,EVEN(CB$2)=CB$2)),CB$1,-100))","v":1453.125},{"$f":"IF('Ceiling Speaker Calculator'!$C$29=\"Square\",CC$1,IF(OR(AND(ODD($A23)=$A23,ODD(CC$2)=CC$2),AND(EVEN($A23)=$A23,EVEN(CC$2)=CC$2)),CC$1,-100))","v":1471.875},{"$f":"IF('Ceiling Speaker Calculator'!$C$29=\"Square\",CD$1,IF(OR(AND(ODD($A23)=$A23,ODD(CD$2)=CD$2),AND(EVEN($A23)=$A23,EVEN(CD$2)=CD$2)),CD$1,-100))","v":1490.625},{"$f":"IF('Ceiling Speaker Calculator'!$C$29=\"Square\",CE$1,IF(OR(AND(ODD($A23)=$A23,ODD(CE$2)=CE$2),AND(EVEN($A23)=$A23,EVEN(CE$2)=CE$2)),CE$1,-100))","v":1509.375},{"$f":"IF('Ceiling Speaker Calculator'!$C$29=\"Square\",CF$1,IF(OR(AND(ODD($A23)=$A23,ODD(CF$2)=CF$2),AND(EVEN($A23)=$A23,EVEN(CF$2)=CF$2)),CF$1,-100))","v":1528.125},{"$f":"IF('Ceiling Speaker Calculator'!$C$29=\"Square\",CG$1,IF(OR(AND(ODD($A23)=$A23,ODD(CG$2)=CG$2),AND(EVEN($A23)=$A23,EVEN(CG$2)=CG$2)),CG$1,-100))","v":1546.875},{"$f":"IF('Ceiling Speaker Calculator'!$C$29=\"Square\",CH$1,IF(OR(AND(ODD($A23)=$A23,ODD(CH$2)=CH$2),AND(EVEN($A23)=$A23,EVEN(CH$2)=CH$2)),CH$1,-100))","v":1565.625},{"$f":"IF('Ceiling Speaker Calculator'!$C$29=\"Square\",CI$1,IF(OR(AND(ODD($A23)=$A23,ODD(CI$2)=CI$2),AND(EVEN($A23)=$A23,EVEN(CI$2)=CI$2)),CI$1,-100))","v":1584.375},{"$f":"IF('Ceiling Speaker Calculator'!$C$29=\"Square\",CJ$1,IF(OR(AND(ODD($A23)=$A23,ODD(CJ$2)=CJ$2),AND(EVEN($A23)=$A23,EVEN(CJ$2)=CJ$2)),CJ$1,-100))","v":1603.125},{"$f":"IF('Ceiling Speaker Calculator'!$C$29=\"Square\",CK$1,IF(OR(AND(ODD($A23)=$A23,ODD(CK$2)=CK$2),AND(EVEN($A23)=$A23,EVEN(CK$2)=CK$2)),CK$1,-100))","v":1621.875},{"$f":"IF('Ceiling Speaker Calculator'!$C$29=\"Square\",CL$1,IF(OR(AND(ODD($A23)=$A23,ODD(CL$2)=CL$2),AND(EVEN($A23)=$A23,EVEN(CL$2)=CL$2)),CL$1,-100))","v":1640.625},{"$f":"IF('Ceiling Speaker Calculator'!$C$29=\"Square\",CM$1,IF(OR(AND(ODD($A23)=$A23,ODD(CM$2)=CM$2),AND(EVEN($A23)=$A23,EVEN(CM$2)=CM$2)),CM$1,-100))","v":1659.375},{"$f":"IF('Ceiling Speaker Calculator'!$C$29=\"Square\",CN$1,IF(OR(AND(ODD($A23)=$A23,ODD(CN$2)=CN$2),AND(EVEN($A23)=$A23,EVEN(CN$2)=CN$2)),CN$1,-100))","v":1678.125},{"$f":"IF('Ceiling Speaker Calculator'!$C$29=\"Square\",CO$1,IF(OR(AND(ODD($A23)=$A23,ODD(CO$2)=CO$2),AND(EVEN($A23)=$A23,EVEN(CO$2)=CO$2)),CO$1,-100))","v":1696.875},{"$f":"IF('Ceiling Speaker Calculator'!$C$29=\"Square\",CP$1,IF(OR(AND(ODD($A23)=$A23,ODD(CP$2)=CP$2),AND(EVEN($A23)=$A23,EVEN(CP$2)=CP$2)),CP$1,-100))","v":1715.625},{"$f":"IF('Ceiling Speaker Calculator'!$C$29=\"Square\",CQ$1,IF(OR(AND(ODD($A23)=$A23,ODD(CQ$2)=CQ$2),AND(EVEN($A23)=$A23,EVEN(CQ$2)=CQ$2)),CQ$1,-100))","v":1734.375},{"$f":"IF('Ceiling Speaker Calculator'!$C$29=\"Square\",CR$1,IF(OR(AND(ODD($A23)=$A23,ODD(CR$2)=CR$2),AND(EVEN($A23)=$A23,EVEN(CR$2)=CR$2)),CR$1,-100))","v":1753.125},{"$f":"IF('Ceiling Speaker Calculator'!$C$29=\"Square\",CS$1,IF(OR(AND(ODD($A23)=$A23,ODD(CS$2)=CS$2),AND(EVEN($A23)=$A23,EVEN(CS$2)=CS$2)),CS$1,-100))","v":1771.875},{"$f":"IF('Ceiling Speaker Calculator'!$C$29=\"Square\",CT$1,IF(OR(AND(ODD($A23)=$A23,ODD(CT$2)=CT$2),AND(EVEN($A23)=$A23,EVEN(CT$2)=CT$2)),CT$1,-100))","v":1790.625},{"$f":"IF('Ceiling Speaker Calculator'!$C$29=\"Square\",CU$1,IF(OR(AND(ODD($A23)=$A23,ODD(CU$2)=CU$2),AND(EVEN($A23)=$A23,EVEN(CU$2)=CU$2)),CU$1,-100))","v":1809.375},{"$f":"IF('Ceiling Speaker Calculator'!$C$29=\"Square\",CV$1,IF(OR(AND(ODD($A23)=$A23,ODD(CV$2)=CV$2),AND(EVEN($A23)=$A23,EVEN(CV$2)=CV$2)),CV$1,-100))","v":1828.125},{"$f":"IF('Ceiling Speaker Calculator'!$C$29=\"Square\",CW$1,IF(OR(AND(ODD($A23)=$A23,ODD(CW$2)=CW$2),AND(EVEN($A23)=$A23,EVEN(CW$2)=CW$2)),CW$1,-100))","v":1846.875},{"$f":"IF('Ceiling Speaker Calculator'!$C$29=\"Square\",CX$1,IF(OR(AND(ODD($A23)=$A23,ODD(CX$2)=CX$2),AND(EVEN($A23)=$A23,EVEN(CX$2)=CX$2)),CX$1,-100))","v":1865.625}]
[22,{"$f":"B23+'Ceiling Speaker Calculator'!$K$16","v":430},{"$f":"IF('Ceiling Speaker Calculator'!$C$29=\"Square\",C$1,IF(OR(AND(ODD($A24)=$A24,ODD(C$2)=C$2),AND(EVEN($A24)=$A24,EVEN(C$2)=C$2)),C$1,-100))","v":9.375},{"$f":"IF('Ceiling Speaker Calculator'!$C$29=\"Square\",D$1,IF(OR(AND(ODD($A24)=$A24,ODD(D$2)=D$2),AND(EVEN($A24)=$A24,EVEN(D$2)=D$2)),D$1,-100))","v":28.125},{"$f":"IF('Ceiling Speaker Calculator'!$C$29=\"Square\",E$1,IF(OR(AND(ODD($A24)=$A24,ODD(E$2)=E$2),AND(EVEN($A24)=$A24,EVEN(E$2)=E$2)),E$1,-100))","v":46.875},{"$f":"IF('Ceiling Speaker Calculator'!$C$29=\"Square\",F$1,IF(OR(AND(ODD($A24)=$A24,ODD(F$2)=F$2),AND(EVEN($A24)=$A24,EVEN(F$2)=F$2)),F$1,-100))","v":65.625},{"$f":"IF('Ceiling Speaker Calculator'!$C$29=\"Square\",G$1,IF(OR(AND(ODD($A24)=$A24,ODD(G$2)=G$2),AND(EVEN($A24)=$A24,EVEN(G$2)=G$2)),G$1,-100))","v":84.375},{"$f":"IF('Ceiling Speaker Calculator'!$C$29=\"Square\",H$1,IF(OR(AND(ODD($A24)=$A24,ODD(H$2)=H$2),AND(EVEN($A24)=$A24,EVEN(H$2)=H$2)),H$1,-100))","v":103.125},{"$f":"IF('Ceiling Speaker Calculator'!$C$29=\"Square\",I$1,IF(OR(AND(ODD($A24)=$A24,ODD(I$2)=I$2),AND(EVEN($A24)=$A24,EVEN(I$2)=I$2)),I$1,-100))","v":121.875},{"$f":"IF('Ceiling Speaker Calculator'!$C$29=\"Square\",J$1,IF(OR(AND(ODD($A24)=$A24,ODD(J$2)=J$2),AND(EVEN($A24)=$A24,EVEN(J$2)=J$2)),J$1,-100))","v":140.625},{"$f":"IF('Ceiling Speaker Calculator'!$C$29=\"Square\",K$1,IF(OR(AND(ODD($A24)=$A24,ODD(K$2)=K$2),AND(EVEN($A24)=$A24,EVEN(K$2)=K$2)),K$1,-100))","v":159.375},{"$f":"IF('Ceiling Speaker Calculator'!$C$29=\"Square\",L$1,IF(OR(AND(ODD($A24)=$A24,ODD(L$2)=L$2),AND(EVEN($A24)=$A24,EVEN(L$2)=L$2)),L$1,-100))","v":178.125},{"$f":"IF('Ceiling Speaker Calculator'!$C$29=\"Square\",M$1,IF(OR(AND(ODD($A24)=$A24,ODD(M$2)=M$2),AND(EVEN($A24)=$A24,EVEN(M$2)=M$2)),M$1,-100))","v":196.875},{"$f":"IF('Ceiling Speaker Calculator'!$C$29=\"Square\",N$1,IF(OR(AND(ODD($A24)=$A24,ODD(N$2)=N$2),AND(EVEN($A24)=$A24,EVEN(N$2)=N$2)),N$1,-100))","v":215.625},{"$f":"IF('Ceiling Speaker Calculator'!$C$29=\"Square\",O$1,IF(OR(AND(ODD($A24)=$A24,ODD(O$2)=O$2),AND(EVEN($A24)=$A24,EVEN(O$2)=O$2)),O$1,-100))","v":234.375},{"$f":"IF('Ceiling Speaker Calculator'!$C$29=\"Square\",P$1,IF(OR(AND(ODD($A24)=$A24,ODD(P$2)=P$2),AND(EVEN($A24)=$A24,EVEN(P$2)=P$2)),P$1,-100))","v":253.125},{"$f":"IF('Ceiling Speaker Calculator'!$C$29=\"Square\",Q$1,IF(OR(AND(ODD($A24)=$A24,ODD(Q$2)=Q$2),AND(EVEN($A24)=$A24,EVEN(Q$2)=Q$2)),Q$1,-100))","v":271.875},{"$f":"IF('Ceiling Speaker Calculator'!$C$29=\"Square\",R$1,IF(OR(AND(ODD($A24)=$A24,ODD(R$2)=R$2),AND(EVEN($A24)=$A24,EVEN(R$2)=R$2)),R$1,-100))","v":290.625},{"$f":"IF('Ceiling Speaker Calculator'!$C$29=\"Square\",S$1,IF(OR(AND(ODD($A24)=$A24,ODD(S$2)=S$2),AND(EVEN($A24)=$A24,EVEN(S$2)=S$2)),S$1,-100))","v":309.375},{"$f":"IF('Ceiling Speaker Calculator'!$C$29=\"Square\",T$1,IF(OR(AND(ODD($A24)=$A24,ODD(T$2)=T$2),AND(EVEN($A24)=$A24,EVEN(T$2)=T$2)),T$1,-100))","v":328.125},{"$f":"IF('Ceiling Speaker Calculator'!$C$29=\"Square\",U$1,IF(OR(AND(ODD($A24)=$A24,ODD(U$2)=U$2),AND(EVEN($A24)=$A24,EVEN(U$2)=U$2)),U$1,-100))","v":346.875},{"$f":"IF('Ceiling Speaker Calculator'!$C$29=\"Square\",V$1,IF(OR(AND(ODD($A24)=$A24,ODD(V$2)=V$2),AND(EVEN($A24)=$A24,EVEN(V$2)=V$2)),V$1,-100))","v":365.625},{"$f":"IF('Ceiling Speaker Calculator'!$C$29=\"Square\",W$1,IF(OR(AND(ODD($A24)=$A24,ODD(W$2)=W$2),AND(EVEN($A24)=$A24,EVEN(W$2)=W$2)),W$1,-100))","v":384.375},{"$f":"IF('Ceiling Speaker Calculator'!$C$29=\"Square\",X$1,IF(OR(AND(ODD($A24)=$A24,ODD(X$2)=X$2),AND(EVEN($A24)=$A24,EVEN(X$2)=X$2)),X$1,-100))","v":403.125},{"$f":"IF('Ceiling Speaker Calculator'!$C$29=\"Square\",Y$1,IF(OR(AND(ODD($A24)=$A24,ODD(Y$2)=Y$2),AND(EVEN($A24)=$A24,EVEN(Y$2)=Y$2)),Y$1,-100))","v":421.875},{"$f":"IF('Ceiling Speaker Calculator'!$C$29=\"Square\",Z$1,IF(OR(AND(ODD($A24)=$A24,ODD(Z$2)=Z$2),AND(EVEN($A24)=$A24,EVEN(Z$2)=Z$2)),Z$1,-100))","v":440.625},{"$f":"IF('Ceiling Speaker Calculator'!$C$29=\"Square\",AA$1,IF(OR(AND(ODD($A24)=$A24,ODD(AA$2)=AA$2),AND(EVEN($A24)=$A24,EVEN(AA$2)=AA$2)),AA$1,-100))","v":459.375},{"$f":"IF('Ceiling Speaker Calculator'!$C$29=\"Square\",AB$1,IF(OR(AND(ODD($A24)=$A24,ODD(AB$2)=AB$2),AND(EVEN($A24)=$A24,EVEN(AB$2)=AB$2)),AB$1,-100))","v":478.125},{"$f":"IF('Ceiling Speaker Calculator'!$C$29=\"Square\",AC$1,IF(OR(AND(ODD($A24)=$A24,ODD(AC$2)=AC$2),AND(EVEN($A24)=$A24,EVEN(AC$2)=AC$2)),AC$1,-100))","v":496.875},{"$f":"IF('Ceiling Speaker Calculator'!$C$29=\"Square\",AD$1,IF(OR(AND(ODD($A24)=$A24,ODD(AD$2)=AD$2),AND(EVEN($A24)=$A24,EVEN(AD$2)=AD$2)),AD$1,-100))","v":515.625},{"$f":"IF('Ceiling Speaker Calculator'!$C$29=\"Square\",AE$1,IF(OR(AND(ODD($A24)=$A24,ODD(AE$2)=AE$2),AND(EVEN($A24)=$A24,EVEN(AE$2)=AE$2)),AE$1,-100))","v":534.375},{"$f":"IF('Ceiling Speaker Calculator'!$C$29=\"Square\",AF$1,IF(OR(AND(ODD($A24)=$A24,ODD(AF$2)=AF$2),AND(EVEN($A24)=$A24,EVEN(AF$2)=AF$2)),AF$1,-100))","v":553.125},{"$f":"IF('Ceiling Speaker Calculator'!$C$29=\"Square\",AG$1,IF(OR(AND(ODD($A24)=$A24,ODD(AG$2)=AG$2),AND(EVEN($A24)=$A24,EVEN(AG$2)=AG$2)),AG$1,-100))","v":571.875},{"$f":"IF('Ceiling Speaker Calculator'!$C$29=\"Square\",AH$1,IF(OR(AND(ODD($A24)=$A24,ODD(AH$2)=AH$2),AND(EVEN($A24)=$A24,EVEN(AH$2)=AH$2)),AH$1,-100))","v":590.625},{"$f":"IF('Ceiling Speaker Calculator'!$C$29=\"Square\",AI$1,IF(OR(AND(ODD($A24)=$A24,ODD(AI$2)=AI$2),AND(EVEN($A24)=$A24,EVEN(AI$2)=AI$2)),AI$1,-100))","v":609.375},{"$f":"IF('Ceiling Speaker Calculator'!$C$29=\"Square\",AJ$1,IF(OR(AND(ODD($A24)=$A24,ODD(AJ$2)=AJ$2),AND(EVEN($A24)=$A24,EVEN(AJ$2)=AJ$2)),AJ$1,-100))","v":628.125},{"$f":"IF('Ceiling Speaker Calculator'!$C$29=\"Square\",AK$1,IF(OR(AND(ODD($A24)=$A24,ODD(AK$2)=AK$2),AND(EVEN($A24)=$A24,EVEN(AK$2)=AK$2)),AK$1,-100))","v":646.875},{"$f":"IF('Ceiling Speaker Calculator'!$C$29=\"Square\",AL$1,IF(OR(AND(ODD($A24)=$A24,ODD(AL$2)=AL$2),AND(EVEN($A24)=$A24,EVEN(AL$2)=AL$2)),AL$1,-100))","v":665.625},{"$f":"IF('Ceiling Speaker Calculator'!$C$29=\"Square\",AM$1,IF(OR(AND(ODD($A24)=$A24,ODD(AM$2)=AM$2),AND(EVEN($A24)=$A24,EVEN(AM$2)=AM$2)),AM$1,-100))","v":684.375},{"$f":"IF('Ceiling Speaker Calculator'!$C$29=\"Square\",AN$1,IF(OR(AND(ODD($A24)=$A24,ODD(AN$2)=AN$2),AND(EVEN($A24)=$A24,EVEN(AN$2)=AN$2)),AN$1,-100))","v":703.125},{"$f":"IF('Ceiling Speaker Calculator'!$C$29=\"Square\",AO$1,IF(OR(AND(ODD($A24)=$A24,ODD(AO$2)=AO$2),AND(EVEN($A24)=$A24,EVEN(AO$2)=AO$2)),AO$1,-100))","v":721.875},{"$f":"IF('Ceiling Speaker Calculator'!$C$29=\"Square\",AP$1,IF(OR(AND(ODD($A24)=$A24,ODD(AP$2)=AP$2),AND(EVEN($A24)=$A24,EVEN(AP$2)=AP$2)),AP$1,-100))","v":740.625},{"$f":"IF('Ceiling Speaker Calculator'!$C$29=\"Square\",AQ$1,IF(OR(AND(ODD($A24)=$A24,ODD(AQ$2)=AQ$2),AND(EVEN($A24)=$A24,EVEN(AQ$2)=AQ$2)),AQ$1,-100))","v":759.375},{"$f":"IF('Ceiling Speaker Calculator'!$C$29=\"Square\",AR$1,IF(OR(AND(ODD($A24)=$A24,ODD(AR$2)=AR$2),AND(EVEN($A24)=$A24,EVEN(AR$2)=AR$2)),AR$1,-100))","v":778.125},{"$f":"IF('Ceiling Speaker Calculator'!$C$29=\"Square\",AS$1,IF(OR(AND(ODD($A24)=$A24,ODD(AS$2)=AS$2),AND(EVEN($A24)=$A24,EVEN(AS$2)=AS$2)),AS$1,-100))","v":796.875},{"$f":"IF('Ceiling Speaker Calculator'!$C$29=\"Square\",AT$1,IF(OR(AND(ODD($A24)=$A24,ODD(AT$2)=AT$2),AND(EVEN($A24)=$A24,EVEN(AT$2)=AT$2)),AT$1,-100))","v":815.625},{"$f":"IF('Ceiling Speaker Calculator'!$C$29=\"Square\",AU$1,IF(OR(AND(ODD($A24)=$A24,ODD(AU$2)=AU$2),AND(EVEN($A24)=$A24,EVEN(AU$2)=AU$2)),AU$1,-100))","v":834.375},{"$f":"IF('Ceiling Speaker Calculator'!$C$29=\"Square\",AV$1,IF(OR(AND(ODD($A24)=$A24,ODD(AV$2)=AV$2),AND(EVEN($A24)=$A24,EVEN(AV$2)=AV$2)),AV$1,-100))","v":853.125},{"$f":"IF('Ceiling Speaker Calculator'!$C$29=\"Square\",AW$1,IF(OR(AND(ODD($A24)=$A24,ODD(AW$2)=AW$2),AND(EVEN($A24)=$A24,EVEN(AW$2)=AW$2)),AW$1,-100))","v":871.875},{"$f":"IF('Ceiling Speaker Calculator'!$C$29=\"Square\",AX$1,IF(OR(AND(ODD($A24)=$A24,ODD(AX$2)=AX$2),AND(EVEN($A24)=$A24,EVEN(AX$2)=AX$2)),AX$1,-100))","v":890.625},{"$f":"IF('Ceiling Speaker Calculator'!$C$29=\"Square\",AY$1,IF(OR(AND(ODD($A24)=$A24,ODD(AY$2)=AY$2),AND(EVEN($A24)=$A24,EVEN(AY$2)=AY$2)),AY$1,-100))","v":909.375},{"$f":"IF('Ceiling Speaker Calculator'!$C$29=\"Square\",AZ$1,IF(OR(AND(ODD($A24)=$A24,ODD(AZ$2)=AZ$2),AND(EVEN($A24)=$A24,EVEN(AZ$2)=AZ$2)),AZ$1,-100))","v":928.125},{"$f":"IF('Ceiling Speaker Calculator'!$C$29=\"Square\",BA$1,IF(OR(AND(ODD($A24)=$A24,ODD(BA$2)=BA$2),AND(EVEN($A24)=$A24,EVEN(BA$2)=BA$2)),BA$1,-100))","v":946.875},{"$f":"IF('Ceiling Speaker Calculator'!$C$29=\"Square\",BB$1,IF(OR(AND(ODD($A24)=$A24,ODD(BB$2)=BB$2),AND(EVEN($A24)=$A24,EVEN(BB$2)=BB$2)),BB$1,-100))","v":965.625},{"$f":"IF('Ceiling Speaker Calculator'!$C$29=\"Square\",BC$1,IF(OR(AND(ODD($A24)=$A24,ODD(BC$2)=BC$2),AND(EVEN($A24)=$A24,EVEN(BC$2)=BC$2)),BC$1,-100))","v":984.375},{"$f":"IF('Ceiling Speaker Calculator'!$C$29=\"Square\",BD$1,IF(OR(AND(ODD($A24)=$A24,ODD(BD$2)=BD$2),AND(EVEN($A24)=$A24,EVEN(BD$2)=BD$2)),BD$1,-100))","v":1003.125},{"$f":"IF('Ceiling Speaker Calculator'!$C$29=\"Square\",BE$1,IF(OR(AND(ODD($A24)=$A24,ODD(BE$2)=BE$2),AND(EVEN($A24)=$A24,EVEN(BE$2)=BE$2)),BE$1,-100))","v":1021.875},{"$f":"IF('Ceiling Speaker Calculator'!$C$29=\"Square\",BF$1,IF(OR(AND(ODD($A24)=$A24,ODD(BF$2)=BF$2),AND(EVEN($A24)=$A24,EVEN(BF$2)=BF$2)),BF$1,-100))","v":1040.625},{"$f":"IF('Ceiling Speaker Calculator'!$C$29=\"Square\",BG$1,IF(OR(AND(ODD($A24)=$A24,ODD(BG$2)=BG$2),AND(EVEN($A24)=$A24,EVEN(BG$2)=BG$2)),BG$1,-100))","v":1059.375},{"$f":"IF('Ceiling Speaker Calculator'!$C$29=\"Square\",BH$1,IF(OR(AND(ODD($A24)=$A24,ODD(BH$2)=BH$2),AND(EVEN($A24)=$A24,EVEN(BH$2)=BH$2)),BH$1,-100))","v":1078.125},{"$f":"IF('Ceiling Speaker Calculator'!$C$29=\"Square\",BI$1,IF(OR(AND(ODD($A24)=$A24,ODD(BI$2)=BI$2),AND(EVEN($A24)=$A24,EVEN(BI$2)=BI$2)),BI$1,-100))","v":1096.875},{"$f":"IF('Ceiling Speaker Calculator'!$C$29=\"Square\",BJ$1,IF(OR(AND(ODD($A24)=$A24,ODD(BJ$2)=BJ$2),AND(EVEN($A24)=$A24,EVEN(BJ$2)=BJ$2)),BJ$1,-100))","v":1115.625},{"$f":"IF('Ceiling Speaker Calculator'!$C$29=\"Square\",BK$1,IF(OR(AND(ODD($A24)=$A24,ODD(BK$2)=BK$2),AND(EVEN($A24)=$A24,EVEN(BK$2)=BK$2)),BK$1,-100))","v":1134.375},{"$f":"IF('Ceiling Speaker Calculator'!$C$29=\"Square\",BL$1,IF(OR(AND(ODD($A24)=$A24,ODD(BL$2)=BL$2),AND(EVEN($A24)=$A24,EVEN(BL$2)=BL$2)),BL$1,-100))","v":1153.125},{"$f":"IF('Ceiling Speaker Calculator'!$C$29=\"Square\",BM$1,IF(OR(AND(ODD($A24)=$A24,ODD(BM$2)=BM$2),AND(EVEN($A24)=$A24,EVEN(BM$2)=BM$2)),BM$1,-100))","v":1171.875},{"$f":"IF('Ceiling Speaker Calculator'!$C$29=\"Square\",BN$1,IF(OR(AND(ODD($A24)=$A24,ODD(BN$2)=BN$2),AND(EVEN($A24)=$A24,EVEN(BN$2)=BN$2)),BN$1,-100))","v":1190.625},{"$f":"IF('Ceiling Speaker Calculator'!$C$29=\"Square\",BO$1,IF(OR(AND(ODD($A24)=$A24,ODD(BO$2)=BO$2),AND(EVEN($A24)=$A24,EVEN(BO$2)=BO$2)),BO$1,-100))","v":1209.375},{"$f":"IF('Ceiling Speaker Calculator'!$C$29=\"Square\",BP$1,IF(OR(AND(ODD($A24)=$A24,ODD(BP$2)=BP$2),AND(EVEN($A24)=$A24,EVEN(BP$2)=BP$2)),BP$1,-100))","v":1228.125},{"$f":"IF('Ceiling Speaker Calculator'!$C$29=\"Square\",BQ$1,IF(OR(AND(ODD($A24)=$A24,ODD(BQ$2)=BQ$2),AND(EVEN($A24)=$A24,EVEN(BQ$2)=BQ$2)),BQ$1,-100))","v":1246.875},{"$f":"IF('Ceiling Speaker Calculator'!$C$29=\"Square\",BR$1,IF(OR(AND(ODD($A24)=$A24,ODD(BR$2)=BR$2),AND(EVEN($A24)=$A24,EVEN(BR$2)=BR$2)),BR$1,-100))","v":1265.625},{"$f":"IF('Ceiling Speaker Calculator'!$C$29=\"Square\",BS$1,IF(OR(AND(ODD($A24)=$A24,ODD(BS$2)=BS$2),AND(EVEN($A24)=$A24,EVEN(BS$2)=BS$2)),BS$1,-100))","v":1284.375},{"$f":"IF('Ceiling Speaker Calculator'!$C$29=\"Square\",BT$1,IF(OR(AND(ODD($A24)=$A24,ODD(BT$2)=BT$2),AND(EVEN($A24)=$A24,EVEN(BT$2)=BT$2)),BT$1,-100))","v":1303.125},{"$f":"IF('Ceiling Speaker Calculator'!$C$29=\"Square\",BU$1,IF(OR(AND(ODD($A24)=$A24,ODD(BU$2)=BU$2),AND(EVEN($A24)=$A24,EVEN(BU$2)=BU$2)),BU$1,-100))","v":1321.875},{"$f":"IF('Ceiling Speaker Calculator'!$C$29=\"Square\",BV$1,IF(OR(AND(ODD($A24)=$A24,ODD(BV$2)=BV$2),AND(EVEN($A24)=$A24,EVEN(BV$2)=BV$2)),BV$1,-100))","v":1340.625},{"$f":"IF('Ceiling Speaker Calculator'!$C$29=\"Square\",BW$1,IF(OR(AND(ODD($A24)=$A24,ODD(BW$2)=BW$2),AND(EVEN($A24)=$A24,EVEN(BW$2)=BW$2)),BW$1,-100))","v":1359.375},{"$f":"IF('Ceiling Speaker Calculator'!$C$29=\"Square\",BX$1,IF(OR(AND(ODD($A24)=$A24,ODD(BX$2)=BX$2),AND(EVEN($A24)=$A24,EVEN(BX$2)=BX$2)),BX$1,-100))","v":1378.125},{"$f":"IF('Ceiling Speaker Calculator'!$C$29=\"Square\",BY$1,IF(OR(AND(ODD($A24)=$A24,ODD(BY$2)=BY$2),AND(EVEN($A24)=$A24,EVEN(BY$2)=BY$2)),BY$1,-100))","v":1396.875},{"$f":"IF('Ceiling Speaker Calculator'!$C$29=\"Square\",BZ$1,IF(OR(AND(ODD($A24)=$A24,ODD(BZ$2)=BZ$2),AND(EVEN($A24)=$A24,EVEN(BZ$2)=BZ$2)),BZ$1,-100))","v":1415.625},{"$f":"IF('Ceiling Speaker Calculator'!$C$29=\"Square\",CA$1,IF(OR(AND(ODD($A24)=$A24,ODD(CA$2)=CA$2),AND(EVEN($A24)=$A24,EVEN(CA$2)=CA$2)),CA$1,-100))","v":1434.375},{"$f":"IF('Ceiling Speaker Calculator'!$C$29=\"Square\",CB$1,IF(OR(AND(ODD($A24)=$A24,ODD(CB$2)=CB$2),AND(EVEN($A24)=$A24,EVEN(CB$2)=CB$2)),CB$1,-100))","v":1453.125},{"$f":"IF('Ceiling Speaker Calculator'!$C$29=\"Square\",CC$1,IF(OR(AND(ODD($A24)=$A24,ODD(CC$2)=CC$2),AND(EVEN($A24)=$A24,EVEN(CC$2)=CC$2)),CC$1,-100))","v":1471.875},{"$f":"IF('Ceiling Speaker Calculator'!$C$29=\"Square\",CD$1,IF(OR(AND(ODD($A24)=$A24,ODD(CD$2)=CD$2),AND(EVEN($A24)=$A24,EVEN(CD$2)=CD$2)),CD$1,-100))","v":1490.625},{"$f":"IF('Ceiling Speaker Calculator'!$C$29=\"Square\",CE$1,IF(OR(AND(ODD($A24)=$A24,ODD(CE$2)=CE$2),AND(EVEN($A24)=$A24,EVEN(CE$2)=CE$2)),CE$1,-100))","v":1509.375},{"$f":"IF('Ceiling Speaker Calculator'!$C$29=\"Square\",CF$1,IF(OR(AND(ODD($A24)=$A24,ODD(CF$2)=CF$2),AND(EVEN($A24)=$A24,EVEN(CF$2)=CF$2)),CF$1,-100))","v":1528.125},{"$f":"IF('Ceiling Speaker Calculator'!$C$29=\"Square\",CG$1,IF(OR(AND(ODD($A24)=$A24,ODD(CG$2)=CG$2),AND(EVEN($A24)=$A24,EVEN(CG$2)=CG$2)),CG$1,-100))","v":1546.875},{"$f":"IF('Ceiling Speaker Calculator'!$C$29=\"Square\",CH$1,IF(OR(AND(ODD($A24)=$A24,ODD(CH$2)=CH$2),AND(EVEN($A24)=$A24,EVEN(CH$2)=CH$2)),CH$1,-100))","v":1565.625},{"$f":"IF('Ceiling Speaker Calculator'!$C$29=\"Square\",CI$1,IF(OR(AND(ODD($A24)=$A24,ODD(CI$2)=CI$2),AND(EVEN($A24)=$A24,EVEN(CI$2)=CI$2)),CI$1,-100))","v":1584.375},{"$f":"IF('Ceiling Speaker Calculator'!$C$29=\"Square\",CJ$1,IF(OR(AND(ODD($A24)=$A24,ODD(CJ$2)=CJ$2),AND(EVEN($A24)=$A24,EVEN(CJ$2)=CJ$2)),CJ$1,-100))","v":1603.125},{"$f":"IF('Ceiling Speaker Calculator'!$C$29=\"Square\",CK$1,IF(OR(AND(ODD($A24)=$A24,ODD(CK$2)=CK$2),AND(EVEN($A24)=$A24,EVEN(CK$2)=CK$2)),CK$1,-100))","v":1621.875},{"$f":"IF('Ceiling Speaker Calculator'!$C$29=\"Square\",CL$1,IF(OR(AND(ODD($A24)=$A24,ODD(CL$2)=CL$2),AND(EVEN($A24)=$A24,EVEN(CL$2)=CL$2)),CL$1,-100))","v":1640.625},{"$f":"IF('Ceiling Speaker Calculator'!$C$29=\"Square\",CM$1,IF(OR(AND(ODD($A24)=$A24,ODD(CM$2)=CM$2),AND(EVEN($A24)=$A24,EVEN(CM$2)=CM$2)),CM$1,-100))","v":1659.375},{"$f":"IF('Ceiling Speaker Calculator'!$C$29=\"Square\",CN$1,IF(OR(AND(ODD($A24)=$A24,ODD(CN$2)=CN$2),AND(EVEN($A24)=$A24,EVEN(CN$2)=CN$2)),CN$1,-100))","v":1678.125},{"$f":"IF('Ceiling Speaker Calculator'!$C$29=\"Square\",CO$1,IF(OR(AND(ODD($A24)=$A24,ODD(CO$2)=CO$2),AND(EVEN($A24)=$A24,EVEN(CO$2)=CO$2)),CO$1,-100))","v":1696.875},{"$f":"IF('Ceiling Speaker Calculator'!$C$29=\"Square\",CP$1,IF(OR(AND(ODD($A24)=$A24,ODD(CP$2)=CP$2),AND(EVEN($A24)=$A24,EVEN(CP$2)=CP$2)),CP$1,-100))","v":1715.625},{"$f":"IF('Ceiling Speaker Calculator'!$C$29=\"Square\",CQ$1,IF(OR(AND(ODD($A24)=$A24,ODD(CQ$2)=CQ$2),AND(EVEN($A24)=$A24,EVEN(CQ$2)=CQ$2)),CQ$1,-100))","v":1734.375},{"$f":"IF('Ceiling Speaker Calculator'!$C$29=\"Square\",CR$1,IF(OR(AND(ODD($A24)=$A24,ODD(CR$2)=CR$2),AND(EVEN($A24)=$A24,EVEN(CR$2)=CR$2)),CR$1,-100))","v":1753.125},{"$f":"IF('Ceiling Speaker Calculator'!$C$29=\"Square\",CS$1,IF(OR(AND(ODD($A24)=$A24,ODD(CS$2)=CS$2),AND(EVEN($A24)=$A24,EVEN(CS$2)=CS$2)),CS$1,-100))","v":1771.875},{"$f":"IF('Ceiling Speaker Calculator'!$C$29=\"Square\",CT$1,IF(OR(AND(ODD($A24)=$A24,ODD(CT$2)=CT$2),AND(EVEN($A24)=$A24,EVEN(CT$2)=CT$2)),CT$1,-100))","v":1790.625},{"$f":"IF('Ceiling Speaker Calculator'!$C$29=\"Square\",CU$1,IF(OR(AND(ODD($A24)=$A24,ODD(CU$2)=CU$2),AND(EVEN($A24)=$A24,EVEN(CU$2)=CU$2)),CU$1,-100))","v":1809.375},{"$f":"IF('Ceiling Speaker Calculator'!$C$29=\"Square\",CV$1,IF(OR(AND(ODD($A24)=$A24,ODD(CV$2)=CV$2),AND(EVEN($A24)=$A24,EVEN(CV$2)=CV$2)),CV$1,-100))","v":1828.125},{"$f":"IF('Ceiling Speaker Calculator'!$C$29=\"Square\",CW$1,IF(OR(AND(ODD($A24)=$A24,ODD(CW$2)=CW$2),AND(EVEN($A24)=$A24,EVEN(CW$2)=CW$2)),CW$1,-100))","v":1846.875},{"$f":"IF('Ceiling Speaker Calculator'!$C$29=\"Square\",CX$1,IF(OR(AND(ODD($A24)=$A24,ODD(CX$2)=CX$2),AND(EVEN($A24)=$A24,EVEN(CX$2)=CX$2)),CX$1,-100))","v":1865.625}]
[23,{"$f":"B24+'Ceiling Speaker Calculator'!$K$16","v":450},{"$f":"IF('Ceiling Speaker Calculator'!$C$29=\"Square\",C$1,IF(OR(AND(ODD($A25)=$A25,ODD(C$2)=C$2),AND(EVEN($A25)=$A25,EVEN(C$2)=C$2)),C$1,-100))","v":9.375},{"$f":"IF('Ceiling Speaker Calculator'!$C$29=\"Square\",D$1,IF(OR(AND(ODD($A25)=$A25,ODD(D$2)=D$2),AND(EVEN($A25)=$A25,EVEN(D$2)=D$2)),D$1,-100))","v":28.125},{"$f":"IF('Ceiling Speaker Calculator'!$C$29=\"Square\",E$1,IF(OR(AND(ODD($A25)=$A25,ODD(E$2)=E$2),AND(EVEN($A25)=$A25,EVEN(E$2)=E$2)),E$1,-100))","v":46.875},{"$f":"IF('Ceiling Speaker Calculator'!$C$29=\"Square\",F$1,IF(OR(AND(ODD($A25)=$A25,ODD(F$2)=F$2),AND(EVEN($A25)=$A25,EVEN(F$2)=F$2)),F$1,-100))","v":65.625},{"$f":"IF('Ceiling Speaker Calculator'!$C$29=\"Square\",G$1,IF(OR(AND(ODD($A25)=$A25,ODD(G$2)=G$2),AND(EVEN($A25)=$A25,EVEN(G$2)=G$2)),G$1,-100))","v":84.375},{"$f":"IF('Ceiling Speaker Calculator'!$C$29=\"Square\",H$1,IF(OR(AND(ODD($A25)=$A25,ODD(H$2)=H$2),AND(EVEN($A25)=$A25,EVEN(H$2)=H$2)),H$1,-100))","v":103.125},{"$f":"IF('Ceiling Speaker Calculator'!$C$29=\"Square\",I$1,IF(OR(AND(ODD($A25)=$A25,ODD(I$2)=I$2),AND(EVEN($A25)=$A25,EVEN(I$2)=I$2)),I$1,-100))","v":121.875},{"$f":"IF('Ceiling Speaker Calculator'!$C$29=\"Square\",J$1,IF(OR(AND(ODD($A25)=$A25,ODD(J$2)=J$2),AND(EVEN($A25)=$A25,EVEN(J$2)=J$2)),J$1,-100))","v":140.625},{"$f":"IF('Ceiling Speaker Calculator'!$C$29=\"Square\",K$1,IF(OR(AND(ODD($A25)=$A25,ODD(K$2)=K$2),AND(EVEN($A25)=$A25,EVEN(K$2)=K$2)),K$1,-100))","v":159.375},{"$f":"IF('Ceiling Speaker Calculator'!$C$29=\"Square\",L$1,IF(OR(AND(ODD($A25)=$A25,ODD(L$2)=L$2),AND(EVEN($A25)=$A25,EVEN(L$2)=L$2)),L$1,-100))","v":178.125},{"$f":"IF('Ceiling Speaker Calculator'!$C$29=\"Square\",M$1,IF(OR(AND(ODD($A25)=$A25,ODD(M$2)=M$2),AND(EVEN($A25)=$A25,EVEN(M$2)=M$2)),M$1,-100))","v":196.875},{"$f":"IF('Ceiling Speaker Calculator'!$C$29=\"Square\",N$1,IF(OR(AND(ODD($A25)=$A25,ODD(N$2)=N$2),AND(EVEN($A25)=$A25,EVEN(N$2)=N$2)),N$1,-100))","v":215.625},{"$f":"IF('Ceiling Speaker Calculator'!$C$29=\"Square\",O$1,IF(OR(AND(ODD($A25)=$A25,ODD(O$2)=O$2),AND(EVEN($A25)=$A25,EVEN(O$2)=O$2)),O$1,-100))","v":234.375},{"$f":"IF('Ceiling Speaker Calculator'!$C$29=\"Square\",P$1,IF(OR(AND(ODD($A25)=$A25,ODD(P$2)=P$2),AND(EVEN($A25)=$A25,EVEN(P$2)=P$2)),P$1,-100))","v":253.125},{"$f":"IF('Ceiling Speaker Calculator'!$C$29=\"Square\",Q$1,IF(OR(AND(ODD($A25)=$A25,ODD(Q$2)=Q$2),AND(EVEN($A25)=$A25,EVEN(Q$2)=Q$2)),Q$1,-100))","v":271.875},{"$f":"IF('Ceiling Speaker Calculator'!$C$29=\"Square\",R$1,IF(OR(AND(ODD($A25)=$A25,ODD(R$2)=R$2),AND(EVEN($A25)=$A25,EVEN(R$2)=R$2)),R$1,-100))","v":290.625},{"$f":"IF('Ceiling Speaker Calculator'!$C$29=\"Square\",S$1,IF(OR(AND(ODD($A25)=$A25,ODD(S$2)=S$2),AND(EVEN($A25)=$A25,EVEN(S$2)=S$2)),S$1,-100))","v":309.375},{"$f":"IF('Ceiling Speaker Calculator'!$C$29=\"Square\",T$1,IF(OR(AND(ODD($A25)=$A25,ODD(T$2)=T$2),AND(EVEN($A25)=$A25,EVEN(T$2)=T$2)),T$1,-100))","v":328.125},{"$f":"IF('Ceiling Speaker Calculator'!$C$29=\"Square\",U$1,IF(OR(AND(ODD($A25)=$A25,ODD(U$2)=U$2),AND(EVEN($A25)=$A25,EVEN(U$2)=U$2)),U$1,-100))","v":346.875},{"$f":"IF('Ceiling Speaker Calculator'!$C$29=\"Square\",V$1,IF(OR(AND(ODD($A25)=$A25,ODD(V$2)=V$2),AND(EVEN($A25)=$A25,EVEN(V$2)=V$2)),V$1,-100))","v":365.625},{"$f":"IF('Ceiling Speaker Calculator'!$C$29=\"Square\",W$1,IF(OR(AND(ODD($A25)=$A25,ODD(W$2)=W$2),AND(EVEN($A25)=$A25,EVEN(W$2)=W$2)),W$1,-100))","v":384.375},{"$f":"IF('Ceiling Speaker Calculator'!$C$29=\"Square\",X$1,IF(OR(AND(ODD($A25)=$A25,ODD(X$2)=X$2),AND(EVEN($A25)=$A25,EVEN(X$2)=X$2)),X$1,-100))","v":403.125},{"$f":"IF('Ceiling Speaker Calculator'!$C$29=\"Square\",Y$1,IF(OR(AND(ODD($A25)=$A25,ODD(Y$2)=Y$2),AND(EVEN($A25)=$A25,EVEN(Y$2)=Y$2)),Y$1,-100))","v":421.875},{"$f":"IF('Ceiling Speaker Calculator'!$C$29=\"Square\",Z$1,IF(OR(AND(ODD($A25)=$A25,ODD(Z$2)=Z$2),AND(EVEN($A25)=$A25,EVEN(Z$2)=Z$2)),Z$1,-100))","v":440.625},{"$f":"IF('Ceiling Speaker Calculator'!$C$29=\"Square\",AA$1,IF(OR(AND(ODD($A25)=$A25,ODD(AA$2)=AA$2),AND(EVEN($A25)=$A25,EVEN(AA$2)=AA$2)),AA$1,-100))","v":459.375},{"$f":"IF('Ceiling Speaker Calculator'!$C$29=\"Square\",AB$1,IF(OR(AND(ODD($A25)=$A25,ODD(AB$2)=AB$2),AND(EVEN($A25)=$A25,EVEN(AB$2)=AB$2)),AB$1,-100))","v":478.125},{"$f":"IF('Ceiling Speaker Calculator'!$C$29=\"Square\",AC$1,IF(OR(AND(ODD($A25)=$A25,ODD(AC$2)=AC$2),AND(EVEN($A25)=$A25,EVEN(AC$2)=AC$2)),AC$1,-100))","v":496.875},{"$f":"IF('Ceiling Speaker Calculator'!$C$29=\"Square\",AD$1,IF(OR(AND(ODD($A25)=$A25,ODD(AD$2)=AD$2),AND(EVEN($A25)=$A25,EVEN(AD$2)=AD$2)),AD$1,-100))","v":515.625},{"$f":"IF('Ceiling Speaker Calculator'!$C$29=\"Square\",AE$1,IF(OR(AND(ODD($A25)=$A25,ODD(AE$2)=AE$2),AND(EVEN($A25)=$A25,EVEN(AE$2)=AE$2)),AE$1,-100))","v":534.375},{"$f":"IF('Ceiling Speaker Calculator'!$C$29=\"Square\",AF$1,IF(OR(AND(ODD($A25)=$A25,ODD(AF$2)=AF$2),AND(EVEN($A25)=$A25,EVEN(AF$2)=AF$2)),AF$1,-100))","v":553.125},{"$f":"IF('Ceiling Speaker Calculator'!$C$29=\"Square\",AG$1,IF(OR(AND(ODD($A25)=$A25,ODD(AG$2)=AG$2),AND(EVEN($A25)=$A25,EVEN(AG$2)=AG$2)),AG$1,-100))","v":571.875},{"$f":"IF('Ceiling Speaker Calculator'!$C$29=\"Square\",AH$1,IF(OR(AND(ODD($A25)=$A25,ODD(AH$2)=AH$2),AND(EVEN($A25)=$A25,EVEN(AH$2)=AH$2)),AH$1,-100))","v":590.625},{"$f":"IF('Ceiling Speaker Calculator'!$C$29=\"Square\",AI$1,IF(OR(AND(ODD($A25)=$A25,ODD(AI$2)=AI$2),AND(EVEN($A25)=$A25,EVEN(AI$2)=AI$2)),AI$1,-100))","v":609.375},{"$f":"IF('Ceiling Speaker Calculator'!$C$29=\"Square\",AJ$1,IF(OR(AND(ODD($A25)=$A25,ODD(AJ$2)=AJ$2),AND(EVEN($A25)=$A25,EVEN(AJ$2)=AJ$2)),AJ$1,-100))","v":628.125},{"$f":"IF('Ceiling Speaker Calculator'!$C$29=\"Square\",AK$1,IF(OR(AND(ODD($A25)=$A25,ODD(AK$2)=AK$2),AND(EVEN($A25)=$A25,EVEN(AK$2)=AK$2)),AK$1,-100))","v":646.875},{"$f":"IF('Ceiling Speaker Calculator'!$C$29=\"Square\",AL$1,IF(OR(AND(ODD($A25)=$A25,ODD(AL$2)=AL$2),AND(EVEN($A25)=$A25,EVEN(AL$2)=AL$2)),AL$1,-100))","v":665.625},{"$f":"IF('Ceiling Speaker Calculator'!$C$29=\"Square\",AM$1,IF(OR(AND(ODD($A25)=$A25,ODD(AM$2)=AM$2),AND(EVEN($A25)=$A25,EVEN(AM$2)=AM$2)),AM$1,-100))","v":684.375},{"$f":"IF('Ceiling Speaker Calculator'!$C$29=\"Square\",AN$1,IF(OR(AND(ODD($A25)=$A25,ODD(AN$2)=AN$2),AND(EVEN($A25)=$A25,EVEN(AN$2)=AN$2)),AN$1,-100))","v":703.125},{"$f":"IF('Ceiling Speaker Calculator'!$C$29=\"Square\",AO$1,IF(OR(AND(ODD($A25)=$A25,ODD(AO$2)=AO$2),AND(EVEN($A25)=$A25,EVEN(AO$2)=AO$2)),AO$1,-100))","v":721.875},{"$f":"IF('Ceiling Speaker Calculator'!$C$29=\"Square\",AP$1,IF(OR(AND(ODD($A25)=$A25,ODD(AP$2)=AP$2),AND(EVEN($A25)=$A25,EVEN(AP$2)=AP$2)),AP$1,-100))","v":740.625},{"$f":"IF('Ceiling Speaker Calculator'!$C$29=\"Square\",AQ$1,IF(OR(AND(ODD($A25)=$A25,ODD(AQ$2)=AQ$2),AND(EVEN($A25)=$A25,EVEN(AQ$2)=AQ$2)),AQ$1,-100))","v":759.375},{"$f":"IF('Ceiling Speaker Calculator'!$C$29=\"Square\",AR$1,IF(OR(AND(ODD($A25)=$A25,ODD(AR$2)=AR$2),AND(EVEN($A25)=$A25,EVEN(AR$2)=AR$2)),AR$1,-100))","v":778.125},{"$f":"IF('Ceiling Speaker Calculator'!$C$29=\"Square\",AS$1,IF(OR(AND(ODD($A25)=$A25,ODD(AS$2)=AS$2),AND(EVEN($A25)=$A25,EVEN(AS$2)=AS$2)),AS$1,-100))","v":796.875},{"$f":"IF('Ceiling Speaker Calculator'!$C$29=\"Square\",AT$1,IF(OR(AND(ODD($A25)=$A25,ODD(AT$2)=AT$2),AND(EVEN($A25)=$A25,EVEN(AT$2)=AT$2)),AT$1,-100))","v":815.625},{"$f":"IF('Ceiling Speaker Calculator'!$C$29=\"Square\",AU$1,IF(OR(AND(ODD($A25)=$A25,ODD(AU$2)=AU$2),AND(EVEN($A25)=$A25,EVEN(AU$2)=AU$2)),AU$1,-100))","v":834.375},{"$f":"IF('Ceiling Speaker Calculator'!$C$29=\"Square\",AV$1,IF(OR(AND(ODD($A25)=$A25,ODD(AV$2)=AV$2),AND(EVEN($A25)=$A25,EVEN(AV$2)=AV$2)),AV$1,-100))","v":853.125},{"$f":"IF('Ceiling Speaker Calculator'!$C$29=\"Square\",AW$1,IF(OR(AND(ODD($A25)=$A25,ODD(AW$2)=AW$2),AND(EVEN($A25)=$A25,EVEN(AW$2)=AW$2)),AW$1,-100))","v":871.875},{"$f":"IF('Ceiling Speaker Calculator'!$C$29=\"Square\",AX$1,IF(OR(AND(ODD($A25)=$A25,ODD(AX$2)=AX$2),AND(EVEN($A25)=$A25,EVEN(AX$2)=AX$2)),AX$1,-100))","v":890.625},{"$f":"IF('Ceiling Speaker Calculator'!$C$29=\"Square\",AY$1,IF(OR(AND(ODD($A25)=$A25,ODD(AY$2)=AY$2),AND(EVEN($A25)=$A25,EVEN(AY$2)=AY$2)),AY$1,-100))","v":909.375},{"$f":"IF('Ceiling Speaker Calculator'!$C$29=\"Square\",AZ$1,IF(OR(AND(ODD($A25)=$A25,ODD(AZ$2)=AZ$2),AND(EVEN($A25)=$A25,EVEN(AZ$2)=AZ$2)),AZ$1,-100))","v":928.125},{"$f":"IF('Ceiling Speaker Calculator'!$C$29=\"Square\",BA$1,IF(OR(AND(ODD($A25)=$A25,ODD(BA$2)=BA$2),AND(EVEN($A25)=$A25,EVEN(BA$2)=BA$2)),BA$1,-100))","v":946.875},{"$f":"IF('Ceiling Speaker Calculator'!$C$29=\"Square\",BB$1,IF(OR(AND(ODD($A25)=$A25,ODD(BB$2)=BB$2),AND(EVEN($A25)=$A25,EVEN(BB$2)=BB$2)),BB$1,-100))","v":965.625},{"$f":"IF('Ceiling Speaker Calculator'!$C$29=\"Square\",BC$1,IF(OR(AND(ODD($A25)=$A25,ODD(BC$2)=BC$2),AND(EVEN($A25)=$A25,EVEN(BC$2)=BC$2)),BC$1,-100))","v":984.375},{"$f":"IF('Ceiling Speaker Calculator'!$C$29=\"Square\",BD$1,IF(OR(AND(ODD($A25)=$A25,ODD(BD$2)=BD$2),AND(EVEN($A25)=$A25,EVEN(BD$2)=BD$2)),BD$1,-100))","v":1003.125},{"$f":"IF('Ceiling Speaker Calculator'!$C$29=\"Square\",BE$1,IF(OR(AND(ODD($A25)=$A25,ODD(BE$2)=BE$2),AND(EVEN($A25)=$A25,EVEN(BE$2)=BE$2)),BE$1,-100))","v":1021.875},{"$f":"IF('Ceiling Speaker Calculator'!$C$29=\"Square\",BF$1,IF(OR(AND(ODD($A25)=$A25,ODD(BF$2)=BF$2),AND(EVEN($A25)=$A25,EVEN(BF$2)=BF$2)),BF$1,-100))","v":1040.625},{"$f":"IF('Ceiling Speaker Calculator'!$C$29=\"Square\",BG$1,IF(OR(AND(ODD($A25)=$A25,ODD(BG$2)=BG$2),AND(EVEN($A25)=$A25,EVEN(BG$2)=BG$2)),BG$1,-100))","v":1059.375},{"$f":"IF('Ceiling Speaker Calculator'!$C$29=\"Square\",BH$1,IF(OR(AND(ODD($A25)=$A25,ODD(BH$2)=BH$2),AND(EVEN($A25)=$A25,EVEN(BH$2)=BH$2)),BH$1,-100))","v":1078.125},{"$f":"IF('Ceiling Speaker Calculator'!$C$29=\"Square\",BI$1,IF(OR(AND(ODD($A25)=$A25,ODD(BI$2)=BI$2),AND(EVEN($A25)=$A25,EVEN(BI$2)=BI$2)),BI$1,-100))","v":1096.875},{"$f":"IF('Ceiling Speaker Calculator'!$C$29=\"Square\",BJ$1,IF(OR(AND(ODD($A25)=$A25,ODD(BJ$2)=BJ$2),AND(EVEN($A25)=$A25,EVEN(BJ$2)=BJ$2)),BJ$1,-100))","v":1115.625},{"$f":"IF('Ceiling Speaker Calculator'!$C$29=\"Square\",BK$1,IF(OR(AND(ODD($A25)=$A25,ODD(BK$2)=BK$2),AND(EVEN($A25)=$A25,EVEN(BK$2)=BK$2)),BK$1,-100))","v":1134.375},{"$f":"IF('Ceiling Speaker Calculator'!$C$29=\"Square\",BL$1,IF(OR(AND(ODD($A25)=$A25,ODD(BL$2)=BL$2),AND(EVEN($A25)=$A25,EVEN(BL$2)=BL$2)),BL$1,-100))","v":1153.125},{"$f":"IF('Ceiling Speaker Calculator'!$C$29=\"Square\",BM$1,IF(OR(AND(ODD($A25)=$A25,ODD(BM$2)=BM$2),AND(EVEN($A25)=$A25,EVEN(BM$2)=BM$2)),BM$1,-100))","v":1171.875},{"$f":"IF('Ceiling Speaker Calculator'!$C$29=\"Square\",BN$1,IF(OR(AND(ODD($A25)=$A25,ODD(BN$2)=BN$2),AND(EVEN($A25)=$A25,EVEN(BN$2)=BN$2)),BN$1,-100))","v":1190.625},{"$f":"IF('Ceiling Speaker Calculator'!$C$29=\"Square\",BO$1,IF(OR(AND(ODD($A25)=$A25,ODD(BO$2)=BO$2),AND(EVEN($A25)=$A25,EVEN(BO$2)=BO$2)),BO$1,-100))","v":1209.375},{"$f":"IF('Ceiling Speaker Calculator'!$C$29=\"Square\",BP$1,IF(OR(AND(ODD($A25)=$A25,ODD(BP$2)=BP$2),AND(EVEN($A25)=$A25,EVEN(BP$2)=BP$2)),BP$1,-100))","v":1228.125},{"$f":"IF('Ceiling Speaker Calculator'!$C$29=\"Square\",BQ$1,IF(OR(AND(ODD($A25)=$A25,ODD(BQ$2)=BQ$2),AND(EVEN($A25)=$A25,EVEN(BQ$2)=BQ$2)),BQ$1,-100))","v":1246.875},{"$f":"IF('Ceiling Speaker Calculator'!$C$29=\"Square\",BR$1,IF(OR(AND(ODD($A25)=$A25,ODD(BR$2)=BR$2),AND(EVEN($A25)=$A25,EVEN(BR$2)=BR$2)),BR$1,-100))","v":1265.625},{"$f":"IF('Ceiling Speaker Calculator'!$C$29=\"Square\",BS$1,IF(OR(AND(ODD($A25)=$A25,ODD(BS$2)=BS$2),AND(EVEN($A25)=$A25,EVEN(BS$2)=BS$2)),BS$1,-100))","v":1284.375},{"$f":"IF('Ceiling Speaker Calculator'!$C$29=\"Square\",BT$1,IF(OR(AND(ODD($A25)=$A25,ODD(BT$2)=BT$2),AND(EVEN($A25)=$A25,EVEN(BT$2)=BT$2)),BT$1,-100))","v":1303.125},{"$f":"IF('Ceiling Speaker Calculator'!$C$29=\"Square\",BU$1,IF(OR(AND(ODD($A25)=$A25,ODD(BU$2)=BU$2),AND(EVEN($A25)=$A25,EVEN(BU$2)=BU$2)),BU$1,-100))","v":1321.875},{"$f":"IF('Ceiling Speaker Calculator'!$C$29=\"Square\",BV$1,IF(OR(AND(ODD($A25)=$A25,ODD(BV$2)=BV$2),AND(EVEN($A25)=$A25,EVEN(BV$2)=BV$2)),BV$1,-100))","v":1340.625},{"$f":"IF('Ceiling Speaker Calculator'!$C$29=\"Square\",BW$1,IF(OR(AND(ODD($A25)=$A25,ODD(BW$2)=BW$2),AND(EVEN($A25)=$A25,EVEN(BW$2)=BW$2)),BW$1,-100))","v":1359.375},{"$f":"IF('Ceiling Speaker Calculator'!$C$29=\"Square\",BX$1,IF(OR(AND(ODD($A25)=$A25,ODD(BX$2)=BX$2),AND(EVEN($A25)=$A25,EVEN(BX$2)=BX$2)),BX$1,-100))","v":1378.125},{"$f":"IF('Ceiling Speaker Calculator'!$C$29=\"Square\",BY$1,IF(OR(AND(ODD($A25)=$A25,ODD(BY$2)=BY$2),AND(EVEN($A25)=$A25,EVEN(BY$2)=BY$2)),BY$1,-100))","v":1396.875},{"$f":"IF('Ceiling Speaker Calculator'!$C$29=\"Square\",BZ$1,IF(OR(AND(ODD($A25)=$A25,ODD(BZ$2)=BZ$2),AND(EVEN($A25)=$A25,EVEN(BZ$2)=BZ$2)),BZ$1,-100))","v":1415.625},{"$f":"IF('Ceiling Speaker Calculator'!$C$29=\"Square\",CA$1,IF(OR(AND(ODD($A25)=$A25,ODD(CA$2)=CA$2),AND(EVEN($A25)=$A25,EVEN(CA$2)=CA$2)),CA$1,-100))","v":1434.375},{"$f":"IF('Ceiling Speaker Calculator'!$C$29=\"Square\",CB$1,IF(OR(AND(ODD($A25)=$A25,ODD(CB$2)=CB$2),AND(EVEN($A25)=$A25,EVEN(CB$2)=CB$2)),CB$1,-100))","v":1453.125},{"$f":"IF('Ceiling Speaker Calculator'!$C$29=\"Square\",CC$1,IF(OR(AND(ODD($A25)=$A25,ODD(CC$2)=CC$2),AND(EVEN($A25)=$A25,EVEN(CC$2)=CC$2)),CC$1,-100))","v":1471.875},{"$f":"IF('Ceiling Speaker Calculator'!$C$29=\"Square\",CD$1,IF(OR(AND(ODD($A25)=$A25,ODD(CD$2)=CD$2),AND(EVEN($A25)=$A25,EVEN(CD$2)=CD$2)),CD$1,-100))","v":1490.625},{"$f":"IF('Ceiling Speaker Calculator'!$C$29=\"Square\",CE$1,IF(OR(AND(ODD($A25)=$A25,ODD(CE$2)=CE$2),AND(EVEN($A25)=$A25,EVEN(CE$2)=CE$2)),CE$1,-100))","v":1509.375},{"$f":"IF('Ceiling Speaker Calculator'!$C$29=\"Square\",CF$1,IF(OR(AND(ODD($A25)=$A25,ODD(CF$2)=CF$2),AND(EVEN($A25)=$A25,EVEN(CF$2)=CF$2)),CF$1,-100))","v":1528.125},{"$f":"IF('Ceiling Speaker Calculator'!$C$29=\"Square\",CG$1,IF(OR(AND(ODD($A25)=$A25,ODD(CG$2)=CG$2),AND(EVEN($A25)=$A25,EVEN(CG$2)=CG$2)),CG$1,-100))","v":1546.875},{"$f":"IF('Ceiling Speaker Calculator'!$C$29=\"Square\",CH$1,IF(OR(AND(ODD($A25)=$A25,ODD(CH$2)=CH$2),AND(EVEN($A25)=$A25,EVEN(CH$2)=CH$2)),CH$1,-100))","v":1565.625},{"$f":"IF('Ceiling Speaker Calculator'!$C$29=\"Square\",CI$1,IF(OR(AND(ODD($A25)=$A25,ODD(CI$2)=CI$2),AND(EVEN($A25)=$A25,EVEN(CI$2)=CI$2)),CI$1,-100))","v":1584.375},{"$f":"IF('Ceiling Speaker Calculator'!$C$29=\"Square\",CJ$1,IF(OR(AND(ODD($A25)=$A25,ODD(CJ$2)=CJ$2),AND(EVEN($A25)=$A25,EVEN(CJ$2)=CJ$2)),CJ$1,-100))","v":1603.125},{"$f":"IF('Ceiling Speaker Calculator'!$C$29=\"Square\",CK$1,IF(OR(AND(ODD($A25)=$A25,ODD(CK$2)=CK$2),AND(EVEN($A25)=$A25,EVEN(CK$2)=CK$2)),CK$1,-100))","v":1621.875},{"$f":"IF('Ceiling Speaker Calculator'!$C$29=\"Square\",CL$1,IF(OR(AND(ODD($A25)=$A25,ODD(CL$2)=CL$2),AND(EVEN($A25)=$A25,EVEN(CL$2)=CL$2)),CL$1,-100))","v":1640.625},{"$f":"IF('Ceiling Speaker Calculator'!$C$29=\"Square\",CM$1,IF(OR(AND(ODD($A25)=$A25,ODD(CM$2)=CM$2),AND(EVEN($A25)=$A25,EVEN(CM$2)=CM$2)),CM$1,-100))","v":1659.375},{"$f":"IF('Ceiling Speaker Calculator'!$C$29=\"Square\",CN$1,IF(OR(AND(ODD($A25)=$A25,ODD(CN$2)=CN$2),AND(EVEN($A25)=$A25,EVEN(CN$2)=CN$2)),CN$1,-100))","v":1678.125},{"$f":"IF('Ceiling Speaker Calculator'!$C$29=\"Square\",CO$1,IF(OR(AND(ODD($A25)=$A25,ODD(CO$2)=CO$2),AND(EVEN($A25)=$A25,EVEN(CO$2)=CO$2)),CO$1,-100))","v":1696.875},{"$f":"IF('Ceiling Speaker Calculator'!$C$29=\"Square\",CP$1,IF(OR(AND(ODD($A25)=$A25,ODD(CP$2)=CP$2),AND(EVEN($A25)=$A25,EVEN(CP$2)=CP$2)),CP$1,-100))","v":1715.625},{"$f":"IF('Ceiling Speaker Calculator'!$C$29=\"Square\",CQ$1,IF(OR(AND(ODD($A25)=$A25,ODD(CQ$2)=CQ$2),AND(EVEN($A25)=$A25,EVEN(CQ$2)=CQ$2)),CQ$1,-100))","v":1734.375},{"$f":"IF('Ceiling Speaker Calculator'!$C$29=\"Square\",CR$1,IF(OR(AND(ODD($A25)=$A25,ODD(CR$2)=CR$2),AND(EVEN($A25)=$A25,EVEN(CR$2)=CR$2)),CR$1,-100))","v":1753.125},{"$f":"IF('Ceiling Speaker Calculator'!$C$29=\"Square\",CS$1,IF(OR(AND(ODD($A25)=$A25,ODD(CS$2)=CS$2),AND(EVEN($A25)=$A25,EVEN(CS$2)=CS$2)),CS$1,-100))","v":1771.875},{"$f":"IF('Ceiling Speaker Calculator'!$C$29=\"Square\",CT$1,IF(OR(AND(ODD($A25)=$A25,ODD(CT$2)=CT$2),AND(EVEN($A25)=$A25,EVEN(CT$2)=CT$2)),CT$1,-100))","v":1790.625},{"$f":"IF('Ceiling Speaker Calculator'!$C$29=\"Square\",CU$1,IF(OR(AND(ODD($A25)=$A25,ODD(CU$2)=CU$2),AND(EVEN($A25)=$A25,EVEN(CU$2)=CU$2)),CU$1,-100))","v":1809.375},{"$f":"IF('Ceiling Speaker Calculator'!$C$29=\"Square\",CV$1,IF(OR(AND(ODD($A25)=$A25,ODD(CV$2)=CV$2),AND(EVEN($A25)=$A25,EVEN(CV$2)=CV$2)),CV$1,-100))","v":1828.125},{"$f":"IF('Ceiling Speaker Calculator'!$C$29=\"Square\",CW$1,IF(OR(AND(ODD($A25)=$A25,ODD(CW$2)=CW$2),AND(EVEN($A25)=$A25,EVEN(CW$2)=CW$2)),CW$1,-100))","v":1846.875},{"$f":"IF('Ceiling Speaker Calculator'!$C$29=\"Square\",CX$1,IF(OR(AND(ODD($A25)=$A25,ODD(CX$2)=CX$2),AND(EVEN($A25)=$A25,EVEN(CX$2)=CX$2)),CX$1,-100))","v":1865.625}]
[24,{"$f":"B25+'Ceiling Speaker Calculator'!$K$16","v":470},{"$f":"IF('Ceiling Speaker Calculator'!$C$29=\"Square\",C$1,IF(OR(AND(ODD($A26)=$A26,ODD(C$2)=C$2),AND(EVEN($A26)=$A26,EVEN(C$2)=C$2)),C$1,-100))","v":9.375},{"$f":"IF('Ceiling Speaker Calculator'!$C$29=\"Square\",D$1,IF(OR(AND(ODD($A26)=$A26,ODD(D$2)=D$2),AND(EVEN($A26)=$A26,EVEN(D$2)=D$2)),D$1,-100))","v":28.125},{"$f":"IF('Ceiling Speaker Calculator'!$C$29=\"Square\",E$1,IF(OR(AND(ODD($A26)=$A26,ODD(E$2)=E$2),AND(EVEN($A26)=$A26,EVEN(E$2)=E$2)),E$1,-100))","v":46.875},{"$f":"IF('Ceiling Speaker Calculator'!$C$29=\"Square\",F$1,IF(OR(AND(ODD($A26)=$A26,ODD(F$2)=F$2),AND(EVEN($A26)=$A26,EVEN(F$2)=F$2)),F$1,-100))","v":65.625},{"$f":"IF('Ceiling Speaker Calculator'!$C$29=\"Square\",G$1,IF(OR(AND(ODD($A26)=$A26,ODD(G$2)=G$2),AND(EVEN($A26)=$A26,EVEN(G$2)=G$2)),G$1,-100))","v":84.375},{"$f":"IF('Ceiling Speaker Calculator'!$C$29=\"Square\",H$1,IF(OR(AND(ODD($A26)=$A26,ODD(H$2)=H$2),AND(EVEN($A26)=$A26,EVEN(H$2)=H$2)),H$1,-100))","v":103.125},{"$f":"IF('Ceiling Speaker Calculator'!$C$29=\"Square\",I$1,IF(OR(AND(ODD($A26)=$A26,ODD(I$2)=I$2),AND(EVEN($A26)=$A26,EVEN(I$2)=I$2)),I$1,-100))","v":121.875},{"$f":"IF('Ceiling Speaker Calculator'!$C$29=\"Square\",J$1,IF(OR(AND(ODD($A26)=$A26,ODD(J$2)=J$2),AND(EVEN($A26)=$A26,EVEN(J$2)=J$2)),J$1,-100))","v":140.625},{"$f":"IF('Ceiling Speaker Calculator'!$C$29=\"Square\",K$1,IF(OR(AND(ODD($A26)=$A26,ODD(K$2)=K$2),AND(EVEN($A26)=$A26,EVEN(K$2)=K$2)),K$1,-100))","v":159.375},{"$f":"IF('Ceiling Speaker Calculator'!$C$29=\"Square\",L$1,IF(OR(AND(ODD($A26)=$A26,ODD(L$2)=L$2),AND(EVEN($A26)=$A26,EVEN(L$2)=L$2)),L$1,-100))","v":178.125},{"$f":"IF('Ceiling Speaker Calculator'!$C$29=\"Square\",M$1,IF(OR(AND(ODD($A26)=$A26,ODD(M$2)=M$2),AND(EVEN($A26)=$A26,EVEN(M$2)=M$2)),M$1,-100))","v":196.875},{"$f":"IF('Ceiling Speaker Calculator'!$C$29=\"Square\",N$1,IF(OR(AND(ODD($A26)=$A26,ODD(N$2)=N$2),AND(EVEN($A26)=$A26,EVEN(N$2)=N$2)),N$1,-100))","v":215.625},{"$f":"IF('Ceiling Speaker Calculator'!$C$29=\"Square\",O$1,IF(OR(AND(ODD($A26)=$A26,ODD(O$2)=O$2),AND(EVEN($A26)=$A26,EVEN(O$2)=O$2)),O$1,-100))","v":234.375},{"$f":"IF('Ceiling Speaker Calculator'!$C$29=\"Square\",P$1,IF(OR(AND(ODD($A26)=$A26,ODD(P$2)=P$2),AND(EVEN($A26)=$A26,EVEN(P$2)=P$2)),P$1,-100))","v":253.125},{"$f":"IF('Ceiling Speaker Calculator'!$C$29=\"Square\",Q$1,IF(OR(AND(ODD($A26)=$A26,ODD(Q$2)=Q$2),AND(EVEN($A26)=$A26,EVEN(Q$2)=Q$2)),Q$1,-100))","v":271.875},{"$f":"IF('Ceiling Speaker Calculator'!$C$29=\"Square\",R$1,IF(OR(AND(ODD($A26)=$A26,ODD(R$2)=R$2),AND(EVEN($A26)=$A26,EVEN(R$2)=R$2)),R$1,-100))","v":290.625},{"$f":"IF('Ceiling Speaker Calculator'!$C$29=\"Square\",S$1,IF(OR(AND(ODD($A26)=$A26,ODD(S$2)=S$2),AND(EVEN($A26)=$A26,EVEN(S$2)=S$2)),S$1,-100))","v":309.375},{"$f":"IF('Ceiling Speaker Calculator'!$C$29=\"Square\",T$1,IF(OR(AND(ODD($A26)=$A26,ODD(T$2)=T$2),AND(EVEN($A26)=$A26,EVEN(T$2)=T$2)),T$1,-100))","v":328.125},{"$f":"IF('Ceiling Speaker Calculator'!$C$29=\"Square\",U$1,IF(OR(AND(ODD($A26)=$A26,ODD(U$2)=U$2),AND(EVEN($A26)=$A26,EVEN(U$2)=U$2)),U$1,-100))","v":346.875},{"$f":"IF('Ceiling Speaker Calculator'!$C$29=\"Square\",V$1,IF(OR(AND(ODD($A26)=$A26,ODD(V$2)=V$2),AND(EVEN($A26)=$A26,EVEN(V$2)=V$2)),V$1,-100))","v":365.625},{"$f":"IF('Ceiling Speaker Calculator'!$C$29=\"Square\",W$1,IF(OR(AND(ODD($A26)=$A26,ODD(W$2)=W$2),AND(EVEN($A26)=$A26,EVEN(W$2)=W$2)),W$1,-100))","v":384.375},{"$f":"IF('Ceiling Speaker Calculator'!$C$29=\"Square\",X$1,IF(OR(AND(ODD($A26)=$A26,ODD(X$2)=X$2),AND(EVEN($A26)=$A26,EVEN(X$2)=X$2)),X$1,-100))","v":403.125},{"$f":"IF('Ceiling Speaker Calculator'!$C$29=\"Square\",Y$1,IF(OR(AND(ODD($A26)=$A26,ODD(Y$2)=Y$2),AND(EVEN($A26)=$A26,EVEN(Y$2)=Y$2)),Y$1,-100))","v":421.875},{"$f":"IF('Ceiling Speaker Calculator'!$C$29=\"Square\",Z$1,IF(OR(AND(ODD($A26)=$A26,ODD(Z$2)=Z$2),AND(EVEN($A26)=$A26,EVEN(Z$2)=Z$2)),Z$1,-100))","v":440.625},{"$f":"IF('Ceiling Speaker Calculator'!$C$29=\"Square\",AA$1,IF(OR(AND(ODD($A26)=$A26,ODD(AA$2)=AA$2),AND(EVEN($A26)=$A26,EVEN(AA$2)=AA$2)),AA$1,-100))","v":459.375},{"$f":"IF('Ceiling Speaker Calculator'!$C$29=\"Square\",AB$1,IF(OR(AND(ODD($A26)=$A26,ODD(AB$2)=AB$2),AND(EVEN($A26)=$A26,EVEN(AB$2)=AB$2)),AB$1,-100))","v":478.125},{"$f":"IF('Ceiling Speaker Calculator'!$C$29=\"Square\",AC$1,IF(OR(AND(ODD($A26)=$A26,ODD(AC$2)=AC$2),AND(EVEN($A26)=$A26,EVEN(AC$2)=AC$2)),AC$1,-100))","v":496.875},{"$f":"IF('Ceiling Speaker Calculator'!$C$29=\"Square\",AD$1,IF(OR(AND(ODD($A26)=$A26,ODD(AD$2)=AD$2),AND(EVEN($A26)=$A26,EVEN(AD$2)=AD$2)),AD$1,-100))","v":515.625},{"$f":"IF('Ceiling Speaker Calculator'!$C$29=\"Square\",AE$1,IF(OR(AND(ODD($A26)=$A26,ODD(AE$2)=AE$2),AND(EVEN($A26)=$A26,EVEN(AE$2)=AE$2)),AE$1,-100))","v":534.375},{"$f":"IF('Ceiling Speaker Calculator'!$C$29=\"Square\",AF$1,IF(OR(AND(ODD($A26)=$A26,ODD(AF$2)=AF$2),AND(EVEN($A26)=$A26,EVEN(AF$2)=AF$2)),AF$1,-100))","v":553.125},{"$f":"IF('Ceiling Speaker Calculator'!$C$29=\"Square\",AG$1,IF(OR(AND(ODD($A26)=$A26,ODD(AG$2)=AG$2),AND(EVEN($A26)=$A26,EVEN(AG$2)=AG$2)),AG$1,-100))","v":571.875},{"$f":"IF('Ceiling Speaker Calculator'!$C$29=\"Square\",AH$1,IF(OR(AND(ODD($A26)=$A26,ODD(AH$2)=AH$2),AND(EVEN($A26)=$A26,EVEN(AH$2)=AH$2)),AH$1,-100))","v":590.625},{"$f":"IF('Ceiling Speaker Calculator'!$C$29=\"Square\",AI$1,IF(OR(AND(ODD($A26)=$A26,ODD(AI$2)=AI$2),AND(EVEN($A26)=$A26,EVEN(AI$2)=AI$2)),AI$1,-100))","v":609.375},{"$f":"IF('Ceiling Speaker Calculator'!$C$29=\"Square\",AJ$1,IF(OR(AND(ODD($A26)=$A26,ODD(AJ$2)=AJ$2),AND(EVEN($A26)=$A26,EVEN(AJ$2)=AJ$2)),AJ$1,-100))","v":628.125},{"$f":"IF('Ceiling Speaker Calculator'!$C$29=\"Square\",AK$1,IF(OR(AND(ODD($A26)=$A26,ODD(AK$2)=AK$2),AND(EVEN($A26)=$A26,EVEN(AK$2)=AK$2)),AK$1,-100))","v":646.875},{"$f":"IF('Ceiling Speaker Calculator'!$C$29=\"Square\",AL$1,IF(OR(AND(ODD($A26)=$A26,ODD(AL$2)=AL$2),AND(EVEN($A26)=$A26,EVEN(AL$2)=AL$2)),AL$1,-100))","v":665.625},{"$f":"IF('Ceiling Speaker Calculator'!$C$29=\"Square\",AM$1,IF(OR(AND(ODD($A26)=$A26,ODD(AM$2)=AM$2),AND(EVEN($A26)=$A26,EVEN(AM$2)=AM$2)),AM$1,-100))","v":684.375},{"$f":"IF('Ceiling Speaker Calculator'!$C$29=\"Square\",AN$1,IF(OR(AND(ODD($A26)=$A26,ODD(AN$2)=AN$2),AND(EVEN($A26)=$A26,EVEN(AN$2)=AN$2)),AN$1,-100))","v":703.125},{"$f":"IF('Ceiling Speaker Calculator'!$C$29=\"Square\",AO$1,IF(OR(AND(ODD($A26)=$A26,ODD(AO$2)=AO$2),AND(EVEN($A26)=$A26,EVEN(AO$2)=AO$2)),AO$1,-100))","v":721.875},{"$f":"IF('Ceiling Speaker Calculator'!$C$29=\"Square\",AP$1,IF(OR(AND(ODD($A26)=$A26,ODD(AP$2)=AP$2),AND(EVEN($A26)=$A26,EVEN(AP$2)=AP$2)),AP$1,-100))","v":740.625},{"$f":"IF('Ceiling Speaker Calculator'!$C$29=\"Square\",AQ$1,IF(OR(AND(ODD($A26)=$A26,ODD(AQ$2)=AQ$2),AND(EVEN($A26)=$A26,EVEN(AQ$2)=AQ$2)),AQ$1,-100))","v":759.375},{"$f":"IF('Ceiling Speaker Calculator'!$C$29=\"Square\",AR$1,IF(OR(AND(ODD($A26)=$A26,ODD(AR$2)=AR$2),AND(EVEN($A26)=$A26,EVEN(AR$2)=AR$2)),AR$1,-100))","v":778.125},{"$f":"IF('Ceiling Speaker Calculator'!$C$29=\"Square\",AS$1,IF(OR(AND(ODD($A26)=$A26,ODD(AS$2)=AS$2),AND(EVEN($A26)=$A26,EVEN(AS$2)=AS$2)),AS$1,-100))","v":796.875},{"$f":"IF('Ceiling Speaker Calculator'!$C$29=\"Square\",AT$1,IF(OR(AND(ODD($A26)=$A26,ODD(AT$2)=AT$2),AND(EVEN($A26)=$A26,EVEN(AT$2)=AT$2)),AT$1,-100))","v":815.625},{"$f":"IF('Ceiling Speaker Calculator'!$C$29=\"Square\",AU$1,IF(OR(AND(ODD($A26)=$A26,ODD(AU$2)=AU$2),AND(EVEN($A26)=$A26,EVEN(AU$2)=AU$2)),AU$1,-100))","v":834.375},{"$f":"IF('Ceiling Speaker Calculator'!$C$29=\"Square\",AV$1,IF(OR(AND(ODD($A26)=$A26,ODD(AV$2)=AV$2),AND(EVEN($A26)=$A26,EVEN(AV$2)=AV$2)),AV$1,-100))","v":853.125},{"$f":"IF('Ceiling Speaker Calculator'!$C$29=\"Square\",AW$1,IF(OR(AND(ODD($A26)=$A26,ODD(AW$2)=AW$2),AND(EVEN($A26)=$A26,EVEN(AW$2)=AW$2)),AW$1,-100))","v":871.875},{"$f":"IF('Ceiling Speaker Calculator'!$C$29=\"Square\",AX$1,IF(OR(AND(ODD($A26)=$A26,ODD(AX$2)=AX$2),AND(EVEN($A26)=$A26,EVEN(AX$2)=AX$2)),AX$1,-100))","v":890.625},{"$f":"IF('Ceiling Speaker Calculator'!$C$29=\"Square\",AY$1,IF(OR(AND(ODD($A26)=$A26,ODD(AY$2)=AY$2),AND(EVEN($A26)=$A26,EVEN(AY$2)=AY$2)),AY$1,-100))","v":909.375},{"$f":"IF('Ceiling Speaker Calculator'!$C$29=\"Square\",AZ$1,IF(OR(AND(ODD($A26)=$A26,ODD(AZ$2)=AZ$2),AND(EVEN($A26)=$A26,EVEN(AZ$2)=AZ$2)),AZ$1,-100))","v":928.125},{"$f":"IF('Ceiling Speaker Calculator'!$C$29=\"Square\",BA$1,IF(OR(AND(ODD($A26)=$A26,ODD(BA$2)=BA$2),AND(EVEN($A26)=$A26,EVEN(BA$2)=BA$2)),BA$1,-100))","v":946.875},{"$f":"IF('Ceiling Speaker Calculator'!$C$29=\"Square\",BB$1,IF(OR(AND(ODD($A26)=$A26,ODD(BB$2)=BB$2),AND(EVEN($A26)=$A26,EVEN(BB$2)=BB$2)),BB$1,-100))","v":965.625},{"$f":"IF('Ceiling Speaker Calculator'!$C$29=\"Square\",BC$1,IF(OR(AND(ODD($A26)=$A26,ODD(BC$2)=BC$2),AND(EVEN($A26)=$A26,EVEN(BC$2)=BC$2)),BC$1,-100))","v":984.375},{"$f":"IF('Ceiling Speaker Calculator'!$C$29=\"Square\",BD$1,IF(OR(AND(ODD($A26)=$A26,ODD(BD$2)=BD$2),AND(EVEN($A26)=$A26,EVEN(BD$2)=BD$2)),BD$1,-100))","v":1003.125},{"$f":"IF('Ceiling Speaker Calculator'!$C$29=\"Square\",BE$1,IF(OR(AND(ODD($A26)=$A26,ODD(BE$2)=BE$2),AND(EVEN($A26)=$A26,EVEN(BE$2)=BE$2)),BE$1,-100))","v":1021.875},{"$f":"IF('Ceiling Speaker Calculator'!$C$29=\"Square\",BF$1,IF(OR(AND(ODD($A26)=$A26,ODD(BF$2)=BF$2),AND(EVEN($A26)=$A26,EVEN(BF$2)=BF$2)),BF$1,-100))","v":1040.625},{"$f":"IF('Ceiling Speaker Calculator'!$C$29=\"Square\",BG$1,IF(OR(AND(ODD($A26)=$A26,ODD(BG$2)=BG$2),AND(EVEN($A26)=$A26,EVEN(BG$2)=BG$2)),BG$1,-100))","v":1059.375},{"$f":"IF('Ceiling Speaker Calculator'!$C$29=\"Square\",BH$1,IF(OR(AND(ODD($A26)=$A26,ODD(BH$2)=BH$2),AND(EVEN($A26)=$A26,EVEN(BH$2)=BH$2)),BH$1,-100))","v":1078.125},{"$f":"IF('Ceiling Speaker Calculator'!$C$29=\"Square\",BI$1,IF(OR(AND(ODD($A26)=$A26,ODD(BI$2)=BI$2),AND(EVEN($A26)=$A26,EVEN(BI$2)=BI$2)),BI$1,-100))","v":1096.875},{"$f":"IF('Ceiling Speaker Calculator'!$C$29=\"Square\",BJ$1,IF(OR(AND(ODD($A26)=$A26,ODD(BJ$2)=BJ$2),AND(EVEN($A26)=$A26,EVEN(BJ$2)=BJ$2)),BJ$1,-100))","v":1115.625},{"$f":"IF('Ceiling Speaker Calculator'!$C$29=\"Square\",BK$1,IF(OR(AND(ODD($A26)=$A26,ODD(BK$2)=BK$2),AND(EVEN($A26)=$A26,EVEN(BK$2)=BK$2)),BK$1,-100))","v":1134.375},{"$f":"IF('Ceiling Speaker Calculator'!$C$29=\"Square\",BL$1,IF(OR(AND(ODD($A26)=$A26,ODD(BL$2)=BL$2),AND(EVEN($A26)=$A26,EVEN(BL$2)=BL$2)),BL$1,-100))","v":1153.125},{"$f":"IF('Ceiling Speaker Calculator'!$C$29=\"Square\",BM$1,IF(OR(AND(ODD($A26)=$A26,ODD(BM$2)=BM$2),AND(EVEN($A26)=$A26,EVEN(BM$2)=BM$2)),BM$1,-100))","v":1171.875},{"$f":"IF('Ceiling Speaker Calculator'!$C$29=\"Square\",BN$1,IF(OR(AND(ODD($A26)=$A26,ODD(BN$2)=BN$2),AND(EVEN($A26)=$A26,EVEN(BN$2)=BN$2)),BN$1,-100))","v":1190.625},{"$f":"IF('Ceiling Speaker Calculator'!$C$29=\"Square\",BO$1,IF(OR(AND(ODD($A26)=$A26,ODD(BO$2)=BO$2),AND(EVEN($A26)=$A26,EVEN(BO$2)=BO$2)),BO$1,-100))","v":1209.375},{"$f":"IF('Ceiling Speaker Calculator'!$C$29=\"Square\",BP$1,IF(OR(AND(ODD($A26)=$A26,ODD(BP$2)=BP$2),AND(EVEN($A26)=$A26,EVEN(BP$2)=BP$2)),BP$1,-100))","v":1228.125},{"$f":"IF('Ceiling Speaker Calculator'!$C$29=\"Square\",BQ$1,IF(OR(AND(ODD($A26)=$A26,ODD(BQ$2)=BQ$2),AND(EVEN($A26)=$A26,EVEN(BQ$2)=BQ$2)),BQ$1,-100))","v":1246.875},{"$f":"IF('Ceiling Speaker Calculator'!$C$29=\"Square\",BR$1,IF(OR(AND(ODD($A26)=$A26,ODD(BR$2)=BR$2),AND(EVEN($A26)=$A26,EVEN(BR$2)=BR$2)),BR$1,-100))","v":1265.625},{"$f":"IF('Ceiling Speaker Calculator'!$C$29=\"Square\",BS$1,IF(OR(AND(ODD($A26)=$A26,ODD(BS$2)=BS$2),AND(EVEN($A26)=$A26,EVEN(BS$2)=BS$2)),BS$1,-100))","v":1284.375},{"$f":"IF('Ceiling Speaker Calculator'!$C$29=\"Square\",BT$1,IF(OR(AND(ODD($A26)=$A26,ODD(BT$2)=BT$2),AND(EVEN($A26)=$A26,EVEN(BT$2)=BT$2)),BT$1,-100))","v":1303.125},{"$f":"IF('Ceiling Speaker Calculator'!$C$29=\"Square\",BU$1,IF(OR(AND(ODD($A26)=$A26,ODD(BU$2)=BU$2),AND(EVEN($A26)=$A26,EVEN(BU$2)=BU$2)),BU$1,-100))","v":1321.875},{"$f":"IF('Ceiling Speaker Calculator'!$C$29=\"Square\",BV$1,IF(OR(AND(ODD($A26)=$A26,ODD(BV$2)=BV$2),AND(EVEN($A26)=$A26,EVEN(BV$2)=BV$2)),BV$1,-100))","v":1340.625},{"$f":"IF('Ceiling Speaker Calculator'!$C$29=\"Square\",BW$1,IF(OR(AND(ODD($A26)=$A26,ODD(BW$2)=BW$2),AND(EVEN($A26)=$A26,EVEN(BW$2)=BW$2)),BW$1,-100))","v":1359.375},{"$f":"IF('Ceiling Speaker Calculator'!$C$29=\"Square\",BX$1,IF(OR(AND(ODD($A26)=$A26,ODD(BX$2)=BX$2),AND(EVEN($A26)=$A26,EVEN(BX$2)=BX$2)),BX$1,-100))","v":1378.125},{"$f":"IF('Ceiling Speaker Calculator'!$C$29=\"Square\",BY$1,IF(OR(AND(ODD($A26)=$A26,ODD(BY$2)=BY$2),AND(EVEN($A26)=$A26,EVEN(BY$2)=BY$2)),BY$1,-100))","v":1396.875},{"$f":"IF('Ceiling Speaker Calculator'!$C$29=\"Square\",BZ$1,IF(OR(AND(ODD($A26)=$A26,ODD(BZ$2)=BZ$2),AND(EVEN($A26)=$A26,EVEN(BZ$2)=BZ$2)),BZ$1,-100))","v":1415.625},{"$f":"IF('Ceiling Speaker Calculator'!$C$29=\"Square\",CA$1,IF(OR(AND(ODD($A26)=$A26,ODD(CA$2)=CA$2),AND(EVEN($A26)=$A26,EVEN(CA$2)=CA$2)),CA$1,-100))","v":1434.375},{"$f":"IF('Ceiling Speaker Calculator'!$C$29=\"Square\",CB$1,IF(OR(AND(ODD($A26)=$A26,ODD(CB$2)=CB$2),AND(EVEN($A26)=$A26,EVEN(CB$2)=CB$2)),CB$1,-100))","v":1453.125},{"$f":"IF('Ceiling Speaker Calculator'!$C$29=\"Square\",CC$1,IF(OR(AND(ODD($A26)=$A26,ODD(CC$2)=CC$2),AND(EVEN($A26)=$A26,EVEN(CC$2)=CC$2)),CC$1,-100))","v":1471.875},{"$f":"IF('Ceiling Speaker Calculator'!$C$29=\"Square\",CD$1,IF(OR(AND(ODD($A26)=$A26,ODD(CD$2)=CD$2),AND(EVEN($A26)=$A26,EVEN(CD$2)=CD$2)),CD$1,-100))","v":1490.625},{"$f":"IF('Ceiling Speaker Calculator'!$C$29=\"Square\",CE$1,IF(OR(AND(ODD($A26)=$A26,ODD(CE$2)=CE$2),AND(EVEN($A26)=$A26,EVEN(CE$2)=CE$2)),CE$1,-100))","v":1509.375},{"$f":"IF('Ceiling Speaker Calculator'!$C$29=\"Square\",CF$1,IF(OR(AND(ODD($A26)=$A26,ODD(CF$2)=CF$2),AND(EVEN($A26)=$A26,EVEN(CF$2)=CF$2)),CF$1,-100))","v":1528.125},{"$f":"IF('Ceiling Speaker Calculator'!$C$29=\"Square\",CG$1,IF(OR(AND(ODD($A26)=$A26,ODD(CG$2)=CG$2),AND(EVEN($A26)=$A26,EVEN(CG$2)=CG$2)),CG$1,-100))","v":1546.875},{"$f":"IF('Ceiling Speaker Calculator'!$C$29=\"Square\",CH$1,IF(OR(AND(ODD($A26)=$A26,ODD(CH$2)=CH$2),AND(EVEN($A26)=$A26,EVEN(CH$2)=CH$2)),CH$1,-100))","v":1565.625},{"$f":"IF('Ceiling Speaker Calculator'!$C$29=\"Square\",CI$1,IF(OR(AND(ODD($A26)=$A26,ODD(CI$2)=CI$2),AND(EVEN($A26)=$A26,EVEN(CI$2)=CI$2)),CI$1,-100))","v":1584.375},{"$f":"IF('Ceiling Speaker Calculator'!$C$29=\"Square\",CJ$1,IF(OR(AND(ODD($A26)=$A26,ODD(CJ$2)=CJ$2),AND(EVEN($A26)=$A26,EVEN(CJ$2)=CJ$2)),CJ$1,-100))","v":1603.125},{"$f":"IF('Ceiling Speaker Calculator'!$C$29=\"Square\",CK$1,IF(OR(AND(ODD($A26)=$A26,ODD(CK$2)=CK$2),AND(EVEN($A26)=$A26,EVEN(CK$2)=CK$2)),CK$1,-100))","v":1621.875},{"$f":"IF('Ceiling Speaker Calculator'!$C$29=\"Square\",CL$1,IF(OR(AND(ODD($A26)=$A26,ODD(CL$2)=CL$2),AND(EVEN($A26)=$A26,EVEN(CL$2)=CL$2)),CL$1,-100))","v":1640.625},{"$f":"IF('Ceiling Speaker Calculator'!$C$29=\"Square\",CM$1,IF(OR(AND(ODD($A26)=$A26,ODD(CM$2)=CM$2),AND(EVEN($A26)=$A26,EVEN(CM$2)=CM$2)),CM$1,-100))","v":1659.375},{"$f":"IF('Ceiling Speaker Calculator'!$C$29=\"Square\",CN$1,IF(OR(AND(ODD($A26)=$A26,ODD(CN$2)=CN$2),AND(EVEN($A26)=$A26,EVEN(CN$2)=CN$2)),CN$1,-100))","v":1678.125},{"$f":"IF('Ceiling Speaker Calculator'!$C$29=\"Square\",CO$1,IF(OR(AND(ODD($A26)=$A26,ODD(CO$2)=CO$2),AND(EVEN($A26)=$A26,EVEN(CO$2)=CO$2)),CO$1,-100))","v":1696.875},{"$f":"IF('Ceiling Speaker Calculator'!$C$29=\"Square\",CP$1,IF(OR(AND(ODD($A26)=$A26,ODD(CP$2)=CP$2),AND(EVEN($A26)=$A26,EVEN(CP$2)=CP$2)),CP$1,-100))","v":1715.625},{"$f":"IF('Ceiling Speaker Calculator'!$C$29=\"Square\",CQ$1,IF(OR(AND(ODD($A26)=$A26,ODD(CQ$2)=CQ$2),AND(EVEN($A26)=$A26,EVEN(CQ$2)=CQ$2)),CQ$1,-100))","v":1734.375},{"$f":"IF('Ceiling Speaker Calculator'!$C$29=\"Square\",CR$1,IF(OR(AND(ODD($A26)=$A26,ODD(CR$2)=CR$2),AND(EVEN($A26)=$A26,EVEN(CR$2)=CR$2)),CR$1,-100))","v":1753.125},{"$f":"IF('Ceiling Speaker Calculator'!$C$29=\"Square\",CS$1,IF(OR(AND(ODD($A26)=$A26,ODD(CS$2)=CS$2),AND(EVEN($A26)=$A26,EVEN(CS$2)=CS$2)),CS$1,-100))","v":1771.875},{"$f":"IF('Ceiling Speaker Calculator'!$C$29=\"Square\",CT$1,IF(OR(AND(ODD($A26)=$A26,ODD(CT$2)=CT$2),AND(EVEN($A26)=$A26,EVEN(CT$2)=CT$2)),CT$1,-100))","v":1790.625},{"$f":"IF('Ceiling Speaker Calculator'!$C$29=\"Square\",CU$1,IF(OR(AND(ODD($A26)=$A26,ODD(CU$2)=CU$2),AND(EVEN($A26)=$A26,EVEN(CU$2)=CU$2)),CU$1,-100))","v":1809.375},{"$f":"IF('Ceiling Speaker Calculator'!$C$29=\"Square\",CV$1,IF(OR(AND(ODD($A26)=$A26,ODD(CV$2)=CV$2),AND(EVEN($A26)=$A26,EVEN(CV$2)=CV$2)),CV$1,-100))","v":1828.125},{"$f":"IF('Ceiling Speaker Calculator'!$C$29=\"Square\",CW$1,IF(OR(AND(ODD($A26)=$A26,ODD(CW$2)=CW$2),AND(EVEN($A26)=$A26,EVEN(CW$2)=CW$2)),CW$1,-100))","v":1846.875},{"$f":"IF('Ceiling Speaker Calculator'!$C$29=\"Square\",CX$1,IF(OR(AND(ODD($A26)=$A26,ODD(CX$2)=CX$2),AND(EVEN($A26)=$A26,EVEN(CX$2)=CX$2)),CX$1,-100))","v":1865.625}]
[25,{"$f":"B26+'Ceiling Speaker Calculator'!$K$16","v":490},{"$f":"IF('Ceiling Speaker Calculator'!$C$29=\"Square\",C$1,IF(OR(AND(ODD($A27)=$A27,ODD(C$2)=C$2),AND(EVEN($A27)=$A27,EVEN(C$2)=C$2)),C$1,-100))","v":9.375},{"$f":"IF('Ceiling Speaker Calculator'!$C$29=\"Square\",D$1,IF(OR(AND(ODD($A27)=$A27,ODD(D$2)=D$2),AND(EVEN($A27)=$A27,EVEN(D$2)=D$2)),D$1,-100))","v":28.125},{"$f":"IF('Ceiling Speaker Calculator'!$C$29=\"Square\",E$1,IF(OR(AND(ODD($A27)=$A27,ODD(E$2)=E$2),AND(EVEN($A27)=$A27,EVEN(E$2)=E$2)),E$1,-100))","v":46.875},{"$f":"IF('Ceiling Speaker Calculator'!$C$29=\"Square\",F$1,IF(OR(AND(ODD($A27)=$A27,ODD(F$2)=F$2),AND(EVEN($A27)=$A27,EVEN(F$2)=F$2)),F$1,-100))","v":65.625},{"$f":"IF('Ceiling Speaker Calculator'!$C$29=\"Square\",G$1,IF(OR(AND(ODD($A27)=$A27,ODD(G$2)=G$2),AND(EVEN($A27)=$A27,EVEN(G$2)=G$2)),G$1,-100))","v":84.375},{"$f":"IF('Ceiling Speaker Calculator'!$C$29=\"Square\",H$1,IF(OR(AND(ODD($A27)=$A27,ODD(H$2)=H$2),AND(EVEN($A27)=$A27,EVEN(H$2)=H$2)),H$1,-100))","v":103.125},{"$f":"IF('Ceiling Speaker Calculator'!$C$29=\"Square\",I$1,IF(OR(AND(ODD($A27)=$A27,ODD(I$2)=I$2),AND(EVEN($A27)=$A27,EVEN(I$2)=I$2)),I$1,-100))","v":121.875},{"$f":"IF('Ceiling Speaker Calculator'!$C$29=\"Square\",J$1,IF(OR(AND(ODD($A27)=$A27,ODD(J$2)=J$2),AND(EVEN($A27)=$A27,EVEN(J$2)=J$2)),J$1,-100))","v":140.625},{"$f":"IF('Ceiling Speaker Calculator'!$C$29=\"Square\",K$1,IF(OR(AND(ODD($A27)=$A27,ODD(K$2)=K$2),AND(EVEN($A27)=$A27,EVEN(K$2)=K$2)),K$1,-100))","v":159.375},{"$f":"IF('Ceiling Speaker Calculator'!$C$29=\"Square\",L$1,IF(OR(AND(ODD($A27)=$A27,ODD(L$2)=L$2),AND(EVEN($A27)=$A27,EVEN(L$2)=L$2)),L$1,-100))","v":178.125},{"$f":"IF('Ceiling Speaker Calculator'!$C$29=\"Square\",M$1,IF(OR(AND(ODD($A27)=$A27,ODD(M$2)=M$2),AND(EVEN($A27)=$A27,EVEN(M$2)=M$2)),M$1,-100))","v":196.875},{"$f":"IF('Ceiling Speaker Calculator'!$C$29=\"Square\",N$1,IF(OR(AND(ODD($A27)=$A27,ODD(N$2)=N$2),AND(EVEN($A27)=$A27,EVEN(N$2)=N$2)),N$1,-100))","v":215.625},{"$f":"IF('Ceiling Speaker Calculator'!$C$29=\"Square\",O$1,IF(OR(AND(ODD($A27)=$A27,ODD(O$2)=O$2),AND(EVEN($A27)=$A27,EVEN(O$2)=O$2)),O$1,-100))","v":234.375},{"$f":"IF('Ceiling Speaker Calculator'!$C$29=\"Square\",P$1,IF(OR(AND(ODD($A27)=$A27,ODD(P$2)=P$2),AND(EVEN($A27)=$A27,EVEN(P$2)=P$2)),P$1,-100))","v":253.125},{"$f":"IF('Ceiling Speaker Calculator'!$C$29=\"Square\",Q$1,IF(OR(AND(ODD($A27)=$A27,ODD(Q$2)=Q$2),AND(EVEN($A27)=$A27,EVEN(Q$2)=Q$2)),Q$1,-100))","v":271.875},{"$f":"IF('Ceiling Speaker Calculator'!$C$29=\"Square\",R$1,IF(OR(AND(ODD($A27)=$A27,ODD(R$2)=R$2),AND(EVEN($A27)=$A27,EVEN(R$2)=R$2)),R$1,-100))","v":290.625},{"$f":"IF('Ceiling Speaker Calculator'!$C$29=\"Square\",S$1,IF(OR(AND(ODD($A27)=$A27,ODD(S$2)=S$2),AND(EVEN($A27)=$A27,EVEN(S$2)=S$2)),S$1,-100))","v":309.375},{"$f":"IF('Ceiling Speaker Calculator'!$C$29=\"Square\",T$1,IF(OR(AND(ODD($A27)=$A27,ODD(T$2)=T$2),AND(EVEN($A27)=$A27,EVEN(T$2)=T$2)),T$1,-100))","v":328.125},{"$f":"IF('Ceiling Speaker Calculator'!$C$29=\"Square\",U$1,IF(OR(AND(ODD($A27)=$A27,ODD(U$2)=U$2),AND(EVEN($A27)=$A27,EVEN(U$2)=U$2)),U$1,-100))","v":346.875},{"$f":"IF('Ceiling Speaker Calculator'!$C$29=\"Square\",V$1,IF(OR(AND(ODD($A27)=$A27,ODD(V$2)=V$2),AND(EVEN($A27)=$A27,EVEN(V$2)=V$2)),V$1,-100))","v":365.625},{"$f":"IF('Ceiling Speaker Calculator'!$C$29=\"Square\",W$1,IF(OR(AND(ODD($A27)=$A27,ODD(W$2)=W$2),AND(EVEN($A27)=$A27,EVEN(W$2)=W$2)),W$1,-100))","v":384.375},{"$f":"IF('Ceiling Speaker Calculator'!$C$29=\"Square\",X$1,IF(OR(AND(ODD($A27)=$A27,ODD(X$2)=X$2),AND(EVEN($A27)=$A27,EVEN(X$2)=X$2)),X$1,-100))","v":403.125},{"$f":"IF('Ceiling Speaker Calculator'!$C$29=\"Square\",Y$1,IF(OR(AND(ODD($A27)=$A27,ODD(Y$2)=Y$2),AND(EVEN($A27)=$A27,EVEN(Y$2)=Y$2)),Y$1,-100))","v":421.875},{"$f":"IF('Ceiling Speaker Calculator'!$C$29=\"Square\",Z$1,IF(OR(AND(ODD($A27)=$A27,ODD(Z$2)=Z$2),AND(EVEN($A27)=$A27,EVEN(Z$2)=Z$2)),Z$1,-100))","v":440.625},{"$f":"IF('Ceiling Speaker Calculator'!$C$29=\"Square\",AA$1,IF(OR(AND(ODD($A27)=$A27,ODD(AA$2)=AA$2),AND(EVEN($A27)=$A27,EVEN(AA$2)=AA$2)),AA$1,-100))","v":459.375},{"$f":"IF('Ceiling Speaker Calculator'!$C$29=\"Square\",AB$1,IF(OR(AND(ODD($A27)=$A27,ODD(AB$2)=AB$2),AND(EVEN($A27)=$A27,EVEN(AB$2)=AB$2)),AB$1,-100))","v":478.125},{"$f":"IF('Ceiling Speaker Calculator'!$C$29=\"Square\",AC$1,IF(OR(AND(ODD($A27)=$A27,ODD(AC$2)=AC$2),AND(EVEN($A27)=$A27,EVEN(AC$2)=AC$2)),AC$1,-100))","v":496.875},{"$f":"IF('Ceiling Speaker Calculator'!$C$29=\"Square\",AD$1,IF(OR(AND(ODD($A27)=$A27,ODD(AD$2)=AD$2),AND(EVEN($A27)=$A27,EVEN(AD$2)=AD$2)),AD$1,-100))","v":515.625},{"$f":"IF('Ceiling Speaker Calculator'!$C$29=\"Square\",AE$1,IF(OR(AND(ODD($A27)=$A27,ODD(AE$2)=AE$2),AND(EVEN($A27)=$A27,EVEN(AE$2)=AE$2)),AE$1,-100))","v":534.375},{"$f":"IF('Ceiling Speaker Calculator'!$C$29=\"Square\",AF$1,IF(OR(AND(ODD($A27)=$A27,ODD(AF$2)=AF$2),AND(EVEN($A27)=$A27,EVEN(AF$2)=AF$2)),AF$1,-100))","v":553.125},{"$f":"IF('Ceiling Speaker Calculator'!$C$29=\"Square\",AG$1,IF(OR(AND(ODD($A27)=$A27,ODD(AG$2)=AG$2),AND(EVEN($A27)=$A27,EVEN(AG$2)=AG$2)),AG$1,-100))","v":571.875},{"$f":"IF('Ceiling Speaker Calculator'!$C$29=\"Square\",AH$1,IF(OR(AND(ODD($A27)=$A27,ODD(AH$2)=AH$2),AND(EVEN($A27)=$A27,EVEN(AH$2)=AH$2)),AH$1,-100))","v":590.625},{"$f":"IF('Ceiling Speaker Calculator'!$C$29=\"Square\",AI$1,IF(OR(AND(ODD($A27)=$A27,ODD(AI$2)=AI$2),AND(EVEN($A27)=$A27,EVEN(AI$2)=AI$2)),AI$1,-100))","v":609.375},{"$f":"IF('Ceiling Speaker Calculator'!$C$29=\"Square\",AJ$1,IF(OR(AND(ODD($A27)=$A27,ODD(AJ$2)=AJ$2),AND(EVEN($A27)=$A27,EVEN(AJ$2)=AJ$2)),AJ$1,-100))","v":628.125},{"$f":"IF('Ceiling Speaker Calculator'!$C$29=\"Square\",AK$1,IF(OR(AND(ODD($A27)=$A27,ODD(AK$2)=AK$2),AND(EVEN($A27)=$A27,EVEN(AK$2)=AK$2)),AK$1,-100))","v":646.875},{"$f":"IF('Ceiling Speaker Calculator'!$C$29=\"Square\",AL$1,IF(OR(AND(ODD($A27)=$A27,ODD(AL$2)=AL$2),AND(EVEN($A27)=$A27,EVEN(AL$2)=AL$2)),AL$1,-100))","v":665.625},{"$f":"IF('Ceiling Speaker Calculator'!$C$29=\"Square\",AM$1,IF(OR(AND(ODD($A27)=$A27,ODD(AM$2)=AM$2),AND(EVEN($A27)=$A27,EVEN(AM$2)=AM$2)),AM$1,-100))","v":684.375},{"$f":"IF('Ceiling Speaker Calculator'!$C$29=\"Square\",AN$1,IF(OR(AND(ODD($A27)=$A27,ODD(AN$2)=AN$2),AND(EVEN($A27)=$A27,EVEN(AN$2)=AN$2)),AN$1,-100))","v":703.125},{"$f":"IF('Ceiling Speaker Calculator'!$C$29=\"Square\",AO$1,IF(OR(AND(ODD($A27)=$A27,ODD(AO$2)=AO$2),AND(EVEN($A27)=$A27,EVEN(AO$2)=AO$2)),AO$1,-100))","v":721.875},{"$f":"IF('Ceiling Speaker Calculator'!$C$29=\"Square\",AP$1,IF(OR(AND(ODD($A27)=$A27,ODD(AP$2)=AP$2),AND(EVEN($A27)=$A27,EVEN(AP$2)=AP$2)),AP$1,-100))","v":740.625},{"$f":"IF('Ceiling Speaker Calculator'!$C$29=\"Square\",AQ$1,IF(OR(AND(ODD($A27)=$A27,ODD(AQ$2)=AQ$2),AND(EVEN($A27)=$A27,EVEN(AQ$2)=AQ$2)),AQ$1,-100))","v":759.375},{"$f":"IF('Ceiling Speaker Calculator'!$C$29=\"Square\",AR$1,IF(OR(AND(ODD($A27)=$A27,ODD(AR$2)=AR$2),AND(EVEN($A27)=$A27,EVEN(AR$2)=AR$2)),AR$1,-100))","v":778.125},{"$f":"IF('Ceiling Speaker Calculator'!$C$29=\"Square\",AS$1,IF(OR(AND(ODD($A27)=$A27,ODD(AS$2)=AS$2),AND(EVEN($A27)=$A27,EVEN(AS$2)=AS$2)),AS$1,-100))","v":796.875},{"$f":"IF('Ceiling Speaker Calculator'!$C$29=\"Square\",AT$1,IF(OR(AND(ODD($A27)=$A27,ODD(AT$2)=AT$2),AND(EVEN($A27)=$A27,EVEN(AT$2)=AT$2)),AT$1,-100))","v":815.625},{"$f":"IF('Ceiling Speaker Calculator'!$C$29=\"Square\",AU$1,IF(OR(AND(ODD($A27)=$A27,ODD(AU$2)=AU$2),AND(EVEN($A27)=$A27,EVEN(AU$2)=AU$2)),AU$1,-100))","v":834.375},{"$f":"IF('Ceiling Speaker Calculator'!$C$29=\"Square\",AV$1,IF(OR(AND(ODD($A27)=$A27,ODD(AV$2)=AV$2),AND(EVEN($A27)=$A27,EVEN(AV$2)=AV$2)),AV$1,-100))","v":853.125},{"$f":"IF('Ceiling Speaker Calculator'!$C$29=\"Square\",AW$1,IF(OR(AND(ODD($A27)=$A27,ODD(AW$2)=AW$2),AND(EVEN($A27)=$A27,EVEN(AW$2)=AW$2)),AW$1,-100))","v":871.875},{"$f":"IF('Ceiling Speaker Calculator'!$C$29=\"Square\",AX$1,IF(OR(AND(ODD($A27)=$A27,ODD(AX$2)=AX$2),AND(EVEN($A27)=$A27,EVEN(AX$2)=AX$2)),AX$1,-100))","v":890.625},{"$f":"IF('Ceiling Speaker Calculator'!$C$29=\"Square\",AY$1,IF(OR(AND(ODD($A27)=$A27,ODD(AY$2)=AY$2),AND(EVEN($A27)=$A27,EVEN(AY$2)=AY$2)),AY$1,-100))","v":909.375},{"$f":"IF('Ceiling Speaker Calculator'!$C$29=\"Square\",AZ$1,IF(OR(AND(ODD($A27)=$A27,ODD(AZ$2)=AZ$2),AND(EVEN($A27)=$A27,EVEN(AZ$2)=AZ$2)),AZ$1,-100))","v":928.125},{"$f":"IF('Ceiling Speaker Calculator'!$C$29=\"Square\",BA$1,IF(OR(AND(ODD($A27)=$A27,ODD(BA$2)=BA$2),AND(EVEN($A27)=$A27,EVEN(BA$2)=BA$2)),BA$1,-100))","v":946.875},{"$f":"IF('Ceiling Speaker Calculator'!$C$29=\"Square\",BB$1,IF(OR(AND(ODD($A27)=$A27,ODD(BB$2)=BB$2),AND(EVEN($A27)=$A27,EVEN(BB$2)=BB$2)),BB$1,-100))","v":965.625},{"$f":"IF('Ceiling Speaker Calculator'!$C$29=\"Square\",BC$1,IF(OR(AND(ODD($A27)=$A27,ODD(BC$2)=BC$2),AND(EVEN($A27)=$A27,EVEN(BC$2)=BC$2)),BC$1,-100))","v":984.375},{"$f":"IF('Ceiling Speaker Calculator'!$C$29=\"Square\",BD$1,IF(OR(AND(ODD($A27)=$A27,ODD(BD$2)=BD$2),AND(EVEN($A27)=$A27,EVEN(BD$2)=BD$2)),BD$1,-100))","v":1003.125},{"$f":"IF('Ceiling Speaker Calculator'!$C$29=\"Square\",BE$1,IF(OR(AND(ODD($A27)=$A27,ODD(BE$2)=BE$2),AND(EVEN($A27)=$A27,EVEN(BE$2)=BE$2)),BE$1,-100))","v":1021.875},{"$f":"IF('Ceiling Speaker Calculator'!$C$29=\"Square\",BF$1,IF(OR(AND(ODD($A27)=$A27,ODD(BF$2)=BF$2),AND(EVEN($A27)=$A27,EVEN(BF$2)=BF$2)),BF$1,-100))","v":1040.625},{"$f":"IF('Ceiling Speaker Calculator'!$C$29=\"Square\",BG$1,IF(OR(AND(ODD($A27)=$A27,ODD(BG$2)=BG$2),AND(EVEN($A27)=$A27,EVEN(BG$2)=BG$2)),BG$1,-100))","v":1059.375},{"$f":"IF('Ceiling Speaker Calculator'!$C$29=\"Square\",BH$1,IF(OR(AND(ODD($A27)=$A27,ODD(BH$2)=BH$2),AND(EVEN($A27)=$A27,EVEN(BH$2)=BH$2)),BH$1,-100))","v":1078.125},{"$f":"IF('Ceiling Speaker Calculator'!$C$29=\"Square\",BI$1,IF(OR(AND(ODD($A27)=$A27,ODD(BI$2)=BI$2),AND(EVEN($A27)=$A27,EVEN(BI$2)=BI$2)),BI$1,-100))","v":1096.875},{"$f":"IF('Ceiling Speaker Calculator'!$C$29=\"Square\",BJ$1,IF(OR(AND(ODD($A27)=$A27,ODD(BJ$2)=BJ$2),AND(EVEN($A27)=$A27,EVEN(BJ$2)=BJ$2)),BJ$1,-100))","v":1115.625},{"$f":"IF('Ceiling Speaker Calculator'!$C$29=\"Square\",BK$1,IF(OR(AND(ODD($A27)=$A27,ODD(BK$2)=BK$2),AND(EVEN($A27)=$A27,EVEN(BK$2)=BK$2)),BK$1,-100))","v":1134.375},{"$f":"IF('Ceiling Speaker Calculator'!$C$29=\"Square\",BL$1,IF(OR(AND(ODD($A27)=$A27,ODD(BL$2)=BL$2),AND(EVEN($A27)=$A27,EVEN(BL$2)=BL$2)),BL$1,-100))","v":1153.125},{"$f":"IF('Ceiling Speaker Calculator'!$C$29=\"Square\",BM$1,IF(OR(AND(ODD($A27)=$A27,ODD(BM$2)=BM$2),AND(EVEN($A27)=$A27,EVEN(BM$2)=BM$2)),BM$1,-100))","v":1171.875},{"$f":"IF('Ceiling Speaker Calculator'!$C$29=\"Square\",BN$1,IF(OR(AND(ODD($A27)=$A27,ODD(BN$2)=BN$2),AND(EVEN($A27)=$A27,EVEN(BN$2)=BN$2)),BN$1,-100))","v":1190.625},{"$f":"IF('Ceiling Speaker Calculator'!$C$29=\"Square\",BO$1,IF(OR(AND(ODD($A27)=$A27,ODD(BO$2)=BO$2),AND(EVEN($A27)=$A27,EVEN(BO$2)=BO$2)),BO$1,-100))","v":1209.375},{"$f":"IF('Ceiling Speaker Calculator'!$C$29=\"Square\",BP$1,IF(OR(AND(ODD($A27)=$A27,ODD(BP$2)=BP$2),AND(EVEN($A27)=$A27,EVEN(BP$2)=BP$2)),BP$1,-100))","v":1228.125},{"$f":"IF('Ceiling Speaker Calculator'!$C$29=\"Square\",BQ$1,IF(OR(AND(ODD($A27)=$A27,ODD(BQ$2)=BQ$2),AND(EVEN($A27)=$A27,EVEN(BQ$2)=BQ$2)),BQ$1,-100))","v":1246.875},{"$f":"IF('Ceiling Speaker Calculator'!$C$29=\"Square\",BR$1,IF(OR(AND(ODD($A27)=$A27,ODD(BR$2)=BR$2),AND(EVEN($A27)=$A27,EVEN(BR$2)=BR$2)),BR$1,-100))","v":1265.625},{"$f":"IF('Ceiling Speaker Calculator'!$C$29=\"Square\",BS$1,IF(OR(AND(ODD($A27)=$A27,ODD(BS$2)=BS$2),AND(EVEN($A27)=$A27,EVEN(BS$2)=BS$2)),BS$1,-100))","v":1284.375},{"$f":"IF('Ceiling Speaker Calculator'!$C$29=\"Square\",BT$1,IF(OR(AND(ODD($A27)=$A27,ODD(BT$2)=BT$2),AND(EVEN($A27)=$A27,EVEN(BT$2)=BT$2)),BT$1,-100))","v":1303.125},{"$f":"IF('Ceiling Speaker Calculator'!$C$29=\"Square\",BU$1,IF(OR(AND(ODD($A27)=$A27,ODD(BU$2)=BU$2),AND(EVEN($A27)=$A27,EVEN(BU$2)=BU$2)),BU$1,-100))","v":1321.875},{"$f":"IF('Ceiling Speaker Calculator'!$C$29=\"Square\",BV$1,IF(OR(AND(ODD($A27)=$A27,ODD(BV$2)=BV$2),AND(EVEN($A27)=$A27,EVEN(BV$2)=BV$2)),BV$1,-100))","v":1340.625},{"$f":"IF('Ceiling Speaker Calculator'!$C$29=\"Square\",BW$1,IF(OR(AND(ODD($A27)=$A27,ODD(BW$2)=BW$2),AND(EVEN($A27)=$A27,EVEN(BW$2)=BW$2)),BW$1,-100))","v":1359.375},{"$f":"IF('Ceiling Speaker Calculator'!$C$29=\"Square\",BX$1,IF(OR(AND(ODD($A27)=$A27,ODD(BX$2)=BX$2),AND(EVEN($A27)=$A27,EVEN(BX$2)=BX$2)),BX$1,-100))","v":1378.125},{"$f":"IF('Ceiling Speaker Calculator'!$C$29=\"Square\",BY$1,IF(OR(AND(ODD($A27)=$A27,ODD(BY$2)=BY$2),AND(EVEN($A27)=$A27,EVEN(BY$2)=BY$2)),BY$1,-100))","v":1396.875},{"$f":"IF('Ceiling Speaker Calculator'!$C$29=\"Square\",BZ$1,IF(OR(AND(ODD($A27)=$A27,ODD(BZ$2)=BZ$2),AND(EVEN($A27)=$A27,EVEN(BZ$2)=BZ$2)),BZ$1,-100))","v":1415.625},{"$f":"IF('Ceiling Speaker Calculator'!$C$29=\"Square\",CA$1,IF(OR(AND(ODD($A27)=$A27,ODD(CA$2)=CA$2),AND(EVEN($A27)=$A27,EVEN(CA$2)=CA$2)),CA$1,-100))","v":1434.375},{"$f":"IF('Ceiling Speaker Calculator'!$C$29=\"Square\",CB$1,IF(OR(AND(ODD($A27)=$A27,ODD(CB$2)=CB$2),AND(EVEN($A27)=$A27,EVEN(CB$2)=CB$2)),CB$1,-100))","v":1453.125},{"$f":"IF('Ceiling Speaker Calculator'!$C$29=\"Square\",CC$1,IF(OR(AND(ODD($A27)=$A27,ODD(CC$2)=CC$2),AND(EVEN($A27)=$A27,EVEN(CC$2)=CC$2)),CC$1,-100))","v":1471.875},{"$f":"IF('Ceiling Speaker Calculator'!$C$29=\"Square\",CD$1,IF(OR(AND(ODD($A27)=$A27,ODD(CD$2)=CD$2),AND(EVEN($A27)=$A27,EVEN(CD$2)=CD$2)),CD$1,-100))","v":1490.625},{"$f":"IF('Ceiling Speaker Calculator'!$C$29=\"Square\",CE$1,IF(OR(AND(ODD($A27)=$A27,ODD(CE$2)=CE$2),AND(EVEN($A27)=$A27,EVEN(CE$2)=CE$2)),CE$1,-100))","v":1509.375},{"$f":"IF('Ceiling Speaker Calculator'!$C$29=\"Square\",CF$1,IF(OR(AND(ODD($A27)=$A27,ODD(CF$2)=CF$2),AND(EVEN($A27)=$A27,EVEN(CF$2)=CF$2)),CF$1,-100))","v":1528.125},{"$f":"IF('Ceiling Speaker Calculator'!$C$29=\"Square\",CG$1,IF(OR(AND(ODD($A27)=$A27,ODD(CG$2)=CG$2),AND(EVEN($A27)=$A27,EVEN(CG$2)=CG$2)),CG$1,-100))","v":1546.875},{"$f":"IF('Ceiling Speaker Calculator'!$C$29=\"Square\",CH$1,IF(OR(AND(ODD($A27)=$A27,ODD(CH$2)=CH$2),AND(EVEN($A27)=$A27,EVEN(CH$2)=CH$2)),CH$1,-100))","v":1565.625},{"$f":"IF('Ceiling Speaker Calculator'!$C$29=\"Square\",CI$1,IF(OR(AND(ODD($A27)=$A27,ODD(CI$2)=CI$2),AND(EVEN($A27)=$A27,EVEN(CI$2)=CI$2)),CI$1,-100))","v":1584.375},{"$f":"IF('Ceiling Speaker Calculator'!$C$29=\"Square\",CJ$1,IF(OR(AND(ODD($A27)=$A27,ODD(CJ$2)=CJ$2),AND(EVEN($A27)=$A27,EVEN(CJ$2)=CJ$2)),CJ$1,-100))","v":1603.125},{"$f":"IF('Ceiling Speaker Calculator'!$C$29=\"Square\",CK$1,IF(OR(AND(ODD($A27)=$A27,ODD(CK$2)=CK$2),AND(EVEN($A27)=$A27,EVEN(CK$2)=CK$2)),CK$1,-100))","v":1621.875},{"$f":"IF('Ceiling Speaker Calculator'!$C$29=\"Square\",CL$1,IF(OR(AND(ODD($A27)=$A27,ODD(CL$2)=CL$2),AND(EVEN($A27)=$A27,EVEN(CL$2)=CL$2)),CL$1,-100))","v":1640.625},{"$f":"IF('Ceiling Speaker Calculator'!$C$29=\"Square\",CM$1,IF(OR(AND(ODD($A27)=$A27,ODD(CM$2)=CM$2),AND(EVEN($A27)=$A27,EVEN(CM$2)=CM$2)),CM$1,-100))","v":1659.375},{"$f":"IF('Ceiling Speaker Calculator'!$C$29=\"Square\",CN$1,IF(OR(AND(ODD($A27)=$A27,ODD(CN$2)=CN$2),AND(EVEN($A27)=$A27,EVEN(CN$2)=CN$2)),CN$1,-100))","v":1678.125},{"$f":"IF('Ceiling Speaker Calculator'!$C$29=\"Square\",CO$1,IF(OR(AND(ODD($A27)=$A27,ODD(CO$2)=CO$2),AND(EVEN($A27)=$A27,EVEN(CO$2)=CO$2)),CO$1,-100))","v":1696.875},{"$f":"IF('Ceiling Speaker Calculator'!$C$29=\"Square\",CP$1,IF(OR(AND(ODD($A27)=$A27,ODD(CP$2)=CP$2),AND(EVEN($A27)=$A27,EVEN(CP$2)=CP$2)),CP$1,-100))","v":1715.625},{"$f":"IF('Ceiling Speaker Calculator'!$C$29=\"Square\",CQ$1,IF(OR(AND(ODD($A27)=$A27,ODD(CQ$2)=CQ$2),AND(EVEN($A27)=$A27,EVEN(CQ$2)=CQ$2)),CQ$1,-100))","v":1734.375},{"$f":"IF('Ceiling Speaker Calculator'!$C$29=\"Square\",CR$1,IF(OR(AND(ODD($A27)=$A27,ODD(CR$2)=CR$2),AND(EVEN($A27)=$A27,EVEN(CR$2)=CR$2)),CR$1,-100))","v":1753.125},{"$f":"IF('Ceiling Speaker Calculator'!$C$29=\"Square\",CS$1,IF(OR(AND(ODD($A27)=$A27,ODD(CS$2)=CS$2),AND(EVEN($A27)=$A27,EVEN(CS$2)=CS$2)),CS$1,-100))","v":1771.875},{"$f":"IF('Ceiling Speaker Calculator'!$C$29=\"Square\",CT$1,IF(OR(AND(ODD($A27)=$A27,ODD(CT$2)=CT$2),AND(EVEN($A27)=$A27,EVEN(CT$2)=CT$2)),CT$1,-100))","v":1790.625},{"$f":"IF('Ceiling Speaker Calculator'!$C$29=\"Square\",CU$1,IF(OR(AND(ODD($A27)=$A27,ODD(CU$2)=CU$2),AND(EVEN($A27)=$A27,EVEN(CU$2)=CU$2)),CU$1,-100))","v":1809.375},{"$f":"IF('Ceiling Speaker Calculator'!$C$29=\"Square\",CV$1,IF(OR(AND(ODD($A27)=$A27,ODD(CV$2)=CV$2),AND(EVEN($A27)=$A27,EVEN(CV$2)=CV$2)),CV$1,-100))","v":1828.125},{"$f":"IF('Ceiling Speaker Calculator'!$C$29=\"Square\",CW$1,IF(OR(AND(ODD($A27)=$A27,ODD(CW$2)=CW$2),AND(EVEN($A27)=$A27,EVEN(CW$2)=CW$2)),CW$1,-100))","v":1846.875},{"$f":"IF('Ceiling Speaker Calculator'!$C$29=\"Square\",CX$1,IF(OR(AND(ODD($A27)=$A27,ODD(CX$2)=CX$2),AND(EVEN($A27)=$A27,EVEN(CX$2)=CX$2)),CX$1,-100))","v":1865.625}]
[26,{"$f":"B27+'Ceiling Speaker Calculator'!$K$16","v":510},{"$f":"IF('Ceiling Speaker Calculator'!$C$29=\"Square\",C$1,IF(OR(AND(ODD($A28)=$A28,ODD(C$2)=C$2),AND(EVEN($A28)=$A28,EVEN(C$2)=C$2)),C$1,-100))","v":9.375},{"$f":"IF('Ceiling Speaker Calculator'!$C$29=\"Square\",D$1,IF(OR(AND(ODD($A28)=$A28,ODD(D$2)=D$2),AND(EVEN($A28)=$A28,EVEN(D$2)=D$2)),D$1,-100))","v":28.125},{"$f":"IF('Ceiling Speaker Calculator'!$C$29=\"Square\",E$1,IF(OR(AND(ODD($A28)=$A28,ODD(E$2)=E$2),AND(EVEN($A28)=$A28,EVEN(E$2)=E$2)),E$1,-100))","v":46.875},{"$f":"IF('Ceiling Speaker Calculator'!$C$29=\"Square\",F$1,IF(OR(AND(ODD($A28)=$A28,ODD(F$2)=F$2),AND(EVEN($A28)=$A28,EVEN(F$2)=F$2)),F$1,-100))","v":65.625},{"$f":"IF('Ceiling Speaker Calculator'!$C$29=\"Square\",G$1,IF(OR(AND(ODD($A28)=$A28,ODD(G$2)=G$2),AND(EVEN($A28)=$A28,EVEN(G$2)=G$2)),G$1,-100))","v":84.375},{"$f":"IF('Ceiling Speaker Calculator'!$C$29=\"Square\",H$1,IF(OR(AND(ODD($A28)=$A28,ODD(H$2)=H$2),AND(EVEN($A28)=$A28,EVEN(H$2)=H$2)),H$1,-100))","v":103.125},{"$f":"IF('Ceiling Speaker Calculator'!$C$29=\"Square\",I$1,IF(OR(AND(ODD($A28)=$A28,ODD(I$2)=I$2),AND(EVEN($A28)=$A28,EVEN(I$2)=I$2)),I$1,-100))","v":121.875},{"$f":"IF('Ceiling Speaker Calculator'!$C$29=\"Square\",J$1,IF(OR(AND(ODD($A28)=$A28,ODD(J$2)=J$2),AND(EVEN($A28)=$A28,EVEN(J$2)=J$2)),J$1,-100))","v":140.625},{"$f":"IF('Ceiling Speaker Calculator'!$C$29=\"Square\",K$1,IF(OR(AND(ODD($A28)=$A28,ODD(K$2)=K$2),AND(EVEN($A28)=$A28,EVEN(K$2)=K$2)),K$1,-100))","v":159.375},{"$f":"IF('Ceiling Speaker Calculator'!$C$29=\"Square\",L$1,IF(OR(AND(ODD($A28)=$A28,ODD(L$2)=L$2),AND(EVEN($A28)=$A28,EVEN(L$2)=L$2)),L$1,-100))","v":178.125},{"$f":"IF('Ceiling Speaker Calculator'!$C$29=\"Square\",M$1,IF(OR(AND(ODD($A28)=$A28,ODD(M$2)=M$2),AND(EVEN($A28)=$A28,EVEN(M$2)=M$2)),M$1,-100))","v":196.875},{"$f":"IF('Ceiling Speaker Calculator'!$C$29=\"Square\",N$1,IF(OR(AND(ODD($A28)=$A28,ODD(N$2)=N$2),AND(EVEN($A28)=$A28,EVEN(N$2)=N$2)),N$1,-100))","v":215.625},{"$f":"IF('Ceiling Speaker Calculator'!$C$29=\"Square\",O$1,IF(OR(AND(ODD($A28)=$A28,ODD(O$2)=O$2),AND(EVEN($A28)=$A28,EVEN(O$2)=O$2)),O$1,-100))","v":234.375},{"$f":"IF('Ceiling Speaker Calculator'!$C$29=\"Square\",P$1,IF(OR(AND(ODD($A28)=$A28,ODD(P$2)=P$2),AND(EVEN($A28)=$A28,EVEN(P$2)=P$2)),P$1,-100))","v":253.125},{"$f":"IF('Ceiling Speaker Calculator'!$C$29=\"Square\",Q$1,IF(OR(AND(ODD($A28)=$A28,ODD(Q$2)=Q$2),AND(EVEN($A28)=$A28,EVEN(Q$2)=Q$2)),Q$1,-100))","v":271.875},{"$f":"IF('Ceiling Speaker Calculator'!$C$29=\"Square\",R$1,IF(OR(AND(ODD($A28)=$A28,ODD(R$2)=R$2),AND(EVEN($A28)=$A28,EVEN(R$2)=R$2)),R$1,-100))","v":290.625},{"$f":"IF('Ceiling Speaker Calculator'!$C$29=\"Square\",S$1,IF(OR(AND(ODD($A28)=$A28,ODD(S$2)=S$2),AND(EVEN($A28)=$A28,EVEN(S$2)=S$2)),S$1,-100))","v":309.375},{"$f":"IF('Ceiling Speaker Calculator'!$C$29=\"Square\",T$1,IF(OR(AND(ODD($A28)=$A28,ODD(T$2)=T$2),AND(EVEN($A28)=$A28,EVEN(T$2)=T$2)),T$1,-100))","v":328.125},{"$f":"IF('Ceiling Speaker Calculator'!$C$29=\"Square\",U$1,IF(OR(AND(ODD($A28)=$A28,ODD(U$2)=U$2),AND(EVEN($A28)=$A28,EVEN(U$2)=U$2)),U$1,-100))","v":346.875},{"$f":"IF('Ceiling Speaker Calculator'!$C$29=\"Square\",V$1,IF(OR(AND(ODD($A28)=$A28,ODD(V$2)=V$2),AND(EVEN($A28)=$A28,EVEN(V$2)=V$2)),V$1,-100))","v":365.625},{"$f":"IF('Ceiling Speaker Calculator'!$C$29=\"Square\",W$1,IF(OR(AND(ODD($A28)=$A28,ODD(W$2)=W$2),AND(EVEN($A28)=$A28,EVEN(W$2)=W$2)),W$1,-100))","v":384.375},{"$f":"IF('Ceiling Speaker Calculator'!$C$29=\"Square\",X$1,IF(OR(AND(ODD($A28)=$A28,ODD(X$2)=X$2),AND(EVEN($A28)=$A28,EVEN(X$2)=X$2)),X$1,-100))","v":403.125},{"$f":"IF('Ceiling Speaker Calculator'!$C$29=\"Square\",Y$1,IF(OR(AND(ODD($A28)=$A28,ODD(Y$2)=Y$2),AND(EVEN($A28)=$A28,EVEN(Y$2)=Y$2)),Y$1,-100))","v":421.875},{"$f":"IF('Ceiling Speaker Calculator'!$C$29=\"Square\",Z$1,IF(OR(AND(ODD($A28)=$A28,ODD(Z$2)=Z$2),AND(EVEN($A28)=$A28,EVEN(Z$2)=Z$2)),Z$1,-100))","v":440.625},{"$f":"IF('Ceiling Speaker Calculator'!$C$29=\"Square\",AA$1,IF(OR(AND(ODD($A28)=$A28,ODD(AA$2)=AA$2),AND(EVEN($A28)=$A28,EVEN(AA$2)=AA$2)),AA$1,-100))","v":459.375},{"$f":"IF('Ceiling Speaker Calculator'!$C$29=\"Square\",AB$1,IF(OR(AND(ODD($A28)=$A28,ODD(AB$2)=AB$2),AND(EVEN($A28)=$A28,EVEN(AB$2)=AB$2)),AB$1,-100))","v":478.125},{"$f":"IF('Ceiling Speaker Calculator'!$C$29=\"Square\",AC$1,IF(OR(AND(ODD($A28)=$A28,ODD(AC$2)=AC$2),AND(EVEN($A28)=$A28,EVEN(AC$2)=AC$2)),AC$1,-100))","v":496.875},{"$f":"IF('Ceiling Speaker Calculator'!$C$29=\"Square\",AD$1,IF(OR(AND(ODD($A28)=$A28,ODD(AD$2)=AD$2),AND(EVEN($A28)=$A28,EVEN(AD$2)=AD$2)),AD$1,-100))","v":515.625},{"$f":"IF('Ceiling Speaker Calculator'!$C$29=\"Square\",AE$1,IF(OR(AND(ODD($A28)=$A28,ODD(AE$2)=AE$2),AND(EVEN($A28)=$A28,EVEN(AE$2)=AE$2)),AE$1,-100))","v":534.375},{"$f":"IF('Ceiling Speaker Calculator'!$C$29=\"Square\",AF$1,IF(OR(AND(ODD($A28)=$A28,ODD(AF$2)=AF$2),AND(EVEN($A28)=$A28,EVEN(AF$2)=AF$2)),AF$1,-100))","v":553.125},{"$f":"IF('Ceiling Speaker Calculator'!$C$29=\"Square\",AG$1,IF(OR(AND(ODD($A28)=$A28,ODD(AG$2)=AG$2),AND(EVEN($A28)=$A28,EVEN(AG$2)=AG$2)),AG$1,-100))","v":571.875},{"$f":"IF('Ceiling Speaker Calculator'!$C$29=\"Square\",AH$1,IF(OR(AND(ODD($A28)=$A28,ODD(AH$2)=AH$2),AND(EVEN($A28)=$A28,EVEN(AH$2)=AH$2)),AH$1,-100))","v":590.625},{"$f":"IF('Ceiling Speaker Calculator'!$C$29=\"Square\",AI$1,IF(OR(AND(ODD($A28)=$A28,ODD(AI$2)=AI$2),AND(EVEN($A28)=$A28,EVEN(AI$2)=AI$2)),AI$1,-100))","v":609.375},{"$f":"IF('Ceiling Speaker Calculator'!$C$29=\"Square\",AJ$1,IF(OR(AND(ODD($A28)=$A28,ODD(AJ$2)=AJ$2),AND(EVEN($A28)=$A28,EVEN(AJ$2)=AJ$2)),AJ$1,-100))","v":628.125},{"$f":"IF('Ceiling Speaker Calculator'!$C$29=\"Square\",AK$1,IF(OR(AND(ODD($A28)=$A28,ODD(AK$2)=AK$2),AND(EVEN($A28)=$A28,EVEN(AK$2)=AK$2)),AK$1,-100))","v":646.875},{"$f":"IF('Ceiling Speaker Calculator'!$C$29=\"Square\",AL$1,IF(OR(AND(ODD($A28)=$A28,ODD(AL$2)=AL$2),AND(EVEN($A28)=$A28,EVEN(AL$2)=AL$2)),AL$1,-100))","v":665.625},{"$f":"IF('Ceiling Speaker Calculator'!$C$29=\"Square\",AM$1,IF(OR(AND(ODD($A28)=$A28,ODD(AM$2)=AM$2),AND(EVEN($A28)=$A28,EVEN(AM$2)=AM$2)),AM$1,-100))","v":684.375},{"$f":"IF('Ceiling Speaker Calculator'!$C$29=\"Square\",AN$1,IF(OR(AND(ODD($A28)=$A28,ODD(AN$2)=AN$2),AND(EVEN($A28)=$A28,EVEN(AN$2)=AN$2)),AN$1,-100))","v":703.125},{"$f":"IF('Ceiling Speaker Calculator'!$C$29=\"Square\",AO$1,IF(OR(AND(ODD($A28)=$A28,ODD(AO$2)=AO$2),AND(EVEN($A28)=$A28,EVEN(AO$2)=AO$2)),AO$1,-100))","v":721.875},{"$f":"IF('Ceiling Speaker Calculator'!$C$29=\"Square\",AP$1,IF(OR(AND(ODD($A28)=$A28,ODD(AP$2)=AP$2),AND(EVEN($A28)=$A28,EVEN(AP$2)=AP$2)),AP$1,-100))","v":740.625},{"$f":"IF('Ceiling Speaker Calculator'!$C$29=\"Square\",AQ$1,IF(OR(AND(ODD($A28)=$A28,ODD(AQ$2)=AQ$2),AND(EVEN($A28)=$A28,EVEN(AQ$2)=AQ$2)),AQ$1,-100))","v":759.375},{"$f":"IF('Ceiling Speaker Calculator'!$C$29=\"Square\",AR$1,IF(OR(AND(ODD($A28)=$A28,ODD(AR$2)=AR$2),AND(EVEN($A28)=$A28,EVEN(AR$2)=AR$2)),AR$1,-100))","v":778.125},{"$f":"IF('Ceiling Speaker Calculator'!$C$29=\"Square\",AS$1,IF(OR(AND(ODD($A28)=$A28,ODD(AS$2)=AS$2),AND(EVEN($A28)=$A28,EVEN(AS$2)=AS$2)),AS$1,-100))","v":796.875},{"$f":"IF('Ceiling Speaker Calculator'!$C$29=\"Square\",AT$1,IF(OR(AND(ODD($A28)=$A28,ODD(AT$2)=AT$2),AND(EVEN($A28)=$A28,EVEN(AT$2)=AT$2)),AT$1,-100))","v":815.625},{"$f":"IF('Ceiling Speaker Calculator'!$C$29=\"Square\",AU$1,IF(OR(AND(ODD($A28)=$A28,ODD(AU$2)=AU$2),AND(EVEN($A28)=$A28,EVEN(AU$2)=AU$2)),AU$1,-100))","v":834.375},{"$f":"IF('Ceiling Speaker Calculator'!$C$29=\"Square\",AV$1,IF(OR(AND(ODD($A28)=$A28,ODD(AV$2)=AV$2),AND(EVEN($A28)=$A28,EVEN(AV$2)=AV$2)),AV$1,-100))","v":853.125},{"$f":"IF('Ceiling Speaker Calculator'!$C$29=\"Square\",AW$1,IF(OR(AND(ODD($A28)=$A28,ODD(AW$2)=AW$2),AND(EVEN($A28)=$A28,EVEN(AW$2)=AW$2)),AW$1,-100))","v":871.875},{"$f":"IF('Ceiling Speaker Calculator'!$C$29=\"Square\",AX$1,IF(OR(AND(ODD($A28)=$A28,ODD(AX$2)=AX$2),AND(EVEN($A28)=$A28,EVEN(AX$2)=AX$2)),AX$1,-100))","v":890.625},{"$f":"IF('Ceiling Speaker Calculator'!$C$29=\"Square\",AY$1,IF(OR(AND(ODD($A28)=$A28,ODD(AY$2)=AY$2),AND(EVEN($A28)=$A28,EVEN(AY$2)=AY$2)),AY$1,-100))","v":909.375},{"$f":"IF('Ceiling Speaker Calculator'!$C$29=\"Square\",AZ$1,IF(OR(AND(ODD($A28)=$A28,ODD(AZ$2)=AZ$2),AND(EVEN($A28)=$A28,EVEN(AZ$2)=AZ$2)),AZ$1,-100))","v":928.125},{"$f":"IF('Ceiling Speaker Calculator'!$C$29=\"Square\",BA$1,IF(OR(AND(ODD($A28)=$A28,ODD(BA$2)=BA$2),AND(EVEN($A28)=$A28,EVEN(BA$2)=BA$2)),BA$1,-100))","v":946.875},{"$f":"IF('Ceiling Speaker Calculator'!$C$29=\"Square\",BB$1,IF(OR(AND(ODD($A28)=$A28,ODD(BB$2)=BB$2),AND(EVEN($A28)=$A28,EVEN(BB$2)=BB$2)),BB$1,-100))","v":965.625},{"$f":"IF('Ceiling Speaker Calculator'!$C$29=\"Square\",BC$1,IF(OR(AND(ODD($A28)=$A28,ODD(BC$2)=BC$2),AND(EVEN($A28)=$A28,EVEN(BC$2)=BC$2)),BC$1,-100))","v":984.375},{"$f":"IF('Ceiling Speaker Calculator'!$C$29=\"Square\",BD$1,IF(OR(AND(ODD($A28)=$A28,ODD(BD$2)=BD$2),AND(EVEN($A28)=$A28,EVEN(BD$2)=BD$2)),BD$1,-100))","v":1003.125},{"$f":"IF('Ceiling Speaker Calculator'!$C$29=\"Square\",BE$1,IF(OR(AND(ODD($A28)=$A28,ODD(BE$2)=BE$2),AND(EVEN($A28)=$A28,EVEN(BE$2)=BE$2)),BE$1,-100))","v":1021.875},{"$f":"IF('Ceiling Speaker Calculator'!$C$29=\"Square\",BF$1,IF(OR(AND(ODD($A28)=$A28,ODD(BF$2)=BF$2),AND(EVEN($A28)=$A28,EVEN(BF$2)=BF$2)),BF$1,-100))","v":1040.625},{"$f":"IF('Ceiling Speaker Calculator'!$C$29=\"Square\",BG$1,IF(OR(AND(ODD($A28)=$A28,ODD(BG$2)=BG$2),AND(EVEN($A28)=$A28,EVEN(BG$2)=BG$2)),BG$1,-100))","v":1059.375},{"$f":"IF('Ceiling Speaker Calculator'!$C$29=\"Square\",BH$1,IF(OR(AND(ODD($A28)=$A28,ODD(BH$2)=BH$2),AND(EVEN($A28)=$A28,EVEN(BH$2)=BH$2)),BH$1,-100))","v":1078.125},{"$f":"IF('Ceiling Speaker Calculator'!$C$29=\"Square\",BI$1,IF(OR(AND(ODD($A28)=$A28,ODD(BI$2)=BI$2),AND(EVEN($A28)=$A28,EVEN(BI$2)=BI$2)),BI$1,-100))","v":1096.875},{"$f":"IF('Ceiling Speaker Calculator'!$C$29=\"Square\",BJ$1,IF(OR(AND(ODD($A28)=$A28,ODD(BJ$2)=BJ$2),AND(EVEN($A28)=$A28,EVEN(BJ$2)=BJ$2)),BJ$1,-100))","v":1115.625},{"$f":"IF('Ceiling Speaker Calculator'!$C$29=\"Square\",BK$1,IF(OR(AND(ODD($A28)=$A28,ODD(BK$2)=BK$2),AND(EVEN($A28)=$A28,EVEN(BK$2)=BK$2)),BK$1,-100))","v":1134.375},{"$f":"IF('Ceiling Speaker Calculator'!$C$29=\"Square\",BL$1,IF(OR(AND(ODD($A28)=$A28,ODD(BL$2)=BL$2),AND(EVEN($A28)=$A28,EVEN(BL$2)=BL$2)),BL$1,-100))","v":1153.125},{"$f":"IF('Ceiling Speaker Calculator'!$C$29=\"Square\",BM$1,IF(OR(AND(ODD($A28)=$A28,ODD(BM$2)=BM$2),AND(EVEN($A28)=$A28,EVEN(BM$2)=BM$2)),BM$1,-100))","v":1171.875},{"$f":"IF('Ceiling Speaker Calculator'!$C$29=\"Square\",BN$1,IF(OR(AND(ODD($A28)=$A28,ODD(BN$2)=BN$2),AND(EVEN($A28)=$A28,EVEN(BN$2)=BN$2)),BN$1,-100))","v":1190.625},{"$f":"IF('Ceiling Speaker Calculator'!$C$29=\"Square\",BO$1,IF(OR(AND(ODD($A28)=$A28,ODD(BO$2)=BO$2),AND(EVEN($A28)=$A28,EVEN(BO$2)=BO$2)),BO$1,-100))","v":1209.375},{"$f":"IF('Ceiling Speaker Calculator'!$C$29=\"Square\",BP$1,IF(OR(AND(ODD($A28)=$A28,ODD(BP$2)=BP$2),AND(EVEN($A28)=$A28,EVEN(BP$2)=BP$2)),BP$1,-100))","v":1228.125},{"$f":"IF('Ceiling Speaker Calculator'!$C$29=\"Square\",BQ$1,IF(OR(AND(ODD($A28)=$A28,ODD(BQ$2)=BQ$2),AND(EVEN($A28)=$A28,EVEN(BQ$2)=BQ$2)),BQ$1,-100))","v":1246.875},{"$f":"IF('Ceiling Speaker Calculator'!$C$29=\"Square\",BR$1,IF(OR(AND(ODD($A28)=$A28,ODD(BR$2)=BR$2),AND(EVEN($A28)=$A28,EVEN(BR$2)=BR$2)),BR$1,-100))","v":1265.625},{"$f":"IF('Ceiling Speaker Calculator'!$C$29=\"Square\",BS$1,IF(OR(AND(ODD($A28)=$A28,ODD(BS$2)=BS$2),AND(EVEN($A28)=$A28,EVEN(BS$2)=BS$2)),BS$1,-100))","v":1284.375},{"$f":"IF('Ceiling Speaker Calculator'!$C$29=\"Square\",BT$1,IF(OR(AND(ODD($A28)=$A28,ODD(BT$2)=BT$2),AND(EVEN($A28)=$A28,EVEN(BT$2)=BT$2)),BT$1,-100))","v":1303.125},{"$f":"IF('Ceiling Speaker Calculator'!$C$29=\"Square\",BU$1,IF(OR(AND(ODD($A28)=$A28,ODD(BU$2)=BU$2),AND(EVEN($A28)=$A28,EVEN(BU$2)=BU$2)),BU$1,-100))","v":1321.875},{"$f":"IF('Ceiling Speaker Calculator'!$C$29=\"Square\",BV$1,IF(OR(AND(ODD($A28)=$A28,ODD(BV$2)=BV$2),AND(EVEN($A28)=$A28,EVEN(BV$2)=BV$2)),BV$1,-100))","v":1340.625},{"$f":"IF('Ceiling Speaker Calculator'!$C$29=\"Square\",BW$1,IF(OR(AND(ODD($A28)=$A28,ODD(BW$2)=BW$2),AND(EVEN($A28)=$A28,EVEN(BW$2)=BW$2)),BW$1,-100))","v":1359.375},{"$f":"IF('Ceiling Speaker Calculator'!$C$29=\"Square\",BX$1,IF(OR(AND(ODD($A28)=$A28,ODD(BX$2)=BX$2),AND(EVEN($A28)=$A28,EVEN(BX$2)=BX$2)),BX$1,-100))","v":1378.125},{"$f":"IF('Ceiling Speaker Calculator'!$C$29=\"Square\",BY$1,IF(OR(AND(ODD($A28)=$A28,ODD(BY$2)=BY$2),AND(EVEN($A28)=$A28,EVEN(BY$2)=BY$2)),BY$1,-100))","v":1396.875},{"$f":"IF('Ceiling Speaker Calculator'!$C$29=\"Square\",BZ$1,IF(OR(AND(ODD($A28)=$A28,ODD(BZ$2)=BZ$2),AND(EVEN($A28)=$A28,EVEN(BZ$2)=BZ$2)),BZ$1,-100))","v":1415.625},{"$f":"IF('Ceiling Speaker Calculator'!$C$29=\"Square\",CA$1,IF(OR(AND(ODD($A28)=$A28,ODD(CA$2)=CA$2),AND(EVEN($A28)=$A28,EVEN(CA$2)=CA$2)),CA$1,-100))","v":1434.375},{"$f":"IF('Ceiling Speaker Calculator'!$C$29=\"Square\",CB$1,IF(OR(AND(ODD($A28)=$A28,ODD(CB$2)=CB$2),AND(EVEN($A28)=$A28,EVEN(CB$2)=CB$2)),CB$1,-100))","v":1453.125},{"$f":"IF('Ceiling Speaker Calculator'!$C$29=\"Square\",CC$1,IF(OR(AND(ODD($A28)=$A28,ODD(CC$2)=CC$2),AND(EVEN($A28)=$A28,EVEN(CC$2)=CC$2)),CC$1,-100))","v":1471.875},{"$f":"IF('Ceiling Speaker Calculator'!$C$29=\"Square\",CD$1,IF(OR(AND(ODD($A28)=$A28,ODD(CD$2)=CD$2),AND(EVEN($A28)=$A28,EVEN(CD$2)=CD$2)),CD$1,-100))","v":1490.625},{"$f":"IF('Ceiling Speaker Calculator'!$C$29=\"Square\",CE$1,IF(OR(AND(ODD($A28)=$A28,ODD(CE$2)=CE$2),AND(EVEN($A28)=$A28,EVEN(CE$2)=CE$2)),CE$1,-100))","v":1509.375},{"$f":"IF('Ceiling Speaker Calculator'!$C$29=\"Square\",CF$1,IF(OR(AND(ODD($A28)=$A28,ODD(CF$2)=CF$2),AND(EVEN($A28)=$A28,EVEN(CF$2)=CF$2)),CF$1,-100))","v":1528.125},{"$f":"IF('Ceiling Speaker Calculator'!$C$29=\"Square\",CG$1,IF(OR(AND(ODD($A28)=$A28,ODD(CG$2)=CG$2),AND(EVEN($A28)=$A28,EVEN(CG$2)=CG$2)),CG$1,-100))","v":1546.875},{"$f":"IF('Ceiling Speaker Calculator'!$C$29=\"Square\",CH$1,IF(OR(AND(ODD($A28)=$A28,ODD(CH$2)=CH$2),AND(EVEN($A28)=$A28,EVEN(CH$2)=CH$2)),CH$1,-100))","v":1565.625},{"$f":"IF('Ceiling Speaker Calculator'!$C$29=\"Square\",CI$1,IF(OR(AND(ODD($A28)=$A28,ODD(CI$2)=CI$2),AND(EVEN($A28)=$A28,EVEN(CI$2)=CI$2)),CI$1,-100))","v":1584.375},{"$f":"IF('Ceiling Speaker Calculator'!$C$29=\"Square\",CJ$1,IF(OR(AND(ODD($A28)=$A28,ODD(CJ$2)=CJ$2),AND(EVEN($A28)=$A28,EVEN(CJ$2)=CJ$2)),CJ$1,-100))","v":1603.125},{"$f":"IF('Ceiling Speaker Calculator'!$C$29=\"Square\",CK$1,IF(OR(AND(ODD($A28)=$A28,ODD(CK$2)=CK$2),AND(EVEN($A28)=$A28,EVEN(CK$2)=CK$2)),CK$1,-100))","v":1621.875},{"$f":"IF('Ceiling Speaker Calculator'!$C$29=\"Square\",CL$1,IF(OR(AND(ODD($A28)=$A28,ODD(CL$2)=CL$2),AND(EVEN($A28)=$A28,EVEN(CL$2)=CL$2)),CL$1,-100))","v":1640.625},{"$f":"IF('Ceiling Speaker Calculator'!$C$29=\"Square\",CM$1,IF(OR(AND(ODD($A28)=$A28,ODD(CM$2)=CM$2),AND(EVEN($A28)=$A28,EVEN(CM$2)=CM$2)),CM$1,-100))","v":1659.375},{"$f":"IF('Ceiling Speaker Calculator'!$C$29=\"Square\",CN$1,IF(OR(AND(ODD($A28)=$A28,ODD(CN$2)=CN$2),AND(EVEN($A28)=$A28,EVEN(CN$2)=CN$2)),CN$1,-100))","v":1678.125},{"$f":"IF('Ceiling Speaker Calculator'!$C$29=\"Square\",CO$1,IF(OR(AND(ODD($A28)=$A28,ODD(CO$2)=CO$2),AND(EVEN($A28)=$A28,EVEN(CO$2)=CO$2)),CO$1,-100))","v":1696.875},{"$f":"IF('Ceiling Speaker Calculator'!$C$29=\"Square\",CP$1,IF(OR(AND(ODD($A28)=$A28,ODD(CP$2)=CP$2),AND(EVEN($A28)=$A28,EVEN(CP$2)=CP$2)),CP$1,-100))","v":1715.625},{"$f":"IF('Ceiling Speaker Calculator'!$C$29=\"Square\",CQ$1,IF(OR(AND(ODD($A28)=$A28,ODD(CQ$2)=CQ$2),AND(EVEN($A28)=$A28,EVEN(CQ$2)=CQ$2)),CQ$1,-100))","v":1734.375},{"$f":"IF('Ceiling Speaker Calculator'!$C$29=\"Square\",CR$1,IF(OR(AND(ODD($A28)=$A28,ODD(CR$2)=CR$2),AND(EVEN($A28)=$A28,EVEN(CR$2)=CR$2)),CR$1,-100))","v":1753.125},{"$f":"IF('Ceiling Speaker Calculator'!$C$29=\"Square\",CS$1,IF(OR(AND(ODD($A28)=$A28,ODD(CS$2)=CS$2),AND(EVEN($A28)=$A28,EVEN(CS$2)=CS$2)),CS$1,-100))","v":1771.875},{"$f":"IF('Ceiling Speaker Calculator'!$C$29=\"Square\",CT$1,IF(OR(AND(ODD($A28)=$A28,ODD(CT$2)=CT$2),AND(EVEN($A28)=$A28,EVEN(CT$2)=CT$2)),CT$1,-100))","v":1790.625},{"$f":"IF('Ceiling Speaker Calculator'!$C$29=\"Square\",CU$1,IF(OR(AND(ODD($A28)=$A28,ODD(CU$2)=CU$2),AND(EVEN($A28)=$A28,EVEN(CU$2)=CU$2)),CU$1,-100))","v":1809.375},{"$f":"IF('Ceiling Speaker Calculator'!$C$29=\"Square\",CV$1,IF(OR(AND(ODD($A28)=$A28,ODD(CV$2)=CV$2),AND(EVEN($A28)=$A28,EVEN(CV$2)=CV$2)),CV$1,-100))","v":1828.125},{"$f":"IF('Ceiling Speaker Calculator'!$C$29=\"Square\",CW$1,IF(OR(AND(ODD($A28)=$A28,ODD(CW$2)=CW$2),AND(EVEN($A28)=$A28,EVEN(CW$2)=CW$2)),CW$1,-100))","v":1846.875},{"$f":"IF('Ceiling Speaker Calculator'!$C$29=\"Square\",CX$1,IF(OR(AND(ODD($A28)=$A28,ODD(CX$2)=CX$2),AND(EVEN($A28)=$A28,EVEN(CX$2)=CX$2)),CX$1,-100))","v":1865.625}]
[27,{"$f":"B28+'Ceiling Speaker Calculator'!$K$16","v":530},{"$f":"IF('Ceiling Speaker Calculator'!$C$29=\"Square\",C$1,IF(OR(AND(ODD($A29)=$A29,ODD(C$2)=C$2),AND(EVEN($A29)=$A29,EVEN(C$2)=C$2)),C$1,-100))","v":9.375},{"$f":"IF('Ceiling Speaker Calculator'!$C$29=\"Square\",D$1,IF(OR(AND(ODD($A29)=$A29,ODD(D$2)=D$2),AND(EVEN($A29)=$A29,EVEN(D$2)=D$2)),D$1,-100))","v":28.125},{"$f":"IF('Ceiling Speaker Calculator'!$C$29=\"Square\",E$1,IF(OR(AND(ODD($A29)=$A29,ODD(E$2)=E$2),AND(EVEN($A29)=$A29,EVEN(E$2)=E$2)),E$1,-100))","v":46.875},{"$f":"IF('Ceiling Speaker Calculator'!$C$29=\"Square\",F$1,IF(OR(AND(ODD($A29)=$A29,ODD(F$2)=F$2),AND(EVEN($A29)=$A29,EVEN(F$2)=F$2)),F$1,-100))","v":65.625},{"$f":"IF('Ceiling Speaker Calculator'!$C$29=\"Square\",G$1,IF(OR(AND(ODD($A29)=$A29,ODD(G$2)=G$2),AND(EVEN($A29)=$A29,EVEN(G$2)=G$2)),G$1,-100))","v":84.375},{"$f":"IF('Ceiling Speaker Calculator'!$C$29=\"Square\",H$1,IF(OR(AND(ODD($A29)=$A29,ODD(H$2)=H$2),AND(EVEN($A29)=$A29,EVEN(H$2)=H$2)),H$1,-100))","v":103.125},{"$f":"IF('Ceiling Speaker Calculator'!$C$29=\"Square\",I$1,IF(OR(AND(ODD($A29)=$A29,ODD(I$2)=I$2),AND(EVEN($A29)=$A29,EVEN(I$2)=I$2)),I$1,-100))","v":121.875},{"$f":"IF('Ceiling Speaker Calculator'!$C$29=\"Square\",J$1,IF(OR(AND(ODD($A29)=$A29,ODD(J$2)=J$2),AND(EVEN($A29)=$A29,EVEN(J$2)=J$2)),J$1,-100))","v":140.625},{"$f":"IF('Ceiling Speaker Calculator'!$C$29=\"Square\",K$1,IF(OR(AND(ODD($A29)=$A29,ODD(K$2)=K$2),AND(EVEN($A29)=$A29,EVEN(K$2)=K$2)),K$1,-100))","v":159.375},{"$f":"IF('Ceiling Speaker Calculator'!$C$29=\"Square\",L$1,IF(OR(AND(ODD($A29)=$A29,ODD(L$2)=L$2),AND(EVEN($A29)=$A29,EVEN(L$2)=L$2)),L$1,-100))","v":178.125},{"$f":"IF('Ceiling Speaker Calculator'!$C$29=\"Square\",M$1,IF(OR(AND(ODD($A29)=$A29,ODD(M$2)=M$2),AND(EVEN($A29)=$A29,EVEN(M$2)=M$2)),M$1,-100))","v":196.875},{"$f":"IF('Ceiling Speaker Calculator'!$C$29=\"Square\",N$1,IF(OR(AND(ODD($A29)=$A29,ODD(N$2)=N$2),AND(EVEN($A29)=$A29,EVEN(N$2)=N$2)),N$1,-100))","v":215.625},{"$f":"IF('Ceiling Speaker Calculator'!$C$29=\"Square\",O$1,IF(OR(AND(ODD($A29)=$A29,ODD(O$2)=O$2),AND(EVEN($A29)=$A29,EVEN(O$2)=O$2)),O$1,-100))","v":234.375},{"$f":"IF('Ceiling Speaker Calculator'!$C$29=\"Square\",P$1,IF(OR(AND(ODD($A29)=$A29,ODD(P$2)=P$2),AND(EVEN($A29)=$A29,EVEN(P$2)=P$2)),P$1,-100))","v":253.125},{"$f":"IF('Ceiling Speaker Calculator'!$C$29=\"Square\",Q$1,IF(OR(AND(ODD($A29)=$A29,ODD(Q$2)=Q$2),AND(EVEN($A29)=$A29,EVEN(Q$2)=Q$2)),Q$1,-100))","v":271.875},{"$f":"IF('Ceiling Speaker Calculator'!$C$29=\"Square\",R$1,IF(OR(AND(ODD($A29)=$A29,ODD(R$2)=R$2),AND(EVEN($A29)=$A29,EVEN(R$2)=R$2)),R$1,-100))","v":290.625},{"$f":"IF('Ceiling Speaker Calculator'!$C$29=\"Square\",S$1,IF(OR(AND(ODD($A29)=$A29,ODD(S$2)=S$2),AND(EVEN($A29)=$A29,EVEN(S$2)=S$2)),S$1,-100))","v":309.375},{"$f":"IF('Ceiling Speaker Calculator'!$C$29=\"Square\",T$1,IF(OR(AND(ODD($A29)=$A29,ODD(T$2)=T$2),AND(EVEN($A29)=$A29,EVEN(T$2)=T$2)),T$1,-100))","v":328.125},{"$f":"IF('Ceiling Speaker Calculator'!$C$29=\"Square\",U$1,IF(OR(AND(ODD($A29)=$A29,ODD(U$2)=U$2),AND(EVEN($A29)=$A29,EVEN(U$2)=U$2)),U$1,-100))","v":346.875},{"$f":"IF('Ceiling Speaker Calculator'!$C$29=\"Square\",V$1,IF(OR(AND(ODD($A29)=$A29,ODD(V$2)=V$2),AND(EVEN($A29)=$A29,EVEN(V$2)=V$2)),V$1,-100))","v":365.625},{"$f":"IF('Ceiling Speaker Calculator'!$C$29=\"Square\",W$1,IF(OR(AND(ODD($A29)=$A29,ODD(W$2)=W$2),AND(EVEN($A29)=$A29,EVEN(W$2)=W$2)),W$1,-100))","v":384.375},{"$f":"IF('Ceiling Speaker Calculator'!$C$29=\"Square\",X$1,IF(OR(AND(ODD($A29)=$A29,ODD(X$2)=X$2),AND(EVEN($A29)=$A29,EVEN(X$2)=X$2)),X$1,-100))","v":403.125},{"$f":"IF('Ceiling Speaker Calculator'!$C$29=\"Square\",Y$1,IF(OR(AND(ODD($A29)=$A29,ODD(Y$2)=Y$2),AND(EVEN($A29)=$A29,EVEN(Y$2)=Y$2)),Y$1,-100))","v":421.875},{"$f":"IF('Ceiling Speaker Calculator'!$C$29=\"Square\",Z$1,IF(OR(AND(ODD($A29)=$A29,ODD(Z$2)=Z$2),AND(EVEN($A29)=$A29,EVEN(Z$2)=Z$2)),Z$1,-100))","v":440.625},{"$f":"IF('Ceiling Speaker Calculator'!$C$29=\"Square\",AA$1,IF(OR(AND(ODD($A29)=$A29,ODD(AA$2)=AA$2),AND(EVEN($A29)=$A29,EVEN(AA$2)=AA$2)),AA$1,-100))","v":459.375},{"$f":"IF('Ceiling Speaker Calculator'!$C$29=\"Square\",AB$1,IF(OR(AND(ODD($A29)=$A29,ODD(AB$2)=AB$2),AND(EVEN($A29)=$A29,EVEN(AB$2)=AB$2)),AB$1,-100))","v":478.125},{"$f":"IF('Ceiling Speaker Calculator'!$C$29=\"Square\",AC$1,IF(OR(AND(ODD($A29)=$A29,ODD(AC$2)=AC$2),AND(EVEN($A29)=$A29,EVEN(AC$2)=AC$2)),AC$1,-100))","v":496.875},{"$f":"IF('Ceiling Speaker Calculator'!$C$29=\"Square\",AD$1,IF(OR(AND(ODD($A29)=$A29,ODD(AD$2)=AD$2),AND(EVEN($A29)=$A29,EVEN(AD$2)=AD$2)),AD$1,-100))","v":515.625},{"$f":"IF('Ceiling Speaker Calculator'!$C$29=\"Square\",AE$1,IF(OR(AND(ODD($A29)=$A29,ODD(AE$2)=AE$2),AND(EVEN($A29)=$A29,EVEN(AE$2)=AE$2)),AE$1,-100))","v":534.375},{"$f":"IF('Ceiling Speaker Calculator'!$C$29=\"Square\",AF$1,IF(OR(AND(ODD($A29)=$A29,ODD(AF$2)=AF$2),AND(EVEN($A29)=$A29,EVEN(AF$2)=AF$2)),AF$1,-100))","v":553.125},{"$f":"IF('Ceiling Speaker Calculator'!$C$29=\"Square\",AG$1,IF(OR(AND(ODD($A29)=$A29,ODD(AG$2)=AG$2),AND(EVEN($A29)=$A29,EVEN(AG$2)=AG$2)),AG$1,-100))","v":571.875},{"$f":"IF('Ceiling Speaker Calculator'!$C$29=\"Square\",AH$1,IF(OR(AND(ODD($A29)=$A29,ODD(AH$2)=AH$2),AND(EVEN($A29)=$A29,EVEN(AH$2)=AH$2)),AH$1,-100))","v":590.625},{"$f":"IF('Ceiling Speaker Calculator'!$C$29=\"Square\",AI$1,IF(OR(AND(ODD($A29)=$A29,ODD(AI$2)=AI$2),AND(EVEN($A29)=$A29,EVEN(AI$2)=AI$2)),AI$1,-100))","v":609.375},{"$f":"IF('Ceiling Speaker Calculator'!$C$29=\"Square\",AJ$1,IF(OR(AND(ODD($A29)=$A29,ODD(AJ$2)=AJ$2),AND(EVEN($A29)=$A29,EVEN(AJ$2)=AJ$2)),AJ$1,-100))","v":628.125},{"$f":"IF('Ceiling Speaker Calculator'!$C$29=\"Square\",AK$1,IF(OR(AND(ODD($A29)=$A29,ODD(AK$2)=AK$2),AND(EVEN($A29)=$A29,EVEN(AK$2)=AK$2)),AK$1,-100))","v":646.875},{"$f":"IF('Ceiling Speaker Calculator'!$C$29=\"Square\",AL$1,IF(OR(AND(ODD($A29)=$A29,ODD(AL$2)=AL$2),AND(EVEN($A29)=$A29,EVEN(AL$2)=AL$2)),AL$1,-100))","v":665.625},{"$f":"IF('Ceiling Speaker Calculator'!$C$29=\"Square\",AM$1,IF(OR(AND(ODD($A29)=$A29,ODD(AM$2)=AM$2),AND(EVEN($A29)=$A29,EVEN(AM$2)=AM$2)),AM$1,-100))","v":684.375},{"$f":"IF('Ceiling Speaker Calculator'!$C$29=\"Square\",AN$1,IF(OR(AND(ODD($A29)=$A29,ODD(AN$2)=AN$2),AND(EVEN($A29)=$A29,EVEN(AN$2)=AN$2)),AN$1,-100))","v":703.125},{"$f":"IF('Ceiling Speaker Calculator'!$C$29=\"Square\",AO$1,IF(OR(AND(ODD($A29)=$A29,ODD(AO$2)=AO$2),AND(EVEN($A29)=$A29,EVEN(AO$2)=AO$2)),AO$1,-100))","v":721.875},{"$f":"IF('Ceiling Speaker Calculator'!$C$29=\"Square\",AP$1,IF(OR(AND(ODD($A29)=$A29,ODD(AP$2)=AP$2),AND(EVEN($A29)=$A29,EVEN(AP$2)=AP$2)),AP$1,-100))","v":740.625},{"$f":"IF('Ceiling Speaker Calculator'!$C$29=\"Square\",AQ$1,IF(OR(AND(ODD($A29)=$A29,ODD(AQ$2)=AQ$2),AND(EVEN($A29)=$A29,EVEN(AQ$2)=AQ$2)),AQ$1,-100))","v":759.375},{"$f":"IF('Ceiling Speaker Calculator'!$C$29=\"Square\",AR$1,IF(OR(AND(ODD($A29)=$A29,ODD(AR$2)=AR$2),AND(EVEN($A29)=$A29,EVEN(AR$2)=AR$2)),AR$1,-100))","v":778.125},{"$f":"IF('Ceiling Speaker Calculator'!$C$29=\"Square\",AS$1,IF(OR(AND(ODD($A29)=$A29,ODD(AS$2)=AS$2),AND(EVEN($A29)=$A29,EVEN(AS$2)=AS$2)),AS$1,-100))","v":796.875},{"$f":"IF('Ceiling Speaker Calculator'!$C$29=\"Square\",AT$1,IF(OR(AND(ODD($A29)=$A29,ODD(AT$2)=AT$2),AND(EVEN($A29)=$A29,EVEN(AT$2)=AT$2)),AT$1,-100))","v":815.625},{"$f":"IF('Ceiling Speaker Calculator'!$C$29=\"Square\",AU$1,IF(OR(AND(ODD($A29)=$A29,ODD(AU$2)=AU$2),AND(EVEN($A29)=$A29,EVEN(AU$2)=AU$2)),AU$1,-100))","v":834.375},{"$f":"IF('Ceiling Speaker Calculator'!$C$29=\"Square\",AV$1,IF(OR(AND(ODD($A29)=$A29,ODD(AV$2)=AV$2),AND(EVEN($A29)=$A29,EVEN(AV$2)=AV$2)),AV$1,-100))","v":853.125},{"$f":"IF('Ceiling Speaker Calculator'!$C$29=\"Square\",AW$1,IF(OR(AND(ODD($A29)=$A29,ODD(AW$2)=AW$2),AND(EVEN($A29)=$A29,EVEN(AW$2)=AW$2)),AW$1,-100))","v":871.875},{"$f":"IF('Ceiling Speaker Calculator'!$C$29=\"Square\",AX$1,IF(OR(AND(ODD($A29)=$A29,ODD(AX$2)=AX$2),AND(EVEN($A29)=$A29,EVEN(AX$2)=AX$2)),AX$1,-100))","v":890.625},{"$f":"IF('Ceiling Speaker Calculator'!$C$29=\"Square\",AY$1,IF(OR(AND(ODD($A29)=$A29,ODD(AY$2)=AY$2),AND(EVEN($A29)=$A29,EVEN(AY$2)=AY$2)),AY$1,-100))","v":909.375},{"$f":"IF('Ceiling Speaker Calculator'!$C$29=\"Square\",AZ$1,IF(OR(AND(ODD($A29)=$A29,ODD(AZ$2)=AZ$2),AND(EVEN($A29)=$A29,EVEN(AZ$2)=AZ$2)),AZ$1,-100))","v":928.125},{"$f":"IF('Ceiling Speaker Calculator'!$C$29=\"Square\",BA$1,IF(OR(AND(ODD($A29)=$A29,ODD(BA$2)=BA$2),AND(EVEN($A29)=$A29,EVEN(BA$2)=BA$2)),BA$1,-100))","v":946.875},{"$f":"IF('Ceiling Speaker Calculator'!$C$29=\"Square\",BB$1,IF(OR(AND(ODD($A29)=$A29,ODD(BB$2)=BB$2),AND(EVEN($A29)=$A29,EVEN(BB$2)=BB$2)),BB$1,-100))","v":965.625},{"$f":"IF('Ceiling Speaker Calculator'!$C$29=\"Square\",BC$1,IF(OR(AND(ODD($A29)=$A29,ODD(BC$2)=BC$2),AND(EVEN($A29)=$A29,EVEN(BC$2)=BC$2)),BC$1,-100))","v":984.375},{"$f":"IF('Ceiling Speaker Calculator'!$C$29=\"Square\",BD$1,IF(OR(AND(ODD($A29)=$A29,ODD(BD$2)=BD$2),AND(EVEN($A29)=$A29,EVEN(BD$2)=BD$2)),BD$1,-100))","v":1003.125},{"$f":"IF('Ceiling Speaker Calculator'!$C$29=\"Square\",BE$1,IF(OR(AND(ODD($A29)=$A29,ODD(BE$2)=BE$2),AND(EVEN($A29)=$A29,EVEN(BE$2)=BE$2)),BE$1,-100))","v":1021.875},{"$f":"IF('Ceiling Speaker Calculator'!$C$29=\"Square\",BF$1,IF(OR(AND(ODD($A29)=$A29,ODD(BF$2)=BF$2),AND(EVEN($A29)=$A29,EVEN(BF$2)=BF$2)),BF$1,-100))","v":1040.625},{"$f":"IF('Ceiling Speaker Calculator'!$C$29=\"Square\",BG$1,IF(OR(AND(ODD($A29)=$A29,ODD(BG$2)=BG$2),AND(EVEN($A29)=$A29,EVEN(BG$2)=BG$2)),BG$1,-100))","v":1059.375},{"$f":"IF('Ceiling Speaker Calculator'!$C$29=\"Square\",BH$1,IF(OR(AND(ODD($A29)=$A29,ODD(BH$2)=BH$2),AND(EVEN($A29)=$A29,EVEN(BH$2)=BH$2)),BH$1,-100))","v":1078.125},{"$f":"IF('Ceiling Speaker Calculator'!$C$29=\"Square\",BI$1,IF(OR(AND(ODD($A29)=$A29,ODD(BI$2)=BI$2),AND(EVEN($A29)=$A29,EVEN(BI$2)=BI$2)),BI$1,-100))","v":1096.875},{"$f":"IF('Ceiling Speaker Calculator'!$C$29=\"Square\",BJ$1,IF(OR(AND(ODD($A29)=$A29,ODD(BJ$2)=BJ$2),AND(EVEN($A29)=$A29,EVEN(BJ$2)=BJ$2)),BJ$1,-100))","v":1115.625},{"$f":"IF('Ceiling Speaker Calculator'!$C$29=\"Square\",BK$1,IF(OR(AND(ODD($A29)=$A29,ODD(BK$2)=BK$2),AND(EVEN($A29)=$A29,EVEN(BK$2)=BK$2)),BK$1,-100))","v":1134.375},{"$f":"IF('Ceiling Speaker Calculator'!$C$29=\"Square\",BL$1,IF(OR(AND(ODD($A29)=$A29,ODD(BL$2)=BL$2),AND(EVEN($A29)=$A29,EVEN(BL$2)=BL$2)),BL$1,-100))","v":1153.125},{"$f":"IF('Ceiling Speaker Calculator'!$C$29=\"Square\",BM$1,IF(OR(AND(ODD($A29)=$A29,ODD(BM$2)=BM$2),AND(EVEN($A29)=$A29,EVEN(BM$2)=BM$2)),BM$1,-100))","v":1171.875},{"$f":"IF('Ceiling Speaker Calculator'!$C$29=\"Square\",BN$1,IF(OR(AND(ODD($A29)=$A29,ODD(BN$2)=BN$2),AND(EVEN($A29)=$A29,EVEN(BN$2)=BN$2)),BN$1,-100))","v":1190.625},{"$f":"IF('Ceiling Speaker Calculator'!$C$29=\"Square\",BO$1,IF(OR(AND(ODD($A29)=$A29,ODD(BO$2)=BO$2),AND(EVEN($A29)=$A29,EVEN(BO$2)=BO$2)),BO$1,-100))","v":1209.375},{"$f":"IF('Ceiling Speaker Calculator'!$C$29=\"Square\",BP$1,IF(OR(AND(ODD($A29)=$A29,ODD(BP$2)=BP$2),AND(EVEN($A29)=$A29,EVEN(BP$2)=BP$2)),BP$1,-100))","v":1228.125},{"$f":"IF('Ceiling Speaker Calculator'!$C$29=\"Square\",BQ$1,IF(OR(AND(ODD($A29)=$A29,ODD(BQ$2)=BQ$2),AND(EVEN($A29)=$A29,EVEN(BQ$2)=BQ$2)),BQ$1,-100))","v":1246.875},{"$f":"IF('Ceiling Speaker Calculator'!$C$29=\"Square\",BR$1,IF(OR(AND(ODD($A29)=$A29,ODD(BR$2)=BR$2),AND(EVEN($A29)=$A29,EVEN(BR$2)=BR$2)),BR$1,-100))","v":1265.625},{"$f":"IF('Ceiling Speaker Calculator'!$C$29=\"Square\",BS$1,IF(OR(AND(ODD($A29)=$A29,ODD(BS$2)=BS$2),AND(EVEN($A29)=$A29,EVEN(BS$2)=BS$2)),BS$1,-100))","v":1284.375},{"$f":"IF('Ceiling Speaker Calculator'!$C$29=\"Square\",BT$1,IF(OR(AND(ODD($A29)=$A29,ODD(BT$2)=BT$2),AND(EVEN($A29)=$A29,EVEN(BT$2)=BT$2)),BT$1,-100))","v":1303.125},{"$f":"IF('Ceiling Speaker Calculator'!$C$29=\"Square\",BU$1,IF(OR(AND(ODD($A29)=$A29,ODD(BU$2)=BU$2),AND(EVEN($A29)=$A29,EVEN(BU$2)=BU$2)),BU$1,-100))","v":1321.875},{"$f":"IF('Ceiling Speaker Calculator'!$C$29=\"Square\",BV$1,IF(OR(AND(ODD($A29)=$A29,ODD(BV$2)=BV$2),AND(EVEN($A29)=$A29,EVEN(BV$2)=BV$2)),BV$1,-100))","v":1340.625},{"$f":"IF('Ceiling Speaker Calculator'!$C$29=\"Square\",BW$1,IF(OR(AND(ODD($A29)=$A29,ODD(BW$2)=BW$2),AND(EVEN($A29)=$A29,EVEN(BW$2)=BW$2)),BW$1,-100))","v":1359.375},{"$f":"IF('Ceiling Speaker Calculator'!$C$29=\"Square\",BX$1,IF(OR(AND(ODD($A29)=$A29,ODD(BX$2)=BX$2),AND(EVEN($A29)=$A29,EVEN(BX$2)=BX$2)),BX$1,-100))","v":1378.125},{"$f":"IF('Ceiling Speaker Calculator'!$C$29=\"Square\",BY$1,IF(OR(AND(ODD($A29)=$A29,ODD(BY$2)=BY$2),AND(EVEN($A29)=$A29,EVEN(BY$2)=BY$2)),BY$1,-100))","v":1396.875},{"$f":"IF('Ceiling Speaker Calculator'!$C$29=\"Square\",BZ$1,IF(OR(AND(ODD($A29)=$A29,ODD(BZ$2)=BZ$2),AND(EVEN($A29)=$A29,EVEN(BZ$2)=BZ$2)),BZ$1,-100))","v":1415.625},{"$f":"IF('Ceiling Speaker Calculator'!$C$29=\"Square\",CA$1,IF(OR(AND(ODD($A29)=$A29,ODD(CA$2)=CA$2),AND(EVEN($A29)=$A29,EVEN(CA$2)=CA$2)),CA$1,-100))","v":1434.375},{"$f":"IF('Ceiling Speaker Calculator'!$C$29=\"Square\",CB$1,IF(OR(AND(ODD($A29)=$A29,ODD(CB$2)=CB$2),AND(EVEN($A29)=$A29,EVEN(CB$2)=CB$2)),CB$1,-100))","v":1453.125},{"$f":"IF('Ceiling Speaker Calculator'!$C$29=\"Square\",CC$1,IF(OR(AND(ODD($A29)=$A29,ODD(CC$2)=CC$2),AND(EVEN($A29)=$A29,EVEN(CC$2)=CC$2)),CC$1,-100))","v":1471.875},{"$f":"IF('Ceiling Speaker Calculator'!$C$29=\"Square\",CD$1,IF(OR(AND(ODD($A29)=$A29,ODD(CD$2)=CD$2),AND(EVEN($A29)=$A29,EVEN(CD$2)=CD$2)),CD$1,-100))","v":1490.625},{"$f":"IF('Ceiling Speaker Calculator'!$C$29=\"Square\",CE$1,IF(OR(AND(ODD($A29)=$A29,ODD(CE$2)=CE$2),AND(EVEN($A29)=$A29,EVEN(CE$2)=CE$2)),CE$1,-100))","v":1509.375},{"$f":"IF('Ceiling Speaker Calculator'!$C$29=\"Square\",CF$1,IF(OR(AND(ODD($A29)=$A29,ODD(CF$2)=CF$2),AND(EVEN($A29)=$A29,EVEN(CF$2)=CF$2)),CF$1,-100))","v":1528.125},{"$f":"IF('Ceiling Speaker Calculator'!$C$29=\"Square\",CG$1,IF(OR(AND(ODD($A29)=$A29,ODD(CG$2)=CG$2),AND(EVEN($A29)=$A29,EVEN(CG$2)=CG$2)),CG$1,-100))","v":1546.875},{"$f":"IF('Ceiling Speaker Calculator'!$C$29=\"Square\",CH$1,IF(OR(AND(ODD($A29)=$A29,ODD(CH$2)=CH$2),AND(EVEN($A29)=$A29,EVEN(CH$2)=CH$2)),CH$1,-100))","v":1565.625},{"$f":"IF('Ceiling Speaker Calculator'!$C$29=\"Square\",CI$1,IF(OR(AND(ODD($A29)=$A29,ODD(CI$2)=CI$2),AND(EVEN($A29)=$A29,EVEN(CI$2)=CI$2)),CI$1,-100))","v":1584.375},{"$f":"IF('Ceiling Speaker Calculator'!$C$29=\"Square\",CJ$1,IF(OR(AND(ODD($A29)=$A29,ODD(CJ$2)=CJ$2),AND(EVEN($A29)=$A29,EVEN(CJ$2)=CJ$2)),CJ$1,-100))","v":1603.125},{"$f":"IF('Ceiling Speaker Calculator'!$C$29=\"Square\",CK$1,IF(OR(AND(ODD($A29)=$A29,ODD(CK$2)=CK$2),AND(EVEN($A29)=$A29,EVEN(CK$2)=CK$2)),CK$1,-100))","v":1621.875},{"$f":"IF('Ceiling Speaker Calculator'!$C$29=\"Square\",CL$1,IF(OR(AND(ODD($A29)=$A29,ODD(CL$2)=CL$2),AND(EVEN($A29)=$A29,EVEN(CL$2)=CL$2)),CL$1,-100))","v":1640.625},{"$f":"IF('Ceiling Speaker Calculator'!$C$29=\"Square\",CM$1,IF(OR(AND(ODD($A29)=$A29,ODD(CM$2)=CM$2),AND(EVEN($A29)=$A29,EVEN(CM$2)=CM$2)),CM$1,-100))","v":1659.375},{"$f":"IF('Ceiling Speaker Calculator'!$C$29=\"Square\",CN$1,IF(OR(AND(ODD($A29)=$A29,ODD(CN$2)=CN$2),AND(EVEN($A29)=$A29,EVEN(CN$2)=CN$2)),CN$1,-100))","v":1678.125},{"$f":"IF('Ceiling Speaker Calculator'!$C$29=\"Square\",CO$1,IF(OR(AND(ODD($A29)=$A29,ODD(CO$2)=CO$2),AND(EVEN($A29)=$A29,EVEN(CO$2)=CO$2)),CO$1,-100))","v":1696.875},{"$f":"IF('Ceiling Speaker Calculator'!$C$29=\"Square\",CP$1,IF(OR(AND(ODD($A29)=$A29,ODD(CP$2)=CP$2),AND(EVEN($A29)=$A29,EVEN(CP$2)=CP$2)),CP$1,-100))","v":1715.625},{"$f":"IF('Ceiling Speaker Calculator'!$C$29=\"Square\",CQ$1,IF(OR(AND(ODD($A29)=$A29,ODD(CQ$2)=CQ$2),AND(EVEN($A29)=$A29,EVEN(CQ$2)=CQ$2)),CQ$1,-100))","v":1734.375},{"$f":"IF('Ceiling Speaker Calculator'!$C$29=\"Square\",CR$1,IF(OR(AND(ODD($A29)=$A29,ODD(CR$2)=CR$2),AND(EVEN($A29)=$A29,EVEN(CR$2)=CR$2)),CR$1,-100))","v":1753.125},{"$f":"IF('Ceiling Speaker Calculator'!$C$29=\"Square\",CS$1,IF(OR(AND(ODD($A29)=$A29,ODD(CS$2)=CS$2),AND(EVEN($A29)=$A29,EVEN(CS$2)=CS$2)),CS$1,-100))","v":1771.875},{"$f":"IF('Ceiling Speaker Calculator'!$C$29=\"Square\",CT$1,IF(OR(AND(ODD($A29)=$A29,ODD(CT$2)=CT$2),AND(EVEN($A29)=$A29,EVEN(CT$2)=CT$2)),CT$1,-100))","v":1790.625},{"$f":"IF('Ceiling Speaker Calculator'!$C$29=\"Square\",CU$1,IF(OR(AND(ODD($A29)=$A29,ODD(CU$2)=CU$2),AND(EVEN($A29)=$A29,EVEN(CU$2)=CU$2)),CU$1,-100))","v":1809.375},{"$f":"IF('Ceiling Speaker Calculator'!$C$29=\"Square\",CV$1,IF(OR(AND(ODD($A29)=$A29,ODD(CV$2)=CV$2),AND(EVEN($A29)=$A29,EVEN(CV$2)=CV$2)),CV$1,-100))","v":1828.125},{"$f":"IF('Ceiling Speaker Calculator'!$C$29=\"Square\",CW$1,IF(OR(AND(ODD($A29)=$A29,ODD(CW$2)=CW$2),AND(EVEN($A29)=$A29,EVEN(CW$2)=CW$2)),CW$1,-100))","v":1846.875},{"$f":"IF('Ceiling Speaker Calculator'!$C$29=\"Square\",CX$1,IF(OR(AND(ODD($A29)=$A29,ODD(CX$2)=CX$2),AND(EVEN($A29)=$A29,EVEN(CX$2)=CX$2)),CX$1,-100))","v":1865.625}]
[28,{"$f":"B29+'Ceiling Speaker Calculator'!$K$16","v":550},{"$f":"IF('Ceiling Speaker Calculator'!$C$29=\"Square\",C$1,IF(OR(AND(ODD($A30)=$A30,ODD(C$2)=C$2),AND(EVEN($A30)=$A30,EVEN(C$2)=C$2)),C$1,-100))","v":9.375},{"$f":"IF('Ceiling Speaker Calculator'!$C$29=\"Square\",D$1,IF(OR(AND(ODD($A30)=$A30,ODD(D$2)=D$2),AND(EVEN($A30)=$A30,EVEN(D$2)=D$2)),D$1,-100))","v":28.125},{"$f":"IF('Ceiling Speaker Calculator'!$C$29=\"Square\",E$1,IF(OR(AND(ODD($A30)=$A30,ODD(E$2)=E$2),AND(EVEN($A30)=$A30,EVEN(E$2)=E$2)),E$1,-100))","v":46.875},{"$f":"IF('Ceiling Speaker Calculator'!$C$29=\"Square\",F$1,IF(OR(AND(ODD($A30)=$A30,ODD(F$2)=F$2),AND(EVEN($A30)=$A30,EVEN(F$2)=F$2)),F$1,-100))","v":65.625},{"$f":"IF('Ceiling Speaker Calculator'!$C$29=\"Square\",G$1,IF(OR(AND(ODD($A30)=$A30,ODD(G$2)=G$2),AND(EVEN($A30)=$A30,EVEN(G$2)=G$2)),G$1,-100))","v":84.375},{"$f":"IF('Ceiling Speaker Calculator'!$C$29=\"Square\",H$1,IF(OR(AND(ODD($A30)=$A30,ODD(H$2)=H$2),AND(EVEN($A30)=$A30,EVEN(H$2)=H$2)),H$1,-100))","v":103.125},{"$f":"IF('Ceiling Speaker Calculator'!$C$29=\"Square\",I$1,IF(OR(AND(ODD($A30)=$A30,ODD(I$2)=I$2),AND(EVEN($A30)=$A30,EVEN(I$2)=I$2)),I$1,-100))","v":121.875},{"$f":"IF('Ceiling Speaker Calculator'!$C$29=\"Square\",J$1,IF(OR(AND(ODD($A30)=$A30,ODD(J$2)=J$2),AND(EVEN($A30)=$A30,EVEN(J$2)=J$2)),J$1,-100))","v":140.625},{"$f":"IF('Ceiling Speaker Calculator'!$C$29=\"Square\",K$1,IF(OR(AND(ODD($A30)=$A30,ODD(K$2)=K$2),AND(EVEN($A30)=$A30,EVEN(K$2)=K$2)),K$1,-100))","v":159.375},{"$f":"IF('Ceiling Speaker Calculator'!$C$29=\"Square\",L$1,IF(OR(AND(ODD($A30)=$A30,ODD(L$2)=L$2),AND(EVEN($A30)=$A30,EVEN(L$2)=L$2)),L$1,-100))","v":178.125},{"$f":"IF('Ceiling Speaker Calculator'!$C$29=\"Square\",M$1,IF(OR(AND(ODD($A30)=$A30,ODD(M$2)=M$2),AND(EVEN($A30)=$A30,EVEN(M$2)=M$2)),M$1,-100))","v":196.875},{"$f":"IF('Ceiling Speaker Calculator'!$C$29=\"Square\",N$1,IF(OR(AND(ODD($A30)=$A30,ODD(N$2)=N$2),AND(EVEN($A30)=$A30,EVEN(N$2)=N$2)),N$1,-100))","v":215.625},{"$f":"IF('Ceiling Speaker Calculator'!$C$29=\"Square\",O$1,IF(OR(AND(ODD($A30)=$A30,ODD(O$2)=O$2),AND(EVEN($A30)=$A30,EVEN(O$2)=O$2)),O$1,-100))","v":234.375},{"$f":"IF('Ceiling Speaker Calculator'!$C$29=\"Square\",P$1,IF(OR(AND(ODD($A30)=$A30,ODD(P$2)=P$2),AND(EVEN($A30)=$A30,EVEN(P$2)=P$2)),P$1,-100))","v":253.125},{"$f":"IF('Ceiling Speaker Calculator'!$C$29=\"Square\",Q$1,IF(OR(AND(ODD($A30)=$A30,ODD(Q$2)=Q$2),AND(EVEN($A30)=$A30,EVEN(Q$2)=Q$2)),Q$1,-100))","v":271.875},{"$f":"IF('Ceiling Speaker Calculator'!$C$29=\"Square\",R$1,IF(OR(AND(ODD($A30)=$A30,ODD(R$2)=R$2),AND(EVEN($A30)=$A30,EVEN(R$2)=R$2)),R$1,-100))","v":290.625},{"$f":"IF('Ceiling Speaker Calculator'!$C$29=\"Square\",S$1,IF(OR(AND(ODD($A30)=$A30,ODD(S$2)=S$2),AND(EVEN($A30)=$A30,EVEN(S$2)=S$2)),S$1,-100))","v":309.375},{"$f":"IF('Ceiling Speaker Calculator'!$C$29=\"Square\",T$1,IF(OR(AND(ODD($A30)=$A30,ODD(T$2)=T$2),AND(EVEN($A30)=$A30,EVEN(T$2)=T$2)),T$1,-100))","v":328.125},{"$f":"IF('Ceiling Speaker Calculator'!$C$29=\"Square\",U$1,IF(OR(AND(ODD($A30)=$A30,ODD(U$2)=U$2),AND(EVEN($A30)=$A30,EVEN(U$2)=U$2)),U$1,-100))","v":346.875},{"$f":"IF('Ceiling Speaker Calculator'!$C$29=\"Square\",V$1,IF(OR(AND(ODD($A30)=$A30,ODD(V$2)=V$2),AND(EVEN($A30)=$A30,EVEN(V$2)=V$2)),V$1,-100))","v":365.625},{"$f":"IF('Ceiling Speaker Calculator'!$C$29=\"Square\",W$1,IF(OR(AND(ODD($A30)=$A30,ODD(W$2)=W$2),AND(EVEN($A30)=$A30,EVEN(W$2)=W$2)),W$1,-100))","v":384.375},{"$f":"IF('Ceiling Speaker Calculator'!$C$29=\"Square\",X$1,IF(OR(AND(ODD($A30)=$A30,ODD(X$2)=X$2),AND(EVEN($A30)=$A30,EVEN(X$2)=X$2)),X$1,-100))","v":403.125},{"$f":"IF('Ceiling Speaker Calculator'!$C$29=\"Square\",Y$1,IF(OR(AND(ODD($A30)=$A30,ODD(Y$2)=Y$2),AND(EVEN($A30)=$A30,EVEN(Y$2)=Y$2)),Y$1,-100))","v":421.875},{"$f":"IF('Ceiling Speaker Calculator'!$C$29=\"Square\",Z$1,IF(OR(AND(ODD($A30)=$A30,ODD(Z$2)=Z$2),AND(EVEN($A30)=$A30,EVEN(Z$2)=Z$2)),Z$1,-100))","v":440.625},{"$f":"IF('Ceiling Speaker Calculator'!$C$29=\"Square\",AA$1,IF(OR(AND(ODD($A30)=$A30,ODD(AA$2)=AA$2),AND(EVEN($A30)=$A30,EVEN(AA$2)=AA$2)),AA$1,-100))","v":459.375},{"$f":"IF('Ceiling Speaker Calculator'!$C$29=\"Square\",AB$1,IF(OR(AND(ODD($A30)=$A30,ODD(AB$2)=AB$2),AND(EVEN($A30)=$A30,EVEN(AB$2)=AB$2)),AB$1,-100))","v":478.125},{"$f":"IF('Ceiling Speaker Calculator'!$C$29=\"Square\",AC$1,IF(OR(AND(ODD($A30)=$A30,ODD(AC$2)=AC$2),AND(EVEN($A30)=$A30,EVEN(AC$2)=AC$2)),AC$1,-100))","v":496.875},{"$f":"IF('Ceiling Speaker Calculator'!$C$29=\"Square\",AD$1,IF(OR(AND(ODD($A30)=$A30,ODD(AD$2)=AD$2),AND(EVEN($A30)=$A30,EVEN(AD$2)=AD$2)),AD$1,-100))","v":515.625},{"$f":"IF('Ceiling Speaker Calculator'!$C$29=\"Square\",AE$1,IF(OR(AND(ODD($A30)=$A30,ODD(AE$2)=AE$2),AND(EVEN($A30)=$A30,EVEN(AE$2)=AE$2)),AE$1,-100))","v":534.375},{"$f":"IF('Ceiling Speaker Calculator'!$C$29=\"Square\",AF$1,IF(OR(AND(ODD($A30)=$A30,ODD(AF$2)=AF$2),AND(EVEN($A30)=$A30,EVEN(AF$2)=AF$2)),AF$1,-100))","v":553.125},{"$f":"IF('Ceiling Speaker Calculator'!$C$29=\"Square\",AG$1,IF(OR(AND(ODD($A30)=$A30,ODD(AG$2)=AG$2),AND(EVEN($A30)=$A30,EVEN(AG$2)=AG$2)),AG$1,-100))","v":571.875},{"$f":"IF('Ceiling Speaker Calculator'!$C$29=\"Square\",AH$1,IF(OR(AND(ODD($A30)=$A30,ODD(AH$2)=AH$2),AND(EVEN($A30)=$A30,EVEN(AH$2)=AH$2)),AH$1,-100))","v":590.625},{"$f":"IF('Ceiling Speaker Calculator'!$C$29=\"Square\",AI$1,IF(OR(AND(ODD($A30)=$A30,ODD(AI$2)=AI$2),AND(EVEN($A30)=$A30,EVEN(AI$2)=AI$2)),AI$1,-100))","v":609.375},{"$f":"IF('Ceiling Speaker Calculator'!$C$29=\"Square\",AJ$1,IF(OR(AND(ODD($A30)=$A30,ODD(AJ$2)=AJ$2),AND(EVEN($A30)=$A30,EVEN(AJ$2)=AJ$2)),AJ$1,-100))","v":628.125},{"$f":"IF('Ceiling Speaker Calculator'!$C$29=\"Square\",AK$1,IF(OR(AND(ODD($A30)=$A30,ODD(AK$2)=AK$2),AND(EVEN($A30)=$A30,EVEN(AK$2)=AK$2)),AK$1,-100))","v":646.875},{"$f":"IF('Ceiling Speaker Calculator'!$C$29=\"Square\",AL$1,IF(OR(AND(ODD($A30)=$A30,ODD(AL$2)=AL$2),AND(EVEN($A30)=$A30,EVEN(AL$2)=AL$2)),AL$1,-100))","v":665.625},{"$f":"IF('Ceiling Speaker Calculator'!$C$29=\"Square\",AM$1,IF(OR(AND(ODD($A30)=$A30,ODD(AM$2)=AM$2),AND(EVEN($A30)=$A30,EVEN(AM$2)=AM$2)),AM$1,-100))","v":684.375},{"$f":"IF('Ceiling Speaker Calculator'!$C$29=\"Square\",AN$1,IF(OR(AND(ODD($A30)=$A30,ODD(AN$2)=AN$2),AND(EVEN($A30)=$A30,EVEN(AN$2)=AN$2)),AN$1,-100))","v":703.125},{"$f":"IF('Ceiling Speaker Calculator'!$C$29=\"Square\",AO$1,IF(OR(AND(ODD($A30)=$A30,ODD(AO$2)=AO$2),AND(EVEN($A30)=$A30,EVEN(AO$2)=AO$2)),AO$1,-100))","v":721.875},{"$f":"IF('Ceiling Speaker Calculator'!$C$29=\"Square\",AP$1,IF(OR(AND(ODD($A30)=$A30,ODD(AP$2)=AP$2),AND(EVEN($A30)=$A30,EVEN(AP$2)=AP$2)),AP$1,-100))","v":740.625},{"$f":"IF('Ceiling Speaker Calculator'!$C$29=\"Square\",AQ$1,IF(OR(AND(ODD($A30)=$A30,ODD(AQ$2)=AQ$2),AND(EVEN($A30)=$A30,EVEN(AQ$2)=AQ$2)),AQ$1,-100))","v":759.375},{"$f":"IF('Ceiling Speaker Calculator'!$C$29=\"Square\",AR$1,IF(OR(AND(ODD($A30)=$A30,ODD(AR$2)=AR$2),AND(EVEN($A30)=$A30,EVEN(AR$2)=AR$2)),AR$1,-100))","v":778.125},{"$f":"IF('Ceiling Speaker Calculator'!$C$29=\"Square\",AS$1,IF(OR(AND(ODD($A30)=$A30,ODD(AS$2)=AS$2),AND(EVEN($A30)=$A30,EVEN(AS$2)=AS$2)),AS$1,-100))","v":796.875},{"$f":"IF('Ceiling Speaker Calculator'!$C$29=\"Square\",AT$1,IF(OR(AND(ODD($A30)=$A30,ODD(AT$2)=AT$2),AND(EVEN($A30)=$A30,EVEN(AT$2)=AT$2)),AT$1,-100))","v":815.625},{"$f":"IF('Ceiling Speaker Calculator'!$C$29=\"Square\",AU$1,IF(OR(AND(ODD($A30)=$A30,ODD(AU$2)=AU$2),AND(EVEN($A30)=$A30,EVEN(AU$2)=AU$2)),AU$1,-100))","v":834.375},{"$f":"IF('Ceiling Speaker Calculator'!$C$29=\"Square\",AV$1,IF(OR(AND(ODD($A30)=$A30,ODD(AV$2)=AV$2),AND(EVEN($A30)=$A30,EVEN(AV$2)=AV$2)),AV$1,-100))","v":853.125},{"$f":"IF('Ceiling Speaker Calculator'!$C$29=\"Square\",AW$1,IF(OR(AND(ODD($A30)=$A30,ODD(AW$2)=AW$2),AND(EVEN($A30)=$A30,EVEN(AW$2)=AW$2)),AW$1,-100))","v":871.875},{"$f":"IF('Ceiling Speaker Calculator'!$C$29=\"Square\",AX$1,IF(OR(AND(ODD($A30)=$A30,ODD(AX$2)=AX$2),AND(EVEN($A30)=$A30,EVEN(AX$2)=AX$2)),AX$1,-100))","v":890.625},{"$f":"IF('Ceiling Speaker Calculator'!$C$29=\"Square\",AY$1,IF(OR(AND(ODD($A30)=$A30,ODD(AY$2)=AY$2),AND(EVEN($A30)=$A30,EVEN(AY$2)=AY$2)),AY$1,-100))","v":909.375},{"$f":"IF('Ceiling Speaker Calculator'!$C$29=\"Square\",AZ$1,IF(OR(AND(ODD($A30)=$A30,ODD(AZ$2)=AZ$2),AND(EVEN($A30)=$A30,EVEN(AZ$2)=AZ$2)),AZ$1,-100))","v":928.125},{"$f":"IF('Ceiling Speaker Calculator'!$C$29=\"Square\",BA$1,IF(OR(AND(ODD($A30)=$A30,ODD(BA$2)=BA$2),AND(EVEN($A30)=$A30,EVEN(BA$2)=BA$2)),BA$1,-100))","v":946.875},{"$f":"IF('Ceiling Speaker Calculator'!$C$29=\"Square\",BB$1,IF(OR(AND(ODD($A30)=$A30,ODD(BB$2)=BB$2),AND(EVEN($A30)=$A30,EVEN(BB$2)=BB$2)),BB$1,-100))","v":965.625},{"$f":"IF('Ceiling Speaker Calculator'!$C$29=\"Square\",BC$1,IF(OR(AND(ODD($A30)=$A30,ODD(BC$2)=BC$2),AND(EVEN($A30)=$A30,EVEN(BC$2)=BC$2)),BC$1,-100))","v":984.375},{"$f":"IF('Ceiling Speaker Calculator'!$C$29=\"Square\",BD$1,IF(OR(AND(ODD($A30)=$A30,ODD(BD$2)=BD$2),AND(EVEN($A30)=$A30,EVEN(BD$2)=BD$2)),BD$1,-100))","v":1003.125},{"$f":"IF('Ceiling Speaker Calculator'!$C$29=\"Square\",BE$1,IF(OR(AND(ODD($A30)=$A30,ODD(BE$2)=BE$2),AND(EVEN($A30)=$A30,EVEN(BE$2)=BE$2)),BE$1,-100))","v":1021.875},{"$f":"IF('Ceiling Speaker Calculator'!$C$29=\"Square\",BF$1,IF(OR(AND(ODD($A30)=$A30,ODD(BF$2)=BF$2),AND(EVEN($A30)=$A30,EVEN(BF$2)=BF$2)),BF$1,-100))","v":1040.625},{"$f":"IF('Ceiling Speaker Calculator'!$C$29=\"Square\",BG$1,IF(OR(AND(ODD($A30)=$A30,ODD(BG$2)=BG$2),AND(EVEN($A30)=$A30,EVEN(BG$2)=BG$2)),BG$1,-100))","v":1059.375},{"$f":"IF('Ceiling Speaker Calculator'!$C$29=\"Square\",BH$1,IF(OR(AND(ODD($A30)=$A30,ODD(BH$2)=BH$2),AND(EVEN($A30)=$A30,EVEN(BH$2)=BH$2)),BH$1,-100))","v":1078.125},{"$f":"IF('Ceiling Speaker Calculator'!$C$29=\"Square\",BI$1,IF(OR(AND(ODD($A30)=$A30,ODD(BI$2)=BI$2),AND(EVEN($A30)=$A30,EVEN(BI$2)=BI$2)),BI$1,-100))","v":1096.875},{"$f":"IF('Ceiling Speaker Calculator'!$C$29=\"Square\",BJ$1,IF(OR(AND(ODD($A30)=$A30,ODD(BJ$2)=BJ$2),AND(EVEN($A30)=$A30,EVEN(BJ$2)=BJ$2)),BJ$1,-100))","v":1115.625},{"$f":"IF('Ceiling Speaker Calculator'!$C$29=\"Square\",BK$1,IF(OR(AND(ODD($A30)=$A30,ODD(BK$2)=BK$2),AND(EVEN($A30)=$A30,EVEN(BK$2)=BK$2)),BK$1,-100))","v":1134.375},{"$f":"IF('Ceiling Speaker Calculator'!$C$29=\"Square\",BL$1,IF(OR(AND(ODD($A30)=$A30,ODD(BL$2)=BL$2),AND(EVEN($A30)=$A30,EVEN(BL$2)=BL$2)),BL$1,-100))","v":1153.125},{"$f":"IF('Ceiling Speaker Calculator'!$C$29=\"Square\",BM$1,IF(OR(AND(ODD($A30)=$A30,ODD(BM$2)=BM$2),AND(EVEN($A30)=$A30,EVEN(BM$2)=BM$2)),BM$1,-100))","v":1171.875},{"$f":"IF('Ceiling Speaker Calculator'!$C$29=\"Square\",BN$1,IF(OR(AND(ODD($A30)=$A30,ODD(BN$2)=BN$2),AND(EVEN($A30)=$A30,EVEN(BN$2)=BN$2)),BN$1,-100))","v":1190.625},{"$f":"IF('Ceiling Speaker Calculator'!$C$29=\"Square\",BO$1,IF(OR(AND(ODD($A30)=$A30,ODD(BO$2)=BO$2),AND(EVEN($A30)=$A30,EVEN(BO$2)=BO$2)),BO$1,-100))","v":1209.375},{"$f":"IF('Ceiling Speaker Calculator'!$C$29=\"Square\",BP$1,IF(OR(AND(ODD($A30)=$A30,ODD(BP$2)=BP$2),AND(EVEN($A30)=$A30,EVEN(BP$2)=BP$2)),BP$1,-100))","v":1228.125},{"$f":"IF('Ceiling Speaker Calculator'!$C$29=\"Square\",BQ$1,IF(OR(AND(ODD($A30)=$A30,ODD(BQ$2)=BQ$2),AND(EVEN($A30)=$A30,EVEN(BQ$2)=BQ$2)),BQ$1,-100))","v":1246.875},{"$f":"IF('Ceiling Speaker Calculator'!$C$29=\"Square\",BR$1,IF(OR(AND(ODD($A30)=$A30,ODD(BR$2)=BR$2),AND(EVEN($A30)=$A30,EVEN(BR$2)=BR$2)),BR$1,-100))","v":1265.625},{"$f":"IF('Ceiling Speaker Calculator'!$C$29=\"Square\",BS$1,IF(OR(AND(ODD($A30)=$A30,ODD(BS$2)=BS$2),AND(EVEN($A30)=$A30,EVEN(BS$2)=BS$2)),BS$1,-100))","v":1284.375},{"$f":"IF('Ceiling Speaker Calculator'!$C$29=\"Square\",BT$1,IF(OR(AND(ODD($A30)=$A30,ODD(BT$2)=BT$2),AND(EVEN($A30)=$A30,EVEN(BT$2)=BT$2)),BT$1,-100))","v":1303.125},{"$f":"IF('Ceiling Speaker Calculator'!$C$29=\"Square\",BU$1,IF(OR(AND(ODD($A30)=$A30,ODD(BU$2)=BU$2),AND(EVEN($A30)=$A30,EVEN(BU$2)=BU$2)),BU$1,-100))","v":1321.875},{"$f":"IF('Ceiling Speaker Calculator'!$C$29=\"Square\",BV$1,IF(OR(AND(ODD($A30)=$A30,ODD(BV$2)=BV$2),AND(EVEN($A30)=$A30,EVEN(BV$2)=BV$2)),BV$1,-100))","v":1340.625},{"$f":"IF('Ceiling Speaker Calculator'!$C$29=\"Square\",BW$1,IF(OR(AND(ODD($A30)=$A30,ODD(BW$2)=BW$2),AND(EVEN($A30)=$A30,EVEN(BW$2)=BW$2)),BW$1,-100))","v":1359.375},{"$f":"IF('Ceiling Speaker Calculator'!$C$29=\"Square\",BX$1,IF(OR(AND(ODD($A30)=$A30,ODD(BX$2)=BX$2),AND(EVEN($A30)=$A30,EVEN(BX$2)=BX$2)),BX$1,-100))","v":1378.125},{"$f":"IF('Ceiling Speaker Calculator'!$C$29=\"Square\",BY$1,IF(OR(AND(ODD($A30)=$A30,ODD(BY$2)=BY$2),AND(EVEN($A30)=$A30,EVEN(BY$2)=BY$2)),BY$1,-100))","v":1396.875},{"$f":"IF('Ceiling Speaker Calculator'!$C$29=\"Square\",BZ$1,IF(OR(AND(ODD($A30)=$A30,ODD(BZ$2)=BZ$2),AND(EVEN($A30)=$A30,EVEN(BZ$2)=BZ$2)),BZ$1,-100))","v":1415.625},{"$f":"IF('Ceiling Speaker Calculator'!$C$29=\"Square\",CA$1,IF(OR(AND(ODD($A30)=$A30,ODD(CA$2)=CA$2),AND(EVEN($A30)=$A30,EVEN(CA$2)=CA$2)),CA$1,-100))","v":1434.375},{"$f":"IF('Ceiling Speaker Calculator'!$C$29=\"Square\",CB$1,IF(OR(AND(ODD($A30)=$A30,ODD(CB$2)=CB$2),AND(EVEN($A30)=$A30,EVEN(CB$2)=CB$2)),CB$1,-100))","v":1453.125},{"$f":"IF('Ceiling Speaker Calculator'!$C$29=\"Square\",CC$1,IF(OR(AND(ODD($A30)=$A30,ODD(CC$2)=CC$2),AND(EVEN($A30)=$A30,EVEN(CC$2)=CC$2)),CC$1,-100))","v":1471.875},{"$f":"IF('Ceiling Speaker Calculator'!$C$29=\"Square\",CD$1,IF(OR(AND(ODD($A30)=$A30,ODD(CD$2)=CD$2),AND(EVEN($A30)=$A30,EVEN(CD$2)=CD$2)),CD$1,-100))","v":1490.625},{"$f":"IF('Ceiling Speaker Calculator'!$C$29=\"Square\",CE$1,IF(OR(AND(ODD($A30)=$A30,ODD(CE$2)=CE$2),AND(EVEN($A30)=$A30,EVEN(CE$2)=CE$2)),CE$1,-100))","v":1509.375},{"$f":"IF('Ceiling Speaker Calculator'!$C$29=\"Square\",CF$1,IF(OR(AND(ODD($A30)=$A30,ODD(CF$2)=CF$2),AND(EVEN($A30)=$A30,EVEN(CF$2)=CF$2)),CF$1,-100))","v":1528.125},{"$f":"IF('Ceiling Speaker Calculator'!$C$29=\"Square\",CG$1,IF(OR(AND(ODD($A30)=$A30,ODD(CG$2)=CG$2),AND(EVEN($A30)=$A30,EVEN(CG$2)=CG$2)),CG$1,-100))","v":1546.875},{"$f":"IF('Ceiling Speaker Calculator'!$C$29=\"Square\",CH$1,IF(OR(AND(ODD($A30)=$A30,ODD(CH$2)=CH$2),AND(EVEN($A30)=$A30,EVEN(CH$2)=CH$2)),CH$1,-100))","v":1565.625},{"$f":"IF('Ceiling Speaker Calculator'!$C$29=\"Square\",CI$1,IF(OR(AND(ODD($A30)=$A30,ODD(CI$2)=CI$2),AND(EVEN($A30)=$A30,EVEN(CI$2)=CI$2)),CI$1,-100))","v":1584.375},{"$f":"IF('Ceiling Speaker Calculator'!$C$29=\"Square\",CJ$1,IF(OR(AND(ODD($A30)=$A30,ODD(CJ$2)=CJ$2),AND(EVEN($A30)=$A30,EVEN(CJ$2)=CJ$2)),CJ$1,-100))","v":1603.125},{"$f":"IF('Ceiling Speaker Calculator'!$C$29=\"Square\",CK$1,IF(OR(AND(ODD($A30)=$A30,ODD(CK$2)=CK$2),AND(EVEN($A30)=$A30,EVEN(CK$2)=CK$2)),CK$1,-100))","v":1621.875},{"$f":"IF('Ceiling Speaker Calculator'!$C$29=\"Square\",CL$1,IF(OR(AND(ODD($A30)=$A30,ODD(CL$2)=CL$2),AND(EVEN($A30)=$A30,EVEN(CL$2)=CL$2)),CL$1,-100))","v":1640.625},{"$f":"IF('Ceiling Speaker Calculator'!$C$29=\"Square\",CM$1,IF(OR(AND(ODD($A30)=$A30,ODD(CM$2)=CM$2),AND(EVEN($A30)=$A30,EVEN(CM$2)=CM$2)),CM$1,-100))","v":1659.375},{"$f":"IF('Ceiling Speaker Calculator'!$C$29=\"Square\",CN$1,IF(OR(AND(ODD($A30)=$A30,ODD(CN$2)=CN$2),AND(EVEN($A30)=$A30,EVEN(CN$2)=CN$2)),CN$1,-100))","v":1678.125},{"$f":"IF('Ceiling Speaker Calculator'!$C$29=\"Square\",CO$1,IF(OR(AND(ODD($A30)=$A30,ODD(CO$2)=CO$2),AND(EVEN($A30)=$A30,EVEN(CO$2)=CO$2)),CO$1,-100))","v":1696.875},{"$f":"IF('Ceiling Speaker Calculator'!$C$29=\"Square\",CP$1,IF(OR(AND(ODD($A30)=$A30,ODD(CP$2)=CP$2),AND(EVEN($A30)=$A30,EVEN(CP$2)=CP$2)),CP$1,-100))","v":1715.625},{"$f":"IF('Ceiling Speaker Calculator'!$C$29=\"Square\",CQ$1,IF(OR(AND(ODD($A30)=$A30,ODD(CQ$2)=CQ$2),AND(EVEN($A30)=$A30,EVEN(CQ$2)=CQ$2)),CQ$1,-100))","v":1734.375},{"$f":"IF('Ceiling Speaker Calculator'!$C$29=\"Square\",CR$1,IF(OR(AND(ODD($A30)=$A30,ODD(CR$2)=CR$2),AND(EVEN($A30)=$A30,EVEN(CR$2)=CR$2)),CR$1,-100))","v":1753.125},{"$f":"IF('Ceiling Speaker Calculator'!$C$29=\"Square\",CS$1,IF(OR(AND(ODD($A30)=$A30,ODD(CS$2)=CS$2),AND(EVEN($A30)=$A30,EVEN(CS$2)=CS$2)),CS$1,-100))","v":1771.875},{"$f":"IF('Ceiling Speaker Calculator'!$C$29=\"Square\",CT$1,IF(OR(AND(ODD($A30)=$A30,ODD(CT$2)=CT$2),AND(EVEN($A30)=$A30,EVEN(CT$2)=CT$2)),CT$1,-100))","v":1790.625},{"$f":"IF('Ceiling Speaker Calculator'!$C$29=\"Square\",CU$1,IF(OR(AND(ODD($A30)=$A30,ODD(CU$2)=CU$2),AND(EVEN($A30)=$A30,EVEN(CU$2)=CU$2)),CU$1,-100))","v":1809.375},{"$f":"IF('Ceiling Speaker Calculator'!$C$29=\"Square\",CV$1,IF(OR(AND(ODD($A30)=$A30,ODD(CV$2)=CV$2),AND(EVEN($A30)=$A30,EVEN(CV$2)=CV$2)),CV$1,-100))","v":1828.125},{"$f":"IF('Ceiling Speaker Calculator'!$C$29=\"Square\",CW$1,IF(OR(AND(ODD($A30)=$A30,ODD(CW$2)=CW$2),AND(EVEN($A30)=$A30,EVEN(CW$2)=CW$2)),CW$1,-100))","v":1846.875},{"$f":"IF('Ceiling Speaker Calculator'!$C$29=\"Square\",CX$1,IF(OR(AND(ODD($A30)=$A30,ODD(CX$2)=CX$2),AND(EVEN($A30)=$A30,EVEN(CX$2)=CX$2)),CX$1,-100))","v":1865.625}]
[29,{"$f":"B30+'Ceiling Speaker Calculator'!$K$16","v":570},{"$f":"IF('Ceiling Speaker Calculator'!$C$29=\"Square\",C$1,IF(OR(AND(ODD($A31)=$A31,ODD(C$2)=C$2),AND(EVEN($A31)=$A31,EVEN(C$2)=C$2)),C$1,-100))","v":9.375},{"$f":"IF('Ceiling Speaker Calculator'!$C$29=\"Square\",D$1,IF(OR(AND(ODD($A31)=$A31,ODD(D$2)=D$2),AND(EVEN($A31)=$A31,EVEN(D$2)=D$2)),D$1,-100))","v":28.125},{"$f":"IF('Ceiling Speaker Calculator'!$C$29=\"Square\",E$1,IF(OR(AND(ODD($A31)=$A31,ODD(E$2)=E$2),AND(EVEN($A31)=$A31,EVEN(E$2)=E$2)),E$1,-100))","v":46.875},{"$f":"IF('Ceiling Speaker Calculator'!$C$29=\"Square\",F$1,IF(OR(AND(ODD($A31)=$A31,ODD(F$2)=F$2),AND(EVEN($A31)=$A31,EVEN(F$2)=F$2)),F$1,-100))","v":65.625},{"$f":"IF('Ceiling Speaker Calculator'!$C$29=\"Square\",G$1,IF(OR(AND(ODD($A31)=$A31,ODD(G$2)=G$2),AND(EVEN($A31)=$A31,EVEN(G$2)=G$2)),G$1,-100))","v":84.375},{"$f":"IF('Ceiling Speaker Calculator'!$C$29=\"Square\",H$1,IF(OR(AND(ODD($A31)=$A31,ODD(H$2)=H$2),AND(EVEN($A31)=$A31,EVEN(H$2)=H$2)),H$1,-100))","v":103.125},{"$f":"IF('Ceiling Speaker Calculator'!$C$29=\"Square\",I$1,IF(OR(AND(ODD($A31)=$A31,ODD(I$2)=I$2),AND(EVEN($A31)=$A31,EVEN(I$2)=I$2)),I$1,-100))","v":121.875},{"$f":"IF('Ceiling Speaker Calculator'!$C$29=\"Square\",J$1,IF(OR(AND(ODD($A31)=$A31,ODD(J$2)=J$2),AND(EVEN($A31)=$A31,EVEN(J$2)=J$2)),J$1,-100))","v":140.625},{"$f":"IF('Ceiling Speaker Calculator'!$C$29=\"Square\",K$1,IF(OR(AND(ODD($A31)=$A31,ODD(K$2)=K$2),AND(EVEN($A31)=$A31,EVEN(K$2)=K$2)),K$1,-100))","v":159.375},{"$f":"IF('Ceiling Speaker Calculator'!$C$29=\"Square\",L$1,IF(OR(AND(ODD($A31)=$A31,ODD(L$2)=L$2),AND(EVEN($A31)=$A31,EVEN(L$2)=L$2)),L$1,-100))","v":178.125},{"$f":"IF('Ceiling Speaker Calculator'!$C$29=\"Square\",M$1,IF(OR(AND(ODD($A31)=$A31,ODD(M$2)=M$2),AND(EVEN($A31)=$A31,EVEN(M$2)=M$2)),M$1,-100))","v":196.875},{"$f":"IF('Ceiling Speaker Calculator'!$C$29=\"Square\",N$1,IF(OR(AND(ODD($A31)=$A31,ODD(N$2)=N$2),AND(EVEN($A31)=$A31,EVEN(N$2)=N$2)),N$1,-100))","v":215.625},{"$f":"IF('Ceiling Speaker Calculator'!$C$29=\"Square\",O$1,IF(OR(AND(ODD($A31)=$A31,ODD(O$2)=O$2),AND(EVEN($A31)=$A31,EVEN(O$2)=O$2)),O$1,-100))","v":234.375},{"$f":"IF('Ceiling Speaker Calculator'!$C$29=\"Square\",P$1,IF(OR(AND(ODD($A31)=$A31,ODD(P$2)=P$2),AND(EVEN($A31)=$A31,EVEN(P$2)=P$2)),P$1,-100))","v":253.125},{"$f":"IF('Ceiling Speaker Calculator'!$C$29=\"Square\",Q$1,IF(OR(AND(ODD($A31)=$A31,ODD(Q$2)=Q$2),AND(EVEN($A31)=$A31,EVEN(Q$2)=Q$2)),Q$1,-100))","v":271.875},{"$f":"IF('Ceiling Speaker Calculator'!$C$29=\"Square\",R$1,IF(OR(AND(ODD($A31)=$A31,ODD(R$2)=R$2),AND(EVEN($A31)=$A31,EVEN(R$2)=R$2)),R$1,-100))","v":290.625},{"$f":"IF('Ceiling Speaker Calculator'!$C$29=\"Square\",S$1,IF(OR(AND(ODD($A31)=$A31,ODD(S$2)=S$2),AND(EVEN($A31)=$A31,EVEN(S$2)=S$2)),S$1,-100))","v":309.375},{"$f":"IF('Ceiling Speaker Calculator'!$C$29=\"Square\",T$1,IF(OR(AND(ODD($A31)=$A31,ODD(T$2)=T$2),AND(EVEN($A31)=$A31,EVEN(T$2)=T$2)),T$1,-100))","v":328.125},{"$f":"IF('Ceiling Speaker Calculator'!$C$29=\"Square\",U$1,IF(OR(AND(ODD($A31)=$A31,ODD(U$2)=U$2),AND(EVEN($A31)=$A31,EVEN(U$2)=U$2)),U$1,-100))","v":346.875},{"$f":"IF('Ceiling Speaker Calculator'!$C$29=\"Square\",V$1,IF(OR(AND(ODD($A31)=$A31,ODD(V$2)=V$2),AND(EVEN($A31)=$A31,EVEN(V$2)=V$2)),V$1,-100))","v":365.625},{"$f":"IF('Ceiling Speaker Calculator'!$C$29=\"Square\",W$1,IF(OR(AND(ODD($A31)=$A31,ODD(W$2)=W$2),AND(EVEN($A31)=$A31,EVEN(W$2)=W$2)),W$1,-100))","v":384.375},{"$f":"IF('Ceiling Speaker Calculator'!$C$29=\"Square\",X$1,IF(OR(AND(ODD($A31)=$A31,ODD(X$2)=X$2),AND(EVEN($A31)=$A31,EVEN(X$2)=X$2)),X$1,-100))","v":403.125},{"$f":"IF('Ceiling Speaker Calculator'!$C$29=\"Square\",Y$1,IF(OR(AND(ODD($A31)=$A31,ODD(Y$2)=Y$2),AND(EVEN($A31)=$A31,EVEN(Y$2)=Y$2)),Y$1,-100))","v":421.875},{"$f":"IF('Ceiling Speaker Calculator'!$C$29=\"Square\",Z$1,IF(OR(AND(ODD($A31)=$A31,ODD(Z$2)=Z$2),AND(EVEN($A31)=$A31,EVEN(Z$2)=Z$2)),Z$1,-100))","v":440.625},{"$f":"IF('Ceiling Speaker Calculator'!$C$29=\"Square\",AA$1,IF(OR(AND(ODD($A31)=$A31,ODD(AA$2)=AA$2),AND(EVEN($A31)=$A31,EVEN(AA$2)=AA$2)),AA$1,-100))","v":459.375},{"$f":"IF('Ceiling Speaker Calculator'!$C$29=\"Square\",AB$1,IF(OR(AND(ODD($A31)=$A31,ODD(AB$2)=AB$2),AND(EVEN($A31)=$A31,EVEN(AB$2)=AB$2)),AB$1,-100))","v":478.125},{"$f":"IF('Ceiling Speaker Calculator'!$C$29=\"Square\",AC$1,IF(OR(AND(ODD($A31)=$A31,ODD(AC$2)=AC$2),AND(EVEN($A31)=$A31,EVEN(AC$2)=AC$2)),AC$1,-100))","v":496.875},{"$f":"IF('Ceiling Speaker Calculator'!$C$29=\"Square\",AD$1,IF(OR(AND(ODD($A31)=$A31,ODD(AD$2)=AD$2),AND(EVEN($A31)=$A31,EVEN(AD$2)=AD$2)),AD$1,-100))","v":515.625},{"$f":"IF('Ceiling Speaker Calculator'!$C$29=\"Square\",AE$1,IF(OR(AND(ODD($A31)=$A31,ODD(AE$2)=AE$2),AND(EVEN($A31)=$A31,EVEN(AE$2)=AE$2)),AE$1,-100))","v":534.375},{"$f":"IF('Ceiling Speaker Calculator'!$C$29=\"Square\",AF$1,IF(OR(AND(ODD($A31)=$A31,ODD(AF$2)=AF$2),AND(EVEN($A31)=$A31,EVEN(AF$2)=AF$2)),AF$1,-100))","v":553.125},{"$f":"IF('Ceiling Speaker Calculator'!$C$29=\"Square\",AG$1,IF(OR(AND(ODD($A31)=$A31,ODD(AG$2)=AG$2),AND(EVEN($A31)=$A31,EVEN(AG$2)=AG$2)),AG$1,-100))","v":571.875},{"$f":"IF('Ceiling Speaker Calculator'!$C$29=\"Square\",AH$1,IF(OR(AND(ODD($A31)=$A31,ODD(AH$2)=AH$2),AND(EVEN($A31)=$A31,EVEN(AH$2)=AH$2)),AH$1,-100))","v":590.625},{"$f":"IF('Ceiling Speaker Calculator'!$C$29=\"Square\",AI$1,IF(OR(AND(ODD($A31)=$A31,ODD(AI$2)=AI$2),AND(EVEN($A31)=$A31,EVEN(AI$2)=AI$2)),AI$1,-100))","v":609.375},{"$f":"IF('Ceiling Speaker Calculator'!$C$29=\"Square\",AJ$1,IF(OR(AND(ODD($A31)=$A31,ODD(AJ$2)=AJ$2),AND(EVEN($A31)=$A31,EVEN(AJ$2)=AJ$2)),AJ$1,-100))","v":628.125},{"$f":"IF('Ceiling Speaker Calculator'!$C$29=\"Square\",AK$1,IF(OR(AND(ODD($A31)=$A31,ODD(AK$2)=AK$2),AND(EVEN($A31)=$A31,EVEN(AK$2)=AK$2)),AK$1,-100))","v":646.875},{"$f":"IF('Ceiling Speaker Calculator'!$C$29=\"Square\",AL$1,IF(OR(AND(ODD($A31)=$A31,ODD(AL$2)=AL$2),AND(EVEN($A31)=$A31,EVEN(AL$2)=AL$2)),AL$1,-100))","v":665.625},{"$f":"IF('Ceiling Speaker Calculator'!$C$29=\"Square\",AM$1,IF(OR(AND(ODD($A31)=$A31,ODD(AM$2)=AM$2),AND(EVEN($A31)=$A31,EVEN(AM$2)=AM$2)),AM$1,-100))","v":684.375},{"$f":"IF('Ceiling Speaker Calculator'!$C$29=\"Square\",AN$1,IF(OR(AND(ODD($A31)=$A31,ODD(AN$2)=AN$2),AND(EVEN($A31)=$A31,EVEN(AN$2)=AN$2)),AN$1,-100))","v":703.125},{"$f":"IF('Ceiling Speaker Calculator'!$C$29=\"Square\",AO$1,IF(OR(AND(ODD($A31)=$A31,ODD(AO$2)=AO$2),AND(EVEN($A31)=$A31,EVEN(AO$2)=AO$2)),AO$1,-100))","v":721.875},{"$f":"IF('Ceiling Speaker Calculator'!$C$29=\"Square\",AP$1,IF(OR(AND(ODD($A31)=$A31,ODD(AP$2)=AP$2),AND(EVEN($A31)=$A31,EVEN(AP$2)=AP$2)),AP$1,-100))","v":740.625},{"$f":"IF('Ceiling Speaker Calculator'!$C$29=\"Square\",AQ$1,IF(OR(AND(ODD($A31)=$A31,ODD(AQ$2)=AQ$2),AND(EVEN($A31)=$A31,EVEN(AQ$2)=AQ$2)),AQ$1,-100))","v":759.375},{"$f":"IF('Ceiling Speaker Calculator'!$C$29=\"Square\",AR$1,IF(OR(AND(ODD($A31)=$A31,ODD(AR$2)=AR$2),AND(EVEN($A31)=$A31,EVEN(AR$2)=AR$2)),AR$1,-100))","v":778.125},{"$f":"IF('Ceiling Speaker Calculator'!$C$29=\"Square\",AS$1,IF(OR(AND(ODD($A31)=$A31,ODD(AS$2)=AS$2),AND(EVEN($A31)=$A31,EVEN(AS$2)=AS$2)),AS$1,-100))","v":796.875},{"$f":"IF('Ceiling Speaker Calculator'!$C$29=\"Square\",AT$1,IF(OR(AND(ODD($A31)=$A31,ODD(AT$2)=AT$2),AND(EVEN($A31)=$A31,EVEN(AT$2)=AT$2)),AT$1,-100))","v":815.625},{"$f":"IF('Ceiling Speaker Calculator'!$C$29=\"Square\",AU$1,IF(OR(AND(ODD($A31)=$A31,ODD(AU$2)=AU$2),AND(EVEN($A31)=$A31,EVEN(AU$2)=AU$2)),AU$1,-100))","v":834.375},{"$f":"IF('Ceiling Speaker Calculator'!$C$29=\"Square\",AV$1,IF(OR(AND(ODD($A31)=$A31,ODD(AV$2)=AV$2),AND(EVEN($A31)=$A31,EVEN(AV$2)=AV$2)),AV$1,-100))","v":853.125},{"$f":"IF('Ceiling Speaker Calculator'!$C$29=\"Square\",AW$1,IF(OR(AND(ODD($A31)=$A31,ODD(AW$2)=AW$2),AND(EVEN($A31)=$A31,EVEN(AW$2)=AW$2)),AW$1,-100))","v":871.875},{"$f":"IF('Ceiling Speaker Calculator'!$C$29=\"Square\",AX$1,IF(OR(AND(ODD($A31)=$A31,ODD(AX$2)=AX$2),AND(EVEN($A31)=$A31,EVEN(AX$2)=AX$2)),AX$1,-100))","v":890.625},{"$f":"IF('Ceiling Speaker Calculator'!$C$29=\"Square\",AY$1,IF(OR(AND(ODD($A31)=$A31,ODD(AY$2)=AY$2),AND(EVEN($A31)=$A31,EVEN(AY$2)=AY$2)),AY$1,-100))","v":909.375},{"$f":"IF('Ceiling Speaker Calculator'!$C$29=\"Square\",AZ$1,IF(OR(AND(ODD($A31)=$A31,ODD(AZ$2)=AZ$2),AND(EVEN($A31)=$A31,EVEN(AZ$2)=AZ$2)),AZ$1,-100))","v":928.125},{"$f":"IF('Ceiling Speaker Calculator'!$C$29=\"Square\",BA$1,IF(OR(AND(ODD($A31)=$A31,ODD(BA$2)=BA$2),AND(EVEN($A31)=$A31,EVEN(BA$2)=BA$2)),BA$1,-100))","v":946.875},{"$f":"IF('Ceiling Speaker Calculator'!$C$29=\"Square\",BB$1,IF(OR(AND(ODD($A31)=$A31,ODD(BB$2)=BB$2),AND(EVEN($A31)=$A31,EVEN(BB$2)=BB$2)),BB$1,-100))","v":965.625},{"$f":"IF('Ceiling Speaker Calculator'!$C$29=\"Square\",BC$1,IF(OR(AND(ODD($A31)=$A31,ODD(BC$2)=BC$2),AND(EVEN($A31)=$A31,EVEN(BC$2)=BC$2)),BC$1,-100))","v":984.375},{"$f":"IF('Ceiling Speaker Calculator'!$C$29=\"Square\",BD$1,IF(OR(AND(ODD($A31)=$A31,ODD(BD$2)=BD$2),AND(EVEN($A31)=$A31,EVEN(BD$2)=BD$2)),BD$1,-100))","v":1003.125},{"$f":"IF('Ceiling Speaker Calculator'!$C$29=\"Square\",BE$1,IF(OR(AND(ODD($A31)=$A31,ODD(BE$2)=BE$2),AND(EVEN($A31)=$A31,EVEN(BE$2)=BE$2)),BE$1,-100))","v":1021.875},{"$f":"IF('Ceiling Speaker Calculator'!$C$29=\"Square\",BF$1,IF(OR(AND(ODD($A31)=$A31,ODD(BF$2)=BF$2),AND(EVEN($A31)=$A31,EVEN(BF$2)=BF$2)),BF$1,-100))","v":1040.625},{"$f":"IF('Ceiling Speaker Calculator'!$C$29=\"Square\",BG$1,IF(OR(AND(ODD($A31)=$A31,ODD(BG$2)=BG$2),AND(EVEN($A31)=$A31,EVEN(BG$2)=BG$2)),BG$1,-100))","v":1059.375},{"$f":"IF('Ceiling Speaker Calculator'!$C$29=\"Square\",BH$1,IF(OR(AND(ODD($A31)=$A31,ODD(BH$2)=BH$2),AND(EVEN($A31)=$A31,EVEN(BH$2)=BH$2)),BH$1,-100))","v":1078.125},{"$f":"IF('Ceiling Speaker Calculator'!$C$29=\"Square\",BI$1,IF(OR(AND(ODD($A31)=$A31,ODD(BI$2)=BI$2),AND(EVEN($A31)=$A31,EVEN(BI$2)=BI$2)),BI$1,-100))","v":1096.875},{"$f":"IF('Ceiling Speaker Calculator'!$C$29=\"Square\",BJ$1,IF(OR(AND(ODD($A31)=$A31,ODD(BJ$2)=BJ$2),AND(EVEN($A31)=$A31,EVEN(BJ$2)=BJ$2)),BJ$1,-100))","v":1115.625},{"$f":"IF('Ceiling Speaker Calculator'!$C$29=\"Square\",BK$1,IF(OR(AND(ODD($A31)=$A31,ODD(BK$2)=BK$2),AND(EVEN($A31)=$A31,EVEN(BK$2)=BK$2)),BK$1,-100))","v":1134.375},{"$f":"IF('Ceiling Speaker Calculator'!$C$29=\"Square\",BL$1,IF(OR(AND(ODD($A31)=$A31,ODD(BL$2)=BL$2),AND(EVEN($A31)=$A31,EVEN(BL$2)=BL$2)),BL$1,-100))","v":1153.125},{"$f":"IF('Ceiling Speaker Calculator'!$C$29=\"Square\",BM$1,IF(OR(AND(ODD($A31)=$A31,ODD(BM$2)=BM$2),AND(EVEN($A31)=$A31,EVEN(BM$2)=BM$2)),BM$1,-100))","v":1171.875},{"$f":"IF('Ceiling Speaker Calculator'!$C$29=\"Square\",BN$1,IF(OR(AND(ODD($A31)=$A31,ODD(BN$2)=BN$2),AND(EVEN($A31)=$A31,EVEN(BN$2)=BN$2)),BN$1,-100))","v":1190.625},{"$f":"IF('Ceiling Speaker Calculator'!$C$29=\"Square\",BO$1,IF(OR(AND(ODD($A31)=$A31,ODD(BO$2)=BO$2),AND(EVEN($A31)=$A31,EVEN(BO$2)=BO$2)),BO$1,-100))","v":1209.375},{"$f":"IF('Ceiling Speaker Calculator'!$C$29=\"Square\",BP$1,IF(OR(AND(ODD($A31)=$A31,ODD(BP$2)=BP$2),AND(EVEN($A31)=$A31,EVEN(BP$2)=BP$2)),BP$1,-100))","v":1228.125},{"$f":"IF('Ceiling Speaker Calculator'!$C$29=\"Square\",BQ$1,IF(OR(AND(ODD($A31)=$A31,ODD(BQ$2)=BQ$2),AND(EVEN($A31)=$A31,EVEN(BQ$2)=BQ$2)),BQ$1,-100))","v":1246.875},{"$f":"IF('Ceiling Speaker Calculator'!$C$29=\"Square\",BR$1,IF(OR(AND(ODD($A31)=$A31,ODD(BR$2)=BR$2),AND(EVEN($A31)=$A31,EVEN(BR$2)=BR$2)),BR$1,-100))","v":1265.625},{"$f":"IF('Ceiling Speaker Calculator'!$C$29=\"Square\",BS$1,IF(OR(AND(ODD($A31)=$A31,ODD(BS$2)=BS$2),AND(EVEN($A31)=$A31,EVEN(BS$2)=BS$2)),BS$1,-100))","v":1284.375},{"$f":"IF('Ceiling Speaker Calculator'!$C$29=\"Square\",BT$1,IF(OR(AND(ODD($A31)=$A31,ODD(BT$2)=BT$2),AND(EVEN($A31)=$A31,EVEN(BT$2)=BT$2)),BT$1,-100))","v":1303.125},{"$f":"IF('Ceiling Speaker Calculator'!$C$29=\"Square\",BU$1,IF(OR(AND(ODD($A31)=$A31,ODD(BU$2)=BU$2),AND(EVEN($A31)=$A31,EVEN(BU$2)=BU$2)),BU$1,-100))","v":1321.875},{"$f":"IF('Ceiling Speaker Calculator'!$C$29=\"Square\",BV$1,IF(OR(AND(ODD($A31)=$A31,ODD(BV$2)=BV$2),AND(EVEN($A31)=$A31,EVEN(BV$2)=BV$2)),BV$1,-100))","v":1340.625},{"$f":"IF('Ceiling Speaker Calculator'!$C$29=\"Square\",BW$1,IF(OR(AND(ODD($A31)=$A31,ODD(BW$2)=BW$2),AND(EVEN($A31)=$A31,EVEN(BW$2)=BW$2)),BW$1,-100))","v":1359.375},{"$f":"IF('Ceiling Speaker Calculator'!$C$29=\"Square\",BX$1,IF(OR(AND(ODD($A31)=$A31,ODD(BX$2)=BX$2),AND(EVEN($A31)=$A31,EVEN(BX$2)=BX$2)),BX$1,-100))","v":1378.125},{"$f":"IF('Ceiling Speaker Calculator'!$C$29=\"Square\",BY$1,IF(OR(AND(ODD($A31)=$A31,ODD(BY$2)=BY$2),AND(EVEN($A31)=$A31,EVEN(BY$2)=BY$2)),BY$1,-100))","v":1396.875},{"$f":"IF('Ceiling Speaker Calculator'!$C$29=\"Square\",BZ$1,IF(OR(AND(ODD($A31)=$A31,ODD(BZ$2)=BZ$2),AND(EVEN($A31)=$A31,EVEN(BZ$2)=BZ$2)),BZ$1,-100))","v":1415.625},{"$f":"IF('Ceiling Speaker Calculator'!$C$29=\"Square\",CA$1,IF(OR(AND(ODD($A31)=$A31,ODD(CA$2)=CA$2),AND(EVEN($A31)=$A31,EVEN(CA$2)=CA$2)),CA$1,-100))","v":1434.375},{"$f":"IF('Ceiling Speaker Calculator'!$C$29=\"Square\",CB$1,IF(OR(AND(ODD($A31)=$A31,ODD(CB$2)=CB$2),AND(EVEN($A31)=$A31,EVEN(CB$2)=CB$2)),CB$1,-100))","v":1453.125},{"$f":"IF('Ceiling Speaker Calculator'!$C$29=\"Square\",CC$1,IF(OR(AND(ODD($A31)=$A31,ODD(CC$2)=CC$2),AND(EVEN($A31)=$A31,EVEN(CC$2)=CC$2)),CC$1,-100))","v":1471.875},{"$f":"IF('Ceiling Speaker Calculator'!$C$29=\"Square\",CD$1,IF(OR(AND(ODD($A31)=$A31,ODD(CD$2)=CD$2),AND(EVEN($A31)=$A31,EVEN(CD$2)=CD$2)),CD$1,-100))","v":1490.625},{"$f":"IF('Ceiling Speaker Calculator'!$C$29=\"Square\",CE$1,IF(OR(AND(ODD($A31)=$A31,ODD(CE$2)=CE$2),AND(EVEN($A31)=$A31,EVEN(CE$2)=CE$2)),CE$1,-100))","v":1509.375},{"$f":"IF('Ceiling Speaker Calculator'!$C$29=\"Square\",CF$1,IF(OR(AND(ODD($A31)=$A31,ODD(CF$2)=CF$2),AND(EVEN($A31)=$A31,EVEN(CF$2)=CF$2)),CF$1,-100))","v":1528.125},{"$f":"IF('Ceiling Speaker Calculator'!$C$29=\"Square\",CG$1,IF(OR(AND(ODD($A31)=$A31,ODD(CG$2)=CG$2),AND(EVEN($A31)=$A31,EVEN(CG$2)=CG$2)),CG$1,-100))","v":1546.875},{"$f":"IF('Ceiling Speaker Calculator'!$C$29=\"Square\",CH$1,IF(OR(AND(ODD($A31)=$A31,ODD(CH$2)=CH$2),AND(EVEN($A31)=$A31,EVEN(CH$2)=CH$2)),CH$1,-100))","v":1565.625},{"$f":"IF('Ceiling Speaker Calculator'!$C$29=\"Square\",CI$1,IF(OR(AND(ODD($A31)=$A31,ODD(CI$2)=CI$2),AND(EVEN($A31)=$A31,EVEN(CI$2)=CI$2)),CI$1,-100))","v":1584.375},{"$f":"IF('Ceiling Speaker Calculator'!$C$29=\"Square\",CJ$1,IF(OR(AND(ODD($A31)=$A31,ODD(CJ$2)=CJ$2),AND(EVEN($A31)=$A31,EVEN(CJ$2)=CJ$2)),CJ$1,-100))","v":1603.125},{"$f":"IF('Ceiling Speaker Calculator'!$C$29=\"Square\",CK$1,IF(OR(AND(ODD($A31)=$A31,ODD(CK$2)=CK$2),AND(EVEN($A31)=$A31,EVEN(CK$2)=CK$2)),CK$1,-100))","v":1621.875},{"$f":"IF('Ceiling Speaker Calculator'!$C$29=\"Square\",CL$1,IF(OR(AND(ODD($A31)=$A31,ODD(CL$2)=CL$2),AND(EVEN($A31)=$A31,EVEN(CL$2)=CL$2)),CL$1,-100))","v":1640.625},{"$f":"IF('Ceiling Speaker Calculator'!$C$29=\"Square\",CM$1,IF(OR(AND(ODD($A31)=$A31,ODD(CM$2)=CM$2),AND(EVEN($A31)=$A31,EVEN(CM$2)=CM$2)),CM$1,-100))","v":1659.375},{"$f":"IF('Ceiling Speaker Calculator'!$C$29=\"Square\",CN$1,IF(OR(AND(ODD($A31)=$A31,ODD(CN$2)=CN$2),AND(EVEN($A31)=$A31,EVEN(CN$2)=CN$2)),CN$1,-100))","v":1678.125},{"$f":"IF('Ceiling Speaker Calculator'!$C$29=\"Square\",CO$1,IF(OR(AND(ODD($A31)=$A31,ODD(CO$2)=CO$2),AND(EVEN($A31)=$A31,EVEN(CO$2)=CO$2)),CO$1,-100))","v":1696.875},{"$f":"IF('Ceiling Speaker Calculator'!$C$29=\"Square\",CP$1,IF(OR(AND(ODD($A31)=$A31,ODD(CP$2)=CP$2),AND(EVEN($A31)=$A31,EVEN(CP$2)=CP$2)),CP$1,-100))","v":1715.625},{"$f":"IF('Ceiling Speaker Calculator'!$C$29=\"Square\",CQ$1,IF(OR(AND(ODD($A31)=$A31,ODD(CQ$2)=CQ$2),AND(EVEN($A31)=$A31,EVEN(CQ$2)=CQ$2)),CQ$1,-100))","v":1734.375},{"$f":"IF('Ceiling Speaker Calculator'!$C$29=\"Square\",CR$1,IF(OR(AND(ODD($A31)=$A31,ODD(CR$2)=CR$2),AND(EVEN($A31)=$A31,EVEN(CR$2)=CR$2)),CR$1,-100))","v":1753.125},{"$f":"IF('Ceiling Speaker Calculator'!$C$29=\"Square\",CS$1,IF(OR(AND(ODD($A31)=$A31,ODD(CS$2)=CS$2),AND(EVEN($A31)=$A31,EVEN(CS$2)=CS$2)),CS$1,-100))","v":1771.875},{"$f":"IF('Ceiling Speaker Calculator'!$C$29=\"Square\",CT$1,IF(OR(AND(ODD($A31)=$A31,ODD(CT$2)=CT$2),AND(EVEN($A31)=$A31,EVEN(CT$2)=CT$2)),CT$1,-100))","v":1790.625},{"$f":"IF('Ceiling Speaker Calculator'!$C$29=\"Square\",CU$1,IF(OR(AND(ODD($A31)=$A31,ODD(CU$2)=CU$2),AND(EVEN($A31)=$A31,EVEN(CU$2)=CU$2)),CU$1,-100))","v":1809.375},{"$f":"IF('Ceiling Speaker Calculator'!$C$29=\"Square\",CV$1,IF(OR(AND(ODD($A31)=$A31,ODD(CV$2)=CV$2),AND(EVEN($A31)=$A31,EVEN(CV$2)=CV$2)),CV$1,-100))","v":1828.125},{"$f":"IF('Ceiling Speaker Calculator'!$C$29=\"Square\",CW$1,IF(OR(AND(ODD($A31)=$A31,ODD(CW$2)=CW$2),AND(EVEN($A31)=$A31,EVEN(CW$2)=CW$2)),CW$1,-100))","v":1846.875},{"$f":"IF('Ceiling Speaker Calculator'!$C$29=\"Square\",CX$1,IF(OR(AND(ODD($A31)=$A31,ODD(CX$2)=CX$2),AND(EVEN($A31)=$A31,EVEN(CX$2)=CX$2)),CX$1,-100))","v":1865.625}]
[30,{"$f":"B31+'Ceiling Speaker Calculator'!$K$16","v":590},{"$f":"IF('Ceiling Speaker Calculator'!$C$29=\"Square\",C$1,IF(OR(AND(ODD($A32)=$A32,ODD(C$2)=C$2),AND(EVEN($A32)=$A32,EVEN(C$2)=C$2)),C$1,-100))","v":9.375},{"$f":"IF('Ceiling Speaker Calculator'!$C$29=\"Square\",D$1,IF(OR(AND(ODD($A32)=$A32,ODD(D$2)=D$2),AND(EVEN($A32)=$A32,EVEN(D$2)=D$2)),D$1,-100))","v":28.125},{"$f":"IF('Ceiling Speaker Calculator'!$C$29=\"Square\",E$1,IF(OR(AND(ODD($A32)=$A32,ODD(E$2)=E$2),AND(EVEN($A32)=$A32,EVEN(E$2)=E$2)),E$1,-100))","v":46.875},{"$f":"IF('Ceiling Speaker Calculator'!$C$29=\"Square\",F$1,IF(OR(AND(ODD($A32)=$A32,ODD(F$2)=F$2),AND(EVEN($A32)=$A32,EVEN(F$2)=F$2)),F$1,-100))","v":65.625},{"$f":"IF('Ceiling Speaker Calculator'!$C$29=\"Square\",G$1,IF(OR(AND(ODD($A32)=$A32,ODD(G$2)=G$2),AND(EVEN($A32)=$A32,EVEN(G$2)=G$2)),G$1,-100))","v":84.375},{"$f":"IF('Ceiling Speaker Calculator'!$C$29=\"Square\",H$1,IF(OR(AND(ODD($A32)=$A32,ODD(H$2)=H$2),AND(EVEN($A32)=$A32,EVEN(H$2)=H$2)),H$1,-100))","v":103.125},{"$f":"IF('Ceiling Speaker Calculator'!$C$29=\"Square\",I$1,IF(OR(AND(ODD($A32)=$A32,ODD(I$2)=I$2),AND(EVEN($A32)=$A32,EVEN(I$2)=I$2)),I$1,-100))","v":121.875},{"$f":"IF('Ceiling Speaker Calculator'!$C$29=\"Square\",J$1,IF(OR(AND(ODD($A32)=$A32,ODD(J$2)=J$2),AND(EVEN($A32)=$A32,EVEN(J$2)=J$2)),J$1,-100))","v":140.625},{"$f":"IF('Ceiling Speaker Calculator'!$C$29=\"Square\",K$1,IF(OR(AND(ODD($A32)=$A32,ODD(K$2)=K$2),AND(EVEN($A32)=$A32,EVEN(K$2)=K$2)),K$1,-100))","v":159.375},{"$f":"IF('Ceiling Speaker Calculator'!$C$29=\"Square\",L$1,IF(OR(AND(ODD($A32)=$A32,ODD(L$2)=L$2),AND(EVEN($A32)=$A32,EVEN(L$2)=L$2)),L$1,-100))","v":178.125},{"$f":"IF('Ceiling Speaker Calculator'!$C$29=\"Square\",M$1,IF(OR(AND(ODD($A32)=$A32,ODD(M$2)=M$2),AND(EVEN($A32)=$A32,EVEN(M$2)=M$2)),M$1,-100))","v":196.875},{"$f":"IF('Ceiling Speaker Calculator'!$C$29=\"Square\",N$1,IF(OR(AND(ODD($A32)=$A32,ODD(N$2)=N$2),AND(EVEN($A32)=$A32,EVEN(N$2)=N$2)),N$1,-100))","v":215.625},{"$f":"IF('Ceiling Speaker Calculator'!$C$29=\"Square\",O$1,IF(OR(AND(ODD($A32)=$A32,ODD(O$2)=O$2),AND(EVEN($A32)=$A32,EVEN(O$2)=O$2)),O$1,-100))","v":234.375},{"$f":"IF('Ceiling Speaker Calculator'!$C$29=\"Square\",P$1,IF(OR(AND(ODD($A32)=$A32,ODD(P$2)=P$2),AND(EVEN($A32)=$A32,EVEN(P$2)=P$2)),P$1,-100))","v":253.125},{"$f":"IF('Ceiling Speaker Calculator'!$C$29=\"Square\",Q$1,IF(OR(AND(ODD($A32)=$A32,ODD(Q$2)=Q$2),AND(EVEN($A32)=$A32,EVEN(Q$2)=Q$2)),Q$1,-100))","v":271.875},{"$f":"IF('Ceiling Speaker Calculator'!$C$29=\"Square\",R$1,IF(OR(AND(ODD($A32)=$A32,ODD(R$2)=R$2),AND(EVEN($A32)=$A32,EVEN(R$2)=R$2)),R$1,-100))","v":290.625},{"$f":"IF('Ceiling Speaker Calculator'!$C$29=\"Square\",S$1,IF(OR(AND(ODD($A32)=$A32,ODD(S$2)=S$2),AND(EVEN($A32)=$A32,EVEN(S$2)=S$2)),S$1,-100))","v":309.375},{"$f":"IF('Ceiling Speaker Calculator'!$C$29=\"Square\",T$1,IF(OR(AND(ODD($A32)=$A32,ODD(T$2)=T$2),AND(EVEN($A32)=$A32,EVEN(T$2)=T$2)),T$1,-100))","v":328.125},{"$f":"IF('Ceiling Speaker Calculator'!$C$29=\"Square\",U$1,IF(OR(AND(ODD($A32)=$A32,ODD(U$2)=U$2),AND(EVEN($A32)=$A32,EVEN(U$2)=U$2)),U$1,-100))","v":346.875},{"$f":"IF('Ceiling Speaker Calculator'!$C$29=\"Square\",V$1,IF(OR(AND(ODD($A32)=$A32,ODD(V$2)=V$2),AND(EVEN($A32)=$A32,EVEN(V$2)=V$2)),V$1,-100))","v":365.625},{"$f":"IF('Ceiling Speaker Calculator'!$C$29=\"Square\",W$1,IF(OR(AND(ODD($A32)=$A32,ODD(W$2)=W$2),AND(EVEN($A32)=$A32,EVEN(W$2)=W$2)),W$1,-100))","v":384.375},{"$f":"IF('Ceiling Speaker Calculator'!$C$29=\"Square\",X$1,IF(OR(AND(ODD($A32)=$A32,ODD(X$2)=X$2),AND(EVEN($A32)=$A32,EVEN(X$2)=X$2)),X$1,-100))","v":403.125},{"$f":"IF('Ceiling Speaker Calculator'!$C$29=\"Square\",Y$1,IF(OR(AND(ODD($A32)=$A32,ODD(Y$2)=Y$2),AND(EVEN($A32)=$A32,EVEN(Y$2)=Y$2)),Y$1,-100))","v":421.875},{"$f":"IF('Ceiling Speaker Calculator'!$C$29=\"Square\",Z$1,IF(OR(AND(ODD($A32)=$A32,ODD(Z$2)=Z$2),AND(EVEN($A32)=$A32,EVEN(Z$2)=Z$2)),Z$1,-100))","v":440.625},{"$f":"IF('Ceiling Speaker Calculator'!$C$29=\"Square\",AA$1,IF(OR(AND(ODD($A32)=$A32,ODD(AA$2)=AA$2),AND(EVEN($A32)=$A32,EVEN(AA$2)=AA$2)),AA$1,-100))","v":459.375},{"$f":"IF('Ceiling Speaker Calculator'!$C$29=\"Square\",AB$1,IF(OR(AND(ODD($A32)=$A32,ODD(AB$2)=AB$2),AND(EVEN($A32)=$A32,EVEN(AB$2)=AB$2)),AB$1,-100))","v":478.125},{"$f":"IF('Ceiling Speaker Calculator'!$C$29=\"Square\",AC$1,IF(OR(AND(ODD($A32)=$A32,ODD(AC$2)=AC$2),AND(EVEN($A32)=$A32,EVEN(AC$2)=AC$2)),AC$1,-100))","v":496.875},{"$f":"IF('Ceiling Speaker Calculator'!$C$29=\"Square\",AD$1,IF(OR(AND(ODD($A32)=$A32,ODD(AD$2)=AD$2),AND(EVEN($A32)=$A32,EVEN(AD$2)=AD$2)),AD$1,-100))","v":515.625},{"$f":"IF('Ceiling Speaker Calculator'!$C$29=\"Square\",AE$1,IF(OR(AND(ODD($A32)=$A32,ODD(AE$2)=AE$2),AND(EVEN($A32)=$A32,EVEN(AE$2)=AE$2)),AE$1,-100))","v":534.375},{"$f":"IF('Ceiling Speaker Calculator'!$C$29=\"Square\",AF$1,IF(OR(AND(ODD($A32)=$A32,ODD(AF$2)=AF$2),AND(EVEN($A32)=$A32,EVEN(AF$2)=AF$2)),AF$1,-100))","v":553.125},{"$f":"IF('Ceiling Speaker Calculator'!$C$29=\"Square\",AG$1,IF(OR(AND(ODD($A32)=$A32,ODD(AG$2)=AG$2),AND(EVEN($A32)=$A32,EVEN(AG$2)=AG$2)),AG$1,-100))","v":571.875},{"$f":"IF('Ceiling Speaker Calculator'!$C$29=\"Square\",AH$1,IF(OR(AND(ODD($A32)=$A32,ODD(AH$2)=AH$2),AND(EVEN($A32)=$A32,EVEN(AH$2)=AH$2)),AH$1,-100))","v":590.625},{"$f":"IF('Ceiling Speaker Calculator'!$C$29=\"Square\",AI$1,IF(OR(AND(ODD($A32)=$A32,ODD(AI$2)=AI$2),AND(EVEN($A32)=$A32,EVEN(AI$2)=AI$2)),AI$1,-100))","v":609.375},{"$f":"IF('Ceiling Speaker Calculator'!$C$29=\"Square\",AJ$1,IF(OR(AND(ODD($A32)=$A32,ODD(AJ$2)=AJ$2),AND(EVEN($A32)=$A32,EVEN(AJ$2)=AJ$2)),AJ$1,-100))","v":628.125},{"$f":"IF('Ceiling Speaker Calculator'!$C$29=\"Square\",AK$1,IF(OR(AND(ODD($A32)=$A32,ODD(AK$2)=AK$2),AND(EVEN($A32)=$A32,EVEN(AK$2)=AK$2)),AK$1,-100))","v":646.875},{"$f":"IF('Ceiling Speaker Calculator'!$C$29=\"Square\",AL$1,IF(OR(AND(ODD($A32)=$A32,ODD(AL$2)=AL$2),AND(EVEN($A32)=$A32,EVEN(AL$2)=AL$2)),AL$1,-100))","v":665.625},{"$f":"IF('Ceiling Speaker Calculator'!$C$29=\"Square\",AM$1,IF(OR(AND(ODD($A32)=$A32,ODD(AM$2)=AM$2),AND(EVEN($A32)=$A32,EVEN(AM$2)=AM$2)),AM$1,-100))","v":684.375},{"$f":"IF('Ceiling Speaker Calculator'!$C$29=\"Square\",AN$1,IF(OR(AND(ODD($A32)=$A32,ODD(AN$2)=AN$2),AND(EVEN($A32)=$A32,EVEN(AN$2)=AN$2)),AN$1,-100))","v":703.125},{"$f":"IF('Ceiling Speaker Calculator'!$C$29=\"Square\",AO$1,IF(OR(AND(ODD($A32)=$A32,ODD(AO$2)=AO$2),AND(EVEN($A32)=$A32,EVEN(AO$2)=AO$2)),AO$1,-100))","v":721.875},{"$f":"IF('Ceiling Speaker Calculator'!$C$29=\"Square\",AP$1,IF(OR(AND(ODD($A32)=$A32,ODD(AP$2)=AP$2),AND(EVEN($A32)=$A32,EVEN(AP$2)=AP$2)),AP$1,-100))","v":740.625},{"$f":"IF('Ceiling Speaker Calculator'!$C$29=\"Square\",AQ$1,IF(OR(AND(ODD($A32)=$A32,ODD(AQ$2)=AQ$2),AND(EVEN($A32)=$A32,EVEN(AQ$2)=AQ$2)),AQ$1,-100))","v":759.375},{"$f":"IF('Ceiling Speaker Calculator'!$C$29=\"Square\",AR$1,IF(OR(AND(ODD($A32)=$A32,ODD(AR$2)=AR$2),AND(EVEN($A32)=$A32,EVEN(AR$2)=AR$2)),AR$1,-100))","v":778.125},{"$f":"IF('Ceiling Speaker Calculator'!$C$29=\"Square\",AS$1,IF(OR(AND(ODD($A32)=$A32,ODD(AS$2)=AS$2),AND(EVEN($A32)=$A32,EVEN(AS$2)=AS$2)),AS$1,-100))","v":796.875},{"$f":"IF('Ceiling Speaker Calculator'!$C$29=\"Square\",AT$1,IF(OR(AND(ODD($A32)=$A32,ODD(AT$2)=AT$2),AND(EVEN($A32)=$A32,EVEN(AT$2)=AT$2)),AT$1,-100))","v":815.625},{"$f":"IF('Ceiling Speaker Calculator'!$C$29=\"Square\",AU$1,IF(OR(AND(ODD($A32)=$A32,ODD(AU$2)=AU$2),AND(EVEN($A32)=$A32,EVEN(AU$2)=AU$2)),AU$1,-100))","v":834.375},{"$f":"IF('Ceiling Speaker Calculator'!$C$29=\"Square\",AV$1,IF(OR(AND(ODD($A32)=$A32,ODD(AV$2)=AV$2),AND(EVEN($A32)=$A32,EVEN(AV$2)=AV$2)),AV$1,-100))","v":853.125},{"$f":"IF('Ceiling Speaker Calculator'!$C$29=\"Square\",AW$1,IF(OR(AND(ODD($A32)=$A32,ODD(AW$2)=AW$2),AND(EVEN($A32)=$A32,EVEN(AW$2)=AW$2)),AW$1,-100))","v":871.875},{"$f":"IF('Ceiling Speaker Calculator'!$C$29=\"Square\",AX$1,IF(OR(AND(ODD($A32)=$A32,ODD(AX$2)=AX$2),AND(EVEN($A32)=$A32,EVEN(AX$2)=AX$2)),AX$1,-100))","v":890.625},{"$f":"IF('Ceiling Speaker Calculator'!$C$29=\"Square\",AY$1,IF(OR(AND(ODD($A32)=$A32,ODD(AY$2)=AY$2),AND(EVEN($A32)=$A32,EVEN(AY$2)=AY$2)),AY$1,-100))","v":909.375},{"$f":"IF('Ceiling Speaker Calculator'!$C$29=\"Square\",AZ$1,IF(OR(AND(ODD($A32)=$A32,ODD(AZ$2)=AZ$2),AND(EVEN($A32)=$A32,EVEN(AZ$2)=AZ$2)),AZ$1,-100))","v":928.125},{"$f":"IF('Ceiling Speaker Calculator'!$C$29=\"Square\",BA$1,IF(OR(AND(ODD($A32)=$A32,ODD(BA$2)=BA$2),AND(EVEN($A32)=$A32,EVEN(BA$2)=BA$2)),BA$1,-100))","v":946.875},{"$f":"IF('Ceiling Speaker Calculator'!$C$29=\"Square\",BB$1,IF(OR(AND(ODD($A32)=$A32,ODD(BB$2)=BB$2),AND(EVEN($A32)=$A32,EVEN(BB$2)=BB$2)),BB$1,-100))","v":965.625},{"$f":"IF('Ceiling Speaker Calculator'!$C$29=\"Square\",BC$1,IF(OR(AND(ODD($A32)=$A32,ODD(BC$2)=BC$2),AND(EVEN($A32)=$A32,EVEN(BC$2)=BC$2)),BC$1,-100))","v":984.375},{"$f":"IF('Ceiling Speaker Calculator'!$C$29=\"Square\",BD$1,IF(OR(AND(ODD($A32)=$A32,ODD(BD$2)=BD$2),AND(EVEN($A32)=$A32,EVEN(BD$2)=BD$2)),BD$1,-100))","v":1003.125},{"$f":"IF('Ceiling Speaker Calculator'!$C$29=\"Square\",BE$1,IF(OR(AND(ODD($A32)=$A32,ODD(BE$2)=BE$2),AND(EVEN($A32)=$A32,EVEN(BE$2)=BE$2)),BE$1,-100))","v":1021.875},{"$f":"IF('Ceiling Speaker Calculator'!$C$29=\"Square\",BF$1,IF(OR(AND(ODD($A32)=$A32,ODD(BF$2)=BF$2),AND(EVEN($A32)=$A32,EVEN(BF$2)=BF$2)),BF$1,-100))","v":1040.625},{"$f":"IF('Ceiling Speaker Calculator'!$C$29=\"Square\",BG$1,IF(OR(AND(ODD($A32)=$A32,ODD(BG$2)=BG$2),AND(EVEN($A32)=$A32,EVEN(BG$2)=BG$2)),BG$1,-100))","v":1059.375},{"$f":"IF('Ceiling Speaker Calculator'!$C$29=\"Square\",BH$1,IF(OR(AND(ODD($A32)=$A32,ODD(BH$2)=BH$2),AND(EVEN($A32)=$A32,EVEN(BH$2)=BH$2)),BH$1,-100))","v":1078.125},{"$f":"IF('Ceiling Speaker Calculator'!$C$29=\"Square\",BI$1,IF(OR(AND(ODD($A32)=$A32,ODD(BI$2)=BI$2),AND(EVEN($A32)=$A32,EVEN(BI$2)=BI$2)),BI$1,-100))","v":1096.875},{"$f":"IF('Ceiling Speaker Calculator'!$C$29=\"Square\",BJ$1,IF(OR(AND(ODD($A32)=$A32,ODD(BJ$2)=BJ$2),AND(EVEN($A32)=$A32,EVEN(BJ$2)=BJ$2)),BJ$1,-100))","v":1115.625},{"$f":"IF('Ceiling Speaker Calculator'!$C$29=\"Square\",BK$1,IF(OR(AND(ODD($A32)=$A32,ODD(BK$2)=BK$2),AND(EVEN($A32)=$A32,EVEN(BK$2)=BK$2)),BK$1,-100))","v":1134.375},{"$f":"IF('Ceiling Speaker Calculator'!$C$29=\"Square\",BL$1,IF(OR(AND(ODD($A32)=$A32,ODD(BL$2)=BL$2),AND(EVEN($A32)=$A32,EVEN(BL$2)=BL$2)),BL$1,-100))","v":1153.125},{"$f":"IF('Ceiling Speaker Calculator'!$C$29=\"Square\",BM$1,IF(OR(AND(ODD($A32)=$A32,ODD(BM$2)=BM$2),AND(EVEN($A32)=$A32,EVEN(BM$2)=BM$2)),BM$1,-100))","v":1171.875},{"$f":"IF('Ceiling Speaker Calculator'!$C$29=\"Square\",BN$1,IF(OR(AND(ODD($A32)=$A32,ODD(BN$2)=BN$2),AND(EVEN($A32)=$A32,EVEN(BN$2)=BN$2)),BN$1,-100))","v":1190.625},{"$f":"IF('Ceiling Speaker Calculator'!$C$29=\"Square\",BO$1,IF(OR(AND(ODD($A32)=$A32,ODD(BO$2)=BO$2),AND(EVEN($A32)=$A32,EVEN(BO$2)=BO$2)),BO$1,-100))","v":1209.375},{"$f":"IF('Ceiling Speaker Calculator'!$C$29=\"Square\",BP$1,IF(OR(AND(ODD($A32)=$A32,ODD(BP$2)=BP$2),AND(EVEN($A32)=$A32,EVEN(BP$2)=BP$2)),BP$1,-100))","v":1228.125},{"$f":"IF('Ceiling Speaker Calculator'!$C$29=\"Square\",BQ$1,IF(OR(AND(ODD($A32)=$A32,ODD(BQ$2)=BQ$2),AND(EVEN($A32)=$A32,EVEN(BQ$2)=BQ$2)),BQ$1,-100))","v":1246.875},{"$f":"IF('Ceiling Speaker Calculator'!$C$29=\"Square\",BR$1,IF(OR(AND(ODD($A32)=$A32,ODD(BR$2)=BR$2),AND(EVEN($A32)=$A32,EVEN(BR$2)=BR$2)),BR$1,-100))","v":1265.625},{"$f":"IF('Ceiling Speaker Calculator'!$C$29=\"Square\",BS$1,IF(OR(AND(ODD($A32)=$A32,ODD(BS$2)=BS$2),AND(EVEN($A32)=$A32,EVEN(BS$2)=BS$2)),BS$1,-100))","v":1284.375},{"$f":"IF('Ceiling Speaker Calculator'!$C$29=\"Square\",BT$1,IF(OR(AND(ODD($A32)=$A32,ODD(BT$2)=BT$2),AND(EVEN($A32)=$A32,EVEN(BT$2)=BT$2)),BT$1,-100))","v":1303.125},{"$f":"IF('Ceiling Speaker Calculator'!$C$29=\"Square\",BU$1,IF(OR(AND(ODD($A32)=$A32,ODD(BU$2)=BU$2),AND(EVEN($A32)=$A32,EVEN(BU$2)=BU$2)),BU$1,-100))","v":1321.875},{"$f":"IF('Ceiling Speaker Calculator'!$C$29=\"Square\",BV$1,IF(OR(AND(ODD($A32)=$A32,ODD(BV$2)=BV$2),AND(EVEN($A32)=$A32,EVEN(BV$2)=BV$2)),BV$1,-100))","v":1340.625},{"$f":"IF('Ceiling Speaker Calculator'!$C$29=\"Square\",BW$1,IF(OR(AND(ODD($A32)=$A32,ODD(BW$2)=BW$2),AND(EVEN($A32)=$A32,EVEN(BW$2)=BW$2)),BW$1,-100))","v":1359.375},{"$f":"IF('Ceiling Speaker Calculator'!$C$29=\"Square\",BX$1,IF(OR(AND(ODD($A32)=$A32,ODD(BX$2)=BX$2),AND(EVEN($A32)=$A32,EVEN(BX$2)=BX$2)),BX$1,-100))","v":1378.125},{"$f":"IF('Ceiling Speaker Calculator'!$C$29=\"Square\",BY$1,IF(OR(AND(ODD($A32)=$A32,ODD(BY$2)=BY$2),AND(EVEN($A32)=$A32,EVEN(BY$2)=BY$2)),BY$1,-100))","v":1396.875},{"$f":"IF('Ceiling Speaker Calculator'!$C$29=\"Square\",BZ$1,IF(OR(AND(ODD($A32)=$A32,ODD(BZ$2)=BZ$2),AND(EVEN($A32)=$A32,EVEN(BZ$2)=BZ$2)),BZ$1,-100))","v":1415.625},{"$f":"IF('Ceiling Speaker Calculator'!$C$29=\"Square\",CA$1,IF(OR(AND(ODD($A32)=$A32,ODD(CA$2)=CA$2),AND(EVEN($A32)=$A32,EVEN(CA$2)=CA$2)),CA$1,-100))","v":1434.375},{"$f":"IF('Ceiling Speaker Calculator'!$C$29=\"Square\",CB$1,IF(OR(AND(ODD($A32)=$A32,ODD(CB$2)=CB$2),AND(EVEN($A32)=$A32,EVEN(CB$2)=CB$2)),CB$1,-100))","v":1453.125},{"$f":"IF('Ceiling Speaker Calculator'!$C$29=\"Square\",CC$1,IF(OR(AND(ODD($A32)=$A32,ODD(CC$2)=CC$2),AND(EVEN($A32)=$A32,EVEN(CC$2)=CC$2)),CC$1,-100))","v":1471.875},{"$f":"IF('Ceiling Speaker Calculator'!$C$29=\"Square\",CD$1,IF(OR(AND(ODD($A32)=$A32,ODD(CD$2)=CD$2),AND(EVEN($A32)=$A32,EVEN(CD$2)=CD$2)),CD$1,-100))","v":1490.625},{"$f":"IF('Ceiling Speaker Calculator'!$C$29=\"Square\",CE$1,IF(OR(AND(ODD($A32)=$A32,ODD(CE$2)=CE$2),AND(EVEN($A32)=$A32,EVEN(CE$2)=CE$2)),CE$1,-100))","v":1509.375},{"$f":"IF('Ceiling Speaker Calculator'!$C$29=\"Square\",CF$1,IF(OR(AND(ODD($A32)=$A32,ODD(CF$2)=CF$2),AND(EVEN($A32)=$A32,EVEN(CF$2)=CF$2)),CF$1,-100))","v":1528.125},{"$f":"IF('Ceiling Speaker Calculator'!$C$29=\"Square\",CG$1,IF(OR(AND(ODD($A32)=$A32,ODD(CG$2)=CG$2),AND(EVEN($A32)=$A32,EVEN(CG$2)=CG$2)),CG$1,-100))","v":1546.875},{"$f":"IF('Ceiling Speaker Calculator'!$C$29=\"Square\",CH$1,IF(OR(AND(ODD($A32)=$A32,ODD(CH$2)=CH$2),AND(EVEN($A32)=$A32,EVEN(CH$2)=CH$2)),CH$1,-100))","v":1565.625},{"$f":"IF('Ceiling Speaker Calculator'!$C$29=\"Square\",CI$1,IF(OR(AND(ODD($A32)=$A32,ODD(CI$2)=CI$2),AND(EVEN($A32)=$A32,EVEN(CI$2)=CI$2)),CI$1,-100))","v":1584.375},{"$f":"IF('Ceiling Speaker Calculator'!$C$29=\"Square\",CJ$1,IF(OR(AND(ODD($A32)=$A32,ODD(CJ$2)=CJ$2),AND(EVEN($A32)=$A32,EVEN(CJ$2)=CJ$2)),CJ$1,-100))","v":1603.125},{"$f":"IF('Ceiling Speaker Calculator'!$C$29=\"Square\",CK$1,IF(OR(AND(ODD($A32)=$A32,ODD(CK$2)=CK$2),AND(EVEN($A32)=$A32,EVEN(CK$2)=CK$2)),CK$1,-100))","v":1621.875},{"$f":"IF('Ceiling Speaker Calculator'!$C$29=\"Square\",CL$1,IF(OR(AND(ODD($A32)=$A32,ODD(CL$2)=CL$2),AND(EVEN($A32)=$A32,EVEN(CL$2)=CL$2)),CL$1,-100))","v":1640.625},{"$f":"IF('Ceiling Speaker Calculator'!$C$29=\"Square\",CM$1,IF(OR(AND(ODD($A32)=$A32,ODD(CM$2)=CM$2),AND(EVEN($A32)=$A32,EVEN(CM$2)=CM$2)),CM$1,-100))","v":1659.375},{"$f":"IF('Ceiling Speaker Calculator'!$C$29=\"Square\",CN$1,IF(OR(AND(ODD($A32)=$A32,ODD(CN$2)=CN$2),AND(EVEN($A32)=$A32,EVEN(CN$2)=CN$2)),CN$1,-100))","v":1678.125},{"$f":"IF('Ceiling Speaker Calculator'!$C$29=\"Square\",CO$1,IF(OR(AND(ODD($A32)=$A32,ODD(CO$2)=CO$2),AND(EVEN($A32)=$A32,EVEN(CO$2)=CO$2)),CO$1,-100))","v":1696.875},{"$f":"IF('Ceiling Speaker Calculator'!$C$29=\"Square\",CP$1,IF(OR(AND(ODD($A32)=$A32,ODD(CP$2)=CP$2),AND(EVEN($A32)=$A32,EVEN(CP$2)=CP$2)),CP$1,-100))","v":1715.625},{"$f":"IF('Ceiling Speaker Calculator'!$C$29=\"Square\",CQ$1,IF(OR(AND(ODD($A32)=$A32,ODD(CQ$2)=CQ$2),AND(EVEN($A32)=$A32,EVEN(CQ$2)=CQ$2)),CQ$1,-100))","v":1734.375},{"$f":"IF('Ceiling Speaker Calculator'!$C$29=\"Square\",CR$1,IF(OR(AND(ODD($A32)=$A32,ODD(CR$2)=CR$2),AND(EVEN($A32)=$A32,EVEN(CR$2)=CR$2)),CR$1,-100))","v":1753.125},{"$f":"IF('Ceiling Speaker Calculator'!$C$29=\"Square\",CS$1,IF(OR(AND(ODD($A32)=$A32,ODD(CS$2)=CS$2),AND(EVEN($A32)=$A32,EVEN(CS$2)=CS$2)),CS$1,-100))","v":1771.875},{"$f":"IF('Ceiling Speaker Calculator'!$C$29=\"Square\",CT$1,IF(OR(AND(ODD($A32)=$A32,ODD(CT$2)=CT$2),AND(EVEN($A32)=$A32,EVEN(CT$2)=CT$2)),CT$1,-100))","v":1790.625},{"$f":"IF('Ceiling Speaker Calculator'!$C$29=\"Square\",CU$1,IF(OR(AND(ODD($A32)=$A32,ODD(CU$2)=CU$2),AND(EVEN($A32)=$A32,EVEN(CU$2)=CU$2)),CU$1,-100))","v":1809.375},{"$f":"IF('Ceiling Speaker Calculator'!$C$29=\"Square\",CV$1,IF(OR(AND(ODD($A32)=$A32,ODD(CV$2)=CV$2),AND(EVEN($A32)=$A32,EVEN(CV$2)=CV$2)),CV$1,-100))","v":1828.125},{"$f":"IF('Ceiling Speaker Calculator'!$C$29=\"Square\",CW$1,IF(OR(AND(ODD($A32)=$A32,ODD(CW$2)=CW$2),AND(EVEN($A32)=$A32,EVEN(CW$2)=CW$2)),CW$1,-100))","v":1846.875},{"$f":"IF('Ceiling Speaker Calculator'!$C$29=\"Square\",CX$1,IF(OR(AND(ODD($A32)=$A32,ODD(CX$2)=CX$2),AND(EVEN($A32)=$A32,EVEN(CX$2)=CX$2)),CX$1,-100))","v":1865.625}]
[31,{"$f":"B32+'Ceiling Speaker Calculator'!$K$16","v":610},{"$f":"IF('Ceiling Speaker Calculator'!$C$29=\"Square\",C$1,IF(OR(AND(ODD($A33)=$A33,ODD(C$2)=C$2),AND(EVEN($A33)=$A33,EVEN(C$2)=C$2)),C$1,-100))","v":9.375},{"$f":"IF('Ceiling Speaker Calculator'!$C$29=\"Square\",D$1,IF(OR(AND(ODD($A33)=$A33,ODD(D$2)=D$2),AND(EVEN($A33)=$A33,EVEN(D$2)=D$2)),D$1,-100))","v":28.125},{"$f":"IF('Ceiling Speaker Calculator'!$C$29=\"Square\",E$1,IF(OR(AND(ODD($A33)=$A33,ODD(E$2)=E$2),AND(EVEN($A33)=$A33,EVEN(E$2)=E$2)),E$1,-100))","v":46.875},{"$f":"IF('Ceiling Speaker Calculator'!$C$29=\"Square\",F$1,IF(OR(AND(ODD($A33)=$A33,ODD(F$2)=F$2),AND(EVEN($A33)=$A33,EVEN(F$2)=F$2)),F$1,-100))","v":65.625},{"$f":"IF('Ceiling Speaker Calculator'!$C$29=\"Square\",G$1,IF(OR(AND(ODD($A33)=$A33,ODD(G$2)=G$2),AND(EVEN($A33)=$A33,EVEN(G$2)=G$2)),G$1,-100))","v":84.375},{"$f":"IF('Ceiling Speaker Calculator'!$C$29=\"Square\",H$1,IF(OR(AND(ODD($A33)=$A33,ODD(H$2)=H$2),AND(EVEN($A33)=$A33,EVEN(H$2)=H$2)),H$1,-100))","v":103.125},{"$f":"IF('Ceiling Speaker Calculator'!$C$29=\"Square\",I$1,IF(OR(AND(ODD($A33)=$A33,ODD(I$2)=I$2),AND(EVEN($A33)=$A33,EVEN(I$2)=I$2)),I$1,-100))","v":121.875},{"$f":"IF('Ceiling Speaker Calculator'!$C$29=\"Square\",J$1,IF(OR(AND(ODD($A33)=$A33,ODD(J$2)=J$2),AND(EVEN($A33)=$A33,EVEN(J$2)=J$2)),J$1,-100))","v":140.625},{"$f":"IF('Ceiling Speaker Calculator'!$C$29=\"Square\",K$1,IF(OR(AND(ODD($A33)=$A33,ODD(K$2)=K$2),AND(EVEN($A33)=$A33,EVEN(K$2)=K$2)),K$1,-100))","v":159.375},{"$f":"IF('Ceiling Speaker Calculator'!$C$29=\"Square\",L$1,IF(OR(AND(ODD($A33)=$A33,ODD(L$2)=L$2),AND(EVEN($A33)=$A33,EVEN(L$2)=L$2)),L$1,-100))","v":178.125},{"$f":"IF('Ceiling Speaker Calculator'!$C$29=\"Square\",M$1,IF(OR(AND(ODD($A33)=$A33,ODD(M$2)=M$2),AND(EVEN($A33)=$A33,EVEN(M$2)=M$2)),M$1,-100))","v":196.875},{"$f":"IF('Ceiling Speaker Calculator'!$C$29=\"Square\",N$1,IF(OR(AND(ODD($A33)=$A33,ODD(N$2)=N$2),AND(EVEN($A33)=$A33,EVEN(N$2)=N$2)),N$1,-100))","v":215.625},{"$f":"IF('Ceiling Speaker Calculator'!$C$29=\"Square\",O$1,IF(OR(AND(ODD($A33)=$A33,ODD(O$2)=O$2),AND(EVEN($A33)=$A33,EVEN(O$2)=O$2)),O$1,-100))","v":234.375},{"$f":"IF('Ceiling Speaker Calculator'!$C$29=\"Square\",P$1,IF(OR(AND(ODD($A33)=$A33,ODD(P$2)=P$2),AND(EVEN($A33)=$A33,EVEN(P$2)=P$2)),P$1,-100))","v":253.125},{"$f":"IF('Ceiling Speaker Calculator'!$C$29=\"Square\",Q$1,IF(OR(AND(ODD($A33)=$A33,ODD(Q$2)=Q$2),AND(EVEN($A33)=$A33,EVEN(Q$2)=Q$2)),Q$1,-100))","v":271.875},{"$f":"IF('Ceiling Speaker Calculator'!$C$29=\"Square\",R$1,IF(OR(AND(ODD($A33)=$A33,ODD(R$2)=R$2),AND(EVEN($A33)=$A33,EVEN(R$2)=R$2)),R$1,-100))","v":290.625},{"$f":"IF('Ceiling Speaker Calculator'!$C$29=\"Square\",S$1,IF(OR(AND(ODD($A33)=$A33,ODD(S$2)=S$2),AND(EVEN($A33)=$A33,EVEN(S$2)=S$2)),S$1,-100))","v":309.375},{"$f":"IF('Ceiling Speaker Calculator'!$C$29=\"Square\",T$1,IF(OR(AND(ODD($A33)=$A33,ODD(T$2)=T$2),AND(EVEN($A33)=$A33,EVEN(T$2)=T$2)),T$1,-100))","v":328.125},{"$f":"IF('Ceiling Speaker Calculator'!$C$29=\"Square\",U$1,IF(OR(AND(ODD($A33)=$A33,ODD(U$2)=U$2),AND(EVEN($A33)=$A33,EVEN(U$2)=U$2)),U$1,-100))","v":346.875},{"$f":"IF('Ceiling Speaker Calculator'!$C$29=\"Square\",V$1,IF(OR(AND(ODD($A33)=$A33,ODD(V$2)=V$2),AND(EVEN($A33)=$A33,EVEN(V$2)=V$2)),V$1,-100))","v":365.625},{"$f":"IF('Ceiling Speaker Calculator'!$C$29=\"Square\",W$1,IF(OR(AND(ODD($A33)=$A33,ODD(W$2)=W$2),AND(EVEN($A33)=$A33,EVEN(W$2)=W$2)),W$1,-100))","v":384.375},{"$f":"IF('Ceiling Speaker Calculator'!$C$29=\"Square\",X$1,IF(OR(AND(ODD($A33)=$A33,ODD(X$2)=X$2),AND(EVEN($A33)=$A33,EVEN(X$2)=X$2)),X$1,-100))","v":403.125},{"$f":"IF('Ceiling Speaker Calculator'!$C$29=\"Square\",Y$1,IF(OR(AND(ODD($A33)=$A33,ODD(Y$2)=Y$2),AND(EVEN($A33)=$A33,EVEN(Y$2)=Y$2)),Y$1,-100))","v":421.875},{"$f":"IF('Ceiling Speaker Calculator'!$C$29=\"Square\",Z$1,IF(OR(AND(ODD($A33)=$A33,ODD(Z$2)=Z$2),AND(EVEN($A33)=$A33,EVEN(Z$2)=Z$2)),Z$1,-100))","v":440.625},{"$f":"IF('Ceiling Speaker Calculator'!$C$29=\"Square\",AA$1,IF(OR(AND(ODD($A33)=$A33,ODD(AA$2)=AA$2),AND(EVEN($A33)=$A33,EVEN(AA$2)=AA$2)),AA$1,-100))","v":459.375},{"$f":"IF('Ceiling Speaker Calculator'!$C$29=\"Square\",AB$1,IF(OR(AND(ODD($A33)=$A33,ODD(AB$2)=AB$2),AND(EVEN($A33)=$A33,EVEN(AB$2)=AB$2)),AB$1,-100))","v":478.125},{"$f":"IF('Ceiling Speaker Calculator'!$C$29=\"Square\",AC$1,IF(OR(AND(ODD($A33)=$A33,ODD(AC$2)=AC$2),AND(EVEN($A33)=$A33,EVEN(AC$2)=AC$2)),AC$1,-100))","v":496.875},{"$f":"IF('Ceiling Speaker Calculator'!$C$29=\"Square\",AD$1,IF(OR(AND(ODD($A33)=$A33,ODD(AD$2)=AD$2),AND(EVEN($A33)=$A33,EVEN(AD$2)=AD$2)),AD$1,-100))","v":515.625},{"$f":"IF('Ceiling Speaker Calculator'!$C$29=\"Square\",AE$1,IF(OR(AND(ODD($A33)=$A33,ODD(AE$2)=AE$2),AND(EVEN($A33)=$A33,EVEN(AE$2)=AE$2)),AE$1,-100))","v":534.375},{"$f":"IF('Ceiling Speaker Calculator'!$C$29=\"Square\",AF$1,IF(OR(AND(ODD($A33)=$A33,ODD(AF$2)=AF$2),AND(EVEN($A33)=$A33,EVEN(AF$2)=AF$2)),AF$1,-100))","v":553.125},{"$f":"IF('Ceiling Speaker Calculator'!$C$29=\"Square\",AG$1,IF(OR(AND(ODD($A33)=$A33,ODD(AG$2)=AG$2),AND(EVEN($A33)=$A33,EVEN(AG$2)=AG$2)),AG$1,-100))","v":571.875},{"$f":"IF('Ceiling Speaker Calculator'!$C$29=\"Square\",AH$1,IF(OR(AND(ODD($A33)=$A33,ODD(AH$2)=AH$2),AND(EVEN($A33)=$A33,EVEN(AH$2)=AH$2)),AH$1,-100))","v":590.625},{"$f":"IF('Ceiling Speaker Calculator'!$C$29=\"Square\",AI$1,IF(OR(AND(ODD($A33)=$A33,ODD(AI$2)=AI$2),AND(EVEN($A33)=$A33,EVEN(AI$2)=AI$2)),AI$1,-100))","v":609.375},{"$f":"IF('Ceiling Speaker Calculator'!$C$29=\"Square\",AJ$1,IF(OR(AND(ODD($A33)=$A33,ODD(AJ$2)=AJ$2),AND(EVEN($A33)=$A33,EVEN(AJ$2)=AJ$2)),AJ$1,-100))","v":628.125},{"$f":"IF('Ceiling Speaker Calculator'!$C$29=\"Square\",AK$1,IF(OR(AND(ODD($A33)=$A33,ODD(AK$2)=AK$2),AND(EVEN($A33)=$A33,EVEN(AK$2)=AK$2)),AK$1,-100))","v":646.875},{"$f":"IF('Ceiling Speaker Calculator'!$C$29=\"Square\",AL$1,IF(OR(AND(ODD($A33)=$A33,ODD(AL$2)=AL$2),AND(EVEN($A33)=$A33,EVEN(AL$2)=AL$2)),AL$1,-100))","v":665.625},{"$f":"IF('Ceiling Speaker Calculator'!$C$29=\"Square\",AM$1,IF(OR(AND(ODD($A33)=$A33,ODD(AM$2)=AM$2),AND(EVEN($A33)=$A33,EVEN(AM$2)=AM$2)),AM$1,-100))","v":684.375},{"$f":"IF('Ceiling Speaker Calculator'!$C$29=\"Square\",AN$1,IF(OR(AND(ODD($A33)=$A33,ODD(AN$2)=AN$2),AND(EVEN($A33)=$A33,EVEN(AN$2)=AN$2)),AN$1,-100))","v":703.125},{"$f":"IF('Ceiling Speaker Calculator'!$C$29=\"Square\",AO$1,IF(OR(AND(ODD($A33)=$A33,ODD(AO$2)=AO$2),AND(EVEN($A33)=$A33,EVEN(AO$2)=AO$2)),AO$1,-100))","v":721.875},{"$f":"IF('Ceiling Speaker Calculator'!$C$29=\"Square\",AP$1,IF(OR(AND(ODD($A33)=$A33,ODD(AP$2)=AP$2),AND(EVEN($A33)=$A33,EVEN(AP$2)=AP$2)),AP$1,-100))","v":740.625},{"$f":"IF('Ceiling Speaker Calculator'!$C$29=\"Square\",AQ$1,IF(OR(AND(ODD($A33)=$A33,ODD(AQ$2)=AQ$2),AND(EVEN($A33)=$A33,EVEN(AQ$2)=AQ$2)),AQ$1,-100))","v":759.375},{"$f":"IF('Ceiling Speaker Calculator'!$C$29=\"Square\",AR$1,IF(OR(AND(ODD($A33)=$A33,ODD(AR$2)=AR$2),AND(EVEN($A33)=$A33,EVEN(AR$2)=AR$2)),AR$1,-100))","v":778.125},{"$f":"IF('Ceiling Speaker Calculator'!$C$29=\"Square\",AS$1,IF(OR(AND(ODD($A33)=$A33,ODD(AS$2)=AS$2),AND(EVEN($A33)=$A33,EVEN(AS$2)=AS$2)),AS$1,-100))","v":796.875},{"$f":"IF('Ceiling Speaker Calculator'!$C$29=\"Square\",AT$1,IF(OR(AND(ODD($A33)=$A33,ODD(AT$2)=AT$2),AND(EVEN($A33)=$A33,EVEN(AT$2)=AT$2)),AT$1,-100))","v":815.625},{"$f":"IF('Ceiling Speaker Calculator'!$C$29=\"Square\",AU$1,IF(OR(AND(ODD($A33)=$A33,ODD(AU$2)=AU$2),AND(EVEN($A33)=$A33,EVEN(AU$2)=AU$2)),AU$1,-100))","v":834.375},{"$f":"IF('Ceiling Speaker Calculator'!$C$29=\"Square\",AV$1,IF(OR(AND(ODD($A33)=$A33,ODD(AV$2)=AV$2),AND(EVEN($A33)=$A33,EVEN(AV$2)=AV$2)),AV$1,-100))","v":853.125},{"$f":"IF('Ceiling Speaker Calculator'!$C$29=\"Square\",AW$1,IF(OR(AND(ODD($A33)=$A33,ODD(AW$2)=AW$2),AND(EVEN($A33)=$A33,EVEN(AW$2)=AW$2)),AW$1,-100))","v":871.875},{"$f":"IF('Ceiling Speaker Calculator'!$C$29=\"Square\",AX$1,IF(OR(AND(ODD($A33)=$A33,ODD(AX$2)=AX$2),AND(EVEN($A33)=$A33,EVEN(AX$2)=AX$2)),AX$1,-100))","v":890.625},{"$f":"IF('Ceiling Speaker Calculator'!$C$29=\"Square\",AY$1,IF(OR(AND(ODD($A33)=$A33,ODD(AY$2)=AY$2),AND(EVEN($A33)=$A33,EVEN(AY$2)=AY$2)),AY$1,-100))","v":909.375},{"$f":"IF('Ceiling Speaker Calculator'!$C$29=\"Square\",AZ$1,IF(OR(AND(ODD($A33)=$A33,ODD(AZ$2)=AZ$2),AND(EVEN($A33)=$A33,EVEN(AZ$2)=AZ$2)),AZ$1,-100))","v":928.125},{"$f":"IF('Ceiling Speaker Calculator'!$C$29=\"Square\",BA$1,IF(OR(AND(ODD($A33)=$A33,ODD(BA$2)=BA$2),AND(EVEN($A33)=$A33,EVEN(BA$2)=BA$2)),BA$1,-100))","v":946.875},{"$f":"IF('Ceiling Speaker Calculator'!$C$29=\"Square\",BB$1,IF(OR(AND(ODD($A33)=$A33,ODD(BB$2)=BB$2),AND(EVEN($A33)=$A33,EVEN(BB$2)=BB$2)),BB$1,-100))","v":965.625},{"$f":"IF('Ceiling Speaker Calculator'!$C$29=\"Square\",BC$1,IF(OR(AND(ODD($A33)=$A33,ODD(BC$2)=BC$2),AND(EVEN($A33)=$A33,EVEN(BC$2)=BC$2)),BC$1,-100))","v":984.375},{"$f":"IF('Ceiling Speaker Calculator'!$C$29=\"Square\",BD$1,IF(OR(AND(ODD($A33)=$A33,ODD(BD$2)=BD$2),AND(EVEN($A33)=$A33,EVEN(BD$2)=BD$2)),BD$1,-100))","v":1003.125},{"$f":"IF('Ceiling Speaker Calculator'!$C$29=\"Square\",BE$1,IF(OR(AND(ODD($A33)=$A33,ODD(BE$2)=BE$2),AND(EVEN($A33)=$A33,EVEN(BE$2)=BE$2)),BE$1,-100))","v":1021.875},{"$f":"IF('Ceiling Speaker Calculator'!$C$29=\"Square\",BF$1,IF(OR(AND(ODD($A33)=$A33,ODD(BF$2)=BF$2),AND(EVEN($A33)=$A33,EVEN(BF$2)=BF$2)),BF$1,-100))","v":1040.625},{"$f":"IF('Ceiling Speaker Calculator'!$C$29=\"Square\",BG$1,IF(OR(AND(ODD($A33)=$A33,ODD(BG$2)=BG$2),AND(EVEN($A33)=$A33,EVEN(BG$2)=BG$2)),BG$1,-100))","v":1059.375},{"$f":"IF('Ceiling Speaker Calculator'!$C$29=\"Square\",BH$1,IF(OR(AND(ODD($A33)=$A33,ODD(BH$2)=BH$2),AND(EVEN($A33)=$A33,EVEN(BH$2)=BH$2)),BH$1,-100))","v":1078.125},{"$f":"IF('Ceiling Speaker Calculator'!$C$29=\"Square\",BI$1,IF(OR(AND(ODD($A33)=$A33,ODD(BI$2)=BI$2),AND(EVEN($A33)=$A33,EVEN(BI$2)=BI$2)),BI$1,-100))","v":1096.875},{"$f":"IF('Ceiling Speaker Calculator'!$C$29=\"Square\",BJ$1,IF(OR(AND(ODD($A33)=$A33,ODD(BJ$2)=BJ$2),AND(EVEN($A33)=$A33,EVEN(BJ$2)=BJ$2)),BJ$1,-100))","v":1115.625},{"$f":"IF('Ceiling Speaker Calculator'!$C$29=\"Square\",BK$1,IF(OR(AND(ODD($A33)=$A33,ODD(BK$2)=BK$2),AND(EVEN($A33)=$A33,EVEN(BK$2)=BK$2)),BK$1,-100))","v":1134.375},{"$f":"IF('Ceiling Speaker Calculator'!$C$29=\"Square\",BL$1,IF(OR(AND(ODD($A33)=$A33,ODD(BL$2)=BL$2),AND(EVEN($A33)=$A33,EVEN(BL$2)=BL$2)),BL$1,-100))","v":1153.125},{"$f":"IF('Ceiling Speaker Calculator'!$C$29=\"Square\",BM$1,IF(OR(AND(ODD($A33)=$A33,ODD(BM$2)=BM$2),AND(EVEN($A33)=$A33,EVEN(BM$2)=BM$2)),BM$1,-100))","v":1171.875},{"$f":"IF('Ceiling Speaker Calculator'!$C$29=\"Square\",BN$1,IF(OR(AND(ODD($A33)=$A33,ODD(BN$2)=BN$2),AND(EVEN($A33)=$A33,EVEN(BN$2)=BN$2)),BN$1,-100))","v":1190.625},{"$f":"IF('Ceiling Speaker Calculator'!$C$29=\"Square\",BO$1,IF(OR(AND(ODD($A33)=$A33,ODD(BO$2)=BO$2),AND(EVEN($A33)=$A33,EVEN(BO$2)=BO$2)),BO$1,-100))","v":1209.375},{"$f":"IF('Ceiling Speaker Calculator'!$C$29=\"Square\",BP$1,IF(OR(AND(ODD($A33)=$A33,ODD(BP$2)=BP$2),AND(EVEN($A33)=$A33,EVEN(BP$2)=BP$2)),BP$1,-100))","v":1228.125},{"$f":"IF('Ceiling Speaker Calculator'!$C$29=\"Square\",BQ$1,IF(OR(AND(ODD($A33)=$A33,ODD(BQ$2)=BQ$2),AND(EVEN($A33)=$A33,EVEN(BQ$2)=BQ$2)),BQ$1,-100))","v":1246.875},{"$f":"IF('Ceiling Speaker Calculator'!$C$29=\"Square\",BR$1,IF(OR(AND(ODD($A33)=$A33,ODD(BR$2)=BR$2),AND(EVEN($A33)=$A33,EVEN(BR$2)=BR$2)),BR$1,-100))","v":1265.625},{"$f":"IF('Ceiling Speaker Calculator'!$C$29=\"Square\",BS$1,IF(OR(AND(ODD($A33)=$A33,ODD(BS$2)=BS$2),AND(EVEN($A33)=$A33,EVEN(BS$2)=BS$2)),BS$1,-100))","v":1284.375},{"$f":"IF('Ceiling Speaker Calculator'!$C$29=\"Square\",BT$1,IF(OR(AND(ODD($A33)=$A33,ODD(BT$2)=BT$2),AND(EVEN($A33)=$A33,EVEN(BT$2)=BT$2)),BT$1,-100))","v":1303.125},{"$f":"IF('Ceiling Speaker Calculator'!$C$29=\"Square\",BU$1,IF(OR(AND(ODD($A33)=$A33,ODD(BU$2)=BU$2),AND(EVEN($A33)=$A33,EVEN(BU$2)=BU$2)),BU$1,-100))","v":1321.875},{"$f":"IF('Ceiling Speaker Calculator'!$C$29=\"Square\",BV$1,IF(OR(AND(ODD($A33)=$A33,ODD(BV$2)=BV$2),AND(EVEN($A33)=$A33,EVEN(BV$2)=BV$2)),BV$1,-100))","v":1340.625},{"$f":"IF('Ceiling Speaker Calculator'!$C$29=\"Square\",BW$1,IF(OR(AND(ODD($A33)=$A33,ODD(BW$2)=BW$2),AND(EVEN($A33)=$A33,EVEN(BW$2)=BW$2)),BW$1,-100))","v":1359.375},{"$f":"IF('Ceiling Speaker Calculator'!$C$29=\"Square\",BX$1,IF(OR(AND(ODD($A33)=$A33,ODD(BX$2)=BX$2),AND(EVEN($A33)=$A33,EVEN(BX$2)=BX$2)),BX$1,-100))","v":1378.125},{"$f":"IF('Ceiling Speaker Calculator'!$C$29=\"Square\",BY$1,IF(OR(AND(ODD($A33)=$A33,ODD(BY$2)=BY$2),AND(EVEN($A33)=$A33,EVEN(BY$2)=BY$2)),BY$1,-100))","v":1396.875},{"$f":"IF('Ceiling Speaker Calculator'!$C$29=\"Square\",BZ$1,IF(OR(AND(ODD($A33)=$A33,ODD(BZ$2)=BZ$2),AND(EVEN($A33)=$A33,EVEN(BZ$2)=BZ$2)),BZ$1,-100))","v":1415.625},{"$f":"IF('Ceiling Speaker Calculator'!$C$29=\"Square\",CA$1,IF(OR(AND(ODD($A33)=$A33,ODD(CA$2)=CA$2),AND(EVEN($A33)=$A33,EVEN(CA$2)=CA$2)),CA$1,-100))","v":1434.375},{"$f":"IF('Ceiling Speaker Calculator'!$C$29=\"Square\",CB$1,IF(OR(AND(ODD($A33)=$A33,ODD(CB$2)=CB$2),AND(EVEN($A33)=$A33,EVEN(CB$2)=CB$2)),CB$1,-100))","v":1453.125},{"$f":"IF('Ceiling Speaker Calculator'!$C$29=\"Square\",CC$1,IF(OR(AND(ODD($A33)=$A33,ODD(CC$2)=CC$2),AND(EVEN($A33)=$A33,EVEN(CC$2)=CC$2)),CC$1,-100))","v":1471.875},{"$f":"IF('Ceiling Speaker Calculator'!$C$29=\"Square\",CD$1,IF(OR(AND(ODD($A33)=$A33,ODD(CD$2)=CD$2),AND(EVEN($A33)=$A33,EVEN(CD$2)=CD$2)),CD$1,-100))","v":1490.625},{"$f":"IF('Ceiling Speaker Calculator'!$C$29=\"Square\",CE$1,IF(OR(AND(ODD($A33)=$A33,ODD(CE$2)=CE$2),AND(EVEN($A33)=$A33,EVEN(CE$2)=CE$2)),CE$1,-100))","v":1509.375},{"$f":"IF('Ceiling Speaker Calculator'!$C$29=\"Square\",CF$1,IF(OR(AND(ODD($A33)=$A33,ODD(CF$2)=CF$2),AND(EVEN($A33)=$A33,EVEN(CF$2)=CF$2)),CF$1,-100))","v":1528.125},{"$f":"IF('Ceiling Speaker Calculator'!$C$29=\"Square\",CG$1,IF(OR(AND(ODD($A33)=$A33,ODD(CG$2)=CG$2),AND(EVEN($A33)=$A33,EVEN(CG$2)=CG$2)),CG$1,-100))","v":1546.875},{"$f":"IF('Ceiling Speaker Calculator'!$C$29=\"Square\",CH$1,IF(OR(AND(ODD($A33)=$A33,ODD(CH$2)=CH$2),AND(EVEN($A33)=$A33,EVEN(CH$2)=CH$2)),CH$1,-100))","v":1565.625},{"$f":"IF('Ceiling Speaker Calculator'!$C$29=\"Square\",CI$1,IF(OR(AND(ODD($A33)=$A33,ODD(CI$2)=CI$2),AND(EVEN($A33)=$A33,EVEN(CI$2)=CI$2)),CI$1,-100))","v":1584.375},{"$f":"IF('Ceiling Speaker Calculator'!$C$29=\"Square\",CJ$1,IF(OR(AND(ODD($A33)=$A33,ODD(CJ$2)=CJ$2),AND(EVEN($A33)=$A33,EVEN(CJ$2)=CJ$2)),CJ$1,-100))","v":1603.125},{"$f":"IF('Ceiling Speaker Calculator'!$C$29=\"Square\",CK$1,IF(OR(AND(ODD($A33)=$A33,ODD(CK$2)=CK$2),AND(EVEN($A33)=$A33,EVEN(CK$2)=CK$2)),CK$1,-100))","v":1621.875},{"$f":"IF('Ceiling Speaker Calculator'!$C$29=\"Square\",CL$1,IF(OR(AND(ODD($A33)=$A33,ODD(CL$2)=CL$2),AND(EVEN($A33)=$A33,EVEN(CL$2)=CL$2)),CL$1,-100))","v":1640.625},{"$f":"IF('Ceiling Speaker Calculator'!$C$29=\"Square\",CM$1,IF(OR(AND(ODD($A33)=$A33,ODD(CM$2)=CM$2),AND(EVEN($A33)=$A33,EVEN(CM$2)=CM$2)),CM$1,-100))","v":1659.375},{"$f":"IF('Ceiling Speaker Calculator'!$C$29=\"Square\",CN$1,IF(OR(AND(ODD($A33)=$A33,ODD(CN$2)=CN$2),AND(EVEN($A33)=$A33,EVEN(CN$2)=CN$2)),CN$1,-100))","v":1678.125},{"$f":"IF('Ceiling Speaker Calculator'!$C$29=\"Square\",CO$1,IF(OR(AND(ODD($A33)=$A33,ODD(CO$2)=CO$2),AND(EVEN($A33)=$A33,EVEN(CO$2)=CO$2)),CO$1,-100))","v":1696.875},{"$f":"IF('Ceiling Speaker Calculator'!$C$29=\"Square\",CP$1,IF(OR(AND(ODD($A33)=$A33,ODD(CP$2)=CP$2),AND(EVEN($A33)=$A33,EVEN(CP$2)=CP$2)),CP$1,-100))","v":1715.625},{"$f":"IF('Ceiling Speaker Calculator'!$C$29=\"Square\",CQ$1,IF(OR(AND(ODD($A33)=$A33,ODD(CQ$2)=CQ$2),AND(EVEN($A33)=$A33,EVEN(CQ$2)=CQ$2)),CQ$1,-100))","v":1734.375},{"$f":"IF('Ceiling Speaker Calculator'!$C$29=\"Square\",CR$1,IF(OR(AND(ODD($A33)=$A33,ODD(CR$2)=CR$2),AND(EVEN($A33)=$A33,EVEN(CR$2)=CR$2)),CR$1,-100))","v":1753.125},{"$f":"IF('Ceiling Speaker Calculator'!$C$29=\"Square\",CS$1,IF(OR(AND(ODD($A33)=$A33,ODD(CS$2)=CS$2),AND(EVEN($A33)=$A33,EVEN(CS$2)=CS$2)),CS$1,-100))","v":1771.875},{"$f":"IF('Ceiling Speaker Calculator'!$C$29=\"Square\",CT$1,IF(OR(AND(ODD($A33)=$A33,ODD(CT$2)=CT$2),AND(EVEN($A33)=$A33,EVEN(CT$2)=CT$2)),CT$1,-100))","v":1790.625},{"$f":"IF('Ceiling Speaker Calculator'!$C$29=\"Square\",CU$1,IF(OR(AND(ODD($A33)=$A33,ODD(CU$2)=CU$2),AND(EVEN($A33)=$A33,EVEN(CU$2)=CU$2)),CU$1,-100))","v":1809.375},{"$f":"IF('Ceiling Speaker Calculator'!$C$29=\"Square\",CV$1,IF(OR(AND(ODD($A33)=$A33,ODD(CV$2)=CV$2),AND(EVEN($A33)=$A33,EVEN(CV$2)=CV$2)),CV$1,-100))","v":1828.125},{"$f":"IF('Ceiling Speaker Calculator'!$C$29=\"Square\",CW$1,IF(OR(AND(ODD($A33)=$A33,ODD(CW$2)=CW$2),AND(EVEN($A33)=$A33,EVEN(CW$2)=CW$2)),CW$1,-100))","v":1846.875},{"$f":"IF('Ceiling Speaker Calculator'!$C$29=\"Square\",CX$1,IF(OR(AND(ODD($A33)=$A33,ODD(CX$2)=CX$2),AND(EVEN($A33)=$A33,EVEN(CX$2)=CX$2)),CX$1,-100))","v":1865.625}]
[32,{"$f":"B33+'Ceiling Speaker Calculator'!$K$16","v":630},{"$f":"IF('Ceiling Speaker Calculator'!$C$29=\"Square\",C$1,IF(OR(AND(ODD($A34)=$A34,ODD(C$2)=C$2),AND(EVEN($A34)=$A34,EVEN(C$2)=C$2)),C$1,-100))","v":9.375},{"$f":"IF('Ceiling Speaker Calculator'!$C$29=\"Square\",D$1,IF(OR(AND(ODD($A34)=$A34,ODD(D$2)=D$2),AND(EVEN($A34)=$A34,EVEN(D$2)=D$2)),D$1,-100))","v":28.125},{"$f":"IF('Ceiling Speaker Calculator'!$C$29=\"Square\",E$1,IF(OR(AND(ODD($A34)=$A34,ODD(E$2)=E$2),AND(EVEN($A34)=$A34,EVEN(E$2)=E$2)),E$1,-100))","v":46.875},{"$f":"IF('Ceiling Speaker Calculator'!$C$29=\"Square\",F$1,IF(OR(AND(ODD($A34)=$A34,ODD(F$2)=F$2),AND(EVEN($A34)=$A34,EVEN(F$2)=F$2)),F$1,-100))","v":65.625},{"$f":"IF('Ceiling Speaker Calculator'!$C$29=\"Square\",G$1,IF(OR(AND(ODD($A34)=$A34,ODD(G$2)=G$2),AND(EVEN($A34)=$A34,EVEN(G$2)=G$2)),G$1,-100))","v":84.375},{"$f":"IF('Ceiling Speaker Calculator'!$C$29=\"Square\",H$1,IF(OR(AND(ODD($A34)=$A34,ODD(H$2)=H$2),AND(EVEN($A34)=$A34,EVEN(H$2)=H$2)),H$1,-100))","v":103.125},{"$f":"IF('Ceiling Speaker Calculator'!$C$29=\"Square\",I$1,IF(OR(AND(ODD($A34)=$A34,ODD(I$2)=I$2),AND(EVEN($A34)=$A34,EVEN(I$2)=I$2)),I$1,-100))","v":121.875},{"$f":"IF('Ceiling Speaker Calculator'!$C$29=\"Square\",J$1,IF(OR(AND(ODD($A34)=$A34,ODD(J$2)=J$2),AND(EVEN($A34)=$A34,EVEN(J$2)=J$2)),J$1,-100))","v":140.625},{"$f":"IF('Ceiling Speaker Calculator'!$C$29=\"Square\",K$1,IF(OR(AND(ODD($A34)=$A34,ODD(K$2)=K$2),AND(EVEN($A34)=$A34,EVEN(K$2)=K$2)),K$1,-100))","v":159.375},{"$f":"IF('Ceiling Speaker Calculator'!$C$29=\"Square\",L$1,IF(OR(AND(ODD($A34)=$A34,ODD(L$2)=L$2),AND(EVEN($A34)=$A34,EVEN(L$2)=L$2)),L$1,-100))","v":178.125},{"$f":"IF('Ceiling Speaker Calculator'!$C$29=\"Square\",M$1,IF(OR(AND(ODD($A34)=$A34,ODD(M$2)=M$2),AND(EVEN($A34)=$A34,EVEN(M$2)=M$2)),M$1,-100))","v":196.875},{"$f":"IF('Ceiling Speaker Calculator'!$C$29=\"Square\",N$1,IF(OR(AND(ODD($A34)=$A34,ODD(N$2)=N$2),AND(EVEN($A34)=$A34,EVEN(N$2)=N$2)),N$1,-100))","v":215.625},{"$f":"IF('Ceiling Speaker Calculator'!$C$29=\"Square\",O$1,IF(OR(AND(ODD($A34)=$A34,ODD(O$2)=O$2),AND(EVEN($A34)=$A34,EVEN(O$2)=O$2)),O$1,-100))","v":234.375},{"$f":"IF('Ceiling Speaker Calculator'!$C$29=\"Square\",P$1,IF(OR(AND(ODD($A34)=$A34,ODD(P$2)=P$2),AND(EVEN($A34)=$A34,EVEN(P$2)=P$2)),P$1,-100))","v":253.125},{"$f":"IF('Ceiling Speaker Calculator'!$C$29=\"Square\",Q$1,IF(OR(AND(ODD($A34)=$A34,ODD(Q$2)=Q$2),AND(EVEN($A34)=$A34,EVEN(Q$2)=Q$2)),Q$1,-100))","v":271.875},{"$f":"IF('Ceiling Speaker Calculator'!$C$29=\"Square\",R$1,IF(OR(AND(ODD($A34)=$A34,ODD(R$2)=R$2),AND(EVEN($A34)=$A34,EVEN(R$2)=R$2)),R$1,-100))","v":290.625},{"$f":"IF('Ceiling Speaker Calculator'!$C$29=\"Square\",S$1,IF(OR(AND(ODD($A34)=$A34,ODD(S$2)=S$2),AND(EVEN($A34)=$A34,EVEN(S$2)=S$2)),S$1,-100))","v":309.375},{"$f":"IF('Ceiling Speaker Calculator'!$C$29=\"Square\",T$1,IF(OR(AND(ODD($A34)=$A34,ODD(T$2)=T$2),AND(EVEN($A34)=$A34,EVEN(T$2)=T$2)),T$1,-100))","v":328.125},{"$f":"IF('Ceiling Speaker Calculator'!$C$29=\"Square\",U$1,IF(OR(AND(ODD($A34)=$A34,ODD(U$2)=U$2),AND(EVEN($A34)=$A34,EVEN(U$2)=U$2)),U$1,-100))","v":346.875},{"$f":"IF('Ceiling Speaker Calculator'!$C$29=\"Square\",V$1,IF(OR(AND(ODD($A34)=$A34,ODD(V$2)=V$2),AND(EVEN($A34)=$A34,EVEN(V$2)=V$2)),V$1,-100))","v":365.625},{"$f":"IF('Ceiling Speaker Calculator'!$C$29=\"Square\",W$1,IF(OR(AND(ODD($A34)=$A34,ODD(W$2)=W$2),AND(EVEN($A34)=$A34,EVEN(W$2)=W$2)),W$1,-100))","v":384.375},{"$f":"IF('Ceiling Speaker Calculator'!$C$29=\"Square\",X$1,IF(OR(AND(ODD($A34)=$A34,ODD(X$2)=X$2),AND(EVEN($A34)=$A34,EVEN(X$2)=X$2)),X$1,-100))","v":403.125},{"$f":"IF('Ceiling Speaker Calculator'!$C$29=\"Square\",Y$1,IF(OR(AND(ODD($A34)=$A34,ODD(Y$2)=Y$2),AND(EVEN($A34)=$A34,EVEN(Y$2)=Y$2)),Y$1,-100))","v":421.875},{"$f":"IF('Ceiling Speaker Calculator'!$C$29=\"Square\",Z$1,IF(OR(AND(ODD($A34)=$A34,ODD(Z$2)=Z$2),AND(EVEN($A34)=$A34,EVEN(Z$2)=Z$2)),Z$1,-100))","v":440.625},{"$f":"IF('Ceiling Speaker Calculator'!$C$29=\"Square\",AA$1,IF(OR(AND(ODD($A34)=$A34,ODD(AA$2)=AA$2),AND(EVEN($A34)=$A34,EVEN(AA$2)=AA$2)),AA$1,-100))","v":459.375},{"$f":"IF('Ceiling Speaker Calculator'!$C$29=\"Square\",AB$1,IF(OR(AND(ODD($A34)=$A34,ODD(AB$2)=AB$2),AND(EVEN($A34)=$A34,EVEN(AB$2)=AB$2)),AB$1,-100))","v":478.125},{"$f":"IF('Ceiling Speaker Calculator'!$C$29=\"Square\",AC$1,IF(OR(AND(ODD($A34)=$A34,ODD(AC$2)=AC$2),AND(EVEN($A34)=$A34,EVEN(AC$2)=AC$2)),AC$1,-100))","v":496.875},{"$f":"IF('Ceiling Speaker Calculator'!$C$29=\"Square\",AD$1,IF(OR(AND(ODD($A34)=$A34,ODD(AD$2)=AD$2),AND(EVEN($A34)=$A34,EVEN(AD$2)=AD$2)),AD$1,-100))","v":515.625},{"$f":"IF('Ceiling Speaker Calculator'!$C$29=\"Square\",AE$1,IF(OR(AND(ODD($A34)=$A34,ODD(AE$2)=AE$2),AND(EVEN($A34)=$A34,EVEN(AE$2)=AE$2)),AE$1,-100))","v":534.375},{"$f":"IF('Ceiling Speaker Calculator'!$C$29=\"Square\",AF$1,IF(OR(AND(ODD($A34)=$A34,ODD(AF$2)=AF$2),AND(EVEN($A34)=$A34,EVEN(AF$2)=AF$2)),AF$1,-100))","v":553.125},{"$f":"IF('Ceiling Speaker Calculator'!$C$29=\"Square\",AG$1,IF(OR(AND(ODD($A34)=$A34,ODD(AG$2)=AG$2),AND(EVEN($A34)=$A34,EVEN(AG$2)=AG$2)),AG$1,-100))","v":571.875},{"$f":"IF('Ceiling Speaker Calculator'!$C$29=\"Square\",AH$1,IF(OR(AND(ODD($A34)=$A34,ODD(AH$2)=AH$2),AND(EVEN($A34)=$A34,EVEN(AH$2)=AH$2)),AH$1,-100))","v":590.625},{"$f":"IF('Ceiling Speaker Calculator'!$C$29=\"Square\",AI$1,IF(OR(AND(ODD($A34)=$A34,ODD(AI$2)=AI$2),AND(EVEN($A34)=$A34,EVEN(AI$2)=AI$2)),AI$1,-100))","v":609.375},{"$f":"IF('Ceiling Speaker Calculator'!$C$29=\"Square\",AJ$1,IF(OR(AND(ODD($A34)=$A34,ODD(AJ$2)=AJ$2),AND(EVEN($A34)=$A34,EVEN(AJ$2)=AJ$2)),AJ$1,-100))","v":628.125},{"$f":"IF('Ceiling Speaker Calculator'!$C$29=\"Square\",AK$1,IF(OR(AND(ODD($A34)=$A34,ODD(AK$2)=AK$2),AND(EVEN($A34)=$A34,EVEN(AK$2)=AK$2)),AK$1,-100))","v":646.875},{"$f":"IF('Ceiling Speaker Calculator'!$C$29=\"Square\",AL$1,IF(OR(AND(ODD($A34)=$A34,ODD(AL$2)=AL$2),AND(EVEN($A34)=$A34,EVEN(AL$2)=AL$2)),AL$1,-100))","v":665.625},{"$f":"IF('Ceiling Speaker Calculator'!$C$29=\"Square\",AM$1,IF(OR(AND(ODD($A34)=$A34,ODD(AM$2)=AM$2),AND(EVEN($A34)=$A34,EVEN(AM$2)=AM$2)),AM$1,-100))","v":684.375},{"$f":"IF('Ceiling Speaker Calculator'!$C$29=\"Square\",AN$1,IF(OR(AND(ODD($A34)=$A34,ODD(AN$2)=AN$2),AND(EVEN($A34)=$A34,EVEN(AN$2)=AN$2)),AN$1,-100))","v":703.125},{"$f":"IF('Ceiling Speaker Calculator'!$C$29=\"Square\",AO$1,IF(OR(AND(ODD($A34)=$A34,ODD(AO$2)=AO$2),AND(EVEN($A34)=$A34,EVEN(AO$2)=AO$2)),AO$1,-100))","v":721.875},{"$f":"IF('Ceiling Speaker Calculator'!$C$29=\"Square\",AP$1,IF(OR(AND(ODD($A34)=$A34,ODD(AP$2)=AP$2),AND(EVEN($A34)=$A34,EVEN(AP$2)=AP$2)),AP$1,-100))","v":740.625},{"$f":"IF('Ceiling Speaker Calculator'!$C$29=\"Square\",AQ$1,IF(OR(AND(ODD($A34)=$A34,ODD(AQ$2)=AQ$2),AND(EVEN($A34)=$A34,EVEN(AQ$2)=AQ$2)),AQ$1,-100))","v":759.375},{"$f":"IF('Ceiling Speaker Calculator'!$C$29=\"Square\",AR$1,IF(OR(AND(ODD($A34)=$A34,ODD(AR$2)=AR$2),AND(EVEN($A34)=$A34,EVEN(AR$2)=AR$2)),AR$1,-100))","v":778.125},{"$f":"IF('Ceiling Speaker Calculator'!$C$29=\"Square\",AS$1,IF(OR(AND(ODD($A34)=$A34,ODD(AS$2)=AS$2),AND(EVEN($A34)=$A34,EVEN(AS$2)=AS$2)),AS$1,-100))","v":796.875},{"$f":"IF('Ceiling Speaker Calculator'!$C$29=\"Square\",AT$1,IF(OR(AND(ODD($A34)=$A34,ODD(AT$2)=AT$2),AND(EVEN($A34)=$A34,EVEN(AT$2)=AT$2)),AT$1,-100))","v":815.625},{"$f":"IF('Ceiling Speaker Calculator'!$C$29=\"Square\",AU$1,IF(OR(AND(ODD($A34)=$A34,ODD(AU$2)=AU$2),AND(EVEN($A34)=$A34,EVEN(AU$2)=AU$2)),AU$1,-100))","v":834.375},{"$f":"IF('Ceiling Speaker Calculator'!$C$29=\"Square\",AV$1,IF(OR(AND(ODD($A34)=$A34,ODD(AV$2)=AV$2),AND(EVEN($A34)=$A34,EVEN(AV$2)=AV$2)),AV$1,-100))","v":853.125},{"$f":"IF('Ceiling Speaker Calculator'!$C$29=\"Square\",AW$1,IF(OR(AND(ODD($A34)=$A34,ODD(AW$2)=AW$2),AND(EVEN($A34)=$A34,EVEN(AW$2)=AW$2)),AW$1,-100))","v":871.875},{"$f":"IF('Ceiling Speaker Calculator'!$C$29=\"Square\",AX$1,IF(OR(AND(ODD($A34)=$A34,ODD(AX$2)=AX$2),AND(EVEN($A34)=$A34,EVEN(AX$2)=AX$2)),AX$1,-100))","v":890.625},{"$f":"IF('Ceiling Speaker Calculator'!$C$29=\"Square\",AY$1,IF(OR(AND(ODD($A34)=$A34,ODD(AY$2)=AY$2),AND(EVEN($A34)=$A34,EVEN(AY$2)=AY$2)),AY$1,-100))","v":909.375},{"$f":"IF('Ceiling Speaker Calculator'!$C$29=\"Square\",AZ$1,IF(OR(AND(ODD($A34)=$A34,ODD(AZ$2)=AZ$2),AND(EVEN($A34)=$A34,EVEN(AZ$2)=AZ$2)),AZ$1,-100))","v":928.125},{"$f":"IF('Ceiling Speaker Calculator'!$C$29=\"Square\",BA$1,IF(OR(AND(ODD($A34)=$A34,ODD(BA$2)=BA$2),AND(EVEN($A34)=$A34,EVEN(BA$2)=BA$2)),BA$1,-100))","v":946.875},{"$f":"IF('Ceiling Speaker Calculator'!$C$29=\"Square\",BB$1,IF(OR(AND(ODD($A34)=$A34,ODD(BB$2)=BB$2),AND(EVEN($A34)=$A34,EVEN(BB$2)=BB$2)),BB$1,-100))","v":965.625},{"$f":"IF('Ceiling Speaker Calculator'!$C$29=\"Square\",BC$1,IF(OR(AND(ODD($A34)=$A34,ODD(BC$2)=BC$2),AND(EVEN($A34)=$A34,EVEN(BC$2)=BC$2)),BC$1,-100))","v":984.375},{"$f":"IF('Ceiling Speaker Calculator'!$C$29=\"Square\",BD$1,IF(OR(AND(ODD($A34)=$A34,ODD(BD$2)=BD$2),AND(EVEN($A34)=$A34,EVEN(BD$2)=BD$2)),BD$1,-100))","v":1003.125},{"$f":"IF('Ceiling Speaker Calculator'!$C$29=\"Square\",BE$1,IF(OR(AND(ODD($A34)=$A34,ODD(BE$2)=BE$2),AND(EVEN($A34)=$A34,EVEN(BE$2)=BE$2)),BE$1,-100))","v":1021.875},{"$f":"IF('Ceiling Speaker Calculator'!$C$29=\"Square\",BF$1,IF(OR(AND(ODD($A34)=$A34,ODD(BF$2)=BF$2),AND(EVEN($A34)=$A34,EVEN(BF$2)=BF$2)),BF$1,-100))","v":1040.625},{"$f":"IF('Ceiling Speaker Calculator'!$C$29=\"Square\",BG$1,IF(OR(AND(ODD($A34)=$A34,ODD(BG$2)=BG$2),AND(EVEN($A34)=$A34,EVEN(BG$2)=BG$2)),BG$1,-100))","v":1059.375},{"$f":"IF('Ceiling Speaker Calculator'!$C$29=\"Square\",BH$1,IF(OR(AND(ODD($A34)=$A34,ODD(BH$2)=BH$2),AND(EVEN($A34)=$A34,EVEN(BH$2)=BH$2)),BH$1,-100))","v":1078.125},{"$f":"IF('Ceiling Speaker Calculator'!$C$29=\"Square\",BI$1,IF(OR(AND(ODD($A34)=$A34,ODD(BI$2)=BI$2),AND(EVEN($A34)=$A34,EVEN(BI$2)=BI$2)),BI$1,-100))","v":1096.875},{"$f":"IF('Ceiling Speaker Calculator'!$C$29=\"Square\",BJ$1,IF(OR(AND(ODD($A34)=$A34,ODD(BJ$2)=BJ$2),AND(EVEN($A34)=$A34,EVEN(BJ$2)=BJ$2)),BJ$1,-100))","v":1115.625},{"$f":"IF('Ceiling Speaker Calculator'!$C$29=\"Square\",BK$1,IF(OR(AND(ODD($A34)=$A34,ODD(BK$2)=BK$2),AND(EVEN($A34)=$A34,EVEN(BK$2)=BK$2)),BK$1,-100))","v":1134.375},{"$f":"IF('Ceiling Speaker Calculator'!$C$29=\"Square\",BL$1,IF(OR(AND(ODD($A34)=$A34,ODD(BL$2)=BL$2),AND(EVEN($A34)=$A34,EVEN(BL$2)=BL$2)),BL$1,-100))","v":1153.125},{"$f":"IF('Ceiling Speaker Calculator'!$C$29=\"Square\",BM$1,IF(OR(AND(ODD($A34)=$A34,ODD(BM$2)=BM$2),AND(EVEN($A34)=$A34,EVEN(BM$2)=BM$2)),BM$1,-100))","v":1171.875},{"$f":"IF('Ceiling Speaker Calculator'!$C$29=\"Square\",BN$1,IF(OR(AND(ODD($A34)=$A34,ODD(BN$2)=BN$2),AND(EVEN($A34)=$A34,EVEN(BN$2)=BN$2)),BN$1,-100))","v":1190.625},{"$f":"IF('Ceiling Speaker Calculator'!$C$29=\"Square\",BO$1,IF(OR(AND(ODD($A34)=$A34,ODD(BO$2)=BO$2),AND(EVEN($A34)=$A34,EVEN(BO$2)=BO$2)),BO$1,-100))","v":1209.375},{"$f":"IF('Ceiling Speaker Calculator'!$C$29=\"Square\",BP$1,IF(OR(AND(ODD($A34)=$A34,ODD(BP$2)=BP$2),AND(EVEN($A34)=$A34,EVEN(BP$2)=BP$2)),BP$1,-100))","v":1228.125},{"$f":"IF('Ceiling Speaker Calculator'!$C$29=\"Square\",BQ$1,IF(OR(AND(ODD($A34)=$A34,ODD(BQ$2)=BQ$2),AND(EVEN($A34)=$A34,EVEN(BQ$2)=BQ$2)),BQ$1,-100))","v":1246.875},{"$f":"IF('Ceiling Speaker Calculator'!$C$29=\"Square\",BR$1,IF(OR(AND(ODD($A34)=$A34,ODD(BR$2)=BR$2),AND(EVEN($A34)=$A34,EVEN(BR$2)=BR$2)),BR$1,-100))","v":1265.625},{"$f":"IF('Ceiling Speaker Calculator'!$C$29=\"Square\",BS$1,IF(OR(AND(ODD($A34)=$A34,ODD(BS$2)=BS$2),AND(EVEN($A34)=$A34,EVEN(BS$2)=BS$2)),BS$1,-100))","v":1284.375},{"$f":"IF('Ceiling Speaker Calculator'!$C$29=\"Square\",BT$1,IF(OR(AND(ODD($A34)=$A34,ODD(BT$2)=BT$2),AND(EVEN($A34)=$A34,EVEN(BT$2)=BT$2)),BT$1,-100))","v":1303.125},{"$f":"IF('Ceiling Speaker Calculator'!$C$29=\"Square\",BU$1,IF(OR(AND(ODD($A34)=$A34,ODD(BU$2)=BU$2),AND(EVEN($A34)=$A34,EVEN(BU$2)=BU$2)),BU$1,-100))","v":1321.875},{"$f":"IF('Ceiling Speaker Calculator'!$C$29=\"Square\",BV$1,IF(OR(AND(ODD($A34)=$A34,ODD(BV$2)=BV$2),AND(EVEN($A34)=$A34,EVEN(BV$2)=BV$2)),BV$1,-100))","v":1340.625},{"$f":"IF('Ceiling Speaker Calculator'!$C$29=\"Square\",BW$1,IF(OR(AND(ODD($A34)=$A34,ODD(BW$2)=BW$2),AND(EVEN($A34)=$A34,EVEN(BW$2)=BW$2)),BW$1,-100))","v":1359.375},{"$f":"IF('Ceiling Speaker Calculator'!$C$29=\"Square\",BX$1,IF(OR(AND(ODD($A34)=$A34,ODD(BX$2)=BX$2),AND(EVEN($A34)=$A34,EVEN(BX$2)=BX$2)),BX$1,-100))","v":1378.125},{"$f":"IF('Ceiling Speaker Calculator'!$C$29=\"Square\",BY$1,IF(OR(AND(ODD($A34)=$A34,ODD(BY$2)=BY$2),AND(EVEN($A34)=$A34,EVEN(BY$2)=BY$2)),BY$1,-100))","v":1396.875},{"$f":"IF('Ceiling Speaker Calculator'!$C$29=\"Square\",BZ$1,IF(OR(AND(ODD($A34)=$A34,ODD(BZ$2)=BZ$2),AND(EVEN($A34)=$A34,EVEN(BZ$2)=BZ$2)),BZ$1,-100))","v":1415.625},{"$f":"IF('Ceiling Speaker Calculator'!$C$29=\"Square\",CA$1,IF(OR(AND(ODD($A34)=$A34,ODD(CA$2)=CA$2),AND(EVEN($A34)=$A34,EVEN(CA$2)=CA$2)),CA$1,-100))","v":1434.375},{"$f":"IF('Ceiling Speaker Calculator'!$C$29=\"Square\",CB$1,IF(OR(AND(ODD($A34)=$A34,ODD(CB$2)=CB$2),AND(EVEN($A34)=$A34,EVEN(CB$2)=CB$2)),CB$1,-100))","v":1453.125},{"$f":"IF('Ceiling Speaker Calculator'!$C$29=\"Square\",CC$1,IF(OR(AND(ODD($A34)=$A34,ODD(CC$2)=CC$2),AND(EVEN($A34)=$A34,EVEN(CC$2)=CC$2)),CC$1,-100))","v":1471.875},{"$f":"IF('Ceiling Speaker Calculator'!$C$29=\"Square\",CD$1,IF(OR(AND(ODD($A34)=$A34,ODD(CD$2)=CD$2),AND(EVEN($A34)=$A34,EVEN(CD$2)=CD$2)),CD$1,-100))","v":1490.625},{"$f":"IF('Ceiling Speaker Calculator'!$C$29=\"Square\",CE$1,IF(OR(AND(ODD($A34)=$A34,ODD(CE$2)=CE$2),AND(EVEN($A34)=$A34,EVEN(CE$2)=CE$2)),CE$1,-100))","v":1509.375},{"$f":"IF('Ceiling Speaker Calculator'!$C$29=\"Square\",CF$1,IF(OR(AND(ODD($A34)=$A34,ODD(CF$2)=CF$2),AND(EVEN($A34)=$A34,EVEN(CF$2)=CF$2)),CF$1,-100))","v":1528.125},{"$f":"IF('Ceiling Speaker Calculator'!$C$29=\"Square\",CG$1,IF(OR(AND(ODD($A34)=$A34,ODD(CG$2)=CG$2),AND(EVEN($A34)=$A34,EVEN(CG$2)=CG$2)),CG$1,-100))","v":1546.875},{"$f":"IF('Ceiling Speaker Calculator'!$C$29=\"Square\",CH$1,IF(OR(AND(ODD($A34)=$A34,ODD(CH$2)=CH$2),AND(EVEN($A34)=$A34,EVEN(CH$2)=CH$2)),CH$1,-100))","v":1565.625},{"$f":"IF('Ceiling Speaker Calculator'!$C$29=\"Square\",CI$1,IF(OR(AND(ODD($A34)=$A34,ODD(CI$2)=CI$2),AND(EVEN($A34)=$A34,EVEN(CI$2)=CI$2)),CI$1,-100))","v":1584.375},{"$f":"IF('Ceiling Speaker Calculator'!$C$29=\"Square\",CJ$1,IF(OR(AND(ODD($A34)=$A34,ODD(CJ$2)=CJ$2),AND(EVEN($A34)=$A34,EVEN(CJ$2)=CJ$2)),CJ$1,-100))","v":1603.125},{"$f":"IF('Ceiling Speaker Calculator'!$C$29=\"Square\",CK$1,IF(OR(AND(ODD($A34)=$A34,ODD(CK$2)=CK$2),AND(EVEN($A34)=$A34,EVEN(CK$2)=CK$2)),CK$1,-100))","v":1621.875},{"$f":"IF('Ceiling Speaker Calculator'!$C$29=\"Square\",CL$1,IF(OR(AND(ODD($A34)=$A34,ODD(CL$2)=CL$2),AND(EVEN($A34)=$A34,EVEN(CL$2)=CL$2)),CL$1,-100))","v":1640.625},{"$f":"IF('Ceiling Speaker Calculator'!$C$29=\"Square\",CM$1,IF(OR(AND(ODD($A34)=$A34,ODD(CM$2)=CM$2),AND(EVEN($A34)=$A34,EVEN(CM$2)=CM$2)),CM$1,-100))","v":1659.375},{"$f":"IF('Ceiling Speaker Calculator'!$C$29=\"Square\",CN$1,IF(OR(AND(ODD($A34)=$A34,ODD(CN$2)=CN$2),AND(EVEN($A34)=$A34,EVEN(CN$2)=CN$2)),CN$1,-100))","v":1678.125},{"$f":"IF('Ceiling Speaker Calculator'!$C$29=\"Square\",CO$1,IF(OR(AND(ODD($A34)=$A34,ODD(CO$2)=CO$2),AND(EVEN($A34)=$A34,EVEN(CO$2)=CO$2)),CO$1,-100))","v":1696.875},{"$f":"IF('Ceiling Speaker Calculator'!$C$29=\"Square\",CP$1,IF(OR(AND(ODD($A34)=$A34,ODD(CP$2)=CP$2),AND(EVEN($A34)=$A34,EVEN(CP$2)=CP$2)),CP$1,-100))","v":1715.625},{"$f":"IF('Ceiling Speaker Calculator'!$C$29=\"Square\",CQ$1,IF(OR(AND(ODD($A34)=$A34,ODD(CQ$2)=CQ$2),AND(EVEN($A34)=$A34,EVEN(CQ$2)=CQ$2)),CQ$1,-100))","v":1734.375},{"$f":"IF('Ceiling Speaker Calculator'!$C$29=\"Square\",CR$1,IF(OR(AND(ODD($A34)=$A34,ODD(CR$2)=CR$2),AND(EVEN($A34)=$A34,EVEN(CR$2)=CR$2)),CR$1,-100))","v":1753.125},{"$f":"IF('Ceiling Speaker Calculator'!$C$29=\"Square\",CS$1,IF(OR(AND(ODD($A34)=$A34,ODD(CS$2)=CS$2),AND(EVEN($A34)=$A34,EVEN(CS$2)=CS$2)),CS$1,-100))","v":1771.875},{"$f":"IF('Ceiling Speaker Calculator'!$C$29=\"Square\",CT$1,IF(OR(AND(ODD($A34)=$A34,ODD(CT$2)=CT$2),AND(EVEN($A34)=$A34,EVEN(CT$2)=CT$2)),CT$1,-100))","v":1790.625},{"$f":"IF('Ceiling Speaker Calculator'!$C$29=\"Square\",CU$1,IF(OR(AND(ODD($A34)=$A34,ODD(CU$2)=CU$2),AND(EVEN($A34)=$A34,EVEN(CU$2)=CU$2)),CU$1,-100))","v":1809.375},{"$f":"IF('Ceiling Speaker Calculator'!$C$29=\"Square\",CV$1,IF(OR(AND(ODD($A34)=$A34,ODD(CV$2)=CV$2),AND(EVEN($A34)=$A34,EVEN(CV$2)=CV$2)),CV$1,-100))","v":1828.125},{"$f":"IF('Ceiling Speaker Calculator'!$C$29=\"Square\",CW$1,IF(OR(AND(ODD($A34)=$A34,ODD(CW$2)=CW$2),AND(EVEN($A34)=$A34,EVEN(CW$2)=CW$2)),CW$1,-100))","v":1846.875},{"$f":"IF('Ceiling Speaker Calculator'!$C$29=\"Square\",CX$1,IF(OR(AND(ODD($A34)=$A34,ODD(CX$2)=CX$2),AND(EVEN($A34)=$A34,EVEN(CX$2)=CX$2)),CX$1,-100))","v":1865.625}]
[33,{"$f":"B34+'Ceiling Speaker Calculator'!$K$16","v":650},{"$f":"IF('Ceiling Speaker Calculator'!$C$29=\"Square\",C$1,IF(OR(AND(ODD($A35)=$A35,ODD(C$2)=C$2),AND(EVEN($A35)=$A35,EVEN(C$2)=C$2)),C$1,-100))","v":9.375},{"$f":"IF('Ceiling Speaker Calculator'!$C$29=\"Square\",D$1,IF(OR(AND(ODD($A35)=$A35,ODD(D$2)=D$2),AND(EVEN($A35)=$A35,EVEN(D$2)=D$2)),D$1,-100))","v":28.125},{"$f":"IF('Ceiling Speaker Calculator'!$C$29=\"Square\",E$1,IF(OR(AND(ODD($A35)=$A35,ODD(E$2)=E$2),AND(EVEN($A35)=$A35,EVEN(E$2)=E$2)),E$1,-100))","v":46.875},{"$f":"IF('Ceiling Speaker Calculator'!$C$29=\"Square\",F$1,IF(OR(AND(ODD($A35)=$A35,ODD(F$2)=F$2),AND(EVEN($A35)=$A35,EVEN(F$2)=F$2)),F$1,-100))","v":65.625},{"$f":"IF('Ceiling Speaker Calculator'!$C$29=\"Square\",G$1,IF(OR(AND(ODD($A35)=$A35,ODD(G$2)=G$2),AND(EVEN($A35)=$A35,EVEN(G$2)=G$2)),G$1,-100))","v":84.375},{"$f":"IF('Ceiling Speaker Calculator'!$C$29=\"Square\",H$1,IF(OR(AND(ODD($A35)=$A35,ODD(H$2)=H$2),AND(EVEN($A35)=$A35,EVEN(H$2)=H$2)),H$1,-100))","v":103.125},{"$f":"IF('Ceiling Speaker Calculator'!$C$29=\"Square\",I$1,IF(OR(AND(ODD($A35)=$A35,ODD(I$2)=I$2),AND(EVEN($A35)=$A35,EVEN(I$2)=I$2)),I$1,-100))","v":121.875},{"$f":"IF('Ceiling Speaker Calculator'!$C$29=\"Square\",J$1,IF(OR(AND(ODD($A35)=$A35,ODD(J$2)=J$2),AND(EVEN($A35)=$A35,EVEN(J$2)=J$2)),J$1,-100))","v":140.625},{"$f":"IF('Ceiling Speaker Calculator'!$C$29=\"Square\",K$1,IF(OR(AND(ODD($A35)=$A35,ODD(K$2)=K$2),AND(EVEN($A35)=$A35,EVEN(K$2)=K$2)),K$1,-100))","v":159.375},{"$f":"IF('Ceiling Speaker Calculator'!$C$29=\"Square\",L$1,IF(OR(AND(ODD($A35)=$A35,ODD(L$2)=L$2),AND(EVEN($A35)=$A35,EVEN(L$2)=L$2)),L$1,-100))","v":178.125},{"$f":"IF('Ceiling Speaker Calculator'!$C$29=\"Square\",M$1,IF(OR(AND(ODD($A35)=$A35,ODD(M$2)=M$2),AND(EVEN($A35)=$A35,EVEN(M$2)=M$2)),M$1,-100))","v":196.875},{"$f":"IF('Ceiling Speaker Calculator'!$C$29=\"Square\",N$1,IF(OR(AND(ODD($A35)=$A35,ODD(N$2)=N$2),AND(EVEN($A35)=$A35,EVEN(N$2)=N$2)),N$1,-100))","v":215.625},{"$f":"IF('Ceiling Speaker Calculator'!$C$29=\"Square\",O$1,IF(OR(AND(ODD($A35)=$A35,ODD(O$2)=O$2),AND(EVEN($A35)=$A35,EVEN(O$2)=O$2)),O$1,-100))","v":234.375},{"$f":"IF('Ceiling Speaker Calculator'!$C$29=\"Square\",P$1,IF(OR(AND(ODD($A35)=$A35,ODD(P$2)=P$2),AND(EVEN($A35)=$A35,EVEN(P$2)=P$2)),P$1,-100))","v":253.125},{"$f":"IF('Ceiling Speaker Calculator'!$C$29=\"Square\",Q$1,IF(OR(AND(ODD($A35)=$A35,ODD(Q$2)=Q$2),AND(EVEN($A35)=$A35,EVEN(Q$2)=Q$2)),Q$1,-100))","v":271.875},{"$f":"IF('Ceiling Speaker Calculator'!$C$29=\"Square\",R$1,IF(OR(AND(ODD($A35)=$A35,ODD(R$2)=R$2),AND(EVEN($A35)=$A35,EVEN(R$2)=R$2)),R$1,-100))","v":290.625},{"$f":"IF('Ceiling Speaker Calculator'!$C$29=\"Square\",S$1,IF(OR(AND(ODD($A35)=$A35,ODD(S$2)=S$2),AND(EVEN($A35)=$A35,EVEN(S$2)=S$2)),S$1,-100))","v":309.375},{"$f":"IF('Ceiling Speaker Calculator'!$C$29=\"Square\",T$1,IF(OR(AND(ODD($A35)=$A35,ODD(T$2)=T$2),AND(EVEN($A35)=$A35,EVEN(T$2)=T$2)),T$1,-100))","v":328.125},{"$f":"IF('Ceiling Speaker Calculator'!$C$29=\"Square\",U$1,IF(OR(AND(ODD($A35)=$A35,ODD(U$2)=U$2),AND(EVEN($A35)=$A35,EVEN(U$2)=U$2)),U$1,-100))","v":346.875},{"$f":"IF('Ceiling Speaker Calculator'!$C$29=\"Square\",V$1,IF(OR(AND(ODD($A35)=$A35,ODD(V$2)=V$2),AND(EVEN($A35)=$A35,EVEN(V$2)=V$2)),V$1,-100))","v":365.625},{"$f":"IF('Ceiling Speaker Calculator'!$C$29=\"Square\",W$1,IF(OR(AND(ODD($A35)=$A35,ODD(W$2)=W$2),AND(EVEN($A35)=$A35,EVEN(W$2)=W$2)),W$1,-100))","v":384.375},{"$f":"IF('Ceiling Speaker Calculator'!$C$29=\"Square\",X$1,IF(OR(AND(ODD($A35)=$A35,ODD(X$2)=X$2),AND(EVEN($A35)=$A35,EVEN(X$2)=X$2)),X$1,-100))","v":403.125},{"$f":"IF('Ceiling Speaker Calculator'!$C$29=\"Square\",Y$1,IF(OR(AND(ODD($A35)=$A35,ODD(Y$2)=Y$2),AND(EVEN($A35)=$A35,EVEN(Y$2)=Y$2)),Y$1,-100))","v":421.875},{"$f":"IF('Ceiling Speaker Calculator'!$C$29=\"Square\",Z$1,IF(OR(AND(ODD($A35)=$A35,ODD(Z$2)=Z$2),AND(EVEN($A35)=$A35,EVEN(Z$2)=Z$2)),Z$1,-100))","v":440.625},{"$f":"IF('Ceiling Speaker Calculator'!$C$29=\"Square\",AA$1,IF(OR(AND(ODD($A35)=$A35,ODD(AA$2)=AA$2),AND(EVEN($A35)=$A35,EVEN(AA$2)=AA$2)),AA$1,-100))","v":459.375},{"$f":"IF('Ceiling Speaker Calculator'!$C$29=\"Square\",AB$1,IF(OR(AND(ODD($A35)=$A35,ODD(AB$2)=AB$2),AND(EVEN($A35)=$A35,EVEN(AB$2)=AB$2)),AB$1,-100))","v":478.125},{"$f":"IF('Ceiling Speaker Calculator'!$C$29=\"Square\",AC$1,IF(OR(AND(ODD($A35)=$A35,ODD(AC$2)=AC$2),AND(EVEN($A35)=$A35,EVEN(AC$2)=AC$2)),AC$1,-100))","v":496.875},{"$f":"IF('Ceiling Speaker Calculator'!$C$29=\"Square\",AD$1,IF(OR(AND(ODD($A35)=$A35,ODD(AD$2)=AD$2),AND(EVEN($A35)=$A35,EVEN(AD$2)=AD$2)),AD$1,-100))","v":515.625},{"$f":"IF('Ceiling Speaker Calculator'!$C$29=\"Square\",AE$1,IF(OR(AND(ODD($A35)=$A35,ODD(AE$2)=AE$2),AND(EVEN($A35)=$A35,EVEN(AE$2)=AE$2)),AE$1,-100))","v":534.375},{"$f":"IF('Ceiling Speaker Calculator'!$C$29=\"Square\",AF$1,IF(OR(AND(ODD($A35)=$A35,ODD(AF$2)=AF$2),AND(EVEN($A35)=$A35,EVEN(AF$2)=AF$2)),AF$1,-100))","v":553.125},{"$f":"IF('Ceiling Speaker Calculator'!$C$29=\"Square\",AG$1,IF(OR(AND(ODD($A35)=$A35,ODD(AG$2)=AG$2),AND(EVEN($A35)=$A35,EVEN(AG$2)=AG$2)),AG$1,-100))","v":571.875},{"$f":"IF('Ceiling Speaker Calculator'!$C$29=\"Square\",AH$1,IF(OR(AND(ODD($A35)=$A35,ODD(AH$2)=AH$2),AND(EVEN($A35)=$A35,EVEN(AH$2)=AH$2)),AH$1,-100))","v":590.625},{"$f":"IF('Ceiling Speaker Calculator'!$C$29=\"Square\",AI$1,IF(OR(AND(ODD($A35)=$A35,ODD(AI$2)=AI$2),AND(EVEN($A35)=$A35,EVEN(AI$2)=AI$2)),AI$1,-100))","v":609.375},{"$f":"IF('Ceiling Speaker Calculator'!$C$29=\"Square\",AJ$1,IF(OR(AND(ODD($A35)=$A35,ODD(AJ$2)=AJ$2),AND(EVEN($A35)=$A35,EVEN(AJ$2)=AJ$2)),AJ$1,-100))","v":628.125},{"$f":"IF('Ceiling Speaker Calculator'!$C$29=\"Square\",AK$1,IF(OR(AND(ODD($A35)=$A35,ODD(AK$2)=AK$2),AND(EVEN($A35)=$A35,EVEN(AK$2)=AK$2)),AK$1,-100))","v":646.875},{"$f":"IF('Ceiling Speaker Calculator'!$C$29=\"Square\",AL$1,IF(OR(AND(ODD($A35)=$A35,ODD(AL$2)=AL$2),AND(EVEN($A35)=$A35,EVEN(AL$2)=AL$2)),AL$1,-100))","v":665.625},{"$f":"IF('Ceiling Speaker Calculator'!$C$29=\"Square\",AM$1,IF(OR(AND(ODD($A35)=$A35,ODD(AM$2)=AM$2),AND(EVEN($A35)=$A35,EVEN(AM$2)=AM$2)),AM$1,-100))","v":684.375},{"$f":"IF('Ceiling Speaker Calculator'!$C$29=\"Square\",AN$1,IF(OR(AND(ODD($A35)=$A35,ODD(AN$2)=AN$2),AND(EVEN($A35)=$A35,EVEN(AN$2)=AN$2)),AN$1,-100))","v":703.125},{"$f":"IF('Ceiling Speaker Calculator'!$C$29=\"Square\",AO$1,IF(OR(AND(ODD($A35)=$A35,ODD(AO$2)=AO$2),AND(EVEN($A35)=$A35,EVEN(AO$2)=AO$2)),AO$1,-100))","v":721.875},{"$f":"IF('Ceiling Speaker Calculator'!$C$29=\"Square\",AP$1,IF(OR(AND(ODD($A35)=$A35,ODD(AP$2)=AP$2),AND(EVEN($A35)=$A35,EVEN(AP$2)=AP$2)),AP$1,-100))","v":740.625},{"$f":"IF('Ceiling Speaker Calculator'!$C$29=\"Square\",AQ$1,IF(OR(AND(ODD($A35)=$A35,ODD(AQ$2)=AQ$2),AND(EVEN($A35)=$A35,EVEN(AQ$2)=AQ$2)),AQ$1,-100))","v":759.375},{"$f":"IF('Ceiling Speaker Calculator'!$C$29=\"Square\",AR$1,IF(OR(AND(ODD($A35)=$A35,ODD(AR$2)=AR$2),AND(EVEN($A35)=$A35,EVEN(AR$2)=AR$2)),AR$1,-100))","v":778.125},{"$f":"IF('Ceiling Speaker Calculator'!$C$29=\"Square\",AS$1,IF(OR(AND(ODD($A35)=$A35,ODD(AS$2)=AS$2),AND(EVEN($A35)=$A35,EVEN(AS$2)=AS$2)),AS$1,-100))","v":796.875},{"$f":"IF('Ceiling Speaker Calculator'!$C$29=\"Square\",AT$1,IF(OR(AND(ODD($A35)=$A35,ODD(AT$2)=AT$2),AND(EVEN($A35)=$A35,EVEN(AT$2)=AT$2)),AT$1,-100))","v":815.625},{"$f":"IF('Ceiling Speaker Calculator'!$C$29=\"Square\",AU$1,IF(OR(AND(ODD($A35)=$A35,ODD(AU$2)=AU$2),AND(EVEN($A35)=$A35,EVEN(AU$2)=AU$2)),AU$1,-100))","v":834.375},{"$f":"IF('Ceiling Speaker Calculator'!$C$29=\"Square\",AV$1,IF(OR(AND(ODD($A35)=$A35,ODD(AV$2)=AV$2),AND(EVEN($A35)=$A35,EVEN(AV$2)=AV$2)),AV$1,-100))","v":853.125},{"$f":"IF('Ceiling Speaker Calculator'!$C$29=\"Square\",AW$1,IF(OR(AND(ODD($A35)=$A35,ODD(AW$2)=AW$2),AND(EVEN($A35)=$A35,EVEN(AW$2)=AW$2)),AW$1,-100))","v":871.875},{"$f":"IF('Ceiling Speaker Calculator'!$C$29=\"Square\",AX$1,IF(OR(AND(ODD($A35)=$A35,ODD(AX$2)=AX$2),AND(EVEN($A35)=$A35,EVEN(AX$2)=AX$2)),AX$1,-100))","v":890.625},{"$f":"IF('Ceiling Speaker Calculator'!$C$29=\"Square\",AY$1,IF(OR(AND(ODD($A35)=$A35,ODD(AY$2)=AY$2),AND(EVEN($A35)=$A35,EVEN(AY$2)=AY$2)),AY$1,-100))","v":909.375},{"$f":"IF('Ceiling Speaker Calculator'!$C$29=\"Square\",AZ$1,IF(OR(AND(ODD($A35)=$A35,ODD(AZ$2)=AZ$2),AND(EVEN($A35)=$A35,EVEN(AZ$2)=AZ$2)),AZ$1,-100))","v":928.125},{"$f":"IF('Ceiling Speaker Calculator'!$C$29=\"Square\",BA$1,IF(OR(AND(ODD($A35)=$A35,ODD(BA$2)=BA$2),AND(EVEN($A35)=$A35,EVEN(BA$2)=BA$2)),BA$1,-100))","v":946.875},{"$f":"IF('Ceiling Speaker Calculator'!$C$29=\"Square\",BB$1,IF(OR(AND(ODD($A35)=$A35,ODD(BB$2)=BB$2),AND(EVEN($A35)=$A35,EVEN(BB$2)=BB$2)),BB$1,-100))","v":965.625},{"$f":"IF('Ceiling Speaker Calculator'!$C$29=\"Square\",BC$1,IF(OR(AND(ODD($A35)=$A35,ODD(BC$2)=BC$2),AND(EVEN($A35)=$A35,EVEN(BC$2)=BC$2)),BC$1,-100))","v":984.375},{"$f":"IF('Ceiling Speaker Calculator'!$C$29=\"Square\",BD$1,IF(OR(AND(ODD($A35)=$A35,ODD(BD$2)=BD$2),AND(EVEN($A35)=$A35,EVEN(BD$2)=BD$2)),BD$1,-100))","v":1003.125},{"$f":"IF('Ceiling Speaker Calculator'!$C$29=\"Square\",BE$1,IF(OR(AND(ODD($A35)=$A35,ODD(BE$2)=BE$2),AND(EVEN($A35)=$A35,EVEN(BE$2)=BE$2)),BE$1,-100))","v":1021.875},{"$f":"IF('Ceiling Speaker Calculator'!$C$29=\"Square\",BF$1,IF(OR(AND(ODD($A35)=$A35,ODD(BF$2)=BF$2),AND(EVEN($A35)=$A35,EVEN(BF$2)=BF$2)),BF$1,-100))","v":1040.625},{"$f":"IF('Ceiling Speaker Calculator'!$C$29=\"Square\",BG$1,IF(OR(AND(ODD($A35)=$A35,ODD(BG$2)=BG$2),AND(EVEN($A35)=$A35,EVEN(BG$2)=BG$2)),BG$1,-100))","v":1059.375},{"$f":"IF('Ceiling Speaker Calculator'!$C$29=\"Square\",BH$1,IF(OR(AND(ODD($A35)=$A35,ODD(BH$2)=BH$2),AND(EVEN($A35)=$A35,EVEN(BH$2)=BH$2)),BH$1,-100))","v":1078.125},{"$f":"IF('Ceiling Speaker Calculator'!$C$29=\"Square\",BI$1,IF(OR(AND(ODD($A35)=$A35,ODD(BI$2)=BI$2),AND(EVEN($A35)=$A35,EVEN(BI$2)=BI$2)),BI$1,-100))","v":1096.875},{"$f":"IF('Ceiling Speaker Calculator'!$C$29=\"Square\",BJ$1,IF(OR(AND(ODD($A35)=$A35,ODD(BJ$2)=BJ$2),AND(EVEN($A35)=$A35,EVEN(BJ$2)=BJ$2)),BJ$1,-100))","v":1115.625},{"$f":"IF('Ceiling Speaker Calculator'!$C$29=\"Square\",BK$1,IF(OR(AND(ODD($A35)=$A35,ODD(BK$2)=BK$2),AND(EVEN($A35)=$A35,EVEN(BK$2)=BK$2)),BK$1,-100))","v":1134.375},{"$f":"IF('Ceiling Speaker Calculator'!$C$29=\"Square\",BL$1,IF(OR(AND(ODD($A35)=$A35,ODD(BL$2)=BL$2),AND(EVEN($A35)=$A35,EVEN(BL$2)=BL$2)),BL$1,-100))","v":1153.125},{"$f":"IF('Ceiling Speaker Calculator'!$C$29=\"Square\",BM$1,IF(OR(AND(ODD($A35)=$A35,ODD(BM$2)=BM$2),AND(EVEN($A35)=$A35,EVEN(BM$2)=BM$2)),BM$1,-100))","v":1171.875},{"$f":"IF('Ceiling Speaker Calculator'!$C$29=\"Square\",BN$1,IF(OR(AND(ODD($A35)=$A35,ODD(BN$2)=BN$2),AND(EVEN($A35)=$A35,EVEN(BN$2)=BN$2)),BN$1,-100))","v":1190.625},{"$f":"IF('Ceiling Speaker Calculator'!$C$29=\"Square\",BO$1,IF(OR(AND(ODD($A35)=$A35,ODD(BO$2)=BO$2),AND(EVEN($A35)=$A35,EVEN(BO$2)=BO$2)),BO$1,-100))","v":1209.375},{"$f":"IF('Ceiling Speaker Calculator'!$C$29=\"Square\",BP$1,IF(OR(AND(ODD($A35)=$A35,ODD(BP$2)=BP$2),AND(EVEN($A35)=$A35,EVEN(BP$2)=BP$2)),BP$1,-100))","v":1228.125},{"$f":"IF('Ceiling Speaker Calculator'!$C$29=\"Square\",BQ$1,IF(OR(AND(ODD($A35)=$A35,ODD(BQ$2)=BQ$2),AND(EVEN($A35)=$A35,EVEN(BQ$2)=BQ$2)),BQ$1,-100))","v":1246.875},{"$f":"IF('Ceiling Speaker Calculator'!$C$29=\"Square\",BR$1,IF(OR(AND(ODD($A35)=$A35,ODD(BR$2)=BR$2),AND(EVEN($A35)=$A35,EVEN(BR$2)=BR$2)),BR$1,-100))","v":1265.625},{"$f":"IF('Ceiling Speaker Calculator'!$C$29=\"Square\",BS$1,IF(OR(AND(ODD($A35)=$A35,ODD(BS$2)=BS$2),AND(EVEN($A35)=$A35,EVEN(BS$2)=BS$2)),BS$1,-100))","v":1284.375},{"$f":"IF('Ceiling Speaker Calculator'!$C$29=\"Square\",BT$1,IF(OR(AND(ODD($A35)=$A35,ODD(BT$2)=BT$2),AND(EVEN($A35)=$A35,EVEN(BT$2)=BT$2)),BT$1,-100))","v":1303.125},{"$f":"IF('Ceiling Speaker Calculator'!$C$29=\"Square\",BU$1,IF(OR(AND(ODD($A35)=$A35,ODD(BU$2)=BU$2),AND(EVEN($A35)=$A35,EVEN(BU$2)=BU$2)),BU$1,-100))","v":1321.875},{"$f":"IF('Ceiling Speaker Calculator'!$C$29=\"Square\",BV$1,IF(OR(AND(ODD($A35)=$A35,ODD(BV$2)=BV$2),AND(EVEN($A35)=$A35,EVEN(BV$2)=BV$2)),BV$1,-100))","v":1340.625},{"$f":"IF('Ceiling Speaker Calculator'!$C$29=\"Square\",BW$1,IF(OR(AND(ODD($A35)=$A35,ODD(BW$2)=BW$2),AND(EVEN($A35)=$A35,EVEN(BW$2)=BW$2)),BW$1,-100))","v":1359.375},{"$f":"IF('Ceiling Speaker Calculator'!$C$29=\"Square\",BX$1,IF(OR(AND(ODD($A35)=$A35,ODD(BX$2)=BX$2),AND(EVEN($A35)=$A35,EVEN(BX$2)=BX$2)),BX$1,-100))","v":1378.125},{"$f":"IF('Ceiling Speaker Calculator'!$C$29=\"Square\",BY$1,IF(OR(AND(ODD($A35)=$A35,ODD(BY$2)=BY$2),AND(EVEN($A35)=$A35,EVEN(BY$2)=BY$2)),BY$1,-100))","v":1396.875},{"$f":"IF('Ceiling Speaker Calculator'!$C$29=\"Square\",BZ$1,IF(OR(AND(ODD($A35)=$A35,ODD(BZ$2)=BZ$2),AND(EVEN($A35)=$A35,EVEN(BZ$2)=BZ$2)),BZ$1,-100))","v":1415.625},{"$f":"IF('Ceiling Speaker Calculator'!$C$29=\"Square\",CA$1,IF(OR(AND(ODD($A35)=$A35,ODD(CA$2)=CA$2),AND(EVEN($A35)=$A35,EVEN(CA$2)=CA$2)),CA$1,-100))","v":1434.375},{"$f":"IF('Ceiling Speaker Calculator'!$C$29=\"Square\",CB$1,IF(OR(AND(ODD($A35)=$A35,ODD(CB$2)=CB$2),AND(EVEN($A35)=$A35,EVEN(CB$2)=CB$2)),CB$1,-100))","v":1453.125},{"$f":"IF('Ceiling Speaker Calculator'!$C$29=\"Square\",CC$1,IF(OR(AND(ODD($A35)=$A35,ODD(CC$2)=CC$2),AND(EVEN($A35)=$A35,EVEN(CC$2)=CC$2)),CC$1,-100))","v":1471.875},{"$f":"IF('Ceiling Speaker Calculator'!$C$29=\"Square\",CD$1,IF(OR(AND(ODD($A35)=$A35,ODD(CD$2)=CD$2),AND(EVEN($A35)=$A35,EVEN(CD$2)=CD$2)),CD$1,-100))","v":1490.625},{"$f":"IF('Ceiling Speaker Calculator'!$C$29=\"Square\",CE$1,IF(OR(AND(ODD($A35)=$A35,ODD(CE$2)=CE$2),AND(EVEN($A35)=$A35,EVEN(CE$2)=CE$2)),CE$1,-100))","v":1509.375},{"$f":"IF('Ceiling Speaker Calculator'!$C$29=\"Square\",CF$1,IF(OR(AND(ODD($A35)=$A35,ODD(CF$2)=CF$2),AND(EVEN($A35)=$A35,EVEN(CF$2)=CF$2)),CF$1,-100))","v":1528.125},{"$f":"IF('Ceiling Speaker Calculator'!$C$29=\"Square\",CG$1,IF(OR(AND(ODD($A35)=$A35,ODD(CG$2)=CG$2),AND(EVEN($A35)=$A35,EVEN(CG$2)=CG$2)),CG$1,-100))","v":1546.875},{"$f":"IF('Ceiling Speaker Calculator'!$C$29=\"Square\",CH$1,IF(OR(AND(ODD($A35)=$A35,ODD(CH$2)=CH$2),AND(EVEN($A35)=$A35,EVEN(CH$2)=CH$2)),CH$1,-100))","v":1565.625},{"$f":"IF('Ceiling Speaker Calculator'!$C$29=\"Square\",CI$1,IF(OR(AND(ODD($A35)=$A35,ODD(CI$2)=CI$2),AND(EVEN($A35)=$A35,EVEN(CI$2)=CI$2)),CI$1,-100))","v":1584.375},{"$f":"IF('Ceiling Speaker Calculator'!$C$29=\"Square\",CJ$1,IF(OR(AND(ODD($A35)=$A35,ODD(CJ$2)=CJ$2),AND(EVEN($A35)=$A35,EVEN(CJ$2)=CJ$2)),CJ$1,-100))","v":1603.125},{"$f":"IF('Ceiling Speaker Calculator'!$C$29=\"Square\",CK$1,IF(OR(AND(ODD($A35)=$A35,ODD(CK$2)=CK$2),AND(EVEN($A35)=$A35,EVEN(CK$2)=CK$2)),CK$1,-100))","v":1621.875},{"$f":"IF('Ceiling Speaker Calculator'!$C$29=\"Square\",CL$1,IF(OR(AND(ODD($A35)=$A35,ODD(CL$2)=CL$2),AND(EVEN($A35)=$A35,EVEN(CL$2)=CL$2)),CL$1,-100))","v":1640.625},{"$f":"IF('Ceiling Speaker Calculator'!$C$29=\"Square\",CM$1,IF(OR(AND(ODD($A35)=$A35,ODD(CM$2)=CM$2),AND(EVEN($A35)=$A35,EVEN(CM$2)=CM$2)),CM$1,-100))","v":1659.375},{"$f":"IF('Ceiling Speaker Calculator'!$C$29=\"Square\",CN$1,IF(OR(AND(ODD($A35)=$A35,ODD(CN$2)=CN$2),AND(EVEN($A35)=$A35,EVEN(CN$2)=CN$2)),CN$1,-100))","v":1678.125},{"$f":"IF('Ceiling Speaker Calculator'!$C$29=\"Square\",CO$1,IF(OR(AND(ODD($A35)=$A35,ODD(CO$2)=CO$2),AND(EVEN($A35)=$A35,EVEN(CO$2)=CO$2)),CO$1,-100))","v":1696.875},{"$f":"IF('Ceiling Speaker Calculator'!$C$29=\"Square\",CP$1,IF(OR(AND(ODD($A35)=$A35,ODD(CP$2)=CP$2),AND(EVEN($A35)=$A35,EVEN(CP$2)=CP$2)),CP$1,-100))","v":1715.625},{"$f":"IF('Ceiling Speaker Calculator'!$C$29=\"Square\",CQ$1,IF(OR(AND(ODD($A35)=$A35,ODD(CQ$2)=CQ$2),AND(EVEN($A35)=$A35,EVEN(CQ$2)=CQ$2)),CQ$1,-100))","v":1734.375},{"$f":"IF('Ceiling Speaker Calculator'!$C$29=\"Square\",CR$1,IF(OR(AND(ODD($A35)=$A35,ODD(CR$2)=CR$2),AND(EVEN($A35)=$A35,EVEN(CR$2)=CR$2)),CR$1,-100))","v":1753.125},{"$f":"IF('Ceiling Speaker Calculator'!$C$29=\"Square\",CS$1,IF(OR(AND(ODD($A35)=$A35,ODD(CS$2)=CS$2),AND(EVEN($A35)=$A35,EVEN(CS$2)=CS$2)),CS$1,-100))","v":1771.875},{"$f":"IF('Ceiling Speaker Calculator'!$C$29=\"Square\",CT$1,IF(OR(AND(ODD($A35)=$A35,ODD(CT$2)=CT$2),AND(EVEN($A35)=$A35,EVEN(CT$2)=CT$2)),CT$1,-100))","v":1790.625},{"$f":"IF('Ceiling Speaker Calculator'!$C$29=\"Square\",CU$1,IF(OR(AND(ODD($A35)=$A35,ODD(CU$2)=CU$2),AND(EVEN($A35)=$A35,EVEN(CU$2)=CU$2)),CU$1,-100))","v":1809.375},{"$f":"IF('Ceiling Speaker Calculator'!$C$29=\"Square\",CV$1,IF(OR(AND(ODD($A35)=$A35,ODD(CV$2)=CV$2),AND(EVEN($A35)=$A35,EVEN(CV$2)=CV$2)),CV$1,-100))","v":1828.125},{"$f":"IF('Ceiling Speaker Calculator'!$C$29=\"Square\",CW$1,IF(OR(AND(ODD($A35)=$A35,ODD(CW$2)=CW$2),AND(EVEN($A35)=$A35,EVEN(CW$2)=CW$2)),CW$1,-100))","v":1846.875},{"$f":"IF('Ceiling Speaker Calculator'!$C$29=\"Square\",CX$1,IF(OR(AND(ODD($A35)=$A35,ODD(CX$2)=CX$2),AND(EVEN($A35)=$A35,EVEN(CX$2)=CX$2)),CX$1,-100))","v":1865.625}]
[34,{"$f":"B35+'Ceiling Speaker Calculator'!$K$16","v":670},{"$f":"IF('Ceiling Speaker Calculator'!$C$29=\"Square\",C$1,IF(OR(AND(ODD($A36)=$A36,ODD(C$2)=C$2),AND(EVEN($A36)=$A36,EVEN(C$2)=C$2)),C$1,-100))","v":9.375},{"$f":"IF('Ceiling Speaker Calculator'!$C$29=\"Square\",D$1,IF(OR(AND(ODD($A36)=$A36,ODD(D$2)=D$2),AND(EVEN($A36)=$A36,EVEN(D$2)=D$2)),D$1,-100))","v":28.125},{"$f":"IF('Ceiling Speaker Calculator'!$C$29=\"Square\",E$1,IF(OR(AND(ODD($A36)=$A36,ODD(E$2)=E$2),AND(EVEN($A36)=$A36,EVEN(E$2)=E$2)),E$1,-100))","v":46.875},{"$f":"IF('Ceiling Speaker Calculator'!$C$29=\"Square\",F$1,IF(OR(AND(ODD($A36)=$A36,ODD(F$2)=F$2),AND(EVEN($A36)=$A36,EVEN(F$2)=F$2)),F$1,-100))","v":65.625},{"$f":"IF('Ceiling Speaker Calculator'!$C$29=\"Square\",G$1,IF(OR(AND(ODD($A36)=$A36,ODD(G$2)=G$2),AND(EVEN($A36)=$A36,EVEN(G$2)=G$2)),G$1,-100))","v":84.375},{"$f":"IF('Ceiling Speaker Calculator'!$C$29=\"Square\",H$1,IF(OR(AND(ODD($A36)=$A36,ODD(H$2)=H$2),AND(EVEN($A36)=$A36,EVEN(H$2)=H$2)),H$1,-100))","v":103.125},{"$f":"IF('Ceiling Speaker Calculator'!$C$29=\"Square\",I$1,IF(OR(AND(ODD($A36)=$A36,ODD(I$2)=I$2),AND(EVEN($A36)=$A36,EVEN(I$2)=I$2)),I$1,-100))","v":121.875},{"$f":"IF('Ceiling Speaker Calculator'!$C$29=\"Square\",J$1,IF(OR(AND(ODD($A36)=$A36,ODD(J$2)=J$2),AND(EVEN($A36)=$A36,EVEN(J$2)=J$2)),J$1,-100))","v":140.625},{"$f":"IF('Ceiling Speaker Calculator'!$C$29=\"Square\",K$1,IF(OR(AND(ODD($A36)=$A36,ODD(K$2)=K$2),AND(EVEN($A36)=$A36,EVEN(K$2)=K$2)),K$1,-100))","v":159.375},{"$f":"IF('Ceiling Speaker Calculator'!$C$29=\"Square\",L$1,IF(OR(AND(ODD($A36)=$A36,ODD(L$2)=L$2),AND(EVEN($A36)=$A36,EVEN(L$2)=L$2)),L$1,-100))","v":178.125},{"$f":"IF('Ceiling Speaker Calculator'!$C$29=\"Square\",M$1,IF(OR(AND(ODD($A36)=$A36,ODD(M$2)=M$2),AND(EVEN($A36)=$A36,EVEN(M$2)=M$2)),M$1,-100))","v":196.875},{"$f":"IF('Ceiling Speaker Calculator'!$C$29=\"Square\",N$1,IF(OR(AND(ODD($A36)=$A36,ODD(N$2)=N$2),AND(EVEN($A36)=$A36,EVEN(N$2)=N$2)),N$1,-100))","v":215.625},{"$f":"IF('Ceiling Speaker Calculator'!$C$29=\"Square\",O$1,IF(OR(AND(ODD($A36)=$A36,ODD(O$2)=O$2),AND(EVEN($A36)=$A36,EVEN(O$2)=O$2)),O$1,-100))","v":234.375},{"$f":"IF('Ceiling Speaker Calculator'!$C$29=\"Square\",P$1,IF(OR(AND(ODD($A36)=$A36,ODD(P$2)=P$2),AND(EVEN($A36)=$A36,EVEN(P$2)=P$2)),P$1,-100))","v":253.125},{"$f":"IF('Ceiling Speaker Calculator'!$C$29=\"Square\",Q$1,IF(OR(AND(ODD($A36)=$A36,ODD(Q$2)=Q$2),AND(EVEN($A36)=$A36,EVEN(Q$2)=Q$2)),Q$1,-100))","v":271.875},{"$f":"IF('Ceiling Speaker Calculator'!$C$29=\"Square\",R$1,IF(OR(AND(ODD($A36)=$A36,ODD(R$2)=R$2),AND(EVEN($A36)=$A36,EVEN(R$2)=R$2)),R$1,-100))","v":290.625},{"$f":"IF('Ceiling Speaker Calculator'!$C$29=\"Square\",S$1,IF(OR(AND(ODD($A36)=$A36,ODD(S$2)=S$2),AND(EVEN($A36)=$A36,EVEN(S$2)=S$2)),S$1,-100))","v":309.375},{"$f":"IF('Ceiling Speaker Calculator'!$C$29=\"Square\",T$1,IF(OR(AND(ODD($A36)=$A36,ODD(T$2)=T$2),AND(EVEN($A36)=$A36,EVEN(T$2)=T$2)),T$1,-100))","v":328.125},{"$f":"IF('Ceiling Speaker Calculator'!$C$29=\"Square\",U$1,IF(OR(AND(ODD($A36)=$A36,ODD(U$2)=U$2),AND(EVEN($A36)=$A36,EVEN(U$2)=U$2)),U$1,-100))","v":346.875},{"$f":"IF('Ceiling Speaker Calculator'!$C$29=\"Square\",V$1,IF(OR(AND(ODD($A36)=$A36,ODD(V$2)=V$2),AND(EVEN($A36)=$A36,EVEN(V$2)=V$2)),V$1,-100))","v":365.625},{"$f":"IF('Ceiling Speaker Calculator'!$C$29=\"Square\",W$1,IF(OR(AND(ODD($A36)=$A36,ODD(W$2)=W$2),AND(EVEN($A36)=$A36,EVEN(W$2)=W$2)),W$1,-100))","v":384.375},{"$f":"IF('Ceiling Speaker Calculator'!$C$29=\"Square\",X$1,IF(OR(AND(ODD($A36)=$A36,ODD(X$2)=X$2),AND(EVEN($A36)=$A36,EVEN(X$2)=X$2)),X$1,-100))","v":403.125},{"$f":"IF('Ceiling Speaker Calculator'!$C$29=\"Square\",Y$1,IF(OR(AND(ODD($A36)=$A36,ODD(Y$2)=Y$2),AND(EVEN($A36)=$A36,EVEN(Y$2)=Y$2)),Y$1,-100))","v":421.875},{"$f":"IF('Ceiling Speaker Calculator'!$C$29=\"Square\",Z$1,IF(OR(AND(ODD($A36)=$A36,ODD(Z$2)=Z$2),AND(EVEN($A36)=$A36,EVEN(Z$2)=Z$2)),Z$1,-100))","v":440.625},{"$f":"IF('Ceiling Speaker Calculator'!$C$29=\"Square\",AA$1,IF(OR(AND(ODD($A36)=$A36,ODD(AA$2)=AA$2),AND(EVEN($A36)=$A36,EVEN(AA$2)=AA$2)),AA$1,-100))","v":459.375},{"$f":"IF('Ceiling Speaker Calculator'!$C$29=\"Square\",AB$1,IF(OR(AND(ODD($A36)=$A36,ODD(AB$2)=AB$2),AND(EVEN($A36)=$A36,EVEN(AB$2)=AB$2)),AB$1,-100))","v":478.125},{"$f":"IF('Ceiling Speaker Calculator'!$C$29=\"Square\",AC$1,IF(OR(AND(ODD($A36)=$A36,ODD(AC$2)=AC$2),AND(EVEN($A36)=$A36,EVEN(AC$2)=AC$2)),AC$1,-100))","v":496.875},{"$f":"IF('Ceiling Speaker Calculator'!$C$29=\"Square\",AD$1,IF(OR(AND(ODD($A36)=$A36,ODD(AD$2)=AD$2),AND(EVEN($A36)=$A36,EVEN(AD$2)=AD$2)),AD$1,-100))","v":515.625},{"$f":"IF('Ceiling Speaker Calculator'!$C$29=\"Square\",AE$1,IF(OR(AND(ODD($A36)=$A36,ODD(AE$2)=AE$2),AND(EVEN($A36)=$A36,EVEN(AE$2)=AE$2)),AE$1,-100))","v":534.375},{"$f":"IF('Ceiling Speaker Calculator'!$C$29=\"Square\",AF$1,IF(OR(AND(ODD($A36)=$A36,ODD(AF$2)=AF$2),AND(EVEN($A36)=$A36,EVEN(AF$2)=AF$2)),AF$1,-100))","v":553.125},{"$f":"IF('Ceiling Speaker Calculator'!$C$29=\"Square\",AG$1,IF(OR(AND(ODD($A36)=$A36,ODD(AG$2)=AG$2),AND(EVEN($A36)=$A36,EVEN(AG$2)=AG$2)),AG$1,-100))","v":571.875},{"$f":"IF('Ceiling Speaker Calculator'!$C$29=\"Square\",AH$1,IF(OR(AND(ODD($A36)=$A36,ODD(AH$2)=AH$2),AND(EVEN($A36)=$A36,EVEN(AH$2)=AH$2)),AH$1,-100))","v":590.625},{"$f":"IF('Ceiling Speaker Calculator'!$C$29=\"Square\",AI$1,IF(OR(AND(ODD($A36)=$A36,ODD(AI$2)=AI$2),AND(EVEN($A36)=$A36,EVEN(AI$2)=AI$2)),AI$1,-100))","v":609.375},{"$f":"IF('Ceiling Speaker Calculator'!$C$29=\"Square\",AJ$1,IF(OR(AND(ODD($A36)=$A36,ODD(AJ$2)=AJ$2),AND(EVEN($A36)=$A36,EVEN(AJ$2)=AJ$2)),AJ$1,-100))","v":628.125},{"$f":"IF('Ceiling Speaker Calculator'!$C$29=\"Square\",AK$1,IF(OR(AND(ODD($A36)=$A36,ODD(AK$2)=AK$2),AND(EVEN($A36)=$A36,EVEN(AK$2)=AK$2)),AK$1,-100))","v":646.875},{"$f":"IF('Ceiling Speaker Calculator'!$C$29=\"Square\",AL$1,IF(OR(AND(ODD($A36)=$A36,ODD(AL$2)=AL$2),AND(EVEN($A36)=$A36,EVEN(AL$2)=AL$2)),AL$1,-100))","v":665.625},{"$f":"IF('Ceiling Speaker Calculator'!$C$29=\"Square\",AM$1,IF(OR(AND(ODD($A36)=$A36,ODD(AM$2)=AM$2),AND(EVEN($A36)=$A36,EVEN(AM$2)=AM$2)),AM$1,-100))","v":684.375},{"$f":"IF('Ceiling Speaker Calculator'!$C$29=\"Square\",AN$1,IF(OR(AND(ODD($A36)=$A36,ODD(AN$2)=AN$2),AND(EVEN($A36)=$A36,EVEN(AN$2)=AN$2)),AN$1,-100))","v":703.125},{"$f":"IF('Ceiling Speaker Calculator'!$C$29=\"Square\",AO$1,IF(OR(AND(ODD($A36)=$A36,ODD(AO$2)=AO$2),AND(EVEN($A36)=$A36,EVEN(AO$2)=AO$2)),AO$1,-100))","v":721.875},{"$f":"IF('Ceiling Speaker Calculator'!$C$29=\"Square\",AP$1,IF(OR(AND(ODD($A36)=$A36,ODD(AP$2)=AP$2),AND(EVEN($A36)=$A36,EVEN(AP$2)=AP$2)),AP$1,-100))","v":740.625},{"$f":"IF('Ceiling Speaker Calculator'!$C$29=\"Square\",AQ$1,IF(OR(AND(ODD($A36)=$A36,ODD(AQ$2)=AQ$2),AND(EVEN($A36)=$A36,EVEN(AQ$2)=AQ$2)),AQ$1,-100))","v":759.375},{"$f":"IF('Ceiling Speaker Calculator'!$C$29=\"Square\",AR$1,IF(OR(AND(ODD($A36)=$A36,ODD(AR$2)=AR$2),AND(EVEN($A36)=$A36,EVEN(AR$2)=AR$2)),AR$1,-100))","v":778.125},{"$f":"IF('Ceiling Speaker Calculator'!$C$29=\"Square\",AS$1,IF(OR(AND(ODD($A36)=$A36,ODD(AS$2)=AS$2),AND(EVEN($A36)=$A36,EVEN(AS$2)=AS$2)),AS$1,-100))","v":796.875},{"$f":"IF('Ceiling Speaker Calculator'!$C$29=\"Square\",AT$1,IF(OR(AND(ODD($A36)=$A36,ODD(AT$2)=AT$2),AND(EVEN($A36)=$A36,EVEN(AT$2)=AT$2)),AT$1,-100))","v":815.625},{"$f":"IF('Ceiling Speaker Calculator'!$C$29=\"Square\",AU$1,IF(OR(AND(ODD($A36)=$A36,ODD(AU$2)=AU$2),AND(EVEN($A36)=$A36,EVEN(AU$2)=AU$2)),AU$1,-100))","v":834.375},{"$f":"IF('Ceiling Speaker Calculator'!$C$29=\"Square\",AV$1,IF(OR(AND(ODD($A36)=$A36,ODD(AV$2)=AV$2),AND(EVEN($A36)=$A36,EVEN(AV$2)=AV$2)),AV$1,-100))","v":853.125},{"$f":"IF('Ceiling Speaker Calculator'!$C$29=\"Square\",AW$1,IF(OR(AND(ODD($A36)=$A36,ODD(AW$2)=AW$2),AND(EVEN($A36)=$A36,EVEN(AW$2)=AW$2)),AW$1,-100))","v":871.875},{"$f":"IF('Ceiling Speaker Calculator'!$C$29=\"Square\",AX$1,IF(OR(AND(ODD($A36)=$A36,ODD(AX$2)=AX$2),AND(EVEN($A36)=$A36,EVEN(AX$2)=AX$2)),AX$1,-100))","v":890.625},{"$f":"IF('Ceiling Speaker Calculator'!$C$29=\"Square\",AY$1,IF(OR(AND(ODD($A36)=$A36,ODD(AY$2)=AY$2),AND(EVEN($A36)=$A36,EVEN(AY$2)=AY$2)),AY$1,-100))","v":909.375},{"$f":"IF('Ceiling Speaker Calculator'!$C$29=\"Square\",AZ$1,IF(OR(AND(ODD($A36)=$A36,ODD(AZ$2)=AZ$2),AND(EVEN($A36)=$A36,EVEN(AZ$2)=AZ$2)),AZ$1,-100))","v":928.125},{"$f":"IF('Ceiling Speaker Calculator'!$C$29=\"Square\",BA$1,IF(OR(AND(ODD($A36)=$A36,ODD(BA$2)=BA$2),AND(EVEN($A36)=$A36,EVEN(BA$2)=BA$2)),BA$1,-100))","v":946.875},{"$f":"IF('Ceiling Speaker Calculator'!$C$29=\"Square\",BB$1,IF(OR(AND(ODD($A36)=$A36,ODD(BB$2)=BB$2),AND(EVEN($A36)=$A36,EVEN(BB$2)=BB$2)),BB$1,-100))","v":965.625},{"$f":"IF('Ceiling Speaker Calculator'!$C$29=\"Square\",BC$1,IF(OR(AND(ODD($A36)=$A36,ODD(BC$2)=BC$2),AND(EVEN($A36)=$A36,EVEN(BC$2)=BC$2)),BC$1,-100))","v":984.375},{"$f":"IF('Ceiling Speaker Calculator'!$C$29=\"Square\",BD$1,IF(OR(AND(ODD($A36)=$A36,ODD(BD$2)=BD$2),AND(EVEN($A36)=$A36,EVEN(BD$2)=BD$2)),BD$1,-100))","v":1003.125},{"$f":"IF('Ceiling Speaker Calculator'!$C$29=\"Square\",BE$1,IF(OR(AND(ODD($A36)=$A36,ODD(BE$2)=BE$2),AND(EVEN($A36)=$A36,EVEN(BE$2)=BE$2)),BE$1,-100))","v":1021.875},{"$f":"IF('Ceiling Speaker Calculator'!$C$29=\"Square\",BF$1,IF(OR(AND(ODD($A36)=$A36,ODD(BF$2)=BF$2),AND(EVEN($A36)=$A36,EVEN(BF$2)=BF$2)),BF$1,-100))","v":1040.625},{"$f":"IF('Ceiling Speaker Calculator'!$C$29=\"Square\",BG$1,IF(OR(AND(ODD($A36)=$A36,ODD(BG$2)=BG$2),AND(EVEN($A36)=$A36,EVEN(BG$2)=BG$2)),BG$1,-100))","v":1059.375},{"$f":"IF('Ceiling Speaker Calculator'!$C$29=\"Square\",BH$1,IF(OR(AND(ODD($A36)=$A36,ODD(BH$2)=BH$2),AND(EVEN($A36)=$A36,EVEN(BH$2)=BH$2)),BH$1,-100))","v":1078.125},{"$f":"IF('Ceiling Speaker Calculator'!$C$29=\"Square\",BI$1,IF(OR(AND(ODD($A36)=$A36,ODD(BI$2)=BI$2),AND(EVEN($A36)=$A36,EVEN(BI$2)=BI$2)),BI$1,-100))","v":1096.875},{"$f":"IF('Ceiling Speaker Calculator'!$C$29=\"Square\",BJ$1,IF(OR(AND(ODD($A36)=$A36,ODD(BJ$2)=BJ$2),AND(EVEN($A36)=$A36,EVEN(BJ$2)=BJ$2)),BJ$1,-100))","v":1115.625},{"$f":"IF('Ceiling Speaker Calculator'!$C$29=\"Square\",BK$1,IF(OR(AND(ODD($A36)=$A36,ODD(BK$2)=BK$2),AND(EVEN($A36)=$A36,EVEN(BK$2)=BK$2)),BK$1,-100))","v":1134.375},{"$f":"IF('Ceiling Speaker Calculator'!$C$29=\"Square\",BL$1,IF(OR(AND(ODD($A36)=$A36,ODD(BL$2)=BL$2),AND(EVEN($A36)=$A36,EVEN(BL$2)=BL$2)),BL$1,-100))","v":1153.125},{"$f":"IF('Ceiling Speaker Calculator'!$C$29=\"Square\",BM$1,IF(OR(AND(ODD($A36)=$A36,ODD(BM$2)=BM$2),AND(EVEN($A36)=$A36,EVEN(BM$2)=BM$2)),BM$1,-100))","v":1171.875},{"$f":"IF('Ceiling Speaker Calculator'!$C$29=\"Square\",BN$1,IF(OR(AND(ODD($A36)=$A36,ODD(BN$2)=BN$2),AND(EVEN($A36)=$A36,EVEN(BN$2)=BN$2)),BN$1,-100))","v":1190.625},{"$f":"IF('Ceiling Speaker Calculator'!$C$29=\"Square\",BO$1,IF(OR(AND(ODD($A36)=$A36,ODD(BO$2)=BO$2),AND(EVEN($A36)=$A36,EVEN(BO$2)=BO$2)),BO$1,-100))","v":1209.375},{"$f":"IF('Ceiling Speaker Calculator'!$C$29=\"Square\",BP$1,IF(OR(AND(ODD($A36)=$A36,ODD(BP$2)=BP$2),AND(EVEN($A36)=$A36,EVEN(BP$2)=BP$2)),BP$1,-100))","v":1228.125},{"$f":"IF('Ceiling Speaker Calculator'!$C$29=\"Square\",BQ$1,IF(OR(AND(ODD($A36)=$A36,ODD(BQ$2)=BQ$2),AND(EVEN($A36)=$A36,EVEN(BQ$2)=BQ$2)),BQ$1,-100))","v":1246.875},{"$f":"IF('Ceiling Speaker Calculator'!$C$29=\"Square\",BR$1,IF(OR(AND(ODD($A36)=$A36,ODD(BR$2)=BR$2),AND(EVEN($A36)=$A36,EVEN(BR$2)=BR$2)),BR$1,-100))","v":1265.625},{"$f":"IF('Ceiling Speaker Calculator'!$C$29=\"Square\",BS$1,IF(OR(AND(ODD($A36)=$A36,ODD(BS$2)=BS$2),AND(EVEN($A36)=$A36,EVEN(BS$2)=BS$2)),BS$1,-100))","v":1284.375},{"$f":"IF('Ceiling Speaker Calculator'!$C$29=\"Square\",BT$1,IF(OR(AND(ODD($A36)=$A36,ODD(BT$2)=BT$2),AND(EVEN($A36)=$A36,EVEN(BT$2)=BT$2)),BT$1,-100))","v":1303.125},{"$f":"IF('Ceiling Speaker Calculator'!$C$29=\"Square\",BU$1,IF(OR(AND(ODD($A36)=$A36,ODD(BU$2)=BU$2),AND(EVEN($A36)=$A36,EVEN(BU$2)=BU$2)),BU$1,-100))","v":1321.875},{"$f":"IF('Ceiling Speaker Calculator'!$C$29=\"Square\",BV$1,IF(OR(AND(ODD($A36)=$A36,ODD(BV$2)=BV$2),AND(EVEN($A36)=$A36,EVEN(BV$2)=BV$2)),BV$1,-100))","v":1340.625},{"$f":"IF('Ceiling Speaker Calculator'!$C$29=\"Square\",BW$1,IF(OR(AND(ODD($A36)=$A36,ODD(BW$2)=BW$2),AND(EVEN($A36)=$A36,EVEN(BW$2)=BW$2)),BW$1,-100))","v":1359.375},{"$f":"IF('Ceiling Speaker Calculator'!$C$29=\"Square\",BX$1,IF(OR(AND(ODD($A36)=$A36,ODD(BX$2)=BX$2),AND(EVEN($A36)=$A36,EVEN(BX$2)=BX$2)),BX$1,-100))","v":1378.125},{"$f":"IF('Ceiling Speaker Calculator'!$C$29=\"Square\",BY$1,IF(OR(AND(ODD($A36)=$A36,ODD(BY$2)=BY$2),AND(EVEN($A36)=$A36,EVEN(BY$2)=BY$2)),BY$1,-100))","v":1396.875},{"$f":"IF('Ceiling Speaker Calculator'!$C$29=\"Square\",BZ$1,IF(OR(AND(ODD($A36)=$A36,ODD(BZ$2)=BZ$2),AND(EVEN($A36)=$A36,EVEN(BZ$2)=BZ$2)),BZ$1,-100))","v":1415.625},{"$f":"IF('Ceiling Speaker Calculator'!$C$29=\"Square\",CA$1,IF(OR(AND(ODD($A36)=$A36,ODD(CA$2)=CA$2),AND(EVEN($A36)=$A36,EVEN(CA$2)=CA$2)),CA$1,-100))","v":1434.375},{"$f":"IF('Ceiling Speaker Calculator'!$C$29=\"Square\",CB$1,IF(OR(AND(ODD($A36)=$A36,ODD(CB$2)=CB$2),AND(EVEN($A36)=$A36,EVEN(CB$2)=CB$2)),CB$1,-100))","v":1453.125},{"$f":"IF('Ceiling Speaker Calculator'!$C$29=\"Square\",CC$1,IF(OR(AND(ODD($A36)=$A36,ODD(CC$2)=CC$2),AND(EVEN($A36)=$A36,EVEN(CC$2)=CC$2)),CC$1,-100))","v":1471.875},{"$f":"IF('Ceiling Speaker Calculator'!$C$29=\"Square\",CD$1,IF(OR(AND(ODD($A36)=$A36,ODD(CD$2)=CD$2),AND(EVEN($A36)=$A36,EVEN(CD$2)=CD$2)),CD$1,-100))","v":1490.625},{"$f":"IF('Ceiling Speaker Calculator'!$C$29=\"Square\",CE$1,IF(OR(AND(ODD($A36)=$A36,ODD(CE$2)=CE$2),AND(EVEN($A36)=$A36,EVEN(CE$2)=CE$2)),CE$1,-100))","v":1509.375},{"$f":"IF('Ceiling Speaker Calculator'!$C$29=\"Square\",CF$1,IF(OR(AND(ODD($A36)=$A36,ODD(CF$2)=CF$2),AND(EVEN($A36)=$A36,EVEN(CF$2)=CF$2)),CF$1,-100))","v":1528.125},{"$f":"IF('Ceiling Speaker Calculator'!$C$29=\"Square\",CG$1,IF(OR(AND(ODD($A36)=$A36,ODD(CG$2)=CG$2),AND(EVEN($A36)=$A36,EVEN(CG$2)=CG$2)),CG$1,-100))","v":1546.875},{"$f":"IF('Ceiling Speaker Calculator'!$C$29=\"Square\",CH$1,IF(OR(AND(ODD($A36)=$A36,ODD(CH$2)=CH$2),AND(EVEN($A36)=$A36,EVEN(CH$2)=CH$2)),CH$1,-100))","v":1565.625},{"$f":"IF('Ceiling Speaker Calculator'!$C$29=\"Square\",CI$1,IF(OR(AND(ODD($A36)=$A36,ODD(CI$2)=CI$2),AND(EVEN($A36)=$A36,EVEN(CI$2)=CI$2)),CI$1,-100))","v":1584.375},{"$f":"IF('Ceiling Speaker Calculator'!$C$29=\"Square\",CJ$1,IF(OR(AND(ODD($A36)=$A36,ODD(CJ$2)=CJ$2),AND(EVEN($A36)=$A36,EVEN(CJ$2)=CJ$2)),CJ$1,-100))","v":1603.125},{"$f":"IF('Ceiling Speaker Calculator'!$C$29=\"Square\",CK$1,IF(OR(AND(ODD($A36)=$A36,ODD(CK$2)=CK$2),AND(EVEN($A36)=$A36,EVEN(CK$2)=CK$2)),CK$1,-100))","v":1621.875},{"$f":"IF('Ceiling Speaker Calculator'!$C$29=\"Square\",CL$1,IF(OR(AND(ODD($A36)=$A36,ODD(CL$2)=CL$2),AND(EVEN($A36)=$A36,EVEN(CL$2)=CL$2)),CL$1,-100))","v":1640.625},{"$f":"IF('Ceiling Speaker Calculator'!$C$29=\"Square\",CM$1,IF(OR(AND(ODD($A36)=$A36,ODD(CM$2)=CM$2),AND(EVEN($A36)=$A36,EVEN(CM$2)=CM$2)),CM$1,-100))","v":1659.375},{"$f":"IF('Ceiling Speaker Calculator'!$C$29=\"Square\",CN$1,IF(OR(AND(ODD($A36)=$A36,ODD(CN$2)=CN$2),AND(EVEN($A36)=$A36,EVEN(CN$2)=CN$2)),CN$1,-100))","v":1678.125},{"$f":"IF('Ceiling Speaker Calculator'!$C$29=\"Square\",CO$1,IF(OR(AND(ODD($A36)=$A36,ODD(CO$2)=CO$2),AND(EVEN($A36)=$A36,EVEN(CO$2)=CO$2)),CO$1,-100))","v":1696.875},{"$f":"IF('Ceiling Speaker Calculator'!$C$29=\"Square\",CP$1,IF(OR(AND(ODD($A36)=$A36,ODD(CP$2)=CP$2),AND(EVEN($A36)=$A36,EVEN(CP$2)=CP$2)),CP$1,-100))","v":1715.625},{"$f":"IF('Ceiling Speaker Calculator'!$C$29=\"Square\",CQ$1,IF(OR(AND(ODD($A36)=$A36,ODD(CQ$2)=CQ$2),AND(EVEN($A36)=$A36,EVEN(CQ$2)=CQ$2)),CQ$1,-100))","v":1734.375},{"$f":"IF('Ceiling Speaker Calculator'!$C$29=\"Square\",CR$1,IF(OR(AND(ODD($A36)=$A36,ODD(CR$2)=CR$2),AND(EVEN($A36)=$A36,EVEN(CR$2)=CR$2)),CR$1,-100))","v":1753.125},{"$f":"IF('Ceiling Speaker Calculator'!$C$29=\"Square\",CS$1,IF(OR(AND(ODD($A36)=$A36,ODD(CS$2)=CS$2),AND(EVEN($A36)=$A36,EVEN(CS$2)=CS$2)),CS$1,-100))","v":1771.875},{"$f":"IF('Ceiling Speaker Calculator'!$C$29=\"Square\",CT$1,IF(OR(AND(ODD($A36)=$A36,ODD(CT$2)=CT$2),AND(EVEN($A36)=$A36,EVEN(CT$2)=CT$2)),CT$1,-100))","v":1790.625},{"$f":"IF('Ceiling Speaker Calculator'!$C$29=\"Square\",CU$1,IF(OR(AND(ODD($A36)=$A36,ODD(CU$2)=CU$2),AND(EVEN($A36)=$A36,EVEN(CU$2)=CU$2)),CU$1,-100))","v":1809.375},{"$f":"IF('Ceiling Speaker Calculator'!$C$29=\"Square\",CV$1,IF(OR(AND(ODD($A36)=$A36,ODD(CV$2)=CV$2),AND(EVEN($A36)=$A36,EVEN(CV$2)=CV$2)),CV$1,-100))","v":1828.125},{"$f":"IF('Ceiling Speaker Calculator'!$C$29=\"Square\",CW$1,IF(OR(AND(ODD($A36)=$A36,ODD(CW$2)=CW$2),AND(EVEN($A36)=$A36,EVEN(CW$2)=CW$2)),CW$1,-100))","v":1846.875},{"$f":"IF('Ceiling Speaker Calculator'!$C$29=\"Square\",CX$1,IF(OR(AND(ODD($A36)=$A36,ODD(CX$2)=CX$2),AND(EVEN($A36)=$A36,EVEN(CX$2)=CX$2)),CX$1,-100))","v":1865.625}]
[35,{"$f":"B36+'Ceiling Speaker Calculator'!$K$16","v":690},{"$f":"IF('Ceiling Speaker Calculator'!$C$29=\"Square\",C$1,IF(OR(AND(ODD($A37)=$A37,ODD(C$2)=C$2),AND(EVEN($A37)=$A37,EVEN(C$2)=C$2)),C$1,-100))","v":9.375},{"$f":"IF('Ceiling Speaker Calculator'!$C$29=\"Square\",D$1,IF(OR(AND(ODD($A37)=$A37,ODD(D$2)=D$2),AND(EVEN($A37)=$A37,EVEN(D$2)=D$2)),D$1,-100))","v":28.125},{"$f":"IF('Ceiling Speaker Calculator'!$C$29=\"Square\",E$1,IF(OR(AND(ODD($A37)=$A37,ODD(E$2)=E$2),AND(EVEN($A37)=$A37,EVEN(E$2)=E$2)),E$1,-100))","v":46.875},{"$f":"IF('Ceiling Speaker Calculator'!$C$29=\"Square\",F$1,IF(OR(AND(ODD($A37)=$A37,ODD(F$2)=F$2),AND(EVEN($A37)=$A37,EVEN(F$2)=F$2)),F$1,-100))","v":65.625},{"$f":"IF('Ceiling Speaker Calculator'!$C$29=\"Square\",G$1,IF(OR(AND(ODD($A37)=$A37,ODD(G$2)=G$2),AND(EVEN($A37)=$A37,EVEN(G$2)=G$2)),G$1,-100))","v":84.375},{"$f":"IF('Ceiling Speaker Calculator'!$C$29=\"Square\",H$1,IF(OR(AND(ODD($A37)=$A37,ODD(H$2)=H$2),AND(EVEN($A37)=$A37,EVEN(H$2)=H$2)),H$1,-100))","v":103.125},{"$f":"IF('Ceiling Speaker Calculator'!$C$29=\"Square\",I$1,IF(OR(AND(ODD($A37)=$A37,ODD(I$2)=I$2),AND(EVEN($A37)=$A37,EVEN(I$2)=I$2)),I$1,-100))","v":121.875},{"$f":"IF('Ceiling Speaker Calculator'!$C$29=\"Square\",J$1,IF(OR(AND(ODD($A37)=$A37,ODD(J$2)=J$2),AND(EVEN($A37)=$A37,EVEN(J$2)=J$2)),J$1,-100))","v":140.625},{"$f":"IF('Ceiling Speaker Calculator'!$C$29=\"Square\",K$1,IF(OR(AND(ODD($A37)=$A37,ODD(K$2)=K$2),AND(EVEN($A37)=$A37,EVEN(K$2)=K$2)),K$1,-100))","v":159.375},{"$f":"IF('Ceiling Speaker Calculator'!$C$29=\"Square\",L$1,IF(OR(AND(ODD($A37)=$A37,ODD(L$2)=L$2),AND(EVEN($A37)=$A37,EVEN(L$2)=L$2)),L$1,-100))","v":178.125},{"$f":"IF('Ceiling Speaker Calculator'!$C$29=\"Square\",M$1,IF(OR(AND(ODD($A37)=$A37,ODD(M$2)=M$2),AND(EVEN($A37)=$A37,EVEN(M$2)=M$2)),M$1,-100))","v":196.875},{"$f":"IF('Ceiling Speaker Calculator'!$C$29=\"Square\",N$1,IF(OR(AND(ODD($A37)=$A37,ODD(N$2)=N$2),AND(EVEN($A37)=$A37,EVEN(N$2)=N$2)),N$1,-100))","v":215.625},{"$f":"IF('Ceiling Speaker Calculator'!$C$29=\"Square\",O$1,IF(OR(AND(ODD($A37)=$A37,ODD(O$2)=O$2),AND(EVEN($A37)=$A37,EVEN(O$2)=O$2)),O$1,-100))","v":234.375},{"$f":"IF('Ceiling Speaker Calculator'!$C$29=\"Square\",P$1,IF(OR(AND(ODD($A37)=$A37,ODD(P$2)=P$2),AND(EVEN($A37)=$A37,EVEN(P$2)=P$2)),P$1,-100))","v":253.125},{"$f":"IF('Ceiling Speaker Calculator'!$C$29=\"Square\",Q$1,IF(OR(AND(ODD($A37)=$A37,ODD(Q$2)=Q$2),AND(EVEN($A37)=$A37,EVEN(Q$2)=Q$2)),Q$1,-100))","v":271.875},{"$f":"IF('Ceiling Speaker Calculator'!$C$29=\"Square\",R$1,IF(OR(AND(ODD($A37)=$A37,ODD(R$2)=R$2),AND(EVEN($A37)=$A37,EVEN(R$2)=R$2)),R$1,-100))","v":290.625},{"$f":"IF('Ceiling Speaker Calculator'!$C$29=\"Square\",S$1,IF(OR(AND(ODD($A37)=$A37,ODD(S$2)=S$2),AND(EVEN($A37)=$A37,EVEN(S$2)=S$2)),S$1,-100))","v":309.375},{"$f":"IF('Ceiling Speaker Calculator'!$C$29=\"Square\",T$1,IF(OR(AND(ODD($A37)=$A37,ODD(T$2)=T$2),AND(EVEN($A37)=$A37,EVEN(T$2)=T$2)),T$1,-100))","v":328.125},{"$f":"IF('Ceiling Speaker Calculator'!$C$29=\"Square\",U$1,IF(OR(AND(ODD($A37)=$A37,ODD(U$2)=U$2),AND(EVEN($A37)=$A37,EVEN(U$2)=U$2)),U$1,-100))","v":346.875},{"$f":"IF('Ceiling Speaker Calculator'!$C$29=\"Square\",V$1,IF(OR(AND(ODD($A37)=$A37,ODD(V$2)=V$2),AND(EVEN($A37)=$A37,EVEN(V$2)=V$2)),V$1,-100))","v":365.625},{"$f":"IF('Ceiling Speaker Calculator'!$C$29=\"Square\",W$1,IF(OR(AND(ODD($A37)=$A37,ODD(W$2)=W$2),AND(EVEN($A37)=$A37,EVEN(W$2)=W$2)),W$1,-100))","v":384.375},{"$f":"IF('Ceiling Speaker Calculator'!$C$29=\"Square\",X$1,IF(OR(AND(ODD($A37)=$A37,ODD(X$2)=X$2),AND(EVEN($A37)=$A37,EVEN(X$2)=X$2)),X$1,-100))","v":403.125},{"$f":"IF('Ceiling Speaker Calculator'!$C$29=\"Square\",Y$1,IF(OR(AND(ODD($A37)=$A37,ODD(Y$2)=Y$2),AND(EVEN($A37)=$A37,EVEN(Y$2)=Y$2)),Y$1,-100))","v":421.875},{"$f":"IF('Ceiling Speaker Calculator'!$C$29=\"Square\",Z$1,IF(OR(AND(ODD($A37)=$A37,ODD(Z$2)=Z$2),AND(EVEN($A37)=$A37,EVEN(Z$2)=Z$2)),Z$1,-100))","v":440.625},{"$f":"IF('Ceiling Speaker Calculator'!$C$29=\"Square\",AA$1,IF(OR(AND(ODD($A37)=$A37,ODD(AA$2)=AA$2),AND(EVEN($A37)=$A37,EVEN(AA$2)=AA$2)),AA$1,-100))","v":459.375},{"$f":"IF('Ceiling Speaker Calculator'!$C$29=\"Square\",AB$1,IF(OR(AND(ODD($A37)=$A37,ODD(AB$2)=AB$2),AND(EVEN($A37)=$A37,EVEN(AB$2)=AB$2)),AB$1,-100))","v":478.125},{"$f":"IF('Ceiling Speaker Calculator'!$C$29=\"Square\",AC$1,IF(OR(AND(ODD($A37)=$A37,ODD(AC$2)=AC$2),AND(EVEN($A37)=$A37,EVEN(AC$2)=AC$2)),AC$1,-100))","v":496.875},{"$f":"IF('Ceiling Speaker Calculator'!$C$29=\"Square\",AD$1,IF(OR(AND(ODD($A37)=$A37,ODD(AD$2)=AD$2),AND(EVEN($A37)=$A37,EVEN(AD$2)=AD$2)),AD$1,-100))","v":515.625},{"$f":"IF('Ceiling Speaker Calculator'!$C$29=\"Square\",AE$1,IF(OR(AND(ODD($A37)=$A37,ODD(AE$2)=AE$2),AND(EVEN($A37)=$A37,EVEN(AE$2)=AE$2)),AE$1,-100))","v":534.375},{"$f":"IF('Ceiling Speaker Calculator'!$C$29=\"Square\",AF$1,IF(OR(AND(ODD($A37)=$A37,ODD(AF$2)=AF$2),AND(EVEN($A37)=$A37,EVEN(AF$2)=AF$2)),AF$1,-100))","v":553.125},{"$f":"IF('Ceiling Speaker Calculator'!$C$29=\"Square\",AG$1,IF(OR(AND(ODD($A37)=$A37,ODD(AG$2)=AG$2),AND(EVEN($A37)=$A37,EVEN(AG$2)=AG$2)),AG$1,-100))","v":571.875},{"$f":"IF('Ceiling Speaker Calculator'!$C$29=\"Square\",AH$1,IF(OR(AND(ODD($A37)=$A37,ODD(AH$2)=AH$2),AND(EVEN($A37)=$A37,EVEN(AH$2)=AH$2)),AH$1,-100))","v":590.625},{"$f":"IF('Ceiling Speaker Calculator'!$C$29=\"Square\",AI$1,IF(OR(AND(ODD($A37)=$A37,ODD(AI$2)=AI$2),AND(EVEN($A37)=$A37,EVEN(AI$2)=AI$2)),AI$1,-100))","v":609.375},{"$f":"IF('Ceiling Speaker Calculator'!$C$29=\"Square\",AJ$1,IF(OR(AND(ODD($A37)=$A37,ODD(AJ$2)=AJ$2),AND(EVEN($A37)=$A37,EVEN(AJ$2)=AJ$2)),AJ$1,-100))","v":628.125},{"$f":"IF('Ceiling Speaker Calculator'!$C$29=\"Square\",AK$1,IF(OR(AND(ODD($A37)=$A37,ODD(AK$2)=AK$2),AND(EVEN($A37)=$A37,EVEN(AK$2)=AK$2)),AK$1,-100))","v":646.875},{"$f":"IF('Ceiling Speaker Calculator'!$C$29=\"Square\",AL$1,IF(OR(AND(ODD($A37)=$A37,ODD(AL$2)=AL$2),AND(EVEN($A37)=$A37,EVEN(AL$2)=AL$2)),AL$1,-100))","v":665.625},{"$f":"IF('Ceiling Speaker Calculator'!$C$29=\"Square\",AM$1,IF(OR(AND(ODD($A37)=$A37,ODD(AM$2)=AM$2),AND(EVEN($A37)=$A37,EVEN(AM$2)=AM$2)),AM$1,-100))","v":684.375},{"$f":"IF('Ceiling Speaker Calculator'!$C$29=\"Square\",AN$1,IF(OR(AND(ODD($A37)=$A37,ODD(AN$2)=AN$2),AND(EVEN($A37)=$A37,EVEN(AN$2)=AN$2)),AN$1,-100))","v":703.125},{"$f":"IF('Ceiling Speaker Calculator'!$C$29=\"Square\",AO$1,IF(OR(AND(ODD($A37)=$A37,ODD(AO$2)=AO$2),AND(EVEN($A37)=$A37,EVEN(AO$2)=AO$2)),AO$1,-100))","v":721.875},{"$f":"IF('Ceiling Speaker Calculator'!$C$29=\"Square\",AP$1,IF(OR(AND(ODD($A37)=$A37,ODD(AP$2)=AP$2),AND(EVEN($A37)=$A37,EVEN(AP$2)=AP$2)),AP$1,-100))","v":740.625},{"$f":"IF('Ceiling Speaker Calculator'!$C$29=\"Square\",AQ$1,IF(OR(AND(ODD($A37)=$A37,ODD(AQ$2)=AQ$2),AND(EVEN($A37)=$A37,EVEN(AQ$2)=AQ$2)),AQ$1,-100))","v":759.375},{"$f":"IF('Ceiling Speaker Calculator'!$C$29=\"Square\",AR$1,IF(OR(AND(ODD($A37)=$A37,ODD(AR$2)=AR$2),AND(EVEN($A37)=$A37,EVEN(AR$2)=AR$2)),AR$1,-100))","v":778.125},{"$f":"IF('Ceiling Speaker Calculator'!$C$29=\"Square\",AS$1,IF(OR(AND(ODD($A37)=$A37,ODD(AS$2)=AS$2),AND(EVEN($A37)=$A37,EVEN(AS$2)=AS$2)),AS$1,-100))","v":796.875},{"$f":"IF('Ceiling Speaker Calculator'!$C$29=\"Square\",AT$1,IF(OR(AND(ODD($A37)=$A37,ODD(AT$2)=AT$2),AND(EVEN($A37)=$A37,EVEN(AT$2)=AT$2)),AT$1,-100))","v":815.625},{"$f":"IF('Ceiling Speaker Calculator'!$C$29=\"Square\",AU$1,IF(OR(AND(ODD($A37)=$A37,ODD(AU$2)=AU$2),AND(EVEN($A37)=$A37,EVEN(AU$2)=AU$2)),AU$1,-100))","v":834.375},{"$f":"IF('Ceiling Speaker Calculator'!$C$29=\"Square\",AV$1,IF(OR(AND(ODD($A37)=$A37,ODD(AV$2)=AV$2),AND(EVEN($A37)=$A37,EVEN(AV$2)=AV$2)),AV$1,-100))","v":853.125},{"$f":"IF('Ceiling Speaker Calculator'!$C$29=\"Square\",AW$1,IF(OR(AND(ODD($A37)=$A37,ODD(AW$2)=AW$2),AND(EVEN($A37)=$A37,EVEN(AW$2)=AW$2)),AW$1,-100))","v":871.875},{"$f":"IF('Ceiling Speaker Calculator'!$C$29=\"Square\",AX$1,IF(OR(AND(ODD($A37)=$A37,ODD(AX$2)=AX$2),AND(EVEN($A37)=$A37,EVEN(AX$2)=AX$2)),AX$1,-100))","v":890.625},{"$f":"IF('Ceiling Speaker Calculator'!$C$29=\"Square\",AY$1,IF(OR(AND(ODD($A37)=$A37,ODD(AY$2)=AY$2),AND(EVEN($A37)=$A37,EVEN(AY$2)=AY$2)),AY$1,-100))","v":909.375},{"$f":"IF('Ceiling Speaker Calculator'!$C$29=\"Square\",AZ$1,IF(OR(AND(ODD($A37)=$A37,ODD(AZ$2)=AZ$2),AND(EVEN($A37)=$A37,EVEN(AZ$2)=AZ$2)),AZ$1,-100))","v":928.125},{"$f":"IF('Ceiling Speaker Calculator'!$C$29=\"Square\",BA$1,IF(OR(AND(ODD($A37)=$A37,ODD(BA$2)=BA$2),AND(EVEN($A37)=$A37,EVEN(BA$2)=BA$2)),BA$1,-100))","v":946.875},{"$f":"IF('Ceiling Speaker Calculator'!$C$29=\"Square\",BB$1,IF(OR(AND(ODD($A37)=$A37,ODD(BB$2)=BB$2),AND(EVEN($A37)=$A37,EVEN(BB$2)=BB$2)),BB$1,-100))","v":965.625},{"$f":"IF('Ceiling Speaker Calculator'!$C$29=\"Square\",BC$1,IF(OR(AND(ODD($A37)=$A37,ODD(BC$2)=BC$2),AND(EVEN($A37)=$A37,EVEN(BC$2)=BC$2)),BC$1,-100))","v":984.375},{"$f":"IF('Ceiling Speaker Calculator'!$C$29=\"Square\",BD$1,IF(OR(AND(ODD($A37)=$A37,ODD(BD$2)=BD$2),AND(EVEN($A37)=$A37,EVEN(BD$2)=BD$2)),BD$1,-100))","v":1003.125},{"$f":"IF('Ceiling Speaker Calculator'!$C$29=\"Square\",BE$1,IF(OR(AND(ODD($A37)=$A37,ODD(BE$2)=BE$2),AND(EVEN($A37)=$A37,EVEN(BE$2)=BE$2)),BE$1,-100))","v":1021.875},{"$f":"IF('Ceiling Speaker Calculator'!$C$29=\"Square\",BF$1,IF(OR(AND(ODD($A37)=$A37,ODD(BF$2)=BF$2),AND(EVEN($A37)=$A37,EVEN(BF$2)=BF$2)),BF$1,-100))","v":1040.625},{"$f":"IF('Ceiling Speaker Calculator'!$C$29=\"Square\",BG$1,IF(OR(AND(ODD($A37)=$A37,ODD(BG$2)=BG$2),AND(EVEN($A37)=$A37,EVEN(BG$2)=BG$2)),BG$1,-100))","v":1059.375},{"$f":"IF('Ceiling Speaker Calculator'!$C$29=\"Square\",BH$1,IF(OR(AND(ODD($A37)=$A37,ODD(BH$2)=BH$2),AND(EVEN($A37)=$A37,EVEN(BH$2)=BH$2)),BH$1,-100))","v":1078.125},{"$f":"IF('Ceiling Speaker Calculator'!$C$29=\"Square\",BI$1,IF(OR(AND(ODD($A37)=$A37,ODD(BI$2)=BI$2),AND(EVEN($A37)=$A37,EVEN(BI$2)=BI$2)),BI$1,-100))","v":1096.875},{"$f":"IF('Ceiling Speaker Calculator'!$C$29=\"Square\",BJ$1,IF(OR(AND(ODD($A37)=$A37,ODD(BJ$2)=BJ$2),AND(EVEN($A37)=$A37,EVEN(BJ$2)=BJ$2)),BJ$1,-100))","v":1115.625},{"$f":"IF('Ceiling Speaker Calculator'!$C$29=\"Square\",BK$1,IF(OR(AND(ODD($A37)=$A37,ODD(BK$2)=BK$2),AND(EVEN($A37)=$A37,EVEN(BK$2)=BK$2)),BK$1,-100))","v":1134.375},{"$f":"IF('Ceiling Speaker Calculator'!$C$29=\"Square\",BL$1,IF(OR(AND(ODD($A37)=$A37,ODD(BL$2)=BL$2),AND(EVEN($A37)=$A37,EVEN(BL$2)=BL$2)),BL$1,-100))","v":1153.125},{"$f":"IF('Ceiling Speaker Calculator'!$C$29=\"Square\",BM$1,IF(OR(AND(ODD($A37)=$A37,ODD(BM$2)=BM$2),AND(EVEN($A37)=$A37,EVEN(BM$2)=BM$2)),BM$1,-100))","v":1171.875},{"$f":"IF('Ceiling Speaker Calculator'!$C$29=\"Square\",BN$1,IF(OR(AND(ODD($A37)=$A37,ODD(BN$2)=BN$2),AND(EVEN($A37)=$A37,EVEN(BN$2)=BN$2)),BN$1,-100))","v":1190.625},{"$f":"IF('Ceiling Speaker Calculator'!$C$29=\"Square\",BO$1,IF(OR(AND(ODD($A37)=$A37,ODD(BO$2)=BO$2),AND(EVEN($A37)=$A37,EVEN(BO$2)=BO$2)),BO$1,-100))","v":1209.375},{"$f":"IF('Ceiling Speaker Calculator'!$C$29=\"Square\",BP$1,IF(OR(AND(ODD($A37)=$A37,ODD(BP$2)=BP$2),AND(EVEN($A37)=$A37,EVEN(BP$2)=BP$2)),BP$1,-100))","v":1228.125},{"$f":"IF('Ceiling Speaker Calculator'!$C$29=\"Square\",BQ$1,IF(OR(AND(ODD($A37)=$A37,ODD(BQ$2)=BQ$2),AND(EVEN($A37)=$A37,EVEN(BQ$2)=BQ$2)),BQ$1,-100))","v":1246.875},{"$f":"IF('Ceiling Speaker Calculator'!$C$29=\"Square\",BR$1,IF(OR(AND(ODD($A37)=$A37,ODD(BR$2)=BR$2),AND(EVEN($A37)=$A37,EVEN(BR$2)=BR$2)),BR$1,-100))","v":1265.625},{"$f":"IF('Ceiling Speaker Calculator'!$C$29=\"Square\",BS$1,IF(OR(AND(ODD($A37)=$A37,ODD(BS$2)=BS$2),AND(EVEN($A37)=$A37,EVEN(BS$2)=BS$2)),BS$1,-100))","v":1284.375},{"$f":"IF('Ceiling Speaker Calculator'!$C$29=\"Square\",BT$1,IF(OR(AND(ODD($A37)=$A37,ODD(BT$2)=BT$2),AND(EVEN($A37)=$A37,EVEN(BT$2)=BT$2)),BT$1,-100))","v":1303.125},{"$f":"IF('Ceiling Speaker Calculator'!$C$29=\"Square\",BU$1,IF(OR(AND(ODD($A37)=$A37,ODD(BU$2)=BU$2),AND(EVEN($A37)=$A37,EVEN(BU$2)=BU$2)),BU$1,-100))","v":1321.875},{"$f":"IF('Ceiling Speaker Calculator'!$C$29=\"Square\",BV$1,IF(OR(AND(ODD($A37)=$A37,ODD(BV$2)=BV$2),AND(EVEN($A37)=$A37,EVEN(BV$2)=BV$2)),BV$1,-100))","v":1340.625},{"$f":"IF('Ceiling Speaker Calculator'!$C$29=\"Square\",BW$1,IF(OR(AND(ODD($A37)=$A37,ODD(BW$2)=BW$2),AND(EVEN($A37)=$A37,EVEN(BW$2)=BW$2)),BW$1,-100))","v":1359.375},{"$f":"IF('Ceiling Speaker Calculator'!$C$29=\"Square\",BX$1,IF(OR(AND(ODD($A37)=$A37,ODD(BX$2)=BX$2),AND(EVEN($A37)=$A37,EVEN(BX$2)=BX$2)),BX$1,-100))","v":1378.125},{"$f":"IF('Ceiling Speaker Calculator'!$C$29=\"Square\",BY$1,IF(OR(AND(ODD($A37)=$A37,ODD(BY$2)=BY$2),AND(EVEN($A37)=$A37,EVEN(BY$2)=BY$2)),BY$1,-100))","v":1396.875},{"$f":"IF('Ceiling Speaker Calculator'!$C$29=\"Square\",BZ$1,IF(OR(AND(ODD($A37)=$A37,ODD(BZ$2)=BZ$2),AND(EVEN($A37)=$A37,EVEN(BZ$2)=BZ$2)),BZ$1,-100))","v":1415.625},{"$f":"IF('Ceiling Speaker Calculator'!$C$29=\"Square\",CA$1,IF(OR(AND(ODD($A37)=$A37,ODD(CA$2)=CA$2),AND(EVEN($A37)=$A37,EVEN(CA$2)=CA$2)),CA$1,-100))","v":1434.375},{"$f":"IF('Ceiling Speaker Calculator'!$C$29=\"Square\",CB$1,IF(OR(AND(ODD($A37)=$A37,ODD(CB$2)=CB$2),AND(EVEN($A37)=$A37,EVEN(CB$2)=CB$2)),CB$1,-100))","v":1453.125},{"$f":"IF('Ceiling Speaker Calculator'!$C$29=\"Square\",CC$1,IF(OR(AND(ODD($A37)=$A37,ODD(CC$2)=CC$2),AND(EVEN($A37)=$A37,EVEN(CC$2)=CC$2)),CC$1,-100))","v":1471.875},{"$f":"IF('Ceiling Speaker Calculator'!$C$29=\"Square\",CD$1,IF(OR(AND(ODD($A37)=$A37,ODD(CD$2)=CD$2),AND(EVEN($A37)=$A37,EVEN(CD$2)=CD$2)),CD$1,-100))","v":1490.625},{"$f":"IF('Ceiling Speaker Calculator'!$C$29=\"Square\",CE$1,IF(OR(AND(ODD($A37)=$A37,ODD(CE$2)=CE$2),AND(EVEN($A37)=$A37,EVEN(CE$2)=CE$2)),CE$1,-100))","v":1509.375},{"$f":"IF('Ceiling Speaker Calculator'!$C$29=\"Square\",CF$1,IF(OR(AND(ODD($A37)=$A37,ODD(CF$2)=CF$2),AND(EVEN($A37)=$A37,EVEN(CF$2)=CF$2)),CF$1,-100))","v":1528.125},{"$f":"IF('Ceiling Speaker Calculator'!$C$29=\"Square\",CG$1,IF(OR(AND(ODD($A37)=$A37,ODD(CG$2)=CG$2),AND(EVEN($A37)=$A37,EVEN(CG$2)=CG$2)),CG$1,-100))","v":1546.875},{"$f":"IF('Ceiling Speaker Calculator'!$C$29=\"Square\",CH$1,IF(OR(AND(ODD($A37)=$A37,ODD(CH$2)=CH$2),AND(EVEN($A37)=$A37,EVEN(CH$2)=CH$2)),CH$1,-100))","v":1565.625},{"$f":"IF('Ceiling Speaker Calculator'!$C$29=\"Square\",CI$1,IF(OR(AND(ODD($A37)=$A37,ODD(CI$2)=CI$2),AND(EVEN($A37)=$A37,EVEN(CI$2)=CI$2)),CI$1,-100))","v":1584.375},{"$f":"IF('Ceiling Speaker Calculator'!$C$29=\"Square\",CJ$1,IF(OR(AND(ODD($A37)=$A37,ODD(CJ$2)=CJ$2),AND(EVEN($A37)=$A37,EVEN(CJ$2)=CJ$2)),CJ$1,-100))","v":1603.125},{"$f":"IF('Ceiling Speaker Calculator'!$C$29=\"Square\",CK$1,IF(OR(AND(ODD($A37)=$A37,ODD(CK$2)=CK$2),AND(EVEN($A37)=$A37,EVEN(CK$2)=CK$2)),CK$1,-100))","v":1621.875},{"$f":"IF('Ceiling Speaker Calculator'!$C$29=\"Square\",CL$1,IF(OR(AND(ODD($A37)=$A37,ODD(CL$2)=CL$2),AND(EVEN($A37)=$A37,EVEN(CL$2)=CL$2)),CL$1,-100))","v":1640.625},{"$f":"IF('Ceiling Speaker Calculator'!$C$29=\"Square\",CM$1,IF(OR(AND(ODD($A37)=$A37,ODD(CM$2)=CM$2),AND(EVEN($A37)=$A37,EVEN(CM$2)=CM$2)),CM$1,-100))","v":1659.375},{"$f":"IF('Ceiling Speaker Calculator'!$C$29=\"Square\",CN$1,IF(OR(AND(ODD($A37)=$A37,ODD(CN$2)=CN$2),AND(EVEN($A37)=$A37,EVEN(CN$2)=CN$2)),CN$1,-100))","v":1678.125},{"$f":"IF('Ceiling Speaker Calculator'!$C$29=\"Square\",CO$1,IF(OR(AND(ODD($A37)=$A37,ODD(CO$2)=CO$2),AND(EVEN($A37)=$A37,EVEN(CO$2)=CO$2)),CO$1,-100))","v":1696.875},{"$f":"IF('Ceiling Speaker Calculator'!$C$29=\"Square\",CP$1,IF(OR(AND(ODD($A37)=$A37,ODD(CP$2)=CP$2),AND(EVEN($A37)=$A37,EVEN(CP$2)=CP$2)),CP$1,-100))","v":1715.625},{"$f":"IF('Ceiling Speaker Calculator'!$C$29=\"Square\",CQ$1,IF(OR(AND(ODD($A37)=$A37,ODD(CQ$2)=CQ$2),AND(EVEN($A37)=$A37,EVEN(CQ$2)=CQ$2)),CQ$1,-100))","v":1734.375},{"$f":"IF('Ceiling Speaker Calculator'!$C$29=\"Square\",CR$1,IF(OR(AND(ODD($A37)=$A37,ODD(CR$2)=CR$2),AND(EVEN($A37)=$A37,EVEN(CR$2)=CR$2)),CR$1,-100))","v":1753.125},{"$f":"IF('Ceiling Speaker Calculator'!$C$29=\"Square\",CS$1,IF(OR(AND(ODD($A37)=$A37,ODD(CS$2)=CS$2),AND(EVEN($A37)=$A37,EVEN(CS$2)=CS$2)),CS$1,-100))","v":1771.875},{"$f":"IF('Ceiling Speaker Calculator'!$C$29=\"Square\",CT$1,IF(OR(AND(ODD($A37)=$A37,ODD(CT$2)=CT$2),AND(EVEN($A37)=$A37,EVEN(CT$2)=CT$2)),CT$1,-100))","v":1790.625},{"$f":"IF('Ceiling Speaker Calculator'!$C$29=\"Square\",CU$1,IF(OR(AND(ODD($A37)=$A37,ODD(CU$2)=CU$2),AND(EVEN($A37)=$A37,EVEN(CU$2)=CU$2)),CU$1,-100))","v":1809.375},{"$f":"IF('Ceiling Speaker Calculator'!$C$29=\"Square\",CV$1,IF(OR(AND(ODD($A37)=$A37,ODD(CV$2)=CV$2),AND(EVEN($A37)=$A37,EVEN(CV$2)=CV$2)),CV$1,-100))","v":1828.125},{"$f":"IF('Ceiling Speaker Calculator'!$C$29=\"Square\",CW$1,IF(OR(AND(ODD($A37)=$A37,ODD(CW$2)=CW$2),AND(EVEN($A37)=$A37,EVEN(CW$2)=CW$2)),CW$1,-100))","v":1846.875},{"$f":"IF('Ceiling Speaker Calculator'!$C$29=\"Square\",CX$1,IF(OR(AND(ODD($A37)=$A37,ODD(CX$2)=CX$2),AND(EVEN($A37)=$A37,EVEN(CX$2)=CX$2)),CX$1,-100))","v":1865.625}]
[36,{"$f":"B37+'Ceiling Speaker Calculator'!$K$16","v":710},{"$f":"IF('Ceiling Speaker Calculator'!$C$29=\"Square\",C$1,IF(OR(AND(ODD($A38)=$A38,ODD(C$2)=C$2),AND(EVEN($A38)=$A38,EVEN(C$2)=C$2)),C$1,-100))","v":9.375},{"$f":"IF('Ceiling Speaker Calculator'!$C$29=\"Square\",D$1,IF(OR(AND(ODD($A38)=$A38,ODD(D$2)=D$2),AND(EVEN($A38)=$A38,EVEN(D$2)=D$2)),D$1,-100))","v":28.125},{"$f":"IF('Ceiling Speaker Calculator'!$C$29=\"Square\",E$1,IF(OR(AND(ODD($A38)=$A38,ODD(E$2)=E$2),AND(EVEN($A38)=$A38,EVEN(E$2)=E$2)),E$1,-100))","v":46.875},{"$f":"IF('Ceiling Speaker Calculator'!$C$29=\"Square\",F$1,IF(OR(AND(ODD($A38)=$A38,ODD(F$2)=F$2),AND(EVEN($A38)=$A38,EVEN(F$2)=F$2)),F$1,-100))","v":65.625},{"$f":"IF('Ceiling Speaker Calculator'!$C$29=\"Square\",G$1,IF(OR(AND(ODD($A38)=$A38,ODD(G$2)=G$2),AND(EVEN($A38)=$A38,EVEN(G$2)=G$2)),G$1,-100))","v":84.375},{"$f":"IF('Ceiling Speaker Calculator'!$C$29=\"Square\",H$1,IF(OR(AND(ODD($A38)=$A38,ODD(H$2)=H$2),AND(EVEN($A38)=$A38,EVEN(H$2)=H$2)),H$1,-100))","v":103.125},{"$f":"IF('Ceiling Speaker Calculator'!$C$29=\"Square\",I$1,IF(OR(AND(ODD($A38)=$A38,ODD(I$2)=I$2),AND(EVEN($A38)=$A38,EVEN(I$2)=I$2)),I$1,-100))","v":121.875},{"$f":"IF('Ceiling Speaker Calculator'!$C$29=\"Square\",J$1,IF(OR(AND(ODD($A38)=$A38,ODD(J$2)=J$2),AND(EVEN($A38)=$A38,EVEN(J$2)=J$2)),J$1,-100))","v":140.625},{"$f":"IF('Ceiling Speaker Calculator'!$C$29=\"Square\",K$1,IF(OR(AND(ODD($A38)=$A38,ODD(K$2)=K$2),AND(EVEN($A38)=$A38,EVEN(K$2)=K$2)),K$1,-100))","v":159.375},{"$f":"IF('Ceiling Speaker Calculator'!$C$29=\"Square\",L$1,IF(OR(AND(ODD($A38)=$A38,ODD(L$2)=L$2),AND(EVEN($A38)=$A38,EVEN(L$2)=L$2)),L$1,-100))","v":178.125},{"$f":"IF('Ceiling Speaker Calculator'!$C$29=\"Square\",M$1,IF(OR(AND(ODD($A38)=$A38,ODD(M$2)=M$2),AND(EVEN($A38)=$A38,EVEN(M$2)=M$2)),M$1,-100))","v":196.875},{"$f":"IF('Ceiling Speaker Calculator'!$C$29=\"Square\",N$1,IF(OR(AND(ODD($A38)=$A38,ODD(N$2)=N$2),AND(EVEN($A38)=$A38,EVEN(N$2)=N$2)),N$1,-100))","v":215.625},{"$f":"IF('Ceiling Speaker Calculator'!$C$29=\"Square\",O$1,IF(OR(AND(ODD($A38)=$A38,ODD(O$2)=O$2),AND(EVEN($A38)=$A38,EVEN(O$2)=O$2)),O$1,-100))","v":234.375},{"$f":"IF('Ceiling Speaker Calculator'!$C$29=\"Square\",P$1,IF(OR(AND(ODD($A38)=$A38,ODD(P$2)=P$2),AND(EVEN($A38)=$A38,EVEN(P$2)=P$2)),P$1,-100))","v":253.125},{"$f":"IF('Ceiling Speaker Calculator'!$C$29=\"Square\",Q$1,IF(OR(AND(ODD($A38)=$A38,ODD(Q$2)=Q$2),AND(EVEN($A38)=$A38,EVEN(Q$2)=Q$2)),Q$1,-100))","v":271.875},{"$f":"IF('Ceiling Speaker Calculator'!$C$29=\"Square\",R$1,IF(OR(AND(ODD($A38)=$A38,ODD(R$2)=R$2),AND(EVEN($A38)=$A38,EVEN(R$2)=R$2)),R$1,-100))","v":290.625},{"$f":"IF('Ceiling Speaker Calculator'!$C$29=\"Square\",S$1,IF(OR(AND(ODD($A38)=$A38,ODD(S$2)=S$2),AND(EVEN($A38)=$A38,EVEN(S$2)=S$2)),S$1,-100))","v":309.375},{"$f":"IF('Ceiling Speaker Calculator'!$C$29=\"Square\",T$1,IF(OR(AND(ODD($A38)=$A38,ODD(T$2)=T$2),AND(EVEN($A38)=$A38,EVEN(T$2)=T$2)),T$1,-100))","v":328.125},{"$f":"IF('Ceiling Speaker Calculator'!$C$29=\"Square\",U$1,IF(OR(AND(ODD($A38)=$A38,ODD(U$2)=U$2),AND(EVEN($A38)=$A38,EVEN(U$2)=U$2)),U$1,-100))","v":346.875},{"$f":"IF('Ceiling Speaker Calculator'!$C$29=\"Square\",V$1,IF(OR(AND(ODD($A38)=$A38,ODD(V$2)=V$2),AND(EVEN($A38)=$A38,EVEN(V$2)=V$2)),V$1,-100))","v":365.625},{"$f":"IF('Ceiling Speaker Calculator'!$C$29=\"Square\",W$1,IF(OR(AND(ODD($A38)=$A38,ODD(W$2)=W$2),AND(EVEN($A38)=$A38,EVEN(W$2)=W$2)),W$1,-100))","v":384.375},{"$f":"IF('Ceiling Speaker Calculator'!$C$29=\"Square\",X$1,IF(OR(AND(ODD($A38)=$A38,ODD(X$2)=X$2),AND(EVEN($A38)=$A38,EVEN(X$2)=X$2)),X$1,-100))","v":403.125},{"$f":"IF('Ceiling Speaker Calculator'!$C$29=\"Square\",Y$1,IF(OR(AND(ODD($A38)=$A38,ODD(Y$2)=Y$2),AND(EVEN($A38)=$A38,EVEN(Y$2)=Y$2)),Y$1,-100))","v":421.875},{"$f":"IF('Ceiling Speaker Calculator'!$C$29=\"Square\",Z$1,IF(OR(AND(ODD($A38)=$A38,ODD(Z$2)=Z$2),AND(EVEN($A38)=$A38,EVEN(Z$2)=Z$2)),Z$1,-100))","v":440.625},{"$f":"IF('Ceiling Speaker Calculator'!$C$29=\"Square\",AA$1,IF(OR(AND(ODD($A38)=$A38,ODD(AA$2)=AA$2),AND(EVEN($A38)=$A38,EVEN(AA$2)=AA$2)),AA$1,-100))","v":459.375},{"$f":"IF('Ceiling Speaker Calculator'!$C$29=\"Square\",AB$1,IF(OR(AND(ODD($A38)=$A38,ODD(AB$2)=AB$2),AND(EVEN($A38)=$A38,EVEN(AB$2)=AB$2)),AB$1,-100))","v":478.125},{"$f":"IF('Ceiling Speaker Calculator'!$C$29=\"Square\",AC$1,IF(OR(AND(ODD($A38)=$A38,ODD(AC$2)=AC$2),AND(EVEN($A38)=$A38,EVEN(AC$2)=AC$2)),AC$1,-100))","v":496.875},{"$f":"IF('Ceiling Speaker Calculator'!$C$29=\"Square\",AD$1,IF(OR(AND(ODD($A38)=$A38,ODD(AD$2)=AD$2),AND(EVEN($A38)=$A38,EVEN(AD$2)=AD$2)),AD$1,-100))","v":515.625},{"$f":"IF('Ceiling Speaker Calculator'!$C$29=\"Square\",AE$1,IF(OR(AND(ODD($A38)=$A38,ODD(AE$2)=AE$2),AND(EVEN($A38)=$A38,EVEN(AE$2)=AE$2)),AE$1,-100))","v":534.375},{"$f":"IF('Ceiling Speaker Calculator'!$C$29=\"Square\",AF$1,IF(OR(AND(ODD($A38)=$A38,ODD(AF$2)=AF$2),AND(EVEN($A38)=$A38,EVEN(AF$2)=AF$2)),AF$1,-100))","v":553.125},{"$f":"IF('Ceiling Speaker Calculator'!$C$29=\"Square\",AG$1,IF(OR(AND(ODD($A38)=$A38,ODD(AG$2)=AG$2),AND(EVEN($A38)=$A38,EVEN(AG$2)=AG$2)),AG$1,-100))","v":571.875},{"$f":"IF('Ceiling Speaker Calculator'!$C$29=\"Square\",AH$1,IF(OR(AND(ODD($A38)=$A38,ODD(AH$2)=AH$2),AND(EVEN($A38)=$A38,EVEN(AH$2)=AH$2)),AH$1,-100))","v":590.625},{"$f":"IF('Ceiling Speaker Calculator'!$C$29=\"Square\",AI$1,IF(OR(AND(ODD($A38)=$A38,ODD(AI$2)=AI$2),AND(EVEN($A38)=$A38,EVEN(AI$2)=AI$2)),AI$1,-100))","v":609.375},{"$f":"IF('Ceiling Speaker Calculator'!$C$29=\"Square\",AJ$1,IF(OR(AND(ODD($A38)=$A38,ODD(AJ$2)=AJ$2),AND(EVEN($A38)=$A38,EVEN(AJ$2)=AJ$2)),AJ$1,-100))","v":628.125},{"$f":"IF('Ceiling Speaker Calculator'!$C$29=\"Square\",AK$1,IF(OR(AND(ODD($A38)=$A38,ODD(AK$2)=AK$2),AND(EVEN($A38)=$A38,EVEN(AK$2)=AK$2)),AK$1,-100))","v":646.875},{"$f":"IF('Ceiling Speaker Calculator'!$C$29=\"Square\",AL$1,IF(OR(AND(ODD($A38)=$A38,ODD(AL$2)=AL$2),AND(EVEN($A38)=$A38,EVEN(AL$2)=AL$2)),AL$1,-100))","v":665.625},{"$f":"IF('Ceiling Speaker Calculator'!$C$29=\"Square\",AM$1,IF(OR(AND(ODD($A38)=$A38,ODD(AM$2)=AM$2),AND(EVEN($A38)=$A38,EVEN(AM$2)=AM$2)),AM$1,-100))","v":684.375},{"$f":"IF('Ceiling Speaker Calculator'!$C$29=\"Square\",AN$1,IF(OR(AND(ODD($A38)=$A38,ODD(AN$2)=AN$2),AND(EVEN($A38)=$A38,EVEN(AN$2)=AN$2)),AN$1,-100))","v":703.125},{"$f":"IF('Ceiling Speaker Calculator'!$C$29=\"Square\",AO$1,IF(OR(AND(ODD($A38)=$A38,ODD(AO$2)=AO$2),AND(EVEN($A38)=$A38,EVEN(AO$2)=AO$2)),AO$1,-100))","v":721.875},{"$f":"IF('Ceiling Speaker Calculator'!$C$29=\"Square\",AP$1,IF(OR(AND(ODD($A38)=$A38,ODD(AP$2)=AP$2),AND(EVEN($A38)=$A38,EVEN(AP$2)=AP$2)),AP$1,-100))","v":740.625},{"$f":"IF('Ceiling Speaker Calculator'!$C$29=\"Square\",AQ$1,IF(OR(AND(ODD($A38)=$A38,ODD(AQ$2)=AQ$2),AND(EVEN($A38)=$A38,EVEN(AQ$2)=AQ$2)),AQ$1,-100))","v":759.375},{"$f":"IF('Ceiling Speaker Calculator'!$C$29=\"Square\",AR$1,IF(OR(AND(ODD($A38)=$A38,ODD(AR$2)=AR$2),AND(EVEN($A38)=$A38,EVEN(AR$2)=AR$2)),AR$1,-100))","v":778.125},{"$f":"IF('Ceiling Speaker Calculator'!$C$29=\"Square\",AS$1,IF(OR(AND(ODD($A38)=$A38,ODD(AS$2)=AS$2),AND(EVEN($A38)=$A38,EVEN(AS$2)=AS$2)),AS$1,-100))","v":796.875},{"$f":"IF('Ceiling Speaker Calculator'!$C$29=\"Square\",AT$1,IF(OR(AND(ODD($A38)=$A38,ODD(AT$2)=AT$2),AND(EVEN($A38)=$A38,EVEN(AT$2)=AT$2)),AT$1,-100))","v":815.625},{"$f":"IF('Ceiling Speaker Calculator'!$C$29=\"Square\",AU$1,IF(OR(AND(ODD($A38)=$A38,ODD(AU$2)=AU$2),AND(EVEN($A38)=$A38,EVEN(AU$2)=AU$2)),AU$1,-100))","v":834.375},{"$f":"IF('Ceiling Speaker Calculator'!$C$29=\"Square\",AV$1,IF(OR(AND(ODD($A38)=$A38,ODD(AV$2)=AV$2),AND(EVEN($A38)=$A38,EVEN(AV$2)=AV$2)),AV$1,-100))","v":853.125},{"$f":"IF('Ceiling Speaker Calculator'!$C$29=\"Square\",AW$1,IF(OR(AND(ODD($A38)=$A38,ODD(AW$2)=AW$2),AND(EVEN($A38)=$A38,EVEN(AW$2)=AW$2)),AW$1,-100))","v":871.875},{"$f":"IF('Ceiling Speaker Calculator'!$C$29=\"Square\",AX$1,IF(OR(AND(ODD($A38)=$A38,ODD(AX$2)=AX$2),AND(EVEN($A38)=$A38,EVEN(AX$2)=AX$2)),AX$1,-100))","v":890.625},{"$f":"IF('Ceiling Speaker Calculator'!$C$29=\"Square\",AY$1,IF(OR(AND(ODD($A38)=$A38,ODD(AY$2)=AY$2),AND(EVEN($A38)=$A38,EVEN(AY$2)=AY$2)),AY$1,-100))","v":909.375},{"$f":"IF('Ceiling Speaker Calculator'!$C$29=\"Square\",AZ$1,IF(OR(AND(ODD($A38)=$A38,ODD(AZ$2)=AZ$2),AND(EVEN($A38)=$A38,EVEN(AZ$2)=AZ$2)),AZ$1,-100))","v":928.125},{"$f":"IF('Ceiling Speaker Calculator'!$C$29=\"Square\",BA$1,IF(OR(AND(ODD($A38)=$A38,ODD(BA$2)=BA$2),AND(EVEN($A38)=$A38,EVEN(BA$2)=BA$2)),BA$1,-100))","v":946.875},{"$f":"IF('Ceiling Speaker Calculator'!$C$29=\"Square\",BB$1,IF(OR(AND(ODD($A38)=$A38,ODD(BB$2)=BB$2),AND(EVEN($A38)=$A38,EVEN(BB$2)=BB$2)),BB$1,-100))","v":965.625},{"$f":"IF('Ceiling Speaker Calculator'!$C$29=\"Square\",BC$1,IF(OR(AND(ODD($A38)=$A38,ODD(BC$2)=BC$2),AND(EVEN($A38)=$A38,EVEN(BC$2)=BC$2)),BC$1,-100))","v":984.375},{"$f":"IF('Ceiling Speaker Calculator'!$C$29=\"Square\",BD$1,IF(OR(AND(ODD($A38)=$A38,ODD(BD$2)=BD$2),AND(EVEN($A38)=$A38,EVEN(BD$2)=BD$2)),BD$1,-100))","v":1003.125},{"$f":"IF('Ceiling Speaker Calculator'!$C$29=\"Square\",BE$1,IF(OR(AND(ODD($A38)=$A38,ODD(BE$2)=BE$2),AND(EVEN($A38)=$A38,EVEN(BE$2)=BE$2)),BE$1,-100))","v":1021.875},{"$f":"IF('Ceiling Speaker Calculator'!$C$29=\"Square\",BF$1,IF(OR(AND(ODD($A38)=$A38,ODD(BF$2)=BF$2),AND(EVEN($A38)=$A38,EVEN(BF$2)=BF$2)),BF$1,-100))","v":1040.625},{"$f":"IF('Ceiling Speaker Calculator'!$C$29=\"Square\",BG$1,IF(OR(AND(ODD($A38)=$A38,ODD(BG$2)=BG$2),AND(EVEN($A38)=$A38,EVEN(BG$2)=BG$2)),BG$1,-100))","v":1059.375},{"$f":"IF('Ceiling Speaker Calculator'!$C$29=\"Square\",BH$1,IF(OR(AND(ODD($A38)=$A38,ODD(BH$2)=BH$2),AND(EVEN($A38)=$A38,EVEN(BH$2)=BH$2)),BH$1,-100))","v":1078.125},{"$f":"IF('Ceiling Speaker Calculator'!$C$29=\"Square\",BI$1,IF(OR(AND(ODD($A38)=$A38,ODD(BI$2)=BI$2),AND(EVEN($A38)=$A38,EVEN(BI$2)=BI$2)),BI$1,-100))","v":1096.875},{"$f":"IF('Ceiling Speaker Calculator'!$C$29=\"Square\",BJ$1,IF(OR(AND(ODD($A38)=$A38,ODD(BJ$2)=BJ$2),AND(EVEN($A38)=$A38,EVEN(BJ$2)=BJ$2)),BJ$1,-100))","v":1115.625},{"$f":"IF('Ceiling Speaker Calculator'!$C$29=\"Square\",BK$1,IF(OR(AND(ODD($A38)=$A38,ODD(BK$2)=BK$2),AND(EVEN($A38)=$A38,EVEN(BK$2)=BK$2)),BK$1,-100))","v":1134.375},{"$f":"IF('Ceiling Speaker Calculator'!$C$29=\"Square\",BL$1,IF(OR(AND(ODD($A38)=$A38,ODD(BL$2)=BL$2),AND(EVEN($A38)=$A38,EVEN(BL$2)=BL$2)),BL$1,-100))","v":1153.125},{"$f":"IF('Ceiling Speaker Calculator'!$C$29=\"Square\",BM$1,IF(OR(AND(ODD($A38)=$A38,ODD(BM$2)=BM$2),AND(EVEN($A38)=$A38,EVEN(BM$2)=BM$2)),BM$1,-100))","v":1171.875},{"$f":"IF('Ceiling Speaker Calculator'!$C$29=\"Square\",BN$1,IF(OR(AND(ODD($A38)=$A38,ODD(BN$2)=BN$2),AND(EVEN($A38)=$A38,EVEN(BN$2)=BN$2)),BN$1,-100))","v":1190.625},{"$f":"IF('Ceiling Speaker Calculator'!$C$29=\"Square\",BO$1,IF(OR(AND(ODD($A38)=$A38,ODD(BO$2)=BO$2),AND(EVEN($A38)=$A38,EVEN(BO$2)=BO$2)),BO$1,-100))","v":1209.375},{"$f":"IF('Ceiling Speaker Calculator'!$C$29=\"Square\",BP$1,IF(OR(AND(ODD($A38)=$A38,ODD(BP$2)=BP$2),AND(EVEN($A38)=$A38,EVEN(BP$2)=BP$2)),BP$1,-100))","v":1228.125},{"$f":"IF('Ceiling Speaker Calculator'!$C$29=\"Square\",BQ$1,IF(OR(AND(ODD($A38)=$A38,ODD(BQ$2)=BQ$2),AND(EVEN($A38)=$A38,EVEN(BQ$2)=BQ$2)),BQ$1,-100))","v":1246.875},{"$f":"IF('Ceiling Speaker Calculator'!$C$29=\"Square\",BR$1,IF(OR(AND(ODD($A38)=$A38,ODD(BR$2)=BR$2),AND(EVEN($A38)=$A38,EVEN(BR$2)=BR$2)),BR$1,-100))","v":1265.625},{"$f":"IF('Ceiling Speaker Calculator'!$C$29=\"Square\",BS$1,IF(OR(AND(ODD($A38)=$A38,ODD(BS$2)=BS$2),AND(EVEN($A38)=$A38,EVEN(BS$2)=BS$2)),BS$1,-100))","v":1284.375},{"$f":"IF('Ceiling Speaker Calculator'!$C$29=\"Square\",BT$1,IF(OR(AND(ODD($A38)=$A38,ODD(BT$2)=BT$2),AND(EVEN($A38)=$A38,EVEN(BT$2)=BT$2)),BT$1,-100))","v":1303.125},{"$f":"IF('Ceiling Speaker Calculator'!$C$29=\"Square\",BU$1,IF(OR(AND(ODD($A38)=$A38,ODD(BU$2)=BU$2),AND(EVEN($A38)=$A38,EVEN(BU$2)=BU$2)),BU$1,-100))","v":1321.875},{"$f":"IF('Ceiling Speaker Calculator'!$C$29=\"Square\",BV$1,IF(OR(AND(ODD($A38)=$A38,ODD(BV$2)=BV$2),AND(EVEN($A38)=$A38,EVEN(BV$2)=BV$2)),BV$1,-100))","v":1340.625},{"$f":"IF('Ceiling Speaker Calculator'!$C$29=\"Square\",BW$1,IF(OR(AND(ODD($A38)=$A38,ODD(BW$2)=BW$2),AND(EVEN($A38)=$A38,EVEN(BW$2)=BW$2)),BW$1,-100))","v":1359.375},{"$f":"IF('Ceiling Speaker Calculator'!$C$29=\"Square\",BX$1,IF(OR(AND(ODD($A38)=$A38,ODD(BX$2)=BX$2),AND(EVEN($A38)=$A38,EVEN(BX$2)=BX$2)),BX$1,-100))","v":1378.125},{"$f":"IF('Ceiling Speaker Calculator'!$C$29=\"Square\",BY$1,IF(OR(AND(ODD($A38)=$A38,ODD(BY$2)=BY$2),AND(EVEN($A38)=$A38,EVEN(BY$2)=BY$2)),BY$1,-100))","v":1396.875},{"$f":"IF('Ceiling Speaker Calculator'!$C$29=\"Square\",BZ$1,IF(OR(AND(ODD($A38)=$A38,ODD(BZ$2)=BZ$2),AND(EVEN($A38)=$A38,EVEN(BZ$2)=BZ$2)),BZ$1,-100))","v":1415.625},{"$f":"IF('Ceiling Speaker Calculator'!$C$29=\"Square\",CA$1,IF(OR(AND(ODD($A38)=$A38,ODD(CA$2)=CA$2),AND(EVEN($A38)=$A38,EVEN(CA$2)=CA$2)),CA$1,-100))","v":1434.375},{"$f":"IF('Ceiling Speaker Calculator'!$C$29=\"Square\",CB$1,IF(OR(AND(ODD($A38)=$A38,ODD(CB$2)=CB$2),AND(EVEN($A38)=$A38,EVEN(CB$2)=CB$2)),CB$1,-100))","v":1453.125},{"$f":"IF('Ceiling Speaker Calculator'!$C$29=\"Square\",CC$1,IF(OR(AND(ODD($A38)=$A38,ODD(CC$2)=CC$2),AND(EVEN($A38)=$A38,EVEN(CC$2)=CC$2)),CC$1,-100))","v":1471.875},{"$f":"IF('Ceiling Speaker Calculator'!$C$29=\"Square\",CD$1,IF(OR(AND(ODD($A38)=$A38,ODD(CD$2)=CD$2),AND(EVEN($A38)=$A38,EVEN(CD$2)=CD$2)),CD$1,-100))","v":1490.625},{"$f":"IF('Ceiling Speaker Calculator'!$C$29=\"Square\",CE$1,IF(OR(AND(ODD($A38)=$A38,ODD(CE$2)=CE$2),AND(EVEN($A38)=$A38,EVEN(CE$2)=CE$2)),CE$1,-100))","v":1509.375},{"$f":"IF('Ceiling Speaker Calculator'!$C$29=\"Square\",CF$1,IF(OR(AND(ODD($A38)=$A38,ODD(CF$2)=CF$2),AND(EVEN($A38)=$A38,EVEN(CF$2)=CF$2)),CF$1,-100))","v":1528.125},{"$f":"IF('Ceiling Speaker Calculator'!$C$29=\"Square\",CG$1,IF(OR(AND(ODD($A38)=$A38,ODD(CG$2)=CG$2),AND(EVEN($A38)=$A38,EVEN(CG$2)=CG$2)),CG$1,-100))","v":1546.875},{"$f":"IF('Ceiling Speaker Calculator'!$C$29=\"Square\",CH$1,IF(OR(AND(ODD($A38)=$A38,ODD(CH$2)=CH$2),AND(EVEN($A38)=$A38,EVEN(CH$2)=CH$2)),CH$1,-100))","v":1565.625},{"$f":"IF('Ceiling Speaker Calculator'!$C$29=\"Square\",CI$1,IF(OR(AND(ODD($A38)=$A38,ODD(CI$2)=CI$2),AND(EVEN($A38)=$A38,EVEN(CI$2)=CI$2)),CI$1,-100))","v":1584.375},{"$f":"IF('Ceiling Speaker Calculator'!$C$29=\"Square\",CJ$1,IF(OR(AND(ODD($A38)=$A38,ODD(CJ$2)=CJ$2),AND(EVEN($A38)=$A38,EVEN(CJ$2)=CJ$2)),CJ$1,-100))","v":1603.125},{"$f":"IF('Ceiling Speaker Calculator'!$C$29=\"Square\",CK$1,IF(OR(AND(ODD($A38)=$A38,ODD(CK$2)=CK$2),AND(EVEN($A38)=$A38,EVEN(CK$2)=CK$2)),CK$1,-100))","v":1621.875},{"$f":"IF('Ceiling Speaker Calculator'!$C$29=\"Square\",CL$1,IF(OR(AND(ODD($A38)=$A38,ODD(CL$2)=CL$2),AND(EVEN($A38)=$A38,EVEN(CL$2)=CL$2)),CL$1,-100))","v":1640.625},{"$f":"IF('Ceiling Speaker Calculator'!$C$29=\"Square\",CM$1,IF(OR(AND(ODD($A38)=$A38,ODD(CM$2)=CM$2),AND(EVEN($A38)=$A38,EVEN(CM$2)=CM$2)),CM$1,-100))","v":1659.375},{"$f":"IF('Ceiling Speaker Calculator'!$C$29=\"Square\",CN$1,IF(OR(AND(ODD($A38)=$A38,ODD(CN$2)=CN$2),AND(EVEN($A38)=$A38,EVEN(CN$2)=CN$2)),CN$1,-100))","v":1678.125},{"$f":"IF('Ceiling Speaker Calculator'!$C$29=\"Square\",CO$1,IF(OR(AND(ODD($A38)=$A38,ODD(CO$2)=CO$2),AND(EVEN($A38)=$A38,EVEN(CO$2)=CO$2)),CO$1,-100))","v":1696.875},{"$f":"IF('Ceiling Speaker Calculator'!$C$29=\"Square\",CP$1,IF(OR(AND(ODD($A38)=$A38,ODD(CP$2)=CP$2),AND(EVEN($A38)=$A38,EVEN(CP$2)=CP$2)),CP$1,-100))","v":1715.625},{"$f":"IF('Ceiling Speaker Calculator'!$C$29=\"Square\",CQ$1,IF(OR(AND(ODD($A38)=$A38,ODD(CQ$2)=CQ$2),AND(EVEN($A38)=$A38,EVEN(CQ$2)=CQ$2)),CQ$1,-100))","v":1734.375},{"$f":"IF('Ceiling Speaker Calculator'!$C$29=\"Square\",CR$1,IF(OR(AND(ODD($A38)=$A38,ODD(CR$2)=CR$2),AND(EVEN($A38)=$A38,EVEN(CR$2)=CR$2)),CR$1,-100))","v":1753.125},{"$f":"IF('Ceiling Speaker Calculator'!$C$29=\"Square\",CS$1,IF(OR(AND(ODD($A38)=$A38,ODD(CS$2)=CS$2),AND(EVEN($A38)=$A38,EVEN(CS$2)=CS$2)),CS$1,-100))","v":1771.875},{"$f":"IF('Ceiling Speaker Calculator'!$C$29=\"Square\",CT$1,IF(OR(AND(ODD($A38)=$A38,ODD(CT$2)=CT$2),AND(EVEN($A38)=$A38,EVEN(CT$2)=CT$2)),CT$1,-100))","v":1790.625},{"$f":"IF('Ceiling Speaker Calculator'!$C$29=\"Square\",CU$1,IF(OR(AND(ODD($A38)=$A38,ODD(CU$2)=CU$2),AND(EVEN($A38)=$A38,EVEN(CU$2)=CU$2)),CU$1,-100))","v":1809.375},{"$f":"IF('Ceiling Speaker Calculator'!$C$29=\"Square\",CV$1,IF(OR(AND(ODD($A38)=$A38,ODD(CV$2)=CV$2),AND(EVEN($A38)=$A38,EVEN(CV$2)=CV$2)),CV$1,-100))","v":1828.125},{"$f":"IF('Ceiling Speaker Calculator'!$C$29=\"Square\",CW$1,IF(OR(AND(ODD($A38)=$A38,ODD(CW$2)=CW$2),AND(EVEN($A38)=$A38,EVEN(CW$2)=CW$2)),CW$1,-100))","v":1846.875},{"$f":"IF('Ceiling Speaker Calculator'!$C$29=\"Square\",CX$1,IF(OR(AND(ODD($A38)=$A38,ODD(CX$2)=CX$2),AND(EVEN($A38)=$A38,EVEN(CX$2)=CX$2)),CX$1,-100))","v":1865.625}]
[37,{"$f":"B38+'Ceiling Speaker Calculator'!$K$16","v":730},{"$f":"IF('Ceiling Speaker Calculator'!$C$29=\"Square\",C$1,IF(OR(AND(ODD($A39)=$A39,ODD(C$2)=C$2),AND(EVEN($A39)=$A39,EVEN(C$2)=C$2)),C$1,-100))","v":9.375},{"$f":"IF('Ceiling Speaker Calculator'!$C$29=\"Square\",D$1,IF(OR(AND(ODD($A39)=$A39,ODD(D$2)=D$2),AND(EVEN($A39)=$A39,EVEN(D$2)=D$2)),D$1,-100))","v":28.125},{"$f":"IF('Ceiling Speaker Calculator'!$C$29=\"Square\",E$1,IF(OR(AND(ODD($A39)=$A39,ODD(E$2)=E$2),AND(EVEN($A39)=$A39,EVEN(E$2)=E$2)),E$1,-100))","v":46.875},{"$f":"IF('Ceiling Speaker Calculator'!$C$29=\"Square\",F$1,IF(OR(AND(ODD($A39)=$A39,ODD(F$2)=F$2),AND(EVEN($A39)=$A39,EVEN(F$2)=F$2)),F$1,-100))","v":65.625},{"$f":"IF('Ceiling Speaker Calculator'!$C$29=\"Square\",G$1,IF(OR(AND(ODD($A39)=$A39,ODD(G$2)=G$2),AND(EVEN($A39)=$A39,EVEN(G$2)=G$2)),G$1,-100))","v":84.375},{"$f":"IF('Ceiling Speaker Calculator'!$C$29=\"Square\",H$1,IF(OR(AND(ODD($A39)=$A39,ODD(H$2)=H$2),AND(EVEN($A39)=$A39,EVEN(H$2)=H$2)),H$1,-100))","v":103.125},{"$f":"IF('Ceiling Speaker Calculator'!$C$29=\"Square\",I$1,IF(OR(AND(ODD($A39)=$A39,ODD(I$2)=I$2),AND(EVEN($A39)=$A39,EVEN(I$2)=I$2)),I$1,-100))","v":121.875},{"$f":"IF('Ceiling Speaker Calculator'!$C$29=\"Square\",J$1,IF(OR(AND(ODD($A39)=$A39,ODD(J$2)=J$2),AND(EVEN($A39)=$A39,EVEN(J$2)=J$2)),J$1,-100))","v":140.625},{"$f":"IF('Ceiling Speaker Calculator'!$C$29=\"Square\",K$1,IF(OR(AND(ODD($A39)=$A39,ODD(K$2)=K$2),AND(EVEN($A39)=$A39,EVEN(K$2)=K$2)),K$1,-100))","v":159.375},{"$f":"IF('Ceiling Speaker Calculator'!$C$29=\"Square\",L$1,IF(OR(AND(ODD($A39)=$A39,ODD(L$2)=L$2),AND(EVEN($A39)=$A39,EVEN(L$2)=L$2)),L$1,-100))","v":178.125},{"$f":"IF('Ceiling Speaker Calculator'!$C$29=\"Square\",M$1,IF(OR(AND(ODD($A39)=$A39,ODD(M$2)=M$2),AND(EVEN($A39)=$A39,EVEN(M$2)=M$2)),M$1,-100))","v":196.875},{"$f":"IF('Ceiling Speaker Calculator'!$C$29=\"Square\",N$1,IF(OR(AND(ODD($A39)=$A39,ODD(N$2)=N$2),AND(EVEN($A39)=$A39,EVEN(N$2)=N$2)),N$1,-100))","v":215.625},{"$f":"IF('Ceiling Speaker Calculator'!$C$29=\"Square\",O$1,IF(OR(AND(ODD($A39)=$A39,ODD(O$2)=O$2),AND(EVEN($A39)=$A39,EVEN(O$2)=O$2)),O$1,-100))","v":234.375},{"$f":"IF('Ceiling Speaker Calculator'!$C$29=\"Square\",P$1,IF(OR(AND(ODD($A39)=$A39,ODD(P$2)=P$2),AND(EVEN($A39)=$A39,EVEN(P$2)=P$2)),P$1,-100))","v":253.125},{"$f":"IF('Ceiling Speaker Calculator'!$C$29=\"Square\",Q$1,IF(OR(AND(ODD($A39)=$A39,ODD(Q$2)=Q$2),AND(EVEN($A39)=$A39,EVEN(Q$2)=Q$2)),Q$1,-100))","v":271.875},{"$f":"IF('Ceiling Speaker Calculator'!$C$29=\"Square\",R$1,IF(OR(AND(ODD($A39)=$A39,ODD(R$2)=R$2),AND(EVEN($A39)=$A39,EVEN(R$2)=R$2)),R$1,-100))","v":290.625},{"$f":"IF('Ceiling Speaker Calculator'!$C$29=\"Square\",S$1,IF(OR(AND(ODD($A39)=$A39,ODD(S$2)=S$2),AND(EVEN($A39)=$A39,EVEN(S$2)=S$2)),S$1,-100))","v":309.375},{"$f":"IF('Ceiling Speaker Calculator'!$C$29=\"Square\",T$1,IF(OR(AND(ODD($A39)=$A39,ODD(T$2)=T$2),AND(EVEN($A39)=$A39,EVEN(T$2)=T$2)),T$1,-100))","v":328.125},{"$f":"IF('Ceiling Speaker Calculator'!$C$29=\"Square\",U$1,IF(OR(AND(ODD($A39)=$A39,ODD(U$2)=U$2),AND(EVEN($A39)=$A39,EVEN(U$2)=U$2)),U$1,-100))","v":346.875},{"$f":"IF('Ceiling Speaker Calculator'!$C$29=\"Square\",V$1,IF(OR(AND(ODD($A39)=$A39,ODD(V$2)=V$2),AND(EVEN($A39)=$A39,EVEN(V$2)=V$2)),V$1,-100))","v":365.625},{"$f":"IF('Ceiling Speaker Calculator'!$C$29=\"Square\",W$1,IF(OR(AND(ODD($A39)=$A39,ODD(W$2)=W$2),AND(EVEN($A39)=$A39,EVEN(W$2)=W$2)),W$1,-100))","v":384.375},{"$f":"IF('Ceiling Speaker Calculator'!$C$29=\"Square\",X$1,IF(OR(AND(ODD($A39)=$A39,ODD(X$2)=X$2),AND(EVEN($A39)=$A39,EVEN(X$2)=X$2)),X$1,-100))","v":403.125},{"$f":"IF('Ceiling Speaker Calculator'!$C$29=\"Square\",Y$1,IF(OR(AND(ODD($A39)=$A39,ODD(Y$2)=Y$2),AND(EVEN($A39)=$A39,EVEN(Y$2)=Y$2)),Y$1,-100))","v":421.875},{"$f":"IF('Ceiling Speaker Calculator'!$C$29=\"Square\",Z$1,IF(OR(AND(ODD($A39)=$A39,ODD(Z$2)=Z$2),AND(EVEN($A39)=$A39,EVEN(Z$2)=Z$2)),Z$1,-100))","v":440.625},{"$f":"IF('Ceiling Speaker Calculator'!$C$29=\"Square\",AA$1,IF(OR(AND(ODD($A39)=$A39,ODD(AA$2)=AA$2),AND(EVEN($A39)=$A39,EVEN(AA$2)=AA$2)),AA$1,-100))","v":459.375},{"$f":"IF('Ceiling Speaker Calculator'!$C$29=\"Square\",AB$1,IF(OR(AND(ODD($A39)=$A39,ODD(AB$2)=AB$2),AND(EVEN($A39)=$A39,EVEN(AB$2)=AB$2)),AB$1,-100))","v":478.125},{"$f":"IF('Ceiling Speaker Calculator'!$C$29=\"Square\",AC$1,IF(OR(AND(ODD($A39)=$A39,ODD(AC$2)=AC$2),AND(EVEN($A39)=$A39,EVEN(AC$2)=AC$2)),AC$1,-100))","v":496.875},{"$f":"IF('Ceiling Speaker Calculator'!$C$29=\"Square\",AD$1,IF(OR(AND(ODD($A39)=$A39,ODD(AD$2)=AD$2),AND(EVEN($A39)=$A39,EVEN(AD$2)=AD$2)),AD$1,-100))","v":515.625},{"$f":"IF('Ceiling Speaker Calculator'!$C$29=\"Square\",AE$1,IF(OR(AND(ODD($A39)=$A39,ODD(AE$2)=AE$2),AND(EVEN($A39)=$A39,EVEN(AE$2)=AE$2)),AE$1,-100))","v":534.375},{"$f":"IF('Ceiling Speaker Calculator'!$C$29=\"Square\",AF$1,IF(OR(AND(ODD($A39)=$A39,ODD(AF$2)=AF$2),AND(EVEN($A39)=$A39,EVEN(AF$2)=AF$2)),AF$1,-100))","v":553.125},{"$f":"IF('Ceiling Speaker Calculator'!$C$29=\"Square\",AG$1,IF(OR(AND(ODD($A39)=$A39,ODD(AG$2)=AG$2),AND(EVEN($A39)=$A39,EVEN(AG$2)=AG$2)),AG$1,-100))","v":571.875},{"$f":"IF('Ceiling Speaker Calculator'!$C$29=\"Square\",AH$1,IF(OR(AND(ODD($A39)=$A39,ODD(AH$2)=AH$2),AND(EVEN($A39)=$A39,EVEN(AH$2)=AH$2)),AH$1,-100))","v":590.625},{"$f":"IF('Ceiling Speaker Calculator'!$C$29=\"Square\",AI$1,IF(OR(AND(ODD($A39)=$A39,ODD(AI$2)=AI$2),AND(EVEN($A39)=$A39,EVEN(AI$2)=AI$2)),AI$1,-100))","v":609.375},{"$f":"IF('Ceiling Speaker Calculator'!$C$29=\"Square\",AJ$1,IF(OR(AND(ODD($A39)=$A39,ODD(AJ$2)=AJ$2),AND(EVEN($A39)=$A39,EVEN(AJ$2)=AJ$2)),AJ$1,-100))","v":628.125},{"$f":"IF('Ceiling Speaker Calculator'!$C$29=\"Square\",AK$1,IF(OR(AND(ODD($A39)=$A39,ODD(AK$2)=AK$2),AND(EVEN($A39)=$A39,EVEN(AK$2)=AK$2)),AK$1,-100))","v":646.875},{"$f":"IF('Ceiling Speaker Calculator'!$C$29=\"Square\",AL$1,IF(OR(AND(ODD($A39)=$A39,ODD(AL$2)=AL$2),AND(EVEN($A39)=$A39,EVEN(AL$2)=AL$2)),AL$1,-100))","v":665.625},{"$f":"IF('Ceiling Speaker Calculator'!$C$29=\"Square\",AM$1,IF(OR(AND(ODD($A39)=$A39,ODD(AM$2)=AM$2),AND(EVEN($A39)=$A39,EVEN(AM$2)=AM$2)),AM$1,-100))","v":684.375},{"$f":"IF('Ceiling Speaker Calculator'!$C$29=\"Square\",AN$1,IF(OR(AND(ODD($A39)=$A39,ODD(AN$2)=AN$2),AND(EVEN($A39)=$A39,EVEN(AN$2)=AN$2)),AN$1,-100))","v":703.125},{"$f":"IF('Ceiling Speaker Calculator'!$C$29=\"Square\",AO$1,IF(OR(AND(ODD($A39)=$A39,ODD(AO$2)=AO$2),AND(EVEN($A39)=$A39,EVEN(AO$2)=AO$2)),AO$1,-100))","v":721.875},{"$f":"IF('Ceiling Speaker Calculator'!$C$29=\"Square\",AP$1,IF(OR(AND(ODD($A39)=$A39,ODD(AP$2)=AP$2),AND(EVEN($A39)=$A39,EVEN(AP$2)=AP$2)),AP$1,-100))","v":740.625},{"$f":"IF('Ceiling Speaker Calculator'!$C$29=\"Square\",AQ$1,IF(OR(AND(ODD($A39)=$A39,ODD(AQ$2)=AQ$2),AND(EVEN($A39)=$A39,EVEN(AQ$2)=AQ$2)),AQ$1,-100))","v":759.375},{"$f":"IF('Ceiling Speaker Calculator'!$C$29=\"Square\",AR$1,IF(OR(AND(ODD($A39)=$A39,ODD(AR$2)=AR$2),AND(EVEN($A39)=$A39,EVEN(AR$2)=AR$2)),AR$1,-100))","v":778.125},{"$f":"IF('Ceiling Speaker Calculator'!$C$29=\"Square\",AS$1,IF(OR(AND(ODD($A39)=$A39,ODD(AS$2)=AS$2),AND(EVEN($A39)=$A39,EVEN(AS$2)=AS$2)),AS$1,-100))","v":796.875},{"$f":"IF('Ceiling Speaker Calculator'!$C$29=\"Square\",AT$1,IF(OR(AND(ODD($A39)=$A39,ODD(AT$2)=AT$2),AND(EVEN($A39)=$A39,EVEN(AT$2)=AT$2)),AT$1,-100))","v":815.625},{"$f":"IF('Ceiling Speaker Calculator'!$C$29=\"Square\",AU$1,IF(OR(AND(ODD($A39)=$A39,ODD(AU$2)=AU$2),AND(EVEN($A39)=$A39,EVEN(AU$2)=AU$2)),AU$1,-100))","v":834.375},{"$f":"IF('Ceiling Speaker Calculator'!$C$29=\"Square\",AV$1,IF(OR(AND(ODD($A39)=$A39,ODD(AV$2)=AV$2),AND(EVEN($A39)=$A39,EVEN(AV$2)=AV$2)),AV$1,-100))","v":853.125},{"$f":"IF('Ceiling Speaker Calculator'!$C$29=\"Square\",AW$1,IF(OR(AND(ODD($A39)=$A39,ODD(AW$2)=AW$2),AND(EVEN($A39)=$A39,EVEN(AW$2)=AW$2)),AW$1,-100))","v":871.875},{"$f":"IF('Ceiling Speaker Calculator'!$C$29=\"Square\",AX$1,IF(OR(AND(ODD($A39)=$A39,ODD(AX$2)=AX$2),AND(EVEN($A39)=$A39,EVEN(AX$2)=AX$2)),AX$1,-100))","v":890.625},{"$f":"IF('Ceiling Speaker Calculator'!$C$29=\"Square\",AY$1,IF(OR(AND(ODD($A39)=$A39,ODD(AY$2)=AY$2),AND(EVEN($A39)=$A39,EVEN(AY$2)=AY$2)),AY$1,-100))","v":909.375},{"$f":"IF('Ceiling Speaker Calculator'!$C$29=\"Square\",AZ$1,IF(OR(AND(ODD($A39)=$A39,ODD(AZ$2)=AZ$2),AND(EVEN($A39)=$A39,EVEN(AZ$2)=AZ$2)),AZ$1,-100))","v":928.125},{"$f":"IF('Ceiling Speaker Calculator'!$C$29=\"Square\",BA$1,IF(OR(AND(ODD($A39)=$A39,ODD(BA$2)=BA$2),AND(EVEN($A39)=$A39,EVEN(BA$2)=BA$2)),BA$1,-100))","v":946.875},{"$f":"IF('Ceiling Speaker Calculator'!$C$29=\"Square\",BB$1,IF(OR(AND(ODD($A39)=$A39,ODD(BB$2)=BB$2),AND(EVEN($A39)=$A39,EVEN(BB$2)=BB$2)),BB$1,-100))","v":965.625},{"$f":"IF('Ceiling Speaker Calculator'!$C$29=\"Square\",BC$1,IF(OR(AND(ODD($A39)=$A39,ODD(BC$2)=BC$2),AND(EVEN($A39)=$A39,EVEN(BC$2)=BC$2)),BC$1,-100))","v":984.375},{"$f":"IF('Ceiling Speaker Calculator'!$C$29=\"Square\",BD$1,IF(OR(AND(ODD($A39)=$A39,ODD(BD$2)=BD$2),AND(EVEN($A39)=$A39,EVEN(BD$2)=BD$2)),BD$1,-100))","v":1003.125},{"$f":"IF('Ceiling Speaker Calculator'!$C$29=\"Square\",BE$1,IF(OR(AND(ODD($A39)=$A39,ODD(BE$2)=BE$2),AND(EVEN($A39)=$A39,EVEN(BE$2)=BE$2)),BE$1,-100))","v":1021.875},{"$f":"IF('Ceiling Speaker Calculator'!$C$29=\"Square\",BF$1,IF(OR(AND(ODD($A39)=$A39,ODD(BF$2)=BF$2),AND(EVEN($A39)=$A39,EVEN(BF$2)=BF$2)),BF$1,-100))","v":1040.625},{"$f":"IF('Ceiling Speaker Calculator'!$C$29=\"Square\",BG$1,IF(OR(AND(ODD($A39)=$A39,ODD(BG$2)=BG$2),AND(EVEN($A39)=$A39,EVEN(BG$2)=BG$2)),BG$1,-100))","v":1059.375},{"$f":"IF('Ceiling Speaker Calculator'!$C$29=\"Square\",BH$1,IF(OR(AND(ODD($A39)=$A39,ODD(BH$2)=BH$2),AND(EVEN($A39)=$A39,EVEN(BH$2)=BH$2)),BH$1,-100))","v":1078.125},{"$f":"IF('Ceiling Speaker Calculator'!$C$29=\"Square\",BI$1,IF(OR(AND(ODD($A39)=$A39,ODD(BI$2)=BI$2),AND(EVEN($A39)=$A39,EVEN(BI$2)=BI$2)),BI$1,-100))","v":1096.875},{"$f":"IF('Ceiling Speaker Calculator'!$C$29=\"Square\",BJ$1,IF(OR(AND(ODD($A39)=$A39,ODD(BJ$2)=BJ$2),AND(EVEN($A39)=$A39,EVEN(BJ$2)=BJ$2)),BJ$1,-100))","v":1115.625},{"$f":"IF('Ceiling Speaker Calculator'!$C$29=\"Square\",BK$1,IF(OR(AND(ODD($A39)=$A39,ODD(BK$2)=BK$2),AND(EVEN($A39)=$A39,EVEN(BK$2)=BK$2)),BK$1,-100))","v":1134.375},{"$f":"IF('Ceiling Speaker Calculator'!$C$29=\"Square\",BL$1,IF(OR(AND(ODD($A39)=$A39,ODD(BL$2)=BL$2),AND(EVEN($A39)=$A39,EVEN(BL$2)=BL$2)),BL$1,-100))","v":1153.125},{"$f":"IF('Ceiling Speaker Calculator'!$C$29=\"Square\",BM$1,IF(OR(AND(ODD($A39)=$A39,ODD(BM$2)=BM$2),AND(EVEN($A39)=$A39,EVEN(BM$2)=BM$2)),BM$1,-100))","v":1171.875},{"$f":"IF('Ceiling Speaker Calculator'!$C$29=\"Square\",BN$1,IF(OR(AND(ODD($A39)=$A39,ODD(BN$2)=BN$2),AND(EVEN($A39)=$A39,EVEN(BN$2)=BN$2)),BN$1,-100))","v":1190.625},{"$f":"IF('Ceiling Speaker Calculator'!$C$29=\"Square\",BO$1,IF(OR(AND(ODD($A39)=$A39,ODD(BO$2)=BO$2),AND(EVEN($A39)=$A39,EVEN(BO$2)=BO$2)),BO$1,-100))","v":1209.375},{"$f":"IF('Ceiling Speaker Calculator'!$C$29=\"Square\",BP$1,IF(OR(AND(ODD($A39)=$A39,ODD(BP$2)=BP$2),AND(EVEN($A39)=$A39,EVEN(BP$2)=BP$2)),BP$1,-100))","v":1228.125},{"$f":"IF('Ceiling Speaker Calculator'!$C$29=\"Square\",BQ$1,IF(OR(AND(ODD($A39)=$A39,ODD(BQ$2)=BQ$2),AND(EVEN($A39)=$A39,EVEN(BQ$2)=BQ$2)),BQ$1,-100))","v":1246.875},{"$f":"IF('Ceiling Speaker Calculator'!$C$29=\"Square\",BR$1,IF(OR(AND(ODD($A39)=$A39,ODD(BR$2)=BR$2),AND(EVEN($A39)=$A39,EVEN(BR$2)=BR$2)),BR$1,-100))","v":1265.625},{"$f":"IF('Ceiling Speaker Calculator'!$C$29=\"Square\",BS$1,IF(OR(AND(ODD($A39)=$A39,ODD(BS$2)=BS$2),AND(EVEN($A39)=$A39,EVEN(BS$2)=BS$2)),BS$1,-100))","v":1284.375},{"$f":"IF('Ceiling Speaker Calculator'!$C$29=\"Square\",BT$1,IF(OR(AND(ODD($A39)=$A39,ODD(BT$2)=BT$2),AND(EVEN($A39)=$A39,EVEN(BT$2)=BT$2)),BT$1,-100))","v":1303.125},{"$f":"IF('Ceiling Speaker Calculator'!$C$29=\"Square\",BU$1,IF(OR(AND(ODD($A39)=$A39,ODD(BU$2)=BU$2),AND(EVEN($A39)=$A39,EVEN(BU$2)=BU$2)),BU$1,-100))","v":1321.875},{"$f":"IF('Ceiling Speaker Calculator'!$C$29=\"Square\",BV$1,IF(OR(AND(ODD($A39)=$A39,ODD(BV$2)=BV$2),AND(EVEN($A39)=$A39,EVEN(BV$2)=BV$2)),BV$1,-100))","v":1340.625},{"$f":"IF('Ceiling Speaker Calculator'!$C$29=\"Square\",BW$1,IF(OR(AND(ODD($A39)=$A39,ODD(BW$2)=BW$2),AND(EVEN($A39)=$A39,EVEN(BW$2)=BW$2)),BW$1,-100))","v":1359.375},{"$f":"IF('Ceiling Speaker Calculator'!$C$29=\"Square\",BX$1,IF(OR(AND(ODD($A39)=$A39,ODD(BX$2)=BX$2),AND(EVEN($A39)=$A39,EVEN(BX$2)=BX$2)),BX$1,-100))","v":1378.125},{"$f":"IF('Ceiling Speaker Calculator'!$C$29=\"Square\",BY$1,IF(OR(AND(ODD($A39)=$A39,ODD(BY$2)=BY$2),AND(EVEN($A39)=$A39,EVEN(BY$2)=BY$2)),BY$1,-100))","v":1396.875},{"$f":"IF('Ceiling Speaker Calculator'!$C$29=\"Square\",BZ$1,IF(OR(AND(ODD($A39)=$A39,ODD(BZ$2)=BZ$2),AND(EVEN($A39)=$A39,EVEN(BZ$2)=BZ$2)),BZ$1,-100))","v":1415.625},{"$f":"IF('Ceiling Speaker Calculator'!$C$29=\"Square\",CA$1,IF(OR(AND(ODD($A39)=$A39,ODD(CA$2)=CA$2),AND(EVEN($A39)=$A39,EVEN(CA$2)=CA$2)),CA$1,-100))","v":1434.375},{"$f":"IF('Ceiling Speaker Calculator'!$C$29=\"Square\",CB$1,IF(OR(AND(ODD($A39)=$A39,ODD(CB$2)=CB$2),AND(EVEN($A39)=$A39,EVEN(CB$2)=CB$2)),CB$1,-100))","v":1453.125},{"$f":"IF('Ceiling Speaker Calculator'!$C$29=\"Square\",CC$1,IF(OR(AND(ODD($A39)=$A39,ODD(CC$2)=CC$2),AND(EVEN($A39)=$A39,EVEN(CC$2)=CC$2)),CC$1,-100))","v":1471.875},{"$f":"IF('Ceiling Speaker Calculator'!$C$29=\"Square\",CD$1,IF(OR(AND(ODD($A39)=$A39,ODD(CD$2)=CD$2),AND(EVEN($A39)=$A39,EVEN(CD$2)=CD$2)),CD$1,-100))","v":1490.625},{"$f":"IF('Ceiling Speaker Calculator'!$C$29=\"Square\",CE$1,IF(OR(AND(ODD($A39)=$A39,ODD(CE$2)=CE$2),AND(EVEN($A39)=$A39,EVEN(CE$2)=CE$2)),CE$1,-100))","v":1509.375},{"$f":"IF('Ceiling Speaker Calculator'!$C$29=\"Square\",CF$1,IF(OR(AND(ODD($A39)=$A39,ODD(CF$2)=CF$2),AND(EVEN($A39)=$A39,EVEN(CF$2)=CF$2)),CF$1,-100))","v":1528.125},{"$f":"IF('Ceiling Speaker Calculator'!$C$29=\"Square\",CG$1,IF(OR(AND(ODD($A39)=$A39,ODD(CG$2)=CG$2),AND(EVEN($A39)=$A39,EVEN(CG$2)=CG$2)),CG$1,-100))","v":1546.875},{"$f":"IF('Ceiling Speaker Calculator'!$C$29=\"Square\",CH$1,IF(OR(AND(ODD($A39)=$A39,ODD(CH$2)=CH$2),AND(EVEN($A39)=$A39,EVEN(CH$2)=CH$2)),CH$1,-100))","v":1565.625},{"$f":"IF('Ceiling Speaker Calculator'!$C$29=\"Square\",CI$1,IF(OR(AND(ODD($A39)=$A39,ODD(CI$2)=CI$2),AND(EVEN($A39)=$A39,EVEN(CI$2)=CI$2)),CI$1,-100))","v":1584.375},{"$f":"IF('Ceiling Speaker Calculator'!$C$29=\"Square\",CJ$1,IF(OR(AND(ODD($A39)=$A39,ODD(CJ$2)=CJ$2),AND(EVEN($A39)=$A39,EVEN(CJ$2)=CJ$2)),CJ$1,-100))","v":1603.125},{"$f":"IF('Ceiling Speaker Calculator'!$C$29=\"Square\",CK$1,IF(OR(AND(ODD($A39)=$A39,ODD(CK$2)=CK$2),AND(EVEN($A39)=$A39,EVEN(CK$2)=CK$2)),CK$1,-100))","v":1621.875},{"$f":"IF('Ceiling Speaker Calculator'!$C$29=\"Square\",CL$1,IF(OR(AND(ODD($A39)=$A39,ODD(CL$2)=CL$2),AND(EVEN($A39)=$A39,EVEN(CL$2)=CL$2)),CL$1,-100))","v":1640.625},{"$f":"IF('Ceiling Speaker Calculator'!$C$29=\"Square\",CM$1,IF(OR(AND(ODD($A39)=$A39,ODD(CM$2)=CM$2),AND(EVEN($A39)=$A39,EVEN(CM$2)=CM$2)),CM$1,-100))","v":1659.375},{"$f":"IF('Ceiling Speaker Calculator'!$C$29=\"Square\",CN$1,IF(OR(AND(ODD($A39)=$A39,ODD(CN$2)=CN$2),AND(EVEN($A39)=$A39,EVEN(CN$2)=CN$2)),CN$1,-100))","v":1678.125},{"$f":"IF('Ceiling Speaker Calculator'!$C$29=\"Square\",CO$1,IF(OR(AND(ODD($A39)=$A39,ODD(CO$2)=CO$2),AND(EVEN($A39)=$A39,EVEN(CO$2)=CO$2)),CO$1,-100))","v":1696.875},{"$f":"IF('Ceiling Speaker Calculator'!$C$29=\"Square\",CP$1,IF(OR(AND(ODD($A39)=$A39,ODD(CP$2)=CP$2),AND(EVEN($A39)=$A39,EVEN(CP$2)=CP$2)),CP$1,-100))","v":1715.625},{"$f":"IF('Ceiling Speaker Calculator'!$C$29=\"Square\",CQ$1,IF(OR(AND(ODD($A39)=$A39,ODD(CQ$2)=CQ$2),AND(EVEN($A39)=$A39,EVEN(CQ$2)=CQ$2)),CQ$1,-100))","v":1734.375},{"$f":"IF('Ceiling Speaker Calculator'!$C$29=\"Square\",CR$1,IF(OR(AND(ODD($A39)=$A39,ODD(CR$2)=CR$2),AND(EVEN($A39)=$A39,EVEN(CR$2)=CR$2)),CR$1,-100))","v":1753.125},{"$f":"IF('Ceiling Speaker Calculator'!$C$29=\"Square\",CS$1,IF(OR(AND(ODD($A39)=$A39,ODD(CS$2)=CS$2),AND(EVEN($A39)=$A39,EVEN(CS$2)=CS$2)),CS$1,-100))","v":1771.875},{"$f":"IF('Ceiling Speaker Calculator'!$C$29=\"Square\",CT$1,IF(OR(AND(ODD($A39)=$A39,ODD(CT$2)=CT$2),AND(EVEN($A39)=$A39,EVEN(CT$2)=CT$2)),CT$1,-100))","v":1790.625},{"$f":"IF('Ceiling Speaker Calculator'!$C$29=\"Square\",CU$1,IF(OR(AND(ODD($A39)=$A39,ODD(CU$2)=CU$2),AND(EVEN($A39)=$A39,EVEN(CU$2)=CU$2)),CU$1,-100))","v":1809.375},{"$f":"IF('Ceiling Speaker Calculator'!$C$29=\"Square\",CV$1,IF(OR(AND(ODD($A39)=$A39,ODD(CV$2)=CV$2),AND(EVEN($A39)=$A39,EVEN(CV$2)=CV$2)),CV$1,-100))","v":1828.125},{"$f":"IF('Ceiling Speaker Calculator'!$C$29=\"Square\",CW$1,IF(OR(AND(ODD($A39)=$A39,ODD(CW$2)=CW$2),AND(EVEN($A39)=$A39,EVEN(CW$2)=CW$2)),CW$1,-100))","v":1846.875},{"$f":"IF('Ceiling Speaker Calculator'!$C$29=\"Square\",CX$1,IF(OR(AND(ODD($A39)=$A39,ODD(CX$2)=CX$2),AND(EVEN($A39)=$A39,EVEN(CX$2)=CX$2)),CX$1,-100))","v":1865.625}]
[38,{"$f":"B39+'Ceiling Speaker Calculator'!$K$16","v":750},{"$f":"IF('Ceiling Speaker Calculator'!$C$29=\"Square\",C$1,IF(OR(AND(ODD($A40)=$A40,ODD(C$2)=C$2),AND(EVEN($A40)=$A40,EVEN(C$2)=C$2)),C$1,-100))","v":9.375},{"$f":"IF('Ceiling Speaker Calculator'!$C$29=\"Square\",D$1,IF(OR(AND(ODD($A40)=$A40,ODD(D$2)=D$2),AND(EVEN($A40)=$A40,EVEN(D$2)=D$2)),D$1,-100))","v":28.125},{"$f":"IF('Ceiling Speaker Calculator'!$C$29=\"Square\",E$1,IF(OR(AND(ODD($A40)=$A40,ODD(E$2)=E$2),AND(EVEN($A40)=$A40,EVEN(E$2)=E$2)),E$1,-100))","v":46.875},{"$f":"IF('Ceiling Speaker Calculator'!$C$29=\"Square\",F$1,IF(OR(AND(ODD($A40)=$A40,ODD(F$2)=F$2),AND(EVEN($A40)=$A40,EVEN(F$2)=F$2)),F$1,-100))","v":65.625},{"$f":"IF('Ceiling Speaker Calculator'!$C$29=\"Square\",G$1,IF(OR(AND(ODD($A40)=$A40,ODD(G$2)=G$2),AND(EVEN($A40)=$A40,EVEN(G$2)=G$2)),G$1,-100))","v":84.375},{"$f":"IF('Ceiling Speaker Calculator'!$C$29=\"Square\",H$1,IF(OR(AND(ODD($A40)=$A40,ODD(H$2)=H$2),AND(EVEN($A40)=$A40,EVEN(H$2)=H$2)),H$1,-100))","v":103.125},{"$f":"IF('Ceiling Speaker Calculator'!$C$29=\"Square\",I$1,IF(OR(AND(ODD($A40)=$A40,ODD(I$2)=I$2),AND(EVEN($A40)=$A40,EVEN(I$2)=I$2)),I$1,-100))","v":121.875},{"$f":"IF('Ceiling Speaker Calculator'!$C$29=\"Square\",J$1,IF(OR(AND(ODD($A40)=$A40,ODD(J$2)=J$2),AND(EVEN($A40)=$A40,EVEN(J$2)=J$2)),J$1,-100))","v":140.625},{"$f":"IF('Ceiling Speaker Calculator'!$C$29=\"Square\",K$1,IF(OR(AND(ODD($A40)=$A40,ODD(K$2)=K$2),AND(EVEN($A40)=$A40,EVEN(K$2)=K$2)),K$1,-100))","v":159.375},{"$f":"IF('Ceiling Speaker Calculator'!$C$29=\"Square\",L$1,IF(OR(AND(ODD($A40)=$A40,ODD(L$2)=L$2),AND(EVEN($A40)=$A40,EVEN(L$2)=L$2)),L$1,-100))","v":178.125},{"$f":"IF('Ceiling Speaker Calculator'!$C$29=\"Square\",M$1,IF(OR(AND(ODD($A40)=$A40,ODD(M$2)=M$2),AND(EVEN($A40)=$A40,EVEN(M$2)=M$2)),M$1,-100))","v":196.875},{"$f":"IF('Ceiling Speaker Calculator'!$C$29=\"Square\",N$1,IF(OR(AND(ODD($A40)=$A40,ODD(N$2)=N$2),AND(EVEN($A40)=$A40,EVEN(N$2)=N$2)),N$1,-100))","v":215.625},{"$f":"IF('Ceiling Speaker Calculator'!$C$29=\"Square\",O$1,IF(OR(AND(ODD($A40)=$A40,ODD(O$2)=O$2),AND(EVEN($A40)=$A40,EVEN(O$2)=O$2)),O$1,-100))","v":234.375},{"$f":"IF('Ceiling Speaker Calculator'!$C$29=\"Square\",P$1,IF(OR(AND(ODD($A40)=$A40,ODD(P$2)=P$2),AND(EVEN($A40)=$A40,EVEN(P$2)=P$2)),P$1,-100))","v":253.125},{"$f":"IF('Ceiling Speaker Calculator'!$C$29=\"Square\",Q$1,IF(OR(AND(ODD($A40)=$A40,ODD(Q$2)=Q$2),AND(EVEN($A40)=$A40,EVEN(Q$2)=Q$2)),Q$1,-100))","v":271.875},{"$f":"IF('Ceiling Speaker Calculator'!$C$29=\"Square\",R$1,IF(OR(AND(ODD($A40)=$A40,ODD(R$2)=R$2),AND(EVEN($A40)=$A40,EVEN(R$2)=R$2)),R$1,-100))","v":290.625},{"$f":"IF('Ceiling Speaker Calculator'!$C$29=\"Square\",S$1,IF(OR(AND(ODD($A40)=$A40,ODD(S$2)=S$2),AND(EVEN($A40)=$A40,EVEN(S$2)=S$2)),S$1,-100))","v":309.375},{"$f":"IF('Ceiling Speaker Calculator'!$C$29=\"Square\",T$1,IF(OR(AND(ODD($A40)=$A40,ODD(T$2)=T$2),AND(EVEN($A40)=$A40,EVEN(T$2)=T$2)),T$1,-100))","v":328.125},{"$f":"IF('Ceiling Speaker Calculator'!$C$29=\"Square\",U$1,IF(OR(AND(ODD($A40)=$A40,ODD(U$2)=U$2),AND(EVEN($A40)=$A40,EVEN(U$2)=U$2)),U$1,-100))","v":346.875},{"$f":"IF('Ceiling Speaker Calculator'!$C$29=\"Square\",V$1,IF(OR(AND(ODD($A40)=$A40,ODD(V$2)=V$2),AND(EVEN($A40)=$A40,EVEN(V$2)=V$2)),V$1,-100))","v":365.625},{"$f":"IF('Ceiling Speaker Calculator'!$C$29=\"Square\",W$1,IF(OR(AND(ODD($A40)=$A40,ODD(W$2)=W$2),AND(EVEN($A40)=$A40,EVEN(W$2)=W$2)),W$1,-100))","v":384.375},{"$f":"IF('Ceiling Speaker Calculator'!$C$29=\"Square\",X$1,IF(OR(AND(ODD($A40)=$A40,ODD(X$2)=X$2),AND(EVEN($A40)=$A40,EVEN(X$2)=X$2)),X$1,-100))","v":403.125},{"$f":"IF('Ceiling Speaker Calculator'!$C$29=\"Square\",Y$1,IF(OR(AND(ODD($A40)=$A40,ODD(Y$2)=Y$2),AND(EVEN($A40)=$A40,EVEN(Y$2)=Y$2)),Y$1,-100))","v":421.875},{"$f":"IF('Ceiling Speaker Calculator'!$C$29=\"Square\",Z$1,IF(OR(AND(ODD($A40)=$A40,ODD(Z$2)=Z$2),AND(EVEN($A40)=$A40,EVEN(Z$2)=Z$2)),Z$1,-100))","v":440.625},{"$f":"IF('Ceiling Speaker Calculator'!$C$29=\"Square\",AA$1,IF(OR(AND(ODD($A40)=$A40,ODD(AA$2)=AA$2),AND(EVEN($A40)=$A40,EVEN(AA$2)=AA$2)),AA$1,-100))","v":459.375},{"$f":"IF('Ceiling Speaker Calculator'!$C$29=\"Square\",AB$1,IF(OR(AND(ODD($A40)=$A40,ODD(AB$2)=AB$2),AND(EVEN($A40)=$A40,EVEN(AB$2)=AB$2)),AB$1,-100))","v":478.125},{"$f":"IF('Ceiling Speaker Calculator'!$C$29=\"Square\",AC$1,IF(OR(AND(ODD($A40)=$A40,ODD(AC$2)=AC$2),AND(EVEN($A40)=$A40,EVEN(AC$2)=AC$2)),AC$1,-100))","v":496.875},{"$f":"IF('Ceiling Speaker Calculator'!$C$29=\"Square\",AD$1,IF(OR(AND(ODD($A40)=$A40,ODD(AD$2)=AD$2),AND(EVEN($A40)=$A40,EVEN(AD$2)=AD$2)),AD$1,-100))","v":515.625},{"$f":"IF('Ceiling Speaker Calculator'!$C$29=\"Square\",AE$1,IF(OR(AND(ODD($A40)=$A40,ODD(AE$2)=AE$2),AND(EVEN($A40)=$A40,EVEN(AE$2)=AE$2)),AE$1,-100))","v":534.375},{"$f":"IF('Ceiling Speaker Calculator'!$C$29=\"Square\",AF$1,IF(OR(AND(ODD($A40)=$A40,ODD(AF$2)=AF$2),AND(EVEN($A40)=$A40,EVEN(AF$2)=AF$2)),AF$1,-100))","v":553.125},{"$f":"IF('Ceiling Speaker Calculator'!$C$29=\"Square\",AG$1,IF(OR(AND(ODD($A40)=$A40,ODD(AG$2)=AG$2),AND(EVEN($A40)=$A40,EVEN(AG$2)=AG$2)),AG$1,-100))","v":571.875},{"$f":"IF('Ceiling Speaker Calculator'!$C$29=\"Square\",AH$1,IF(OR(AND(ODD($A40)=$A40,ODD(AH$2)=AH$2),AND(EVEN($A40)=$A40,EVEN(AH$2)=AH$2)),AH$1,-100))","v":590.625},{"$f":"IF('Ceiling Speaker Calculator'!$C$29=\"Square\",AI$1,IF(OR(AND(ODD($A40)=$A40,ODD(AI$2)=AI$2),AND(EVEN($A40)=$A40,EVEN(AI$2)=AI$2)),AI$1,-100))","v":609.375},{"$f":"IF('Ceiling Speaker Calculator'!$C$29=\"Square\",AJ$1,IF(OR(AND(ODD($A40)=$A40,ODD(AJ$2)=AJ$2),AND(EVEN($A40)=$A40,EVEN(AJ$2)=AJ$2)),AJ$1,-100))","v":628.125},{"$f":"IF('Ceiling Speaker Calculator'!$C$29=\"Square\",AK$1,IF(OR(AND(ODD($A40)=$A40,ODD(AK$2)=AK$2),AND(EVEN($A40)=$A40,EVEN(AK$2)=AK$2)),AK$1,-100))","v":646.875},{"$f":"IF('Ceiling Speaker Calculator'!$C$29=\"Square\",AL$1,IF(OR(AND(ODD($A40)=$A40,ODD(AL$2)=AL$2),AND(EVEN($A40)=$A40,EVEN(AL$2)=AL$2)),AL$1,-100))","v":665.625},{"$f":"IF('Ceiling Speaker Calculator'!$C$29=\"Square\",AM$1,IF(OR(AND(ODD($A40)=$A40,ODD(AM$2)=AM$2),AND(EVEN($A40)=$A40,EVEN(AM$2)=AM$2)),AM$1,-100))","v":684.375},{"$f":"IF('Ceiling Speaker Calculator'!$C$29=\"Square\",AN$1,IF(OR(AND(ODD($A40)=$A40,ODD(AN$2)=AN$2),AND(EVEN($A40)=$A40,EVEN(AN$2)=AN$2)),AN$1,-100))","v":703.125},{"$f":"IF('Ceiling Speaker Calculator'!$C$29=\"Square\",AO$1,IF(OR(AND(ODD($A40)=$A40,ODD(AO$2)=AO$2),AND(EVEN($A40)=$A40,EVEN(AO$2)=AO$2)),AO$1,-100))","v":721.875},{"$f":"IF('Ceiling Speaker Calculator'!$C$29=\"Square\",AP$1,IF(OR(AND(ODD($A40)=$A40,ODD(AP$2)=AP$2),AND(EVEN($A40)=$A40,EVEN(AP$2)=AP$2)),AP$1,-100))","v":740.625},{"$f":"IF('Ceiling Speaker Calculator'!$C$29=\"Square\",AQ$1,IF(OR(AND(ODD($A40)=$A40,ODD(AQ$2)=AQ$2),AND(EVEN($A40)=$A40,EVEN(AQ$2)=AQ$2)),AQ$1,-100))","v":759.375},{"$f":"IF('Ceiling Speaker Calculator'!$C$29=\"Square\",AR$1,IF(OR(AND(ODD($A40)=$A40,ODD(AR$2)=AR$2),AND(EVEN($A40)=$A40,EVEN(AR$2)=AR$2)),AR$1,-100))","v":778.125},{"$f":"IF('Ceiling Speaker Calculator'!$C$29=\"Square\",AS$1,IF(OR(AND(ODD($A40)=$A40,ODD(AS$2)=AS$2),AND(EVEN($A40)=$A40,EVEN(AS$2)=AS$2)),AS$1,-100))","v":796.875},{"$f":"IF('Ceiling Speaker Calculator'!$C$29=\"Square\",AT$1,IF(OR(AND(ODD($A40)=$A40,ODD(AT$2)=AT$2),AND(EVEN($A40)=$A40,EVEN(AT$2)=AT$2)),AT$1,-100))","v":815.625},{"$f":"IF('Ceiling Speaker Calculator'!$C$29=\"Square\",AU$1,IF(OR(AND(ODD($A40)=$A40,ODD(AU$2)=AU$2),AND(EVEN($A40)=$A40,EVEN(AU$2)=AU$2)),AU$1,-100))","v":834.375},{"$f":"IF('Ceiling Speaker Calculator'!$C$29=\"Square\",AV$1,IF(OR(AND(ODD($A40)=$A40,ODD(AV$2)=AV$2),AND(EVEN($A40)=$A40,EVEN(AV$2)=AV$2)),AV$1,-100))","v":853.125},{"$f":"IF('Ceiling Speaker Calculator'!$C$29=\"Square\",AW$1,IF(OR(AND(ODD($A40)=$A40,ODD(AW$2)=AW$2),AND(EVEN($A40)=$A40,EVEN(AW$2)=AW$2)),AW$1,-100))","v":871.875},{"$f":"IF('Ceiling Speaker Calculator'!$C$29=\"Square\",AX$1,IF(OR(AND(ODD($A40)=$A40,ODD(AX$2)=AX$2),AND(EVEN($A40)=$A40,EVEN(AX$2)=AX$2)),AX$1,-100))","v":890.625},{"$f":"IF('Ceiling Speaker Calculator'!$C$29=\"Square\",AY$1,IF(OR(AND(ODD($A40)=$A40,ODD(AY$2)=AY$2),AND(EVEN($A40)=$A40,EVEN(AY$2)=AY$2)),AY$1,-100))","v":909.375},{"$f":"IF('Ceiling Speaker Calculator'!$C$29=\"Square\",AZ$1,IF(OR(AND(ODD($A40)=$A40,ODD(AZ$2)=AZ$2),AND(EVEN($A40)=$A40,EVEN(AZ$2)=AZ$2)),AZ$1,-100))","v":928.125},{"$f":"IF('Ceiling Speaker Calculator'!$C$29=\"Square\",BA$1,IF(OR(AND(ODD($A40)=$A40,ODD(BA$2)=BA$2),AND(EVEN($A40)=$A40,EVEN(BA$2)=BA$2)),BA$1,-100))","v":946.875},{"$f":"IF('Ceiling Speaker Calculator'!$C$29=\"Square\",BB$1,IF(OR(AND(ODD($A40)=$A40,ODD(BB$2)=BB$2),AND(EVEN($A40)=$A40,EVEN(BB$2)=BB$2)),BB$1,-100))","v":965.625},{"$f":"IF('Ceiling Speaker Calculator'!$C$29=\"Square\",BC$1,IF(OR(AND(ODD($A40)=$A40,ODD(BC$2)=BC$2),AND(EVEN($A40)=$A40,EVEN(BC$2)=BC$2)),BC$1,-100))","v":984.375},{"$f":"IF('Ceiling Speaker Calculator'!$C$29=\"Square\",BD$1,IF(OR(AND(ODD($A40)=$A40,ODD(BD$2)=BD$2),AND(EVEN($A40)=$A40,EVEN(BD$2)=BD$2)),BD$1,-100))","v":1003.125},{"$f":"IF('Ceiling Speaker Calculator'!$C$29=\"Square\",BE$1,IF(OR(AND(ODD($A40)=$A40,ODD(BE$2)=BE$2),AND(EVEN($A40)=$A40,EVEN(BE$2)=BE$2)),BE$1,-100))","v":1021.875},{"$f":"IF('Ceiling Speaker Calculator'!$C$29=\"Square\",BF$1,IF(OR(AND(ODD($A40)=$A40,ODD(BF$2)=BF$2),AND(EVEN($A40)=$A40,EVEN(BF$2)=BF$2)),BF$1,-100))","v":1040.625},{"$f":"IF('Ceiling Speaker Calculator'!$C$29=\"Square\",BG$1,IF(OR(AND(ODD($A40)=$A40,ODD(BG$2)=BG$2),AND(EVEN($A40)=$A40,EVEN(BG$2)=BG$2)),BG$1,-100))","v":1059.375},{"$f":"IF('Ceiling Speaker Calculator'!$C$29=\"Square\",BH$1,IF(OR(AND(ODD($A40)=$A40,ODD(BH$2)=BH$2),AND(EVEN($A40)=$A40,EVEN(BH$2)=BH$2)),BH$1,-100))","v":1078.125},{"$f":"IF('Ceiling Speaker Calculator'!$C$29=\"Square\",BI$1,IF(OR(AND(ODD($A40)=$A40,ODD(BI$2)=BI$2),AND(EVEN($A40)=$A40,EVEN(BI$2)=BI$2)),BI$1,-100))","v":1096.875},{"$f":"IF('Ceiling Speaker Calculator'!$C$29=\"Square\",BJ$1,IF(OR(AND(ODD($A40)=$A40,ODD(BJ$2)=BJ$2),AND(EVEN($A40)=$A40,EVEN(BJ$2)=BJ$2)),BJ$1,-100))","v":1115.625},{"$f":"IF('Ceiling Speaker Calculator'!$C$29=\"Square\",BK$1,IF(OR(AND(ODD($A40)=$A40,ODD(BK$2)=BK$2),AND(EVEN($A40)=$A40,EVEN(BK$2)=BK$2)),BK$1,-100))","v":1134.375},{"$f":"IF('Ceiling Speaker Calculator'!$C$29=\"Square\",BL$1,IF(OR(AND(ODD($A40)=$A40,ODD(BL$2)=BL$2),AND(EVEN($A40)=$A40,EVEN(BL$2)=BL$2)),BL$1,-100))","v":1153.125},{"$f":"IF('Ceiling Speaker Calculator'!$C$29=\"Square\",BM$1,IF(OR(AND(ODD($A40)=$A40,ODD(BM$2)=BM$2),AND(EVEN($A40)=$A40,EVEN(BM$2)=BM$2)),BM$1,-100))","v":1171.875},{"$f":"IF('Ceiling Speaker Calculator'!$C$29=\"Square\",BN$1,IF(OR(AND(ODD($A40)=$A40,ODD(BN$2)=BN$2),AND(EVEN($A40)=$A40,EVEN(BN$2)=BN$2)),BN$1,-100))","v":1190.625},{"$f":"IF('Ceiling Speaker Calculator'!$C$29=\"Square\",BO$1,IF(OR(AND(ODD($A40)=$A40,ODD(BO$2)=BO$2),AND(EVEN($A40)=$A40,EVEN(BO$2)=BO$2)),BO$1,-100))","v":1209.375},{"$f":"IF('Ceiling Speaker Calculator'!$C$29=\"Square\",BP$1,IF(OR(AND(ODD($A40)=$A40,ODD(BP$2)=BP$2),AND(EVEN($A40)=$A40,EVEN(BP$2)=BP$2)),BP$1,-100))","v":1228.125},{"$f":"IF('Ceiling Speaker Calculator'!$C$29=\"Square\",BQ$1,IF(OR(AND(ODD($A40)=$A40,ODD(BQ$2)=BQ$2),AND(EVEN($A40)=$A40,EVEN(BQ$2)=BQ$2)),BQ$1,-100))","v":1246.875},{"$f":"IF('Ceiling Speaker Calculator'!$C$29=\"Square\",BR$1,IF(OR(AND(ODD($A40)=$A40,ODD(BR$2)=BR$2),AND(EVEN($A40)=$A40,EVEN(BR$2)=BR$2)),BR$1,-100))","v":1265.625},{"$f":"IF('Ceiling Speaker Calculator'!$C$29=\"Square\",BS$1,IF(OR(AND(ODD($A40)=$A40,ODD(BS$2)=BS$2),AND(EVEN($A40)=$A40,EVEN(BS$2)=BS$2)),BS$1,-100))","v":1284.375},{"$f":"IF('Ceiling Speaker Calculator'!$C$29=\"Square\",BT$1,IF(OR(AND(ODD($A40)=$A40,ODD(BT$2)=BT$2),AND(EVEN($A40)=$A40,EVEN(BT$2)=BT$2)),BT$1,-100))","v":1303.125},{"$f":"IF('Ceiling Speaker Calculator'!$C$29=\"Square\",BU$1,IF(OR(AND(ODD($A40)=$A40,ODD(BU$2)=BU$2),AND(EVEN($A40)=$A40,EVEN(BU$2)=BU$2)),BU$1,-100))","v":1321.875},{"$f":"IF('Ceiling Speaker Calculator'!$C$29=\"Square\",BV$1,IF(OR(AND(ODD($A40)=$A40,ODD(BV$2)=BV$2),AND(EVEN($A40)=$A40,EVEN(BV$2)=BV$2)),BV$1,-100))","v":1340.625},{"$f":"IF('Ceiling Speaker Calculator'!$C$29=\"Square\",BW$1,IF(OR(AND(ODD($A40)=$A40,ODD(BW$2)=BW$2),AND(EVEN($A40)=$A40,EVEN(BW$2)=BW$2)),BW$1,-100))","v":1359.375},{"$f":"IF('Ceiling Speaker Calculator'!$C$29=\"Square\",BX$1,IF(OR(AND(ODD($A40)=$A40,ODD(BX$2)=BX$2),AND(EVEN($A40)=$A40,EVEN(BX$2)=BX$2)),BX$1,-100))","v":1378.125},{"$f":"IF('Ceiling Speaker Calculator'!$C$29=\"Square\",BY$1,IF(OR(AND(ODD($A40)=$A40,ODD(BY$2)=BY$2),AND(EVEN($A40)=$A40,EVEN(BY$2)=BY$2)),BY$1,-100))","v":1396.875},{"$f":"IF('Ceiling Speaker Calculator'!$C$29=\"Square\",BZ$1,IF(OR(AND(ODD($A40)=$A40,ODD(BZ$2)=BZ$2),AND(EVEN($A40)=$A40,EVEN(BZ$2)=BZ$2)),BZ$1,-100))","v":1415.625},{"$f":"IF('Ceiling Speaker Calculator'!$C$29=\"Square\",CA$1,IF(OR(AND(ODD($A40)=$A40,ODD(CA$2)=CA$2),AND(EVEN($A40)=$A40,EVEN(CA$2)=CA$2)),CA$1,-100))","v":1434.375},{"$f":"IF('Ceiling Speaker Calculator'!$C$29=\"Square\",CB$1,IF(OR(AND(ODD($A40)=$A40,ODD(CB$2)=CB$2),AND(EVEN($A40)=$A40,EVEN(CB$2)=CB$2)),CB$1,-100))","v":1453.125},{"$f":"IF('Ceiling Speaker Calculator'!$C$29=\"Square\",CC$1,IF(OR(AND(ODD($A40)=$A40,ODD(CC$2)=CC$2),AND(EVEN($A40)=$A40,EVEN(CC$2)=CC$2)),CC$1,-100))","v":1471.875},{"$f":"IF('Ceiling Speaker Calculator'!$C$29=\"Square\",CD$1,IF(OR(AND(ODD($A40)=$A40,ODD(CD$2)=CD$2),AND(EVEN($A40)=$A40,EVEN(CD$2)=CD$2)),CD$1,-100))","v":1490.625},{"$f":"IF('Ceiling Speaker Calculator'!$C$29=\"Square\",CE$1,IF(OR(AND(ODD($A40)=$A40,ODD(CE$2)=CE$2),AND(EVEN($A40)=$A40,EVEN(CE$2)=CE$2)),CE$1,-100))","v":1509.375},{"$f":"IF('Ceiling Speaker Calculator'!$C$29=\"Square\",CF$1,IF(OR(AND(ODD($A40)=$A40,ODD(CF$2)=CF$2),AND(EVEN($A40)=$A40,EVEN(CF$2)=CF$2)),CF$1,-100))","v":1528.125},{"$f":"IF('Ceiling Speaker Calculator'!$C$29=\"Square\",CG$1,IF(OR(AND(ODD($A40)=$A40,ODD(CG$2)=CG$2),AND(EVEN($A40)=$A40,EVEN(CG$2)=CG$2)),CG$1,-100))","v":1546.875},{"$f":"IF('Ceiling Speaker Calculator'!$C$29=\"Square\",CH$1,IF(OR(AND(ODD($A40)=$A40,ODD(CH$2)=CH$2),AND(EVEN($A40)=$A40,EVEN(CH$2)=CH$2)),CH$1,-100))","v":1565.625},{"$f":"IF('Ceiling Speaker Calculator'!$C$29=\"Square\",CI$1,IF(OR(AND(ODD($A40)=$A40,ODD(CI$2)=CI$2),AND(EVEN($A40)=$A40,EVEN(CI$2)=CI$2)),CI$1,-100))","v":1584.375},{"$f":"IF('Ceiling Speaker Calculator'!$C$29=\"Square\",CJ$1,IF(OR(AND(ODD($A40)=$A40,ODD(CJ$2)=CJ$2),AND(EVEN($A40)=$A40,EVEN(CJ$2)=CJ$2)),CJ$1,-100))","v":1603.125},{"$f":"IF('Ceiling Speaker Calculator'!$C$29=\"Square\",CK$1,IF(OR(AND(ODD($A40)=$A40,ODD(CK$2)=CK$2),AND(EVEN($A40)=$A40,EVEN(CK$2)=CK$2)),CK$1,-100))","v":1621.875},{"$f":"IF('Ceiling Speaker Calculator'!$C$29=\"Square\",CL$1,IF(OR(AND(ODD($A40)=$A40,ODD(CL$2)=CL$2),AND(EVEN($A40)=$A40,EVEN(CL$2)=CL$2)),CL$1,-100))","v":1640.625},{"$f":"IF('Ceiling Speaker Calculator'!$C$29=\"Square\",CM$1,IF(OR(AND(ODD($A40)=$A40,ODD(CM$2)=CM$2),AND(EVEN($A40)=$A40,EVEN(CM$2)=CM$2)),CM$1,-100))","v":1659.375},{"$f":"IF('Ceiling Speaker Calculator'!$C$29=\"Square\",CN$1,IF(OR(AND(ODD($A40)=$A40,ODD(CN$2)=CN$2),AND(EVEN($A40)=$A40,EVEN(CN$2)=CN$2)),CN$1,-100))","v":1678.125},{"$f":"IF('Ceiling Speaker Calculator'!$C$29=\"Square\",CO$1,IF(OR(AND(ODD($A40)=$A40,ODD(CO$2)=CO$2),AND(EVEN($A40)=$A40,EVEN(CO$2)=CO$2)),CO$1,-100))","v":1696.875},{"$f":"IF('Ceiling Speaker Calculator'!$C$29=\"Square\",CP$1,IF(OR(AND(ODD($A40)=$A40,ODD(CP$2)=CP$2),AND(EVEN($A40)=$A40,EVEN(CP$2)=CP$2)),CP$1,-100))","v":1715.625},{"$f":"IF('Ceiling Speaker Calculator'!$C$29=\"Square\",CQ$1,IF(OR(AND(ODD($A40)=$A40,ODD(CQ$2)=CQ$2),AND(EVEN($A40)=$A40,EVEN(CQ$2)=CQ$2)),CQ$1,-100))","v":1734.375},{"$f":"IF('Ceiling Speaker Calculator'!$C$29=\"Square\",CR$1,IF(OR(AND(ODD($A40)=$A40,ODD(CR$2)=CR$2),AND(EVEN($A40)=$A40,EVEN(CR$2)=CR$2)),CR$1,-100))","v":1753.125},{"$f":"IF('Ceiling Speaker Calculator'!$C$29=\"Square\",CS$1,IF(OR(AND(ODD($A40)=$A40,ODD(CS$2)=CS$2),AND(EVEN($A40)=$A40,EVEN(CS$2)=CS$2)),CS$1,-100))","v":1771.875},{"$f":"IF('Ceiling Speaker Calculator'!$C$29=\"Square\",CT$1,IF(OR(AND(ODD($A40)=$A40,ODD(CT$2)=CT$2),AND(EVEN($A40)=$A40,EVEN(CT$2)=CT$2)),CT$1,-100))","v":1790.625},{"$f":"IF('Ceiling Speaker Calculator'!$C$29=\"Square\",CU$1,IF(OR(AND(ODD($A40)=$A40,ODD(CU$2)=CU$2),AND(EVEN($A40)=$A40,EVEN(CU$2)=CU$2)),CU$1,-100))","v":1809.375},{"$f":"IF('Ceiling Speaker Calculator'!$C$29=\"Square\",CV$1,IF(OR(AND(ODD($A40)=$A40,ODD(CV$2)=CV$2),AND(EVEN($A40)=$A40,EVEN(CV$2)=CV$2)),CV$1,-100))","v":1828.125},{"$f":"IF('Ceiling Speaker Calculator'!$C$29=\"Square\",CW$1,IF(OR(AND(ODD($A40)=$A40,ODD(CW$2)=CW$2),AND(EVEN($A40)=$A40,EVEN(CW$2)=CW$2)),CW$1,-100))","v":1846.875},{"$f":"IF('Ceiling Speaker Calculator'!$C$29=\"Square\",CX$1,IF(OR(AND(ODD($A40)=$A40,ODD(CX$2)=CX$2),AND(EVEN($A40)=$A40,EVEN(CX$2)=CX$2)),CX$1,-100))","v":1865.625}]
[39,{"$f":"B40+'Ceiling Speaker Calculator'!$K$16","v":770},{"$f":"IF('Ceiling Speaker Calculator'!$C$29=\"Square\",C$1,IF(OR(AND(ODD($A41)=$A41,ODD(C$2)=C$2),AND(EVEN($A41)=$A41,EVEN(C$2)=C$2)),C$1,-100))","v":9.375},{"$f":"IF('Ceiling Speaker Calculator'!$C$29=\"Square\",D$1,IF(OR(AND(ODD($A41)=$A41,ODD(D$2)=D$2),AND(EVEN($A41)=$A41,EVEN(D$2)=D$2)),D$1,-100))","v":28.125},{"$f":"IF('Ceiling Speaker Calculator'!$C$29=\"Square\",E$1,IF(OR(AND(ODD($A41)=$A41,ODD(E$2)=E$2),AND(EVEN($A41)=$A41,EVEN(E$2)=E$2)),E$1,-100))","v":46.875},{"$f":"IF('Ceiling Speaker Calculator'!$C$29=\"Square\",F$1,IF(OR(AND(ODD($A41)=$A41,ODD(F$2)=F$2),AND(EVEN($A41)=$A41,EVEN(F$2)=F$2)),F$1,-100))","v":65.625},{"$f":"IF('Ceiling Speaker Calculator'!$C$29=\"Square\",G$1,IF(OR(AND(ODD($A41)=$A41,ODD(G$2)=G$2),AND(EVEN($A41)=$A41,EVEN(G$2)=G$2)),G$1,-100))","v":84.375},{"$f":"IF('Ceiling Speaker Calculator'!$C$29=\"Square\",H$1,IF(OR(AND(ODD($A41)=$A41,ODD(H$2)=H$2),AND(EVEN($A41)=$A41,EVEN(H$2)=H$2)),H$1,-100))","v":103.125},{"$f":"IF('Ceiling Speaker Calculator'!$C$29=\"Square\",I$1,IF(OR(AND(ODD($A41)=$A41,ODD(I$2)=I$2),AND(EVEN($A41)=$A41,EVEN(I$2)=I$2)),I$1,-100))","v":121.875},{"$f":"IF('Ceiling Speaker Calculator'!$C$29=\"Square\",J$1,IF(OR(AND(ODD($A41)=$A41,ODD(J$2)=J$2),AND(EVEN($A41)=$A41,EVEN(J$2)=J$2)),J$1,-100))","v":140.625},{"$f":"IF('Ceiling Speaker Calculator'!$C$29=\"Square\",K$1,IF(OR(AND(ODD($A41)=$A41,ODD(K$2)=K$2),AND(EVEN($A41)=$A41,EVEN(K$2)=K$2)),K$1,-100))","v":159.375},{"$f":"IF('Ceiling Speaker Calculator'!$C$29=\"Square\",L$1,IF(OR(AND(ODD($A41)=$A41,ODD(L$2)=L$2),AND(EVEN($A41)=$A41,EVEN(L$2)=L$2)),L$1,-100))","v":178.125},{"$f":"IF('Ceiling Speaker Calculator'!$C$29=\"Square\",M$1,IF(OR(AND(ODD($A41)=$A41,ODD(M$2)=M$2),AND(EVEN($A41)=$A41,EVEN(M$2)=M$2)),M$1,-100))","v":196.875},{"$f":"IF('Ceiling Speaker Calculator'!$C$29=\"Square\",N$1,IF(OR(AND(ODD($A41)=$A41,ODD(N$2)=N$2),AND(EVEN($A41)=$A41,EVEN(N$2)=N$2)),N$1,-100))","v":215.625},{"$f":"IF('Ceiling Speaker Calculator'!$C$29=\"Square\",O$1,IF(OR(AND(ODD($A41)=$A41,ODD(O$2)=O$2),AND(EVEN($A41)=$A41,EVEN(O$2)=O$2)),O$1,-100))","v":234.375},{"$f":"IF('Ceiling Speaker Calculator'!$C$29=\"Square\",P$1,IF(OR(AND(ODD($A41)=$A41,ODD(P$2)=P$2),AND(EVEN($A41)=$A41,EVEN(P$2)=P$2)),P$1,-100))","v":253.125},{"$f":"IF('Ceiling Speaker Calculator'!$C$29=\"Square\",Q$1,IF(OR(AND(ODD($A41)=$A41,ODD(Q$2)=Q$2),AND(EVEN($A41)=$A41,EVEN(Q$2)=Q$2)),Q$1,-100))","v":271.875},{"$f":"IF('Ceiling Speaker Calculator'!$C$29=\"Square\",R$1,IF(OR(AND(ODD($A41)=$A41,ODD(R$2)=R$2),AND(EVEN($A41)=$A41,EVEN(R$2)=R$2)),R$1,-100))","v":290.625},{"$f":"IF('Ceiling Speaker Calculator'!$C$29=\"Square\",S$1,IF(OR(AND(ODD($A41)=$A41,ODD(S$2)=S$2),AND(EVEN($A41)=$A41,EVEN(S$2)=S$2)),S$1,-100))","v":309.375},{"$f":"IF('Ceiling Speaker Calculator'!$C$29=\"Square\",T$1,IF(OR(AND(ODD($A41)=$A41,ODD(T$2)=T$2),AND(EVEN($A41)=$A41,EVEN(T$2)=T$2)),T$1,-100))","v":328.125},{"$f":"IF('Ceiling Speaker Calculator'!$C$29=\"Square\",U$1,IF(OR(AND(ODD($A41)=$A41,ODD(U$2)=U$2),AND(EVEN($A41)=$A41,EVEN(U$2)=U$2)),U$1,-100))","v":346.875},{"$f":"IF('Ceiling Speaker Calculator'!$C$29=\"Square\",V$1,IF(OR(AND(ODD($A41)=$A41,ODD(V$2)=V$2),AND(EVEN($A41)=$A41,EVEN(V$2)=V$2)),V$1,-100))","v":365.625},{"$f":"IF('Ceiling Speaker Calculator'!$C$29=\"Square\",W$1,IF(OR(AND(ODD($A41)=$A41,ODD(W$2)=W$2),AND(EVEN($A41)=$A41,EVEN(W$2)=W$2)),W$1,-100))","v":384.375},{"$f":"IF('Ceiling Speaker Calculator'!$C$29=\"Square\",X$1,IF(OR(AND(ODD($A41)=$A41,ODD(X$2)=X$2),AND(EVEN($A41)=$A41,EVEN(X$2)=X$2)),X$1,-100))","v":403.125},{"$f":"IF('Ceiling Speaker Calculator'!$C$29=\"Square\",Y$1,IF(OR(AND(ODD($A41)=$A41,ODD(Y$2)=Y$2),AND(EVEN($A41)=$A41,EVEN(Y$2)=Y$2)),Y$1,-100))","v":421.875},{"$f":"IF('Ceiling Speaker Calculator'!$C$29=\"Square\",Z$1,IF(OR(AND(ODD($A41)=$A41,ODD(Z$2)=Z$2),AND(EVEN($A41)=$A41,EVEN(Z$2)=Z$2)),Z$1,-100))","v":440.625},{"$f":"IF('Ceiling Speaker Calculator'!$C$29=\"Square\",AA$1,IF(OR(AND(ODD($A41)=$A41,ODD(AA$2)=AA$2),AND(EVEN($A41)=$A41,EVEN(AA$2)=AA$2)),AA$1,-100))","v":459.375},{"$f":"IF('Ceiling Speaker Calculator'!$C$29=\"Square\",AB$1,IF(OR(AND(ODD($A41)=$A41,ODD(AB$2)=AB$2),AND(EVEN($A41)=$A41,EVEN(AB$2)=AB$2)),AB$1,-100))","v":478.125},{"$f":"IF('Ceiling Speaker Calculator'!$C$29=\"Square\",AC$1,IF(OR(AND(ODD($A41)=$A41,ODD(AC$2)=AC$2),AND(EVEN($A41)=$A41,EVEN(AC$2)=AC$2)),AC$1,-100))","v":496.875},{"$f":"IF('Ceiling Speaker Calculator'!$C$29=\"Square\",AD$1,IF(OR(AND(ODD($A41)=$A41,ODD(AD$2)=AD$2),AND(EVEN($A41)=$A41,EVEN(AD$2)=AD$2)),AD$1,-100))","v":515.625},{"$f":"IF('Ceiling Speaker Calculator'!$C$29=\"Square\",AE$1,IF(OR(AND(ODD($A41)=$A41,ODD(AE$2)=AE$2),AND(EVEN($A41)=$A41,EVEN(AE$2)=AE$2)),AE$1,-100))","v":534.375},{"$f":"IF('Ceiling Speaker Calculator'!$C$29=\"Square\",AF$1,IF(OR(AND(ODD($A41)=$A41,ODD(AF$2)=AF$2),AND(EVEN($A41)=$A41,EVEN(AF$2)=AF$2)),AF$1,-100))","v":553.125},{"$f":"IF('Ceiling Speaker Calculator'!$C$29=\"Square\",AG$1,IF(OR(AND(ODD($A41)=$A41,ODD(AG$2)=AG$2),AND(EVEN($A41)=$A41,EVEN(AG$2)=AG$2)),AG$1,-100))","v":571.875},{"$f":"IF('Ceiling Speaker Calculator'!$C$29=\"Square\",AH$1,IF(OR(AND(ODD($A41)=$A41,ODD(AH$2)=AH$2),AND(EVEN($A41)=$A41,EVEN(AH$2)=AH$2)),AH$1,-100))","v":590.625},{"$f":"IF('Ceiling Speaker Calculator'!$C$29=\"Square\",AI$1,IF(OR(AND(ODD($A41)=$A41,ODD(AI$2)=AI$2),AND(EVEN($A41)=$A41,EVEN(AI$2)=AI$2)),AI$1,-100))","v":609.375},{"$f":"IF('Ceiling Speaker Calculator'!$C$29=\"Square\",AJ$1,IF(OR(AND(ODD($A41)=$A41,ODD(AJ$2)=AJ$2),AND(EVEN($A41)=$A41,EVEN(AJ$2)=AJ$2)),AJ$1,-100))","v":628.125},{"$f":"IF('Ceiling Speaker Calculator'!$C$29=\"Square\",AK$1,IF(OR(AND(ODD($A41)=$A41,ODD(AK$2)=AK$2),AND(EVEN($A41)=$A41,EVEN(AK$2)=AK$2)),AK$1,-100))","v":646.875},{"$f":"IF('Ceiling Speaker Calculator'!$C$29=\"Square\",AL$1,IF(OR(AND(ODD($A41)=$A41,ODD(AL$2)=AL$2),AND(EVEN($A41)=$A41,EVEN(AL$2)=AL$2)),AL$1,-100))","v":665.625},{"$f":"IF('Ceiling Speaker Calculator'!$C$29=\"Square\",AM$1,IF(OR(AND(ODD($A41)=$A41,ODD(AM$2)=AM$2),AND(EVEN($A41)=$A41,EVEN(AM$2)=AM$2)),AM$1,-100))","v":684.375},{"$f":"IF('Ceiling Speaker Calculator'!$C$29=\"Square\",AN$1,IF(OR(AND(ODD($A41)=$A41,ODD(AN$2)=AN$2),AND(EVEN($A41)=$A41,EVEN(AN$2)=AN$2)),AN$1,-100))","v":703.125},{"$f":"IF('Ceiling Speaker Calculator'!$C$29=\"Square\",AO$1,IF(OR(AND(ODD($A41)=$A41,ODD(AO$2)=AO$2),AND(EVEN($A41)=$A41,EVEN(AO$2)=AO$2)),AO$1,-100))","v":721.875},{"$f":"IF('Ceiling Speaker Calculator'!$C$29=\"Square\",AP$1,IF(OR(AND(ODD($A41)=$A41,ODD(AP$2)=AP$2),AND(EVEN($A41)=$A41,EVEN(AP$2)=AP$2)),AP$1,-100))","v":740.625},{"$f":"IF('Ceiling Speaker Calculator'!$C$29=\"Square\",AQ$1,IF(OR(AND(ODD($A41)=$A41,ODD(AQ$2)=AQ$2),AND(EVEN($A41)=$A41,EVEN(AQ$2)=AQ$2)),AQ$1,-100))","v":759.375},{"$f":"IF('Ceiling Speaker Calculator'!$C$29=\"Square\",AR$1,IF(OR(AND(ODD($A41)=$A41,ODD(AR$2)=AR$2),AND(EVEN($A41)=$A41,EVEN(AR$2)=AR$2)),AR$1,-100))","v":778.125},{"$f":"IF('Ceiling Speaker Calculator'!$C$29=\"Square\",AS$1,IF(OR(AND(ODD($A41)=$A41,ODD(AS$2)=AS$2),AND(EVEN($A41)=$A41,EVEN(AS$2)=AS$2)),AS$1,-100))","v":796.875},{"$f":"IF('Ceiling Speaker Calculator'!$C$29=\"Square\",AT$1,IF(OR(AND(ODD($A41)=$A41,ODD(AT$2)=AT$2),AND(EVEN($A41)=$A41,EVEN(AT$2)=AT$2)),AT$1,-100))","v":815.625},{"$f":"IF('Ceiling Speaker Calculator'!$C$29=\"Square\",AU$1,IF(OR(AND(ODD($A41)=$A41,ODD(AU$2)=AU$2),AND(EVEN($A41)=$A41,EVEN(AU$2)=AU$2)),AU$1,-100))","v":834.375},{"$f":"IF('Ceiling Speaker Calculator'!$C$29=\"Square\",AV$1,IF(OR(AND(ODD($A41)=$A41,ODD(AV$2)=AV$2),AND(EVEN($A41)=$A41,EVEN(AV$2)=AV$2)),AV$1,-100))","v":853.125},{"$f":"IF('Ceiling Speaker Calculator'!$C$29=\"Square\",AW$1,IF(OR(AND(ODD($A41)=$A41,ODD(AW$2)=AW$2),AND(EVEN($A41)=$A41,EVEN(AW$2)=AW$2)),AW$1,-100))","v":871.875},{"$f":"IF('Ceiling Speaker Calculator'!$C$29=\"Square\",AX$1,IF(OR(AND(ODD($A41)=$A41,ODD(AX$2)=AX$2),AND(EVEN($A41)=$A41,EVEN(AX$2)=AX$2)),AX$1,-100))","v":890.625},{"$f":"IF('Ceiling Speaker Calculator'!$C$29=\"Square\",AY$1,IF(OR(AND(ODD($A41)=$A41,ODD(AY$2)=AY$2),AND(EVEN($A41)=$A41,EVEN(AY$2)=AY$2)),AY$1,-100))","v":909.375},{"$f":"IF('Ceiling Speaker Calculator'!$C$29=\"Square\",AZ$1,IF(OR(AND(ODD($A41)=$A41,ODD(AZ$2)=AZ$2),AND(EVEN($A41)=$A41,EVEN(AZ$2)=AZ$2)),AZ$1,-100))","v":928.125},{"$f":"IF('Ceiling Speaker Calculator'!$C$29=\"Square\",BA$1,IF(OR(AND(ODD($A41)=$A41,ODD(BA$2)=BA$2),AND(EVEN($A41)=$A41,EVEN(BA$2)=BA$2)),BA$1,-100))","v":946.875},{"$f":"IF('Ceiling Speaker Calculator'!$C$29=\"Square\",BB$1,IF(OR(AND(ODD($A41)=$A41,ODD(BB$2)=BB$2),AND(EVEN($A41)=$A41,EVEN(BB$2)=BB$2)),BB$1,-100))","v":965.625},{"$f":"IF('Ceiling Speaker Calculator'!$C$29=\"Square\",BC$1,IF(OR(AND(ODD($A41)=$A41,ODD(BC$2)=BC$2),AND(EVEN($A41)=$A41,EVEN(BC$2)=BC$2)),BC$1,-100))","v":984.375},{"$f":"IF('Ceiling Speaker Calculator'!$C$29=\"Square\",BD$1,IF(OR(AND(ODD($A41)=$A41,ODD(BD$2)=BD$2),AND(EVEN($A41)=$A41,EVEN(BD$2)=BD$2)),BD$1,-100))","v":1003.125},{"$f":"IF('Ceiling Speaker Calculator'!$C$29=\"Square\",BE$1,IF(OR(AND(ODD($A41)=$A41,ODD(BE$2)=BE$2),AND(EVEN($A41)=$A41,EVEN(BE$2)=BE$2)),BE$1,-100))","v":1021.875},{"$f":"IF('Ceiling Speaker Calculator'!$C$29=\"Square\",BF$1,IF(OR(AND(ODD($A41)=$A41,ODD(BF$2)=BF$2),AND(EVEN($A41)=$A41,EVEN(BF$2)=BF$2)),BF$1,-100))","v":1040.625},{"$f":"IF('Ceiling Speaker Calculator'!$C$29=\"Square\",BG$1,IF(OR(AND(ODD($A41)=$A41,ODD(BG$2)=BG$2),AND(EVEN($A41)=$A41,EVEN(BG$2)=BG$2)),BG$1,-100))","v":1059.375},{"$f":"IF('Ceiling Speaker Calculator'!$C$29=\"Square\",BH$1,IF(OR(AND(ODD($A41)=$A41,ODD(BH$2)=BH$2),AND(EVEN($A41)=$A41,EVEN(BH$2)=BH$2)),BH$1,-100))","v":1078.125},{"$f":"IF('Ceiling Speaker Calculator'!$C$29=\"Square\",BI$1,IF(OR(AND(ODD($A41)=$A41,ODD(BI$2)=BI$2),AND(EVEN($A41)=$A41,EVEN(BI$2)=BI$2)),BI$1,-100))","v":1096.875},{"$f":"IF('Ceiling Speaker Calculator'!$C$29=\"Square\",BJ$1,IF(OR(AND(ODD($A41)=$A41,ODD(BJ$2)=BJ$2),AND(EVEN($A41)=$A41,EVEN(BJ$2)=BJ$2)),BJ$1,-100))","v":1115.625},{"$f":"IF('Ceiling Speaker Calculator'!$C$29=\"Square\",BK$1,IF(OR(AND(ODD($A41)=$A41,ODD(BK$2)=BK$2),AND(EVEN($A41)=$A41,EVEN(BK$2)=BK$2)),BK$1,-100))","v":1134.375},{"$f":"IF('Ceiling Speaker Calculator'!$C$29=\"Square\",BL$1,IF(OR(AND(ODD($A41)=$A41,ODD(BL$2)=BL$2),AND(EVEN($A41)=$A41,EVEN(BL$2)=BL$2)),BL$1,-100))","v":1153.125},{"$f":"IF('Ceiling Speaker Calculator'!$C$29=\"Square\",BM$1,IF(OR(AND(ODD($A41)=$A41,ODD(BM$2)=BM$2),AND(EVEN($A41)=$A41,EVEN(BM$2)=BM$2)),BM$1,-100))","v":1171.875},{"$f":"IF('Ceiling Speaker Calculator'!$C$29=\"Square\",BN$1,IF(OR(AND(ODD($A41)=$A41,ODD(BN$2)=BN$2),AND(EVEN($A41)=$A41,EVEN(BN$2)=BN$2)),BN$1,-100))","v":1190.625},{"$f":"IF('Ceiling Speaker Calculator'!$C$29=\"Square\",BO$1,IF(OR(AND(ODD($A41)=$A41,ODD(BO$2)=BO$2),AND(EVEN($A41)=$A41,EVEN(BO$2)=BO$2)),BO$1,-100))","v":1209.375},{"$f":"IF('Ceiling Speaker Calculator'!$C$29=\"Square\",BP$1,IF(OR(AND(ODD($A41)=$A41,ODD(BP$2)=BP$2),AND(EVEN($A41)=$A41,EVEN(BP$2)=BP$2)),BP$1,-100))","v":1228.125},{"$f":"IF('Ceiling Speaker Calculator'!$C$29=\"Square\",BQ$1,IF(OR(AND(ODD($A41)=$A41,ODD(BQ$2)=BQ$2),AND(EVEN($A41)=$A41,EVEN(BQ$2)=BQ$2)),BQ$1,-100))","v":1246.875},{"$f":"IF('Ceiling Speaker Calculator'!$C$29=\"Square\",BR$1,IF(OR(AND(ODD($A41)=$A41,ODD(BR$2)=BR$2),AND(EVEN($A41)=$A41,EVEN(BR$2)=BR$2)),BR$1,-100))","v":1265.625},{"$f":"IF('Ceiling Speaker Calculator'!$C$29=\"Square\",BS$1,IF(OR(AND(ODD($A41)=$A41,ODD(BS$2)=BS$2),AND(EVEN($A41)=$A41,EVEN(BS$2)=BS$2)),BS$1,-100))","v":1284.375},{"$f":"IF('Ceiling Speaker Calculator'!$C$29=\"Square\",BT$1,IF(OR(AND(ODD($A41)=$A41,ODD(BT$2)=BT$2),AND(EVEN($A41)=$A41,EVEN(BT$2)=BT$2)),BT$1,-100))","v":1303.125},{"$f":"IF('Ceiling Speaker Calculator'!$C$29=\"Square\",BU$1,IF(OR(AND(ODD($A41)=$A41,ODD(BU$2)=BU$2),AND(EVEN($A41)=$A41,EVEN(BU$2)=BU$2)),BU$1,-100))","v":1321.875},{"$f":"IF('Ceiling Speaker Calculator'!$C$29=\"Square\",BV$1,IF(OR(AND(ODD($A41)=$A41,ODD(BV$2)=BV$2),AND(EVEN($A41)=$A41,EVEN(BV$2)=BV$2)),BV$1,-100))","v":1340.625},{"$f":"IF('Ceiling Speaker Calculator'!$C$29=\"Square\",BW$1,IF(OR(AND(ODD($A41)=$A41,ODD(BW$2)=BW$2),AND(EVEN($A41)=$A41,EVEN(BW$2)=BW$2)),BW$1,-100))","v":1359.375},{"$f":"IF('Ceiling Speaker Calculator'!$C$29=\"Square\",BX$1,IF(OR(AND(ODD($A41)=$A41,ODD(BX$2)=BX$2),AND(EVEN($A41)=$A41,EVEN(BX$2)=BX$2)),BX$1,-100))","v":1378.125},{"$f":"IF('Ceiling Speaker Calculator'!$C$29=\"Square\",BY$1,IF(OR(AND(ODD($A41)=$A41,ODD(BY$2)=BY$2),AND(EVEN($A41)=$A41,EVEN(BY$2)=BY$2)),BY$1,-100))","v":1396.875},{"$f":"IF('Ceiling Speaker Calculator'!$C$29=\"Square\",BZ$1,IF(OR(AND(ODD($A41)=$A41,ODD(BZ$2)=BZ$2),AND(EVEN($A41)=$A41,EVEN(BZ$2)=BZ$2)),BZ$1,-100))","v":1415.625},{"$f":"IF('Ceiling Speaker Calculator'!$C$29=\"Square\",CA$1,IF(OR(AND(ODD($A41)=$A41,ODD(CA$2)=CA$2),AND(EVEN($A41)=$A41,EVEN(CA$2)=CA$2)),CA$1,-100))","v":1434.375},{"$f":"IF('Ceiling Speaker Calculator'!$C$29=\"Square\",CB$1,IF(OR(AND(ODD($A41)=$A41,ODD(CB$2)=CB$2),AND(EVEN($A41)=$A41,EVEN(CB$2)=CB$2)),CB$1,-100))","v":1453.125},{"$f":"IF('Ceiling Speaker Calculator'!$C$29=\"Square\",CC$1,IF(OR(AND(ODD($A41)=$A41,ODD(CC$2)=CC$2),AND(EVEN($A41)=$A41,EVEN(CC$2)=CC$2)),CC$1,-100))","v":1471.875},{"$f":"IF('Ceiling Speaker Calculator'!$C$29=\"Square\",CD$1,IF(OR(AND(ODD($A41)=$A41,ODD(CD$2)=CD$2),AND(EVEN($A41)=$A41,EVEN(CD$2)=CD$2)),CD$1,-100))","v":1490.625},{"$f":"IF('Ceiling Speaker Calculator'!$C$29=\"Square\",CE$1,IF(OR(AND(ODD($A41)=$A41,ODD(CE$2)=CE$2),AND(EVEN($A41)=$A41,EVEN(CE$2)=CE$2)),CE$1,-100))","v":1509.375},{"$f":"IF('Ceiling Speaker Calculator'!$C$29=\"Square\",CF$1,IF(OR(AND(ODD($A41)=$A41,ODD(CF$2)=CF$2),AND(EVEN($A41)=$A41,EVEN(CF$2)=CF$2)),CF$1,-100))","v":1528.125},{"$f":"IF('Ceiling Speaker Calculator'!$C$29=\"Square\",CG$1,IF(OR(AND(ODD($A41)=$A41,ODD(CG$2)=CG$2),AND(EVEN($A41)=$A41,EVEN(CG$2)=CG$2)),CG$1,-100))","v":1546.875},{"$f":"IF('Ceiling Speaker Calculator'!$C$29=\"Square\",CH$1,IF(OR(AND(ODD($A41)=$A41,ODD(CH$2)=CH$2),AND(EVEN($A41)=$A41,EVEN(CH$2)=CH$2)),CH$1,-100))","v":1565.625},{"$f":"IF('Ceiling Speaker Calculator'!$C$29=\"Square\",CI$1,IF(OR(AND(ODD($A41)=$A41,ODD(CI$2)=CI$2),AND(EVEN($A41)=$A41,EVEN(CI$2)=CI$2)),CI$1,-100))","v":1584.375},{"$f":"IF('Ceiling Speaker Calculator'!$C$29=\"Square\",CJ$1,IF(OR(AND(ODD($A41)=$A41,ODD(CJ$2)=CJ$2),AND(EVEN($A41)=$A41,EVEN(CJ$2)=CJ$2)),CJ$1,-100))","v":1603.125},{"$f":"IF('Ceiling Speaker Calculator'!$C$29=\"Square\",CK$1,IF(OR(AND(ODD($A41)=$A41,ODD(CK$2)=CK$2),AND(EVEN($A41)=$A41,EVEN(CK$2)=CK$2)),CK$1,-100))","v":1621.875},{"$f":"IF('Ceiling Speaker Calculator'!$C$29=\"Square\",CL$1,IF(OR(AND(ODD($A41)=$A41,ODD(CL$2)=CL$2),AND(EVEN($A41)=$A41,EVEN(CL$2)=CL$2)),CL$1,-100))","v":1640.625},{"$f":"IF('Ceiling Speaker Calculator'!$C$29=\"Square\",CM$1,IF(OR(AND(ODD($A41)=$A41,ODD(CM$2)=CM$2),AND(EVEN($A41)=$A41,EVEN(CM$2)=CM$2)),CM$1,-100))","v":1659.375},{"$f":"IF('Ceiling Speaker Calculator'!$C$29=\"Square\",CN$1,IF(OR(AND(ODD($A41)=$A41,ODD(CN$2)=CN$2),AND(EVEN($A41)=$A41,EVEN(CN$2)=CN$2)),CN$1,-100))","v":1678.125},{"$f":"IF('Ceiling Speaker Calculator'!$C$29=\"Square\",CO$1,IF(OR(AND(ODD($A41)=$A41,ODD(CO$2)=CO$2),AND(EVEN($A41)=$A41,EVEN(CO$2)=CO$2)),CO$1,-100))","v":1696.875},{"$f":"IF('Ceiling Speaker Calculator'!$C$29=\"Square\",CP$1,IF(OR(AND(ODD($A41)=$A41,ODD(CP$2)=CP$2),AND(EVEN($A41)=$A41,EVEN(CP$2)=CP$2)),CP$1,-100))","v":1715.625},{"$f":"IF('Ceiling Speaker Calculator'!$C$29=\"Square\",CQ$1,IF(OR(AND(ODD($A41)=$A41,ODD(CQ$2)=CQ$2),AND(EVEN($A41)=$A41,EVEN(CQ$2)=CQ$2)),CQ$1,-100))","v":1734.375},{"$f":"IF('Ceiling Speaker Calculator'!$C$29=\"Square\",CR$1,IF(OR(AND(ODD($A41)=$A41,ODD(CR$2)=CR$2),AND(EVEN($A41)=$A41,EVEN(CR$2)=CR$2)),CR$1,-100))","v":1753.125},{"$f":"IF('Ceiling Speaker Calculator'!$C$29=\"Square\",CS$1,IF(OR(AND(ODD($A41)=$A41,ODD(CS$2)=CS$2),AND(EVEN($A41)=$A41,EVEN(CS$2)=CS$2)),CS$1,-100))","v":1771.875},{"$f":"IF('Ceiling Speaker Calculator'!$C$29=\"Square\",CT$1,IF(OR(AND(ODD($A41)=$A41,ODD(CT$2)=CT$2),AND(EVEN($A41)=$A41,EVEN(CT$2)=CT$2)),CT$1,-100))","v":1790.625},{"$f":"IF('Ceiling Speaker Calculator'!$C$29=\"Square\",CU$1,IF(OR(AND(ODD($A41)=$A41,ODD(CU$2)=CU$2),AND(EVEN($A41)=$A41,EVEN(CU$2)=CU$2)),CU$1,-100))","v":1809.375},{"$f":"IF('Ceiling Speaker Calculator'!$C$29=\"Square\",CV$1,IF(OR(AND(ODD($A41)=$A41,ODD(CV$2)=CV$2),AND(EVEN($A41)=$A41,EVEN(CV$2)=CV$2)),CV$1,-100))","v":1828.125},{"$f":"IF('Ceiling Speaker Calculator'!$C$29=\"Square\",CW$1,IF(OR(AND(ODD($A41)=$A41,ODD(CW$2)=CW$2),AND(EVEN($A41)=$A41,EVEN(CW$2)=CW$2)),CW$1,-100))","v":1846.875},{"$f":"IF('Ceiling Speaker Calculator'!$C$29=\"Square\",CX$1,IF(OR(AND(ODD($A41)=$A41,ODD(CX$2)=CX$2),AND(EVEN($A41)=$A41,EVEN(CX$2)=CX$2)),CX$1,-100))","v":1865.625}]
[40,{"$f":"B41+'Ceiling Speaker Calculator'!$K$16","v":790},{"$f":"IF('Ceiling Speaker Calculator'!$C$29=\"Square\",C$1,IF(OR(AND(ODD($A42)=$A42,ODD(C$2)=C$2),AND(EVEN($A42)=$A42,EVEN(C$2)=C$2)),C$1,-100))","v":9.375},{"$f":"IF('Ceiling Speaker Calculator'!$C$29=\"Square\",D$1,IF(OR(AND(ODD($A42)=$A42,ODD(D$2)=D$2),AND(EVEN($A42)=$A42,EVEN(D$2)=D$2)),D$1,-100))","v":28.125},{"$f":"IF('Ceiling Speaker Calculator'!$C$29=\"Square\",E$1,IF(OR(AND(ODD($A42)=$A42,ODD(E$2)=E$2),AND(EVEN($A42)=$A42,EVEN(E$2)=E$2)),E$1,-100))","v":46.875},{"$f":"IF('Ceiling Speaker Calculator'!$C$29=\"Square\",F$1,IF(OR(AND(ODD($A42)=$A42,ODD(F$2)=F$2),AND(EVEN($A42)=$A42,EVEN(F$2)=F$2)),F$1,-100))","v":65.625},{"$f":"IF('Ceiling Speaker Calculator'!$C$29=\"Square\",G$1,IF(OR(AND(ODD($A42)=$A42,ODD(G$2)=G$2),AND(EVEN($A42)=$A42,EVEN(G$2)=G$2)),G$1,-100))","v":84.375},{"$f":"IF('Ceiling Speaker Calculator'!$C$29=\"Square\",H$1,IF(OR(AND(ODD($A42)=$A42,ODD(H$2)=H$2),AND(EVEN($A42)=$A42,EVEN(H$2)=H$2)),H$1,-100))","v":103.125},{"$f":"IF('Ceiling Speaker Calculator'!$C$29=\"Square\",I$1,IF(OR(AND(ODD($A42)=$A42,ODD(I$2)=I$2),AND(EVEN($A42)=$A42,EVEN(I$2)=I$2)),I$1,-100))","v":121.875},{"$f":"IF('Ceiling Speaker Calculator'!$C$29=\"Square\",J$1,IF(OR(AND(ODD($A42)=$A42,ODD(J$2)=J$2),AND(EVEN($A42)=$A42,EVEN(J$2)=J$2)),J$1,-100))","v":140.625},{"$f":"IF('Ceiling Speaker Calculator'!$C$29=\"Square\",K$1,IF(OR(AND(ODD($A42)=$A42,ODD(K$2)=K$2),AND(EVEN($A42)=$A42,EVEN(K$2)=K$2)),K$1,-100))","v":159.375},{"$f":"IF('Ceiling Speaker Calculator'!$C$29=\"Square\",L$1,IF(OR(AND(ODD($A42)=$A42,ODD(L$2)=L$2),AND(EVEN($A42)=$A42,EVEN(L$2)=L$2)),L$1,-100))","v":178.125},{"$f":"IF('Ceiling Speaker Calculator'!$C$29=\"Square\",M$1,IF(OR(AND(ODD($A42)=$A42,ODD(M$2)=M$2),AND(EVEN($A42)=$A42,EVEN(M$2)=M$2)),M$1,-100))","v":196.875},{"$f":"IF('Ceiling Speaker Calculator'!$C$29=\"Square\",N$1,IF(OR(AND(ODD($A42)=$A42,ODD(N$2)=N$2),AND(EVEN($A42)=$A42,EVEN(N$2)=N$2)),N$1,-100))","v":215.625},{"$f":"IF('Ceiling Speaker Calculator'!$C$29=\"Square\",O$1,IF(OR(AND(ODD($A42)=$A42,ODD(O$2)=O$2),AND(EVEN($A42)=$A42,EVEN(O$2)=O$2)),O$1,-100))","v":234.375},{"$f":"IF('Ceiling Speaker Calculator'!$C$29=\"Square\",P$1,IF(OR(AND(ODD($A42)=$A42,ODD(P$2)=P$2),AND(EVEN($A42)=$A42,EVEN(P$2)=P$2)),P$1,-100))","v":253.125},{"$f":"IF('Ceiling Speaker Calculator'!$C$29=\"Square\",Q$1,IF(OR(AND(ODD($A42)=$A42,ODD(Q$2)=Q$2),AND(EVEN($A42)=$A42,EVEN(Q$2)=Q$2)),Q$1,-100))","v":271.875},{"$f":"IF('Ceiling Speaker Calculator'!$C$29=\"Square\",R$1,IF(OR(AND(ODD($A42)=$A42,ODD(R$2)=R$2),AND(EVEN($A42)=$A42,EVEN(R$2)=R$2)),R$1,-100))","v":290.625},{"$f":"IF('Ceiling Speaker Calculator'!$C$29=\"Square\",S$1,IF(OR(AND(ODD($A42)=$A42,ODD(S$2)=S$2),AND(EVEN($A42)=$A42,EVEN(S$2)=S$2)),S$1,-100))","v":309.375},{"$f":"IF('Ceiling Speaker Calculator'!$C$29=\"Square\",T$1,IF(OR(AND(ODD($A42)=$A42,ODD(T$2)=T$2),AND(EVEN($A42)=$A42,EVEN(T$2)=T$2)),T$1,-100))","v":328.125},{"$f":"IF('Ceiling Speaker Calculator'!$C$29=\"Square\",U$1,IF(OR(AND(ODD($A42)=$A42,ODD(U$2)=U$2),AND(EVEN($A42)=$A42,EVEN(U$2)=U$2)),U$1,-100))","v":346.875},{"$f":"IF('Ceiling Speaker Calculator'!$C$29=\"Square\",V$1,IF(OR(AND(ODD($A42)=$A42,ODD(V$2)=V$2),AND(EVEN($A42)=$A42,EVEN(V$2)=V$2)),V$1,-100))","v":365.625},{"$f":"IF('Ceiling Speaker Calculator'!$C$29=\"Square\",W$1,IF(OR(AND(ODD($A42)=$A42,ODD(W$2)=W$2),AND(EVEN($A42)=$A42,EVEN(W$2)=W$2)),W$1,-100))","v":384.375},{"$f":"IF('Ceiling Speaker Calculator'!$C$29=\"Square\",X$1,IF(OR(AND(ODD($A42)=$A42,ODD(X$2)=X$2),AND(EVEN($A42)=$A42,EVEN(X$2)=X$2)),X$1,-100))","v":403.125},{"$f":"IF('Ceiling Speaker Calculator'!$C$29=\"Square\",Y$1,IF(OR(AND(ODD($A42)=$A42,ODD(Y$2)=Y$2),AND(EVEN($A42)=$A42,EVEN(Y$2)=Y$2)),Y$1,-100))","v":421.875},{"$f":"IF('Ceiling Speaker Calculator'!$C$29=\"Square\",Z$1,IF(OR(AND(ODD($A42)=$A42,ODD(Z$2)=Z$2),AND(EVEN($A42)=$A42,EVEN(Z$2)=Z$2)),Z$1,-100))","v":440.625},{"$f":"IF('Ceiling Speaker Calculator'!$C$29=\"Square\",AA$1,IF(OR(AND(ODD($A42)=$A42,ODD(AA$2)=AA$2),AND(EVEN($A42)=$A42,EVEN(AA$2)=AA$2)),AA$1,-100))","v":459.375},{"$f":"IF('Ceiling Speaker Calculator'!$C$29=\"Square\",AB$1,IF(OR(AND(ODD($A42)=$A42,ODD(AB$2)=AB$2),AND(EVEN($A42)=$A42,EVEN(AB$2)=AB$2)),AB$1,-100))","v":478.125},{"$f":"IF('Ceiling Speaker Calculator'!$C$29=\"Square\",AC$1,IF(OR(AND(ODD($A42)=$A42,ODD(AC$2)=AC$2),AND(EVEN($A42)=$A42,EVEN(AC$2)=AC$2)),AC$1,-100))","v":496.875},{"$f":"IF('Ceiling Speaker Calculator'!$C$29=\"Square\",AD$1,IF(OR(AND(ODD($A42)=$A42,ODD(AD$2)=AD$2),AND(EVEN($A42)=$A42,EVEN(AD$2)=AD$2)),AD$1,-100))","v":515.625},{"$f":"IF('Ceiling Speaker Calculator'!$C$29=\"Square\",AE$1,IF(OR(AND(ODD($A42)=$A42,ODD(AE$2)=AE$2),AND(EVEN($A42)=$A42,EVEN(AE$2)=AE$2)),AE$1,-100))","v":534.375},{"$f":"IF('Ceiling Speaker Calculator'!$C$29=\"Square\",AF$1,IF(OR(AND(ODD($A42)=$A42,ODD(AF$2)=AF$2),AND(EVEN($A42)=$A42,EVEN(AF$2)=AF$2)),AF$1,-100))","v":553.125},{"$f":"IF('Ceiling Speaker Calculator'!$C$29=\"Square\",AG$1,IF(OR(AND(ODD($A42)=$A42,ODD(AG$2)=AG$2),AND(EVEN($A42)=$A42,EVEN(AG$2)=AG$2)),AG$1,-100))","v":571.875},{"$f":"IF('Ceiling Speaker Calculator'!$C$29=\"Square\",AH$1,IF(OR(AND(ODD($A42)=$A42,ODD(AH$2)=AH$2),AND(EVEN($A42)=$A42,EVEN(AH$2)=AH$2)),AH$1,-100))","v":590.625},{"$f":"IF('Ceiling Speaker Calculator'!$C$29=\"Square\",AI$1,IF(OR(AND(ODD($A42)=$A42,ODD(AI$2)=AI$2),AND(EVEN($A42)=$A42,EVEN(AI$2)=AI$2)),AI$1,-100))","v":609.375},{"$f":"IF('Ceiling Speaker Calculator'!$C$29=\"Square\",AJ$1,IF(OR(AND(ODD($A42)=$A42,ODD(AJ$2)=AJ$2),AND(EVEN($A42)=$A42,EVEN(AJ$2)=AJ$2)),AJ$1,-100))","v":628.125},{"$f":"IF('Ceiling Speaker Calculator'!$C$29=\"Square\",AK$1,IF(OR(AND(ODD($A42)=$A42,ODD(AK$2)=AK$2),AND(EVEN($A42)=$A42,EVEN(AK$2)=AK$2)),AK$1,-100))","v":646.875},{"$f":"IF('Ceiling Speaker Calculator'!$C$29=\"Square\",AL$1,IF(OR(AND(ODD($A42)=$A42,ODD(AL$2)=AL$2),AND(EVEN($A42)=$A42,EVEN(AL$2)=AL$2)),AL$1,-100))","v":665.625},{"$f":"IF('Ceiling Speaker Calculator'!$C$29=\"Square\",AM$1,IF(OR(AND(ODD($A42)=$A42,ODD(AM$2)=AM$2),AND(EVEN($A42)=$A42,EVEN(AM$2)=AM$2)),AM$1,-100))","v":684.375},{"$f":"IF('Ceiling Speaker Calculator'!$C$29=\"Square\",AN$1,IF(OR(AND(ODD($A42)=$A42,ODD(AN$2)=AN$2),AND(EVEN($A42)=$A42,EVEN(AN$2)=AN$2)),AN$1,-100))","v":703.125},{"$f":"IF('Ceiling Speaker Calculator'!$C$29=\"Square\",AO$1,IF(OR(AND(ODD($A42)=$A42,ODD(AO$2)=AO$2),AND(EVEN($A42)=$A42,EVEN(AO$2)=AO$2)),AO$1,-100))","v":721.875},{"$f":"IF('Ceiling Speaker Calculator'!$C$29=\"Square\",AP$1,IF(OR(AND(ODD($A42)=$A42,ODD(AP$2)=AP$2),AND(EVEN($A42)=$A42,EVEN(AP$2)=AP$2)),AP$1,-100))","v":740.625},{"$f":"IF('Ceiling Speaker Calculator'!$C$29=\"Square\",AQ$1,IF(OR(AND(ODD($A42)=$A42,ODD(AQ$2)=AQ$2),AND(EVEN($A42)=$A42,EVEN(AQ$2)=AQ$2)),AQ$1,-100))","v":759.375},{"$f":"IF('Ceiling Speaker Calculator'!$C$29=\"Square\",AR$1,IF(OR(AND(ODD($A42)=$A42,ODD(AR$2)=AR$2),AND(EVEN($A42)=$A42,EVEN(AR$2)=AR$2)),AR$1,-100))","v":778.125},{"$f":"IF('Ceiling Speaker Calculator'!$C$29=\"Square\",AS$1,IF(OR(AND(ODD($A42)=$A42,ODD(AS$2)=AS$2),AND(EVEN($A42)=$A42,EVEN(AS$2)=AS$2)),AS$1,-100))","v":796.875},{"$f":"IF('Ceiling Speaker Calculator'!$C$29=\"Square\",AT$1,IF(OR(AND(ODD($A42)=$A42,ODD(AT$2)=AT$2),AND(EVEN($A42)=$A42,EVEN(AT$2)=AT$2)),AT$1,-100))","v":815.625},{"$f":"IF('Ceiling Speaker Calculator'!$C$29=\"Square\",AU$1,IF(OR(AND(ODD($A42)=$A42,ODD(AU$2)=AU$2),AND(EVEN($A42)=$A42,EVEN(AU$2)=AU$2)),AU$1,-100))","v":834.375},{"$f":"IF('Ceiling Speaker Calculator'!$C$29=\"Square\",AV$1,IF(OR(AND(ODD($A42)=$A42,ODD(AV$2)=AV$2),AND(EVEN($A42)=$A42,EVEN(AV$2)=AV$2)),AV$1,-100))","v":853.125},{"$f":"IF('Ceiling Speaker Calculator'!$C$29=\"Square\",AW$1,IF(OR(AND(ODD($A42)=$A42,ODD(AW$2)=AW$2),AND(EVEN($A42)=$A42,EVEN(AW$2)=AW$2)),AW$1,-100))","v":871.875},{"$f":"IF('Ceiling Speaker Calculator'!$C$29=\"Square\",AX$1,IF(OR(AND(ODD($A42)=$A42,ODD(AX$2)=AX$2),AND(EVEN($A42)=$A42,EVEN(AX$2)=AX$2)),AX$1,-100))","v":890.625},{"$f":"IF('Ceiling Speaker Calculator'!$C$29=\"Square\",AY$1,IF(OR(AND(ODD($A42)=$A42,ODD(AY$2)=AY$2),AND(EVEN($A42)=$A42,EVEN(AY$2)=AY$2)),AY$1,-100))","v":909.375},{"$f":"IF('Ceiling Speaker Calculator'!$C$29=\"Square\",AZ$1,IF(OR(AND(ODD($A42)=$A42,ODD(AZ$2)=AZ$2),AND(EVEN($A42)=$A42,EVEN(AZ$2)=AZ$2)),AZ$1,-100))","v":928.125},{"$f":"IF('Ceiling Speaker Calculator'!$C$29=\"Square\",BA$1,IF(OR(AND(ODD($A42)=$A42,ODD(BA$2)=BA$2),AND(EVEN($A42)=$A42,EVEN(BA$2)=BA$2)),BA$1,-100))","v":946.875},{"$f":"IF('Ceiling Speaker Calculator'!$C$29=\"Square\",BB$1,IF(OR(AND(ODD($A42)=$A42,ODD(BB$2)=BB$2),AND(EVEN($A42)=$A42,EVEN(BB$2)=BB$2)),BB$1,-100))","v":965.625},{"$f":"IF('Ceiling Speaker Calculator'!$C$29=\"Square\",BC$1,IF(OR(AND(ODD($A42)=$A42,ODD(BC$2)=BC$2),AND(EVEN($A42)=$A42,EVEN(BC$2)=BC$2)),BC$1,-100))","v":984.375},{"$f":"IF('Ceiling Speaker Calculator'!$C$29=\"Square\",BD$1,IF(OR(AND(ODD($A42)=$A42,ODD(BD$2)=BD$2),AND(EVEN($A42)=$A42,EVEN(BD$2)=BD$2)),BD$1,-100))","v":1003.125},{"$f":"IF('Ceiling Speaker Calculator'!$C$29=\"Square\",BE$1,IF(OR(AND(ODD($A42)=$A42,ODD(BE$2)=BE$2),AND(EVEN($A42)=$A42,EVEN(BE$2)=BE$2)),BE$1,-100))","v":1021.875},{"$f":"IF('Ceiling Speaker Calculator'!$C$29=\"Square\",BF$1,IF(OR(AND(ODD($A42)=$A42,ODD(BF$2)=BF$2),AND(EVEN($A42)=$A42,EVEN(BF$2)=BF$2)),BF$1,-100))","v":1040.625},{"$f":"IF('Ceiling Speaker Calculator'!$C$29=\"Square\",BG$1,IF(OR(AND(ODD($A42)=$A42,ODD(BG$2)=BG$2),AND(EVEN($A42)=$A42,EVEN(BG$2)=BG$2)),BG$1,-100))","v":1059.375},{"$f":"IF('Ceiling Speaker Calculator'!$C$29=\"Square\",BH$1,IF(OR(AND(ODD($A42)=$A42,ODD(BH$2)=BH$2),AND(EVEN($A42)=$A42,EVEN(BH$2)=BH$2)),BH$1,-100))","v":1078.125},{"$f":"IF('Ceiling Speaker Calculator'!$C$29=\"Square\",BI$1,IF(OR(AND(ODD($A42)=$A42,ODD(BI$2)=BI$2),AND(EVEN($A42)=$A42,EVEN(BI$2)=BI$2)),BI$1,-100))","v":1096.875},{"$f":"IF('Ceiling Speaker Calculator'!$C$29=\"Square\",BJ$1,IF(OR(AND(ODD($A42)=$A42,ODD(BJ$2)=BJ$2),AND(EVEN($A42)=$A42,EVEN(BJ$2)=BJ$2)),BJ$1,-100))","v":1115.625},{"$f":"IF('Ceiling Speaker Calculator'!$C$29=\"Square\",BK$1,IF(OR(AND(ODD($A42)=$A42,ODD(BK$2)=BK$2),AND(EVEN($A42)=$A42,EVEN(BK$2)=BK$2)),BK$1,-100))","v":1134.375},{"$f":"IF('Ceiling Speaker Calculator'!$C$29=\"Square\",BL$1,IF(OR(AND(ODD($A42)=$A42,ODD(BL$2)=BL$2),AND(EVEN($A42)=$A42,EVEN(BL$2)=BL$2)),BL$1,-100))","v":1153.125},{"$f":"IF('Ceiling Speaker Calculator'!$C$29=\"Square\",BM$1,IF(OR(AND(ODD($A42)=$A42,ODD(BM$2)=BM$2),AND(EVEN($A42)=$A42,EVEN(BM$2)=BM$2)),BM$1,-100))","v":1171.875},{"$f":"IF('Ceiling Speaker Calculator'!$C$29=\"Square\",BN$1,IF(OR(AND(ODD($A42)=$A42,ODD(BN$2)=BN$2),AND(EVEN($A42)=$A42,EVEN(BN$2)=BN$2)),BN$1,-100))","v":1190.625},{"$f":"IF('Ceiling Speaker Calculator'!$C$29=\"Square\",BO$1,IF(OR(AND(ODD($A42)=$A42,ODD(BO$2)=BO$2),AND(EVEN($A42)=$A42,EVEN(BO$2)=BO$2)),BO$1,-100))","v":1209.375},{"$f":"IF('Ceiling Speaker Calculator'!$C$29=\"Square\",BP$1,IF(OR(AND(ODD($A42)=$A42,ODD(BP$2)=BP$2),AND(EVEN($A42)=$A42,EVEN(BP$2)=BP$2)),BP$1,-100))","v":1228.125},{"$f":"IF('Ceiling Speaker Calculator'!$C$29=\"Square\",BQ$1,IF(OR(AND(ODD($A42)=$A42,ODD(BQ$2)=BQ$2),AND(EVEN($A42)=$A42,EVEN(BQ$2)=BQ$2)),BQ$1,-100))","v":1246.875},{"$f":"IF('Ceiling Speaker Calculator'!$C$29=\"Square\",BR$1,IF(OR(AND(ODD($A42)=$A42,ODD(BR$2)=BR$2),AND(EVEN($A42)=$A42,EVEN(BR$2)=BR$2)),BR$1,-100))","v":1265.625},{"$f":"IF('Ceiling Speaker Calculator'!$C$29=\"Square\",BS$1,IF(OR(AND(ODD($A42)=$A42,ODD(BS$2)=BS$2),AND(EVEN($A42)=$A42,EVEN(BS$2)=BS$2)),BS$1,-100))","v":1284.375},{"$f":"IF('Ceiling Speaker Calculator'!$C$29=\"Square\",BT$1,IF(OR(AND(ODD($A42)=$A42,ODD(BT$2)=BT$2),AND(EVEN($A42)=$A42,EVEN(BT$2)=BT$2)),BT$1,-100))","v":1303.125},{"$f":"IF('Ceiling Speaker Calculator'!$C$29=\"Square\",BU$1,IF(OR(AND(ODD($A42)=$A42,ODD(BU$2)=BU$2),AND(EVEN($A42)=$A42,EVEN(BU$2)=BU$2)),BU$1,-100))","v":1321.875},{"$f":"IF('Ceiling Speaker Calculator'!$C$29=\"Square\",BV$1,IF(OR(AND(ODD($A42)=$A42,ODD(BV$2)=BV$2),AND(EVEN($A42)=$A42,EVEN(BV$2)=BV$2)),BV$1,-100))","v":1340.625},{"$f":"IF('Ceiling Speaker Calculator'!$C$29=\"Square\",BW$1,IF(OR(AND(ODD($A42)=$A42,ODD(BW$2)=BW$2),AND(EVEN($A42)=$A42,EVEN(BW$2)=BW$2)),BW$1,-100))","v":1359.375},{"$f":"IF('Ceiling Speaker Calculator'!$C$29=\"Square\",BX$1,IF(OR(AND(ODD($A42)=$A42,ODD(BX$2)=BX$2),AND(EVEN($A42)=$A42,EVEN(BX$2)=BX$2)),BX$1,-100))","v":1378.125},{"$f":"IF('Ceiling Speaker Calculator'!$C$29=\"Square\",BY$1,IF(OR(AND(ODD($A42)=$A42,ODD(BY$2)=BY$2),AND(EVEN($A42)=$A42,EVEN(BY$2)=BY$2)),BY$1,-100))","v":1396.875},{"$f":"IF('Ceiling Speaker Calculator'!$C$29=\"Square\",BZ$1,IF(OR(AND(ODD($A42)=$A42,ODD(BZ$2)=BZ$2),AND(EVEN($A42)=$A42,EVEN(BZ$2)=BZ$2)),BZ$1,-100))","v":1415.625},{"$f":"IF('Ceiling Speaker Calculator'!$C$29=\"Square\",CA$1,IF(OR(AND(ODD($A42)=$A42,ODD(CA$2)=CA$2),AND(EVEN($A42)=$A42,EVEN(CA$2)=CA$2)),CA$1,-100))","v":1434.375},{"$f":"IF('Ceiling Speaker Calculator'!$C$29=\"Square\",CB$1,IF(OR(AND(ODD($A42)=$A42,ODD(CB$2)=CB$2),AND(EVEN($A42)=$A42,EVEN(CB$2)=CB$2)),CB$1,-100))","v":1453.125},{"$f":"IF('Ceiling Speaker Calculator'!$C$29=\"Square\",CC$1,IF(OR(AND(ODD($A42)=$A42,ODD(CC$2)=CC$2),AND(EVEN($A42)=$A42,EVEN(CC$2)=CC$2)),CC$1,-100))","v":1471.875},{"$f":"IF('Ceiling Speaker Calculator'!$C$29=\"Square\",CD$1,IF(OR(AND(ODD($A42)=$A42,ODD(CD$2)=CD$2),AND(EVEN($A42)=$A42,EVEN(CD$2)=CD$2)),CD$1,-100))","v":1490.625},{"$f":"IF('Ceiling Speaker Calculator'!$C$29=\"Square\",CE$1,IF(OR(AND(ODD($A42)=$A42,ODD(CE$2)=CE$2),AND(EVEN($A42)=$A42,EVEN(CE$2)=CE$2)),CE$1,-100))","v":1509.375},{"$f":"IF('Ceiling Speaker Calculator'!$C$29=\"Square\",CF$1,IF(OR(AND(ODD($A42)=$A42,ODD(CF$2)=CF$2),AND(EVEN($A42)=$A42,EVEN(CF$2)=CF$2)),CF$1,-100))","v":1528.125},{"$f":"IF('Ceiling Speaker Calculator'!$C$29=\"Square\",CG$1,IF(OR(AND(ODD($A42)=$A42,ODD(CG$2)=CG$2),AND(EVEN($A42)=$A42,EVEN(CG$2)=CG$2)),CG$1,-100))","v":1546.875},{"$f":"IF('Ceiling Speaker Calculator'!$C$29=\"Square\",CH$1,IF(OR(AND(ODD($A42)=$A42,ODD(CH$2)=CH$2),AND(EVEN($A42)=$A42,EVEN(CH$2)=CH$2)),CH$1,-100))","v":1565.625},{"$f":"IF('Ceiling Speaker Calculator'!$C$29=\"Square\",CI$1,IF(OR(AND(ODD($A42)=$A42,ODD(CI$2)=CI$2),AND(EVEN($A42)=$A42,EVEN(CI$2)=CI$2)),CI$1,-100))","v":1584.375},{"$f":"IF('Ceiling Speaker Calculator'!$C$29=\"Square\",CJ$1,IF(OR(AND(ODD($A42)=$A42,ODD(CJ$2)=CJ$2),AND(EVEN($A42)=$A42,EVEN(CJ$2)=CJ$2)),CJ$1,-100))","v":1603.125},{"$f":"IF('Ceiling Speaker Calculator'!$C$29=\"Square\",CK$1,IF(OR(AND(ODD($A42)=$A42,ODD(CK$2)=CK$2),AND(EVEN($A42)=$A42,EVEN(CK$2)=CK$2)),CK$1,-100))","v":1621.875},{"$f":"IF('Ceiling Speaker Calculator'!$C$29=\"Square\",CL$1,IF(OR(AND(ODD($A42)=$A42,ODD(CL$2)=CL$2),AND(EVEN($A42)=$A42,EVEN(CL$2)=CL$2)),CL$1,-100))","v":1640.625},{"$f":"IF('Ceiling Speaker Calculator'!$C$29=\"Square\",CM$1,IF(OR(AND(ODD($A42)=$A42,ODD(CM$2)=CM$2),AND(EVEN($A42)=$A42,EVEN(CM$2)=CM$2)),CM$1,-100))","v":1659.375},{"$f":"IF('Ceiling Speaker Calculator'!$C$29=\"Square\",CN$1,IF(OR(AND(ODD($A42)=$A42,ODD(CN$2)=CN$2),AND(EVEN($A42)=$A42,EVEN(CN$2)=CN$2)),CN$1,-100))","v":1678.125},{"$f":"IF('Ceiling Speaker Calculator'!$C$29=\"Square\",CO$1,IF(OR(AND(ODD($A42)=$A42,ODD(CO$2)=CO$2),AND(EVEN($A42)=$A42,EVEN(CO$2)=CO$2)),CO$1,-100))","v":1696.875},{"$f":"IF('Ceiling Speaker Calculator'!$C$29=\"Square\",CP$1,IF(OR(AND(ODD($A42)=$A42,ODD(CP$2)=CP$2),AND(EVEN($A42)=$A42,EVEN(CP$2)=CP$2)),CP$1,-100))","v":1715.625},{"$f":"IF('Ceiling Speaker Calculator'!$C$29=\"Square\",CQ$1,IF(OR(AND(ODD($A42)=$A42,ODD(CQ$2)=CQ$2),AND(EVEN($A42)=$A42,EVEN(CQ$2)=CQ$2)),CQ$1,-100))","v":1734.375},{"$f":"IF('Ceiling Speaker Calculator'!$C$29=\"Square\",CR$1,IF(OR(AND(ODD($A42)=$A42,ODD(CR$2)=CR$2),AND(EVEN($A42)=$A42,EVEN(CR$2)=CR$2)),CR$1,-100))","v":1753.125},{"$f":"IF('Ceiling Speaker Calculator'!$C$29=\"Square\",CS$1,IF(OR(AND(ODD($A42)=$A42,ODD(CS$2)=CS$2),AND(EVEN($A42)=$A42,EVEN(CS$2)=CS$2)),CS$1,-100))","v":1771.875},{"$f":"IF('Ceiling Speaker Calculator'!$C$29=\"Square\",CT$1,IF(OR(AND(ODD($A42)=$A42,ODD(CT$2)=CT$2),AND(EVEN($A42)=$A42,EVEN(CT$2)=CT$2)),CT$1,-100))","v":1790.625},{"$f":"IF('Ceiling Speaker Calculator'!$C$29=\"Square\",CU$1,IF(OR(AND(ODD($A42)=$A42,ODD(CU$2)=CU$2),AND(EVEN($A42)=$A42,EVEN(CU$2)=CU$2)),CU$1,-100))","v":1809.375},{"$f":"IF('Ceiling Speaker Calculator'!$C$29=\"Square\",CV$1,IF(OR(AND(ODD($A42)=$A42,ODD(CV$2)=CV$2),AND(EVEN($A42)=$A42,EVEN(CV$2)=CV$2)),CV$1,-100))","v":1828.125},{"$f":"IF('Ceiling Speaker Calculator'!$C$29=\"Square\",CW$1,IF(OR(AND(ODD($A42)=$A42,ODD(CW$2)=CW$2),AND(EVEN($A42)=$A42,EVEN(CW$2)=CW$2)),CW$1,-100))","v":1846.875},{"$f":"IF('Ceiling Speaker Calculator'!$C$29=\"Square\",CX$1,IF(OR(AND(ODD($A42)=$A42,ODD(CX$2)=CX$2),AND(EVEN($A42)=$A42,EVEN(CX$2)=CX$2)),CX$1,-100))","v":1865.625}]
[41,{"$f":"B42+'Ceiling Speaker Calculator'!$K$16","v":810},{"$f":"IF('Ceiling Speaker Calculator'!$C$29=\"Square\",C$1,IF(OR(AND(ODD($A43)=$A43,ODD(C$2)=C$2),AND(EVEN($A43)=$A43,EVEN(C$2)=C$2)),C$1,-100))","v":9.375},{"$f":"IF('Ceiling Speaker Calculator'!$C$29=\"Square\",D$1,IF(OR(AND(ODD($A43)=$A43,ODD(D$2)=D$2),AND(EVEN($A43)=$A43,EVEN(D$2)=D$2)),D$1,-100))","v":28.125},{"$f":"IF('Ceiling Speaker Calculator'!$C$29=\"Square\",E$1,IF(OR(AND(ODD($A43)=$A43,ODD(E$2)=E$2),AND(EVEN($A43)=$A43,EVEN(E$2)=E$2)),E$1,-100))","v":46.875},{"$f":"IF('Ceiling Speaker Calculator'!$C$29=\"Square\",F$1,IF(OR(AND(ODD($A43)=$A43,ODD(F$2)=F$2),AND(EVEN($A43)=$A43,EVEN(F$2)=F$2)),F$1,-100))","v":65.625},{"$f":"IF('Ceiling Speaker Calculator'!$C$29=\"Square\",G$1,IF(OR(AND(ODD($A43)=$A43,ODD(G$2)=G$2),AND(EVEN($A43)=$A43,EVEN(G$2)=G$2)),G$1,-100))","v":84.375},{"$f":"IF('Ceiling Speaker Calculator'!$C$29=\"Square\",H$1,IF(OR(AND(ODD($A43)=$A43,ODD(H$2)=H$2),AND(EVEN($A43)=$A43,EVEN(H$2)=H$2)),H$1,-100))","v":103.125},{"$f":"IF('Ceiling Speaker Calculator'!$C$29=\"Square\",I$1,IF(OR(AND(ODD($A43)=$A43,ODD(I$2)=I$2),AND(EVEN($A43)=$A43,EVEN(I$2)=I$2)),I$1,-100))","v":121.875},{"$f":"IF('Ceiling Speaker Calculator'!$C$29=\"Square\",J$1,IF(OR(AND(ODD($A43)=$A43,ODD(J$2)=J$2),AND(EVEN($A43)=$A43,EVEN(J$2)=J$2)),J$1,-100))","v":140.625},{"$f":"IF('Ceiling Speaker Calculator'!$C$29=\"Square\",K$1,IF(OR(AND(ODD($A43)=$A43,ODD(K$2)=K$2),AND(EVEN($A43)=$A43,EVEN(K$2)=K$2)),K$1,-100))","v":159.375},{"$f":"IF('Ceiling Speaker Calculator'!$C$29=\"Square\",L$1,IF(OR(AND(ODD($A43)=$A43,ODD(L$2)=L$2),AND(EVEN($A43)=$A43,EVEN(L$2)=L$2)),L$1,-100))","v":178.125},{"$f":"IF('Ceiling Speaker Calculator'!$C$29=\"Square\",M$1,IF(OR(AND(ODD($A43)=$A43,ODD(M$2)=M$2),AND(EVEN($A43)=$A43,EVEN(M$2)=M$2)),M$1,-100))","v":196.875},{"$f":"IF('Ceiling Speaker Calculator'!$C$29=\"Square\",N$1,IF(OR(AND(ODD($A43)=$A43,ODD(N$2)=N$2),AND(EVEN($A43)=$A43,EVEN(N$2)=N$2)),N$1,-100))","v":215.625},{"$f":"IF('Ceiling Speaker Calculator'!$C$29=\"Square\",O$1,IF(OR(AND(ODD($A43)=$A43,ODD(O$2)=O$2),AND(EVEN($A43)=$A43,EVEN(O$2)=O$2)),O$1,-100))","v":234.375},{"$f":"IF('Ceiling Speaker Calculator'!$C$29=\"Square\",P$1,IF(OR(AND(ODD($A43)=$A43,ODD(P$2)=P$2),AND(EVEN($A43)=$A43,EVEN(P$2)=P$2)),P$1,-100))","v":253.125},{"$f":"IF('Ceiling Speaker Calculator'!$C$29=\"Square\",Q$1,IF(OR(AND(ODD($A43)=$A43,ODD(Q$2)=Q$2),AND(EVEN($A43)=$A43,EVEN(Q$2)=Q$2)),Q$1,-100))","v":271.875},{"$f":"IF('Ceiling Speaker Calculator'!$C$29=\"Square\",R$1,IF(OR(AND(ODD($A43)=$A43,ODD(R$2)=R$2),AND(EVEN($A43)=$A43,EVEN(R$2)=R$2)),R$1,-100))","v":290.625},{"$f":"IF('Ceiling Speaker Calculator'!$C$29=\"Square\",S$1,IF(OR(AND(ODD($A43)=$A43,ODD(S$2)=S$2),AND(EVEN($A43)=$A43,EVEN(S$2)=S$2)),S$1,-100))","v":309.375},{"$f":"IF('Ceiling Speaker Calculator'!$C$29=\"Square\",T$1,IF(OR(AND(ODD($A43)=$A43,ODD(T$2)=T$2),AND(EVEN($A43)=$A43,EVEN(T$2)=T$2)),T$1,-100))","v":328.125},{"$f":"IF('Ceiling Speaker Calculator'!$C$29=\"Square\",U$1,IF(OR(AND(ODD($A43)=$A43,ODD(U$2)=U$2),AND(EVEN($A43)=$A43,EVEN(U$2)=U$2)),U$1,-100))","v":346.875},{"$f":"IF('Ceiling Speaker Calculator'!$C$29=\"Square\",V$1,IF(OR(AND(ODD($A43)=$A43,ODD(V$2)=V$2),AND(EVEN($A43)=$A43,EVEN(V$2)=V$2)),V$1,-100))","v":365.625},{"$f":"IF('Ceiling Speaker Calculator'!$C$29=\"Square\",W$1,IF(OR(AND(ODD($A43)=$A43,ODD(W$2)=W$2),AND(EVEN($A43)=$A43,EVEN(W$2)=W$2)),W$1,-100))","v":384.375},{"$f":"IF('Ceiling Speaker Calculator'!$C$29=\"Square\",X$1,IF(OR(AND(ODD($A43)=$A43,ODD(X$2)=X$2),AND(EVEN($A43)=$A43,EVEN(X$2)=X$2)),X$1,-100))","v":403.125},{"$f":"IF('Ceiling Speaker Calculator'!$C$29=\"Square\",Y$1,IF(OR(AND(ODD($A43)=$A43,ODD(Y$2)=Y$2),AND(EVEN($A43)=$A43,EVEN(Y$2)=Y$2)),Y$1,-100))","v":421.875},{"$f":"IF('Ceiling Speaker Calculator'!$C$29=\"Square\",Z$1,IF(OR(AND(ODD($A43)=$A43,ODD(Z$2)=Z$2),AND(EVEN($A43)=$A43,EVEN(Z$2)=Z$2)),Z$1,-100))","v":440.625},{"$f":"IF('Ceiling Speaker Calculator'!$C$29=\"Square\",AA$1,IF(OR(AND(ODD($A43)=$A43,ODD(AA$2)=AA$2),AND(EVEN($A43)=$A43,EVEN(AA$2)=AA$2)),AA$1,-100))","v":459.375},{"$f":"IF('Ceiling Speaker Calculator'!$C$29=\"Square\",AB$1,IF(OR(AND(ODD($A43)=$A43,ODD(AB$2)=AB$2),AND(EVEN($A43)=$A43,EVEN(AB$2)=AB$2)),AB$1,-100))","v":478.125},{"$f":"IF('Ceiling Speaker Calculator'!$C$29=\"Square\",AC$1,IF(OR(AND(ODD($A43)=$A43,ODD(AC$2)=AC$2),AND(EVEN($A43)=$A43,EVEN(AC$2)=AC$2)),AC$1,-100))","v":496.875},{"$f":"IF('Ceiling Speaker Calculator'!$C$29=\"Square\",AD$1,IF(OR(AND(ODD($A43)=$A43,ODD(AD$2)=AD$2),AND(EVEN($A43)=$A43,EVEN(AD$2)=AD$2)),AD$1,-100))","v":515.625},{"$f":"IF('Ceiling Speaker Calculator'!$C$29=\"Square\",AE$1,IF(OR(AND(ODD($A43)=$A43,ODD(AE$2)=AE$2),AND(EVEN($A43)=$A43,EVEN(AE$2)=AE$2)),AE$1,-100))","v":534.375},{"$f":"IF('Ceiling Speaker Calculator'!$C$29=\"Square\",AF$1,IF(OR(AND(ODD($A43)=$A43,ODD(AF$2)=AF$2),AND(EVEN($A43)=$A43,EVEN(AF$2)=AF$2)),AF$1,-100))","v":553.125},{"$f":"IF('Ceiling Speaker Calculator'!$C$29=\"Square\",AG$1,IF(OR(AND(ODD($A43)=$A43,ODD(AG$2)=AG$2),AND(EVEN($A43)=$A43,EVEN(AG$2)=AG$2)),AG$1,-100))","v":571.875},{"$f":"IF('Ceiling Speaker Calculator'!$C$29=\"Square\",AH$1,IF(OR(AND(ODD($A43)=$A43,ODD(AH$2)=AH$2),AND(EVEN($A43)=$A43,EVEN(AH$2)=AH$2)),AH$1,-100))","v":590.625},{"$f":"IF('Ceiling Speaker Calculator'!$C$29=\"Square\",AI$1,IF(OR(AND(ODD($A43)=$A43,ODD(AI$2)=AI$2),AND(EVEN($A43)=$A43,EVEN(AI$2)=AI$2)),AI$1,-100))","v":609.375},{"$f":"IF('Ceiling Speaker Calculator'!$C$29=\"Square\",AJ$1,IF(OR(AND(ODD($A43)=$A43,ODD(AJ$2)=AJ$2),AND(EVEN($A43)=$A43,EVEN(AJ$2)=AJ$2)),AJ$1,-100))","v":628.125},{"$f":"IF('Ceiling Speaker Calculator'!$C$29=\"Square\",AK$1,IF(OR(AND(ODD($A43)=$A43,ODD(AK$2)=AK$2),AND(EVEN($A43)=$A43,EVEN(AK$2)=AK$2)),AK$1,-100))","v":646.875},{"$f":"IF('Ceiling Speaker Calculator'!$C$29=\"Square\",AL$1,IF(OR(AND(ODD($A43)=$A43,ODD(AL$2)=AL$2),AND(EVEN($A43)=$A43,EVEN(AL$2)=AL$2)),AL$1,-100))","v":665.625},{"$f":"IF('Ceiling Speaker Calculator'!$C$29=\"Square\",AM$1,IF(OR(AND(ODD($A43)=$A43,ODD(AM$2)=AM$2),AND(EVEN($A43)=$A43,EVEN(AM$2)=AM$2)),AM$1,-100))","v":684.375},{"$f":"IF('Ceiling Speaker Calculator'!$C$29=\"Square\",AN$1,IF(OR(AND(ODD($A43)=$A43,ODD(AN$2)=AN$2),AND(EVEN($A43)=$A43,EVEN(AN$2)=AN$2)),AN$1,-100))","v":703.125},{"$f":"IF('Ceiling Speaker Calculator'!$C$29=\"Square\",AO$1,IF(OR(AND(ODD($A43)=$A43,ODD(AO$2)=AO$2),AND(EVEN($A43)=$A43,EVEN(AO$2)=AO$2)),AO$1,-100))","v":721.875},{"$f":"IF('Ceiling Speaker Calculator'!$C$29=\"Square\",AP$1,IF(OR(AND(ODD($A43)=$A43,ODD(AP$2)=AP$2),AND(EVEN($A43)=$A43,EVEN(AP$2)=AP$2)),AP$1,-100))","v":740.625},{"$f":"IF('Ceiling Speaker Calculator'!$C$29=\"Square\",AQ$1,IF(OR(AND(ODD($A43)=$A43,ODD(AQ$2)=AQ$2),AND(EVEN($A43)=$A43,EVEN(AQ$2)=AQ$2)),AQ$1,-100))","v":759.375},{"$f":"IF('Ceiling Speaker Calculator'!$C$29=\"Square\",AR$1,IF(OR(AND(ODD($A43)=$A43,ODD(AR$2)=AR$2),AND(EVEN($A43)=$A43,EVEN(AR$2)=AR$2)),AR$1,-100))","v":778.125},{"$f":"IF('Ceiling Speaker Calculator'!$C$29=\"Square\",AS$1,IF(OR(AND(ODD($A43)=$A43,ODD(AS$2)=AS$2),AND(EVEN($A43)=$A43,EVEN(AS$2)=AS$2)),AS$1,-100))","v":796.875},{"$f":"IF('Ceiling Speaker Calculator'!$C$29=\"Square\",AT$1,IF(OR(AND(ODD($A43)=$A43,ODD(AT$2)=AT$2),AND(EVEN($A43)=$A43,EVEN(AT$2)=AT$2)),AT$1,-100))","v":815.625},{"$f":"IF('Ceiling Speaker Calculator'!$C$29=\"Square\",AU$1,IF(OR(AND(ODD($A43)=$A43,ODD(AU$2)=AU$2),AND(EVEN($A43)=$A43,EVEN(AU$2)=AU$2)),AU$1,-100))","v":834.375},{"$f":"IF('Ceiling Speaker Calculator'!$C$29=\"Square\",AV$1,IF(OR(AND(ODD($A43)=$A43,ODD(AV$2)=AV$2),AND(EVEN($A43)=$A43,EVEN(AV$2)=AV$2)),AV$1,-100))","v":853.125},{"$f":"IF('Ceiling Speaker Calculator'!$C$29=\"Square\",AW$1,IF(OR(AND(ODD($A43)=$A43,ODD(AW$2)=AW$2),AND(EVEN($A43)=$A43,EVEN(AW$2)=AW$2)),AW$1,-100))","v":871.875},{"$f":"IF('Ceiling Speaker Calculator'!$C$29=\"Square\",AX$1,IF(OR(AND(ODD($A43)=$A43,ODD(AX$2)=AX$2),AND(EVEN($A43)=$A43,EVEN(AX$2)=AX$2)),AX$1,-100))","v":890.625},{"$f":"IF('Ceiling Speaker Calculator'!$C$29=\"Square\",AY$1,IF(OR(AND(ODD($A43)=$A43,ODD(AY$2)=AY$2),AND(EVEN($A43)=$A43,EVEN(AY$2)=AY$2)),AY$1,-100))","v":909.375},{"$f":"IF('Ceiling Speaker Calculator'!$C$29=\"Square\",AZ$1,IF(OR(AND(ODD($A43)=$A43,ODD(AZ$2)=AZ$2),AND(EVEN($A43)=$A43,EVEN(AZ$2)=AZ$2)),AZ$1,-100))","v":928.125},{"$f":"IF('Ceiling Speaker Calculator'!$C$29=\"Square\",BA$1,IF(OR(AND(ODD($A43)=$A43,ODD(BA$2)=BA$2),AND(EVEN($A43)=$A43,EVEN(BA$2)=BA$2)),BA$1,-100))","v":946.875},{"$f":"IF('Ceiling Speaker Calculator'!$C$29=\"Square\",BB$1,IF(OR(AND(ODD($A43)=$A43,ODD(BB$2)=BB$2),AND(EVEN($A43)=$A43,EVEN(BB$2)=BB$2)),BB$1,-100))","v":965.625},{"$f":"IF('Ceiling Speaker Calculator'!$C$29=\"Square\",BC$1,IF(OR(AND(ODD($A43)=$A43,ODD(BC$2)=BC$2),AND(EVEN($A43)=$A43,EVEN(BC$2)=BC$2)),BC$1,-100))","v":984.375},{"$f":"IF('Ceiling Speaker Calculator'!$C$29=\"Square\",BD$1,IF(OR(AND(ODD($A43)=$A43,ODD(BD$2)=BD$2),AND(EVEN($A43)=$A43,EVEN(BD$2)=BD$2)),BD$1,-100))","v":1003.125},{"$f":"IF('Ceiling Speaker Calculator'!$C$29=\"Square\",BE$1,IF(OR(AND(ODD($A43)=$A43,ODD(BE$2)=BE$2),AND(EVEN($A43)=$A43,EVEN(BE$2)=BE$2)),BE$1,-100))","v":1021.875},{"$f":"IF('Ceiling Speaker Calculator'!$C$29=\"Square\",BF$1,IF(OR(AND(ODD($A43)=$A43,ODD(BF$2)=BF$2),AND(EVEN($A43)=$A43,EVEN(BF$2)=BF$2)),BF$1,-100))","v":1040.625},{"$f":"IF('Ceiling Speaker Calculator'!$C$29=\"Square\",BG$1,IF(OR(AND(ODD($A43)=$A43,ODD(BG$2)=BG$2),AND(EVEN($A43)=$A43,EVEN(BG$2)=BG$2)),BG$1,-100))","v":1059.375},{"$f":"IF('Ceiling Speaker Calculator'!$C$29=\"Square\",BH$1,IF(OR(AND(ODD($A43)=$A43,ODD(BH$2)=BH$2),AND(EVEN($A43)=$A43,EVEN(BH$2)=BH$2)),BH$1,-100))","v":1078.125},{"$f":"IF('Ceiling Speaker Calculator'!$C$29=\"Square\",BI$1,IF(OR(AND(ODD($A43)=$A43,ODD(BI$2)=BI$2),AND(EVEN($A43)=$A43,EVEN(BI$2)=BI$2)),BI$1,-100))","v":1096.875},{"$f":"IF('Ceiling Speaker Calculator'!$C$29=\"Square\",BJ$1,IF(OR(AND(ODD($A43)=$A43,ODD(BJ$2)=BJ$2),AND(EVEN($A43)=$A43,EVEN(BJ$2)=BJ$2)),BJ$1,-100))","v":1115.625},{"$f":"IF('Ceiling Speaker Calculator'!$C$29=\"Square\",BK$1,IF(OR(AND(ODD($A43)=$A43,ODD(BK$2)=BK$2),AND(EVEN($A43)=$A43,EVEN(BK$2)=BK$2)),BK$1,-100))","v":1134.375},{"$f":"IF('Ceiling Speaker Calculator'!$C$29=\"Square\",BL$1,IF(OR(AND(ODD($A43)=$A43,ODD(BL$2)=BL$2),AND(EVEN($A43)=$A43,EVEN(BL$2)=BL$2)),BL$1,-100))","v":1153.125},{"$f":"IF('Ceiling Speaker Calculator'!$C$29=\"Square\",BM$1,IF(OR(AND(ODD($A43)=$A43,ODD(BM$2)=BM$2),AND(EVEN($A43)=$A43,EVEN(BM$2)=BM$2)),BM$1,-100))","v":1171.875},{"$f":"IF('Ceiling Speaker Calculator'!$C$29=\"Square\",BN$1,IF(OR(AND(ODD($A43)=$A43,ODD(BN$2)=BN$2),AND(EVEN($A43)=$A43,EVEN(BN$2)=BN$2)),BN$1,-100))","v":1190.625},{"$f":"IF('Ceiling Speaker Calculator'!$C$29=\"Square\",BO$1,IF(OR(AND(ODD($A43)=$A43,ODD(BO$2)=BO$2),AND(EVEN($A43)=$A43,EVEN(BO$2)=BO$2)),BO$1,-100))","v":1209.375},{"$f":"IF('Ceiling Speaker Calculator'!$C$29=\"Square\",BP$1,IF(OR(AND(ODD($A43)=$A43,ODD(BP$2)=BP$2),AND(EVEN($A43)=$A43,EVEN(BP$2)=BP$2)),BP$1,-100))","v":1228.125},{"$f":"IF('Ceiling Speaker Calculator'!$C$29=\"Square\",BQ$1,IF(OR(AND(ODD($A43)=$A43,ODD(BQ$2)=BQ$2),AND(EVEN($A43)=$A43,EVEN(BQ$2)=BQ$2)),BQ$1,-100))","v":1246.875},{"$f":"IF('Ceiling Speaker Calculator'!$C$29=\"Square\",BR$1,IF(OR(AND(ODD($A43)=$A43,ODD(BR$2)=BR$2),AND(EVEN($A43)=$A43,EVEN(BR$2)=BR$2)),BR$1,-100))","v":1265.625},{"$f":"IF('Ceiling Speaker Calculator'!$C$29=\"Square\",BS$1,IF(OR(AND(ODD($A43)=$A43,ODD(BS$2)=BS$2),AND(EVEN($A43)=$A43,EVEN(BS$2)=BS$2)),BS$1,-100))","v":1284.375},{"$f":"IF('Ceiling Speaker Calculator'!$C$29=\"Square\",BT$1,IF(OR(AND(ODD($A43)=$A43,ODD(BT$2)=BT$2),AND(EVEN($A43)=$A43,EVEN(BT$2)=BT$2)),BT$1,-100))","v":1303.125},{"$f":"IF('Ceiling Speaker Calculator'!$C$29=\"Square\",BU$1,IF(OR(AND(ODD($A43)=$A43,ODD(BU$2)=BU$2),AND(EVEN($A43)=$A43,EVEN(BU$2)=BU$2)),BU$1,-100))","v":1321.875},{"$f":"IF('Ceiling Speaker Calculator'!$C$29=\"Square\",BV$1,IF(OR(AND(ODD($A43)=$A43,ODD(BV$2)=BV$2),AND(EVEN($A43)=$A43,EVEN(BV$2)=BV$2)),BV$1,-100))","v":1340.625},{"$f":"IF('Ceiling Speaker Calculator'!$C$29=\"Square\",BW$1,IF(OR(AND(ODD($A43)=$A43,ODD(BW$2)=BW$2),AND(EVEN($A43)=$A43,EVEN(BW$2)=BW$2)),BW$1,-100))","v":1359.375},{"$f":"IF('Ceiling Speaker Calculator'!$C$29=\"Square\",BX$1,IF(OR(AND(ODD($A43)=$A43,ODD(BX$2)=BX$2),AND(EVEN($A43)=$A43,EVEN(BX$2)=BX$2)),BX$1,-100))","v":1378.125},{"$f":"IF('Ceiling Speaker Calculator'!$C$29=\"Square\",BY$1,IF(OR(AND(ODD($A43)=$A43,ODD(BY$2)=BY$2),AND(EVEN($A43)=$A43,EVEN(BY$2)=BY$2)),BY$1,-100))","v":1396.875},{"$f":"IF('Ceiling Speaker Calculator'!$C$29=\"Square\",BZ$1,IF(OR(AND(ODD($A43)=$A43,ODD(BZ$2)=BZ$2),AND(EVEN($A43)=$A43,EVEN(BZ$2)=BZ$2)),BZ$1,-100))","v":1415.625},{"$f":"IF('Ceiling Speaker Calculator'!$C$29=\"Square\",CA$1,IF(OR(AND(ODD($A43)=$A43,ODD(CA$2)=CA$2),AND(EVEN($A43)=$A43,EVEN(CA$2)=CA$2)),CA$1,-100))","v":1434.375},{"$f":"IF('Ceiling Speaker Calculator'!$C$29=\"Square\",CB$1,IF(OR(AND(ODD($A43)=$A43,ODD(CB$2)=CB$2),AND(EVEN($A43)=$A43,EVEN(CB$2)=CB$2)),CB$1,-100))","v":1453.125},{"$f":"IF('Ceiling Speaker Calculator'!$C$29=\"Square\",CC$1,IF(OR(AND(ODD($A43)=$A43,ODD(CC$2)=CC$2),AND(EVEN($A43)=$A43,EVEN(CC$2)=CC$2)),CC$1,-100))","v":1471.875},{"$f":"IF('Ceiling Speaker Calculator'!$C$29=\"Square\",CD$1,IF(OR(AND(ODD($A43)=$A43,ODD(CD$2)=CD$2),AND(EVEN($A43)=$A43,EVEN(CD$2)=CD$2)),CD$1,-100))","v":1490.625},{"$f":"IF('Ceiling Speaker Calculator'!$C$29=\"Square\",CE$1,IF(OR(AND(ODD($A43)=$A43,ODD(CE$2)=CE$2),AND(EVEN($A43)=$A43,EVEN(CE$2)=CE$2)),CE$1,-100))","v":1509.375},{"$f":"IF('Ceiling Speaker Calculator'!$C$29=\"Square\",CF$1,IF(OR(AND(ODD($A43)=$A43,ODD(CF$2)=CF$2),AND(EVEN($A43)=$A43,EVEN(CF$2)=CF$2)),CF$1,-100))","v":1528.125},{"$f":"IF('Ceiling Speaker Calculator'!$C$29=\"Square\",CG$1,IF(OR(AND(ODD($A43)=$A43,ODD(CG$2)=CG$2),AND(EVEN($A43)=$A43,EVEN(CG$2)=CG$2)),CG$1,-100))","v":1546.875},{"$f":"IF('Ceiling Speaker Calculator'!$C$29=\"Square\",CH$1,IF(OR(AND(ODD($A43)=$A43,ODD(CH$2)=CH$2),AND(EVEN($A43)=$A43,EVEN(CH$2)=CH$2)),CH$1,-100))","v":1565.625},{"$f":"IF('Ceiling Speaker Calculator'!$C$29=\"Square\",CI$1,IF(OR(AND(ODD($A43)=$A43,ODD(CI$2)=CI$2),AND(EVEN($A43)=$A43,EVEN(CI$2)=CI$2)),CI$1,-100))","v":1584.375},{"$f":"IF('Ceiling Speaker Calculator'!$C$29=\"Square\",CJ$1,IF(OR(AND(ODD($A43)=$A43,ODD(CJ$2)=CJ$2),AND(EVEN($A43)=$A43,EVEN(CJ$2)=CJ$2)),CJ$1,-100))","v":1603.125},{"$f":"IF('Ceiling Speaker Calculator'!$C$29=\"Square\",CK$1,IF(OR(AND(ODD($A43)=$A43,ODD(CK$2)=CK$2),AND(EVEN($A43)=$A43,EVEN(CK$2)=CK$2)),CK$1,-100))","v":1621.875},{"$f":"IF('Ceiling Speaker Calculator'!$C$29=\"Square\",CL$1,IF(OR(AND(ODD($A43)=$A43,ODD(CL$2)=CL$2),AND(EVEN($A43)=$A43,EVEN(CL$2)=CL$2)),CL$1,-100))","v":1640.625},{"$f":"IF('Ceiling Speaker Calculator'!$C$29=\"Square\",CM$1,IF(OR(AND(ODD($A43)=$A43,ODD(CM$2)=CM$2),AND(EVEN($A43)=$A43,EVEN(CM$2)=CM$2)),CM$1,-100))","v":1659.375},{"$f":"IF('Ceiling Speaker Calculator'!$C$29=\"Square\",CN$1,IF(OR(AND(ODD($A43)=$A43,ODD(CN$2)=CN$2),AND(EVEN($A43)=$A43,EVEN(CN$2)=CN$2)),CN$1,-100))","v":1678.125},{"$f":"IF('Ceiling Speaker Calculator'!$C$29=\"Square\",CO$1,IF(OR(AND(ODD($A43)=$A43,ODD(CO$2)=CO$2),AND(EVEN($A43)=$A43,EVEN(CO$2)=CO$2)),CO$1,-100))","v":1696.875},{"$f":"IF('Ceiling Speaker Calculator'!$C$29=\"Square\",CP$1,IF(OR(AND(ODD($A43)=$A43,ODD(CP$2)=CP$2),AND(EVEN($A43)=$A43,EVEN(CP$2)=CP$2)),CP$1,-100))","v":1715.625},{"$f":"IF('Ceiling Speaker Calculator'!$C$29=\"Square\",CQ$1,IF(OR(AND(ODD($A43)=$A43,ODD(CQ$2)=CQ$2),AND(EVEN($A43)=$A43,EVEN(CQ$2)=CQ$2)),CQ$1,-100))","v":1734.375},{"$f":"IF('Ceiling Speaker Calculator'!$C$29=\"Square\",CR$1,IF(OR(AND(ODD($A43)=$A43,ODD(CR$2)=CR$2),AND(EVEN($A43)=$A43,EVEN(CR$2)=CR$2)),CR$1,-100))","v":1753.125},{"$f":"IF('Ceiling Speaker Calculator'!$C$29=\"Square\",CS$1,IF(OR(AND(ODD($A43)=$A43,ODD(CS$2)=CS$2),AND(EVEN($A43)=$A43,EVEN(CS$2)=CS$2)),CS$1,-100))","v":1771.875},{"$f":"IF('Ceiling Speaker Calculator'!$C$29=\"Square\",CT$1,IF(OR(AND(ODD($A43)=$A43,ODD(CT$2)=CT$2),AND(EVEN($A43)=$A43,EVEN(CT$2)=CT$2)),CT$1,-100))","v":1790.625},{"$f":"IF('Ceiling Speaker Calculator'!$C$29=\"Square\",CU$1,IF(OR(AND(ODD($A43)=$A43,ODD(CU$2)=CU$2),AND(EVEN($A43)=$A43,EVEN(CU$2)=CU$2)),CU$1,-100))","v":1809.375},{"$f":"IF('Ceiling Speaker Calculator'!$C$29=\"Square\",CV$1,IF(OR(AND(ODD($A43)=$A43,ODD(CV$2)=CV$2),AND(EVEN($A43)=$A43,EVEN(CV$2)=CV$2)),CV$1,-100))","v":1828.125},{"$f":"IF('Ceiling Speaker Calculator'!$C$29=\"Square\",CW$1,IF(OR(AND(ODD($A43)=$A43,ODD(CW$2)=CW$2),AND(EVEN($A43)=$A43,EVEN(CW$2)=CW$2)),CW$1,-100))","v":1846.875},{"$f":"IF('Ceiling Speaker Calculator'!$C$29=\"Square\",CX$1,IF(OR(AND(ODD($A43)=$A43,ODD(CX$2)=CX$2),AND(EVEN($A43)=$A43,EVEN(CX$2)=CX$2)),CX$1,-100))","v":1865.625}]
[42,{"$f":"B43+'Ceiling Speaker Calculator'!$K$16","v":830},{"$f":"IF('Ceiling Speaker Calculator'!$C$29=\"Square\",C$1,IF(OR(AND(ODD($A44)=$A44,ODD(C$2)=C$2),AND(EVEN($A44)=$A44,EVEN(C$2)=C$2)),C$1,-100))","v":9.375},{"$f":"IF('Ceiling Speaker Calculator'!$C$29=\"Square\",D$1,IF(OR(AND(ODD($A44)=$A44,ODD(D$2)=D$2),AND(EVEN($A44)=$A44,EVEN(D$2)=D$2)),D$1,-100))","v":28.125},{"$f":"IF('Ceiling Speaker Calculator'!$C$29=\"Square\",E$1,IF(OR(AND(ODD($A44)=$A44,ODD(E$2)=E$2),AND(EVEN($A44)=$A44,EVEN(E$2)=E$2)),E$1,-100))","v":46.875},{"$f":"IF('Ceiling Speaker Calculator'!$C$29=\"Square\",F$1,IF(OR(AND(ODD($A44)=$A44,ODD(F$2)=F$2),AND(EVEN($A44)=$A44,EVEN(F$2)=F$2)),F$1,-100))","v":65.625},{"$f":"IF('Ceiling Speaker Calculator'!$C$29=\"Square\",G$1,IF(OR(AND(ODD($A44)=$A44,ODD(G$2)=G$2),AND(EVEN($A44)=$A44,EVEN(G$2)=G$2)),G$1,-100))","v":84.375},{"$f":"IF('Ceiling Speaker Calculator'!$C$29=\"Square\",H$1,IF(OR(AND(ODD($A44)=$A44,ODD(H$2)=H$2),AND(EVEN($A44)=$A44,EVEN(H$2)=H$2)),H$1,-100))","v":103.125},{"$f":"IF('Ceiling Speaker Calculator'!$C$29=\"Square\",I$1,IF(OR(AND(ODD($A44)=$A44,ODD(I$2)=I$2),AND(EVEN($A44)=$A44,EVEN(I$2)=I$2)),I$1,-100))","v":121.875},{"$f":"IF('Ceiling Speaker Calculator'!$C$29=\"Square\",J$1,IF(OR(AND(ODD($A44)=$A44,ODD(J$2)=J$2),AND(EVEN($A44)=$A44,EVEN(J$2)=J$2)),J$1,-100))","v":140.625},{"$f":"IF('Ceiling Speaker Calculator'!$C$29=\"Square\",K$1,IF(OR(AND(ODD($A44)=$A44,ODD(K$2)=K$2),AND(EVEN($A44)=$A44,EVEN(K$2)=K$2)),K$1,-100))","v":159.375},{"$f":"IF('Ceiling Speaker Calculator'!$C$29=\"Square\",L$1,IF(OR(AND(ODD($A44)=$A44,ODD(L$2)=L$2),AND(EVEN($A44)=$A44,EVEN(L$2)=L$2)),L$1,-100))","v":178.125},{"$f":"IF('Ceiling Speaker Calculator'!$C$29=\"Square\",M$1,IF(OR(AND(ODD($A44)=$A44,ODD(M$2)=M$2),AND(EVEN($A44)=$A44,EVEN(M$2)=M$2)),M$1,-100))","v":196.875},{"$f":"IF('Ceiling Speaker Calculator'!$C$29=\"Square\",N$1,IF(OR(AND(ODD($A44)=$A44,ODD(N$2)=N$2),AND(EVEN($A44)=$A44,EVEN(N$2)=N$2)),N$1,-100))","v":215.625},{"$f":"IF('Ceiling Speaker Calculator'!$C$29=\"Square\",O$1,IF(OR(AND(ODD($A44)=$A44,ODD(O$2)=O$2),AND(EVEN($A44)=$A44,EVEN(O$2)=O$2)),O$1,-100))","v":234.375},{"$f":"IF('Ceiling Speaker Calculator'!$C$29=\"Square\",P$1,IF(OR(AND(ODD($A44)=$A44,ODD(P$2)=P$2),AND(EVEN($A44)=$A44,EVEN(P$2)=P$2)),P$1,-100))","v":253.125},{"$f":"IF('Ceiling Speaker Calculator'!$C$29=\"Square\",Q$1,IF(OR(AND(ODD($A44)=$A44,ODD(Q$2)=Q$2),AND(EVEN($A44)=$A44,EVEN(Q$2)=Q$2)),Q$1,-100))","v":271.875},{"$f":"IF('Ceiling Speaker Calculator'!$C$29=\"Square\",R$1,IF(OR(AND(ODD($A44)=$A44,ODD(R$2)=R$2),AND(EVEN($A44)=$A44,EVEN(R$2)=R$2)),R$1,-100))","v":290.625},{"$f":"IF('Ceiling Speaker Calculator'!$C$29=\"Square\",S$1,IF(OR(AND(ODD($A44)=$A44,ODD(S$2)=S$2),AND(EVEN($A44)=$A44,EVEN(S$2)=S$2)),S$1,-100))","v":309.375},{"$f":"IF('Ceiling Speaker Calculator'!$C$29=\"Square\",T$1,IF(OR(AND(ODD($A44)=$A44,ODD(T$2)=T$2),AND(EVEN($A44)=$A44,EVEN(T$2)=T$2)),T$1,-100))","v":328.125},{"$f":"IF('Ceiling Speaker Calculator'!$C$29=\"Square\",U$1,IF(OR(AND(ODD($A44)=$A44,ODD(U$2)=U$2),AND(EVEN($A44)=$A44,EVEN(U$2)=U$2)),U$1,-100))","v":346.875},{"$f":"IF('Ceiling Speaker Calculator'!$C$29=\"Square\",V$1,IF(OR(AND(ODD($A44)=$A44,ODD(V$2)=V$2),AND(EVEN($A44)=$A44,EVEN(V$2)=V$2)),V$1,-100))","v":365.625},{"$f":"IF('Ceiling Speaker Calculator'!$C$29=\"Square\",W$1,IF(OR(AND(ODD($A44)=$A44,ODD(W$2)=W$2),AND(EVEN($A44)=$A44,EVEN(W$2)=W$2)),W$1,-100))","v":384.375},{"$f":"IF('Ceiling Speaker Calculator'!$C$29=\"Square\",X$1,IF(OR(AND(ODD($A44)=$A44,ODD(X$2)=X$2),AND(EVEN($A44)=$A44,EVEN(X$2)=X$2)),X$1,-100))","v":403.125},{"$f":"IF('Ceiling Speaker Calculator'!$C$29=\"Square\",Y$1,IF(OR(AND(ODD($A44)=$A44,ODD(Y$2)=Y$2),AND(EVEN($A44)=$A44,EVEN(Y$2)=Y$2)),Y$1,-100))","v":421.875},{"$f":"IF('Ceiling Speaker Calculator'!$C$29=\"Square\",Z$1,IF(OR(AND(ODD($A44)=$A44,ODD(Z$2)=Z$2),AND(EVEN($A44)=$A44,EVEN(Z$2)=Z$2)),Z$1,-100))","v":440.625},{"$f":"IF('Ceiling Speaker Calculator'!$C$29=\"Square\",AA$1,IF(OR(AND(ODD($A44)=$A44,ODD(AA$2)=AA$2),AND(EVEN($A44)=$A44,EVEN(AA$2)=AA$2)),AA$1,-100))","v":459.375},{"$f":"IF('Ceiling Speaker Calculator'!$C$29=\"Square\",AB$1,IF(OR(AND(ODD($A44)=$A44,ODD(AB$2)=AB$2),AND(EVEN($A44)=$A44,EVEN(AB$2)=AB$2)),AB$1,-100))","v":478.125},{"$f":"IF('Ceiling Speaker Calculator'!$C$29=\"Square\",AC$1,IF(OR(AND(ODD($A44)=$A44,ODD(AC$2)=AC$2),AND(EVEN($A44)=$A44,EVEN(AC$2)=AC$2)),AC$1,-100))","v":496.875},{"$f":"IF('Ceiling Speaker Calculator'!$C$29=\"Square\",AD$1,IF(OR(AND(ODD($A44)=$A44,ODD(AD$2)=AD$2),AND(EVEN($A44)=$A44,EVEN(AD$2)=AD$2)),AD$1,-100))","v":515.625},{"$f":"IF('Ceiling Speaker Calculator'!$C$29=\"Square\",AE$1,IF(OR(AND(ODD($A44)=$A44,ODD(AE$2)=AE$2),AND(EVEN($A44)=$A44,EVEN(AE$2)=AE$2)),AE$1,-100))","v":534.375},{"$f":"IF('Ceiling Speaker Calculator'!$C$29=\"Square\",AF$1,IF(OR(AND(ODD($A44)=$A44,ODD(AF$2)=AF$2),AND(EVEN($A44)=$A44,EVEN(AF$2)=AF$2)),AF$1,-100))","v":553.125},{"$f":"IF('Ceiling Speaker Calculator'!$C$29=\"Square\",AG$1,IF(OR(AND(ODD($A44)=$A44,ODD(AG$2)=AG$2),AND(EVEN($A44)=$A44,EVEN(AG$2)=AG$2)),AG$1,-100))","v":571.875},{"$f":"IF('Ceiling Speaker Calculator'!$C$29=\"Square\",AH$1,IF(OR(AND(ODD($A44)=$A44,ODD(AH$2)=AH$2),AND(EVEN($A44)=$A44,EVEN(AH$2)=AH$2)),AH$1,-100))","v":590.625},{"$f":"IF('Ceiling Speaker Calculator'!$C$29=\"Square\",AI$1,IF(OR(AND(ODD($A44)=$A44,ODD(AI$2)=AI$2),AND(EVEN($A44)=$A44,EVEN(AI$2)=AI$2)),AI$1,-100))","v":609.375},{"$f":"IF('Ceiling Speaker Calculator'!$C$29=\"Square\",AJ$1,IF(OR(AND(ODD($A44)=$A44,ODD(AJ$2)=AJ$2),AND(EVEN($A44)=$A44,EVEN(AJ$2)=AJ$2)),AJ$1,-100))","v":628.125},{"$f":"IF('Ceiling Speaker Calculator'!$C$29=\"Square\",AK$1,IF(OR(AND(ODD($A44)=$A44,ODD(AK$2)=AK$2),AND(EVEN($A44)=$A44,EVEN(AK$2)=AK$2)),AK$1,-100))","v":646.875},{"$f":"IF('Ceiling Speaker Calculator'!$C$29=\"Square\",AL$1,IF(OR(AND(ODD($A44)=$A44,ODD(AL$2)=AL$2),AND(EVEN($A44)=$A44,EVEN(AL$2)=AL$2)),AL$1,-100))","v":665.625},{"$f":"IF('Ceiling Speaker Calculator'!$C$29=\"Square\",AM$1,IF(OR(AND(ODD($A44)=$A44,ODD(AM$2)=AM$2),AND(EVEN($A44)=$A44,EVEN(AM$2)=AM$2)),AM$1,-100))","v":684.375},{"$f":"IF('Ceiling Speaker Calculator'!$C$29=\"Square\",AN$1,IF(OR(AND(ODD($A44)=$A44,ODD(AN$2)=AN$2),AND(EVEN($A44)=$A44,EVEN(AN$2)=AN$2)),AN$1,-100))","v":703.125},{"$f":"IF('Ceiling Speaker Calculator'!$C$29=\"Square\",AO$1,IF(OR(AND(ODD($A44)=$A44,ODD(AO$2)=AO$2),AND(EVEN($A44)=$A44,EVEN(AO$2)=AO$2)),AO$1,-100))","v":721.875},{"$f":"IF('Ceiling Speaker Calculator'!$C$29=\"Square\",AP$1,IF(OR(AND(ODD($A44)=$A44,ODD(AP$2)=AP$2),AND(EVEN($A44)=$A44,EVEN(AP$2)=AP$2)),AP$1,-100))","v":740.625},{"$f":"IF('Ceiling Speaker Calculator'!$C$29=\"Square\",AQ$1,IF(OR(AND(ODD($A44)=$A44,ODD(AQ$2)=AQ$2),AND(EVEN($A44)=$A44,EVEN(AQ$2)=AQ$2)),AQ$1,-100))","v":759.375},{"$f":"IF('Ceiling Speaker Calculator'!$C$29=\"Square\",AR$1,IF(OR(AND(ODD($A44)=$A44,ODD(AR$2)=AR$2),AND(EVEN($A44)=$A44,EVEN(AR$2)=AR$2)),AR$1,-100))","v":778.125},{"$f":"IF('Ceiling Speaker Calculator'!$C$29=\"Square\",AS$1,IF(OR(AND(ODD($A44)=$A44,ODD(AS$2)=AS$2),AND(EVEN($A44)=$A44,EVEN(AS$2)=AS$2)),AS$1,-100))","v":796.875},{"$f":"IF('Ceiling Speaker Calculator'!$C$29=\"Square\",AT$1,IF(OR(AND(ODD($A44)=$A44,ODD(AT$2)=AT$2),AND(EVEN($A44)=$A44,EVEN(AT$2)=AT$2)),AT$1,-100))","v":815.625},{"$f":"IF('Ceiling Speaker Calculator'!$C$29=\"Square\",AU$1,IF(OR(AND(ODD($A44)=$A44,ODD(AU$2)=AU$2),AND(EVEN($A44)=$A44,EVEN(AU$2)=AU$2)),AU$1,-100))","v":834.375},{"$f":"IF('Ceiling Speaker Calculator'!$C$29=\"Square\",AV$1,IF(OR(AND(ODD($A44)=$A44,ODD(AV$2)=AV$2),AND(EVEN($A44)=$A44,EVEN(AV$2)=AV$2)),AV$1,-100))","v":853.125},{"$f":"IF('Ceiling Speaker Calculator'!$C$29=\"Square\",AW$1,IF(OR(AND(ODD($A44)=$A44,ODD(AW$2)=AW$2),AND(EVEN($A44)=$A44,EVEN(AW$2)=AW$2)),AW$1,-100))","v":871.875},{"$f":"IF('Ceiling Speaker Calculator'!$C$29=\"Square\",AX$1,IF(OR(AND(ODD($A44)=$A44,ODD(AX$2)=AX$2),AND(EVEN($A44)=$A44,EVEN(AX$2)=AX$2)),AX$1,-100))","v":890.625},{"$f":"IF('Ceiling Speaker Calculator'!$C$29=\"Square\",AY$1,IF(OR(AND(ODD($A44)=$A44,ODD(AY$2)=AY$2),AND(EVEN($A44)=$A44,EVEN(AY$2)=AY$2)),AY$1,-100))","v":909.375},{"$f":"IF('Ceiling Speaker Calculator'!$C$29=\"Square\",AZ$1,IF(OR(AND(ODD($A44)=$A44,ODD(AZ$2)=AZ$2),AND(EVEN($A44)=$A44,EVEN(AZ$2)=AZ$2)),AZ$1,-100))","v":928.125},{"$f":"IF('Ceiling Speaker Calculator'!$C$29=\"Square\",BA$1,IF(OR(AND(ODD($A44)=$A44,ODD(BA$2)=BA$2),AND(EVEN($A44)=$A44,EVEN(BA$2)=BA$2)),BA$1,-100))","v":946.875},{"$f":"IF('Ceiling Speaker Calculator'!$C$29=\"Square\",BB$1,IF(OR(AND(ODD($A44)=$A44,ODD(BB$2)=BB$2),AND(EVEN($A44)=$A44,EVEN(BB$2)=BB$2)),BB$1,-100))","v":965.625},{"$f":"IF('Ceiling Speaker Calculator'!$C$29=\"Square\",BC$1,IF(OR(AND(ODD($A44)=$A44,ODD(BC$2)=BC$2),AND(EVEN($A44)=$A44,EVEN(BC$2)=BC$2)),BC$1,-100))","v":984.375},{"$f":"IF('Ceiling Speaker Calculator'!$C$29=\"Square\",BD$1,IF(OR(AND(ODD($A44)=$A44,ODD(BD$2)=BD$2),AND(EVEN($A44)=$A44,EVEN(BD$2)=BD$2)),BD$1,-100))","v":1003.125},{"$f":"IF('Ceiling Speaker Calculator'!$C$29=\"Square\",BE$1,IF(OR(AND(ODD($A44)=$A44,ODD(BE$2)=BE$2),AND(EVEN($A44)=$A44,EVEN(BE$2)=BE$2)),BE$1,-100))","v":1021.875},{"$f":"IF('Ceiling Speaker Calculator'!$C$29=\"Square\",BF$1,IF(OR(AND(ODD($A44)=$A44,ODD(BF$2)=BF$2),AND(EVEN($A44)=$A44,EVEN(BF$2)=BF$2)),BF$1,-100))","v":1040.625},{"$f":"IF('Ceiling Speaker Calculator'!$C$29=\"Square\",BG$1,IF(OR(AND(ODD($A44)=$A44,ODD(BG$2)=BG$2),AND(EVEN($A44)=$A44,EVEN(BG$2)=BG$2)),BG$1,-100))","v":1059.375},{"$f":"IF('Ceiling Speaker Calculator'!$C$29=\"Square\",BH$1,IF(OR(AND(ODD($A44)=$A44,ODD(BH$2)=BH$2),AND(EVEN($A44)=$A44,EVEN(BH$2)=BH$2)),BH$1,-100))","v":1078.125},{"$f":"IF('Ceiling Speaker Calculator'!$C$29=\"Square\",BI$1,IF(OR(AND(ODD($A44)=$A44,ODD(BI$2)=BI$2),AND(EVEN($A44)=$A44,EVEN(BI$2)=BI$2)),BI$1,-100))","v":1096.875},{"$f":"IF('Ceiling Speaker Calculator'!$C$29=\"Square\",BJ$1,IF(OR(AND(ODD($A44)=$A44,ODD(BJ$2)=BJ$2),AND(EVEN($A44)=$A44,EVEN(BJ$2)=BJ$2)),BJ$1,-100))","v":1115.625},{"$f":"IF('Ceiling Speaker Calculator'!$C$29=\"Square\",BK$1,IF(OR(AND(ODD($A44)=$A44,ODD(BK$2)=BK$2),AND(EVEN($A44)=$A44,EVEN(BK$2)=BK$2)),BK$1,-100))","v":1134.375},{"$f":"IF('Ceiling Speaker Calculator'!$C$29=\"Square\",BL$1,IF(OR(AND(ODD($A44)=$A44,ODD(BL$2)=BL$2),AND(EVEN($A44)=$A44,EVEN(BL$2)=BL$2)),BL$1,-100))","v":1153.125},{"$f":"IF('Ceiling Speaker Calculator'!$C$29=\"Square\",BM$1,IF(OR(AND(ODD($A44)=$A44,ODD(BM$2)=BM$2),AND(EVEN($A44)=$A44,EVEN(BM$2)=BM$2)),BM$1,-100))","v":1171.875},{"$f":"IF('Ceiling Speaker Calculator'!$C$29=\"Square\",BN$1,IF(OR(AND(ODD($A44)=$A44,ODD(BN$2)=BN$2),AND(EVEN($A44)=$A44,EVEN(BN$2)=BN$2)),BN$1,-100))","v":1190.625},{"$f":"IF('Ceiling Speaker Calculator'!$C$29=\"Square\",BO$1,IF(OR(AND(ODD($A44)=$A44,ODD(BO$2)=BO$2),AND(EVEN($A44)=$A44,EVEN(BO$2)=BO$2)),BO$1,-100))","v":1209.375},{"$f":"IF('Ceiling Speaker Calculator'!$C$29=\"Square\",BP$1,IF(OR(AND(ODD($A44)=$A44,ODD(BP$2)=BP$2),AND(EVEN($A44)=$A44,EVEN(BP$2)=BP$2)),BP$1,-100))","v":1228.125},{"$f":"IF('Ceiling Speaker Calculator'!$C$29=\"Square\",BQ$1,IF(OR(AND(ODD($A44)=$A44,ODD(BQ$2)=BQ$2),AND(EVEN($A44)=$A44,EVEN(BQ$2)=BQ$2)),BQ$1,-100))","v":1246.875},{"$f":"IF('Ceiling Speaker Calculator'!$C$29=\"Square\",BR$1,IF(OR(AND(ODD($A44)=$A44,ODD(BR$2)=BR$2),AND(EVEN($A44)=$A44,EVEN(BR$2)=BR$2)),BR$1,-100))","v":1265.625},{"$f":"IF('Ceiling Speaker Calculator'!$C$29=\"Square\",BS$1,IF(OR(AND(ODD($A44)=$A44,ODD(BS$2)=BS$2),AND(EVEN($A44)=$A44,EVEN(BS$2)=BS$2)),BS$1,-100))","v":1284.375},{"$f":"IF('Ceiling Speaker Calculator'!$C$29=\"Square\",BT$1,IF(OR(AND(ODD($A44)=$A44,ODD(BT$2)=BT$2),AND(EVEN($A44)=$A44,EVEN(BT$2)=BT$2)),BT$1,-100))","v":1303.125},{"$f":"IF('Ceiling Speaker Calculator'!$C$29=\"Square\",BU$1,IF(OR(AND(ODD($A44)=$A44,ODD(BU$2)=BU$2),AND(EVEN($A44)=$A44,EVEN(BU$2)=BU$2)),BU$1,-100))","v":1321.875},{"$f":"IF('Ceiling Speaker Calculator'!$C$29=\"Square\",BV$1,IF(OR(AND(ODD($A44)=$A44,ODD(BV$2)=BV$2),AND(EVEN($A44)=$A44,EVEN(BV$2)=BV$2)),BV$1,-100))","v":1340.625},{"$f":"IF('Ceiling Speaker Calculator'!$C$29=\"Square\",BW$1,IF(OR(AND(ODD($A44)=$A44,ODD(BW$2)=BW$2),AND(EVEN($A44)=$A44,EVEN(BW$2)=BW$2)),BW$1,-100))","v":1359.375},{"$f":"IF('Ceiling Speaker Calculator'!$C$29=\"Square\",BX$1,IF(OR(AND(ODD($A44)=$A44,ODD(BX$2)=BX$2),AND(EVEN($A44)=$A44,EVEN(BX$2)=BX$2)),BX$1,-100))","v":1378.125},{"$f":"IF('Ceiling Speaker Calculator'!$C$29=\"Square\",BY$1,IF(OR(AND(ODD($A44)=$A44,ODD(BY$2)=BY$2),AND(EVEN($A44)=$A44,EVEN(BY$2)=BY$2)),BY$1,-100))","v":1396.875},{"$f":"IF('Ceiling Speaker Calculator'!$C$29=\"Square\",BZ$1,IF(OR(AND(ODD($A44)=$A44,ODD(BZ$2)=BZ$2),AND(EVEN($A44)=$A44,EVEN(BZ$2)=BZ$2)),BZ$1,-100))","v":1415.625},{"$f":"IF('Ceiling Speaker Calculator'!$C$29=\"Square\",CA$1,IF(OR(AND(ODD($A44)=$A44,ODD(CA$2)=CA$2),AND(EVEN($A44)=$A44,EVEN(CA$2)=CA$2)),CA$1,-100))","v":1434.375},{"$f":"IF('Ceiling Speaker Calculator'!$C$29=\"Square\",CB$1,IF(OR(AND(ODD($A44)=$A44,ODD(CB$2)=CB$2),AND(EVEN($A44)=$A44,EVEN(CB$2)=CB$2)),CB$1,-100))","v":1453.125},{"$f":"IF('Ceiling Speaker Calculator'!$C$29=\"Square\",CC$1,IF(OR(AND(ODD($A44)=$A44,ODD(CC$2)=CC$2),AND(EVEN($A44)=$A44,EVEN(CC$2)=CC$2)),CC$1,-100))","v":1471.875},{"$f":"IF('Ceiling Speaker Calculator'!$C$29=\"Square\",CD$1,IF(OR(AND(ODD($A44)=$A44,ODD(CD$2)=CD$2),AND(EVEN($A44)=$A44,EVEN(CD$2)=CD$2)),CD$1,-100))","v":1490.625},{"$f":"IF('Ceiling Speaker Calculator'!$C$29=\"Square\",CE$1,IF(OR(AND(ODD($A44)=$A44,ODD(CE$2)=CE$2),AND(EVEN($A44)=$A44,EVEN(CE$2)=CE$2)),CE$1,-100))","v":1509.375},{"$f":"IF('Ceiling Speaker Calculator'!$C$29=\"Square\",CF$1,IF(OR(AND(ODD($A44)=$A44,ODD(CF$2)=CF$2),AND(EVEN($A44)=$A44,EVEN(CF$2)=CF$2)),CF$1,-100))","v":1528.125},{"$f":"IF('Ceiling Speaker Calculator'!$C$29=\"Square\",CG$1,IF(OR(AND(ODD($A44)=$A44,ODD(CG$2)=CG$2),AND(EVEN($A44)=$A44,EVEN(CG$2)=CG$2)),CG$1,-100))","v":1546.875},{"$f":"IF('Ceiling Speaker Calculator'!$C$29=\"Square\",CH$1,IF(OR(AND(ODD($A44)=$A44,ODD(CH$2)=CH$2),AND(EVEN($A44)=$A44,EVEN(CH$2)=CH$2)),CH$1,-100))","v":1565.625},{"$f":"IF('Ceiling Speaker Calculator'!$C$29=\"Square\",CI$1,IF(OR(AND(ODD($A44)=$A44,ODD(CI$2)=CI$2),AND(EVEN($A44)=$A44,EVEN(CI$2)=CI$2)),CI$1,-100))","v":1584.375},{"$f":"IF('Ceiling Speaker Calculator'!$C$29=\"Square\",CJ$1,IF(OR(AND(ODD($A44)=$A44,ODD(CJ$2)=CJ$2),AND(EVEN($A44)=$A44,EVEN(CJ$2)=CJ$2)),CJ$1,-100))","v":1603.125},{"$f":"IF('Ceiling Speaker Calculator'!$C$29=\"Square\",CK$1,IF(OR(AND(ODD($A44)=$A44,ODD(CK$2)=CK$2),AND(EVEN($A44)=$A44,EVEN(CK$2)=CK$2)),CK$1,-100))","v":1621.875},{"$f":"IF('Ceiling Speaker Calculator'!$C$29=\"Square\",CL$1,IF(OR(AND(ODD($A44)=$A44,ODD(CL$2)=CL$2),AND(EVEN($A44)=$A44,EVEN(CL$2)=CL$2)),CL$1,-100))","v":1640.625},{"$f":"IF('Ceiling Speaker Calculator'!$C$29=\"Square\",CM$1,IF(OR(AND(ODD($A44)=$A44,ODD(CM$2)=CM$2),AND(EVEN($A44)=$A44,EVEN(CM$2)=CM$2)),CM$1,-100))","v":1659.375},{"$f":"IF('Ceiling Speaker Calculator'!$C$29=\"Square\",CN$1,IF(OR(AND(ODD($A44)=$A44,ODD(CN$2)=CN$2),AND(EVEN($A44)=$A44,EVEN(CN$2)=CN$2)),CN$1,-100))","v":1678.125},{"$f":"IF('Ceiling Speaker Calculator'!$C$29=\"Square\",CO$1,IF(OR(AND(ODD($A44)=$A44,ODD(CO$2)=CO$2),AND(EVEN($A44)=$A44,EVEN(CO$2)=CO$2)),CO$1,-100))","v":1696.875},{"$f":"IF('Ceiling Speaker Calculator'!$C$29=\"Square\",CP$1,IF(OR(AND(ODD($A44)=$A44,ODD(CP$2)=CP$2),AND(EVEN($A44)=$A44,EVEN(CP$2)=CP$2)),CP$1,-100))","v":1715.625},{"$f":"IF('Ceiling Speaker Calculator'!$C$29=\"Square\",CQ$1,IF(OR(AND(ODD($A44)=$A44,ODD(CQ$2)=CQ$2),AND(EVEN($A44)=$A44,EVEN(CQ$2)=CQ$2)),CQ$1,-100))","v":1734.375},{"$f":"IF('Ceiling Speaker Calculator'!$C$29=\"Square\",CR$1,IF(OR(AND(ODD($A44)=$A44,ODD(CR$2)=CR$2),AND(EVEN($A44)=$A44,EVEN(CR$2)=CR$2)),CR$1,-100))","v":1753.125},{"$f":"IF('Ceiling Speaker Calculator'!$C$29=\"Square\",CS$1,IF(OR(AND(ODD($A44)=$A44,ODD(CS$2)=CS$2),AND(EVEN($A44)=$A44,EVEN(CS$2)=CS$2)),CS$1,-100))","v":1771.875},{"$f":"IF('Ceiling Speaker Calculator'!$C$29=\"Square\",CT$1,IF(OR(AND(ODD($A44)=$A44,ODD(CT$2)=CT$2),AND(EVEN($A44)=$A44,EVEN(CT$2)=CT$2)),CT$1,-100))","v":1790.625},{"$f":"IF('Ceiling Speaker Calculator'!$C$29=\"Square\",CU$1,IF(OR(AND(ODD($A44)=$A44,ODD(CU$2)=CU$2),AND(EVEN($A44)=$A44,EVEN(CU$2)=CU$2)),CU$1,-100))","v":1809.375},{"$f":"IF('Ceiling Speaker Calculator'!$C$29=\"Square\",CV$1,IF(OR(AND(ODD($A44)=$A44,ODD(CV$2)=CV$2),AND(EVEN($A44)=$A44,EVEN(CV$2)=CV$2)),CV$1,-100))","v":1828.125},{"$f":"IF('Ceiling Speaker Calculator'!$C$29=\"Square\",CW$1,IF(OR(AND(ODD($A44)=$A44,ODD(CW$2)=CW$2),AND(EVEN($A44)=$A44,EVEN(CW$2)=CW$2)),CW$1,-100))","v":1846.875},{"$f":"IF('Ceiling Speaker Calculator'!$C$29=\"Square\",CX$1,IF(OR(AND(ODD($A44)=$A44,ODD(CX$2)=CX$2),AND(EVEN($A44)=$A44,EVEN(CX$2)=CX$2)),CX$1,-100))","v":1865.625}]
[43,{"$f":"B44+'Ceiling Speaker Calculator'!$K$16","v":850},{"$f":"IF('Ceiling Speaker Calculator'!$C$29=\"Square\",C$1,IF(OR(AND(ODD($A45)=$A45,ODD(C$2)=C$2),AND(EVEN($A45)=$A45,EVEN(C$2)=C$2)),C$1,-100))","v":9.375},{"$f":"IF('Ceiling Speaker Calculator'!$C$29=\"Square\",D$1,IF(OR(AND(ODD($A45)=$A45,ODD(D$2)=D$2),AND(EVEN($A45)=$A45,EVEN(D$2)=D$2)),D$1,-100))","v":28.125},{"$f":"IF('Ceiling Speaker Calculator'!$C$29=\"Square\",E$1,IF(OR(AND(ODD($A45)=$A45,ODD(E$2)=E$2),AND(EVEN($A45)=$A45,EVEN(E$2)=E$2)),E$1,-100))","v":46.875},{"$f":"IF('Ceiling Speaker Calculator'!$C$29=\"Square\",F$1,IF(OR(AND(ODD($A45)=$A45,ODD(F$2)=F$2),AND(EVEN($A45)=$A45,EVEN(F$2)=F$2)),F$1,-100))","v":65.625},{"$f":"IF('Ceiling Speaker Calculator'!$C$29=\"Square\",G$1,IF(OR(AND(ODD($A45)=$A45,ODD(G$2)=G$2),AND(EVEN($A45)=$A45,EVEN(G$2)=G$2)),G$1,-100))","v":84.375},{"$f":"IF('Ceiling Speaker Calculator'!$C$29=\"Square\",H$1,IF(OR(AND(ODD($A45)=$A45,ODD(H$2)=H$2),AND(EVEN($A45)=$A45,EVEN(H$2)=H$2)),H$1,-100))","v":103.125},{"$f":"IF('Ceiling Speaker Calculator'!$C$29=\"Square\",I$1,IF(OR(AND(ODD($A45)=$A45,ODD(I$2)=I$2),AND(EVEN($A45)=$A45,EVEN(I$2)=I$2)),I$1,-100))","v":121.875},{"$f":"IF('Ceiling Speaker Calculator'!$C$29=\"Square\",J$1,IF(OR(AND(ODD($A45)=$A45,ODD(J$2)=J$2),AND(EVEN($A45)=$A45,EVEN(J$2)=J$2)),J$1,-100))","v":140.625},{"$f":"IF('Ceiling Speaker Calculator'!$C$29=\"Square\",K$1,IF(OR(AND(ODD($A45)=$A45,ODD(K$2)=K$2),AND(EVEN($A45)=$A45,EVEN(K$2)=K$2)),K$1,-100))","v":159.375},{"$f":"IF('Ceiling Speaker Calculator'!$C$29=\"Square\",L$1,IF(OR(AND(ODD($A45)=$A45,ODD(L$2)=L$2),AND(EVEN($A45)=$A45,EVEN(L$2)=L$2)),L$1,-100))","v":178.125},{"$f":"IF('Ceiling Speaker Calculator'!$C$29=\"Square\",M$1,IF(OR(AND(ODD($A45)=$A45,ODD(M$2)=M$2),AND(EVEN($A45)=$A45,EVEN(M$2)=M$2)),M$1,-100))","v":196.875},{"$f":"IF('Ceiling Speaker Calculator'!$C$29=\"Square\",N$1,IF(OR(AND(ODD($A45)=$A45,ODD(N$2)=N$2),AND(EVEN($A45)=$A45,EVEN(N$2)=N$2)),N$1,-100))","v":215.625},{"$f":"IF('Ceiling Speaker Calculator'!$C$29=\"Square\",O$1,IF(OR(AND(ODD($A45)=$A45,ODD(O$2)=O$2),AND(EVEN($A45)=$A45,EVEN(O$2)=O$2)),O$1,-100))","v":234.375},{"$f":"IF('Ceiling Speaker Calculator'!$C$29=\"Square\",P$1,IF(OR(AND(ODD($A45)=$A45,ODD(P$2)=P$2),AND(EVEN($A45)=$A45,EVEN(P$2)=P$2)),P$1,-100))","v":253.125},{"$f":"IF('Ceiling Speaker Calculator'!$C$29=\"Square\",Q$1,IF(OR(AND(ODD($A45)=$A45,ODD(Q$2)=Q$2),AND(EVEN($A45)=$A45,EVEN(Q$2)=Q$2)),Q$1,-100))","v":271.875},{"$f":"IF('Ceiling Speaker Calculator'!$C$29=\"Square\",R$1,IF(OR(AND(ODD($A45)=$A45,ODD(R$2)=R$2),AND(EVEN($A45)=$A45,EVEN(R$2)=R$2)),R$1,-100))","v":290.625},{"$f":"IF('Ceiling Speaker Calculator'!$C$29=\"Square\",S$1,IF(OR(AND(ODD($A45)=$A45,ODD(S$2)=S$2),AND(EVEN($A45)=$A45,EVEN(S$2)=S$2)),S$1,-100))","v":309.375},{"$f":"IF('Ceiling Speaker Calculator'!$C$29=\"Square\",T$1,IF(OR(AND(ODD($A45)=$A45,ODD(T$2)=T$2),AND(EVEN($A45)=$A45,EVEN(T$2)=T$2)),T$1,-100))","v":328.125},{"$f":"IF('Ceiling Speaker Calculator'!$C$29=\"Square\",U$1,IF(OR(AND(ODD($A45)=$A45,ODD(U$2)=U$2),AND(EVEN($A45)=$A45,EVEN(U$2)=U$2)),U$1,-100))","v":346.875},{"$f":"IF('Ceiling Speaker Calculator'!$C$29=\"Square\",V$1,IF(OR(AND(ODD($A45)=$A45,ODD(V$2)=V$2),AND(EVEN($A45)=$A45,EVEN(V$2)=V$2)),V$1,-100))","v":365.625},{"$f":"IF('Ceiling Speaker Calculator'!$C$29=\"Square\",W$1,IF(OR(AND(ODD($A45)=$A45,ODD(W$2)=W$2),AND(EVEN($A45)=$A45,EVEN(W$2)=W$2)),W$1,-100))","v":384.375},{"$f":"IF('Ceiling Speaker Calculator'!$C$29=\"Square\",X$1,IF(OR(AND(ODD($A45)=$A45,ODD(X$2)=X$2),AND(EVEN($A45)=$A45,EVEN(X$2)=X$2)),X$1,-100))","v":403.125},{"$f":"IF('Ceiling Speaker Calculator'!$C$29=\"Square\",Y$1,IF(OR(AND(ODD($A45)=$A45,ODD(Y$2)=Y$2),AND(EVEN($A45)=$A45,EVEN(Y$2)=Y$2)),Y$1,-100))","v":421.875},{"$f":"IF('Ceiling Speaker Calculator'!$C$29=\"Square\",Z$1,IF(OR(AND(ODD($A45)=$A45,ODD(Z$2)=Z$2),AND(EVEN($A45)=$A45,EVEN(Z$2)=Z$2)),Z$1,-100))","v":440.625},{"$f":"IF('Ceiling Speaker Calculator'!$C$29=\"Square\",AA$1,IF(OR(AND(ODD($A45)=$A45,ODD(AA$2)=AA$2),AND(EVEN($A45)=$A45,EVEN(AA$2)=AA$2)),AA$1,-100))","v":459.375},{"$f":"IF('Ceiling Speaker Calculator'!$C$29=\"Square\",AB$1,IF(OR(AND(ODD($A45)=$A45,ODD(AB$2)=AB$2),AND(EVEN($A45)=$A45,EVEN(AB$2)=AB$2)),AB$1,-100))","v":478.125},{"$f":"IF('Ceiling Speaker Calculator'!$C$29=\"Square\",AC$1,IF(OR(AND(ODD($A45)=$A45,ODD(AC$2)=AC$2),AND(EVEN($A45)=$A45,EVEN(AC$2)=AC$2)),AC$1,-100))","v":496.875},{"$f":"IF('Ceiling Speaker Calculator'!$C$29=\"Square\",AD$1,IF(OR(AND(ODD($A45)=$A45,ODD(AD$2)=AD$2),AND(EVEN($A45)=$A45,EVEN(AD$2)=AD$2)),AD$1,-100))","v":515.625},{"$f":"IF('Ceiling Speaker Calculator'!$C$29=\"Square\",AE$1,IF(OR(AND(ODD($A45)=$A45,ODD(AE$2)=AE$2),AND(EVEN($A45)=$A45,EVEN(AE$2)=AE$2)),AE$1,-100))","v":534.375},{"$f":"IF('Ceiling Speaker Calculator'!$C$29=\"Square\",AF$1,IF(OR(AND(ODD($A45)=$A45,ODD(AF$2)=AF$2),AND(EVEN($A45)=$A45,EVEN(AF$2)=AF$2)),AF$1,-100))","v":553.125},{"$f":"IF('Ceiling Speaker Calculator'!$C$29=\"Square\",AG$1,IF(OR(AND(ODD($A45)=$A45,ODD(AG$2)=AG$2),AND(EVEN($A45)=$A45,EVEN(AG$2)=AG$2)),AG$1,-100))","v":571.875},{"$f":"IF('Ceiling Speaker Calculator'!$C$29=\"Square\",AH$1,IF(OR(AND(ODD($A45)=$A45,ODD(AH$2)=AH$2),AND(EVEN($A45)=$A45,EVEN(AH$2)=AH$2)),AH$1,-100))","v":590.625},{"$f":"IF('Ceiling Speaker Calculator'!$C$29=\"Square\",AI$1,IF(OR(AND(ODD($A45)=$A45,ODD(AI$2)=AI$2),AND(EVEN($A45)=$A45,EVEN(AI$2)=AI$2)),AI$1,-100))","v":609.375},{"$f":"IF('Ceiling Speaker Calculator'!$C$29=\"Square\",AJ$1,IF(OR(AND(ODD($A45)=$A45,ODD(AJ$2)=AJ$2),AND(EVEN($A45)=$A45,EVEN(AJ$2)=AJ$2)),AJ$1,-100))","v":628.125},{"$f":"IF('Ceiling Speaker Calculator'!$C$29=\"Square\",AK$1,IF(OR(AND(ODD($A45)=$A45,ODD(AK$2)=AK$2),AND(EVEN($A45)=$A45,EVEN(AK$2)=AK$2)),AK$1,-100))","v":646.875},{"$f":"IF('Ceiling Speaker Calculator'!$C$29=\"Square\",AL$1,IF(OR(AND(ODD($A45)=$A45,ODD(AL$2)=AL$2),AND(EVEN($A45)=$A45,EVEN(AL$2)=AL$2)),AL$1,-100))","v":665.625},{"$f":"IF('Ceiling Speaker Calculator'!$C$29=\"Square\",AM$1,IF(OR(AND(ODD($A45)=$A45,ODD(AM$2)=AM$2),AND(EVEN($A45)=$A45,EVEN(AM$2)=AM$2)),AM$1,-100))","v":684.375},{"$f":"IF('Ceiling Speaker Calculator'!$C$29=\"Square\",AN$1,IF(OR(AND(ODD($A45)=$A45,ODD(AN$2)=AN$2),AND(EVEN($A45)=$A45,EVEN(AN$2)=AN$2)),AN$1,-100))","v":703.125},{"$f":"IF('Ceiling Speaker Calculator'!$C$29=\"Square\",AO$1,IF(OR(AND(ODD($A45)=$A45,ODD(AO$2)=AO$2),AND(EVEN($A45)=$A45,EVEN(AO$2)=AO$2)),AO$1,-100))","v":721.875},{"$f":"IF('Ceiling Speaker Calculator'!$C$29=\"Square\",AP$1,IF(OR(AND(ODD($A45)=$A45,ODD(AP$2)=AP$2),AND(EVEN($A45)=$A45,EVEN(AP$2)=AP$2)),AP$1,-100))","v":740.625},{"$f":"IF('Ceiling Speaker Calculator'!$C$29=\"Square\",AQ$1,IF(OR(AND(ODD($A45)=$A45,ODD(AQ$2)=AQ$2),AND(EVEN($A45)=$A45,EVEN(AQ$2)=AQ$2)),AQ$1,-100))","v":759.375},{"$f":"IF('Ceiling Speaker Calculator'!$C$29=\"Square\",AR$1,IF(OR(AND(ODD($A45)=$A45,ODD(AR$2)=AR$2),AND(EVEN($A45)=$A45,EVEN(AR$2)=AR$2)),AR$1,-100))","v":778.125},{"$f":"IF('Ceiling Speaker Calculator'!$C$29=\"Square\",AS$1,IF(OR(AND(ODD($A45)=$A45,ODD(AS$2)=AS$2),AND(EVEN($A45)=$A45,EVEN(AS$2)=AS$2)),AS$1,-100))","v":796.875},{"$f":"IF('Ceiling Speaker Calculator'!$C$29=\"Square\",AT$1,IF(OR(AND(ODD($A45)=$A45,ODD(AT$2)=AT$2),AND(EVEN($A45)=$A45,EVEN(AT$2)=AT$2)),AT$1,-100))","v":815.625},{"$f":"IF('Ceiling Speaker Calculator'!$C$29=\"Square\",AU$1,IF(OR(AND(ODD($A45)=$A45,ODD(AU$2)=AU$2),AND(EVEN($A45)=$A45,EVEN(AU$2)=AU$2)),AU$1,-100))","v":834.375},{"$f":"IF('Ceiling Speaker Calculator'!$C$29=\"Square\",AV$1,IF(OR(AND(ODD($A45)=$A45,ODD(AV$2)=AV$2),AND(EVEN($A45)=$A45,EVEN(AV$2)=AV$2)),AV$1,-100))","v":853.125},{"$f":"IF('Ceiling Speaker Calculator'!$C$29=\"Square\",AW$1,IF(OR(AND(ODD($A45)=$A45,ODD(AW$2)=AW$2),AND(EVEN($A45)=$A45,EVEN(AW$2)=AW$2)),AW$1,-100))","v":871.875},{"$f":"IF('Ceiling Speaker Calculator'!$C$29=\"Square\",AX$1,IF(OR(AND(ODD($A45)=$A45,ODD(AX$2)=AX$2),AND(EVEN($A45)=$A45,EVEN(AX$2)=AX$2)),AX$1,-100))","v":890.625},{"$f":"IF('Ceiling Speaker Calculator'!$C$29=\"Square\",AY$1,IF(OR(AND(ODD($A45)=$A45,ODD(AY$2)=AY$2),AND(EVEN($A45)=$A45,EVEN(AY$2)=AY$2)),AY$1,-100))","v":909.375},{"$f":"IF('Ceiling Speaker Calculator'!$C$29=\"Square\",AZ$1,IF(OR(AND(ODD($A45)=$A45,ODD(AZ$2)=AZ$2),AND(EVEN($A45)=$A45,EVEN(AZ$2)=AZ$2)),AZ$1,-100))","v":928.125},{"$f":"IF('Ceiling Speaker Calculator'!$C$29=\"Square\",BA$1,IF(OR(AND(ODD($A45)=$A45,ODD(BA$2)=BA$2),AND(EVEN($A45)=$A45,EVEN(BA$2)=BA$2)),BA$1,-100))","v":946.875},{"$f":"IF('Ceiling Speaker Calculator'!$C$29=\"Square\",BB$1,IF(OR(AND(ODD($A45)=$A45,ODD(BB$2)=BB$2),AND(EVEN($A45)=$A45,EVEN(BB$2)=BB$2)),BB$1,-100))","v":965.625},{"$f":"IF('Ceiling Speaker Calculator'!$C$29=\"Square\",BC$1,IF(OR(AND(ODD($A45)=$A45,ODD(BC$2)=BC$2),AND(EVEN($A45)=$A45,EVEN(BC$2)=BC$2)),BC$1,-100))","v":984.375},{"$f":"IF('Ceiling Speaker Calculator'!$C$29=\"Square\",BD$1,IF(OR(AND(ODD($A45)=$A45,ODD(BD$2)=BD$2),AND(EVEN($A45)=$A45,EVEN(BD$2)=BD$2)),BD$1,-100))","v":1003.125},{"$f":"IF('Ceiling Speaker Calculator'!$C$29=\"Square\",BE$1,IF(OR(AND(ODD($A45)=$A45,ODD(BE$2)=BE$2),AND(EVEN($A45)=$A45,EVEN(BE$2)=BE$2)),BE$1,-100))","v":1021.875},{"$f":"IF('Ceiling Speaker Calculator'!$C$29=\"Square\",BF$1,IF(OR(AND(ODD($A45)=$A45,ODD(BF$2)=BF$2),AND(EVEN($A45)=$A45,EVEN(BF$2)=BF$2)),BF$1,-100))","v":1040.625},{"$f":"IF('Ceiling Speaker Calculator'!$C$29=\"Square\",BG$1,IF(OR(AND(ODD($A45)=$A45,ODD(BG$2)=BG$2),AND(EVEN($A45)=$A45,EVEN(BG$2)=BG$2)),BG$1,-100))","v":1059.375},{"$f":"IF('Ceiling Speaker Calculator'!$C$29=\"Square\",BH$1,IF(OR(AND(ODD($A45)=$A45,ODD(BH$2)=BH$2),AND(EVEN($A45)=$A45,EVEN(BH$2)=BH$2)),BH$1,-100))","v":1078.125},{"$f":"IF('Ceiling Speaker Calculator'!$C$29=\"Square\",BI$1,IF(OR(AND(ODD($A45)=$A45,ODD(BI$2)=BI$2),AND(EVEN($A45)=$A45,EVEN(BI$2)=BI$2)),BI$1,-100))","v":1096.875},{"$f":"IF('Ceiling Speaker Calculator'!$C$29=\"Square\",BJ$1,IF(OR(AND(ODD($A45)=$A45,ODD(BJ$2)=BJ$2),AND(EVEN($A45)=$A45,EVEN(BJ$2)=BJ$2)),BJ$1,-100))","v":1115.625},{"$f":"IF('Ceiling Speaker Calculator'!$C$29=\"Square\",BK$1,IF(OR(AND(ODD($A45)=$A45,ODD(BK$2)=BK$2),AND(EVEN($A45)=$A45,EVEN(BK$2)=BK$2)),BK$1,-100))","v":1134.375},{"$f":"IF('Ceiling Speaker Calculator'!$C$29=\"Square\",BL$1,IF(OR(AND(ODD($A45)=$A45,ODD(BL$2)=BL$2),AND(EVEN($A45)=$A45,EVEN(BL$2)=BL$2)),BL$1,-100))","v":1153.125},{"$f":"IF('Ceiling Speaker Calculator'!$C$29=\"Square\",BM$1,IF(OR(AND(ODD($A45)=$A45,ODD(BM$2)=BM$2),AND(EVEN($A45)=$A45,EVEN(BM$2)=BM$2)),BM$1,-100))","v":1171.875},{"$f":"IF('Ceiling Speaker Calculator'!$C$29=\"Square\",BN$1,IF(OR(AND(ODD($A45)=$A45,ODD(BN$2)=BN$2),AND(EVEN($A45)=$A45,EVEN(BN$2)=BN$2)),BN$1,-100))","v":1190.625},{"$f":"IF('Ceiling Speaker Calculator'!$C$29=\"Square\",BO$1,IF(OR(AND(ODD($A45)=$A45,ODD(BO$2)=BO$2),AND(EVEN($A45)=$A45,EVEN(BO$2)=BO$2)),BO$1,-100))","v":1209.375},{"$f":"IF('Ceiling Speaker Calculator'!$C$29=\"Square\",BP$1,IF(OR(AND(ODD($A45)=$A45,ODD(BP$2)=BP$2),AND(EVEN($A45)=$A45,EVEN(BP$2)=BP$2)),BP$1,-100))","v":1228.125},{"$f":"IF('Ceiling Speaker Calculator'!$C$29=\"Square\",BQ$1,IF(OR(AND(ODD($A45)=$A45,ODD(BQ$2)=BQ$2),AND(EVEN($A45)=$A45,EVEN(BQ$2)=BQ$2)),BQ$1,-100))","v":1246.875},{"$f":"IF('Ceiling Speaker Calculator'!$C$29=\"Square\",BR$1,IF(OR(AND(ODD($A45)=$A45,ODD(BR$2)=BR$2),AND(EVEN($A45)=$A45,EVEN(BR$2)=BR$2)),BR$1,-100))","v":1265.625},{"$f":"IF('Ceiling Speaker Calculator'!$C$29=\"Square\",BS$1,IF(OR(AND(ODD($A45)=$A45,ODD(BS$2)=BS$2),AND(EVEN($A45)=$A45,EVEN(BS$2)=BS$2)),BS$1,-100))","v":1284.375},{"$f":"IF('Ceiling Speaker Calculator'!$C$29=\"Square\",BT$1,IF(OR(AND(ODD($A45)=$A45,ODD(BT$2)=BT$2),AND(EVEN($A45)=$A45,EVEN(BT$2)=BT$2)),BT$1,-100))","v":1303.125},{"$f":"IF('Ceiling Speaker Calculator'!$C$29=\"Square\",BU$1,IF(OR(AND(ODD($A45)=$A45,ODD(BU$2)=BU$2),AND(EVEN($A45)=$A45,EVEN(BU$2)=BU$2)),BU$1,-100))","v":1321.875},{"$f":"IF('Ceiling Speaker Calculator'!$C$29=\"Square\",BV$1,IF(OR(AND(ODD($A45)=$A45,ODD(BV$2)=BV$2),AND(EVEN($A45)=$A45,EVEN(BV$2)=BV$2)),BV$1,-100))","v":1340.625},{"$f":"IF('Ceiling Speaker Calculator'!$C$29=\"Square\",BW$1,IF(OR(AND(ODD($A45)=$A45,ODD(BW$2)=BW$2),AND(EVEN($A45)=$A45,EVEN(BW$2)=BW$2)),BW$1,-100))","v":1359.375},{"$f":"IF('Ceiling Speaker Calculator'!$C$29=\"Square\",BX$1,IF(OR(AND(ODD($A45)=$A45,ODD(BX$2)=BX$2),AND(EVEN($A45)=$A45,EVEN(BX$2)=BX$2)),BX$1,-100))","v":1378.125},{"$f":"IF('Ceiling Speaker Calculator'!$C$29=\"Square\",BY$1,IF(OR(AND(ODD($A45)=$A45,ODD(BY$2)=BY$2),AND(EVEN($A45)=$A45,EVEN(BY$2)=BY$2)),BY$1,-100))","v":1396.875},{"$f":"IF('Ceiling Speaker Calculator'!$C$29=\"Square\",BZ$1,IF(OR(AND(ODD($A45)=$A45,ODD(BZ$2)=BZ$2),AND(EVEN($A45)=$A45,EVEN(BZ$2)=BZ$2)),BZ$1,-100))","v":1415.625},{"$f":"IF('Ceiling Speaker Calculator'!$C$29=\"Square\",CA$1,IF(OR(AND(ODD($A45)=$A45,ODD(CA$2)=CA$2),AND(EVEN($A45)=$A45,EVEN(CA$2)=CA$2)),CA$1,-100))","v":1434.375},{"$f":"IF('Ceiling Speaker Calculator'!$C$29=\"Square\",CB$1,IF(OR(AND(ODD($A45)=$A45,ODD(CB$2)=CB$2),AND(EVEN($A45)=$A45,EVEN(CB$2)=CB$2)),CB$1,-100))","v":1453.125},{"$f":"IF('Ceiling Speaker Calculator'!$C$29=\"Square\",CC$1,IF(OR(AND(ODD($A45)=$A45,ODD(CC$2)=CC$2),AND(EVEN($A45)=$A45,EVEN(CC$2)=CC$2)),CC$1,-100))","v":1471.875},{"$f":"IF('Ceiling Speaker Calculator'!$C$29=\"Square\",CD$1,IF(OR(AND(ODD($A45)=$A45,ODD(CD$2)=CD$2),AND(EVEN($A45)=$A45,EVEN(CD$2)=CD$2)),CD$1,-100))","v":1490.625},{"$f":"IF('Ceiling Speaker Calculator'!$C$29=\"Square\",CE$1,IF(OR(AND(ODD($A45)=$A45,ODD(CE$2)=CE$2),AND(EVEN($A45)=$A45,EVEN(CE$2)=CE$2)),CE$1,-100))","v":1509.375},{"$f":"IF('Ceiling Speaker Calculator'!$C$29=\"Square\",CF$1,IF(OR(AND(ODD($A45)=$A45,ODD(CF$2)=CF$2),AND(EVEN($A45)=$A45,EVEN(CF$2)=CF$2)),CF$1,-100))","v":1528.125},{"$f":"IF('Ceiling Speaker Calculator'!$C$29=\"Square\",CG$1,IF(OR(AND(ODD($A45)=$A45,ODD(CG$2)=CG$2),AND(EVEN($A45)=$A45,EVEN(CG$2)=CG$2)),CG$1,-100))","v":1546.875},{"$f":"IF('Ceiling Speaker Calculator'!$C$29=\"Square\",CH$1,IF(OR(AND(ODD($A45)=$A45,ODD(CH$2)=CH$2),AND(EVEN($A45)=$A45,EVEN(CH$2)=CH$2)),CH$1,-100))","v":1565.625},{"$f":"IF('Ceiling Speaker Calculator'!$C$29=\"Square\",CI$1,IF(OR(AND(ODD($A45)=$A45,ODD(CI$2)=CI$2),AND(EVEN($A45)=$A45,EVEN(CI$2)=CI$2)),CI$1,-100))","v":1584.375},{"$f":"IF('Ceiling Speaker Calculator'!$C$29=\"Square\",CJ$1,IF(OR(AND(ODD($A45)=$A45,ODD(CJ$2)=CJ$2),AND(EVEN($A45)=$A45,EVEN(CJ$2)=CJ$2)),CJ$1,-100))","v":1603.125},{"$f":"IF('Ceiling Speaker Calculator'!$C$29=\"Square\",CK$1,IF(OR(AND(ODD($A45)=$A45,ODD(CK$2)=CK$2),AND(EVEN($A45)=$A45,EVEN(CK$2)=CK$2)),CK$1,-100))","v":1621.875},{"$f":"IF('Ceiling Speaker Calculator'!$C$29=\"Square\",CL$1,IF(OR(AND(ODD($A45)=$A45,ODD(CL$2)=CL$2),AND(EVEN($A45)=$A45,EVEN(CL$2)=CL$2)),CL$1,-100))","v":1640.625},{"$f":"IF('Ceiling Speaker Calculator'!$C$29=\"Square\",CM$1,IF(OR(AND(ODD($A45)=$A45,ODD(CM$2)=CM$2),AND(EVEN($A45)=$A45,EVEN(CM$2)=CM$2)),CM$1,-100))","v":1659.375},{"$f":"IF('Ceiling Speaker Calculator'!$C$29=\"Square\",CN$1,IF(OR(AND(ODD($A45)=$A45,ODD(CN$2)=CN$2),AND(EVEN($A45)=$A45,EVEN(CN$2)=CN$2)),CN$1,-100))","v":1678.125},{"$f":"IF('Ceiling Speaker Calculator'!$C$29=\"Square\",CO$1,IF(OR(AND(ODD($A45)=$A45,ODD(CO$2)=CO$2),AND(EVEN($A45)=$A45,EVEN(CO$2)=CO$2)),CO$1,-100))","v":1696.875},{"$f":"IF('Ceiling Speaker Calculator'!$C$29=\"Square\",CP$1,IF(OR(AND(ODD($A45)=$A45,ODD(CP$2)=CP$2),AND(EVEN($A45)=$A45,EVEN(CP$2)=CP$2)),CP$1,-100))","v":1715.625},{"$f":"IF('Ceiling Speaker Calculator'!$C$29=\"Square\",CQ$1,IF(OR(AND(ODD($A45)=$A45,ODD(CQ$2)=CQ$2),AND(EVEN($A45)=$A45,EVEN(CQ$2)=CQ$2)),CQ$1,-100))","v":1734.375},{"$f":"IF('Ceiling Speaker Calculator'!$C$29=\"Square\",CR$1,IF(OR(AND(ODD($A45)=$A45,ODD(CR$2)=CR$2),AND(EVEN($A45)=$A45,EVEN(CR$2)=CR$2)),CR$1,-100))","v":1753.125},{"$f":"IF('Ceiling Speaker Calculator'!$C$29=\"Square\",CS$1,IF(OR(AND(ODD($A45)=$A45,ODD(CS$2)=CS$2),AND(EVEN($A45)=$A45,EVEN(CS$2)=CS$2)),CS$1,-100))","v":1771.875},{"$f":"IF('Ceiling Speaker Calculator'!$C$29=\"Square\",CT$1,IF(OR(AND(ODD($A45)=$A45,ODD(CT$2)=CT$2),AND(EVEN($A45)=$A45,EVEN(CT$2)=CT$2)),CT$1,-100))","v":1790.625},{"$f":"IF('Ceiling Speaker Calculator'!$C$29=\"Square\",CU$1,IF(OR(AND(ODD($A45)=$A45,ODD(CU$2)=CU$2),AND(EVEN($A45)=$A45,EVEN(CU$2)=CU$2)),CU$1,-100))","v":1809.375},{"$f":"IF('Ceiling Speaker Calculator'!$C$29=\"Square\",CV$1,IF(OR(AND(ODD($A45)=$A45,ODD(CV$2)=CV$2),AND(EVEN($A45)=$A45,EVEN(CV$2)=CV$2)),CV$1,-100))","v":1828.125},{"$f":"IF('Ceiling Speaker Calculator'!$C$29=\"Square\",CW$1,IF(OR(AND(ODD($A45)=$A45,ODD(CW$2)=CW$2),AND(EVEN($A45)=$A45,EVEN(CW$2)=CW$2)),CW$1,-100))","v":1846.875},{"$f":"IF('Ceiling Speaker Calculator'!$C$29=\"Square\",CX$1,IF(OR(AND(ODD($A45)=$A45,ODD(CX$2)=CX$2),AND(EVEN($A45)=$A45,EVEN(CX$2)=CX$2)),CX$1,-100))","v":1865.625}]
[44,{"$f":"B45+'Ceiling Speaker Calculator'!$K$16","v":870},{"$f":"IF('Ceiling Speaker Calculator'!$C$29=\"Square\",C$1,IF(OR(AND(ODD($A46)=$A46,ODD(C$2)=C$2),AND(EVEN($A46)=$A46,EVEN(C$2)=C$2)),C$1,-100))","v":9.375},{"$f":"IF('Ceiling Speaker Calculator'!$C$29=\"Square\",D$1,IF(OR(AND(ODD($A46)=$A46,ODD(D$2)=D$2),AND(EVEN($A46)=$A46,EVEN(D$2)=D$2)),D$1,-100))","v":28.125},{"$f":"IF('Ceiling Speaker Calculator'!$C$29=\"Square\",E$1,IF(OR(AND(ODD($A46)=$A46,ODD(E$2)=E$2),AND(EVEN($A46)=$A46,EVEN(E$2)=E$2)),E$1,-100))","v":46.875},{"$f":"IF('Ceiling Speaker Calculator'!$C$29=\"Square\",F$1,IF(OR(AND(ODD($A46)=$A46,ODD(F$2)=F$2),AND(EVEN($A46)=$A46,EVEN(F$2)=F$2)),F$1,-100))","v":65.625},{"$f":"IF('Ceiling Speaker Calculator'!$C$29=\"Square\",G$1,IF(OR(AND(ODD($A46)=$A46,ODD(G$2)=G$2),AND(EVEN($A46)=$A46,EVEN(G$2)=G$2)),G$1,-100))","v":84.375},{"$f":"IF('Ceiling Speaker Calculator'!$C$29=\"Square\",H$1,IF(OR(AND(ODD($A46)=$A46,ODD(H$2)=H$2),AND(EVEN($A46)=$A46,EVEN(H$2)=H$2)),H$1,-100))","v":103.125},{"$f":"IF('Ceiling Speaker Calculator'!$C$29=\"Square\",I$1,IF(OR(AND(ODD($A46)=$A46,ODD(I$2)=I$2),AND(EVEN($A46)=$A46,EVEN(I$2)=I$2)),I$1,-100))","v":121.875},{"$f":"IF('Ceiling Speaker Calculator'!$C$29=\"Square\",J$1,IF(OR(AND(ODD($A46)=$A46,ODD(J$2)=J$2),AND(EVEN($A46)=$A46,EVEN(J$2)=J$2)),J$1,-100))","v":140.625},{"$f":"IF('Ceiling Speaker Calculator'!$C$29=\"Square\",K$1,IF(OR(AND(ODD($A46)=$A46,ODD(K$2)=K$2),AND(EVEN($A46)=$A46,EVEN(K$2)=K$2)),K$1,-100))","v":159.375},{"$f":"IF('Ceiling Speaker Calculator'!$C$29=\"Square\",L$1,IF(OR(AND(ODD($A46)=$A46,ODD(L$2)=L$2),AND(EVEN($A46)=$A46,EVEN(L$2)=L$2)),L$1,-100))","v":178.125},{"$f":"IF('Ceiling Speaker Calculator'!$C$29=\"Square\",M$1,IF(OR(AND(ODD($A46)=$A46,ODD(M$2)=M$2),AND(EVEN($A46)=$A46,EVEN(M$2)=M$2)),M$1,-100))","v":196.875},{"$f":"IF('Ceiling Speaker Calculator'!$C$29=\"Square\",N$1,IF(OR(AND(ODD($A46)=$A46,ODD(N$2)=N$2),AND(EVEN($A46)=$A46,EVEN(N$2)=N$2)),N$1,-100))","v":215.625},{"$f":"IF('Ceiling Speaker Calculator'!$C$29=\"Square\",O$1,IF(OR(AND(ODD($A46)=$A46,ODD(O$2)=O$2),AND(EVEN($A46)=$A46,EVEN(O$2)=O$2)),O$1,-100))","v":234.375},{"$f":"IF('Ceiling Speaker Calculator'!$C$29=\"Square\",P$1,IF(OR(AND(ODD($A46)=$A46,ODD(P$2)=P$2),AND(EVEN($A46)=$A46,EVEN(P$2)=P$2)),P$1,-100))","v":253.125},{"$f":"IF('Ceiling Speaker Calculator'!$C$29=\"Square\",Q$1,IF(OR(AND(ODD($A46)=$A46,ODD(Q$2)=Q$2),AND(EVEN($A46)=$A46,EVEN(Q$2)=Q$2)),Q$1,-100))","v":271.875},{"$f":"IF('Ceiling Speaker Calculator'!$C$29=\"Square\",R$1,IF(OR(AND(ODD($A46)=$A46,ODD(R$2)=R$2),AND(EVEN($A46)=$A46,EVEN(R$2)=R$2)),R$1,-100))","v":290.625},{"$f":"IF('Ceiling Speaker Calculator'!$C$29=\"Square\",S$1,IF(OR(AND(ODD($A46)=$A46,ODD(S$2)=S$2),AND(EVEN($A46)=$A46,EVEN(S$2)=S$2)),S$1,-100))","v":309.375},{"$f":"IF('Ceiling Speaker Calculator'!$C$29=\"Square\",T$1,IF(OR(AND(ODD($A46)=$A46,ODD(T$2)=T$2),AND(EVEN($A46)=$A46,EVEN(T$2)=T$2)),T$1,-100))","v":328.125},{"$f":"IF('Ceiling Speaker Calculator'!$C$29=\"Square\",U$1,IF(OR(AND(ODD($A46)=$A46,ODD(U$2)=U$2),AND(EVEN($A46)=$A46,EVEN(U$2)=U$2)),U$1,-100))","v":346.875},{"$f":"IF('Ceiling Speaker Calculator'!$C$29=\"Square\",V$1,IF(OR(AND(ODD($A46)=$A46,ODD(V$2)=V$2),AND(EVEN($A46)=$A46,EVEN(V$2)=V$2)),V$1,-100))","v":365.625},{"$f":"IF('Ceiling Speaker Calculator'!$C$29=\"Square\",W$1,IF(OR(AND(ODD($A46)=$A46,ODD(W$2)=W$2),AND(EVEN($A46)=$A46,EVEN(W$2)=W$2)),W$1,-100))","v":384.375},{"$f":"IF('Ceiling Speaker Calculator'!$C$29=\"Square\",X$1,IF(OR(AND(ODD($A46)=$A46,ODD(X$2)=X$2),AND(EVEN($A46)=$A46,EVEN(X$2)=X$2)),X$1,-100))","v":403.125},{"$f":"IF('Ceiling Speaker Calculator'!$C$29=\"Square\",Y$1,IF(OR(AND(ODD($A46)=$A46,ODD(Y$2)=Y$2),AND(EVEN($A46)=$A46,EVEN(Y$2)=Y$2)),Y$1,-100))","v":421.875},{"$f":"IF('Ceiling Speaker Calculator'!$C$29=\"Square\",Z$1,IF(OR(AND(ODD($A46)=$A46,ODD(Z$2)=Z$2),AND(EVEN($A46)=$A46,EVEN(Z$2)=Z$2)),Z$1,-100))","v":440.625},{"$f":"IF('Ceiling Speaker Calculator'!$C$29=\"Square\",AA$1,IF(OR(AND(ODD($A46)=$A46,ODD(AA$2)=AA$2),AND(EVEN($A46)=$A46,EVEN(AA$2)=AA$2)),AA$1,-100))","v":459.375},{"$f":"IF('Ceiling Speaker Calculator'!$C$29=\"Square\",AB$1,IF(OR(AND(ODD($A46)=$A46,ODD(AB$2)=AB$2),AND(EVEN($A46)=$A46,EVEN(AB$2)=AB$2)),AB$1,-100))","v":478.125},{"$f":"IF('Ceiling Speaker Calculator'!$C$29=\"Square\",AC$1,IF(OR(AND(ODD($A46)=$A46,ODD(AC$2)=AC$2),AND(EVEN($A46)=$A46,EVEN(AC$2)=AC$2)),AC$1,-100))","v":496.875},{"$f":"IF('Ceiling Speaker Calculator'!$C$29=\"Square\",AD$1,IF(OR(AND(ODD($A46)=$A46,ODD(AD$2)=AD$2),AND(EVEN($A46)=$A46,EVEN(AD$2)=AD$2)),AD$1,-100))","v":515.625},{"$f":"IF('Ceiling Speaker Calculator'!$C$29=\"Square\",AE$1,IF(OR(AND(ODD($A46)=$A46,ODD(AE$2)=AE$2),AND(EVEN($A46)=$A46,EVEN(AE$2)=AE$2)),AE$1,-100))","v":534.375},{"$f":"IF('Ceiling Speaker Calculator'!$C$29=\"Square\",AF$1,IF(OR(AND(ODD($A46)=$A46,ODD(AF$2)=AF$2),AND(EVEN($A46)=$A46,EVEN(AF$2)=AF$2)),AF$1,-100))","v":553.125},{"$f":"IF('Ceiling Speaker Calculator'!$C$29=\"Square\",AG$1,IF(OR(AND(ODD($A46)=$A46,ODD(AG$2)=AG$2),AND(EVEN($A46)=$A46,EVEN(AG$2)=AG$2)),AG$1,-100))","v":571.875},{"$f":"IF('Ceiling Speaker Calculator'!$C$29=\"Square\",AH$1,IF(OR(AND(ODD($A46)=$A46,ODD(AH$2)=AH$2),AND(EVEN($A46)=$A46,EVEN(AH$2)=AH$2)),AH$1,-100))","v":590.625},{"$f":"IF('Ceiling Speaker Calculator'!$C$29=\"Square\",AI$1,IF(OR(AND(ODD($A46)=$A46,ODD(AI$2)=AI$2),AND(EVEN($A46)=$A46,EVEN(AI$2)=AI$2)),AI$1,-100))","v":609.375},{"$f":"IF('Ceiling Speaker Calculator'!$C$29=\"Square\",AJ$1,IF(OR(AND(ODD($A46)=$A46,ODD(AJ$2)=AJ$2),AND(EVEN($A46)=$A46,EVEN(AJ$2)=AJ$2)),AJ$1,-100))","v":628.125},{"$f":"IF('Ceiling Speaker Calculator'!$C$29=\"Square\",AK$1,IF(OR(AND(ODD($A46)=$A46,ODD(AK$2)=AK$2),AND(EVEN($A46)=$A46,EVEN(AK$2)=AK$2)),AK$1,-100))","v":646.875},{"$f":"IF('Ceiling Speaker Calculator'!$C$29=\"Square\",AL$1,IF(OR(AND(ODD($A46)=$A46,ODD(AL$2)=AL$2),AND(EVEN($A46)=$A46,EVEN(AL$2)=AL$2)),AL$1,-100))","v":665.625},{"$f":"IF('Ceiling Speaker Calculator'!$C$29=\"Square\",AM$1,IF(OR(AND(ODD($A46)=$A46,ODD(AM$2)=AM$2),AND(EVEN($A46)=$A46,EVEN(AM$2)=AM$2)),AM$1,-100))","v":684.375},{"$f":"IF('Ceiling Speaker Calculator'!$C$29=\"Square\",AN$1,IF(OR(AND(ODD($A46)=$A46,ODD(AN$2)=AN$2),AND(EVEN($A46)=$A46,EVEN(AN$2)=AN$2)),AN$1,-100))","v":703.125},{"$f":"IF('Ceiling Speaker Calculator'!$C$29=\"Square\",AO$1,IF(OR(AND(ODD($A46)=$A46,ODD(AO$2)=AO$2),AND(EVEN($A46)=$A46,EVEN(AO$2)=AO$2)),AO$1,-100))","v":721.875},{"$f":"IF('Ceiling Speaker Calculator'!$C$29=\"Square\",AP$1,IF(OR(AND(ODD($A46)=$A46,ODD(AP$2)=AP$2),AND(EVEN($A46)=$A46,EVEN(AP$2)=AP$2)),AP$1,-100))","v":740.625},{"$f":"IF('Ceiling Speaker Calculator'!$C$29=\"Square\",AQ$1,IF(OR(AND(ODD($A46)=$A46,ODD(AQ$2)=AQ$2),AND(EVEN($A46)=$A46,EVEN(AQ$2)=AQ$2)),AQ$1,-100))","v":759.375},{"$f":"IF('Ceiling Speaker Calculator'!$C$29=\"Square\",AR$1,IF(OR(AND(ODD($A46)=$A46,ODD(AR$2)=AR$2),AND(EVEN($A46)=$A46,EVEN(AR$2)=AR$2)),AR$1,-100))","v":778.125},{"$f":"IF('Ceiling Speaker Calculator'!$C$29=\"Square\",AS$1,IF(OR(AND(ODD($A46)=$A46,ODD(AS$2)=AS$2),AND(EVEN($A46)=$A46,EVEN(AS$2)=AS$2)),AS$1,-100))","v":796.875},{"$f":"IF('Ceiling Speaker Calculator'!$C$29=\"Square\",AT$1,IF(OR(AND(ODD($A46)=$A46,ODD(AT$2)=AT$2),AND(EVEN($A46)=$A46,EVEN(AT$2)=AT$2)),AT$1,-100))","v":815.625},{"$f":"IF('Ceiling Speaker Calculator'!$C$29=\"Square\",AU$1,IF(OR(AND(ODD($A46)=$A46,ODD(AU$2)=AU$2),AND(EVEN($A46)=$A46,EVEN(AU$2)=AU$2)),AU$1,-100))","v":834.375},{"$f":"IF('Ceiling Speaker Calculator'!$C$29=\"Square\",AV$1,IF(OR(AND(ODD($A46)=$A46,ODD(AV$2)=AV$2),AND(EVEN($A46)=$A46,EVEN(AV$2)=AV$2)),AV$1,-100))","v":853.125},{"$f":"IF('Ceiling Speaker Calculator'!$C$29=\"Square\",AW$1,IF(OR(AND(ODD($A46)=$A46,ODD(AW$2)=AW$2),AND(EVEN($A46)=$A46,EVEN(AW$2)=AW$2)),AW$1,-100))","v":871.875},{"$f":"IF('Ceiling Speaker Calculator'!$C$29=\"Square\",AX$1,IF(OR(AND(ODD($A46)=$A46,ODD(AX$2)=AX$2),AND(EVEN($A46)=$A46,EVEN(AX$2)=AX$2)),AX$1,-100))","v":890.625},{"$f":"IF('Ceiling Speaker Calculator'!$C$29=\"Square\",AY$1,IF(OR(AND(ODD($A46)=$A46,ODD(AY$2)=AY$2),AND(EVEN($A46)=$A46,EVEN(AY$2)=AY$2)),AY$1,-100))","v":909.375},{"$f":"IF('Ceiling Speaker Calculator'!$C$29=\"Square\",AZ$1,IF(OR(AND(ODD($A46)=$A46,ODD(AZ$2)=AZ$2),AND(EVEN($A46)=$A46,EVEN(AZ$2)=AZ$2)),AZ$1,-100))","v":928.125},{"$f":"IF('Ceiling Speaker Calculator'!$C$29=\"Square\",BA$1,IF(OR(AND(ODD($A46)=$A46,ODD(BA$2)=BA$2),AND(EVEN($A46)=$A46,EVEN(BA$2)=BA$2)),BA$1,-100))","v":946.875},{"$f":"IF('Ceiling Speaker Calculator'!$C$29=\"Square\",BB$1,IF(OR(AND(ODD($A46)=$A46,ODD(BB$2)=BB$2),AND(EVEN($A46)=$A46,EVEN(BB$2)=BB$2)),BB$1,-100))","v":965.625},{"$f":"IF('Ceiling Speaker Calculator'!$C$29=\"Square\",BC$1,IF(OR(AND(ODD($A46)=$A46,ODD(BC$2)=BC$2),AND(EVEN($A46)=$A46,EVEN(BC$2)=BC$2)),BC$1,-100))","v":984.375},{"$f":"IF('Ceiling Speaker Calculator'!$C$29=\"Square\",BD$1,IF(OR(AND(ODD($A46)=$A46,ODD(BD$2)=BD$2),AND(EVEN($A46)=$A46,EVEN(BD$2)=BD$2)),BD$1,-100))","v":1003.125},{"$f":"IF('Ceiling Speaker Calculator'!$C$29=\"Square\",BE$1,IF(OR(AND(ODD($A46)=$A46,ODD(BE$2)=BE$2),AND(EVEN($A46)=$A46,EVEN(BE$2)=BE$2)),BE$1,-100))","v":1021.875},{"$f":"IF('Ceiling Speaker Calculator'!$C$29=\"Square\",BF$1,IF(OR(AND(ODD($A46)=$A46,ODD(BF$2)=BF$2),AND(EVEN($A46)=$A46,EVEN(BF$2)=BF$2)),BF$1,-100))","v":1040.625},{"$f":"IF('Ceiling Speaker Calculator'!$C$29=\"Square\",BG$1,IF(OR(AND(ODD($A46)=$A46,ODD(BG$2)=BG$2),AND(EVEN($A46)=$A46,EVEN(BG$2)=BG$2)),BG$1,-100))","v":1059.375},{"$f":"IF('Ceiling Speaker Calculator'!$C$29=\"Square\",BH$1,IF(OR(AND(ODD($A46)=$A46,ODD(BH$2)=BH$2),AND(EVEN($A46)=$A46,EVEN(BH$2)=BH$2)),BH$1,-100))","v":1078.125},{"$f":"IF('Ceiling Speaker Calculator'!$C$29=\"Square\",BI$1,IF(OR(AND(ODD($A46)=$A46,ODD(BI$2)=BI$2),AND(EVEN($A46)=$A46,EVEN(BI$2)=BI$2)),BI$1,-100))","v":1096.875},{"$f":"IF('Ceiling Speaker Calculator'!$C$29=\"Square\",BJ$1,IF(OR(AND(ODD($A46)=$A46,ODD(BJ$2)=BJ$2),AND(EVEN($A46)=$A46,EVEN(BJ$2)=BJ$2)),BJ$1,-100))","v":1115.625},{"$f":"IF('Ceiling Speaker Calculator'!$C$29=\"Square\",BK$1,IF(OR(AND(ODD($A46)=$A46,ODD(BK$2)=BK$2),AND(EVEN($A46)=$A46,EVEN(BK$2)=BK$2)),BK$1,-100))","v":1134.375},{"$f":"IF('Ceiling Speaker Calculator'!$C$29=\"Square\",BL$1,IF(OR(AND(ODD($A46)=$A46,ODD(BL$2)=BL$2),AND(EVEN($A46)=$A46,EVEN(BL$2)=BL$2)),BL$1,-100))","v":1153.125},{"$f":"IF('Ceiling Speaker Calculator'!$C$29=\"Square\",BM$1,IF(OR(AND(ODD($A46)=$A46,ODD(BM$2)=BM$2),AND(EVEN($A46)=$A46,EVEN(BM$2)=BM$2)),BM$1,-100))","v":1171.875},{"$f":"IF('Ceiling Speaker Calculator'!$C$29=\"Square\",BN$1,IF(OR(AND(ODD($A46)=$A46,ODD(BN$2)=BN$2),AND(EVEN($A46)=$A46,EVEN(BN$2)=BN$2)),BN$1,-100))","v":1190.625},{"$f":"IF('Ceiling Speaker Calculator'!$C$29=\"Square\",BO$1,IF(OR(AND(ODD($A46)=$A46,ODD(BO$2)=BO$2),AND(EVEN($A46)=$A46,EVEN(BO$2)=BO$2)),BO$1,-100))","v":1209.375},{"$f":"IF('Ceiling Speaker Calculator'!$C$29=\"Square\",BP$1,IF(OR(AND(ODD($A46)=$A46,ODD(BP$2)=BP$2),AND(EVEN($A46)=$A46,EVEN(BP$2)=BP$2)),BP$1,-100))","v":1228.125},{"$f":"IF('Ceiling Speaker Calculator'!$C$29=\"Square\",BQ$1,IF(OR(AND(ODD($A46)=$A46,ODD(BQ$2)=BQ$2),AND(EVEN($A46)=$A46,EVEN(BQ$2)=BQ$2)),BQ$1,-100))","v":1246.875},{"$f":"IF('Ceiling Speaker Calculator'!$C$29=\"Square\",BR$1,IF(OR(AND(ODD($A46)=$A46,ODD(BR$2)=BR$2),AND(EVEN($A46)=$A46,EVEN(BR$2)=BR$2)),BR$1,-100))","v":1265.625},{"$f":"IF('Ceiling Speaker Calculator'!$C$29=\"Square\",BS$1,IF(OR(AND(ODD($A46)=$A46,ODD(BS$2)=BS$2),AND(EVEN($A46)=$A46,EVEN(BS$2)=BS$2)),BS$1,-100))","v":1284.375},{"$f":"IF('Ceiling Speaker Calculator'!$C$29=\"Square\",BT$1,IF(OR(AND(ODD($A46)=$A46,ODD(BT$2)=BT$2),AND(EVEN($A46)=$A46,EVEN(BT$2)=BT$2)),BT$1,-100))","v":1303.125},{"$f":"IF('Ceiling Speaker Calculator'!$C$29=\"Square\",BU$1,IF(OR(AND(ODD($A46)=$A46,ODD(BU$2)=BU$2),AND(EVEN($A46)=$A46,EVEN(BU$2)=BU$2)),BU$1,-100))","v":1321.875},{"$f":"IF('Ceiling Speaker Calculator'!$C$29=\"Square\",BV$1,IF(OR(AND(ODD($A46)=$A46,ODD(BV$2)=BV$2),AND(EVEN($A46)=$A46,EVEN(BV$2)=BV$2)),BV$1,-100))","v":1340.625},{"$f":"IF('Ceiling Speaker Calculator'!$C$29=\"Square\",BW$1,IF(OR(AND(ODD($A46)=$A46,ODD(BW$2)=BW$2),AND(EVEN($A46)=$A46,EVEN(BW$2)=BW$2)),BW$1,-100))","v":1359.375},{"$f":"IF('Ceiling Speaker Calculator'!$C$29=\"Square\",BX$1,IF(OR(AND(ODD($A46)=$A46,ODD(BX$2)=BX$2),AND(EVEN($A46)=$A46,EVEN(BX$2)=BX$2)),BX$1,-100))","v":1378.125},{"$f":"IF('Ceiling Speaker Calculator'!$C$29=\"Square\",BY$1,IF(OR(AND(ODD($A46)=$A46,ODD(BY$2)=BY$2),AND(EVEN($A46)=$A46,EVEN(BY$2)=BY$2)),BY$1,-100))","v":1396.875},{"$f":"IF('Ceiling Speaker Calculator'!$C$29=\"Square\",BZ$1,IF(OR(AND(ODD($A46)=$A46,ODD(BZ$2)=BZ$2),AND(EVEN($A46)=$A46,EVEN(BZ$2)=BZ$2)),BZ$1,-100))","v":1415.625},{"$f":"IF('Ceiling Speaker Calculator'!$C$29=\"Square\",CA$1,IF(OR(AND(ODD($A46)=$A46,ODD(CA$2)=CA$2),AND(EVEN($A46)=$A46,EVEN(CA$2)=CA$2)),CA$1,-100))","v":1434.375},{"$f":"IF('Ceiling Speaker Calculator'!$C$29=\"Square\",CB$1,IF(OR(AND(ODD($A46)=$A46,ODD(CB$2)=CB$2),AND(EVEN($A46)=$A46,EVEN(CB$2)=CB$2)),CB$1,-100))","v":1453.125},{"$f":"IF('Ceiling Speaker Calculator'!$C$29=\"Square\",CC$1,IF(OR(AND(ODD($A46)=$A46,ODD(CC$2)=CC$2),AND(EVEN($A46)=$A46,EVEN(CC$2)=CC$2)),CC$1,-100))","v":1471.875},{"$f":"IF('Ceiling Speaker Calculator'!$C$29=\"Square\",CD$1,IF(OR(AND(ODD($A46)=$A46,ODD(CD$2)=CD$2),AND(EVEN($A46)=$A46,EVEN(CD$2)=CD$2)),CD$1,-100))","v":1490.625},{"$f":"IF('Ceiling Speaker Calculator'!$C$29=\"Square\",CE$1,IF(OR(AND(ODD($A46)=$A46,ODD(CE$2)=CE$2),AND(EVEN($A46)=$A46,EVEN(CE$2)=CE$2)),CE$1,-100))","v":1509.375},{"$f":"IF('Ceiling Speaker Calculator'!$C$29=\"Square\",CF$1,IF(OR(AND(ODD($A46)=$A46,ODD(CF$2)=CF$2),AND(EVEN($A46)=$A46,EVEN(CF$2)=CF$2)),CF$1,-100))","v":1528.125},{"$f":"IF('Ceiling Speaker Calculator'!$C$29=\"Square\",CG$1,IF(OR(AND(ODD($A46)=$A46,ODD(CG$2)=CG$2),AND(EVEN($A46)=$A46,EVEN(CG$2)=CG$2)),CG$1,-100))","v":1546.875},{"$f":"IF('Ceiling Speaker Calculator'!$C$29=\"Square\",CH$1,IF(OR(AND(ODD($A46)=$A46,ODD(CH$2)=CH$2),AND(EVEN($A46)=$A46,EVEN(CH$2)=CH$2)),CH$1,-100))","v":1565.625},{"$f":"IF('Ceiling Speaker Calculator'!$C$29=\"Square\",CI$1,IF(OR(AND(ODD($A46)=$A46,ODD(CI$2)=CI$2),AND(EVEN($A46)=$A46,EVEN(CI$2)=CI$2)),CI$1,-100))","v":1584.375},{"$f":"IF('Ceiling Speaker Calculator'!$C$29=\"Square\",CJ$1,IF(OR(AND(ODD($A46)=$A46,ODD(CJ$2)=CJ$2),AND(EVEN($A46)=$A46,EVEN(CJ$2)=CJ$2)),CJ$1,-100))","v":1603.125},{"$f":"IF('Ceiling Speaker Calculator'!$C$29=\"Square\",CK$1,IF(OR(AND(ODD($A46)=$A46,ODD(CK$2)=CK$2),AND(EVEN($A46)=$A46,EVEN(CK$2)=CK$2)),CK$1,-100))","v":1621.875},{"$f":"IF('Ceiling Speaker Calculator'!$C$29=\"Square\",CL$1,IF(OR(AND(ODD($A46)=$A46,ODD(CL$2)=CL$2),AND(EVEN($A46)=$A46,EVEN(CL$2)=CL$2)),CL$1,-100))","v":1640.625},{"$f":"IF('Ceiling Speaker Calculator'!$C$29=\"Square\",CM$1,IF(OR(AND(ODD($A46)=$A46,ODD(CM$2)=CM$2),AND(EVEN($A46)=$A46,EVEN(CM$2)=CM$2)),CM$1,-100))","v":1659.375},{"$f":"IF('Ceiling Speaker Calculator'!$C$29=\"Square\",CN$1,IF(OR(AND(ODD($A46)=$A46,ODD(CN$2)=CN$2),AND(EVEN($A46)=$A46,EVEN(CN$2)=CN$2)),CN$1,-100))","v":1678.125},{"$f":"IF('Ceiling Speaker Calculator'!$C$29=\"Square\",CO$1,IF(OR(AND(ODD($A46)=$A46,ODD(CO$2)=CO$2),AND(EVEN($A46)=$A46,EVEN(CO$2)=CO$2)),CO$1,-100))","v":1696.875},{"$f":"IF('Ceiling Speaker Calculator'!$C$29=\"Square\",CP$1,IF(OR(AND(ODD($A46)=$A46,ODD(CP$2)=CP$2),AND(EVEN($A46)=$A46,EVEN(CP$2)=CP$2)),CP$1,-100))","v":1715.625},{"$f":"IF('Ceiling Speaker Calculator'!$C$29=\"Square\",CQ$1,IF(OR(AND(ODD($A46)=$A46,ODD(CQ$2)=CQ$2),AND(EVEN($A46)=$A46,EVEN(CQ$2)=CQ$2)),CQ$1,-100))","v":1734.375},{"$f":"IF('Ceiling Speaker Calculator'!$C$29=\"Square\",CR$1,IF(OR(AND(ODD($A46)=$A46,ODD(CR$2)=CR$2),AND(EVEN($A46)=$A46,EVEN(CR$2)=CR$2)),CR$1,-100))","v":1753.125},{"$f":"IF('Ceiling Speaker Calculator'!$C$29=\"Square\",CS$1,IF(OR(AND(ODD($A46)=$A46,ODD(CS$2)=CS$2),AND(EVEN($A46)=$A46,EVEN(CS$2)=CS$2)),CS$1,-100))","v":1771.875},{"$f":"IF('Ceiling Speaker Calculator'!$C$29=\"Square\",CT$1,IF(OR(AND(ODD($A46)=$A46,ODD(CT$2)=CT$2),AND(EVEN($A46)=$A46,EVEN(CT$2)=CT$2)),CT$1,-100))","v":1790.625},{"$f":"IF('Ceiling Speaker Calculator'!$C$29=\"Square\",CU$1,IF(OR(AND(ODD($A46)=$A46,ODD(CU$2)=CU$2),AND(EVEN($A46)=$A46,EVEN(CU$2)=CU$2)),CU$1,-100))","v":1809.375},{"$f":"IF('Ceiling Speaker Calculator'!$C$29=\"Square\",CV$1,IF(OR(AND(ODD($A46)=$A46,ODD(CV$2)=CV$2),AND(EVEN($A46)=$A46,EVEN(CV$2)=CV$2)),CV$1,-100))","v":1828.125},{"$f":"IF('Ceiling Speaker Calculator'!$C$29=\"Square\",CW$1,IF(OR(AND(ODD($A46)=$A46,ODD(CW$2)=CW$2),AND(EVEN($A46)=$A46,EVEN(CW$2)=CW$2)),CW$1,-100))","v":1846.875},{"$f":"IF('Ceiling Speaker Calculator'!$C$29=\"Square\",CX$1,IF(OR(AND(ODD($A46)=$A46,ODD(CX$2)=CX$2),AND(EVEN($A46)=$A46,EVEN(CX$2)=CX$2)),CX$1,-100))","v":1865.625}]
[45,{"$f":"B46+'Ceiling Speaker Calculator'!$K$16","v":890},{"$f":"IF('Ceiling Speaker Calculator'!$C$29=\"Square\",C$1,IF(OR(AND(ODD($A47)=$A47,ODD(C$2)=C$2),AND(EVEN($A47)=$A47,EVEN(C$2)=C$2)),C$1,-100))","v":9.375},{"$f":"IF('Ceiling Speaker Calculator'!$C$29=\"Square\",D$1,IF(OR(AND(ODD($A47)=$A47,ODD(D$2)=D$2),AND(EVEN($A47)=$A47,EVEN(D$2)=D$2)),D$1,-100))","v":28.125},{"$f":"IF('Ceiling Speaker Calculator'!$C$29=\"Square\",E$1,IF(OR(AND(ODD($A47)=$A47,ODD(E$2)=E$2),AND(EVEN($A47)=$A47,EVEN(E$2)=E$2)),E$1,-100))","v":46.875},{"$f":"IF('Ceiling Speaker Calculator'!$C$29=\"Square\",F$1,IF(OR(AND(ODD($A47)=$A47,ODD(F$2)=F$2),AND(EVEN($A47)=$A47,EVEN(F$2)=F$2)),F$1,-100))","v":65.625},{"$f":"IF('Ceiling Speaker Calculator'!$C$29=\"Square\",G$1,IF(OR(AND(ODD($A47)=$A47,ODD(G$2)=G$2),AND(EVEN($A47)=$A47,EVEN(G$2)=G$2)),G$1,-100))","v":84.375},{"$f":"IF('Ceiling Speaker Calculator'!$C$29=\"Square\",H$1,IF(OR(AND(ODD($A47)=$A47,ODD(H$2)=H$2),AND(EVEN($A47)=$A47,EVEN(H$2)=H$2)),H$1,-100))","v":103.125},{"$f":"IF('Ceiling Speaker Calculator'!$C$29=\"Square\",I$1,IF(OR(AND(ODD($A47)=$A47,ODD(I$2)=I$2),AND(EVEN($A47)=$A47,EVEN(I$2)=I$2)),I$1,-100))","v":121.875},{"$f":"IF('Ceiling Speaker Calculator'!$C$29=\"Square\",J$1,IF(OR(AND(ODD($A47)=$A47,ODD(J$2)=J$2),AND(EVEN($A47)=$A47,EVEN(J$2)=J$2)),J$1,-100))","v":140.625},{"$f":"IF('Ceiling Speaker Calculator'!$C$29=\"Square\",K$1,IF(OR(AND(ODD($A47)=$A47,ODD(K$2)=K$2),AND(EVEN($A47)=$A47,EVEN(K$2)=K$2)),K$1,-100))","v":159.375},{"$f":"IF('Ceiling Speaker Calculator'!$C$29=\"Square\",L$1,IF(OR(AND(ODD($A47)=$A47,ODD(L$2)=L$2),AND(EVEN($A47)=$A47,EVEN(L$2)=L$2)),L$1,-100))","v":178.125},{"$f":"IF('Ceiling Speaker Calculator'!$C$29=\"Square\",M$1,IF(OR(AND(ODD($A47)=$A47,ODD(M$2)=M$2),AND(EVEN($A47)=$A47,EVEN(M$2)=M$2)),M$1,-100))","v":196.875},{"$f":"IF('Ceiling Speaker Calculator'!$C$29=\"Square\",N$1,IF(OR(AND(ODD($A47)=$A47,ODD(N$2)=N$2),AND(EVEN($A47)=$A47,EVEN(N$2)=N$2)),N$1,-100))","v":215.625},{"$f":"IF('Ceiling Speaker Calculator'!$C$29=\"Square\",O$1,IF(OR(AND(ODD($A47)=$A47,ODD(O$2)=O$2),AND(EVEN($A47)=$A47,EVEN(O$2)=O$2)),O$1,-100))","v":234.375},{"$f":"IF('Ceiling Speaker Calculator'!$C$29=\"Square\",P$1,IF(OR(AND(ODD($A47)=$A47,ODD(P$2)=P$2),AND(EVEN($A47)=$A47,EVEN(P$2)=P$2)),P$1,-100))","v":253.125},{"$f":"IF('Ceiling Speaker Calculator'!$C$29=\"Square\",Q$1,IF(OR(AND(ODD($A47)=$A47,ODD(Q$2)=Q$2),AND(EVEN($A47)=$A47,EVEN(Q$2)=Q$2)),Q$1,-100))","v":271.875},{"$f":"IF('Ceiling Speaker Calculator'!$C$29=\"Square\",R$1,IF(OR(AND(ODD($A47)=$A47,ODD(R$2)=R$2),AND(EVEN($A47)=$A47,EVEN(R$2)=R$2)),R$1,-100))","v":290.625},{"$f":"IF('Ceiling Speaker Calculator'!$C$29=\"Square\",S$1,IF(OR(AND(ODD($A47)=$A47,ODD(S$2)=S$2),AND(EVEN($A47)=$A47,EVEN(S$2)=S$2)),S$1,-100))","v":309.375},{"$f":"IF('Ceiling Speaker Calculator'!$C$29=\"Square\",T$1,IF(OR(AND(ODD($A47)=$A47,ODD(T$2)=T$2),AND(EVEN($A47)=$A47,EVEN(T$2)=T$2)),T$1,-100))","v":328.125},{"$f":"IF('Ceiling Speaker Calculator'!$C$29=\"Square\",U$1,IF(OR(AND(ODD($A47)=$A47,ODD(U$2)=U$2),AND(EVEN($A47)=$A47,EVEN(U$2)=U$2)),U$1,-100))","v":346.875},{"$f":"IF('Ceiling Speaker Calculator'!$C$29=\"Square\",V$1,IF(OR(AND(ODD($A47)=$A47,ODD(V$2)=V$2),AND(EVEN($A47)=$A47,EVEN(V$2)=V$2)),V$1,-100))","v":365.625},{"$f":"IF('Ceiling Speaker Calculator'!$C$29=\"Square\",W$1,IF(OR(AND(ODD($A47)=$A47,ODD(W$2)=W$2),AND(EVEN($A47)=$A47,EVEN(W$2)=W$2)),W$1,-100))","v":384.375},{"$f":"IF('Ceiling Speaker Calculator'!$C$29=\"Square\",X$1,IF(OR(AND(ODD($A47)=$A47,ODD(X$2)=X$2),AND(EVEN($A47)=$A47,EVEN(X$2)=X$2)),X$1,-100))","v":403.125},{"$f":"IF('Ceiling Speaker Calculator'!$C$29=\"Square\",Y$1,IF(OR(AND(ODD($A47)=$A47,ODD(Y$2)=Y$2),AND(EVEN($A47)=$A47,EVEN(Y$2)=Y$2)),Y$1,-100))","v":421.875},{"$f":"IF('Ceiling Speaker Calculator'!$C$29=\"Square\",Z$1,IF(OR(AND(ODD($A47)=$A47,ODD(Z$2)=Z$2),AND(EVEN($A47)=$A47,EVEN(Z$2)=Z$2)),Z$1,-100))","v":440.625},{"$f":"IF('Ceiling Speaker Calculator'!$C$29=\"Square\",AA$1,IF(OR(AND(ODD($A47)=$A47,ODD(AA$2)=AA$2),AND(EVEN($A47)=$A47,EVEN(AA$2)=AA$2)),AA$1,-100))","v":459.375},{"$f":"IF('Ceiling Speaker Calculator'!$C$29=\"Square\",AB$1,IF(OR(AND(ODD($A47)=$A47,ODD(AB$2)=AB$2),AND(EVEN($A47)=$A47,EVEN(AB$2)=AB$2)),AB$1,-100))","v":478.125},{"$f":"IF('Ceiling Speaker Calculator'!$C$29=\"Square\",AC$1,IF(OR(AND(ODD($A47)=$A47,ODD(AC$2)=AC$2),AND(EVEN($A47)=$A47,EVEN(AC$2)=AC$2)),AC$1,-100))","v":496.875},{"$f":"IF('Ceiling Speaker Calculator'!$C$29=\"Square\",AD$1,IF(OR(AND(ODD($A47)=$A47,ODD(AD$2)=AD$2),AND(EVEN($A47)=$A47,EVEN(AD$2)=AD$2)),AD$1,-100))","v":515.625},{"$f":"IF('Ceiling Speaker Calculator'!$C$29=\"Square\",AE$1,IF(OR(AND(ODD($A47)=$A47,ODD(AE$2)=AE$2),AND(EVEN($A47)=$A47,EVEN(AE$2)=AE$2)),AE$1,-100))","v":534.375},{"$f":"IF('Ceiling Speaker Calculator'!$C$29=\"Square\",AF$1,IF(OR(AND(ODD($A47)=$A47,ODD(AF$2)=AF$2),AND(EVEN($A47)=$A47,EVEN(AF$2)=AF$2)),AF$1,-100))","v":553.125},{"$f":"IF('Ceiling Speaker Calculator'!$C$29=\"Square\",AG$1,IF(OR(AND(ODD($A47)=$A47,ODD(AG$2)=AG$2),AND(EVEN($A47)=$A47,EVEN(AG$2)=AG$2)),AG$1,-100))","v":571.875},{"$f":"IF('Ceiling Speaker Calculator'!$C$29=\"Square\",AH$1,IF(OR(AND(ODD($A47)=$A47,ODD(AH$2)=AH$2),AND(EVEN($A47)=$A47,EVEN(AH$2)=AH$2)),AH$1,-100))","v":590.625},{"$f":"IF('Ceiling Speaker Calculator'!$C$29=\"Square\",AI$1,IF(OR(AND(ODD($A47)=$A47,ODD(AI$2)=AI$2),AND(EVEN($A47)=$A47,EVEN(AI$2)=AI$2)),AI$1,-100))","v":609.375},{"$f":"IF('Ceiling Speaker Calculator'!$C$29=\"Square\",AJ$1,IF(OR(AND(ODD($A47)=$A47,ODD(AJ$2)=AJ$2),AND(EVEN($A47)=$A47,EVEN(AJ$2)=AJ$2)),AJ$1,-100))","v":628.125},{"$f":"IF('Ceiling Speaker Calculator'!$C$29=\"Square\",AK$1,IF(OR(AND(ODD($A47)=$A47,ODD(AK$2)=AK$2),AND(EVEN($A47)=$A47,EVEN(AK$2)=AK$2)),AK$1,-100))","v":646.875},{"$f":"IF('Ceiling Speaker Calculator'!$C$29=\"Square\",AL$1,IF(OR(AND(ODD($A47)=$A47,ODD(AL$2)=AL$2),AND(EVEN($A47)=$A47,EVEN(AL$2)=AL$2)),AL$1,-100))","v":665.625},{"$f":"IF('Ceiling Speaker Calculator'!$C$29=\"Square\",AM$1,IF(OR(AND(ODD($A47)=$A47,ODD(AM$2)=AM$2),AND(EVEN($A47)=$A47,EVEN(AM$2)=AM$2)),AM$1,-100))","v":684.375},{"$f":"IF('Ceiling Speaker Calculator'!$C$29=\"Square\",AN$1,IF(OR(AND(ODD($A47)=$A47,ODD(AN$2)=AN$2),AND(EVEN($A47)=$A47,EVEN(AN$2)=AN$2)),AN$1,-100))","v":703.125},{"$f":"IF('Ceiling Speaker Calculator'!$C$29=\"Square\",AO$1,IF(OR(AND(ODD($A47)=$A47,ODD(AO$2)=AO$2),AND(EVEN($A47)=$A47,EVEN(AO$2)=AO$2)),AO$1,-100))","v":721.875},{"$f":"IF('Ceiling Speaker Calculator'!$C$29=\"Square\",AP$1,IF(OR(AND(ODD($A47)=$A47,ODD(AP$2)=AP$2),AND(EVEN($A47)=$A47,EVEN(AP$2)=AP$2)),AP$1,-100))","v":740.625},{"$f":"IF('Ceiling Speaker Calculator'!$C$29=\"Square\",AQ$1,IF(OR(AND(ODD($A47)=$A47,ODD(AQ$2)=AQ$2),AND(EVEN($A47)=$A47,EVEN(AQ$2)=AQ$2)),AQ$1,-100))","v":759.375},{"$f":"IF('Ceiling Speaker Calculator'!$C$29=\"Square\",AR$1,IF(OR(AND(ODD($A47)=$A47,ODD(AR$2)=AR$2),AND(EVEN($A47)=$A47,EVEN(AR$2)=AR$2)),AR$1,-100))","v":778.125},{"$f":"IF('Ceiling Speaker Calculator'!$C$29=\"Square\",AS$1,IF(OR(AND(ODD($A47)=$A47,ODD(AS$2)=AS$2),AND(EVEN($A47)=$A47,EVEN(AS$2)=AS$2)),AS$1,-100))","v":796.875},{"$f":"IF('Ceiling Speaker Calculator'!$C$29=\"Square\",AT$1,IF(OR(AND(ODD($A47)=$A47,ODD(AT$2)=AT$2),AND(EVEN($A47)=$A47,EVEN(AT$2)=AT$2)),AT$1,-100))","v":815.625},{"$f":"IF('Ceiling Speaker Calculator'!$C$29=\"Square\",AU$1,IF(OR(AND(ODD($A47)=$A47,ODD(AU$2)=AU$2),AND(EVEN($A47)=$A47,EVEN(AU$2)=AU$2)),AU$1,-100))","v":834.375},{"$f":"IF('Ceiling Speaker Calculator'!$C$29=\"Square\",AV$1,IF(OR(AND(ODD($A47)=$A47,ODD(AV$2)=AV$2),AND(EVEN($A47)=$A47,EVEN(AV$2)=AV$2)),AV$1,-100))","v":853.125},{"$f":"IF('Ceiling Speaker Calculator'!$C$29=\"Square\",AW$1,IF(OR(AND(ODD($A47)=$A47,ODD(AW$2)=AW$2),AND(EVEN($A47)=$A47,EVEN(AW$2)=AW$2)),AW$1,-100))","v":871.875},{"$f":"IF('Ceiling Speaker Calculator'!$C$29=\"Square\",AX$1,IF(OR(AND(ODD($A47)=$A47,ODD(AX$2)=AX$2),AND(EVEN($A47)=$A47,EVEN(AX$2)=AX$2)),AX$1,-100))","v":890.625},{"$f":"IF('Ceiling Speaker Calculator'!$C$29=\"Square\",AY$1,IF(OR(AND(ODD($A47)=$A47,ODD(AY$2)=AY$2),AND(EVEN($A47)=$A47,EVEN(AY$2)=AY$2)),AY$1,-100))","v":909.375},{"$f":"IF('Ceiling Speaker Calculator'!$C$29=\"Square\",AZ$1,IF(OR(AND(ODD($A47)=$A47,ODD(AZ$2)=AZ$2),AND(EVEN($A47)=$A47,EVEN(AZ$2)=AZ$2)),AZ$1,-100))","v":928.125},{"$f":"IF('Ceiling Speaker Calculator'!$C$29=\"Square\",BA$1,IF(OR(AND(ODD($A47)=$A47,ODD(BA$2)=BA$2),AND(EVEN($A47)=$A47,EVEN(BA$2)=BA$2)),BA$1,-100))","v":946.875},{"$f":"IF('Ceiling Speaker Calculator'!$C$29=\"Square\",BB$1,IF(OR(AND(ODD($A47)=$A47,ODD(BB$2)=BB$2),AND(EVEN($A47)=$A47,EVEN(BB$2)=BB$2)),BB$1,-100))","v":965.625},{"$f":"IF('Ceiling Speaker Calculator'!$C$29=\"Square\",BC$1,IF(OR(AND(ODD($A47)=$A47,ODD(BC$2)=BC$2),AND(EVEN($A47)=$A47,EVEN(BC$2)=BC$2)),BC$1,-100))","v":984.375},{"$f":"IF('Ceiling Speaker Calculator'!$C$29=\"Square\",BD$1,IF(OR(AND(ODD($A47)=$A47,ODD(BD$2)=BD$2),AND(EVEN($A47)=$A47,EVEN(BD$2)=BD$2)),BD$1,-100))","v":1003.125},{"$f":"IF('Ceiling Speaker Calculator'!$C$29=\"Square\",BE$1,IF(OR(AND(ODD($A47)=$A47,ODD(BE$2)=BE$2),AND(EVEN($A47)=$A47,EVEN(BE$2)=BE$2)),BE$1,-100))","v":1021.875},{"$f":"IF('Ceiling Speaker Calculator'!$C$29=\"Square\",BF$1,IF(OR(AND(ODD($A47)=$A47,ODD(BF$2)=BF$2),AND(EVEN($A47)=$A47,EVEN(BF$2)=BF$2)),BF$1,-100))","v":1040.625},{"$f":"IF('Ceiling Speaker Calculator'!$C$29=\"Square\",BG$1,IF(OR(AND(ODD($A47)=$A47,ODD(BG$2)=BG$2),AND(EVEN($A47)=$A47,EVEN(BG$2)=BG$2)),BG$1,-100))","v":1059.375},{"$f":"IF('Ceiling Speaker Calculator'!$C$29=\"Square\",BH$1,IF(OR(AND(ODD($A47)=$A47,ODD(BH$2)=BH$2),AND(EVEN($A47)=$A47,EVEN(BH$2)=BH$2)),BH$1,-100))","v":1078.125},{"$f":"IF('Ceiling Speaker Calculator'!$C$29=\"Square\",BI$1,IF(OR(AND(ODD($A47)=$A47,ODD(BI$2)=BI$2),AND(EVEN($A47)=$A47,EVEN(BI$2)=BI$2)),BI$1,-100))","v":1096.875},{"$f":"IF('Ceiling Speaker Calculator'!$C$29=\"Square\",BJ$1,IF(OR(AND(ODD($A47)=$A47,ODD(BJ$2)=BJ$2),AND(EVEN($A47)=$A47,EVEN(BJ$2)=BJ$2)),BJ$1,-100))","v":1115.625},{"$f":"IF('Ceiling Speaker Calculator'!$C$29=\"Square\",BK$1,IF(OR(AND(ODD($A47)=$A47,ODD(BK$2)=BK$2),AND(EVEN($A47)=$A47,EVEN(BK$2)=BK$2)),BK$1,-100))","v":1134.375},{"$f":"IF('Ceiling Speaker Calculator'!$C$29=\"Square\",BL$1,IF(OR(AND(ODD($A47)=$A47,ODD(BL$2)=BL$2),AND(EVEN($A47)=$A47,EVEN(BL$2)=BL$2)),BL$1,-100))","v":1153.125},{"$f":"IF('Ceiling Speaker Calculator'!$C$29=\"Square\",BM$1,IF(OR(AND(ODD($A47)=$A47,ODD(BM$2)=BM$2),AND(EVEN($A47)=$A47,EVEN(BM$2)=BM$2)),BM$1,-100))","v":1171.875},{"$f":"IF('Ceiling Speaker Calculator'!$C$29=\"Square\",BN$1,IF(OR(AND(ODD($A47)=$A47,ODD(BN$2)=BN$2),AND(EVEN($A47)=$A47,EVEN(BN$2)=BN$2)),BN$1,-100))","v":1190.625},{"$f":"IF('Ceiling Speaker Calculator'!$C$29=\"Square\",BO$1,IF(OR(AND(ODD($A47)=$A47,ODD(BO$2)=BO$2),AND(EVEN($A47)=$A47,EVEN(BO$2)=BO$2)),BO$1,-100))","v":1209.375},{"$f":"IF('Ceiling Speaker Calculator'!$C$29=\"Square\",BP$1,IF(OR(AND(ODD($A47)=$A47,ODD(BP$2)=BP$2),AND(EVEN($A47)=$A47,EVEN(BP$2)=BP$2)),BP$1,-100))","v":1228.125},{"$f":"IF('Ceiling Speaker Calculator'!$C$29=\"Square\",BQ$1,IF(OR(AND(ODD($A47)=$A47,ODD(BQ$2)=BQ$2),AND(EVEN($A47)=$A47,EVEN(BQ$2)=BQ$2)),BQ$1,-100))","v":1246.875},{"$f":"IF('Ceiling Speaker Calculator'!$C$29=\"Square\",BR$1,IF(OR(AND(ODD($A47)=$A47,ODD(BR$2)=BR$2),AND(EVEN($A47)=$A47,EVEN(BR$2)=BR$2)),BR$1,-100))","v":1265.625},{"$f":"IF('Ceiling Speaker Calculator'!$C$29=\"Square\",BS$1,IF(OR(AND(ODD($A47)=$A47,ODD(BS$2)=BS$2),AND(EVEN($A47)=$A47,EVEN(BS$2)=BS$2)),BS$1,-100))","v":1284.375},{"$f":"IF('Ceiling Speaker Calculator'!$C$29=\"Square\",BT$1,IF(OR(AND(ODD($A47)=$A47,ODD(BT$2)=BT$2),AND(EVEN($A47)=$A47,EVEN(BT$2)=BT$2)),BT$1,-100))","v":1303.125},{"$f":"IF('Ceiling Speaker Calculator'!$C$29=\"Square\",BU$1,IF(OR(AND(ODD($A47)=$A47,ODD(BU$2)=BU$2),AND(EVEN($A47)=$A47,EVEN(BU$2)=BU$2)),BU$1,-100))","v":1321.875},{"$f":"IF('Ceiling Speaker Calculator'!$C$29=\"Square\",BV$1,IF(OR(AND(ODD($A47)=$A47,ODD(BV$2)=BV$2),AND(EVEN($A47)=$A47,EVEN(BV$2)=BV$2)),BV$1,-100))","v":1340.625},{"$f":"IF('Ceiling Speaker Calculator'!$C$29=\"Square\",BW$1,IF(OR(AND(ODD($A47)=$A47,ODD(BW$2)=BW$2),AND(EVEN($A47)=$A47,EVEN(BW$2)=BW$2)),BW$1,-100))","v":1359.375},{"$f":"IF('Ceiling Speaker Calculator'!$C$29=\"Square\",BX$1,IF(OR(AND(ODD($A47)=$A47,ODD(BX$2)=BX$2),AND(EVEN($A47)=$A47,EVEN(BX$2)=BX$2)),BX$1,-100))","v":1378.125},{"$f":"IF('Ceiling Speaker Calculator'!$C$29=\"Square\",BY$1,IF(OR(AND(ODD($A47)=$A47,ODD(BY$2)=BY$2),AND(EVEN($A47)=$A47,EVEN(BY$2)=BY$2)),BY$1,-100))","v":1396.875},{"$f":"IF('Ceiling Speaker Calculator'!$C$29=\"Square\",BZ$1,IF(OR(AND(ODD($A47)=$A47,ODD(BZ$2)=BZ$2),AND(EVEN($A47)=$A47,EVEN(BZ$2)=BZ$2)),BZ$1,-100))","v":1415.625},{"$f":"IF('Ceiling Speaker Calculator'!$C$29=\"Square\",CA$1,IF(OR(AND(ODD($A47)=$A47,ODD(CA$2)=CA$2),AND(EVEN($A47)=$A47,EVEN(CA$2)=CA$2)),CA$1,-100))","v":1434.375},{"$f":"IF('Ceiling Speaker Calculator'!$C$29=\"Square\",CB$1,IF(OR(AND(ODD($A47)=$A47,ODD(CB$2)=CB$2),AND(EVEN($A47)=$A47,EVEN(CB$2)=CB$2)),CB$1,-100))","v":1453.125},{"$f":"IF('Ceiling Speaker Calculator'!$C$29=\"Square\",CC$1,IF(OR(AND(ODD($A47)=$A47,ODD(CC$2)=CC$2),AND(EVEN($A47)=$A47,EVEN(CC$2)=CC$2)),CC$1,-100))","v":1471.875},{"$f":"IF('Ceiling Speaker Calculator'!$C$29=\"Square\",CD$1,IF(OR(AND(ODD($A47)=$A47,ODD(CD$2)=CD$2),AND(EVEN($A47)=$A47,EVEN(CD$2)=CD$2)),CD$1,-100))","v":1490.625},{"$f":"IF('Ceiling Speaker Calculator'!$C$29=\"Square\",CE$1,IF(OR(AND(ODD($A47)=$A47,ODD(CE$2)=CE$2),AND(EVEN($A47)=$A47,EVEN(CE$2)=CE$2)),CE$1,-100))","v":1509.375},{"$f":"IF('Ceiling Speaker Calculator'!$C$29=\"Square\",CF$1,IF(OR(AND(ODD($A47)=$A47,ODD(CF$2)=CF$2),AND(EVEN($A47)=$A47,EVEN(CF$2)=CF$2)),CF$1,-100))","v":1528.125},{"$f":"IF('Ceiling Speaker Calculator'!$C$29=\"Square\",CG$1,IF(OR(AND(ODD($A47)=$A47,ODD(CG$2)=CG$2),AND(EVEN($A47)=$A47,EVEN(CG$2)=CG$2)),CG$1,-100))","v":1546.875},{"$f":"IF('Ceiling Speaker Calculator'!$C$29=\"Square\",CH$1,IF(OR(AND(ODD($A47)=$A47,ODD(CH$2)=CH$2),AND(EVEN($A47)=$A47,EVEN(CH$2)=CH$2)),CH$1,-100))","v":1565.625},{"$f":"IF('Ceiling Speaker Calculator'!$C$29=\"Square\",CI$1,IF(OR(AND(ODD($A47)=$A47,ODD(CI$2)=CI$2),AND(EVEN($A47)=$A47,EVEN(CI$2)=CI$2)),CI$1,-100))","v":1584.375},{"$f":"IF('Ceiling Speaker Calculator'!$C$29=\"Square\",CJ$1,IF(OR(AND(ODD($A47)=$A47,ODD(CJ$2)=CJ$2),AND(EVEN($A47)=$A47,EVEN(CJ$2)=CJ$2)),CJ$1,-100))","v":1603.125},{"$f":"IF('Ceiling Speaker Calculator'!$C$29=\"Square\",CK$1,IF(OR(AND(ODD($A47)=$A47,ODD(CK$2)=CK$2),AND(EVEN($A47)=$A47,EVEN(CK$2)=CK$2)),CK$1,-100))","v":1621.875},{"$f":"IF('Ceiling Speaker Calculator'!$C$29=\"Square\",CL$1,IF(OR(AND(ODD($A47)=$A47,ODD(CL$2)=CL$2),AND(EVEN($A47)=$A47,EVEN(CL$2)=CL$2)),CL$1,-100))","v":1640.625},{"$f":"IF('Ceiling Speaker Calculator'!$C$29=\"Square\",CM$1,IF(OR(AND(ODD($A47)=$A47,ODD(CM$2)=CM$2),AND(EVEN($A47)=$A47,EVEN(CM$2)=CM$2)),CM$1,-100))","v":1659.375},{"$f":"IF('Ceiling Speaker Calculator'!$C$29=\"Square\",CN$1,IF(OR(AND(ODD($A47)=$A47,ODD(CN$2)=CN$2),AND(EVEN($A47)=$A47,EVEN(CN$2)=CN$2)),CN$1,-100))","v":1678.125},{"$f":"IF('Ceiling Speaker Calculator'!$C$29=\"Square\",CO$1,IF(OR(AND(ODD($A47)=$A47,ODD(CO$2)=CO$2),AND(EVEN($A47)=$A47,EVEN(CO$2)=CO$2)),CO$1,-100))","v":1696.875},{"$f":"IF('Ceiling Speaker Calculator'!$C$29=\"Square\",CP$1,IF(OR(AND(ODD($A47)=$A47,ODD(CP$2)=CP$2),AND(EVEN($A47)=$A47,EVEN(CP$2)=CP$2)),CP$1,-100))","v":1715.625},{"$f":"IF('Ceiling Speaker Calculator'!$C$29=\"Square\",CQ$1,IF(OR(AND(ODD($A47)=$A47,ODD(CQ$2)=CQ$2),AND(EVEN($A47)=$A47,EVEN(CQ$2)=CQ$2)),CQ$1,-100))","v":1734.375},{"$f":"IF('Ceiling Speaker Calculator'!$C$29=\"Square\",CR$1,IF(OR(AND(ODD($A47)=$A47,ODD(CR$2)=CR$2),AND(EVEN($A47)=$A47,EVEN(CR$2)=CR$2)),CR$1,-100))","v":1753.125},{"$f":"IF('Ceiling Speaker Calculator'!$C$29=\"Square\",CS$1,IF(OR(AND(ODD($A47)=$A47,ODD(CS$2)=CS$2),AND(EVEN($A47)=$A47,EVEN(CS$2)=CS$2)),CS$1,-100))","v":1771.875},{"$f":"IF('Ceiling Speaker Calculator'!$C$29=\"Square\",CT$1,IF(OR(AND(ODD($A47)=$A47,ODD(CT$2)=CT$2),AND(EVEN($A47)=$A47,EVEN(CT$2)=CT$2)),CT$1,-100))","v":1790.625},{"$f":"IF('Ceiling Speaker Calculator'!$C$29=\"Square\",CU$1,IF(OR(AND(ODD($A47)=$A47,ODD(CU$2)=CU$2),AND(EVEN($A47)=$A47,EVEN(CU$2)=CU$2)),CU$1,-100))","v":1809.375},{"$f":"IF('Ceiling Speaker Calculator'!$C$29=\"Square\",CV$1,IF(OR(AND(ODD($A47)=$A47,ODD(CV$2)=CV$2),AND(EVEN($A47)=$A47,EVEN(CV$2)=CV$2)),CV$1,-100))","v":1828.125},{"$f":"IF('Ceiling Speaker Calculator'!$C$29=\"Square\",CW$1,IF(OR(AND(ODD($A47)=$A47,ODD(CW$2)=CW$2),AND(EVEN($A47)=$A47,EVEN(CW$2)=CW$2)),CW$1,-100))","v":1846.875},{"$f":"IF('Ceiling Speaker Calculator'!$C$29=\"Square\",CX$1,IF(OR(AND(ODD($A47)=$A47,ODD(CX$2)=CX$2),AND(EVEN($A47)=$A47,EVEN(CX$2)=CX$2)),CX$1,-100))","v":1865.625}]
[46,{"$f":"B47+'Ceiling Speaker Calculator'!$K$16","v":910},{"$f":"IF('Ceiling Speaker Calculator'!$C$29=\"Square\",C$1,IF(OR(AND(ODD($A48)=$A48,ODD(C$2)=C$2),AND(EVEN($A48)=$A48,EVEN(C$2)=C$2)),C$1,-100))","v":9.375},{"$f":"IF('Ceiling Speaker Calculator'!$C$29=\"Square\",D$1,IF(OR(AND(ODD($A48)=$A48,ODD(D$2)=D$2),AND(EVEN($A48)=$A48,EVEN(D$2)=D$2)),D$1,-100))","v":28.125},{"$f":"IF('Ceiling Speaker Calculator'!$C$29=\"Square\",E$1,IF(OR(AND(ODD($A48)=$A48,ODD(E$2)=E$2),AND(EVEN($A48)=$A48,EVEN(E$2)=E$2)),E$1,-100))","v":46.875},{"$f":"IF('Ceiling Speaker Calculator'!$C$29=\"Square\",F$1,IF(OR(AND(ODD($A48)=$A48,ODD(F$2)=F$2),AND(EVEN($A48)=$A48,EVEN(F$2)=F$2)),F$1,-100))","v":65.625},{"$f":"IF('Ceiling Speaker Calculator'!$C$29=\"Square\",G$1,IF(OR(AND(ODD($A48)=$A48,ODD(G$2)=G$2),AND(EVEN($A48)=$A48,EVEN(G$2)=G$2)),G$1,-100))","v":84.375},{"$f":"IF('Ceiling Speaker Calculator'!$C$29=\"Square\",H$1,IF(OR(AND(ODD($A48)=$A48,ODD(H$2)=H$2),AND(EVEN($A48)=$A48,EVEN(H$2)=H$2)),H$1,-100))","v":103.125},{"$f":"IF('Ceiling Speaker Calculator'!$C$29=\"Square\",I$1,IF(OR(AND(ODD($A48)=$A48,ODD(I$2)=I$2),AND(EVEN($A48)=$A48,EVEN(I$2)=I$2)),I$1,-100))","v":121.875},{"$f":"IF('Ceiling Speaker Calculator'!$C$29=\"Square\",J$1,IF(OR(AND(ODD($A48)=$A48,ODD(J$2)=J$2),AND(EVEN($A48)=$A48,EVEN(J$2)=J$2)),J$1,-100))","v":140.625},{"$f":"IF('Ceiling Speaker Calculator'!$C$29=\"Square\",K$1,IF(OR(AND(ODD($A48)=$A48,ODD(K$2)=K$2),AND(EVEN($A48)=$A48,EVEN(K$2)=K$2)),K$1,-100))","v":159.375},{"$f":"IF('Ceiling Speaker Calculator'!$C$29=\"Square\",L$1,IF(OR(AND(ODD($A48)=$A48,ODD(L$2)=L$2),AND(EVEN($A48)=$A48,EVEN(L$2)=L$2)),L$1,-100))","v":178.125},{"$f":"IF('Ceiling Speaker Calculator'!$C$29=\"Square\",M$1,IF(OR(AND(ODD($A48)=$A48,ODD(M$2)=M$2),AND(EVEN($A48)=$A48,EVEN(M$2)=M$2)),M$1,-100))","v":196.875},{"$f":"IF('Ceiling Speaker Calculator'!$C$29=\"Square\",N$1,IF(OR(AND(ODD($A48)=$A48,ODD(N$2)=N$2),AND(EVEN($A48)=$A48,EVEN(N$2)=N$2)),N$1,-100))","v":215.625},{"$f":"IF('Ceiling Speaker Calculator'!$C$29=\"Square\",O$1,IF(OR(AND(ODD($A48)=$A48,ODD(O$2)=O$2),AND(EVEN($A48)=$A48,EVEN(O$2)=O$2)),O$1,-100))","v":234.375},{"$f":"IF('Ceiling Speaker Calculator'!$C$29=\"Square\",P$1,IF(OR(AND(ODD($A48)=$A48,ODD(P$2)=P$2),AND(EVEN($A48)=$A48,EVEN(P$2)=P$2)),P$1,-100))","v":253.125},{"$f":"IF('Ceiling Speaker Calculator'!$C$29=\"Square\",Q$1,IF(OR(AND(ODD($A48)=$A48,ODD(Q$2)=Q$2),AND(EVEN($A48)=$A48,EVEN(Q$2)=Q$2)),Q$1,-100))","v":271.875},{"$f":"IF('Ceiling Speaker Calculator'!$C$29=\"Square\",R$1,IF(OR(AND(ODD($A48)=$A48,ODD(R$2)=R$2),AND(EVEN($A48)=$A48,EVEN(R$2)=R$2)),R$1,-100))","v":290.625},{"$f":"IF('Ceiling Speaker Calculator'!$C$29=\"Square\",S$1,IF(OR(AND(ODD($A48)=$A48,ODD(S$2)=S$2),AND(EVEN($A48)=$A48,EVEN(S$2)=S$2)),S$1,-100))","v":309.375},{"$f":"IF('Ceiling Speaker Calculator'!$C$29=\"Square\",T$1,IF(OR(AND(ODD($A48)=$A48,ODD(T$2)=T$2),AND(EVEN($A48)=$A48,EVEN(T$2)=T$2)),T$1,-100))","v":328.125},{"$f":"IF('Ceiling Speaker Calculator'!$C$29=\"Square\",U$1,IF(OR(AND(ODD($A48)=$A48,ODD(U$2)=U$2),AND(EVEN($A48)=$A48,EVEN(U$2)=U$2)),U$1,-100))","v":346.875},{"$f":"IF('Ceiling Speaker Calculator'!$C$29=\"Square\",V$1,IF(OR(AND(ODD($A48)=$A48,ODD(V$2)=V$2),AND(EVEN($A48)=$A48,EVEN(V$2)=V$2)),V$1,-100))","v":365.625},{"$f":"IF('Ceiling Speaker Calculator'!$C$29=\"Square\",W$1,IF(OR(AND(ODD($A48)=$A48,ODD(W$2)=W$2),AND(EVEN($A48)=$A48,EVEN(W$2)=W$2)),W$1,-100))","v":384.375},{"$f":"IF('Ceiling Speaker Calculator'!$C$29=\"Square\",X$1,IF(OR(AND(ODD($A48)=$A48,ODD(X$2)=X$2),AND(EVEN($A48)=$A48,EVEN(X$2)=X$2)),X$1,-100))","v":403.125},{"$f":"IF('Ceiling Speaker Calculator'!$C$29=\"Square\",Y$1,IF(OR(AND(ODD($A48)=$A48,ODD(Y$2)=Y$2),AND(EVEN($A48)=$A48,EVEN(Y$2)=Y$2)),Y$1,-100))","v":421.875},{"$f":"IF('Ceiling Speaker Calculator'!$C$29=\"Square\",Z$1,IF(OR(AND(ODD($A48)=$A48,ODD(Z$2)=Z$2),AND(EVEN($A48)=$A48,EVEN(Z$2)=Z$2)),Z$1,-100))","v":440.625},{"$f":"IF('Ceiling Speaker Calculator'!$C$29=\"Square\",AA$1,IF(OR(AND(ODD($A48)=$A48,ODD(AA$2)=AA$2),AND(EVEN($A48)=$A48,EVEN(AA$2)=AA$2)),AA$1,-100))","v":459.375},{"$f":"IF('Ceiling Speaker Calculator'!$C$29=\"Square\",AB$1,IF(OR(AND(ODD($A48)=$A48,ODD(AB$2)=AB$2),AND(EVEN($A48)=$A48,EVEN(AB$2)=AB$2)),AB$1,-100))","v":478.125},{"$f":"IF('Ceiling Speaker Calculator'!$C$29=\"Square\",AC$1,IF(OR(AND(ODD($A48)=$A48,ODD(AC$2)=AC$2),AND(EVEN($A48)=$A48,EVEN(AC$2)=AC$2)),AC$1,-100))","v":496.875},{"$f":"IF('Ceiling Speaker Calculator'!$C$29=\"Square\",AD$1,IF(OR(AND(ODD($A48)=$A48,ODD(AD$2)=AD$2),AND(EVEN($A48)=$A48,EVEN(AD$2)=AD$2)),AD$1,-100))","v":515.625},{"$f":"IF('Ceiling Speaker Calculator'!$C$29=\"Square\",AE$1,IF(OR(AND(ODD($A48)=$A48,ODD(AE$2)=AE$2),AND(EVEN($A48)=$A48,EVEN(AE$2)=AE$2)),AE$1,-100))","v":534.375},{"$f":"IF('Ceiling Speaker Calculator'!$C$29=\"Square\",AF$1,IF(OR(AND(ODD($A48)=$A48,ODD(AF$2)=AF$2),AND(EVEN($A48)=$A48,EVEN(AF$2)=AF$2)),AF$1,-100))","v":553.125},{"$f":"IF('Ceiling Speaker Calculator'!$C$29=\"Square\",AG$1,IF(OR(AND(ODD($A48)=$A48,ODD(AG$2)=AG$2),AND(EVEN($A48)=$A48,EVEN(AG$2)=AG$2)),AG$1,-100))","v":571.875},{"$f":"IF('Ceiling Speaker Calculator'!$C$29=\"Square\",AH$1,IF(OR(AND(ODD($A48)=$A48,ODD(AH$2)=AH$2),AND(EVEN($A48)=$A48,EVEN(AH$2)=AH$2)),AH$1,-100))","v":590.625},{"$f":"IF('Ceiling Speaker Calculator'!$C$29=\"Square\",AI$1,IF(OR(AND(ODD($A48)=$A48,ODD(AI$2)=AI$2),AND(EVEN($A48)=$A48,EVEN(AI$2)=AI$2)),AI$1,-100))","v":609.375},{"$f":"IF('Ceiling Speaker Calculator'!$C$29=\"Square\",AJ$1,IF(OR(AND(ODD($A48)=$A48,ODD(AJ$2)=AJ$2),AND(EVEN($A48)=$A48,EVEN(AJ$2)=AJ$2)),AJ$1,-100))","v":628.125},{"$f":"IF('Ceiling Speaker Calculator'!$C$29=\"Square\",AK$1,IF(OR(AND(ODD($A48)=$A48,ODD(AK$2)=AK$2),AND(EVEN($A48)=$A48,EVEN(AK$2)=AK$2)),AK$1,-100))","v":646.875},{"$f":"IF('Ceiling Speaker Calculator'!$C$29=\"Square\",AL$1,IF(OR(AND(ODD($A48)=$A48,ODD(AL$2)=AL$2),AND(EVEN($A48)=$A48,EVEN(AL$2)=AL$2)),AL$1,-100))","v":665.625},{"$f":"IF('Ceiling Speaker Calculator'!$C$29=\"Square\",AM$1,IF(OR(AND(ODD($A48)=$A48,ODD(AM$2)=AM$2),AND(EVEN($A48)=$A48,EVEN(AM$2)=AM$2)),AM$1,-100))","v":684.375},{"$f":"IF('Ceiling Speaker Calculator'!$C$29=\"Square\",AN$1,IF(OR(AND(ODD($A48)=$A48,ODD(AN$2)=AN$2),AND(EVEN($A48)=$A48,EVEN(AN$2)=AN$2)),AN$1,-100))","v":703.125},{"$f":"IF('Ceiling Speaker Calculator'!$C$29=\"Square\",AO$1,IF(OR(AND(ODD($A48)=$A48,ODD(AO$2)=AO$2),AND(EVEN($A48)=$A48,EVEN(AO$2)=AO$2)),AO$1,-100))","v":721.875},{"$f":"IF('Ceiling Speaker Calculator'!$C$29=\"Square\",AP$1,IF(OR(AND(ODD($A48)=$A48,ODD(AP$2)=AP$2),AND(EVEN($A48)=$A48,EVEN(AP$2)=AP$2)),AP$1,-100))","v":740.625},{"$f":"IF('Ceiling Speaker Calculator'!$C$29=\"Square\",AQ$1,IF(OR(AND(ODD($A48)=$A48,ODD(AQ$2)=AQ$2),AND(EVEN($A48)=$A48,EVEN(AQ$2)=AQ$2)),AQ$1,-100))","v":759.375},{"$f":"IF('Ceiling Speaker Calculator'!$C$29=\"Square\",AR$1,IF(OR(AND(ODD($A48)=$A48,ODD(AR$2)=AR$2),AND(EVEN($A48)=$A48,EVEN(AR$2)=AR$2)),AR$1,-100))","v":778.125},{"$f":"IF('Ceiling Speaker Calculator'!$C$29=\"Square\",AS$1,IF(OR(AND(ODD($A48)=$A48,ODD(AS$2)=AS$2),AND(EVEN($A48)=$A48,EVEN(AS$2)=AS$2)),AS$1,-100))","v":796.875},{"$f":"IF('Ceiling Speaker Calculator'!$C$29=\"Square\",AT$1,IF(OR(AND(ODD($A48)=$A48,ODD(AT$2)=AT$2),AND(EVEN($A48)=$A48,EVEN(AT$2)=AT$2)),AT$1,-100))","v":815.625},{"$f":"IF('Ceiling Speaker Calculator'!$C$29=\"Square\",AU$1,IF(OR(AND(ODD($A48)=$A48,ODD(AU$2)=AU$2),AND(EVEN($A48)=$A48,EVEN(AU$2)=AU$2)),AU$1,-100))","v":834.375},{"$f":"IF('Ceiling Speaker Calculator'!$C$29=\"Square\",AV$1,IF(OR(AND(ODD($A48)=$A48,ODD(AV$2)=AV$2),AND(EVEN($A48)=$A48,EVEN(AV$2)=AV$2)),AV$1,-100))","v":853.125},{"$f":"IF('Ceiling Speaker Calculator'!$C$29=\"Square\",AW$1,IF(OR(AND(ODD($A48)=$A48,ODD(AW$2)=AW$2),AND(EVEN($A48)=$A48,EVEN(AW$2)=AW$2)),AW$1,-100))","v":871.875},{"$f":"IF('Ceiling Speaker Calculator'!$C$29=\"Square\",AX$1,IF(OR(AND(ODD($A48)=$A48,ODD(AX$2)=AX$2),AND(EVEN($A48)=$A48,EVEN(AX$2)=AX$2)),AX$1,-100))","v":890.625},{"$f":"IF('Ceiling Speaker Calculator'!$C$29=\"Square\",AY$1,IF(OR(AND(ODD($A48)=$A48,ODD(AY$2)=AY$2),AND(EVEN($A48)=$A48,EVEN(AY$2)=AY$2)),AY$1,-100))","v":909.375},{"$f":"IF('Ceiling Speaker Calculator'!$C$29=\"Square\",AZ$1,IF(OR(AND(ODD($A48)=$A48,ODD(AZ$2)=AZ$2),AND(EVEN($A48)=$A48,EVEN(AZ$2)=AZ$2)),AZ$1,-100))","v":928.125},{"$f":"IF('Ceiling Speaker Calculator'!$C$29=\"Square\",BA$1,IF(OR(AND(ODD($A48)=$A48,ODD(BA$2)=BA$2),AND(EVEN($A48)=$A48,EVEN(BA$2)=BA$2)),BA$1,-100))","v":946.875},{"$f":"IF('Ceiling Speaker Calculator'!$C$29=\"Square\",BB$1,IF(OR(AND(ODD($A48)=$A48,ODD(BB$2)=BB$2),AND(EVEN($A48)=$A48,EVEN(BB$2)=BB$2)),BB$1,-100))","v":965.625},{"$f":"IF('Ceiling Speaker Calculator'!$C$29=\"Square\",BC$1,IF(OR(AND(ODD($A48)=$A48,ODD(BC$2)=BC$2),AND(EVEN($A48)=$A48,EVEN(BC$2)=BC$2)),BC$1,-100))","v":984.375},{"$f":"IF('Ceiling Speaker Calculator'!$C$29=\"Square\",BD$1,IF(OR(AND(ODD($A48)=$A48,ODD(BD$2)=BD$2),AND(EVEN($A48)=$A48,EVEN(BD$2)=BD$2)),BD$1,-100))","v":1003.125},{"$f":"IF('Ceiling Speaker Calculator'!$C$29=\"Square\",BE$1,IF(OR(AND(ODD($A48)=$A48,ODD(BE$2)=BE$2),AND(EVEN($A48)=$A48,EVEN(BE$2)=BE$2)),BE$1,-100))","v":1021.875},{"$f":"IF('Ceiling Speaker Calculator'!$C$29=\"Square\",BF$1,IF(OR(AND(ODD($A48)=$A48,ODD(BF$2)=BF$2),AND(EVEN($A48)=$A48,EVEN(BF$2)=BF$2)),BF$1,-100))","v":1040.625},{"$f":"IF('Ceiling Speaker Calculator'!$C$29=\"Square\",BG$1,IF(OR(AND(ODD($A48)=$A48,ODD(BG$2)=BG$2),AND(EVEN($A48)=$A48,EVEN(BG$2)=BG$2)),BG$1,-100))","v":1059.375},{"$f":"IF('Ceiling Speaker Calculator'!$C$29=\"Square\",BH$1,IF(OR(AND(ODD($A48)=$A48,ODD(BH$2)=BH$2),AND(EVEN($A48)=$A48,EVEN(BH$2)=BH$2)),BH$1,-100))","v":1078.125},{"$f":"IF('Ceiling Speaker Calculator'!$C$29=\"Square\",BI$1,IF(OR(AND(ODD($A48)=$A48,ODD(BI$2)=BI$2),AND(EVEN($A48)=$A48,EVEN(BI$2)=BI$2)),BI$1,-100))","v":1096.875},{"$f":"IF('Ceiling Speaker Calculator'!$C$29=\"Square\",BJ$1,IF(OR(AND(ODD($A48)=$A48,ODD(BJ$2)=BJ$2),AND(EVEN($A48)=$A48,EVEN(BJ$2)=BJ$2)),BJ$1,-100))","v":1115.625},{"$f":"IF('Ceiling Speaker Calculator'!$C$29=\"Square\",BK$1,IF(OR(AND(ODD($A48)=$A48,ODD(BK$2)=BK$2),AND(EVEN($A48)=$A48,EVEN(BK$2)=BK$2)),BK$1,-100))","v":1134.375},{"$f":"IF('Ceiling Speaker Calculator'!$C$29=\"Square\",BL$1,IF(OR(AND(ODD($A48)=$A48,ODD(BL$2)=BL$2),AND(EVEN($A48)=$A48,EVEN(BL$2)=BL$2)),BL$1,-100))","v":1153.125},{"$f":"IF('Ceiling Speaker Calculator'!$C$29=\"Square\",BM$1,IF(OR(AND(ODD($A48)=$A48,ODD(BM$2)=BM$2),AND(EVEN($A48)=$A48,EVEN(BM$2)=BM$2)),BM$1,-100))","v":1171.875},{"$f":"IF('Ceiling Speaker Calculator'!$C$29=\"Square\",BN$1,IF(OR(AND(ODD($A48)=$A48,ODD(BN$2)=BN$2),AND(EVEN($A48)=$A48,EVEN(BN$2)=BN$2)),BN$1,-100))","v":1190.625},{"$f":"IF('Ceiling Speaker Calculator'!$C$29=\"Square\",BO$1,IF(OR(AND(ODD($A48)=$A48,ODD(BO$2)=BO$2),AND(EVEN($A48)=$A48,EVEN(BO$2)=BO$2)),BO$1,-100))","v":1209.375},{"$f":"IF('Ceiling Speaker Calculator'!$C$29=\"Square\",BP$1,IF(OR(AND(ODD($A48)=$A48,ODD(BP$2)=BP$2),AND(EVEN($A48)=$A48,EVEN(BP$2)=BP$2)),BP$1,-100))","v":1228.125},{"$f":"IF('Ceiling Speaker Calculator'!$C$29=\"Square\",BQ$1,IF(OR(AND(ODD($A48)=$A48,ODD(BQ$2)=BQ$2),AND(EVEN($A48)=$A48,EVEN(BQ$2)=BQ$2)),BQ$1,-100))","v":1246.875},{"$f":"IF('Ceiling Speaker Calculator'!$C$29=\"Square\",BR$1,IF(OR(AND(ODD($A48)=$A48,ODD(BR$2)=BR$2),AND(EVEN($A48)=$A48,EVEN(BR$2)=BR$2)),BR$1,-100))","v":1265.625},{"$f":"IF('Ceiling Speaker Calculator'!$C$29=\"Square\",BS$1,IF(OR(AND(ODD($A48)=$A48,ODD(BS$2)=BS$2),AND(EVEN($A48)=$A48,EVEN(BS$2)=BS$2)),BS$1,-100))","v":1284.375},{"$f":"IF('Ceiling Speaker Calculator'!$C$29=\"Square\",BT$1,IF(OR(AND(ODD($A48)=$A48,ODD(BT$2)=BT$2),AND(EVEN($A48)=$A48,EVEN(BT$2)=BT$2)),BT$1,-100))","v":1303.125},{"$f":"IF('Ceiling Speaker Calculator'!$C$29=\"Square\",BU$1,IF(OR(AND(ODD($A48)=$A48,ODD(BU$2)=BU$2),AND(EVEN($A48)=$A48,EVEN(BU$2)=BU$2)),BU$1,-100))","v":1321.875},{"$f":"IF('Ceiling Speaker Calculator'!$C$29=\"Square\",BV$1,IF(OR(AND(ODD($A48)=$A48,ODD(BV$2)=BV$2),AND(EVEN($A48)=$A48,EVEN(BV$2)=BV$2)),BV$1,-100))","v":1340.625},{"$f":"IF('Ceiling Speaker Calculator'!$C$29=\"Square\",BW$1,IF(OR(AND(ODD($A48)=$A48,ODD(BW$2)=BW$2),AND(EVEN($A48)=$A48,EVEN(BW$2)=BW$2)),BW$1,-100))","v":1359.375},{"$f":"IF('Ceiling Speaker Calculator'!$C$29=\"Square\",BX$1,IF(OR(AND(ODD($A48)=$A48,ODD(BX$2)=BX$2),AND(EVEN($A48)=$A48,EVEN(BX$2)=BX$2)),BX$1,-100))","v":1378.125},{"$f":"IF('Ceiling Speaker Calculator'!$C$29=\"Square\",BY$1,IF(OR(AND(ODD($A48)=$A48,ODD(BY$2)=BY$2),AND(EVEN($A48)=$A48,EVEN(BY$2)=BY$2)),BY$1,-100))","v":1396.875},{"$f":"IF('Ceiling Speaker Calculator'!$C$29=\"Square\",BZ$1,IF(OR(AND(ODD($A48)=$A48,ODD(BZ$2)=BZ$2),AND(EVEN($A48)=$A48,EVEN(BZ$2)=BZ$2)),BZ$1,-100))","v":1415.625},{"$f":"IF('Ceiling Speaker Calculator'!$C$29=\"Square\",CA$1,IF(OR(AND(ODD($A48)=$A48,ODD(CA$2)=CA$2),AND(EVEN($A48)=$A48,EVEN(CA$2)=CA$2)),CA$1,-100))","v":1434.375},{"$f":"IF('Ceiling Speaker Calculator'!$C$29=\"Square\",CB$1,IF(OR(AND(ODD($A48)=$A48,ODD(CB$2)=CB$2),AND(EVEN($A48)=$A48,EVEN(CB$2)=CB$2)),CB$1,-100))","v":1453.125},{"$f":"IF('Ceiling Speaker Calculator'!$C$29=\"Square\",CC$1,IF(OR(AND(ODD($A48)=$A48,ODD(CC$2)=CC$2),AND(EVEN($A48)=$A48,EVEN(CC$2)=CC$2)),CC$1,-100))","v":1471.875},{"$f":"IF('Ceiling Speaker Calculator'!$C$29=\"Square\",CD$1,IF(OR(AND(ODD($A48)=$A48,ODD(CD$2)=CD$2),AND(EVEN($A48)=$A48,EVEN(CD$2)=CD$2)),CD$1,-100))","v":1490.625},{"$f":"IF('Ceiling Speaker Calculator'!$C$29=\"Square\",CE$1,IF(OR(AND(ODD($A48)=$A48,ODD(CE$2)=CE$2),AND(EVEN($A48)=$A48,EVEN(CE$2)=CE$2)),CE$1,-100))","v":1509.375},{"$f":"IF('Ceiling Speaker Calculator'!$C$29=\"Square\",CF$1,IF(OR(AND(ODD($A48)=$A48,ODD(CF$2)=CF$2),AND(EVEN($A48)=$A48,EVEN(CF$2)=CF$2)),CF$1,-100))","v":1528.125},{"$f":"IF('Ceiling Speaker Calculator'!$C$29=\"Square\",CG$1,IF(OR(AND(ODD($A48)=$A48,ODD(CG$2)=CG$2),AND(EVEN($A48)=$A48,EVEN(CG$2)=CG$2)),CG$1,-100))","v":1546.875},{"$f":"IF('Ceiling Speaker Calculator'!$C$29=\"Square\",CH$1,IF(OR(AND(ODD($A48)=$A48,ODD(CH$2)=CH$2),AND(EVEN($A48)=$A48,EVEN(CH$2)=CH$2)),CH$1,-100))","v":1565.625},{"$f":"IF('Ceiling Speaker Calculator'!$C$29=\"Square\",CI$1,IF(OR(AND(ODD($A48)=$A48,ODD(CI$2)=CI$2),AND(EVEN($A48)=$A48,EVEN(CI$2)=CI$2)),CI$1,-100))","v":1584.375},{"$f":"IF('Ceiling Speaker Calculator'!$C$29=\"Square\",CJ$1,IF(OR(AND(ODD($A48)=$A48,ODD(CJ$2)=CJ$2),AND(EVEN($A48)=$A48,EVEN(CJ$2)=CJ$2)),CJ$1,-100))","v":1603.125},{"$f":"IF('Ceiling Speaker Calculator'!$C$29=\"Square\",CK$1,IF(OR(AND(ODD($A48)=$A48,ODD(CK$2)=CK$2),AND(EVEN($A48)=$A48,EVEN(CK$2)=CK$2)),CK$1,-100))","v":1621.875},{"$f":"IF('Ceiling Speaker Calculator'!$C$29=\"Square\",CL$1,IF(OR(AND(ODD($A48)=$A48,ODD(CL$2)=CL$2),AND(EVEN($A48)=$A48,EVEN(CL$2)=CL$2)),CL$1,-100))","v":1640.625},{"$f":"IF('Ceiling Speaker Calculator'!$C$29=\"Square\",CM$1,IF(OR(AND(ODD($A48)=$A48,ODD(CM$2)=CM$2),AND(EVEN($A48)=$A48,EVEN(CM$2)=CM$2)),CM$1,-100))","v":1659.375},{"$f":"IF('Ceiling Speaker Calculator'!$C$29=\"Square\",CN$1,IF(OR(AND(ODD($A48)=$A48,ODD(CN$2)=CN$2),AND(EVEN($A48)=$A48,EVEN(CN$2)=CN$2)),CN$1,-100))","v":1678.125},{"$f":"IF('Ceiling Speaker Calculator'!$C$29=\"Square\",CO$1,IF(OR(AND(ODD($A48)=$A48,ODD(CO$2)=CO$2),AND(EVEN($A48)=$A48,EVEN(CO$2)=CO$2)),CO$1,-100))","v":1696.875},{"$f":"IF('Ceiling Speaker Calculator'!$C$29=\"Square\",CP$1,IF(OR(AND(ODD($A48)=$A48,ODD(CP$2)=CP$2),AND(EVEN($A48)=$A48,EVEN(CP$2)=CP$2)),CP$1,-100))","v":1715.625},{"$f":"IF('Ceiling Speaker Calculator'!$C$29=\"Square\",CQ$1,IF(OR(AND(ODD($A48)=$A48,ODD(CQ$2)=CQ$2),AND(EVEN($A48)=$A48,EVEN(CQ$2)=CQ$2)),CQ$1,-100))","v":1734.375},{"$f":"IF('Ceiling Speaker Calculator'!$C$29=\"Square\",CR$1,IF(OR(AND(ODD($A48)=$A48,ODD(CR$2)=CR$2),AND(EVEN($A48)=$A48,EVEN(CR$2)=CR$2)),CR$1,-100))","v":1753.125},{"$f":"IF('Ceiling Speaker Calculator'!$C$29=\"Square\",CS$1,IF(OR(AND(ODD($A48)=$A48,ODD(CS$2)=CS$2),AND(EVEN($A48)=$A48,EVEN(CS$2)=CS$2)),CS$1,-100))","v":1771.875},{"$f":"IF('Ceiling Speaker Calculator'!$C$29=\"Square\",CT$1,IF(OR(AND(ODD($A48)=$A48,ODD(CT$2)=CT$2),AND(EVEN($A48)=$A48,EVEN(CT$2)=CT$2)),CT$1,-100))","v":1790.625},{"$f":"IF('Ceiling Speaker Calculator'!$C$29=\"Square\",CU$1,IF(OR(AND(ODD($A48)=$A48,ODD(CU$2)=CU$2),AND(EVEN($A48)=$A48,EVEN(CU$2)=CU$2)),CU$1,-100))","v":1809.375},{"$f":"IF('Ceiling Speaker Calculator'!$C$29=\"Square\",CV$1,IF(OR(AND(ODD($A48)=$A48,ODD(CV$2)=CV$2),AND(EVEN($A48)=$A48,EVEN(CV$2)=CV$2)),CV$1,-100))","v":1828.125},{"$f":"IF('Ceiling Speaker Calculator'!$C$29=\"Square\",CW$1,IF(OR(AND(ODD($A48)=$A48,ODD(CW$2)=CW$2),AND(EVEN($A48)=$A48,EVEN(CW$2)=CW$2)),CW$1,-100))","v":1846.875},{"$f":"IF('Ceiling Speaker Calculator'!$C$29=\"Square\",CX$1,IF(OR(AND(ODD($A48)=$A48,ODD(CX$2)=CX$2),AND(EVEN($A48)=$A48,EVEN(CX$2)=CX$2)),CX$1,-100))","v":1865.625}]
[47,{"$f":"B48+'Ceiling Speaker Calculator'!$K$16","v":930},{"$f":"IF('Ceiling Speaker Calculator'!$C$29=\"Square\",C$1,IF(OR(AND(ODD($A49)=$A49,ODD(C$2)=C$2),AND(EVEN($A49)=$A49,EVEN(C$2)=C$2)),C$1,-100))","v":9.375},{"$f":"IF('Ceiling Speaker Calculator'!$C$29=\"Square\",D$1,IF(OR(AND(ODD($A49)=$A49,ODD(D$2)=D$2),AND(EVEN($A49)=$A49,EVEN(D$2)=D$2)),D$1,-100))","v":28.125},{"$f":"IF('Ceiling Speaker Calculator'!$C$29=\"Square\",E$1,IF(OR(AND(ODD($A49)=$A49,ODD(E$2)=E$2),AND(EVEN($A49)=$A49,EVEN(E$2)=E$2)),E$1,-100))","v":46.875},{"$f":"IF('Ceiling Speaker Calculator'!$C$29=\"Square\",F$1,IF(OR(AND(ODD($A49)=$A49,ODD(F$2)=F$2),AND(EVEN($A49)=$A49,EVEN(F$2)=F$2)),F$1,-100))","v":65.625},{"$f":"IF('Ceiling Speaker Calculator'!$C$29=\"Square\",G$1,IF(OR(AND(ODD($A49)=$A49,ODD(G$2)=G$2),AND(EVEN($A49)=$A49,EVEN(G$2)=G$2)),G$1,-100))","v":84.375},{"$f":"IF('Ceiling Speaker Calculator'!$C$29=\"Square\",H$1,IF(OR(AND(ODD($A49)=$A49,ODD(H$2)=H$2),AND(EVEN($A49)=$A49,EVEN(H$2)=H$2)),H$1,-100))","v":103.125},{"$f":"IF('Ceiling Speaker Calculator'!$C$29=\"Square\",I$1,IF(OR(AND(ODD($A49)=$A49,ODD(I$2)=I$2),AND(EVEN($A49)=$A49,EVEN(I$2)=I$2)),I$1,-100))","v":121.875},{"$f":"IF('Ceiling Speaker Calculator'!$C$29=\"Square\",J$1,IF(OR(AND(ODD($A49)=$A49,ODD(J$2)=J$2),AND(EVEN($A49)=$A49,EVEN(J$2)=J$2)),J$1,-100))","v":140.625},{"$f":"IF('Ceiling Speaker Calculator'!$C$29=\"Square\",K$1,IF(OR(AND(ODD($A49)=$A49,ODD(K$2)=K$2),AND(EVEN($A49)=$A49,EVEN(K$2)=K$2)),K$1,-100))","v":159.375},{"$f":"IF('Ceiling Speaker Calculator'!$C$29=\"Square\",L$1,IF(OR(AND(ODD($A49)=$A49,ODD(L$2)=L$2),AND(EVEN($A49)=$A49,EVEN(L$2)=L$2)),L$1,-100))","v":178.125},{"$f":"IF('Ceiling Speaker Calculator'!$C$29=\"Square\",M$1,IF(OR(AND(ODD($A49)=$A49,ODD(M$2)=M$2),AND(EVEN($A49)=$A49,EVEN(M$2)=M$2)),M$1,-100))","v":196.875},{"$f":"IF('Ceiling Speaker Calculator'!$C$29=\"Square\",N$1,IF(OR(AND(ODD($A49)=$A49,ODD(N$2)=N$2),AND(EVEN($A49)=$A49,EVEN(N$2)=N$2)),N$1,-100))","v":215.625},{"$f":"IF('Ceiling Speaker Calculator'!$C$29=\"Square\",O$1,IF(OR(AND(ODD($A49)=$A49,ODD(O$2)=O$2),AND(EVEN($A49)=$A49,EVEN(O$2)=O$2)),O$1,-100))","v":234.375},{"$f":"IF('Ceiling Speaker Calculator'!$C$29=\"Square\",P$1,IF(OR(AND(ODD($A49)=$A49,ODD(P$2)=P$2),AND(EVEN($A49)=$A49,EVEN(P$2)=P$2)),P$1,-100))","v":253.125},{"$f":"IF('Ceiling Speaker Calculator'!$C$29=\"Square\",Q$1,IF(OR(AND(ODD($A49)=$A49,ODD(Q$2)=Q$2),AND(EVEN($A49)=$A49,EVEN(Q$2)=Q$2)),Q$1,-100))","v":271.875},{"$f":"IF('Ceiling Speaker Calculator'!$C$29=\"Square\",R$1,IF(OR(AND(ODD($A49)=$A49,ODD(R$2)=R$2),AND(EVEN($A49)=$A49,EVEN(R$2)=R$2)),R$1,-100))","v":290.625},{"$f":"IF('Ceiling Speaker Calculator'!$C$29=\"Square\",S$1,IF(OR(AND(ODD($A49)=$A49,ODD(S$2)=S$2),AND(EVEN($A49)=$A49,EVEN(S$2)=S$2)),S$1,-100))","v":309.375},{"$f":"IF('Ceiling Speaker Calculator'!$C$29=\"Square\",T$1,IF(OR(AND(ODD($A49)=$A49,ODD(T$2)=T$2),AND(EVEN($A49)=$A49,EVEN(T$2)=T$2)),T$1,-100))","v":328.125},{"$f":"IF('Ceiling Speaker Calculator'!$C$29=\"Square\",U$1,IF(OR(AND(ODD($A49)=$A49,ODD(U$2)=U$2),AND(EVEN($A49)=$A49,EVEN(U$2)=U$2)),U$1,-100))","v":346.875},{"$f":"IF('Ceiling Speaker Calculator'!$C$29=\"Square\",V$1,IF(OR(AND(ODD($A49)=$A49,ODD(V$2)=V$2),AND(EVEN($A49)=$A49,EVEN(V$2)=V$2)),V$1,-100))","v":365.625},{"$f":"IF('Ceiling Speaker Calculator'!$C$29=\"Square\",W$1,IF(OR(AND(ODD($A49)=$A49,ODD(W$2)=W$2),AND(EVEN($A49)=$A49,EVEN(W$2)=W$2)),W$1,-100))","v":384.375},{"$f":"IF('Ceiling Speaker Calculator'!$C$29=\"Square\",X$1,IF(OR(AND(ODD($A49)=$A49,ODD(X$2)=X$2),AND(EVEN($A49)=$A49,EVEN(X$2)=X$2)),X$1,-100))","v":403.125},{"$f":"IF('Ceiling Speaker Calculator'!$C$29=\"Square\",Y$1,IF(OR(AND(ODD($A49)=$A49,ODD(Y$2)=Y$2),AND(EVEN($A49)=$A49,EVEN(Y$2)=Y$2)),Y$1,-100))","v":421.875},{"$f":"IF('Ceiling Speaker Calculator'!$C$29=\"Square\",Z$1,IF(OR(AND(ODD($A49)=$A49,ODD(Z$2)=Z$2),AND(EVEN($A49)=$A49,EVEN(Z$2)=Z$2)),Z$1,-100))","v":440.625},{"$f":"IF('Ceiling Speaker Calculator'!$C$29=\"Square\",AA$1,IF(OR(AND(ODD($A49)=$A49,ODD(AA$2)=AA$2),AND(EVEN($A49)=$A49,EVEN(AA$2)=AA$2)),AA$1,-100))","v":459.375},{"$f":"IF('Ceiling Speaker Calculator'!$C$29=\"Square\",AB$1,IF(OR(AND(ODD($A49)=$A49,ODD(AB$2)=AB$2),AND(EVEN($A49)=$A49,EVEN(AB$2)=AB$2)),AB$1,-100))","v":478.125},{"$f":"IF('Ceiling Speaker Calculator'!$C$29=\"Square\",AC$1,IF(OR(AND(ODD($A49)=$A49,ODD(AC$2)=AC$2),AND(EVEN($A49)=$A49,EVEN(AC$2)=AC$2)),AC$1,-100))","v":496.875},{"$f":"IF('Ceiling Speaker Calculator'!$C$29=\"Square\",AD$1,IF(OR(AND(ODD($A49)=$A49,ODD(AD$2)=AD$2),AND(EVEN($A49)=$A49,EVEN(AD$2)=AD$2)),AD$1,-100))","v":515.625},{"$f":"IF('Ceiling Speaker Calculator'!$C$29=\"Square\",AE$1,IF(OR(AND(ODD($A49)=$A49,ODD(AE$2)=AE$2),AND(EVEN($A49)=$A49,EVEN(AE$2)=AE$2)),AE$1,-100))","v":534.375},{"$f":"IF('Ceiling Speaker Calculator'!$C$29=\"Square\",AF$1,IF(OR(AND(ODD($A49)=$A49,ODD(AF$2)=AF$2),AND(EVEN($A49)=$A49,EVEN(AF$2)=AF$2)),AF$1,-100))","v":553.125},{"$f":"IF('Ceiling Speaker Calculator'!$C$29=\"Square\",AG$1,IF(OR(AND(ODD($A49)=$A49,ODD(AG$2)=AG$2),AND(EVEN($A49)=$A49,EVEN(AG$2)=AG$2)),AG$1,-100))","v":571.875},{"$f":"IF('Ceiling Speaker Calculator'!$C$29=\"Square\",AH$1,IF(OR(AND(ODD($A49)=$A49,ODD(AH$2)=AH$2),AND(EVEN($A49)=$A49,EVEN(AH$2)=AH$2)),AH$1,-100))","v":590.625},{"$f":"IF('Ceiling Speaker Calculator'!$C$29=\"Square\",AI$1,IF(OR(AND(ODD($A49)=$A49,ODD(AI$2)=AI$2),AND(EVEN($A49)=$A49,EVEN(AI$2)=AI$2)),AI$1,-100))","v":609.375},{"$f":"IF('Ceiling Speaker Calculator'!$C$29=\"Square\",AJ$1,IF(OR(AND(ODD($A49)=$A49,ODD(AJ$2)=AJ$2),AND(EVEN($A49)=$A49,EVEN(AJ$2)=AJ$2)),AJ$1,-100))","v":628.125},{"$f":"IF('Ceiling Speaker Calculator'!$C$29=\"Square\",AK$1,IF(OR(AND(ODD($A49)=$A49,ODD(AK$2)=AK$2),AND(EVEN($A49)=$A49,EVEN(AK$2)=AK$2)),AK$1,-100))","v":646.875},{"$f":"IF('Ceiling Speaker Calculator'!$C$29=\"Square\",AL$1,IF(OR(AND(ODD($A49)=$A49,ODD(AL$2)=AL$2),AND(EVEN($A49)=$A49,EVEN(AL$2)=AL$2)),AL$1,-100))","v":665.625},{"$f":"IF('Ceiling Speaker Calculator'!$C$29=\"Square\",AM$1,IF(OR(AND(ODD($A49)=$A49,ODD(AM$2)=AM$2),AND(EVEN($A49)=$A49,EVEN(AM$2)=AM$2)),AM$1,-100))","v":684.375},{"$f":"IF('Ceiling Speaker Calculator'!$C$29=\"Square\",AN$1,IF(OR(AND(ODD($A49)=$A49,ODD(AN$2)=AN$2),AND(EVEN($A49)=$A49,EVEN(AN$2)=AN$2)),AN$1,-100))","v":703.125},{"$f":"IF('Ceiling Speaker Calculator'!$C$29=\"Square\",AO$1,IF(OR(AND(ODD($A49)=$A49,ODD(AO$2)=AO$2),AND(EVEN($A49)=$A49,EVEN(AO$2)=AO$2)),AO$1,-100))","v":721.875},{"$f":"IF('Ceiling Speaker Calculator'!$C$29=\"Square\",AP$1,IF(OR(AND(ODD($A49)=$A49,ODD(AP$2)=AP$2),AND(EVEN($A49)=$A49,EVEN(AP$2)=AP$2)),AP$1,-100))","v":740.625},{"$f":"IF('Ceiling Speaker Calculator'!$C$29=\"Square\",AQ$1,IF(OR(AND(ODD($A49)=$A49,ODD(AQ$2)=AQ$2),AND(EVEN($A49)=$A49,EVEN(AQ$2)=AQ$2)),AQ$1,-100))","v":759.375},{"$f":"IF('Ceiling Speaker Calculator'!$C$29=\"Square\",AR$1,IF(OR(AND(ODD($A49)=$A49,ODD(AR$2)=AR$2),AND(EVEN($A49)=$A49,EVEN(AR$2)=AR$2)),AR$1,-100))","v":778.125},{"$f":"IF('Ceiling Speaker Calculator'!$C$29=\"Square\",AS$1,IF(OR(AND(ODD($A49)=$A49,ODD(AS$2)=AS$2),AND(EVEN($A49)=$A49,EVEN(AS$2)=AS$2)),AS$1,-100))","v":796.875},{"$f":"IF('Ceiling Speaker Calculator'!$C$29=\"Square\",AT$1,IF(OR(AND(ODD($A49)=$A49,ODD(AT$2)=AT$2),AND(EVEN($A49)=$A49,EVEN(AT$2)=AT$2)),AT$1,-100))","v":815.625},{"$f":"IF('Ceiling Speaker Calculator'!$C$29=\"Square\",AU$1,IF(OR(AND(ODD($A49)=$A49,ODD(AU$2)=AU$2),AND(EVEN($A49)=$A49,EVEN(AU$2)=AU$2)),AU$1,-100))","v":834.375},{"$f":"IF('Ceiling Speaker Calculator'!$C$29=\"Square\",AV$1,IF(OR(AND(ODD($A49)=$A49,ODD(AV$2)=AV$2),AND(EVEN($A49)=$A49,EVEN(AV$2)=AV$2)),AV$1,-100))","v":853.125},{"$f":"IF('Ceiling Speaker Calculator'!$C$29=\"Square\",AW$1,IF(OR(AND(ODD($A49)=$A49,ODD(AW$2)=AW$2),AND(EVEN($A49)=$A49,EVEN(AW$2)=AW$2)),AW$1,-100))","v":871.875},{"$f":"IF('Ceiling Speaker Calculator'!$C$29=\"Square\",AX$1,IF(OR(AND(ODD($A49)=$A49,ODD(AX$2)=AX$2),AND(EVEN($A49)=$A49,EVEN(AX$2)=AX$2)),AX$1,-100))","v":890.625},{"$f":"IF('Ceiling Speaker Calculator'!$C$29=\"Square\",AY$1,IF(OR(AND(ODD($A49)=$A49,ODD(AY$2)=AY$2),AND(EVEN($A49)=$A49,EVEN(AY$2)=AY$2)),AY$1,-100))","v":909.375},{"$f":"IF('Ceiling Speaker Calculator'!$C$29=\"Square\",AZ$1,IF(OR(AND(ODD($A49)=$A49,ODD(AZ$2)=AZ$2),AND(EVEN($A49)=$A49,EVEN(AZ$2)=AZ$2)),AZ$1,-100))","v":928.125},{"$f":"IF('Ceiling Speaker Calculator'!$C$29=\"Square\",BA$1,IF(OR(AND(ODD($A49)=$A49,ODD(BA$2)=BA$2),AND(EVEN($A49)=$A49,EVEN(BA$2)=BA$2)),BA$1,-100))","v":946.875},{"$f":"IF('Ceiling Speaker Calculator'!$C$29=\"Square\",BB$1,IF(OR(AND(ODD($A49)=$A49,ODD(BB$2)=BB$2),AND(EVEN($A49)=$A49,EVEN(BB$2)=BB$2)),BB$1,-100))","v":965.625},{"$f":"IF('Ceiling Speaker Calculator'!$C$29=\"Square\",BC$1,IF(OR(AND(ODD($A49)=$A49,ODD(BC$2)=BC$2),AND(EVEN($A49)=$A49,EVEN(BC$2)=BC$2)),BC$1,-100))","v":984.375},{"$f":"IF('Ceiling Speaker Calculator'!$C$29=\"Square\",BD$1,IF(OR(AND(ODD($A49)=$A49,ODD(BD$2)=BD$2),AND(EVEN($A49)=$A49,EVEN(BD$2)=BD$2)),BD$1,-100))","v":1003.125},{"$f":"IF('Ceiling Speaker Calculator'!$C$29=\"Square\",BE$1,IF(OR(AND(ODD($A49)=$A49,ODD(BE$2)=BE$2),AND(EVEN($A49)=$A49,EVEN(BE$2)=BE$2)),BE$1,-100))","v":1021.875},{"$f":"IF('Ceiling Speaker Calculator'!$C$29=\"Square\",BF$1,IF(OR(AND(ODD($A49)=$A49,ODD(BF$2)=BF$2),AND(EVEN($A49)=$A49,EVEN(BF$2)=BF$2)),BF$1,-100))","v":1040.625},{"$f":"IF('Ceiling Speaker Calculator'!$C$29=\"Square\",BG$1,IF(OR(AND(ODD($A49)=$A49,ODD(BG$2)=BG$2),AND(EVEN($A49)=$A49,EVEN(BG$2)=BG$2)),BG$1,-100))","v":1059.375},{"$f":"IF('Ceiling Speaker Calculator'!$C$29=\"Square\",BH$1,IF(OR(AND(ODD($A49)=$A49,ODD(BH$2)=BH$2),AND(EVEN($A49)=$A49,EVEN(BH$2)=BH$2)),BH$1,-100))","v":1078.125},{"$f":"IF('Ceiling Speaker Calculator'!$C$29=\"Square\",BI$1,IF(OR(AND(ODD($A49)=$A49,ODD(BI$2)=BI$2),AND(EVEN($A49)=$A49,EVEN(BI$2)=BI$2)),BI$1,-100))","v":1096.875},{"$f":"IF('Ceiling Speaker Calculator'!$C$29=\"Square\",BJ$1,IF(OR(AND(ODD($A49)=$A49,ODD(BJ$2)=BJ$2),AND(EVEN($A49)=$A49,EVEN(BJ$2)=BJ$2)),BJ$1,-100))","v":1115.625},{"$f":"IF('Ceiling Speaker Calculator'!$C$29=\"Square\",BK$1,IF(OR(AND(ODD($A49)=$A49,ODD(BK$2)=BK$2),AND(EVEN($A49)=$A49,EVEN(BK$2)=BK$2)),BK$1,-100))","v":1134.375},{"$f":"IF('Ceiling Speaker Calculator'!$C$29=\"Square\",BL$1,IF(OR(AND(ODD($A49)=$A49,ODD(BL$2)=BL$2),AND(EVEN($A49)=$A49,EVEN(BL$2)=BL$2)),BL$1,-100))","v":1153.125},{"$f":"IF('Ceiling Speaker Calculator'!$C$29=\"Square\",BM$1,IF(OR(AND(ODD($A49)=$A49,ODD(BM$2)=BM$2),AND(EVEN($A49)=$A49,EVEN(BM$2)=BM$2)),BM$1,-100))","v":1171.875},{"$f":"IF('Ceiling Speaker Calculator'!$C$29=\"Square\",BN$1,IF(OR(AND(ODD($A49)=$A49,ODD(BN$2)=BN$2),AND(EVEN($A49)=$A49,EVEN(BN$2)=BN$2)),BN$1,-100))","v":1190.625},{"$f":"IF('Ceiling Speaker Calculator'!$C$29=\"Square\",BO$1,IF(OR(AND(ODD($A49)=$A49,ODD(BO$2)=BO$2),AND(EVEN($A49)=$A49,EVEN(BO$2)=BO$2)),BO$1,-100))","v":1209.375},{"$f":"IF('Ceiling Speaker Calculator'!$C$29=\"Square\",BP$1,IF(OR(AND(ODD($A49)=$A49,ODD(BP$2)=BP$2),AND(EVEN($A49)=$A49,EVEN(BP$2)=BP$2)),BP$1,-100))","v":1228.125},{"$f":"IF('Ceiling Speaker Calculator'!$C$29=\"Square\",BQ$1,IF(OR(AND(ODD($A49)=$A49,ODD(BQ$2)=BQ$2),AND(EVEN($A49)=$A49,EVEN(BQ$2)=BQ$2)),BQ$1,-100))","v":1246.875},{"$f":"IF('Ceiling Speaker Calculator'!$C$29=\"Square\",BR$1,IF(OR(AND(ODD($A49)=$A49,ODD(BR$2)=BR$2),AND(EVEN($A49)=$A49,EVEN(BR$2)=BR$2)),BR$1,-100))","v":1265.625},{"$f":"IF('Ceiling Speaker Calculator'!$C$29=\"Square\",BS$1,IF(OR(AND(ODD($A49)=$A49,ODD(BS$2)=BS$2),AND(EVEN($A49)=$A49,EVEN(BS$2)=BS$2)),BS$1,-100))","v":1284.375},{"$f":"IF('Ceiling Speaker Calculator'!$C$29=\"Square\",BT$1,IF(OR(AND(ODD($A49)=$A49,ODD(BT$2)=BT$2),AND(EVEN($A49)=$A49,EVEN(BT$2)=BT$2)),BT$1,-100))","v":1303.125},{"$f":"IF('Ceiling Speaker Calculator'!$C$29=\"Square\",BU$1,IF(OR(AND(ODD($A49)=$A49,ODD(BU$2)=BU$2),AND(EVEN($A49)=$A49,EVEN(BU$2)=BU$2)),BU$1,-100))","v":1321.875},{"$f":"IF('Ceiling Speaker Calculator'!$C$29=\"Square\",BV$1,IF(OR(AND(ODD($A49)=$A49,ODD(BV$2)=BV$2),AND(EVEN($A49)=$A49,EVEN(BV$2)=BV$2)),BV$1,-100))","v":1340.625},{"$f":"IF('Ceiling Speaker Calculator'!$C$29=\"Square\",BW$1,IF(OR(AND(ODD($A49)=$A49,ODD(BW$2)=BW$2),AND(EVEN($A49)=$A49,EVEN(BW$2)=BW$2)),BW$1,-100))","v":1359.375},{"$f":"IF('Ceiling Speaker Calculator'!$C$29=\"Square\",BX$1,IF(OR(AND(ODD($A49)=$A49,ODD(BX$2)=BX$2),AND(EVEN($A49)=$A49,EVEN(BX$2)=BX$2)),BX$1,-100))","v":1378.125},{"$f":"IF('Ceiling Speaker Calculator'!$C$29=\"Square\",BY$1,IF(OR(AND(ODD($A49)=$A49,ODD(BY$2)=BY$2),AND(EVEN($A49)=$A49,EVEN(BY$2)=BY$2)),BY$1,-100))","v":1396.875},{"$f":"IF('Ceiling Speaker Calculator'!$C$29=\"Square\",BZ$1,IF(OR(AND(ODD($A49)=$A49,ODD(BZ$2)=BZ$2),AND(EVEN($A49)=$A49,EVEN(BZ$2)=BZ$2)),BZ$1,-100))","v":1415.625},{"$f":"IF('Ceiling Speaker Calculator'!$C$29=\"Square\",CA$1,IF(OR(AND(ODD($A49)=$A49,ODD(CA$2)=CA$2),AND(EVEN($A49)=$A49,EVEN(CA$2)=CA$2)),CA$1,-100))","v":1434.375},{"$f":"IF('Ceiling Speaker Calculator'!$C$29=\"Square\",CB$1,IF(OR(AND(ODD($A49)=$A49,ODD(CB$2)=CB$2),AND(EVEN($A49)=$A49,EVEN(CB$2)=CB$2)),CB$1,-100))","v":1453.125},{"$f":"IF('Ceiling Speaker Calculator'!$C$29=\"Square\",CC$1,IF(OR(AND(ODD($A49)=$A49,ODD(CC$2)=CC$2),AND(EVEN($A49)=$A49,EVEN(CC$2)=CC$2)),CC$1,-100))","v":1471.875},{"$f":"IF('Ceiling Speaker Calculator'!$C$29=\"Square\",CD$1,IF(OR(AND(ODD($A49)=$A49,ODD(CD$2)=CD$2),AND(EVEN($A49)=$A49,EVEN(CD$2)=CD$2)),CD$1,-100))","v":1490.625},{"$f":"IF('Ceiling Speaker Calculator'!$C$29=\"Square\",CE$1,IF(OR(AND(ODD($A49)=$A49,ODD(CE$2)=CE$2),AND(EVEN($A49)=$A49,EVEN(CE$2)=CE$2)),CE$1,-100))","v":1509.375},{"$f":"IF('Ceiling Speaker Calculator'!$C$29=\"Square\",CF$1,IF(OR(AND(ODD($A49)=$A49,ODD(CF$2)=CF$2),AND(EVEN($A49)=$A49,EVEN(CF$2)=CF$2)),CF$1,-100))","v":1528.125},{"$f":"IF('Ceiling Speaker Calculator'!$C$29=\"Square\",CG$1,IF(OR(AND(ODD($A49)=$A49,ODD(CG$2)=CG$2),AND(EVEN($A49)=$A49,EVEN(CG$2)=CG$2)),CG$1,-100))","v":1546.875},{"$f":"IF('Ceiling Speaker Calculator'!$C$29=\"Square\",CH$1,IF(OR(AND(ODD($A49)=$A49,ODD(CH$2)=CH$2),AND(EVEN($A49)=$A49,EVEN(CH$2)=CH$2)),CH$1,-100))","v":1565.625},{"$f":"IF('Ceiling Speaker Calculator'!$C$29=\"Square\",CI$1,IF(OR(AND(ODD($A49)=$A49,ODD(CI$2)=CI$2),AND(EVEN($A49)=$A49,EVEN(CI$2)=CI$2)),CI$1,-100))","v":1584.375},{"$f":"IF('Ceiling Speaker Calculator'!$C$29=\"Square\",CJ$1,IF(OR(AND(ODD($A49)=$A49,ODD(CJ$2)=CJ$2),AND(EVEN($A49)=$A49,EVEN(CJ$2)=CJ$2)),CJ$1,-100))","v":1603.125},{"$f":"IF('Ceiling Speaker Calculator'!$C$29=\"Square\",CK$1,IF(OR(AND(ODD($A49)=$A49,ODD(CK$2)=CK$2),AND(EVEN($A49)=$A49,EVEN(CK$2)=CK$2)),CK$1,-100))","v":1621.875},{"$f":"IF('Ceiling Speaker Calculator'!$C$29=\"Square\",CL$1,IF(OR(AND(ODD($A49)=$A49,ODD(CL$2)=CL$2),AND(EVEN($A49)=$A49,EVEN(CL$2)=CL$2)),CL$1,-100))","v":1640.625},{"$f":"IF('Ceiling Speaker Calculator'!$C$29=\"Square\",CM$1,IF(OR(AND(ODD($A49)=$A49,ODD(CM$2)=CM$2),AND(EVEN($A49)=$A49,EVEN(CM$2)=CM$2)),CM$1,-100))","v":1659.375},{"$f":"IF('Ceiling Speaker Calculator'!$C$29=\"Square\",CN$1,IF(OR(AND(ODD($A49)=$A49,ODD(CN$2)=CN$2),AND(EVEN($A49)=$A49,EVEN(CN$2)=CN$2)),CN$1,-100))","v":1678.125},{"$f":"IF('Ceiling Speaker Calculator'!$C$29=\"Square\",CO$1,IF(OR(AND(ODD($A49)=$A49,ODD(CO$2)=CO$2),AND(EVEN($A49)=$A49,EVEN(CO$2)=CO$2)),CO$1,-100))","v":1696.875},{"$f":"IF('Ceiling Speaker Calculator'!$C$29=\"Square\",CP$1,IF(OR(AND(ODD($A49)=$A49,ODD(CP$2)=CP$2),AND(EVEN($A49)=$A49,EVEN(CP$2)=CP$2)),CP$1,-100))","v":1715.625},{"$f":"IF('Ceiling Speaker Calculator'!$C$29=\"Square\",CQ$1,IF(OR(AND(ODD($A49)=$A49,ODD(CQ$2)=CQ$2),AND(EVEN($A49)=$A49,EVEN(CQ$2)=CQ$2)),CQ$1,-100))","v":1734.375},{"$f":"IF('Ceiling Speaker Calculator'!$C$29=\"Square\",CR$1,IF(OR(AND(ODD($A49)=$A49,ODD(CR$2)=CR$2),AND(EVEN($A49)=$A49,EVEN(CR$2)=CR$2)),CR$1,-100))","v":1753.125},{"$f":"IF('Ceiling Speaker Calculator'!$C$29=\"Square\",CS$1,IF(OR(AND(ODD($A49)=$A49,ODD(CS$2)=CS$2),AND(EVEN($A49)=$A49,EVEN(CS$2)=CS$2)),CS$1,-100))","v":1771.875},{"$f":"IF('Ceiling Speaker Calculator'!$C$29=\"Square\",CT$1,IF(OR(AND(ODD($A49)=$A49,ODD(CT$2)=CT$2),AND(EVEN($A49)=$A49,EVEN(CT$2)=CT$2)),CT$1,-100))","v":1790.625},{"$f":"IF('Ceiling Speaker Calculator'!$C$29=\"Square\",CU$1,IF(OR(AND(ODD($A49)=$A49,ODD(CU$2)=CU$2),AND(EVEN($A49)=$A49,EVEN(CU$2)=CU$2)),CU$1,-100))","v":1809.375},{"$f":"IF('Ceiling Speaker Calculator'!$C$29=\"Square\",CV$1,IF(OR(AND(ODD($A49)=$A49,ODD(CV$2)=CV$2),AND(EVEN($A49)=$A49,EVEN(CV$2)=CV$2)),CV$1,-100))","v":1828.125},{"$f":"IF('Ceiling Speaker Calculator'!$C$29=\"Square\",CW$1,IF(OR(AND(ODD($A49)=$A49,ODD(CW$2)=CW$2),AND(EVEN($A49)=$A49,EVEN(CW$2)=CW$2)),CW$1,-100))","v":1846.875},{"$f":"IF('Ceiling Speaker Calculator'!$C$29=\"Square\",CX$1,IF(OR(AND(ODD($A49)=$A49,ODD(CX$2)=CX$2),AND(EVEN($A49)=$A49,EVEN(CX$2)=CX$2)),CX$1,-100))","v":1865.625}]
[48,{"$f":"B49+'Ceiling Speaker Calculator'!$K$16","v":950},{"$f":"IF('Ceiling Speaker Calculator'!$C$29=\"Square\",C$1,IF(OR(AND(ODD($A50)=$A50,ODD(C$2)=C$2),AND(EVEN($A50)=$A50,EVEN(C$2)=C$2)),C$1,-100))","v":9.375},{"$f":"IF('Ceiling Speaker Calculator'!$C$29=\"Square\",D$1,IF(OR(AND(ODD($A50)=$A50,ODD(D$2)=D$2),AND(EVEN($A50)=$A50,EVEN(D$2)=D$2)),D$1,-100))","v":28.125},{"$f":"IF('Ceiling Speaker Calculator'!$C$29=\"Square\",E$1,IF(OR(AND(ODD($A50)=$A50,ODD(E$2)=E$2),AND(EVEN($A50)=$A50,EVEN(E$2)=E$2)),E$1,-100))","v":46.875},{"$f":"IF('Ceiling Speaker Calculator'!$C$29=\"Square\",F$1,IF(OR(AND(ODD($A50)=$A50,ODD(F$2)=F$2),AND(EVEN($A50)=$A50,EVEN(F$2)=F$2)),F$1,-100))","v":65.625},{"$f":"IF('Ceiling Speaker Calculator'!$C$29=\"Square\",G$1,IF(OR(AND(ODD($A50)=$A50,ODD(G$2)=G$2),AND(EVEN($A50)=$A50,EVEN(G$2)=G$2)),G$1,-100))","v":84.375},{"$f":"IF('Ceiling Speaker Calculator'!$C$29=\"Square\",H$1,IF(OR(AND(ODD($A50)=$A50,ODD(H$2)=H$2),AND(EVEN($A50)=$A50,EVEN(H$2)=H$2)),H$1,-100))","v":103.125},{"$f":"IF('Ceiling Speaker Calculator'!$C$29=\"Square\",I$1,IF(OR(AND(ODD($A50)=$A50,ODD(I$2)=I$2),AND(EVEN($A50)=$A50,EVEN(I$2)=I$2)),I$1,-100))","v":121.875},{"$f":"IF('Ceiling Speaker Calculator'!$C$29=\"Square\",J$1,IF(OR(AND(ODD($A50)=$A50,ODD(J$2)=J$2),AND(EVEN($A50)=$A50,EVEN(J$2)=J$2)),J$1,-100))","v":140.625},{"$f":"IF('Ceiling Speaker Calculator'!$C$29=\"Square\",K$1,IF(OR(AND(ODD($A50)=$A50,ODD(K$2)=K$2),AND(EVEN($A50)=$A50,EVEN(K$2)=K$2)),K$1,-100))","v":159.375},{"$f":"IF('Ceiling Speaker Calculator'!$C$29=\"Square\",L$1,IF(OR(AND(ODD($A50)=$A50,ODD(L$2)=L$2),AND(EVEN($A50)=$A50,EVEN(L$2)=L$2)),L$1,-100))","v":178.125},{"$f":"IF('Ceiling Speaker Calculator'!$C$29=\"Square\",M$1,IF(OR(AND(ODD($A50)=$A50,ODD(M$2)=M$2),AND(EVEN($A50)=$A50,EVEN(M$2)=M$2)),M$1,-100))","v":196.875},{"$f":"IF('Ceiling Speaker Calculator'!$C$29=\"Square\",N$1,IF(OR(AND(ODD($A50)=$A50,ODD(N$2)=N$2),AND(EVEN($A50)=$A50,EVEN(N$2)=N$2)),N$1,-100))","v":215.625},{"$f":"IF('Ceiling Speaker Calculator'!$C$29=\"Square\",O$1,IF(OR(AND(ODD($A50)=$A50,ODD(O$2)=O$2),AND(EVEN($A50)=$A50,EVEN(O$2)=O$2)),O$1,-100))","v":234.375},{"$f":"IF('Ceiling Speaker Calculator'!$C$29=\"Square\",P$1,IF(OR(AND(ODD($A50)=$A50,ODD(P$2)=P$2),AND(EVEN($A50)=$A50,EVEN(P$2)=P$2)),P$1,-100))","v":253.125},{"$f":"IF('Ceiling Speaker Calculator'!$C$29=\"Square\",Q$1,IF(OR(AND(ODD($A50)=$A50,ODD(Q$2)=Q$2),AND(EVEN($A50)=$A50,EVEN(Q$2)=Q$2)),Q$1,-100))","v":271.875},{"$f":"IF('Ceiling Speaker Calculator'!$C$29=\"Square\",R$1,IF(OR(AND(ODD($A50)=$A50,ODD(R$2)=R$2),AND(EVEN($A50)=$A50,EVEN(R$2)=R$2)),R$1,-100))","v":290.625},{"$f":"IF('Ceiling Speaker Calculator'!$C$29=\"Square\",S$1,IF(OR(AND(ODD($A50)=$A50,ODD(S$2)=S$2),AND(EVEN($A50)=$A50,EVEN(S$2)=S$2)),S$1,-100))","v":309.375},{"$f":"IF('Ceiling Speaker Calculator'!$C$29=\"Square\",T$1,IF(OR(AND(ODD($A50)=$A50,ODD(T$2)=T$2),AND(EVEN($A50)=$A50,EVEN(T$2)=T$2)),T$1,-100))","v":328.125},{"$f":"IF('Ceiling Speaker Calculator'!$C$29=\"Square\",U$1,IF(OR(AND(ODD($A50)=$A50,ODD(U$2)=U$2),AND(EVEN($A50)=$A50,EVEN(U$2)=U$2)),U$1,-100))","v":346.875},{"$f":"IF('Ceiling Speaker Calculator'!$C$29=\"Square\",V$1,IF(OR(AND(ODD($A50)=$A50,ODD(V$2)=V$2),AND(EVEN($A50)=$A50,EVEN(V$2)=V$2)),V$1,-100))","v":365.625},{"$f":"IF('Ceiling Speaker Calculator'!$C$29=\"Square\",W$1,IF(OR(AND(ODD($A50)=$A50,ODD(W$2)=W$2),AND(EVEN($A50)=$A50,EVEN(W$2)=W$2)),W$1,-100))","v":384.375},{"$f":"IF('Ceiling Speaker Calculator'!$C$29=\"Square\",X$1,IF(OR(AND(ODD($A50)=$A50,ODD(X$2)=X$2),AND(EVEN($A50)=$A50,EVEN(X$2)=X$2)),X$1,-100))","v":403.125},{"$f":"IF('Ceiling Speaker Calculator'!$C$29=\"Square\",Y$1,IF(OR(AND(ODD($A50)=$A50,ODD(Y$2)=Y$2),AND(EVEN($A50)=$A50,EVEN(Y$2)=Y$2)),Y$1,-100))","v":421.875},{"$f":"IF('Ceiling Speaker Calculator'!$C$29=\"Square\",Z$1,IF(OR(AND(ODD($A50)=$A50,ODD(Z$2)=Z$2),AND(EVEN($A50)=$A50,EVEN(Z$2)=Z$2)),Z$1,-100))","v":440.625},{"$f":"IF('Ceiling Speaker Calculator'!$C$29=\"Square\",AA$1,IF(OR(AND(ODD($A50)=$A50,ODD(AA$2)=AA$2),AND(EVEN($A50)=$A50,EVEN(AA$2)=AA$2)),AA$1,-100))","v":459.375},{"$f":"IF('Ceiling Speaker Calculator'!$C$29=\"Square\",AB$1,IF(OR(AND(ODD($A50)=$A50,ODD(AB$2)=AB$2),AND(EVEN($A50)=$A50,EVEN(AB$2)=AB$2)),AB$1,-100))","v":478.125},{"$f":"IF('Ceiling Speaker Calculator'!$C$29=\"Square\",AC$1,IF(OR(AND(ODD($A50)=$A50,ODD(AC$2)=AC$2),AND(EVEN($A50)=$A50,EVEN(AC$2)=AC$2)),AC$1,-100))","v":496.875},{"$f":"IF('Ceiling Speaker Calculator'!$C$29=\"Square\",AD$1,IF(OR(AND(ODD($A50)=$A50,ODD(AD$2)=AD$2),AND(EVEN($A50)=$A50,EVEN(AD$2)=AD$2)),AD$1,-100))","v":515.625},{"$f":"IF('Ceiling Speaker Calculator'!$C$29=\"Square\",AE$1,IF(OR(AND(ODD($A50)=$A50,ODD(AE$2)=AE$2),AND(EVEN($A50)=$A50,EVEN(AE$2)=AE$2)),AE$1,-100))","v":534.375},{"$f":"IF('Ceiling Speaker Calculator'!$C$29=\"Square\",AF$1,IF(OR(AND(ODD($A50)=$A50,ODD(AF$2)=AF$2),AND(EVEN($A50)=$A50,EVEN(AF$2)=AF$2)),AF$1,-100))","v":553.125},{"$f":"IF('Ceiling Speaker Calculator'!$C$29=\"Square\",AG$1,IF(OR(AND(ODD($A50)=$A50,ODD(AG$2)=AG$2),AND(EVEN($A50)=$A50,EVEN(AG$2)=AG$2)),AG$1,-100))","v":571.875},{"$f":"IF('Ceiling Speaker Calculator'!$C$29=\"Square\",AH$1,IF(OR(AND(ODD($A50)=$A50,ODD(AH$2)=AH$2),AND(EVEN($A50)=$A50,EVEN(AH$2)=AH$2)),AH$1,-100))","v":590.625},{"$f":"IF('Ceiling Speaker Calculator'!$C$29=\"Square\",AI$1,IF(OR(AND(ODD($A50)=$A50,ODD(AI$2)=AI$2),AND(EVEN($A50)=$A50,EVEN(AI$2)=AI$2)),AI$1,-100))","v":609.375},{"$f":"IF('Ceiling Speaker Calculator'!$C$29=\"Square\",AJ$1,IF(OR(AND(ODD($A50)=$A50,ODD(AJ$2)=AJ$2),AND(EVEN($A50)=$A50,EVEN(AJ$2)=AJ$2)),AJ$1,-100))","v":628.125},{"$f":"IF('Ceiling Speaker Calculator'!$C$29=\"Square\",AK$1,IF(OR(AND(ODD($A50)=$A50,ODD(AK$2)=AK$2),AND(EVEN($A50)=$A50,EVEN(AK$2)=AK$2)),AK$1,-100))","v":646.875},{"$f":"IF('Ceiling Speaker Calculator'!$C$29=\"Square\",AL$1,IF(OR(AND(ODD($A50)=$A50,ODD(AL$2)=AL$2),AND(EVEN($A50)=$A50,EVEN(AL$2)=AL$2)),AL$1,-100))","v":665.625},{"$f":"IF('Ceiling Speaker Calculator'!$C$29=\"Square\",AM$1,IF(OR(AND(ODD($A50)=$A50,ODD(AM$2)=AM$2),AND(EVEN($A50)=$A50,EVEN(AM$2)=AM$2)),AM$1,-100))","v":684.375},{"$f":"IF('Ceiling Speaker Calculator'!$C$29=\"Square\",AN$1,IF(OR(AND(ODD($A50)=$A50,ODD(AN$2)=AN$2),AND(EVEN($A50)=$A50,EVEN(AN$2)=AN$2)),AN$1,-100))","v":703.125},{"$f":"IF('Ceiling Speaker Calculator'!$C$29=\"Square\",AO$1,IF(OR(AND(ODD($A50)=$A50,ODD(AO$2)=AO$2),AND(EVEN($A50)=$A50,EVEN(AO$2)=AO$2)),AO$1,-100))","v":721.875},{"$f":"IF('Ceiling Speaker Calculator'!$C$29=\"Square\",AP$1,IF(OR(AND(ODD($A50)=$A50,ODD(AP$2)=AP$2),AND(EVEN($A50)=$A50,EVEN(AP$2)=AP$2)),AP$1,-100))","v":740.625},{"$f":"IF('Ceiling Speaker Calculator'!$C$29=\"Square\",AQ$1,IF(OR(AND(ODD($A50)=$A50,ODD(AQ$2)=AQ$2),AND(EVEN($A50)=$A50,EVEN(AQ$2)=AQ$2)),AQ$1,-100))","v":759.375},{"$f":"IF('Ceiling Speaker Calculator'!$C$29=\"Square\",AR$1,IF(OR(AND(ODD($A50)=$A50,ODD(AR$2)=AR$2),AND(EVEN($A50)=$A50,EVEN(AR$2)=AR$2)),AR$1,-100))","v":778.125},{"$f":"IF('Ceiling Speaker Calculator'!$C$29=\"Square\",AS$1,IF(OR(AND(ODD($A50)=$A50,ODD(AS$2)=AS$2),AND(EVEN($A50)=$A50,EVEN(AS$2)=AS$2)),AS$1,-100))","v":796.875},{"$f":"IF('Ceiling Speaker Calculator'!$C$29=\"Square\",AT$1,IF(OR(AND(ODD($A50)=$A50,ODD(AT$2)=AT$2),AND(EVEN($A50)=$A50,EVEN(AT$2)=AT$2)),AT$1,-100))","v":815.625},{"$f":"IF('Ceiling Speaker Calculator'!$C$29=\"Square\",AU$1,IF(OR(AND(ODD($A50)=$A50,ODD(AU$2)=AU$2),AND(EVEN($A50)=$A50,EVEN(AU$2)=AU$2)),AU$1,-100))","v":834.375},{"$f":"IF('Ceiling Speaker Calculator'!$C$29=\"Square\",AV$1,IF(OR(AND(ODD($A50)=$A50,ODD(AV$2)=AV$2),AND(EVEN($A50)=$A50,EVEN(AV$2)=AV$2)),AV$1,-100))","v":853.125},{"$f":"IF('Ceiling Speaker Calculator'!$C$29=\"Square\",AW$1,IF(OR(AND(ODD($A50)=$A50,ODD(AW$2)=AW$2),AND(EVEN($A50)=$A50,EVEN(AW$2)=AW$2)),AW$1,-100))","v":871.875},{"$f":"IF('Ceiling Speaker Calculator'!$C$29=\"Square\",AX$1,IF(OR(AND(ODD($A50)=$A50,ODD(AX$2)=AX$2),AND(EVEN($A50)=$A50,EVEN(AX$2)=AX$2)),AX$1,-100))","v":890.625},{"$f":"IF('Ceiling Speaker Calculator'!$C$29=\"Square\",AY$1,IF(OR(AND(ODD($A50)=$A50,ODD(AY$2)=AY$2),AND(EVEN($A50)=$A50,EVEN(AY$2)=AY$2)),AY$1,-100))","v":909.375},{"$f":"IF('Ceiling Speaker Calculator'!$C$29=\"Square\",AZ$1,IF(OR(AND(ODD($A50)=$A50,ODD(AZ$2)=AZ$2),AND(EVEN($A50)=$A50,EVEN(AZ$2)=AZ$2)),AZ$1,-100))","v":928.125},{"$f":"IF('Ceiling Speaker Calculator'!$C$29=\"Square\",BA$1,IF(OR(AND(ODD($A50)=$A50,ODD(BA$2)=BA$2),AND(EVEN($A50)=$A50,EVEN(BA$2)=BA$2)),BA$1,-100))","v":946.875},{"$f":"IF('Ceiling Speaker Calculator'!$C$29=\"Square\",BB$1,IF(OR(AND(ODD($A50)=$A50,ODD(BB$2)=BB$2),AND(EVEN($A50)=$A50,EVEN(BB$2)=BB$2)),BB$1,-100))","v":965.625},{"$f":"IF('Ceiling Speaker Calculator'!$C$29=\"Square\",BC$1,IF(OR(AND(ODD($A50)=$A50,ODD(BC$2)=BC$2),AND(EVEN($A50)=$A50,EVEN(BC$2)=BC$2)),BC$1,-100))","v":984.375},{"$f":"IF('Ceiling Speaker Calculator'!$C$29=\"Square\",BD$1,IF(OR(AND(ODD($A50)=$A50,ODD(BD$2)=BD$2),AND(EVEN($A50)=$A50,EVEN(BD$2)=BD$2)),BD$1,-100))","v":1003.125},{"$f":"IF('Ceiling Speaker Calculator'!$C$29=\"Square\",BE$1,IF(OR(AND(ODD($A50)=$A50,ODD(BE$2)=BE$2),AND(EVEN($A50)=$A50,EVEN(BE$2)=BE$2)),BE$1,-100))","v":1021.875},{"$f":"IF('Ceiling Speaker Calculator'!$C$29=\"Square\",BF$1,IF(OR(AND(ODD($A50)=$A50,ODD(BF$2)=BF$2),AND(EVEN($A50)=$A50,EVEN(BF$2)=BF$2)),BF$1,-100))","v":1040.625},{"$f":"IF('Ceiling Speaker Calculator'!$C$29=\"Square\",BG$1,IF(OR(AND(ODD($A50)=$A50,ODD(BG$2)=BG$2),AND(EVEN($A50)=$A50,EVEN(BG$2)=BG$2)),BG$1,-100))","v":1059.375},{"$f":"IF('Ceiling Speaker Calculator'!$C$29=\"Square\",BH$1,IF(OR(AND(ODD($A50)=$A50,ODD(BH$2)=BH$2),AND(EVEN($A50)=$A50,EVEN(BH$2)=BH$2)),BH$1,-100))","v":1078.125},{"$f":"IF('Ceiling Speaker Calculator'!$C$29=\"Square\",BI$1,IF(OR(AND(ODD($A50)=$A50,ODD(BI$2)=BI$2),AND(EVEN($A50)=$A50,EVEN(BI$2)=BI$2)),BI$1,-100))","v":1096.875},{"$f":"IF('Ceiling Speaker Calculator'!$C$29=\"Square\",BJ$1,IF(OR(AND(ODD($A50)=$A50,ODD(BJ$2)=BJ$2),AND(EVEN($A50)=$A50,EVEN(BJ$2)=BJ$2)),BJ$1,-100))","v":1115.625},{"$f":"IF('Ceiling Speaker Calculator'!$C$29=\"Square\",BK$1,IF(OR(AND(ODD($A50)=$A50,ODD(BK$2)=BK$2),AND(EVEN($A50)=$A50,EVEN(BK$2)=BK$2)),BK$1,-100))","v":1134.375},{"$f":"IF('Ceiling Speaker Calculator'!$C$29=\"Square\",BL$1,IF(OR(AND(ODD($A50)=$A50,ODD(BL$2)=BL$2),AND(EVEN($A50)=$A50,EVEN(BL$2)=BL$2)),BL$1,-100))","v":1153.125},{"$f":"IF('Ceiling Speaker Calculator'!$C$29=\"Square\",BM$1,IF(OR(AND(ODD($A50)=$A50,ODD(BM$2)=BM$2),AND(EVEN($A50)=$A50,EVEN(BM$2)=BM$2)),BM$1,-100))","v":1171.875},{"$f":"IF('Ceiling Speaker Calculator'!$C$29=\"Square\",BN$1,IF(OR(AND(ODD($A50)=$A50,ODD(BN$2)=BN$2),AND(EVEN($A50)=$A50,EVEN(BN$2)=BN$2)),BN$1,-100))","v":1190.625},{"$f":"IF('Ceiling Speaker Calculator'!$C$29=\"Square\",BO$1,IF(OR(AND(ODD($A50)=$A50,ODD(BO$2)=BO$2),AND(EVEN($A50)=$A50,EVEN(BO$2)=BO$2)),BO$1,-100))","v":1209.375},{"$f":"IF('Ceiling Speaker Calculator'!$C$29=\"Square\",BP$1,IF(OR(AND(ODD($A50)=$A50,ODD(BP$2)=BP$2),AND(EVEN($A50)=$A50,EVEN(BP$2)=BP$2)),BP$1,-100))","v":1228.125},{"$f":"IF('Ceiling Speaker Calculator'!$C$29=\"Square\",BQ$1,IF(OR(AND(ODD($A50)=$A50,ODD(BQ$2)=BQ$2),AND(EVEN($A50)=$A50,EVEN(BQ$2)=BQ$2)),BQ$1,-100))","v":1246.875},{"$f":"IF('Ceiling Speaker Calculator'!$C$29=\"Square\",BR$1,IF(OR(AND(ODD($A50)=$A50,ODD(BR$2)=BR$2),AND(EVEN($A50)=$A50,EVEN(BR$2)=BR$2)),BR$1,-100))","v":1265.625},{"$f":"IF('Ceiling Speaker Calculator'!$C$29=\"Square\",BS$1,IF(OR(AND(ODD($A50)=$A50,ODD(BS$2)=BS$2),AND(EVEN($A50)=$A50,EVEN(BS$2)=BS$2)),BS$1,-100))","v":1284.375},{"$f":"IF('Ceiling Speaker Calculator'!$C$29=\"Square\",BT$1,IF(OR(AND(ODD($A50)=$A50,ODD(BT$2)=BT$2),AND(EVEN($A50)=$A50,EVEN(BT$2)=BT$2)),BT$1,-100))","v":1303.125},{"$f":"IF('Ceiling Speaker Calculator'!$C$29=\"Square\",BU$1,IF(OR(AND(ODD($A50)=$A50,ODD(BU$2)=BU$2),AND(EVEN($A50)=$A50,EVEN(BU$2)=BU$2)),BU$1,-100))","v":1321.875},{"$f":"IF('Ceiling Speaker Calculator'!$C$29=\"Square\",BV$1,IF(OR(AND(ODD($A50)=$A50,ODD(BV$2)=BV$2),AND(EVEN($A50)=$A50,EVEN(BV$2)=BV$2)),BV$1,-100))","v":1340.625},{"$f":"IF('Ceiling Speaker Calculator'!$C$29=\"Square\",BW$1,IF(OR(AND(ODD($A50)=$A50,ODD(BW$2)=BW$2),AND(EVEN($A50)=$A50,EVEN(BW$2)=BW$2)),BW$1,-100))","v":1359.375},{"$f":"IF('Ceiling Speaker Calculator'!$C$29=\"Square\",BX$1,IF(OR(AND(ODD($A50)=$A50,ODD(BX$2)=BX$2),AND(EVEN($A50)=$A50,EVEN(BX$2)=BX$2)),BX$1,-100))","v":1378.125},{"$f":"IF('Ceiling Speaker Calculator'!$C$29=\"Square\",BY$1,IF(OR(AND(ODD($A50)=$A50,ODD(BY$2)=BY$2),AND(EVEN($A50)=$A50,EVEN(BY$2)=BY$2)),BY$1,-100))","v":1396.875},{"$f":"IF('Ceiling Speaker Calculator'!$C$29=\"Square\",BZ$1,IF(OR(AND(ODD($A50)=$A50,ODD(BZ$2)=BZ$2),AND(EVEN($A50)=$A50,EVEN(BZ$2)=BZ$2)),BZ$1,-100))","v":1415.625},{"$f":"IF('Ceiling Speaker Calculator'!$C$29=\"Square\",CA$1,IF(OR(AND(ODD($A50)=$A50,ODD(CA$2)=CA$2),AND(EVEN($A50)=$A50,EVEN(CA$2)=CA$2)),CA$1,-100))","v":1434.375},{"$f":"IF('Ceiling Speaker Calculator'!$C$29=\"Square\",CB$1,IF(OR(AND(ODD($A50)=$A50,ODD(CB$2)=CB$2),AND(EVEN($A50)=$A50,EVEN(CB$2)=CB$2)),CB$1,-100))","v":1453.125},{"$f":"IF('Ceiling Speaker Calculator'!$C$29=\"Square\",CC$1,IF(OR(AND(ODD($A50)=$A50,ODD(CC$2)=CC$2),AND(EVEN($A50)=$A50,EVEN(CC$2)=CC$2)),CC$1,-100))","v":1471.875},{"$f":"IF('Ceiling Speaker Calculator'!$C$29=\"Square\",CD$1,IF(OR(AND(ODD($A50)=$A50,ODD(CD$2)=CD$2),AND(EVEN($A50)=$A50,EVEN(CD$2)=CD$2)),CD$1,-100))","v":1490.625},{"$f":"IF('Ceiling Speaker Calculator'!$C$29=\"Square\",CE$1,IF(OR(AND(ODD($A50)=$A50,ODD(CE$2)=CE$2),AND(EVEN($A50)=$A50,EVEN(CE$2)=CE$2)),CE$1,-100))","v":1509.375},{"$f":"IF('Ceiling Speaker Calculator'!$C$29=\"Square\",CF$1,IF(OR(AND(ODD($A50)=$A50,ODD(CF$2)=CF$2),AND(EVEN($A50)=$A50,EVEN(CF$2)=CF$2)),CF$1,-100))","v":1528.125},{"$f":"IF('Ceiling Speaker Calculator'!$C$29=\"Square\",CG$1,IF(OR(AND(ODD($A50)=$A50,ODD(CG$2)=CG$2),AND(EVEN($A50)=$A50,EVEN(CG$2)=CG$2)),CG$1,-100))","v":1546.875},{"$f":"IF('Ceiling Speaker Calculator'!$C$29=\"Square\",CH$1,IF(OR(AND(ODD($A50)=$A50,ODD(CH$2)=CH$2),AND(EVEN($A50)=$A50,EVEN(CH$2)=CH$2)),CH$1,-100))","v":1565.625},{"$f":"IF('Ceiling Speaker Calculator'!$C$29=\"Square\",CI$1,IF(OR(AND(ODD($A50)=$A50,ODD(CI$2)=CI$2),AND(EVEN($A50)=$A50,EVEN(CI$2)=CI$2)),CI$1,-100))","v":1584.375},{"$f":"IF('Ceiling Speaker Calculator'!$C$29=\"Square\",CJ$1,IF(OR(AND(ODD($A50)=$A50,ODD(CJ$2)=CJ$2),AND(EVEN($A50)=$A50,EVEN(CJ$2)=CJ$2)),CJ$1,-100))","v":1603.125},{"$f":"IF('Ceiling Speaker Calculator'!$C$29=\"Square\",CK$1,IF(OR(AND(ODD($A50)=$A50,ODD(CK$2)=CK$2),AND(EVEN($A50)=$A50,EVEN(CK$2)=CK$2)),CK$1,-100))","v":1621.875},{"$f":"IF('Ceiling Speaker Calculator'!$C$29=\"Square\",CL$1,IF(OR(AND(ODD($A50)=$A50,ODD(CL$2)=CL$2),AND(EVEN($A50)=$A50,EVEN(CL$2)=CL$2)),CL$1,-100))","v":1640.625},{"$f":"IF('Ceiling Speaker Calculator'!$C$29=\"Square\",CM$1,IF(OR(AND(ODD($A50)=$A50,ODD(CM$2)=CM$2),AND(EVEN($A50)=$A50,EVEN(CM$2)=CM$2)),CM$1,-100))","v":1659.375},{"$f":"IF('Ceiling Speaker Calculator'!$C$29=\"Square\",CN$1,IF(OR(AND(ODD($A50)=$A50,ODD(CN$2)=CN$2),AND(EVEN($A50)=$A50,EVEN(CN$2)=CN$2)),CN$1,-100))","v":1678.125},{"$f":"IF('Ceiling Speaker Calculator'!$C$29=\"Square\",CO$1,IF(OR(AND(ODD($A50)=$A50,ODD(CO$2)=CO$2),AND(EVEN($A50)=$A50,EVEN(CO$2)=CO$2)),CO$1,-100))","v":1696.875},{"$f":"IF('Ceiling Speaker Calculator'!$C$29=\"Square\",CP$1,IF(OR(AND(ODD($A50)=$A50,ODD(CP$2)=CP$2),AND(EVEN($A50)=$A50,EVEN(CP$2)=CP$2)),CP$1,-100))","v":1715.625},{"$f":"IF('Ceiling Speaker Calculator'!$C$29=\"Square\",CQ$1,IF(OR(AND(ODD($A50)=$A50,ODD(CQ$2)=CQ$2),AND(EVEN($A50)=$A50,EVEN(CQ$2)=CQ$2)),CQ$1,-100))","v":1734.375},{"$f":"IF('Ceiling Speaker Calculator'!$C$29=\"Square\",CR$1,IF(OR(AND(ODD($A50)=$A50,ODD(CR$2)=CR$2),AND(EVEN($A50)=$A50,EVEN(CR$2)=CR$2)),CR$1,-100))","v":1753.125},{"$f":"IF('Ceiling Speaker Calculator'!$C$29=\"Square\",CS$1,IF(OR(AND(ODD($A50)=$A50,ODD(CS$2)=CS$2),AND(EVEN($A50)=$A50,EVEN(CS$2)=CS$2)),CS$1,-100))","v":1771.875},{"$f":"IF('Ceiling Speaker Calculator'!$C$29=\"Square\",CT$1,IF(OR(AND(ODD($A50)=$A50,ODD(CT$2)=CT$2),AND(EVEN($A50)=$A50,EVEN(CT$2)=CT$2)),CT$1,-100))","v":1790.625},{"$f":"IF('Ceiling Speaker Calculator'!$C$29=\"Square\",CU$1,IF(OR(AND(ODD($A50)=$A50,ODD(CU$2)=CU$2),AND(EVEN($A50)=$A50,EVEN(CU$2)=CU$2)),CU$1,-100))","v":1809.375},{"$f":"IF('Ceiling Speaker Calculator'!$C$29=\"Square\",CV$1,IF(OR(AND(ODD($A50)=$A50,ODD(CV$2)=CV$2),AND(EVEN($A50)=$A50,EVEN(CV$2)=CV$2)),CV$1,-100))","v":1828.125},{"$f":"IF('Ceiling Speaker Calculator'!$C$29=\"Square\",CW$1,IF(OR(AND(ODD($A50)=$A50,ODD(CW$2)=CW$2),AND(EVEN($A50)=$A50,EVEN(CW$2)=CW$2)),CW$1,-100))","v":1846.875},{"$f":"IF('Ceiling Speaker Calculator'!$C$29=\"Square\",CX$1,IF(OR(AND(ODD($A50)=$A50,ODD(CX$2)=CX$2),AND(EVEN($A50)=$A50,EVEN(CX$2)=CX$2)),CX$1,-100))","v":1865.625}]
[49,{"$f":"B50+'Ceiling Speaker Calculator'!$K$16","v":970},{"$f":"IF('Ceiling Speaker Calculator'!$C$29=\"Square\",C$1,IF(OR(AND(ODD($A51)=$A51,ODD(C$2)=C$2),AND(EVEN($A51)=$A51,EVEN(C$2)=C$2)),C$1,-100))","v":9.375},{"$f":"IF('Ceiling Speaker Calculator'!$C$29=\"Square\",D$1,IF(OR(AND(ODD($A51)=$A51,ODD(D$2)=D$2),AND(EVEN($A51)=$A51,EVEN(D$2)=D$2)),D$1,-100))","v":28.125},{"$f":"IF('Ceiling Speaker Calculator'!$C$29=\"Square\",E$1,IF(OR(AND(ODD($A51)=$A51,ODD(E$2)=E$2),AND(EVEN($A51)=$A51,EVEN(E$2)=E$2)),E$1,-100))","v":46.875},{"$f":"IF('Ceiling Speaker Calculator'!$C$29=\"Square\",F$1,IF(OR(AND(ODD($A51)=$A51,ODD(F$2)=F$2),AND(EVEN($A51)=$A51,EVEN(F$2)=F$2)),F$1,-100))","v":65.625},{"$f":"IF('Ceiling Speaker Calculator'!$C$29=\"Square\",G$1,IF(OR(AND(ODD($A51)=$A51,ODD(G$2)=G$2),AND(EVEN($A51)=$A51,EVEN(G$2)=G$2)),G$1,-100))","v":84.375},{"$f":"IF('Ceiling Speaker Calculator'!$C$29=\"Square\",H$1,IF(OR(AND(ODD($A51)=$A51,ODD(H$2)=H$2),AND(EVEN($A51)=$A51,EVEN(H$2)=H$2)),H$1,-100))","v":103.125},{"$f":"IF('Ceiling Speaker Calculator'!$C$29=\"Square\",I$1,IF(OR(AND(ODD($A51)=$A51,ODD(I$2)=I$2),AND(EVEN($A51)=$A51,EVEN(I$2)=I$2)),I$1,-100))","v":121.875},{"$f":"IF('Ceiling Speaker Calculator'!$C$29=\"Square\",J$1,IF(OR(AND(ODD($A51)=$A51,ODD(J$2)=J$2),AND(EVEN($A51)=$A51,EVEN(J$2)=J$2)),J$1,-100))","v":140.625},{"$f":"IF('Ceiling Speaker Calculator'!$C$29=\"Square\",K$1,IF(OR(AND(ODD($A51)=$A51,ODD(K$2)=K$2),AND(EVEN($A51)=$A51,EVEN(K$2)=K$2)),K$1,-100))","v":159.375},{"$f":"IF('Ceiling Speaker Calculator'!$C$29=\"Square\",L$1,IF(OR(AND(ODD($A51)=$A51,ODD(L$2)=L$2),AND(EVEN($A51)=$A51,EVEN(L$2)=L$2)),L$1,-100))","v":178.125},{"$f":"IF('Ceiling Speaker Calculator'!$C$29=\"Square\",M$1,IF(OR(AND(ODD($A51)=$A51,ODD(M$2)=M$2),AND(EVEN($A51)=$A51,EVEN(M$2)=M$2)),M$1,-100))","v":196.875},{"$f":"IF('Ceiling Speaker Calculator'!$C$29=\"Square\",N$1,IF(OR(AND(ODD($A51)=$A51,ODD(N$2)=N$2),AND(EVEN($A51)=$A51,EVEN(N$2)=N$2)),N$1,-100))","v":215.625},{"$f":"IF('Ceiling Speaker Calculator'!$C$29=\"Square\",O$1,IF(OR(AND(ODD($A51)=$A51,ODD(O$2)=O$2),AND(EVEN($A51)=$A51,EVEN(O$2)=O$2)),O$1,-100))","v":234.375},{"$f":"IF('Ceiling Speaker Calculator'!$C$29=\"Square\",P$1,IF(OR(AND(ODD($A51)=$A51,ODD(P$2)=P$2),AND(EVEN($A51)=$A51,EVEN(P$2)=P$2)),P$1,-100))","v":253.125},{"$f":"IF('Ceiling Speaker Calculator'!$C$29=\"Square\",Q$1,IF(OR(AND(ODD($A51)=$A51,ODD(Q$2)=Q$2),AND(EVEN($A51)=$A51,EVEN(Q$2)=Q$2)),Q$1,-100))","v":271.875},{"$f":"IF('Ceiling Speaker Calculator'!$C$29=\"Square\",R$1,IF(OR(AND(ODD($A51)=$A51,ODD(R$2)=R$2),AND(EVEN($A51)=$A51,EVEN(R$2)=R$2)),R$1,-100))","v":290.625},{"$f":"IF('Ceiling Speaker Calculator'!$C$29=\"Square\",S$1,IF(OR(AND(ODD($A51)=$A51,ODD(S$2)=S$2),AND(EVEN($A51)=$A51,EVEN(S$2)=S$2)),S$1,-100))","v":309.375},{"$f":"IF('Ceiling Speaker Calculator'!$C$29=\"Square\",T$1,IF(OR(AND(ODD($A51)=$A51,ODD(T$2)=T$2),AND(EVEN($A51)=$A51,EVEN(T$2)=T$2)),T$1,-100))","v":328.125},{"$f":"IF('Ceiling Speaker Calculator'!$C$29=\"Square\",U$1,IF(OR(AND(ODD($A51)=$A51,ODD(U$2)=U$2),AND(EVEN($A51)=$A51,EVEN(U$2)=U$2)),U$1,-100))","v":346.875},{"$f":"IF('Ceiling Speaker Calculator'!$C$29=\"Square\",V$1,IF(OR(AND(ODD($A51)=$A51,ODD(V$2)=V$2),AND(EVEN($A51)=$A51,EVEN(V$2)=V$2)),V$1,-100))","v":365.625},{"$f":"IF('Ceiling Speaker Calculator'!$C$29=\"Square\",W$1,IF(OR(AND(ODD($A51)=$A51,ODD(W$2)=W$2),AND(EVEN($A51)=$A51,EVEN(W$2)=W$2)),W$1,-100))","v":384.375},{"$f":"IF('Ceiling Speaker Calculator'!$C$29=\"Square\",X$1,IF(OR(AND(ODD($A51)=$A51,ODD(X$2)=X$2),AND(EVEN($A51)=$A51,EVEN(X$2)=X$2)),X$1,-100))","v":403.125},{"$f":"IF('Ceiling Speaker Calculator'!$C$29=\"Square\",Y$1,IF(OR(AND(ODD($A51)=$A51,ODD(Y$2)=Y$2),AND(EVEN($A51)=$A51,EVEN(Y$2)=Y$2)),Y$1,-100))","v":421.875},{"$f":"IF('Ceiling Speaker Calculator'!$C$29=\"Square\",Z$1,IF(OR(AND(ODD($A51)=$A51,ODD(Z$2)=Z$2),AND(EVEN($A51)=$A51,EVEN(Z$2)=Z$2)),Z$1,-100))","v":440.625},{"$f":"IF('Ceiling Speaker Calculator'!$C$29=\"Square\",AA$1,IF(OR(AND(ODD($A51)=$A51,ODD(AA$2)=AA$2),AND(EVEN($A51)=$A51,EVEN(AA$2)=AA$2)),AA$1,-100))","v":459.375},{"$f":"IF('Ceiling Speaker Calculator'!$C$29=\"Square\",AB$1,IF(OR(AND(ODD($A51)=$A51,ODD(AB$2)=AB$2),AND(EVEN($A51)=$A51,EVEN(AB$2)=AB$2)),AB$1,-100))","v":478.125},{"$f":"IF('Ceiling Speaker Calculator'!$C$29=\"Square\",AC$1,IF(OR(AND(ODD($A51)=$A51,ODD(AC$2)=AC$2),AND(EVEN($A51)=$A51,EVEN(AC$2)=AC$2)),AC$1,-100))","v":496.875},{"$f":"IF('Ceiling Speaker Calculator'!$C$29=\"Square\",AD$1,IF(OR(AND(ODD($A51)=$A51,ODD(AD$2)=AD$2),AND(EVEN($A51)=$A51,EVEN(AD$2)=AD$2)),AD$1,-100))","v":515.625},{"$f":"IF('Ceiling Speaker Calculator'!$C$29=\"Square\",AE$1,IF(OR(AND(ODD($A51)=$A51,ODD(AE$2)=AE$2),AND(EVEN($A51)=$A51,EVEN(AE$2)=AE$2)),AE$1,-100))","v":534.375},{"$f":"IF('Ceiling Speaker Calculator'!$C$29=\"Square\",AF$1,IF(OR(AND(ODD($A51)=$A51,ODD(AF$2)=AF$2),AND(EVEN($A51)=$A51,EVEN(AF$2)=AF$2)),AF$1,-100))","v":553.125},{"$f":"IF('Ceiling Speaker Calculator'!$C$29=\"Square\",AG$1,IF(OR(AND(ODD($A51)=$A51,ODD(AG$2)=AG$2),AND(EVEN($A51)=$A51,EVEN(AG$2)=AG$2)),AG$1,-100))","v":571.875},{"$f":"IF('Ceiling Speaker Calculator'!$C$29=\"Square\",AH$1,IF(OR(AND(ODD($A51)=$A51,ODD(AH$2)=AH$2),AND(EVEN($A51)=$A51,EVEN(AH$2)=AH$2)),AH$1,-100))","v":590.625},{"$f":"IF('Ceiling Speaker Calculator'!$C$29=\"Square\",AI$1,IF(OR(AND(ODD($A51)=$A51,ODD(AI$2)=AI$2),AND(EVEN($A51)=$A51,EVEN(AI$2)=AI$2)),AI$1,-100))","v":609.375},{"$f":"IF('Ceiling Speaker Calculator'!$C$29=\"Square\",AJ$1,IF(OR(AND(ODD($A51)=$A51,ODD(AJ$2)=AJ$2),AND(EVEN($A51)=$A51,EVEN(AJ$2)=AJ$2)),AJ$1,-100))","v":628.125},{"$f":"IF('Ceiling Speaker Calculator'!$C$29=\"Square\",AK$1,IF(OR(AND(ODD($A51)=$A51,ODD(AK$2)=AK$2),AND(EVEN($A51)=$A51,EVEN(AK$2)=AK$2)),AK$1,-100))","v":646.875},{"$f":"IF('Ceiling Speaker Calculator'!$C$29=\"Square\",AL$1,IF(OR(AND(ODD($A51)=$A51,ODD(AL$2)=AL$2),AND(EVEN($A51)=$A51,EVEN(AL$2)=AL$2)),AL$1,-100))","v":665.625},{"$f":"IF('Ceiling Speaker Calculator'!$C$29=\"Square\",AM$1,IF(OR(AND(ODD($A51)=$A51,ODD(AM$2)=AM$2),AND(EVEN($A51)=$A51,EVEN(AM$2)=AM$2)),AM$1,-100))","v":684.375},{"$f":"IF('Ceiling Speaker Calculator'!$C$29=\"Square\",AN$1,IF(OR(AND(ODD($A51)=$A51,ODD(AN$2)=AN$2),AND(EVEN($A51)=$A51,EVEN(AN$2)=AN$2)),AN$1,-100))","v":703.125},{"$f":"IF('Ceiling Speaker Calculator'!$C$29=\"Square\",AO$1,IF(OR(AND(ODD($A51)=$A51,ODD(AO$2)=AO$2),AND(EVEN($A51)=$A51,EVEN(AO$2)=AO$2)),AO$1,-100))","v":721.875},{"$f":"IF('Ceiling Speaker Calculator'!$C$29=\"Square\",AP$1,IF(OR(AND(ODD($A51)=$A51,ODD(AP$2)=AP$2),AND(EVEN($A51)=$A51,EVEN(AP$2)=AP$2)),AP$1,-100))","v":740.625},{"$f":"IF('Ceiling Speaker Calculator'!$C$29=\"Square\",AQ$1,IF(OR(AND(ODD($A51)=$A51,ODD(AQ$2)=AQ$2),AND(EVEN($A51)=$A51,EVEN(AQ$2)=AQ$2)),AQ$1,-100))","v":759.375},{"$f":"IF('Ceiling Speaker Calculator'!$C$29=\"Square\",AR$1,IF(OR(AND(ODD($A51)=$A51,ODD(AR$2)=AR$2),AND(EVEN($A51)=$A51,EVEN(AR$2)=AR$2)),AR$1,-100))","v":778.125},{"$f":"IF('Ceiling Speaker Calculator'!$C$29=\"Square\",AS$1,IF(OR(AND(ODD($A51)=$A51,ODD(AS$2)=AS$2),AND(EVEN($A51)=$A51,EVEN(AS$2)=AS$2)),AS$1,-100))","v":796.875},{"$f":"IF('Ceiling Speaker Calculator'!$C$29=\"Square\",AT$1,IF(OR(AND(ODD($A51)=$A51,ODD(AT$2)=AT$2),AND(EVEN($A51)=$A51,EVEN(AT$2)=AT$2)),AT$1,-100))","v":815.625},{"$f":"IF('Ceiling Speaker Calculator'!$C$29=\"Square\",AU$1,IF(OR(AND(ODD($A51)=$A51,ODD(AU$2)=AU$2),AND(EVEN($A51)=$A51,EVEN(AU$2)=AU$2)),AU$1,-100))","v":834.375},{"$f":"IF('Ceiling Speaker Calculator'!$C$29=\"Square\",AV$1,IF(OR(AND(ODD($A51)=$A51,ODD(AV$2)=AV$2),AND(EVEN($A51)=$A51,EVEN(AV$2)=AV$2)),AV$1,-100))","v":853.125},{"$f":"IF('Ceiling Speaker Calculator'!$C$29=\"Square\",AW$1,IF(OR(AND(ODD($A51)=$A51,ODD(AW$2)=AW$2),AND(EVEN($A51)=$A51,EVEN(AW$2)=AW$2)),AW$1,-100))","v":871.875},{"$f":"IF('Ceiling Speaker Calculator'!$C$29=\"Square\",AX$1,IF(OR(AND(ODD($A51)=$A51,ODD(AX$2)=AX$2),AND(EVEN($A51)=$A51,EVEN(AX$2)=AX$2)),AX$1,-100))","v":890.625},{"$f":"IF('Ceiling Speaker Calculator'!$C$29=\"Square\",AY$1,IF(OR(AND(ODD($A51)=$A51,ODD(AY$2)=AY$2),AND(EVEN($A51)=$A51,EVEN(AY$2)=AY$2)),AY$1,-100))","v":909.375},{"$f":"IF('Ceiling Speaker Calculator'!$C$29=\"Square\",AZ$1,IF(OR(AND(ODD($A51)=$A51,ODD(AZ$2)=AZ$2),AND(EVEN($A51)=$A51,EVEN(AZ$2)=AZ$2)),AZ$1,-100))","v":928.125},{"$f":"IF('Ceiling Speaker Calculator'!$C$29=\"Square\",BA$1,IF(OR(AND(ODD($A51)=$A51,ODD(BA$2)=BA$2),AND(EVEN($A51)=$A51,EVEN(BA$2)=BA$2)),BA$1,-100))","v":946.875},{"$f":"IF('Ceiling Speaker Calculator'!$C$29=\"Square\",BB$1,IF(OR(AND(ODD($A51)=$A51,ODD(BB$2)=BB$2),AND(EVEN($A51)=$A51,EVEN(BB$2)=BB$2)),BB$1,-100))","v":965.625},{"$f":"IF('Ceiling Speaker Calculator'!$C$29=\"Square\",BC$1,IF(OR(AND(ODD($A51)=$A51,ODD(BC$2)=BC$2),AND(EVEN($A51)=$A51,EVEN(BC$2)=BC$2)),BC$1,-100))","v":984.375},{"$f":"IF('Ceiling Speaker Calculator'!$C$29=\"Square\",BD$1,IF(OR(AND(ODD($A51)=$A51,ODD(BD$2)=BD$2),AND(EVEN($A51)=$A51,EVEN(BD$2)=BD$2)),BD$1,-100))","v":1003.125},{"$f":"IF('Ceiling Speaker Calculator'!$C$29=\"Square\",BE$1,IF(OR(AND(ODD($A51)=$A51,ODD(BE$2)=BE$2),AND(EVEN($A51)=$A51,EVEN(BE$2)=BE$2)),BE$1,-100))","v":1021.875},{"$f":"IF('Ceiling Speaker Calculator'!$C$29=\"Square\",BF$1,IF(OR(AND(ODD($A51)=$A51,ODD(BF$2)=BF$2),AND(EVEN($A51)=$A51,EVEN(BF$2)=BF$2)),BF$1,-100))","v":1040.625},{"$f":"IF('Ceiling Speaker Calculator'!$C$29=\"Square\",BG$1,IF(OR(AND(ODD($A51)=$A51,ODD(BG$2)=BG$2),AND(EVEN($A51)=$A51,EVEN(BG$2)=BG$2)),BG$1,-100))","v":1059.375},{"$f":"IF('Ceiling Speaker Calculator'!$C$29=\"Square\",BH$1,IF(OR(AND(ODD($A51)=$A51,ODD(BH$2)=BH$2),AND(EVEN($A51)=$A51,EVEN(BH$2)=BH$2)),BH$1,-100))","v":1078.125},{"$f":"IF('Ceiling Speaker Calculator'!$C$29=\"Square\",BI$1,IF(OR(AND(ODD($A51)=$A51,ODD(BI$2)=BI$2),AND(EVEN($A51)=$A51,EVEN(BI$2)=BI$2)),BI$1,-100))","v":1096.875},{"$f":"IF('Ceiling Speaker Calculator'!$C$29=\"Square\",BJ$1,IF(OR(AND(ODD($A51)=$A51,ODD(BJ$2)=BJ$2),AND(EVEN($A51)=$A51,EVEN(BJ$2)=BJ$2)),BJ$1,-100))","v":1115.625},{"$f":"IF('Ceiling Speaker Calculator'!$C$29=\"Square\",BK$1,IF(OR(AND(ODD($A51)=$A51,ODD(BK$2)=BK$2),AND(EVEN($A51)=$A51,EVEN(BK$2)=BK$2)),BK$1,-100))","v":1134.375},{"$f":"IF('Ceiling Speaker Calculator'!$C$29=\"Square\",BL$1,IF(OR(AND(ODD($A51)=$A51,ODD(BL$2)=BL$2),AND(EVEN($A51)=$A51,EVEN(BL$2)=BL$2)),BL$1,-100))","v":1153.125},{"$f":"IF('Ceiling Speaker Calculator'!$C$29=\"Square\",BM$1,IF(OR(AND(ODD($A51)=$A51,ODD(BM$2)=BM$2),AND(EVEN($A51)=$A51,EVEN(BM$2)=BM$2)),BM$1,-100))","v":1171.875},{"$f":"IF('Ceiling Speaker Calculator'!$C$29=\"Square\",BN$1,IF(OR(AND(ODD($A51)=$A51,ODD(BN$2)=BN$2),AND(EVEN($A51)=$A51,EVEN(BN$2)=BN$2)),BN$1,-100))","v":1190.625},{"$f":"IF('Ceiling Speaker Calculator'!$C$29=\"Square\",BO$1,IF(OR(AND(ODD($A51)=$A51,ODD(BO$2)=BO$2),AND(EVEN($A51)=$A51,EVEN(BO$2)=BO$2)),BO$1,-100))","v":1209.375},{"$f":"IF('Ceiling Speaker Calculator'!$C$29=\"Square\",BP$1,IF(OR(AND(ODD($A51)=$A51,ODD(BP$2)=BP$2),AND(EVEN($A51)=$A51,EVEN(BP$2)=BP$2)),BP$1,-100))","v":1228.125},{"$f":"IF('Ceiling Speaker Calculator'!$C$29=\"Square\",BQ$1,IF(OR(AND(ODD($A51)=$A51,ODD(BQ$2)=BQ$2),AND(EVEN($A51)=$A51,EVEN(BQ$2)=BQ$2)),BQ$1,-100))","v":1246.875},{"$f":"IF('Ceiling Speaker Calculator'!$C$29=\"Square\",BR$1,IF(OR(AND(ODD($A51)=$A51,ODD(BR$2)=BR$2),AND(EVEN($A51)=$A51,EVEN(BR$2)=BR$2)),BR$1,-100))","v":1265.625},{"$f":"IF('Ceiling Speaker Calculator'!$C$29=\"Square\",BS$1,IF(OR(AND(ODD($A51)=$A51,ODD(BS$2)=BS$2),AND(EVEN($A51)=$A51,EVEN(BS$2)=BS$2)),BS$1,-100))","v":1284.375},{"$f":"IF('Ceiling Speaker Calculator'!$C$29=\"Square\",BT$1,IF(OR(AND(ODD($A51)=$A51,ODD(BT$2)=BT$2),AND(EVEN($A51)=$A51,EVEN(BT$2)=BT$2)),BT$1,-100))","v":1303.125},{"$f":"IF('Ceiling Speaker Calculator'!$C$29=\"Square\",BU$1,IF(OR(AND(ODD($A51)=$A51,ODD(BU$2)=BU$2),AND(EVEN($A51)=$A51,EVEN(BU$2)=BU$2)),BU$1,-100))","v":1321.875},{"$f":"IF('Ceiling Speaker Calculator'!$C$29=\"Square\",BV$1,IF(OR(AND(ODD($A51)=$A51,ODD(BV$2)=BV$2),AND(EVEN($A51)=$A51,EVEN(BV$2)=BV$2)),BV$1,-100))","v":1340.625},{"$f":"IF('Ceiling Speaker Calculator'!$C$29=\"Square\",BW$1,IF(OR(AND(ODD($A51)=$A51,ODD(BW$2)=BW$2),AND(EVEN($A51)=$A51,EVEN(BW$2)=BW$2)),BW$1,-100))","v":1359.375},{"$f":"IF('Ceiling Speaker Calculator'!$C$29=\"Square\",BX$1,IF(OR(AND(ODD($A51)=$A51,ODD(BX$2)=BX$2),AND(EVEN($A51)=$A51,EVEN(BX$2)=BX$2)),BX$1,-100))","v":1378.125},{"$f":"IF('Ceiling Speaker Calculator'!$C$29=\"Square\",BY$1,IF(OR(AND(ODD($A51)=$A51,ODD(BY$2)=BY$2),AND(EVEN($A51)=$A51,EVEN(BY$2)=BY$2)),BY$1,-100))","v":1396.875},{"$f":"IF('Ceiling Speaker Calculator'!$C$29=\"Square\",BZ$1,IF(OR(AND(ODD($A51)=$A51,ODD(BZ$2)=BZ$2),AND(EVEN($A51)=$A51,EVEN(BZ$2)=BZ$2)),BZ$1,-100))","v":1415.625},{"$f":"IF('Ceiling Speaker Calculator'!$C$29=\"Square\",CA$1,IF(OR(AND(ODD($A51)=$A51,ODD(CA$2)=CA$2),AND(EVEN($A51)=$A51,EVEN(CA$2)=CA$2)),CA$1,-100))","v":1434.375},{"$f":"IF('Ceiling Speaker Calculator'!$C$29=\"Square\",CB$1,IF(OR(AND(ODD($A51)=$A51,ODD(CB$2)=CB$2),AND(EVEN($A51)=$A51,EVEN(CB$2)=CB$2)),CB$1,-100))","v":1453.125},{"$f":"IF('Ceiling Speaker Calculator'!$C$29=\"Square\",CC$1,IF(OR(AND(ODD($A51)=$A51,ODD(CC$2)=CC$2),AND(EVEN($A51)=$A51,EVEN(CC$2)=CC$2)),CC$1,-100))","v":1471.875},{"$f":"IF('Ceiling Speaker Calculator'!$C$29=\"Square\",CD$1,IF(OR(AND(ODD($A51)=$A51,ODD(CD$2)=CD$2),AND(EVEN($A51)=$A51,EVEN(CD$2)=CD$2)),CD$1,-100))","v":1490.625},{"$f":"IF('Ceiling Speaker Calculator'!$C$29=\"Square\",CE$1,IF(OR(AND(ODD($A51)=$A51,ODD(CE$2)=CE$2),AND(EVEN($A51)=$A51,EVEN(CE$2)=CE$2)),CE$1,-100))","v":1509.375},{"$f":"IF('Ceiling Speaker Calculator'!$C$29=\"Square\",CF$1,IF(OR(AND(ODD($A51)=$A51,ODD(CF$2)=CF$2),AND(EVEN($A51)=$A51,EVEN(CF$2)=CF$2)),CF$1,-100))","v":1528.125},{"$f":"IF('Ceiling Speaker Calculator'!$C$29=\"Square\",CG$1,IF(OR(AND(ODD($A51)=$A51,ODD(CG$2)=CG$2),AND(EVEN($A51)=$A51,EVEN(CG$2)=CG$2)),CG$1,-100))","v":1546.875},{"$f":"IF('Ceiling Speaker Calculator'!$C$29=\"Square\",CH$1,IF(OR(AND(ODD($A51)=$A51,ODD(CH$2)=CH$2),AND(EVEN($A51)=$A51,EVEN(CH$2)=CH$2)),CH$1,-100))","v":1565.625},{"$f":"IF('Ceiling Speaker Calculator'!$C$29=\"Square\",CI$1,IF(OR(AND(ODD($A51)=$A51,ODD(CI$2)=CI$2),AND(EVEN($A51)=$A51,EVEN(CI$2)=CI$2)),CI$1,-100))","v":1584.375},{"$f":"IF('Ceiling Speaker Calculator'!$C$29=\"Square\",CJ$1,IF(OR(AND(ODD($A51)=$A51,ODD(CJ$2)=CJ$2),AND(EVEN($A51)=$A51,EVEN(CJ$2)=CJ$2)),CJ$1,-100))","v":1603.125},{"$f":"IF('Ceiling Speaker Calculator'!$C$29=\"Square\",CK$1,IF(OR(AND(ODD($A51)=$A51,ODD(CK$2)=CK$2),AND(EVEN($A51)=$A51,EVEN(CK$2)=CK$2)),CK$1,-100))","v":1621.875},{"$f":"IF('Ceiling Speaker Calculator'!$C$29=\"Square\",CL$1,IF(OR(AND(ODD($A51)=$A51,ODD(CL$2)=CL$2),AND(EVEN($A51)=$A51,EVEN(CL$2)=CL$2)),CL$1,-100))","v":1640.625},{"$f":"IF('Ceiling Speaker Calculator'!$C$29=\"Square\",CM$1,IF(OR(AND(ODD($A51)=$A51,ODD(CM$2)=CM$2),AND(EVEN($A51)=$A51,EVEN(CM$2)=CM$2)),CM$1,-100))","v":1659.375},{"$f":"IF('Ceiling Speaker Calculator'!$C$29=\"Square\",CN$1,IF(OR(AND(ODD($A51)=$A51,ODD(CN$2)=CN$2),AND(EVEN($A51)=$A51,EVEN(CN$2)=CN$2)),CN$1,-100))","v":1678.125},{"$f":"IF('Ceiling Speaker Calculator'!$C$29=\"Square\",CO$1,IF(OR(AND(ODD($A51)=$A51,ODD(CO$2)=CO$2),AND(EVEN($A51)=$A51,EVEN(CO$2)=CO$2)),CO$1,-100))","v":1696.875},{"$f":"IF('Ceiling Speaker Calculator'!$C$29=\"Square\",CP$1,IF(OR(AND(ODD($A51)=$A51,ODD(CP$2)=CP$2),AND(EVEN($A51)=$A51,EVEN(CP$2)=CP$2)),CP$1,-100))","v":1715.625},{"$f":"IF('Ceiling Speaker Calculator'!$C$29=\"Square\",CQ$1,IF(OR(AND(ODD($A51)=$A51,ODD(CQ$2)=CQ$2),AND(EVEN($A51)=$A51,EVEN(CQ$2)=CQ$2)),CQ$1,-100))","v":1734.375},{"$f":"IF('Ceiling Speaker Calculator'!$C$29=\"Square\",CR$1,IF(OR(AND(ODD($A51)=$A51,ODD(CR$2)=CR$2),AND(EVEN($A51)=$A51,EVEN(CR$2)=CR$2)),CR$1,-100))","v":1753.125},{"$f":"IF('Ceiling Speaker Calculator'!$C$29=\"Square\",CS$1,IF(OR(AND(ODD($A51)=$A51,ODD(CS$2)=CS$2),AND(EVEN($A51)=$A51,EVEN(CS$2)=CS$2)),CS$1,-100))","v":1771.875},{"$f":"IF('Ceiling Speaker Calculator'!$C$29=\"Square\",CT$1,IF(OR(AND(ODD($A51)=$A51,ODD(CT$2)=CT$2),AND(EVEN($A51)=$A51,EVEN(CT$2)=CT$2)),CT$1,-100))","v":1790.625},{"$f":"IF('Ceiling Speaker Calculator'!$C$29=\"Square\",CU$1,IF(OR(AND(ODD($A51)=$A51,ODD(CU$2)=CU$2),AND(EVEN($A51)=$A51,EVEN(CU$2)=CU$2)),CU$1,-100))","v":1809.375},{"$f":"IF('Ceiling Speaker Calculator'!$C$29=\"Square\",CV$1,IF(OR(AND(ODD($A51)=$A51,ODD(CV$2)=CV$2),AND(EVEN($A51)=$A51,EVEN(CV$2)=CV$2)),CV$1,-100))","v":1828.125},{"$f":"IF('Ceiling Speaker Calculator'!$C$29=\"Square\",CW$1,IF(OR(AND(ODD($A51)=$A51,ODD(CW$2)=CW$2),AND(EVEN($A51)=$A51,EVEN(CW$2)=CW$2)),CW$1,-100))","v":1846.875},{"$f":"IF('Ceiling Speaker Calculator'!$C$29=\"Square\",CX$1,IF(OR(AND(ODD($A51)=$A51,ODD(CX$2)=CX$2),AND(EVEN($A51)=$A51,EVEN(CX$2)=CX$2)),CX$1,-100))","v":1865.625}]
[50,{"$f":"B51+'Ceiling Speaker Calculator'!$K$16","v":990},{"$f":"IF('Ceiling Speaker Calculator'!$C$29=\"Square\",C$1,IF(OR(AND(ODD($A52)=$A52,ODD(C$2)=C$2),AND(EVEN($A52)=$A52,EVEN(C$2)=C$2)),C$1,-100))","v":9.375},{"$f":"IF('Ceiling Speaker Calculator'!$C$29=\"Square\",D$1,IF(OR(AND(ODD($A52)=$A52,ODD(D$2)=D$2),AND(EVEN($A52)=$A52,EVEN(D$2)=D$2)),D$1,-100))","v":28.125},{"$f":"IF('Ceiling Speaker Calculator'!$C$29=\"Square\",E$1,IF(OR(AND(ODD($A52)=$A52,ODD(E$2)=E$2),AND(EVEN($A52)=$A52,EVEN(E$2)=E$2)),E$1,-100))","v":46.875},{"$f":"IF('Ceiling Speaker Calculator'!$C$29=\"Square\",F$1,IF(OR(AND(ODD($A52)=$A52,ODD(F$2)=F$2),AND(EVEN($A52)=$A52,EVEN(F$2)=F$2)),F$1,-100))","v":65.625},{"$f":"IF('Ceiling Speaker Calculator'!$C$29=\"Square\",G$1,IF(OR(AND(ODD($A52)=$A52,ODD(G$2)=G$2),AND(EVEN($A52)=$A52,EVEN(G$2)=G$2)),G$1,-100))","v":84.375},{"$f":"IF('Ceiling Speaker Calculator'!$C$29=\"Square\",H$1,IF(OR(AND(ODD($A52)=$A52,ODD(H$2)=H$2),AND(EVEN($A52)=$A52,EVEN(H$2)=H$2)),H$1,-100))","v":103.125},{"$f":"IF('Ceiling Speaker Calculator'!$C$29=\"Square\",I$1,IF(OR(AND(ODD($A52)=$A52,ODD(I$2)=I$2),AND(EVEN($A52)=$A52,EVEN(I$2)=I$2)),I$1,-100))","v":121.875},{"$f":"IF('Ceiling Speaker Calculator'!$C$29=\"Square\",J$1,IF(OR(AND(ODD($A52)=$A52,ODD(J$2)=J$2),AND(EVEN($A52)=$A52,EVEN(J$2)=J$2)),J$1,-100))","v":140.625},{"$f":"IF('Ceiling Speaker Calculator'!$C$29=\"Square\",K$1,IF(OR(AND(ODD($A52)=$A52,ODD(K$2)=K$2),AND(EVEN($A52)=$A52,EVEN(K$2)=K$2)),K$1,-100))","v":159.375},{"$f":"IF('Ceiling Speaker Calculator'!$C$29=\"Square\",L$1,IF(OR(AND(ODD($A52)=$A52,ODD(L$2)=L$2),AND(EVEN($A52)=$A52,EVEN(L$2)=L$2)),L$1,-100))","v":178.125},{"$f":"IF('Ceiling Speaker Calculator'!$C$29=\"Square\",M$1,IF(OR(AND(ODD($A52)=$A52,ODD(M$2)=M$2),AND(EVEN($A52)=$A52,EVEN(M$2)=M$2)),M$1,-100))","v":196.875},{"$f":"IF('Ceiling Speaker Calculator'!$C$29=\"Square\",N$1,IF(OR(AND(ODD($A52)=$A52,ODD(N$2)=N$2),AND(EVEN($A52)=$A52,EVEN(N$2)=N$2)),N$1,-100))","v":215.625},{"$f":"IF('Ceiling Speaker Calculator'!$C$29=\"Square\",O$1,IF(OR(AND(ODD($A52)=$A52,ODD(O$2)=O$2),AND(EVEN($A52)=$A52,EVEN(O$2)=O$2)),O$1,-100))","v":234.375},{"$f":"IF('Ceiling Speaker Calculator'!$C$29=\"Square\",P$1,IF(OR(AND(ODD($A52)=$A52,ODD(P$2)=P$2),AND(EVEN($A52)=$A52,EVEN(P$2)=P$2)),P$1,-100))","v":253.125},{"$f":"IF('Ceiling Speaker Calculator'!$C$29=\"Square\",Q$1,IF(OR(AND(ODD($A52)=$A52,ODD(Q$2)=Q$2),AND(EVEN($A52)=$A52,EVEN(Q$2)=Q$2)),Q$1,-100))","v":271.875},{"$f":"IF('Ceiling Speaker Calculator'!$C$29=\"Square\",R$1,IF(OR(AND(ODD($A52)=$A52,ODD(R$2)=R$2),AND(EVEN($A52)=$A52,EVEN(R$2)=R$2)),R$1,-100))","v":290.625},{"$f":"IF('Ceiling Speaker Calculator'!$C$29=\"Square\",S$1,IF(OR(AND(ODD($A52)=$A52,ODD(S$2)=S$2),AND(EVEN($A52)=$A52,EVEN(S$2)=S$2)),S$1,-100))","v":309.375},{"$f":"IF('Ceiling Speaker Calculator'!$C$29=\"Square\",T$1,IF(OR(AND(ODD($A52)=$A52,ODD(T$2)=T$2),AND(EVEN($A52)=$A52,EVEN(T$2)=T$2)),T$1,-100))","v":328.125},{"$f":"IF('Ceiling Speaker Calculator'!$C$29=\"Square\",U$1,IF(OR(AND(ODD($A52)=$A52,ODD(U$2)=U$2),AND(EVEN($A52)=$A52,EVEN(U$2)=U$2)),U$1,-100))","v":346.875},{"$f":"IF('Ceiling Speaker Calculator'!$C$29=\"Square\",V$1,IF(OR(AND(ODD($A52)=$A52,ODD(V$2)=V$2),AND(EVEN($A52)=$A52,EVEN(V$2)=V$2)),V$1,-100))","v":365.625},{"$f":"IF('Ceiling Speaker Calculator'!$C$29=\"Square\",W$1,IF(OR(AND(ODD($A52)=$A52,ODD(W$2)=W$2),AND(EVEN($A52)=$A52,EVEN(W$2)=W$2)),W$1,-100))","v":384.375},{"$f":"IF('Ceiling Speaker Calculator'!$C$29=\"Square\",X$1,IF(OR(AND(ODD($A52)=$A52,ODD(X$2)=X$2),AND(EVEN($A52)=$A52,EVEN(X$2)=X$2)),X$1,-100))","v":403.125},{"$f":"IF('Ceiling Speaker Calculator'!$C$29=\"Square\",Y$1,IF(OR(AND(ODD($A52)=$A52,ODD(Y$2)=Y$2),AND(EVEN($A52)=$A52,EVEN(Y$2)=Y$2)),Y$1,-100))","v":421.875},{"$f":"IF('Ceiling Speaker Calculator'!$C$29=\"Square\",Z$1,IF(OR(AND(ODD($A52)=$A52,ODD(Z$2)=Z$2),AND(EVEN($A52)=$A52,EVEN(Z$2)=Z$2)),Z$1,-100))","v":440.625},{"$f":"IF('Ceiling Speaker Calculator'!$C$29=\"Square\",AA$1,IF(OR(AND(ODD($A52)=$A52,ODD(AA$2)=AA$2),AND(EVEN($A52)=$A52,EVEN(AA$2)=AA$2)),AA$1,-100))","v":459.375},{"$f":"IF('Ceiling Speaker Calculator'!$C$29=\"Square\",AB$1,IF(OR(AND(ODD($A52)=$A52,ODD(AB$2)=AB$2),AND(EVEN($A52)=$A52,EVEN(AB$2)=AB$2)),AB$1,-100))","v":478.125},{"$f":"IF('Ceiling Speaker Calculator'!$C$29=\"Square\",AC$1,IF(OR(AND(ODD($A52)=$A52,ODD(AC$2)=AC$2),AND(EVEN($A52)=$A52,EVEN(AC$2)=AC$2)),AC$1,-100))","v":496.875},{"$f":"IF('Ceiling Speaker Calculator'!$C$29=\"Square\",AD$1,IF(OR(AND(ODD($A52)=$A52,ODD(AD$2)=AD$2),AND(EVEN($A52)=$A52,EVEN(AD$2)=AD$2)),AD$1,-100))","v":515.625},{"$f":"IF('Ceiling Speaker Calculator'!$C$29=\"Square\",AE$1,IF(OR(AND(ODD($A52)=$A52,ODD(AE$2)=AE$2),AND(EVEN($A52)=$A52,EVEN(AE$2)=AE$2)),AE$1,-100))","v":534.375},{"$f":"IF('Ceiling Speaker Calculator'!$C$29=\"Square\",AF$1,IF(OR(AND(ODD($A52)=$A52,ODD(AF$2)=AF$2),AND(EVEN($A52)=$A52,EVEN(AF$2)=AF$2)),AF$1,-100))","v":553.125},{"$f":"IF('Ceiling Speaker Calculator'!$C$29=\"Square\",AG$1,IF(OR(AND(ODD($A52)=$A52,ODD(AG$2)=AG$2),AND(EVEN($A52)=$A52,EVEN(AG$2)=AG$2)),AG$1,-100))","v":571.875},{"$f":"IF('Ceiling Speaker Calculator'!$C$29=\"Square\",AH$1,IF(OR(AND(ODD($A52)=$A52,ODD(AH$2)=AH$2),AND(EVEN($A52)=$A52,EVEN(AH$2)=AH$2)),AH$1,-100))","v":590.625},{"$f":"IF('Ceiling Speaker Calculator'!$C$29=\"Square\",AI$1,IF(OR(AND(ODD($A52)=$A52,ODD(AI$2)=AI$2),AND(EVEN($A52)=$A52,EVEN(AI$2)=AI$2)),AI$1,-100))","v":609.375},{"$f":"IF('Ceiling Speaker Calculator'!$C$29=\"Square\",AJ$1,IF(OR(AND(ODD($A52)=$A52,ODD(AJ$2)=AJ$2),AND(EVEN($A52)=$A52,EVEN(AJ$2)=AJ$2)),AJ$1,-100))","v":628.125},{"$f":"IF('Ceiling Speaker Calculator'!$C$29=\"Square\",AK$1,IF(OR(AND(ODD($A52)=$A52,ODD(AK$2)=AK$2),AND(EVEN($A52)=$A52,EVEN(AK$2)=AK$2)),AK$1,-100))","v":646.875},{"$f":"IF('Ceiling Speaker Calculator'!$C$29=\"Square\",AL$1,IF(OR(AND(ODD($A52)=$A52,ODD(AL$2)=AL$2),AND(EVEN($A52)=$A52,EVEN(AL$2)=AL$2)),AL$1,-100))","v":665.625},{"$f":"IF('Ceiling Speaker Calculator'!$C$29=\"Square\",AM$1,IF(OR(AND(ODD($A52)=$A52,ODD(AM$2)=AM$2),AND(EVEN($A52)=$A52,EVEN(AM$2)=AM$2)),AM$1,-100))","v":684.375},{"$f":"IF('Ceiling Speaker Calculator'!$C$29=\"Square\",AN$1,IF(OR(AND(ODD($A52)=$A52,ODD(AN$2)=AN$2),AND(EVEN($A52)=$A52,EVEN(AN$2)=AN$2)),AN$1,-100))","v":703.125},{"$f":"IF('Ceiling Speaker Calculator'!$C$29=\"Square\",AO$1,IF(OR(AND(ODD($A52)=$A52,ODD(AO$2)=AO$2),AND(EVEN($A52)=$A52,EVEN(AO$2)=AO$2)),AO$1,-100))","v":721.875},{"$f":"IF('Ceiling Speaker Calculator'!$C$29=\"Square\",AP$1,IF(OR(AND(ODD($A52)=$A52,ODD(AP$2)=AP$2),AND(EVEN($A52)=$A52,EVEN(AP$2)=AP$2)),AP$1,-100))","v":740.625},{"$f":"IF('Ceiling Speaker Calculator'!$C$29=\"Square\",AQ$1,IF(OR(AND(ODD($A52)=$A52,ODD(AQ$2)=AQ$2),AND(EVEN($A52)=$A52,EVEN(AQ$2)=AQ$2)),AQ$1,-100))","v":759.375},{"$f":"IF('Ceiling Speaker Calculator'!$C$29=\"Square\",AR$1,IF(OR(AND(ODD($A52)=$A52,ODD(AR$2)=AR$2),AND(EVEN($A52)=$A52,EVEN(AR$2)=AR$2)),AR$1,-100))","v":778.125},{"$f":"IF('Ceiling Speaker Calculator'!$C$29=\"Square\",AS$1,IF(OR(AND(ODD($A52)=$A52,ODD(AS$2)=AS$2),AND(EVEN($A52)=$A52,EVEN(AS$2)=AS$2)),AS$1,-100))","v":796.875},{"$f":"IF('Ceiling Speaker Calculator'!$C$29=\"Square\",AT$1,IF(OR(AND(ODD($A52)=$A52,ODD(AT$2)=AT$2),AND(EVEN($A52)=$A52,EVEN(AT$2)=AT$2)),AT$1,-100))","v":815.625},{"$f":"IF('Ceiling Speaker Calculator'!$C$29=\"Square\",AU$1,IF(OR(AND(ODD($A52)=$A52,ODD(AU$2)=AU$2),AND(EVEN($A52)=$A52,EVEN(AU$2)=AU$2)),AU$1,-100))","v":834.375},{"$f":"IF('Ceiling Speaker Calculator'!$C$29=\"Square\",AV$1,IF(OR(AND(ODD($A52)=$A52,ODD(AV$2)=AV$2),AND(EVEN($A52)=$A52,EVEN(AV$2)=AV$2)),AV$1,-100))","v":853.125},{"$f":"IF('Ceiling Speaker Calculator'!$C$29=\"Square\",AW$1,IF(OR(AND(ODD($A52)=$A52,ODD(AW$2)=AW$2),AND(EVEN($A52)=$A52,EVEN(AW$2)=AW$2)),AW$1,-100))","v":871.875},{"$f":"IF('Ceiling Speaker Calculator'!$C$29=\"Square\",AX$1,IF(OR(AND(ODD($A52)=$A52,ODD(AX$2)=AX$2),AND(EVEN($A52)=$A52,EVEN(AX$2)=AX$2)),AX$1,-100))","v":890.625},{"$f":"IF('Ceiling Speaker Calculator'!$C$29=\"Square\",AY$1,IF(OR(AND(ODD($A52)=$A52,ODD(AY$2)=AY$2),AND(EVEN($A52)=$A52,EVEN(AY$2)=AY$2)),AY$1,-100))","v":909.375},{"$f":"IF('Ceiling Speaker Calculator'!$C$29=\"Square\",AZ$1,IF(OR(AND(ODD($A52)=$A52,ODD(AZ$2)=AZ$2),AND(EVEN($A52)=$A52,EVEN(AZ$2)=AZ$2)),AZ$1,-100))","v":928.125},{"$f":"IF('Ceiling Speaker Calculator'!$C$29=\"Square\",BA$1,IF(OR(AND(ODD($A52)=$A52,ODD(BA$2)=BA$2),AND(EVEN($A52)=$A52,EVEN(BA$2)=BA$2)),BA$1,-100))","v":946.875},{"$f":"IF('Ceiling Speaker Calculator'!$C$29=\"Square\",BB$1,IF(OR(AND(ODD($A52)=$A52,ODD(BB$2)=BB$2),AND(EVEN($A52)=$A52,EVEN(BB$2)=BB$2)),BB$1,-100))","v":965.625},{"$f":"IF('Ceiling Speaker Calculator'!$C$29=\"Square\",BC$1,IF(OR(AND(ODD($A52)=$A52,ODD(BC$2)=BC$2),AND(EVEN($A52)=$A52,EVEN(BC$2)=BC$2)),BC$1,-100))","v":984.375},{"$f":"IF('Ceiling Speaker Calculator'!$C$29=\"Square\",BD$1,IF(OR(AND(ODD($A52)=$A52,ODD(BD$2)=BD$2),AND(EVEN($A52)=$A52,EVEN(BD$2)=BD$2)),BD$1,-100))","v":1003.125},{"$f":"IF('Ceiling Speaker Calculator'!$C$29=\"Square\",BE$1,IF(OR(AND(ODD($A52)=$A52,ODD(BE$2)=BE$2),AND(EVEN($A52)=$A52,EVEN(BE$2)=BE$2)),BE$1,-100))","v":1021.875},{"$f":"IF('Ceiling Speaker Calculator'!$C$29=\"Square\",BF$1,IF(OR(AND(ODD($A52)=$A52,ODD(BF$2)=BF$2),AND(EVEN($A52)=$A52,EVEN(BF$2)=BF$2)),BF$1,-100))","v":1040.625},{"$f":"IF('Ceiling Speaker Calculator'!$C$29=\"Square\",BG$1,IF(OR(AND(ODD($A52)=$A52,ODD(BG$2)=BG$2),AND(EVEN($A52)=$A52,EVEN(BG$2)=BG$2)),BG$1,-100))","v":1059.375},{"$f":"IF('Ceiling Speaker Calculator'!$C$29=\"Square\",BH$1,IF(OR(AND(ODD($A52)=$A52,ODD(BH$2)=BH$2),AND(EVEN($A52)=$A52,EVEN(BH$2)=BH$2)),BH$1,-100))","v":1078.125},{"$f":"IF('Ceiling Speaker Calculator'!$C$29=\"Square\",BI$1,IF(OR(AND(ODD($A52)=$A52,ODD(BI$2)=BI$2),AND(EVEN($A52)=$A52,EVEN(BI$2)=BI$2)),BI$1,-100))","v":1096.875},{"$f":"IF('Ceiling Speaker Calculator'!$C$29=\"Square\",BJ$1,IF(OR(AND(ODD($A52)=$A52,ODD(BJ$2)=BJ$2),AND(EVEN($A52)=$A52,EVEN(BJ$2)=BJ$2)),BJ$1,-100))","v":1115.625},{"$f":"IF('Ceiling Speaker Calculator'!$C$29=\"Square\",BK$1,IF(OR(AND(ODD($A52)=$A52,ODD(BK$2)=BK$2),AND(EVEN($A52)=$A52,EVEN(BK$2)=BK$2)),BK$1,-100))","v":1134.375},{"$f":"IF('Ceiling Speaker Calculator'!$C$29=\"Square\",BL$1,IF(OR(AND(ODD($A52)=$A52,ODD(BL$2)=BL$2),AND(EVEN($A52)=$A52,EVEN(BL$2)=BL$2)),BL$1,-100))","v":1153.125},{"$f":"IF('Ceiling Speaker Calculator'!$C$29=\"Square\",BM$1,IF(OR(AND(ODD($A52)=$A52,ODD(BM$2)=BM$2),AND(EVEN($A52)=$A52,EVEN(BM$2)=BM$2)),BM$1,-100))","v":1171.875},{"$f":"IF('Ceiling Speaker Calculator'!$C$29=\"Square\",BN$1,IF(OR(AND(ODD($A52)=$A52,ODD(BN$2)=BN$2),AND(EVEN($A52)=$A52,EVEN(BN$2)=BN$2)),BN$1,-100))","v":1190.625},{"$f":"IF('Ceiling Speaker Calculator'!$C$29=\"Square\",BO$1,IF(OR(AND(ODD($A52)=$A52,ODD(BO$2)=BO$2),AND(EVEN($A52)=$A52,EVEN(BO$2)=BO$2)),BO$1,-100))","v":1209.375},{"$f":"IF('Ceiling Speaker Calculator'!$C$29=\"Square\",BP$1,IF(OR(AND(ODD($A52)=$A52,ODD(BP$2)=BP$2),AND(EVEN($A52)=$A52,EVEN(BP$2)=BP$2)),BP$1,-100))","v":1228.125},{"$f":"IF('Ceiling Speaker Calculator'!$C$29=\"Square\",BQ$1,IF(OR(AND(ODD($A52)=$A52,ODD(BQ$2)=BQ$2),AND(EVEN($A52)=$A52,EVEN(BQ$2)=BQ$2)),BQ$1,-100))","v":1246.875},{"$f":"IF('Ceiling Speaker Calculator'!$C$29=\"Square\",BR$1,IF(OR(AND(ODD($A52)=$A52,ODD(BR$2)=BR$2),AND(EVEN($A52)=$A52,EVEN(BR$2)=BR$2)),BR$1,-100))","v":1265.625},{"$f":"IF('Ceiling Speaker Calculator'!$C$29=\"Square\",BS$1,IF(OR(AND(ODD($A52)=$A52,ODD(BS$2)=BS$2),AND(EVEN($A52)=$A52,EVEN(BS$2)=BS$2)),BS$1,-100))","v":1284.375},{"$f":"IF('Ceiling Speaker Calculator'!$C$29=\"Square\",BT$1,IF(OR(AND(ODD($A52)=$A52,ODD(BT$2)=BT$2),AND(EVEN($A52)=$A52,EVEN(BT$2)=BT$2)),BT$1,-100))","v":1303.125},{"$f":"IF('Ceiling Speaker Calculator'!$C$29=\"Square\",BU$1,IF(OR(AND(ODD($A52)=$A52,ODD(BU$2)=BU$2),AND(EVEN($A52)=$A52,EVEN(BU$2)=BU$2)),BU$1,-100))","v":1321.875},{"$f":"IF('Ceiling Speaker Calculator'!$C$29=\"Square\",BV$1,IF(OR(AND(ODD($A52)=$A52,ODD(BV$2)=BV$2),AND(EVEN($A52)=$A52,EVEN(BV$2)=BV$2)),BV$1,-100))","v":1340.625},{"$f":"IF('Ceiling Speaker Calculator'!$C$29=\"Square\",BW$1,IF(OR(AND(ODD($A52)=$A52,ODD(BW$2)=BW$2),AND(EVEN($A52)=$A52,EVEN(BW$2)=BW$2)),BW$1,-100))","v":1359.375},{"$f":"IF('Ceiling Speaker Calculator'!$C$29=\"Square\",BX$1,IF(OR(AND(ODD($A52)=$A52,ODD(BX$2)=BX$2),AND(EVEN($A52)=$A52,EVEN(BX$2)=BX$2)),BX$1,-100))","v":1378.125},{"$f":"IF('Ceiling Speaker Calculator'!$C$29=\"Square\",BY$1,IF(OR(AND(ODD($A52)=$A52,ODD(BY$2)=BY$2),AND(EVEN($A52)=$A52,EVEN(BY$2)=BY$2)),BY$1,-100))","v":1396.875},{"$f":"IF('Ceiling Speaker Calculator'!$C$29=\"Square\",BZ$1,IF(OR(AND(ODD($A52)=$A52,ODD(BZ$2)=BZ$2),AND(EVEN($A52)=$A52,EVEN(BZ$2)=BZ$2)),BZ$1,-100))","v":1415.625},{"$f":"IF('Ceiling Speaker Calculator'!$C$29=\"Square\",CA$1,IF(OR(AND(ODD($A52)=$A52,ODD(CA$2)=CA$2),AND(EVEN($A52)=$A52,EVEN(CA$2)=CA$2)),CA$1,-100))","v":1434.375},{"$f":"IF('Ceiling Speaker Calculator'!$C$29=\"Square\",CB$1,IF(OR(AND(ODD($A52)=$A52,ODD(CB$2)=CB$2),AND(EVEN($A52)=$A52,EVEN(CB$2)=CB$2)),CB$1,-100))","v":1453.125},{"$f":"IF('Ceiling Speaker Calculator'!$C$29=\"Square\",CC$1,IF(OR(AND(ODD($A52)=$A52,ODD(CC$2)=CC$2),AND(EVEN($A52)=$A52,EVEN(CC$2)=CC$2)),CC$1,-100))","v":1471.875},{"$f":"IF('Ceiling Speaker Calculator'!$C$29=\"Square\",CD$1,IF(OR(AND(ODD($A52)=$A52,ODD(CD$2)=CD$2),AND(EVEN($A52)=$A52,EVEN(CD$2)=CD$2)),CD$1,-100))","v":1490.625},{"$f":"IF('Ceiling Speaker Calculator'!$C$29=\"Square\",CE$1,IF(OR(AND(ODD($A52)=$A52,ODD(CE$2)=CE$2),AND(EVEN($A52)=$A52,EVEN(CE$2)=CE$2)),CE$1,-100))","v":1509.375},{"$f":"IF('Ceiling Speaker Calculator'!$C$29=\"Square\",CF$1,IF(OR(AND(ODD($A52)=$A52,ODD(CF$2)=CF$2),AND(EVEN($A52)=$A52,EVEN(CF$2)=CF$2)),CF$1,-100))","v":1528.125},{"$f":"IF('Ceiling Speaker Calculator'!$C$29=\"Square\",CG$1,IF(OR(AND(ODD($A52)=$A52,ODD(CG$2)=CG$2),AND(EVEN($A52)=$A52,EVEN(CG$2)=CG$2)),CG$1,-100))","v":1546.875},{"$f":"IF('Ceiling Speaker Calculator'!$C$29=\"Square\",CH$1,IF(OR(AND(ODD($A52)=$A52,ODD(CH$2)=CH$2),AND(EVEN($A52)=$A52,EVEN(CH$2)=CH$2)),CH$1,-100))","v":1565.625},{"$f":"IF('Ceiling Speaker Calculator'!$C$29=\"Square\",CI$1,IF(OR(AND(ODD($A52)=$A52,ODD(CI$2)=CI$2),AND(EVEN($A52)=$A52,EVEN(CI$2)=CI$2)),CI$1,-100))","v":1584.375},{"$f":"IF('Ceiling Speaker Calculator'!$C$29=\"Square\",CJ$1,IF(OR(AND(ODD($A52)=$A52,ODD(CJ$2)=CJ$2),AND(EVEN($A52)=$A52,EVEN(CJ$2)=CJ$2)),CJ$1,-100))","v":1603.125},{"$f":"IF('Ceiling Speaker Calculator'!$C$29=\"Square\",CK$1,IF(OR(AND(ODD($A52)=$A52,ODD(CK$2)=CK$2),AND(EVEN($A52)=$A52,EVEN(CK$2)=CK$2)),CK$1,-100))","v":1621.875},{"$f":"IF('Ceiling Speaker Calculator'!$C$29=\"Square\",CL$1,IF(OR(AND(ODD($A52)=$A52,ODD(CL$2)=CL$2),AND(EVEN($A52)=$A52,EVEN(CL$2)=CL$2)),CL$1,-100))","v":1640.625},{"$f":"IF('Ceiling Speaker Calculator'!$C$29=\"Square\",CM$1,IF(OR(AND(ODD($A52)=$A52,ODD(CM$2)=CM$2),AND(EVEN($A52)=$A52,EVEN(CM$2)=CM$2)),CM$1,-100))","v":1659.375},{"$f":"IF('Ceiling Speaker Calculator'!$C$29=\"Square\",CN$1,IF(OR(AND(ODD($A52)=$A52,ODD(CN$2)=CN$2),AND(EVEN($A52)=$A52,EVEN(CN$2)=CN$2)),CN$1,-100))","v":1678.125},{"$f":"IF('Ceiling Speaker Calculator'!$C$29=\"Square\",CO$1,IF(OR(AND(ODD($A52)=$A52,ODD(CO$2)=CO$2),AND(EVEN($A52)=$A52,EVEN(CO$2)=CO$2)),CO$1,-100))","v":1696.875},{"$f":"IF('Ceiling Speaker Calculator'!$C$29=\"Square\",CP$1,IF(OR(AND(ODD($A52)=$A52,ODD(CP$2)=CP$2),AND(EVEN($A52)=$A52,EVEN(CP$2)=CP$2)),CP$1,-100))","v":1715.625},{"$f":"IF('Ceiling Speaker Calculator'!$C$29=\"Square\",CQ$1,IF(OR(AND(ODD($A52)=$A52,ODD(CQ$2)=CQ$2),AND(EVEN($A52)=$A52,EVEN(CQ$2)=CQ$2)),CQ$1,-100))","v":1734.375},{"$f":"IF('Ceiling Speaker Calculator'!$C$29=\"Square\",CR$1,IF(OR(AND(ODD($A52)=$A52,ODD(CR$2)=CR$2),AND(EVEN($A52)=$A52,EVEN(CR$2)=CR$2)),CR$1,-100))","v":1753.125},{"$f":"IF('Ceiling Speaker Calculator'!$C$29=\"Square\",CS$1,IF(OR(AND(ODD($A52)=$A52,ODD(CS$2)=CS$2),AND(EVEN($A52)=$A52,EVEN(CS$2)=CS$2)),CS$1,-100))","v":1771.875},{"$f":"IF('Ceiling Speaker Calculator'!$C$29=\"Square\",CT$1,IF(OR(AND(ODD($A52)=$A52,ODD(CT$2)=CT$2),AND(EVEN($A52)=$A52,EVEN(CT$2)=CT$2)),CT$1,-100))","v":1790.625},{"$f":"IF('Ceiling Speaker Calculator'!$C$29=\"Square\",CU$1,IF(OR(AND(ODD($A52)=$A52,ODD(CU$2)=CU$2),AND(EVEN($A52)=$A52,EVEN(CU$2)=CU$2)),CU$1,-100))","v":1809.375},{"$f":"IF('Ceiling Speaker Calculator'!$C$29=\"Square\",CV$1,IF(OR(AND(ODD($A52)=$A52,ODD(CV$2)=CV$2),AND(EVEN($A52)=$A52,EVEN(CV$2)=CV$2)),CV$1,-100))","v":1828.125},{"$f":"IF('Ceiling Speaker Calculator'!$C$29=\"Square\",CW$1,IF(OR(AND(ODD($A52)=$A52,ODD(CW$2)=CW$2),AND(EVEN($A52)=$A52,EVEN(CW$2)=CW$2)),CW$1,-100))","v":1846.875},{"$f":"IF('Ceiling Speaker Calculator'!$C$29=\"Square\",CX$1,IF(OR(AND(ODD($A52)=$A52,ODD(CX$2)=CX$2),AND(EVEN($A52)=$A52,EVEN(CX$2)=CX$2)),CX$1,-100))","v":1865.625}]
[51,{"$f":"B52+'Ceiling Speaker Calculator'!$K$16","v":1010},{"$f":"IF('Ceiling Speaker Calculator'!$C$29=\"Square\",C$1,IF(OR(AND(ODD($A53)=$A53,ODD(C$2)=C$2),AND(EVEN($A53)=$A53,EVEN(C$2)=C$2)),C$1,-100))","v":9.375},{"$f":"IF('Ceiling Speaker Calculator'!$C$29=\"Square\",D$1,IF(OR(AND(ODD($A53)=$A53,ODD(D$2)=D$2),AND(EVEN($A53)=$A53,EVEN(D$2)=D$2)),D$1,-100))","v":28.125},{"$f":"IF('Ceiling Speaker Calculator'!$C$29=\"Square\",E$1,IF(OR(AND(ODD($A53)=$A53,ODD(E$2)=E$2),AND(EVEN($A53)=$A53,EVEN(E$2)=E$2)),E$1,-100))","v":46.875},{"$f":"IF('Ceiling Speaker Calculator'!$C$29=\"Square\",F$1,IF(OR(AND(ODD($A53)=$A53,ODD(F$2)=F$2),AND(EVEN($A53)=$A53,EVEN(F$2)=F$2)),F$1,-100))","v":65.625},{"$f":"IF('Ceiling Speaker Calculator'!$C$29=\"Square\",G$1,IF(OR(AND(ODD($A53)=$A53,ODD(G$2)=G$2),AND(EVEN($A53)=$A53,EVEN(G$2)=G$2)),G$1,-100))","v":84.375},{"$f":"IF('Ceiling Speaker Calculator'!$C$29=\"Square\",H$1,IF(OR(AND(ODD($A53)=$A53,ODD(H$2)=H$2),AND(EVEN($A53)=$A53,EVEN(H$2)=H$2)),H$1,-100))","v":103.125},{"$f":"IF('Ceiling Speaker Calculator'!$C$29=\"Square\",I$1,IF(OR(AND(ODD($A53)=$A53,ODD(I$2)=I$2),AND(EVEN($A53)=$A53,EVEN(I$2)=I$2)),I$1,-100))","v":121.875},{"$f":"IF('Ceiling Speaker Calculator'!$C$29=\"Square\",J$1,IF(OR(AND(ODD($A53)=$A53,ODD(J$2)=J$2),AND(EVEN($A53)=$A53,EVEN(J$2)=J$2)),J$1,-100))","v":140.625},{"$f":"IF('Ceiling Speaker Calculator'!$C$29=\"Square\",K$1,IF(OR(AND(ODD($A53)=$A53,ODD(K$2)=K$2),AND(EVEN($A53)=$A53,EVEN(K$2)=K$2)),K$1,-100))","v":159.375},{"$f":"IF('Ceiling Speaker Calculator'!$C$29=\"Square\",L$1,IF(OR(AND(ODD($A53)=$A53,ODD(L$2)=L$2),AND(EVEN($A53)=$A53,EVEN(L$2)=L$2)),L$1,-100))","v":178.125},{"$f":"IF('Ceiling Speaker Calculator'!$C$29=\"Square\",M$1,IF(OR(AND(ODD($A53)=$A53,ODD(M$2)=M$2),AND(EVEN($A53)=$A53,EVEN(M$2)=M$2)),M$1,-100))","v":196.875},{"$f":"IF('Ceiling Speaker Calculator'!$C$29=\"Square\",N$1,IF(OR(AND(ODD($A53)=$A53,ODD(N$2)=N$2),AND(EVEN($A53)=$A53,EVEN(N$2)=N$2)),N$1,-100))","v":215.625},{"$f":"IF('Ceiling Speaker Calculator'!$C$29=\"Square\",O$1,IF(OR(AND(ODD($A53)=$A53,ODD(O$2)=O$2),AND(EVEN($A53)=$A53,EVEN(O$2)=O$2)),O$1,-100))","v":234.375},{"$f":"IF('Ceiling Speaker Calculator'!$C$29=\"Square\",P$1,IF(OR(AND(ODD($A53)=$A53,ODD(P$2)=P$2),AND(EVEN($A53)=$A53,EVEN(P$2)=P$2)),P$1,-100))","v":253.125},{"$f":"IF('Ceiling Speaker Calculator'!$C$29=\"Square\",Q$1,IF(OR(AND(ODD($A53)=$A53,ODD(Q$2)=Q$2),AND(EVEN($A53)=$A53,EVEN(Q$2)=Q$2)),Q$1,-100))","v":271.875},{"$f":"IF('Ceiling Speaker Calculator'!$C$29=\"Square\",R$1,IF(OR(AND(ODD($A53)=$A53,ODD(R$2)=R$2),AND(EVEN($A53)=$A53,EVEN(R$2)=R$2)),R$1,-100))","v":290.625},{"$f":"IF('Ceiling Speaker Calculator'!$C$29=\"Square\",S$1,IF(OR(AND(ODD($A53)=$A53,ODD(S$2)=S$2),AND(EVEN($A53)=$A53,EVEN(S$2)=S$2)),S$1,-100))","v":309.375},{"$f":"IF('Ceiling Speaker Calculator'!$C$29=\"Square\",T$1,IF(OR(AND(ODD($A53)=$A53,ODD(T$2)=T$2),AND(EVEN($A53)=$A53,EVEN(T$2)=T$2)),T$1,-100))","v":328.125},{"$f":"IF('Ceiling Speaker Calculator'!$C$29=\"Square\",U$1,IF(OR(AND(ODD($A53)=$A53,ODD(U$2)=U$2),AND(EVEN($A53)=$A53,EVEN(U$2)=U$2)),U$1,-100))","v":346.875},{"$f":"IF('Ceiling Speaker Calculator'!$C$29=\"Square\",V$1,IF(OR(AND(ODD($A53)=$A53,ODD(V$2)=V$2),AND(EVEN($A53)=$A53,EVEN(V$2)=V$2)),V$1,-100))","v":365.625},{"$f":"IF('Ceiling Speaker Calculator'!$C$29=\"Square\",W$1,IF(OR(AND(ODD($A53)=$A53,ODD(W$2)=W$2),AND(EVEN($A53)=$A53,EVEN(W$2)=W$2)),W$1,-100))","v":384.375},{"$f":"IF('Ceiling Speaker Calculator'!$C$29=\"Square\",X$1,IF(OR(AND(ODD($A53)=$A53,ODD(X$2)=X$2),AND(EVEN($A53)=$A53,EVEN(X$2)=X$2)),X$1,-100))","v":403.125},{"$f":"IF('Ceiling Speaker Calculator'!$C$29=\"Square\",Y$1,IF(OR(AND(ODD($A53)=$A53,ODD(Y$2)=Y$2),AND(EVEN($A53)=$A53,EVEN(Y$2)=Y$2)),Y$1,-100))","v":421.875},{"$f":"IF('Ceiling Speaker Calculator'!$C$29=\"Square\",Z$1,IF(OR(AND(ODD($A53)=$A53,ODD(Z$2)=Z$2),AND(EVEN($A53)=$A53,EVEN(Z$2)=Z$2)),Z$1,-100))","v":440.625},{"$f":"IF('Ceiling Speaker Calculator'!$C$29=\"Square\",AA$1,IF(OR(AND(ODD($A53)=$A53,ODD(AA$2)=AA$2),AND(EVEN($A53)=$A53,EVEN(AA$2)=AA$2)),AA$1,-100))","v":459.375},{"$f":"IF('Ceiling Speaker Calculator'!$C$29=\"Square\",AB$1,IF(OR(AND(ODD($A53)=$A53,ODD(AB$2)=AB$2),AND(EVEN($A53)=$A53,EVEN(AB$2)=AB$2)),AB$1,-100))","v":478.125},{"$f":"IF('Ceiling Speaker Calculator'!$C$29=\"Square\",AC$1,IF(OR(AND(ODD($A53)=$A53,ODD(AC$2)=AC$2),AND(EVEN($A53)=$A53,EVEN(AC$2)=AC$2)),AC$1,-100))","v":496.875},{"$f":"IF('Ceiling Speaker Calculator'!$C$29=\"Square\",AD$1,IF(OR(AND(ODD($A53)=$A53,ODD(AD$2)=AD$2),AND(EVEN($A53)=$A53,EVEN(AD$2)=AD$2)),AD$1,-100))","v":515.625},{"$f":"IF('Ceiling Speaker Calculator'!$C$29=\"Square\",AE$1,IF(OR(AND(ODD($A53)=$A53,ODD(AE$2)=AE$2),AND(EVEN($A53)=$A53,EVEN(AE$2)=AE$2)),AE$1,-100))","v":534.375},{"$f":"IF('Ceiling Speaker Calculator'!$C$29=\"Square\",AF$1,IF(OR(AND(ODD($A53)=$A53,ODD(AF$2)=AF$2),AND(EVEN($A53)=$A53,EVEN(AF$2)=AF$2)),AF$1,-100))","v":553.125},{"$f":"IF('Ceiling Speaker Calculator'!$C$29=\"Square\",AG$1,IF(OR(AND(ODD($A53)=$A53,ODD(AG$2)=AG$2),AND(EVEN($A53)=$A53,EVEN(AG$2)=AG$2)),AG$1,-100))","v":571.875},{"$f":"IF('Ceiling Speaker Calculator'!$C$29=\"Square\",AH$1,IF(OR(AND(ODD($A53)=$A53,ODD(AH$2)=AH$2),AND(EVEN($A53)=$A53,EVEN(AH$2)=AH$2)),AH$1,-100))","v":590.625},{"$f":"IF('Ceiling Speaker Calculator'!$C$29=\"Square\",AI$1,IF(OR(AND(ODD($A53)=$A53,ODD(AI$2)=AI$2),AND(EVEN($A53)=$A53,EVEN(AI$2)=AI$2)),AI$1,-100))","v":609.375},{"$f":"IF('Ceiling Speaker Calculator'!$C$29=\"Square\",AJ$1,IF(OR(AND(ODD($A53)=$A53,ODD(AJ$2)=AJ$2),AND(EVEN($A53)=$A53,EVEN(AJ$2)=AJ$2)),AJ$1,-100))","v":628.125},{"$f":"IF('Ceiling Speaker Calculator'!$C$29=\"Square\",AK$1,IF(OR(AND(ODD($A53)=$A53,ODD(AK$2)=AK$2),AND(EVEN($A53)=$A53,EVEN(AK$2)=AK$2)),AK$1,-100))","v":646.875},{"$f":"IF('Ceiling Speaker Calculator'!$C$29=\"Square\",AL$1,IF(OR(AND(ODD($A53)=$A53,ODD(AL$2)=AL$2),AND(EVEN($A53)=$A53,EVEN(AL$2)=AL$2)),AL$1,-100))","v":665.625},{"$f":"IF('Ceiling Speaker Calculator'!$C$29=\"Square\",AM$1,IF(OR(AND(ODD($A53)=$A53,ODD(AM$2)=AM$2),AND(EVEN($A53)=$A53,EVEN(AM$2)=AM$2)),AM$1,-100))","v":684.375},{"$f":"IF('Ceiling Speaker Calculator'!$C$29=\"Square\",AN$1,IF(OR(AND(ODD($A53)=$A53,ODD(AN$2)=AN$2),AND(EVEN($A53)=$A53,EVEN(AN$2)=AN$2)),AN$1,-100))","v":703.125},{"$f":"IF('Ceiling Speaker Calculator'!$C$29=\"Square\",AO$1,IF(OR(AND(ODD($A53)=$A53,ODD(AO$2)=AO$2),AND(EVEN($A53)=$A53,EVEN(AO$2)=AO$2)),AO$1,-100))","v":721.875},{"$f":"IF('Ceiling Speaker Calculator'!$C$29=\"Square\",AP$1,IF(OR(AND(ODD($A53)=$A53,ODD(AP$2)=AP$2),AND(EVEN($A53)=$A53,EVEN(AP$2)=AP$2)),AP$1,-100))","v":740.625},{"$f":"IF('Ceiling Speaker Calculator'!$C$29=\"Square\",AQ$1,IF(OR(AND(ODD($A53)=$A53,ODD(AQ$2)=AQ$2),AND(EVEN($A53)=$A53,EVEN(AQ$2)=AQ$2)),AQ$1,-100))","v":759.375},{"$f":"IF('Ceiling Speaker Calculator'!$C$29=\"Square\",AR$1,IF(OR(AND(ODD($A53)=$A53,ODD(AR$2)=AR$2),AND(EVEN($A53)=$A53,EVEN(AR$2)=AR$2)),AR$1,-100))","v":778.125},{"$f":"IF('Ceiling Speaker Calculator'!$C$29=\"Square\",AS$1,IF(OR(AND(ODD($A53)=$A53,ODD(AS$2)=AS$2),AND(EVEN($A53)=$A53,EVEN(AS$2)=AS$2)),AS$1,-100))","v":796.875},{"$f":"IF('Ceiling Speaker Calculator'!$C$29=\"Square\",AT$1,IF(OR(AND(ODD($A53)=$A53,ODD(AT$2)=AT$2),AND(EVEN($A53)=$A53,EVEN(AT$2)=AT$2)),AT$1,-100))","v":815.625},{"$f":"IF('Ceiling Speaker Calculator'!$C$29=\"Square\",AU$1,IF(OR(AND(ODD($A53)=$A53,ODD(AU$2)=AU$2),AND(EVEN($A53)=$A53,EVEN(AU$2)=AU$2)),AU$1,-100))","v":834.375},{"$f":"IF('Ceiling Speaker Calculator'!$C$29=\"Square\",AV$1,IF(OR(AND(ODD($A53)=$A53,ODD(AV$2)=AV$2),AND(EVEN($A53)=$A53,EVEN(AV$2)=AV$2)),AV$1,-100))","v":853.125},{"$f":"IF('Ceiling Speaker Calculator'!$C$29=\"Square\",AW$1,IF(OR(AND(ODD($A53)=$A53,ODD(AW$2)=AW$2),AND(EVEN($A53)=$A53,EVEN(AW$2)=AW$2)),AW$1,-100))","v":871.875},{"$f":"IF('Ceiling Speaker Calculator'!$C$29=\"Square\",AX$1,IF(OR(AND(ODD($A53)=$A53,ODD(AX$2)=AX$2),AND(EVEN($A53)=$A53,EVEN(AX$2)=AX$2)),AX$1,-100))","v":890.625},{"$f":"IF('Ceiling Speaker Calculator'!$C$29=\"Square\",AY$1,IF(OR(AND(ODD($A53)=$A53,ODD(AY$2)=AY$2),AND(EVEN($A53)=$A53,EVEN(AY$2)=AY$2)),AY$1,-100))","v":909.375},{"$f":"IF('Ceiling Speaker Calculator'!$C$29=\"Square\",AZ$1,IF(OR(AND(ODD($A53)=$A53,ODD(AZ$2)=AZ$2),AND(EVEN($A53)=$A53,EVEN(AZ$2)=AZ$2)),AZ$1,-100))","v":928.125},{"$f":"IF('Ceiling Speaker Calculator'!$C$29=\"Square\",BA$1,IF(OR(AND(ODD($A53)=$A53,ODD(BA$2)=BA$2),AND(EVEN($A53)=$A53,EVEN(BA$2)=BA$2)),BA$1,-100))","v":946.875},{"$f":"IF('Ceiling Speaker Calculator'!$C$29=\"Square\",BB$1,IF(OR(AND(ODD($A53)=$A53,ODD(BB$2)=BB$2),AND(EVEN($A53)=$A53,EVEN(BB$2)=BB$2)),BB$1,-100))","v":965.625},{"$f":"IF('Ceiling Speaker Calculator'!$C$29=\"Square\",BC$1,IF(OR(AND(ODD($A53)=$A53,ODD(BC$2)=BC$2),AND(EVEN($A53)=$A53,EVEN(BC$2)=BC$2)),BC$1,-100))","v":984.375},{"$f":"IF('Ceiling Speaker Calculator'!$C$29=\"Square\",BD$1,IF(OR(AND(ODD($A53)=$A53,ODD(BD$2)=BD$2),AND(EVEN($A53)=$A53,EVEN(BD$2)=BD$2)),BD$1,-100))","v":1003.125},{"$f":"IF('Ceiling Speaker Calculator'!$C$29=\"Square\",BE$1,IF(OR(AND(ODD($A53)=$A53,ODD(BE$2)=BE$2),AND(EVEN($A53)=$A53,EVEN(BE$2)=BE$2)),BE$1,-100))","v":1021.875},{"$f":"IF('Ceiling Speaker Calculator'!$C$29=\"Square\",BF$1,IF(OR(AND(ODD($A53)=$A53,ODD(BF$2)=BF$2),AND(EVEN($A53)=$A53,EVEN(BF$2)=BF$2)),BF$1,-100))","v":1040.625},{"$f":"IF('Ceiling Speaker Calculator'!$C$29=\"Square\",BG$1,IF(OR(AND(ODD($A53)=$A53,ODD(BG$2)=BG$2),AND(EVEN($A53)=$A53,EVEN(BG$2)=BG$2)),BG$1,-100))","v":1059.375},{"$f":"IF('Ceiling Speaker Calculator'!$C$29=\"Square\",BH$1,IF(OR(AND(ODD($A53)=$A53,ODD(BH$2)=BH$2),AND(EVEN($A53)=$A53,EVEN(BH$2)=BH$2)),BH$1,-100))","v":1078.125},{"$f":"IF('Ceiling Speaker Calculator'!$C$29=\"Square\",BI$1,IF(OR(AND(ODD($A53)=$A53,ODD(BI$2)=BI$2),AND(EVEN($A53)=$A53,EVEN(BI$2)=BI$2)),BI$1,-100))","v":1096.875},{"$f":"IF('Ceiling Speaker Calculator'!$C$29=\"Square\",BJ$1,IF(OR(AND(ODD($A53)=$A53,ODD(BJ$2)=BJ$2),AND(EVEN($A53)=$A53,EVEN(BJ$2)=BJ$2)),BJ$1,-100))","v":1115.625},{"$f":"IF('Ceiling Speaker Calculator'!$C$29=\"Square\",BK$1,IF(OR(AND(ODD($A53)=$A53,ODD(BK$2)=BK$2),AND(EVEN($A53)=$A53,EVEN(BK$2)=BK$2)),BK$1,-100))","v":1134.375},{"$f":"IF('Ceiling Speaker Calculator'!$C$29=\"Square\",BL$1,IF(OR(AND(ODD($A53)=$A53,ODD(BL$2)=BL$2),AND(EVEN($A53)=$A53,EVEN(BL$2)=BL$2)),BL$1,-100))","v":1153.125},{"$f":"IF('Ceiling Speaker Calculator'!$C$29=\"Square\",BM$1,IF(OR(AND(ODD($A53)=$A53,ODD(BM$2)=BM$2),AND(EVEN($A53)=$A53,EVEN(BM$2)=BM$2)),BM$1,-100))","v":1171.875},{"$f":"IF('Ceiling Speaker Calculator'!$C$29=\"Square\",BN$1,IF(OR(AND(ODD($A53)=$A53,ODD(BN$2)=BN$2),AND(EVEN($A53)=$A53,EVEN(BN$2)=BN$2)),BN$1,-100))","v":1190.625},{"$f":"IF('Ceiling Speaker Calculator'!$C$29=\"Square\",BO$1,IF(OR(AND(ODD($A53)=$A53,ODD(BO$2)=BO$2),AND(EVEN($A53)=$A53,EVEN(BO$2)=BO$2)),BO$1,-100))","v":1209.375},{"$f":"IF('Ceiling Speaker Calculator'!$C$29=\"Square\",BP$1,IF(OR(AND(ODD($A53)=$A53,ODD(BP$2)=BP$2),AND(EVEN($A53)=$A53,EVEN(BP$2)=BP$2)),BP$1,-100))","v":1228.125},{"$f":"IF('Ceiling Speaker Calculator'!$C$29=\"Square\",BQ$1,IF(OR(AND(ODD($A53)=$A53,ODD(BQ$2)=BQ$2),AND(EVEN($A53)=$A53,EVEN(BQ$2)=BQ$2)),BQ$1,-100))","v":1246.875},{"$f":"IF('Ceiling Speaker Calculator'!$C$29=\"Square\",BR$1,IF(OR(AND(ODD($A53)=$A53,ODD(BR$2)=BR$2),AND(EVEN($A53)=$A53,EVEN(BR$2)=BR$2)),BR$1,-100))","v":1265.625},{"$f":"IF('Ceiling Speaker Calculator'!$C$29=\"Square\",BS$1,IF(OR(AND(ODD($A53)=$A53,ODD(BS$2)=BS$2),AND(EVEN($A53)=$A53,EVEN(BS$2)=BS$2)),BS$1,-100))","v":1284.375},{"$f":"IF('Ceiling Speaker Calculator'!$C$29=\"Square\",BT$1,IF(OR(AND(ODD($A53)=$A53,ODD(BT$2)=BT$2),AND(EVEN($A53)=$A53,EVEN(BT$2)=BT$2)),BT$1,-100))","v":1303.125},{"$f":"IF('Ceiling Speaker Calculator'!$C$29=\"Square\",BU$1,IF(OR(AND(ODD($A53)=$A53,ODD(BU$2)=BU$2),AND(EVEN($A53)=$A53,EVEN(BU$2)=BU$2)),BU$1,-100))","v":1321.875},{"$f":"IF('Ceiling Speaker Calculator'!$C$29=\"Square\",BV$1,IF(OR(AND(ODD($A53)=$A53,ODD(BV$2)=BV$2),AND(EVEN($A53)=$A53,EVEN(BV$2)=BV$2)),BV$1,-100))","v":1340.625},{"$f":"IF('Ceiling Speaker Calculator'!$C$29=\"Square\",BW$1,IF(OR(AND(ODD($A53)=$A53,ODD(BW$2)=BW$2),AND(EVEN($A53)=$A53,EVEN(BW$2)=BW$2)),BW$1,-100))","v":1359.375},{"$f":"IF('Ceiling Speaker Calculator'!$C$29=\"Square\",BX$1,IF(OR(AND(ODD($A53)=$A53,ODD(BX$2)=BX$2),AND(EVEN($A53)=$A53,EVEN(BX$2)=BX$2)),BX$1,-100))","v":1378.125},{"$f":"IF('Ceiling Speaker Calculator'!$C$29=\"Square\",BY$1,IF(OR(AND(ODD($A53)=$A53,ODD(BY$2)=BY$2),AND(EVEN($A53)=$A53,EVEN(BY$2)=BY$2)),BY$1,-100))","v":1396.875},{"$f":"IF('Ceiling Speaker Calculator'!$C$29=\"Square\",BZ$1,IF(OR(AND(ODD($A53)=$A53,ODD(BZ$2)=BZ$2),AND(EVEN($A53)=$A53,EVEN(BZ$2)=BZ$2)),BZ$1,-100))","v":1415.625},{"$f":"IF('Ceiling Speaker Calculator'!$C$29=\"Square\",CA$1,IF(OR(AND(ODD($A53)=$A53,ODD(CA$2)=CA$2),AND(EVEN($A53)=$A53,EVEN(CA$2)=CA$2)),CA$1,-100))","v":1434.375},{"$f":"IF('Ceiling Speaker Calculator'!$C$29=\"Square\",CB$1,IF(OR(AND(ODD($A53)=$A53,ODD(CB$2)=CB$2),AND(EVEN($A53)=$A53,EVEN(CB$2)=CB$2)),CB$1,-100))","v":1453.125},{"$f":"IF('Ceiling Speaker Calculator'!$C$29=\"Square\",CC$1,IF(OR(AND(ODD($A53)=$A53,ODD(CC$2)=CC$2),AND(EVEN($A53)=$A53,EVEN(CC$2)=CC$2)),CC$1,-100))","v":1471.875},{"$f":"IF('Ceiling Speaker Calculator'!$C$29=\"Square\",CD$1,IF(OR(AND(ODD($A53)=$A53,ODD(CD$2)=CD$2),AND(EVEN($A53)=$A53,EVEN(CD$2)=CD$2)),CD$1,-100))","v":1490.625},{"$f":"IF('Ceiling Speaker Calculator'!$C$29=\"Square\",CE$1,IF(OR(AND(ODD($A53)=$A53,ODD(CE$2)=CE$2),AND(EVEN($A53)=$A53,EVEN(CE$2)=CE$2)),CE$1,-100))","v":1509.375},{"$f":"IF('Ceiling Speaker Calculator'!$C$29=\"Square\",CF$1,IF(OR(AND(ODD($A53)=$A53,ODD(CF$2)=CF$2),AND(EVEN($A53)=$A53,EVEN(CF$2)=CF$2)),CF$1,-100))","v":1528.125},{"$f":"IF('Ceiling Speaker Calculator'!$C$29=\"Square\",CG$1,IF(OR(AND(ODD($A53)=$A53,ODD(CG$2)=CG$2),AND(EVEN($A53)=$A53,EVEN(CG$2)=CG$2)),CG$1,-100))","v":1546.875},{"$f":"IF('Ceiling Speaker Calculator'!$C$29=\"Square\",CH$1,IF(OR(AND(ODD($A53)=$A53,ODD(CH$2)=CH$2),AND(EVEN($A53)=$A53,EVEN(CH$2)=CH$2)),CH$1,-100))","v":1565.625},{"$f":"IF('Ceiling Speaker Calculator'!$C$29=\"Square\",CI$1,IF(OR(AND(ODD($A53)=$A53,ODD(CI$2)=CI$2),AND(EVEN($A53)=$A53,EVEN(CI$2)=CI$2)),CI$1,-100))","v":1584.375},{"$f":"IF('Ceiling Speaker Calculator'!$C$29=\"Square\",CJ$1,IF(OR(AND(ODD($A53)=$A53,ODD(CJ$2)=CJ$2),AND(EVEN($A53)=$A53,EVEN(CJ$2)=CJ$2)),CJ$1,-100))","v":1603.125},{"$f":"IF('Ceiling Speaker Calculator'!$C$29=\"Square\",CK$1,IF(OR(AND(ODD($A53)=$A53,ODD(CK$2)=CK$2),AND(EVEN($A53)=$A53,EVEN(CK$2)=CK$2)),CK$1,-100))","v":1621.875},{"$f":"IF('Ceiling Speaker Calculator'!$C$29=\"Square\",CL$1,IF(OR(AND(ODD($A53)=$A53,ODD(CL$2)=CL$2),AND(EVEN($A53)=$A53,EVEN(CL$2)=CL$2)),CL$1,-100))","v":1640.625},{"$f":"IF('Ceiling Speaker Calculator'!$C$29=\"Square\",CM$1,IF(OR(AND(ODD($A53)=$A53,ODD(CM$2)=CM$2),AND(EVEN($A53)=$A53,EVEN(CM$2)=CM$2)),CM$1,-100))","v":1659.375},{"$f":"IF('Ceiling Speaker Calculator'!$C$29=\"Square\",CN$1,IF(OR(AND(ODD($A53)=$A53,ODD(CN$2)=CN$2),AND(EVEN($A53)=$A53,EVEN(CN$2)=CN$2)),CN$1,-100))","v":1678.125},{"$f":"IF('Ceiling Speaker Calculator'!$C$29=\"Square\",CO$1,IF(OR(AND(ODD($A53)=$A53,ODD(CO$2)=CO$2),AND(EVEN($A53)=$A53,EVEN(CO$2)=CO$2)),CO$1,-100))","v":1696.875},{"$f":"IF('Ceiling Speaker Calculator'!$C$29=\"Square\",CP$1,IF(OR(AND(ODD($A53)=$A53,ODD(CP$2)=CP$2),AND(EVEN($A53)=$A53,EVEN(CP$2)=CP$2)),CP$1,-100))","v":1715.625},{"$f":"IF('Ceiling Speaker Calculator'!$C$29=\"Square\",CQ$1,IF(OR(AND(ODD($A53)=$A53,ODD(CQ$2)=CQ$2),AND(EVEN($A53)=$A53,EVEN(CQ$2)=CQ$2)),CQ$1,-100))","v":1734.375},{"$f":"IF('Ceiling Speaker Calculator'!$C$29=\"Square\",CR$1,IF(OR(AND(ODD($A53)=$A53,ODD(CR$2)=CR$2),AND(EVEN($A53)=$A53,EVEN(CR$2)=CR$2)),CR$1,-100))","v":1753.125},{"$f":"IF('Ceiling Speaker Calculator'!$C$29=\"Square\",CS$1,IF(OR(AND(ODD($A53)=$A53,ODD(CS$2)=CS$2),AND(EVEN($A53)=$A53,EVEN(CS$2)=CS$2)),CS$1,-100))","v":1771.875},{"$f":"IF('Ceiling Speaker Calculator'!$C$29=\"Square\",CT$1,IF(OR(AND(ODD($A53)=$A53,ODD(CT$2)=CT$2),AND(EVEN($A53)=$A53,EVEN(CT$2)=CT$2)),CT$1,-100))","v":1790.625},{"$f":"IF('Ceiling Speaker Calculator'!$C$29=\"Square\",CU$1,IF(OR(AND(ODD($A53)=$A53,ODD(CU$2)=CU$2),AND(EVEN($A53)=$A53,EVEN(CU$2)=CU$2)),CU$1,-100))","v":1809.375},{"$f":"IF('Ceiling Speaker Calculator'!$C$29=\"Square\",CV$1,IF(OR(AND(ODD($A53)=$A53,ODD(CV$2)=CV$2),AND(EVEN($A53)=$A53,EVEN(CV$2)=CV$2)),CV$1,-100))","v":1828.125},{"$f":"IF('Ceiling Speaker Calculator'!$C$29=\"Square\",CW$1,IF(OR(AND(ODD($A53)=$A53,ODD(CW$2)=CW$2),AND(EVEN($A53)=$A53,EVEN(CW$2)=CW$2)),CW$1,-100))","v":1846.875},{"$f":"IF('Ceiling Speaker Calculator'!$C$29=\"Square\",CX$1,IF(OR(AND(ODD($A53)=$A53,ODD(CX$2)=CX$2),AND(EVEN($A53)=$A53,EVEN(CX$2)=CX$2)),CX$1,-100))","v":1865.625}]
[52,{"$f":"B53+'Ceiling Speaker Calculator'!$K$16","v":1030},{"$f":"IF('Ceiling Speaker Calculator'!$C$29=\"Square\",C$1,IF(OR(AND(ODD($A54)=$A54,ODD(C$2)=C$2),AND(EVEN($A54)=$A54,EVEN(C$2)=C$2)),C$1,-100))","v":9.375},{"$f":"IF('Ceiling Speaker Calculator'!$C$29=\"Square\",D$1,IF(OR(AND(ODD($A54)=$A54,ODD(D$2)=D$2),AND(EVEN($A54)=$A54,EVEN(D$2)=D$2)),D$1,-100))","v":28.125},{"$f":"IF('Ceiling Speaker Calculator'!$C$29=\"Square\",E$1,IF(OR(AND(ODD($A54)=$A54,ODD(E$2)=E$2),AND(EVEN($A54)=$A54,EVEN(E$2)=E$2)),E$1,-100))","v":46.875},{"$f":"IF('Ceiling Speaker Calculator'!$C$29=\"Square\",F$1,IF(OR(AND(ODD($A54)=$A54,ODD(F$2)=F$2),AND(EVEN($A54)=$A54,EVEN(F$2)=F$2)),F$1,-100))","v":65.625},{"$f":"IF('Ceiling Speaker Calculator'!$C$29=\"Square\",G$1,IF(OR(AND(ODD($A54)=$A54,ODD(G$2)=G$2),AND(EVEN($A54)=$A54,EVEN(G$2)=G$2)),G$1,-100))","v":84.375},{"$f":"IF('Ceiling Speaker Calculator'!$C$29=\"Square\",H$1,IF(OR(AND(ODD($A54)=$A54,ODD(H$2)=H$2),AND(EVEN($A54)=$A54,EVEN(H$2)=H$2)),H$1,-100))","v":103.125},{"$f":"IF('Ceiling Speaker Calculator'!$C$29=\"Square\",I$1,IF(OR(AND(ODD($A54)=$A54,ODD(I$2)=I$2),AND(EVEN($A54)=$A54,EVEN(I$2)=I$2)),I$1,-100))","v":121.875},{"$f":"IF('Ceiling Speaker Calculator'!$C$29=\"Square\",J$1,IF(OR(AND(ODD($A54)=$A54,ODD(J$2)=J$2),AND(EVEN($A54)=$A54,EVEN(J$2)=J$2)),J$1,-100))","v":140.625},{"$f":"IF('Ceiling Speaker Calculator'!$C$29=\"Square\",K$1,IF(OR(AND(ODD($A54)=$A54,ODD(K$2)=K$2),AND(EVEN($A54)=$A54,EVEN(K$2)=K$2)),K$1,-100))","v":159.375},{"$f":"IF('Ceiling Speaker Calculator'!$C$29=\"Square\",L$1,IF(OR(AND(ODD($A54)=$A54,ODD(L$2)=L$2),AND(EVEN($A54)=$A54,EVEN(L$2)=L$2)),L$1,-100))","v":178.125},{"$f":"IF('Ceiling Speaker Calculator'!$C$29=\"Square\",M$1,IF(OR(AND(ODD($A54)=$A54,ODD(M$2)=M$2),AND(EVEN($A54)=$A54,EVEN(M$2)=M$2)),M$1,-100))","v":196.875},{"$f":"IF('Ceiling Speaker Calculator'!$C$29=\"Square\",N$1,IF(OR(AND(ODD($A54)=$A54,ODD(N$2)=N$2),AND(EVEN($A54)=$A54,EVEN(N$2)=N$2)),N$1,-100))","v":215.625},{"$f":"IF('Ceiling Speaker Calculator'!$C$29=\"Square\",O$1,IF(OR(AND(ODD($A54)=$A54,ODD(O$2)=O$2),AND(EVEN($A54)=$A54,EVEN(O$2)=O$2)),O$1,-100))","v":234.375},{"$f":"IF('Ceiling Speaker Calculator'!$C$29=\"Square\",P$1,IF(OR(AND(ODD($A54)=$A54,ODD(P$2)=P$2),AND(EVEN($A54)=$A54,EVEN(P$2)=P$2)),P$1,-100))","v":253.125},{"$f":"IF('Ceiling Speaker Calculator'!$C$29=\"Square\",Q$1,IF(OR(AND(ODD($A54)=$A54,ODD(Q$2)=Q$2),AND(EVEN($A54)=$A54,EVEN(Q$2)=Q$2)),Q$1,-100))","v":271.875},{"$f":"IF('Ceiling Speaker Calculator'!$C$29=\"Square\",R$1,IF(OR(AND(ODD($A54)=$A54,ODD(R$2)=R$2),AND(EVEN($A54)=$A54,EVEN(R$2)=R$2)),R$1,-100))","v":290.625},{"$f":"IF('Ceiling Speaker Calculator'!$C$29=\"Square\",S$1,IF(OR(AND(ODD($A54)=$A54,ODD(S$2)=S$2),AND(EVEN($A54)=$A54,EVEN(S$2)=S$2)),S$1,-100))","v":309.375},{"$f":"IF('Ceiling Speaker Calculator'!$C$29=\"Square\",T$1,IF(OR(AND(ODD($A54)=$A54,ODD(T$2)=T$2),AND(EVEN($A54)=$A54,EVEN(T$2)=T$2)),T$1,-100))","v":328.125},{"$f":"IF('Ceiling Speaker Calculator'!$C$29=\"Square\",U$1,IF(OR(AND(ODD($A54)=$A54,ODD(U$2)=U$2),AND(EVEN($A54)=$A54,EVEN(U$2)=U$2)),U$1,-100))","v":346.875},{"$f":"IF('Ceiling Speaker Calculator'!$C$29=\"Square\",V$1,IF(OR(AND(ODD($A54)=$A54,ODD(V$2)=V$2),AND(EVEN($A54)=$A54,EVEN(V$2)=V$2)),V$1,-100))","v":365.625},{"$f":"IF('Ceiling Speaker Calculator'!$C$29=\"Square\",W$1,IF(OR(AND(ODD($A54)=$A54,ODD(W$2)=W$2),AND(EVEN($A54)=$A54,EVEN(W$2)=W$2)),W$1,-100))","v":384.375},{"$f":"IF('Ceiling Speaker Calculator'!$C$29=\"Square\",X$1,IF(OR(AND(ODD($A54)=$A54,ODD(X$2)=X$2),AND(EVEN($A54)=$A54,EVEN(X$2)=X$2)),X$1,-100))","v":403.125},{"$f":"IF('Ceiling Speaker Calculator'!$C$29=\"Square\",Y$1,IF(OR(AND(ODD($A54)=$A54,ODD(Y$2)=Y$2),AND(EVEN($A54)=$A54,EVEN(Y$2)=Y$2)),Y$1,-100))","v":421.875},{"$f":"IF('Ceiling Speaker Calculator'!$C$29=\"Square\",Z$1,IF(OR(AND(ODD($A54)=$A54,ODD(Z$2)=Z$2),AND(EVEN($A54)=$A54,EVEN(Z$2)=Z$2)),Z$1,-100))","v":440.625},{"$f":"IF('Ceiling Speaker Calculator'!$C$29=\"Square\",AA$1,IF(OR(AND(ODD($A54)=$A54,ODD(AA$2)=AA$2),AND(EVEN($A54)=$A54,EVEN(AA$2)=AA$2)),AA$1,-100))","v":459.375},{"$f":"IF('Ceiling Speaker Calculator'!$C$29=\"Square\",AB$1,IF(OR(AND(ODD($A54)=$A54,ODD(AB$2)=AB$2),AND(EVEN($A54)=$A54,EVEN(AB$2)=AB$2)),AB$1,-100))","v":478.125},{"$f":"IF('Ceiling Speaker Calculator'!$C$29=\"Square\",AC$1,IF(OR(AND(ODD($A54)=$A54,ODD(AC$2)=AC$2),AND(EVEN($A54)=$A54,EVEN(AC$2)=AC$2)),AC$1,-100))","v":496.875},{"$f":"IF('Ceiling Speaker Calculator'!$C$29=\"Square\",AD$1,IF(OR(AND(ODD($A54)=$A54,ODD(AD$2)=AD$2),AND(EVEN($A54)=$A54,EVEN(AD$2)=AD$2)),AD$1,-100))","v":515.625},{"$f":"IF('Ceiling Speaker Calculator'!$C$29=\"Square\",AE$1,IF(OR(AND(ODD($A54)=$A54,ODD(AE$2)=AE$2),AND(EVEN($A54)=$A54,EVEN(AE$2)=AE$2)),AE$1,-100))","v":534.375},{"$f":"IF('Ceiling Speaker Calculator'!$C$29=\"Square\",AF$1,IF(OR(AND(ODD($A54)=$A54,ODD(AF$2)=AF$2),AND(EVEN($A54)=$A54,EVEN(AF$2)=AF$2)),AF$1,-100))","v":553.125},{"$f":"IF('Ceiling Speaker Calculator'!$C$29=\"Square\",AG$1,IF(OR(AND(ODD($A54)=$A54,ODD(AG$2)=AG$2),AND(EVEN($A54)=$A54,EVEN(AG$2)=AG$2)),AG$1,-100))","v":571.875},{"$f":"IF('Ceiling Speaker Calculator'!$C$29=\"Square\",AH$1,IF(OR(AND(ODD($A54)=$A54,ODD(AH$2)=AH$2),AND(EVEN($A54)=$A54,EVEN(AH$2)=AH$2)),AH$1,-100))","v":590.625},{"$f":"IF('Ceiling Speaker Calculator'!$C$29=\"Square\",AI$1,IF(OR(AND(ODD($A54)=$A54,ODD(AI$2)=AI$2),AND(EVEN($A54)=$A54,EVEN(AI$2)=AI$2)),AI$1,-100))","v":609.375},{"$f":"IF('Ceiling Speaker Calculator'!$C$29=\"Square\",AJ$1,IF(OR(AND(ODD($A54)=$A54,ODD(AJ$2)=AJ$2),AND(EVEN($A54)=$A54,EVEN(AJ$2)=AJ$2)),AJ$1,-100))","v":628.125},{"$f":"IF('Ceiling Speaker Calculator'!$C$29=\"Square\",AK$1,IF(OR(AND(ODD($A54)=$A54,ODD(AK$2)=AK$2),AND(EVEN($A54)=$A54,EVEN(AK$2)=AK$2)),AK$1,-100))","v":646.875},{"$f":"IF('Ceiling Speaker Calculator'!$C$29=\"Square\",AL$1,IF(OR(AND(ODD($A54)=$A54,ODD(AL$2)=AL$2),AND(EVEN($A54)=$A54,EVEN(AL$2)=AL$2)),AL$1,-100))","v":665.625},{"$f":"IF('Ceiling Speaker Calculator'!$C$29=\"Square\",AM$1,IF(OR(AND(ODD($A54)=$A54,ODD(AM$2)=AM$2),AND(EVEN($A54)=$A54,EVEN(AM$2)=AM$2)),AM$1,-100))","v":684.375},{"$f":"IF('Ceiling Speaker Calculator'!$C$29=\"Square\",AN$1,IF(OR(AND(ODD($A54)=$A54,ODD(AN$2)=AN$2),AND(EVEN($A54)=$A54,EVEN(AN$2)=AN$2)),AN$1,-100))","v":703.125},{"$f":"IF('Ceiling Speaker Calculator'!$C$29=\"Square\",AO$1,IF(OR(AND(ODD($A54)=$A54,ODD(AO$2)=AO$2),AND(EVEN($A54)=$A54,EVEN(AO$2)=AO$2)),AO$1,-100))","v":721.875},{"$f":"IF('Ceiling Speaker Calculator'!$C$29=\"Square\",AP$1,IF(OR(AND(ODD($A54)=$A54,ODD(AP$2)=AP$2),AND(EVEN($A54)=$A54,EVEN(AP$2)=AP$2)),AP$1,-100))","v":740.625},{"$f":"IF('Ceiling Speaker Calculator'!$C$29=\"Square\",AQ$1,IF(OR(AND(ODD($A54)=$A54,ODD(AQ$2)=AQ$2),AND(EVEN($A54)=$A54,EVEN(AQ$2)=AQ$2)),AQ$1,-100))","v":759.375},{"$f":"IF('Ceiling Speaker Calculator'!$C$29=\"Square\",AR$1,IF(OR(AND(ODD($A54)=$A54,ODD(AR$2)=AR$2),AND(EVEN($A54)=$A54,EVEN(AR$2)=AR$2)),AR$1,-100))","v":778.125},{"$f":"IF('Ceiling Speaker Calculator'!$C$29=\"Square\",AS$1,IF(OR(AND(ODD($A54)=$A54,ODD(AS$2)=AS$2),AND(EVEN($A54)=$A54,EVEN(AS$2)=AS$2)),AS$1,-100))","v":796.875},{"$f":"IF('Ceiling Speaker Calculator'!$C$29=\"Square\",AT$1,IF(OR(AND(ODD($A54)=$A54,ODD(AT$2)=AT$2),AND(EVEN($A54)=$A54,EVEN(AT$2)=AT$2)),AT$1,-100))","v":815.625},{"$f":"IF('Ceiling Speaker Calculator'!$C$29=\"Square\",AU$1,IF(OR(AND(ODD($A54)=$A54,ODD(AU$2)=AU$2),AND(EVEN($A54)=$A54,EVEN(AU$2)=AU$2)),AU$1,-100))","v":834.375},{"$f":"IF('Ceiling Speaker Calculator'!$C$29=\"Square\",AV$1,IF(OR(AND(ODD($A54)=$A54,ODD(AV$2)=AV$2),AND(EVEN($A54)=$A54,EVEN(AV$2)=AV$2)),AV$1,-100))","v":853.125},{"$f":"IF('Ceiling Speaker Calculator'!$C$29=\"Square\",AW$1,IF(OR(AND(ODD($A54)=$A54,ODD(AW$2)=AW$2),AND(EVEN($A54)=$A54,EVEN(AW$2)=AW$2)),AW$1,-100))","v":871.875},{"$f":"IF('Ceiling Speaker Calculator'!$C$29=\"Square\",AX$1,IF(OR(AND(ODD($A54)=$A54,ODD(AX$2)=AX$2),AND(EVEN($A54)=$A54,EVEN(AX$2)=AX$2)),AX$1,-100))","v":890.625},{"$f":"IF('Ceiling Speaker Calculator'!$C$29=\"Square\",AY$1,IF(OR(AND(ODD($A54)=$A54,ODD(AY$2)=AY$2),AND(EVEN($A54)=$A54,EVEN(AY$2)=AY$2)),AY$1,-100))","v":909.375},{"$f":"IF('Ceiling Speaker Calculator'!$C$29=\"Square\",AZ$1,IF(OR(AND(ODD($A54)=$A54,ODD(AZ$2)=AZ$2),AND(EVEN($A54)=$A54,EVEN(AZ$2)=AZ$2)),AZ$1,-100))","v":928.125},{"$f":"IF('Ceiling Speaker Calculator'!$C$29=\"Square\",BA$1,IF(OR(AND(ODD($A54)=$A54,ODD(BA$2)=BA$2),AND(EVEN($A54)=$A54,EVEN(BA$2)=BA$2)),BA$1,-100))","v":946.875},{"$f":"IF('Ceiling Speaker Calculator'!$C$29=\"Square\",BB$1,IF(OR(AND(ODD($A54)=$A54,ODD(BB$2)=BB$2),AND(EVEN($A54)=$A54,EVEN(BB$2)=BB$2)),BB$1,-100))","v":965.625},{"$f":"IF('Ceiling Speaker Calculator'!$C$29=\"Square\",BC$1,IF(OR(AND(ODD($A54)=$A54,ODD(BC$2)=BC$2),AND(EVEN($A54)=$A54,EVEN(BC$2)=BC$2)),BC$1,-100))","v":984.375},{"$f":"IF('Ceiling Speaker Calculator'!$C$29=\"Square\",BD$1,IF(OR(AND(ODD($A54)=$A54,ODD(BD$2)=BD$2),AND(EVEN($A54)=$A54,EVEN(BD$2)=BD$2)),BD$1,-100))","v":1003.125},{"$f":"IF('Ceiling Speaker Calculator'!$C$29=\"Square\",BE$1,IF(OR(AND(ODD($A54)=$A54,ODD(BE$2)=BE$2),AND(EVEN($A54)=$A54,EVEN(BE$2)=BE$2)),BE$1,-100))","v":1021.875},{"$f":"IF('Ceiling Speaker Calculator'!$C$29=\"Square\",BF$1,IF(OR(AND(ODD($A54)=$A54,ODD(BF$2)=BF$2),AND(EVEN($A54)=$A54,EVEN(BF$2)=BF$2)),BF$1,-100))","v":1040.625},{"$f":"IF('Ceiling Speaker Calculator'!$C$29=\"Square\",BG$1,IF(OR(AND(ODD($A54)=$A54,ODD(BG$2)=BG$2),AND(EVEN($A54)=$A54,EVEN(BG$2)=BG$2)),BG$1,-100))","v":1059.375},{"$f":"IF('Ceiling Speaker Calculator'!$C$29=\"Square\",BH$1,IF(OR(AND(ODD($A54)=$A54,ODD(BH$2)=BH$2),AND(EVEN($A54)=$A54,EVEN(BH$2)=BH$2)),BH$1,-100))","v":1078.125},{"$f":"IF('Ceiling Speaker Calculator'!$C$29=\"Square\",BI$1,IF(OR(AND(ODD($A54)=$A54,ODD(BI$2)=BI$2),AND(EVEN($A54)=$A54,EVEN(BI$2)=BI$2)),BI$1,-100))","v":1096.875},{"$f":"IF('Ceiling Speaker Calculator'!$C$29=\"Square\",BJ$1,IF(OR(AND(ODD($A54)=$A54,ODD(BJ$2)=BJ$2),AND(EVEN($A54)=$A54,EVEN(BJ$2)=BJ$2)),BJ$1,-100))","v":1115.625},{"$f":"IF('Ceiling Speaker Calculator'!$C$29=\"Square\",BK$1,IF(OR(AND(ODD($A54)=$A54,ODD(BK$2)=BK$2),AND(EVEN($A54)=$A54,EVEN(BK$2)=BK$2)),BK$1,-100))","v":1134.375},{"$f":"IF('Ceiling Speaker Calculator'!$C$29=\"Square\",BL$1,IF(OR(AND(ODD($A54)=$A54,ODD(BL$2)=BL$2),AND(EVEN($A54)=$A54,EVEN(BL$2)=BL$2)),BL$1,-100))","v":1153.125},{"$f":"IF('Ceiling Speaker Calculator'!$C$29=\"Square\",BM$1,IF(OR(AND(ODD($A54)=$A54,ODD(BM$2)=BM$2),AND(EVEN($A54)=$A54,EVEN(BM$2)=BM$2)),BM$1,-100))","v":1171.875},{"$f":"IF('Ceiling Speaker Calculator'!$C$29=\"Square\",BN$1,IF(OR(AND(ODD($A54)=$A54,ODD(BN$2)=BN$2),AND(EVEN($A54)=$A54,EVEN(BN$2)=BN$2)),BN$1,-100))","v":1190.625},{"$f":"IF('Ceiling Speaker Calculator'!$C$29=\"Square\",BO$1,IF(OR(AND(ODD($A54)=$A54,ODD(BO$2)=BO$2),AND(EVEN($A54)=$A54,EVEN(BO$2)=BO$2)),BO$1,-100))","v":1209.375},{"$f":"IF('Ceiling Speaker Calculator'!$C$29=\"Square\",BP$1,IF(OR(AND(ODD($A54)=$A54,ODD(BP$2)=BP$2),AND(EVEN($A54)=$A54,EVEN(BP$2)=BP$2)),BP$1,-100))","v":1228.125},{"$f":"IF('Ceiling Speaker Calculator'!$C$29=\"Square\",BQ$1,IF(OR(AND(ODD($A54)=$A54,ODD(BQ$2)=BQ$2),AND(EVEN($A54)=$A54,EVEN(BQ$2)=BQ$2)),BQ$1,-100))","v":1246.875},{"$f":"IF('Ceiling Speaker Calculator'!$C$29=\"Square\",BR$1,IF(OR(AND(ODD($A54)=$A54,ODD(BR$2)=BR$2),AND(EVEN($A54)=$A54,EVEN(BR$2)=BR$2)),BR$1,-100))","v":1265.625},{"$f":"IF('Ceiling Speaker Calculator'!$C$29=\"Square\",BS$1,IF(OR(AND(ODD($A54)=$A54,ODD(BS$2)=BS$2),AND(EVEN($A54)=$A54,EVEN(BS$2)=BS$2)),BS$1,-100))","v":1284.375},{"$f":"IF('Ceiling Speaker Calculator'!$C$29=\"Square\",BT$1,IF(OR(AND(ODD($A54)=$A54,ODD(BT$2)=BT$2),AND(EVEN($A54)=$A54,EVEN(BT$2)=BT$2)),BT$1,-100))","v":1303.125},{"$f":"IF('Ceiling Speaker Calculator'!$C$29=\"Square\",BU$1,IF(OR(AND(ODD($A54)=$A54,ODD(BU$2)=BU$2),AND(EVEN($A54)=$A54,EVEN(BU$2)=BU$2)),BU$1,-100))","v":1321.875},{"$f":"IF('Ceiling Speaker Calculator'!$C$29=\"Square\",BV$1,IF(OR(AND(ODD($A54)=$A54,ODD(BV$2)=BV$2),AND(EVEN($A54)=$A54,EVEN(BV$2)=BV$2)),BV$1,-100))","v":1340.625},{"$f":"IF('Ceiling Speaker Calculator'!$C$29=\"Square\",BW$1,IF(OR(AND(ODD($A54)=$A54,ODD(BW$2)=BW$2),AND(EVEN($A54)=$A54,EVEN(BW$2)=BW$2)),BW$1,-100))","v":1359.375},{"$f":"IF('Ceiling Speaker Calculator'!$C$29=\"Square\",BX$1,IF(OR(AND(ODD($A54)=$A54,ODD(BX$2)=BX$2),AND(EVEN($A54)=$A54,EVEN(BX$2)=BX$2)),BX$1,-100))","v":1378.125},{"$f":"IF('Ceiling Speaker Calculator'!$C$29=\"Square\",BY$1,IF(OR(AND(ODD($A54)=$A54,ODD(BY$2)=BY$2),AND(EVEN($A54)=$A54,EVEN(BY$2)=BY$2)),BY$1,-100))","v":1396.875},{"$f":"IF('Ceiling Speaker Calculator'!$C$29=\"Square\",BZ$1,IF(OR(AND(ODD($A54)=$A54,ODD(BZ$2)=BZ$2),AND(EVEN($A54)=$A54,EVEN(BZ$2)=BZ$2)),BZ$1,-100))","v":1415.625},{"$f":"IF('Ceiling Speaker Calculator'!$C$29=\"Square\",CA$1,IF(OR(AND(ODD($A54)=$A54,ODD(CA$2)=CA$2),AND(EVEN($A54)=$A54,EVEN(CA$2)=CA$2)),CA$1,-100))","v":1434.375},{"$f":"IF('Ceiling Speaker Calculator'!$C$29=\"Square\",CB$1,IF(OR(AND(ODD($A54)=$A54,ODD(CB$2)=CB$2),AND(EVEN($A54)=$A54,EVEN(CB$2)=CB$2)),CB$1,-100))","v":1453.125},{"$f":"IF('Ceiling Speaker Calculator'!$C$29=\"Square\",CC$1,IF(OR(AND(ODD($A54)=$A54,ODD(CC$2)=CC$2),AND(EVEN($A54)=$A54,EVEN(CC$2)=CC$2)),CC$1,-100))","v":1471.875},{"$f":"IF('Ceiling Speaker Calculator'!$C$29=\"Square\",CD$1,IF(OR(AND(ODD($A54)=$A54,ODD(CD$2)=CD$2),AND(EVEN($A54)=$A54,EVEN(CD$2)=CD$2)),CD$1,-100))","v":1490.625},{"$f":"IF('Ceiling Speaker Calculator'!$C$29=\"Square\",CE$1,IF(OR(AND(ODD($A54)=$A54,ODD(CE$2)=CE$2),AND(EVEN($A54)=$A54,EVEN(CE$2)=CE$2)),CE$1,-100))","v":1509.375},{"$f":"IF('Ceiling Speaker Calculator'!$C$29=\"Square\",CF$1,IF(OR(AND(ODD($A54)=$A54,ODD(CF$2)=CF$2),AND(EVEN($A54)=$A54,EVEN(CF$2)=CF$2)),CF$1,-100))","v":1528.125},{"$f":"IF('Ceiling Speaker Calculator'!$C$29=\"Square\",CG$1,IF(OR(AND(ODD($A54)=$A54,ODD(CG$2)=CG$2),AND(EVEN($A54)=$A54,EVEN(CG$2)=CG$2)),CG$1,-100))","v":1546.875},{"$f":"IF('Ceiling Speaker Calculator'!$C$29=\"Square\",CH$1,IF(OR(AND(ODD($A54)=$A54,ODD(CH$2)=CH$2),AND(EVEN($A54)=$A54,EVEN(CH$2)=CH$2)),CH$1,-100))","v":1565.625},{"$f":"IF('Ceiling Speaker Calculator'!$C$29=\"Square\",CI$1,IF(OR(AND(ODD($A54)=$A54,ODD(CI$2)=CI$2),AND(EVEN($A54)=$A54,EVEN(CI$2)=CI$2)),CI$1,-100))","v":1584.375},{"$f":"IF('Ceiling Speaker Calculator'!$C$29=\"Square\",CJ$1,IF(OR(AND(ODD($A54)=$A54,ODD(CJ$2)=CJ$2),AND(EVEN($A54)=$A54,EVEN(CJ$2)=CJ$2)),CJ$1,-100))","v":1603.125},{"$f":"IF('Ceiling Speaker Calculator'!$C$29=\"Square\",CK$1,IF(OR(AND(ODD($A54)=$A54,ODD(CK$2)=CK$2),AND(EVEN($A54)=$A54,EVEN(CK$2)=CK$2)),CK$1,-100))","v":1621.875},{"$f":"IF('Ceiling Speaker Calculator'!$C$29=\"Square\",CL$1,IF(OR(AND(ODD($A54)=$A54,ODD(CL$2)=CL$2),AND(EVEN($A54)=$A54,EVEN(CL$2)=CL$2)),CL$1,-100))","v":1640.625},{"$f":"IF('Ceiling Speaker Calculator'!$C$29=\"Square\",CM$1,IF(OR(AND(ODD($A54)=$A54,ODD(CM$2)=CM$2),AND(EVEN($A54)=$A54,EVEN(CM$2)=CM$2)),CM$1,-100))","v":1659.375},{"$f":"IF('Ceiling Speaker Calculator'!$C$29=\"Square\",CN$1,IF(OR(AND(ODD($A54)=$A54,ODD(CN$2)=CN$2),AND(EVEN($A54)=$A54,EVEN(CN$2)=CN$2)),CN$1,-100))","v":1678.125},{"$f":"IF('Ceiling Speaker Calculator'!$C$29=\"Square\",CO$1,IF(OR(AND(ODD($A54)=$A54,ODD(CO$2)=CO$2),AND(EVEN($A54)=$A54,EVEN(CO$2)=CO$2)),CO$1,-100))","v":1696.875},{"$f":"IF('Ceiling Speaker Calculator'!$C$29=\"Square\",CP$1,IF(OR(AND(ODD($A54)=$A54,ODD(CP$2)=CP$2),AND(EVEN($A54)=$A54,EVEN(CP$2)=CP$2)),CP$1,-100))","v":1715.625},{"$f":"IF('Ceiling Speaker Calculator'!$C$29=\"Square\",CQ$1,IF(OR(AND(ODD($A54)=$A54,ODD(CQ$2)=CQ$2),AND(EVEN($A54)=$A54,EVEN(CQ$2)=CQ$2)),CQ$1,-100))","v":1734.375},{"$f":"IF('Ceiling Speaker Calculator'!$C$29=\"Square\",CR$1,IF(OR(AND(ODD($A54)=$A54,ODD(CR$2)=CR$2),AND(EVEN($A54)=$A54,EVEN(CR$2)=CR$2)),CR$1,-100))","v":1753.125},{"$f":"IF('Ceiling Speaker Calculator'!$C$29=\"Square\",CS$1,IF(OR(AND(ODD($A54)=$A54,ODD(CS$2)=CS$2),AND(EVEN($A54)=$A54,EVEN(CS$2)=CS$2)),CS$1,-100))","v":1771.875},{"$f":"IF('Ceiling Speaker Calculator'!$C$29=\"Square\",CT$1,IF(OR(AND(ODD($A54)=$A54,ODD(CT$2)=CT$2),AND(EVEN($A54)=$A54,EVEN(CT$2)=CT$2)),CT$1,-100))","v":1790.625},{"$f":"IF('Ceiling Speaker Calculator'!$C$29=\"Square\",CU$1,IF(OR(AND(ODD($A54)=$A54,ODD(CU$2)=CU$2),AND(EVEN($A54)=$A54,EVEN(CU$2)=CU$2)),CU$1,-100))","v":1809.375},{"$f":"IF('Ceiling Speaker Calculator'!$C$29=\"Square\",CV$1,IF(OR(AND(ODD($A54)=$A54,ODD(CV$2)=CV$2),AND(EVEN($A54)=$A54,EVEN(CV$2)=CV$2)),CV$1,-100))","v":1828.125},{"$f":"IF('Ceiling Speaker Calculator'!$C$29=\"Square\",CW$1,IF(OR(AND(ODD($A54)=$A54,ODD(CW$2)=CW$2),AND(EVEN($A54)=$A54,EVEN(CW$2)=CW$2)),CW$1,-100))","v":1846.875},{"$f":"IF('Ceiling Speaker Calculator'!$C$29=\"Square\",CX$1,IF(OR(AND(ODD($A54)=$A54,ODD(CX$2)=CX$2),AND(EVEN($A54)=$A54,EVEN(CX$2)=CX$2)),CX$1,-100))","v":1865.625}]
[53,{"$f":"B54+'Ceiling Speaker Calculator'!$K$16","v":1050},{"$f":"IF('Ceiling Speaker Calculator'!$C$29=\"Square\",C$1,IF(OR(AND(ODD($A55)=$A55,ODD(C$2)=C$2),AND(EVEN($A55)=$A55,EVEN(C$2)=C$2)),C$1,-100))","v":9.375},{"$f":"IF('Ceiling Speaker Calculator'!$C$29=\"Square\",D$1,IF(OR(AND(ODD($A55)=$A55,ODD(D$2)=D$2),AND(EVEN($A55)=$A55,EVEN(D$2)=D$2)),D$1,-100))","v":28.125},{"$f":"IF('Ceiling Speaker Calculator'!$C$29=\"Square\",E$1,IF(OR(AND(ODD($A55)=$A55,ODD(E$2)=E$2),AND(EVEN($A55)=$A55,EVEN(E$2)=E$2)),E$1,-100))","v":46.875},{"$f":"IF('Ceiling Speaker Calculator'!$C$29=\"Square\",F$1,IF(OR(AND(ODD($A55)=$A55,ODD(F$2)=F$2),AND(EVEN($A55)=$A55,EVEN(F$2)=F$2)),F$1,-100))","v":65.625},{"$f":"IF('Ceiling Speaker Calculator'!$C$29=\"Square\",G$1,IF(OR(AND(ODD($A55)=$A55,ODD(G$2)=G$2),AND(EVEN($A55)=$A55,EVEN(G$2)=G$2)),G$1,-100))","v":84.375},{"$f":"IF('Ceiling Speaker Calculator'!$C$29=\"Square\",H$1,IF(OR(AND(ODD($A55)=$A55,ODD(H$2)=H$2),AND(EVEN($A55)=$A55,EVEN(H$2)=H$2)),H$1,-100))","v":103.125},{"$f":"IF('Ceiling Speaker Calculator'!$C$29=\"Square\",I$1,IF(OR(AND(ODD($A55)=$A55,ODD(I$2)=I$2),AND(EVEN($A55)=$A55,EVEN(I$2)=I$2)),I$1,-100))","v":121.875},{"$f":"IF('Ceiling Speaker Calculator'!$C$29=\"Square\",J$1,IF(OR(AND(ODD($A55)=$A55,ODD(J$2)=J$2),AND(EVEN($A55)=$A55,EVEN(J$2)=J$2)),J$1,-100))","v":140.625},{"$f":"IF('Ceiling Speaker Calculator'!$C$29=\"Square\",K$1,IF(OR(AND(ODD($A55)=$A55,ODD(K$2)=K$2),AND(EVEN($A55)=$A55,EVEN(K$2)=K$2)),K$1,-100))","v":159.375},{"$f":"IF('Ceiling Speaker Calculator'!$C$29=\"Square\",L$1,IF(OR(AND(ODD($A55)=$A55,ODD(L$2)=L$2),AND(EVEN($A55)=$A55,EVEN(L$2)=L$2)),L$1,-100))","v":178.125},{"$f":"IF('Ceiling Speaker Calculator'!$C$29=\"Square\",M$1,IF(OR(AND(ODD($A55)=$A55,ODD(M$2)=M$2),AND(EVEN($A55)=$A55,EVEN(M$2)=M$2)),M$1,-100))","v":196.875},{"$f":"IF('Ceiling Speaker Calculator'!$C$29=\"Square\",N$1,IF(OR(AND(ODD($A55)=$A55,ODD(N$2)=N$2),AND(EVEN($A55)=$A55,EVEN(N$2)=N$2)),N$1,-100))","v":215.625},{"$f":"IF('Ceiling Speaker Calculator'!$C$29=\"Square\",O$1,IF(OR(AND(ODD($A55)=$A55,ODD(O$2)=O$2),AND(EVEN($A55)=$A55,EVEN(O$2)=O$2)),O$1,-100))","v":234.375},{"$f":"IF('Ceiling Speaker Calculator'!$C$29=\"Square\",P$1,IF(OR(AND(ODD($A55)=$A55,ODD(P$2)=P$2),AND(EVEN($A55)=$A55,EVEN(P$2)=P$2)),P$1,-100))","v":253.125},{"$f":"IF('Ceiling Speaker Calculator'!$C$29=\"Square\",Q$1,IF(OR(AND(ODD($A55)=$A55,ODD(Q$2)=Q$2),AND(EVEN($A55)=$A55,EVEN(Q$2)=Q$2)),Q$1,-100))","v":271.875},{"$f":"IF('Ceiling Speaker Calculator'!$C$29=\"Square\",R$1,IF(OR(AND(ODD($A55)=$A55,ODD(R$2)=R$2),AND(EVEN($A55)=$A55,EVEN(R$2)=R$2)),R$1,-100))","v":290.625},{"$f":"IF('Ceiling Speaker Calculator'!$C$29=\"Square\",S$1,IF(OR(AND(ODD($A55)=$A55,ODD(S$2)=S$2),AND(EVEN($A55)=$A55,EVEN(S$2)=S$2)),S$1,-100))","v":309.375},{"$f":"IF('Ceiling Speaker Calculator'!$C$29=\"Square\",T$1,IF(OR(AND(ODD($A55)=$A55,ODD(T$2)=T$2),AND(EVEN($A55)=$A55,EVEN(T$2)=T$2)),T$1,-100))","v":328.125},{"$f":"IF('Ceiling Speaker Calculator'!$C$29=\"Square\",U$1,IF(OR(AND(ODD($A55)=$A55,ODD(U$2)=U$2),AND(EVEN($A55)=$A55,EVEN(U$2)=U$2)),U$1,-100))","v":346.875},{"$f":"IF('Ceiling Speaker Calculator'!$C$29=\"Square\",V$1,IF(OR(AND(ODD($A55)=$A55,ODD(V$2)=V$2),AND(EVEN($A55)=$A55,EVEN(V$2)=V$2)),V$1,-100))","v":365.625},{"$f":"IF('Ceiling Speaker Calculator'!$C$29=\"Square\",W$1,IF(OR(AND(ODD($A55)=$A55,ODD(W$2)=W$2),AND(EVEN($A55)=$A55,EVEN(W$2)=W$2)),W$1,-100))","v":384.375},{"$f":"IF('Ceiling Speaker Calculator'!$C$29=\"Square\",X$1,IF(OR(AND(ODD($A55)=$A55,ODD(X$2)=X$2),AND(EVEN($A55)=$A55,EVEN(X$2)=X$2)),X$1,-100))","v":403.125},{"$f":"IF('Ceiling Speaker Calculator'!$C$29=\"Square\",Y$1,IF(OR(AND(ODD($A55)=$A55,ODD(Y$2)=Y$2),AND(EVEN($A55)=$A55,EVEN(Y$2)=Y$2)),Y$1,-100))","v":421.875},{"$f":"IF('Ceiling Speaker Calculator'!$C$29=\"Square\",Z$1,IF(OR(AND(ODD($A55)=$A55,ODD(Z$2)=Z$2),AND(EVEN($A55)=$A55,EVEN(Z$2)=Z$2)),Z$1,-100))","v":440.625},{"$f":"IF('Ceiling Speaker Calculator'!$C$29=\"Square\",AA$1,IF(OR(AND(ODD($A55)=$A55,ODD(AA$2)=AA$2),AND(EVEN($A55)=$A55,EVEN(AA$2)=AA$2)),AA$1,-100))","v":459.375},{"$f":"IF('Ceiling Speaker Calculator'!$C$29=\"Square\",AB$1,IF(OR(AND(ODD($A55)=$A55,ODD(AB$2)=AB$2),AND(EVEN($A55)=$A55,EVEN(AB$2)=AB$2)),AB$1,-100))","v":478.125},{"$f":"IF('Ceiling Speaker Calculator'!$C$29=\"Square\",AC$1,IF(OR(AND(ODD($A55)=$A55,ODD(AC$2)=AC$2),AND(EVEN($A55)=$A55,EVEN(AC$2)=AC$2)),AC$1,-100))","v":496.875},{"$f":"IF('Ceiling Speaker Calculator'!$C$29=\"Square\",AD$1,IF(OR(AND(ODD($A55)=$A55,ODD(AD$2)=AD$2),AND(EVEN($A55)=$A55,EVEN(AD$2)=AD$2)),AD$1,-100))","v":515.625},{"$f":"IF('Ceiling Speaker Calculator'!$C$29=\"Square\",AE$1,IF(OR(AND(ODD($A55)=$A55,ODD(AE$2)=AE$2),AND(EVEN($A55)=$A55,EVEN(AE$2)=AE$2)),AE$1,-100))","v":534.375},{"$f":"IF('Ceiling Speaker Calculator'!$C$29=\"Square\",AF$1,IF(OR(AND(ODD($A55)=$A55,ODD(AF$2)=AF$2),AND(EVEN($A55)=$A55,EVEN(AF$2)=AF$2)),AF$1,-100))","v":553.125},{"$f":"IF('Ceiling Speaker Calculator'!$C$29=\"Square\",AG$1,IF(OR(AND(ODD($A55)=$A55,ODD(AG$2)=AG$2),AND(EVEN($A55)=$A55,EVEN(AG$2)=AG$2)),AG$1,-100))","v":571.875},{"$f":"IF('Ceiling Speaker Calculator'!$C$29=\"Square\",AH$1,IF(OR(AND(ODD($A55)=$A55,ODD(AH$2)=AH$2),AND(EVEN($A55)=$A55,EVEN(AH$2)=AH$2)),AH$1,-100))","v":590.625},{"$f":"IF('Ceiling Speaker Calculator'!$C$29=\"Square\",AI$1,IF(OR(AND(ODD($A55)=$A55,ODD(AI$2)=AI$2),AND(EVEN($A55)=$A55,EVEN(AI$2)=AI$2)),AI$1,-100))","v":609.375},{"$f":"IF('Ceiling Speaker Calculator'!$C$29=\"Square\",AJ$1,IF(OR(AND(ODD($A55)=$A55,ODD(AJ$2)=AJ$2),AND(EVEN($A55)=$A55,EVEN(AJ$2)=AJ$2)),AJ$1,-100))","v":628.125},{"$f":"IF('Ceiling Speaker Calculator'!$C$29=\"Square\",AK$1,IF(OR(AND(ODD($A55)=$A55,ODD(AK$2)=AK$2),AND(EVEN($A55)=$A55,EVEN(AK$2)=AK$2)),AK$1,-100))","v":646.875},{"$f":"IF('Ceiling Speaker Calculator'!$C$29=\"Square\",AL$1,IF(OR(AND(ODD($A55)=$A55,ODD(AL$2)=AL$2),AND(EVEN($A55)=$A55,EVEN(AL$2)=AL$2)),AL$1,-100))","v":665.625},{"$f":"IF('Ceiling Speaker Calculator'!$C$29=\"Square\",AM$1,IF(OR(AND(ODD($A55)=$A55,ODD(AM$2)=AM$2),AND(EVEN($A55)=$A55,EVEN(AM$2)=AM$2)),AM$1,-100))","v":684.375},{"$f":"IF('Ceiling Speaker Calculator'!$C$29=\"Square\",AN$1,IF(OR(AND(ODD($A55)=$A55,ODD(AN$2)=AN$2),AND(EVEN($A55)=$A55,EVEN(AN$2)=AN$2)),AN$1,-100))","v":703.125},{"$f":"IF('Ceiling Speaker Calculator'!$C$29=\"Square\",AO$1,IF(OR(AND(ODD($A55)=$A55,ODD(AO$2)=AO$2),AND(EVEN($A55)=$A55,EVEN(AO$2)=AO$2)),AO$1,-100))","v":721.875},{"$f":"IF('Ceiling Speaker Calculator'!$C$29=\"Square\",AP$1,IF(OR(AND(ODD($A55)=$A55,ODD(AP$2)=AP$2),AND(EVEN($A55)=$A55,EVEN(AP$2)=AP$2)),AP$1,-100))","v":740.625},{"$f":"IF('Ceiling Speaker Calculator'!$C$29=\"Square\",AQ$1,IF(OR(AND(ODD($A55)=$A55,ODD(AQ$2)=AQ$2),AND(EVEN($A55)=$A55,EVEN(AQ$2)=AQ$2)),AQ$1,-100))","v":759.375},{"$f":"IF('Ceiling Speaker Calculator'!$C$29=\"Square\",AR$1,IF(OR(AND(ODD($A55)=$A55,ODD(AR$2)=AR$2),AND(EVEN($A55)=$A55,EVEN(AR$2)=AR$2)),AR$1,-100))","v":778.125},{"$f":"IF('Ceiling Speaker Calculator'!$C$29=\"Square\",AS$1,IF(OR(AND(ODD($A55)=$A55,ODD(AS$2)=AS$2),AND(EVEN($A55)=$A55,EVEN(AS$2)=AS$2)),AS$1,-100))","v":796.875},{"$f":"IF('Ceiling Speaker Calculator'!$C$29=\"Square\",AT$1,IF(OR(AND(ODD($A55)=$A55,ODD(AT$2)=AT$2),AND(EVEN($A55)=$A55,EVEN(AT$2)=AT$2)),AT$1,-100))","v":815.625},{"$f":"IF('Ceiling Speaker Calculator'!$C$29=\"Square\",AU$1,IF(OR(AND(ODD($A55)=$A55,ODD(AU$2)=AU$2),AND(EVEN($A55)=$A55,EVEN(AU$2)=AU$2)),AU$1,-100))","v":834.375},{"$f":"IF('Ceiling Speaker Calculator'!$C$29=\"Square\",AV$1,IF(OR(AND(ODD($A55)=$A55,ODD(AV$2)=AV$2),AND(EVEN($A55)=$A55,EVEN(AV$2)=AV$2)),AV$1,-100))","v":853.125},{"$f":"IF('Ceiling Speaker Calculator'!$C$29=\"Square\",AW$1,IF(OR(AND(ODD($A55)=$A55,ODD(AW$2)=AW$2),AND(EVEN($A55)=$A55,EVEN(AW$2)=AW$2)),AW$1,-100))","v":871.875},{"$f":"IF('Ceiling Speaker Calculator'!$C$29=\"Square\",AX$1,IF(OR(AND(ODD($A55)=$A55,ODD(AX$2)=AX$2),AND(EVEN($A55)=$A55,EVEN(AX$2)=AX$2)),AX$1,-100))","v":890.625},{"$f":"IF('Ceiling Speaker Calculator'!$C$29=\"Square\",AY$1,IF(OR(AND(ODD($A55)=$A55,ODD(AY$2)=AY$2),AND(EVEN($A55)=$A55,EVEN(AY$2)=AY$2)),AY$1,-100))","v":909.375},{"$f":"IF('Ceiling Speaker Calculator'!$C$29=\"Square\",AZ$1,IF(OR(AND(ODD($A55)=$A55,ODD(AZ$2)=AZ$2),AND(EVEN($A55)=$A55,EVEN(AZ$2)=AZ$2)),AZ$1,-100))","v":928.125},{"$f":"IF('Ceiling Speaker Calculator'!$C$29=\"Square\",BA$1,IF(OR(AND(ODD($A55)=$A55,ODD(BA$2)=BA$2),AND(EVEN($A55)=$A55,EVEN(BA$2)=BA$2)),BA$1,-100))","v":946.875},{"$f":"IF('Ceiling Speaker Calculator'!$C$29=\"Square\",BB$1,IF(OR(AND(ODD($A55)=$A55,ODD(BB$2)=BB$2),AND(EVEN($A55)=$A55,EVEN(BB$2)=BB$2)),BB$1,-100))","v":965.625},{"$f":"IF('Ceiling Speaker Calculator'!$C$29=\"Square\",BC$1,IF(OR(AND(ODD($A55)=$A55,ODD(BC$2)=BC$2),AND(EVEN($A55)=$A55,EVEN(BC$2)=BC$2)),BC$1,-100))","v":984.375},{"$f":"IF('Ceiling Speaker Calculator'!$C$29=\"Square\",BD$1,IF(OR(AND(ODD($A55)=$A55,ODD(BD$2)=BD$2),AND(EVEN($A55)=$A55,EVEN(BD$2)=BD$2)),BD$1,-100))","v":1003.125},{"$f":"IF('Ceiling Speaker Calculator'!$C$29=\"Square\",BE$1,IF(OR(AND(ODD($A55)=$A55,ODD(BE$2)=BE$2),AND(EVEN($A55)=$A55,EVEN(BE$2)=BE$2)),BE$1,-100))","v":1021.875},{"$f":"IF('Ceiling Speaker Calculator'!$C$29=\"Square\",BF$1,IF(OR(AND(ODD($A55)=$A55,ODD(BF$2)=BF$2),AND(EVEN($A55)=$A55,EVEN(BF$2)=BF$2)),BF$1,-100))","v":1040.625},{"$f":"IF('Ceiling Speaker Calculator'!$C$29=\"Square\",BG$1,IF(OR(AND(ODD($A55)=$A55,ODD(BG$2)=BG$2),AND(EVEN($A55)=$A55,EVEN(BG$2)=BG$2)),BG$1,-100))","v":1059.375},{"$f":"IF('Ceiling Speaker Calculator'!$C$29=\"Square\",BH$1,IF(OR(AND(ODD($A55)=$A55,ODD(BH$2)=BH$2),AND(EVEN($A55)=$A55,EVEN(BH$2)=BH$2)),BH$1,-100))","v":1078.125},{"$f":"IF('Ceiling Speaker Calculator'!$C$29=\"Square\",BI$1,IF(OR(AND(ODD($A55)=$A55,ODD(BI$2)=BI$2),AND(EVEN($A55)=$A55,EVEN(BI$2)=BI$2)),BI$1,-100))","v":1096.875},{"$f":"IF('Ceiling Speaker Calculator'!$C$29=\"Square\",BJ$1,IF(OR(AND(ODD($A55)=$A55,ODD(BJ$2)=BJ$2),AND(EVEN($A55)=$A55,EVEN(BJ$2)=BJ$2)),BJ$1,-100))","v":1115.625},{"$f":"IF('Ceiling Speaker Calculator'!$C$29=\"Square\",BK$1,IF(OR(AND(ODD($A55)=$A55,ODD(BK$2)=BK$2),AND(EVEN($A55)=$A55,EVEN(BK$2)=BK$2)),BK$1,-100))","v":1134.375},{"$f":"IF('Ceiling Speaker Calculator'!$C$29=\"Square\",BL$1,IF(OR(AND(ODD($A55)=$A55,ODD(BL$2)=BL$2),AND(EVEN($A55)=$A55,EVEN(BL$2)=BL$2)),BL$1,-100))","v":1153.125},{"$f":"IF('Ceiling Speaker Calculator'!$C$29=\"Square\",BM$1,IF(OR(AND(ODD($A55)=$A55,ODD(BM$2)=BM$2),AND(EVEN($A55)=$A55,EVEN(BM$2)=BM$2)),BM$1,-100))","v":1171.875},{"$f":"IF('Ceiling Speaker Calculator'!$C$29=\"Square\",BN$1,IF(OR(AND(ODD($A55)=$A55,ODD(BN$2)=BN$2),AND(EVEN($A55)=$A55,EVEN(BN$2)=BN$2)),BN$1,-100))","v":1190.625},{"$f":"IF('Ceiling Speaker Calculator'!$C$29=\"Square\",BO$1,IF(OR(AND(ODD($A55)=$A55,ODD(BO$2)=BO$2),AND(EVEN($A55)=$A55,EVEN(BO$2)=BO$2)),BO$1,-100))","v":1209.375},{"$f":"IF('Ceiling Speaker Calculator'!$C$29=\"Square\",BP$1,IF(OR(AND(ODD($A55)=$A55,ODD(BP$2)=BP$2),AND(EVEN($A55)=$A55,EVEN(BP$2)=BP$2)),BP$1,-100))","v":1228.125},{"$f":"IF('Ceiling Speaker Calculator'!$C$29=\"Square\",BQ$1,IF(OR(AND(ODD($A55)=$A55,ODD(BQ$2)=BQ$2),AND(EVEN($A55)=$A55,EVEN(BQ$2)=BQ$2)),BQ$1,-100))","v":1246.875},{"$f":"IF('Ceiling Speaker Calculator'!$C$29=\"Square\",BR$1,IF(OR(AND(ODD($A55)=$A55,ODD(BR$2)=BR$2),AND(EVEN($A55)=$A55,EVEN(BR$2)=BR$2)),BR$1,-100))","v":1265.625},{"$f":"IF('Ceiling Speaker Calculator'!$C$29=\"Square\",BS$1,IF(OR(AND(ODD($A55)=$A55,ODD(BS$2)=BS$2),AND(EVEN($A55)=$A55,EVEN(BS$2)=BS$2)),BS$1,-100))","v":1284.375},{"$f":"IF('Ceiling Speaker Calculator'!$C$29=\"Square\",BT$1,IF(OR(AND(ODD($A55)=$A55,ODD(BT$2)=BT$2),AND(EVEN($A55)=$A55,EVEN(BT$2)=BT$2)),BT$1,-100))","v":1303.125},{"$f":"IF('Ceiling Speaker Calculator'!$C$29=\"Square\",BU$1,IF(OR(AND(ODD($A55)=$A55,ODD(BU$2)=BU$2),AND(EVEN($A55)=$A55,EVEN(BU$2)=BU$2)),BU$1,-100))","v":1321.875},{"$f":"IF('Ceiling Speaker Calculator'!$C$29=\"Square\",BV$1,IF(OR(AND(ODD($A55)=$A55,ODD(BV$2)=BV$2),AND(EVEN($A55)=$A55,EVEN(BV$2)=BV$2)),BV$1,-100))","v":1340.625},{"$f":"IF('Ceiling Speaker Calculator'!$C$29=\"Square\",BW$1,IF(OR(AND(ODD($A55)=$A55,ODD(BW$2)=BW$2),AND(EVEN($A55)=$A55,EVEN(BW$2)=BW$2)),BW$1,-100))","v":1359.375},{"$f":"IF('Ceiling Speaker Calculator'!$C$29=\"Square\",BX$1,IF(OR(AND(ODD($A55)=$A55,ODD(BX$2)=BX$2),AND(EVEN($A55)=$A55,EVEN(BX$2)=BX$2)),BX$1,-100))","v":1378.125},{"$f":"IF('Ceiling Speaker Calculator'!$C$29=\"Square\",BY$1,IF(OR(AND(ODD($A55)=$A55,ODD(BY$2)=BY$2),AND(EVEN($A55)=$A55,EVEN(BY$2)=BY$2)),BY$1,-100))","v":1396.875},{"$f":"IF('Ceiling Speaker Calculator'!$C$29=\"Square\",BZ$1,IF(OR(AND(ODD($A55)=$A55,ODD(BZ$2)=BZ$2),AND(EVEN($A55)=$A55,EVEN(BZ$2)=BZ$2)),BZ$1,-100))","v":1415.625},{"$f":"IF('Ceiling Speaker Calculator'!$C$29=\"Square\",CA$1,IF(OR(AND(ODD($A55)=$A55,ODD(CA$2)=CA$2),AND(EVEN($A55)=$A55,EVEN(CA$2)=CA$2)),CA$1,-100))","v":1434.375},{"$f":"IF('Ceiling Speaker Calculator'!$C$29=\"Square\",CB$1,IF(OR(AND(ODD($A55)=$A55,ODD(CB$2)=CB$2),AND(EVEN($A55)=$A55,EVEN(CB$2)=CB$2)),CB$1,-100))","v":1453.125},{"$f":"IF('Ceiling Speaker Calculator'!$C$29=\"Square\",CC$1,IF(OR(AND(ODD($A55)=$A55,ODD(CC$2)=CC$2),AND(EVEN($A55)=$A55,EVEN(CC$2)=CC$2)),CC$1,-100))","v":1471.875},{"$f":"IF('Ceiling Speaker Calculator'!$C$29=\"Square\",CD$1,IF(OR(AND(ODD($A55)=$A55,ODD(CD$2)=CD$2),AND(EVEN($A55)=$A55,EVEN(CD$2)=CD$2)),CD$1,-100))","v":1490.625},{"$f":"IF('Ceiling Speaker Calculator'!$C$29=\"Square\",CE$1,IF(OR(AND(ODD($A55)=$A55,ODD(CE$2)=CE$2),AND(EVEN($A55)=$A55,EVEN(CE$2)=CE$2)),CE$1,-100))","v":1509.375},{"$f":"IF('Ceiling Speaker Calculator'!$C$29=\"Square\",CF$1,IF(OR(AND(ODD($A55)=$A55,ODD(CF$2)=CF$2),AND(EVEN($A55)=$A55,EVEN(CF$2)=CF$2)),CF$1,-100))","v":1528.125},{"$f":"IF('Ceiling Speaker Calculator'!$C$29=\"Square\",CG$1,IF(OR(AND(ODD($A55)=$A55,ODD(CG$2)=CG$2),AND(EVEN($A55)=$A55,EVEN(CG$2)=CG$2)),CG$1,-100))","v":1546.875},{"$f":"IF('Ceiling Speaker Calculator'!$C$29=\"Square\",CH$1,IF(OR(AND(ODD($A55)=$A55,ODD(CH$2)=CH$2),AND(EVEN($A55)=$A55,EVEN(CH$2)=CH$2)),CH$1,-100))","v":1565.625},{"$f":"IF('Ceiling Speaker Calculator'!$C$29=\"Square\",CI$1,IF(OR(AND(ODD($A55)=$A55,ODD(CI$2)=CI$2),AND(EVEN($A55)=$A55,EVEN(CI$2)=CI$2)),CI$1,-100))","v":1584.375},{"$f":"IF('Ceiling Speaker Calculator'!$C$29=\"Square\",CJ$1,IF(OR(AND(ODD($A55)=$A55,ODD(CJ$2)=CJ$2),AND(EVEN($A55)=$A55,EVEN(CJ$2)=CJ$2)),CJ$1,-100))","v":1603.125},{"$f":"IF('Ceiling Speaker Calculator'!$C$29=\"Square\",CK$1,IF(OR(AND(ODD($A55)=$A55,ODD(CK$2)=CK$2),AND(EVEN($A55)=$A55,EVEN(CK$2)=CK$2)),CK$1,-100))","v":1621.875},{"$f":"IF('Ceiling Speaker Calculator'!$C$29=\"Square\",CL$1,IF(OR(AND(ODD($A55)=$A55,ODD(CL$2)=CL$2),AND(EVEN($A55)=$A55,EVEN(CL$2)=CL$2)),CL$1,-100))","v":1640.625},{"$f":"IF('Ceiling Speaker Calculator'!$C$29=\"Square\",CM$1,IF(OR(AND(ODD($A55)=$A55,ODD(CM$2)=CM$2),AND(EVEN($A55)=$A55,EVEN(CM$2)=CM$2)),CM$1,-100))","v":1659.375},{"$f":"IF('Ceiling Speaker Calculator'!$C$29=\"Square\",CN$1,IF(OR(AND(ODD($A55)=$A55,ODD(CN$2)=CN$2),AND(EVEN($A55)=$A55,EVEN(CN$2)=CN$2)),CN$1,-100))","v":1678.125},{"$f":"IF('Ceiling Speaker Calculator'!$C$29=\"Square\",CO$1,IF(OR(AND(ODD($A55)=$A55,ODD(CO$2)=CO$2),AND(EVEN($A55)=$A55,EVEN(CO$2)=CO$2)),CO$1,-100))","v":1696.875},{"$f":"IF('Ceiling Speaker Calculator'!$C$29=\"Square\",CP$1,IF(OR(AND(ODD($A55)=$A55,ODD(CP$2)=CP$2),AND(EVEN($A55)=$A55,EVEN(CP$2)=CP$2)),CP$1,-100))","v":1715.625},{"$f":"IF('Ceiling Speaker Calculator'!$C$29=\"Square\",CQ$1,IF(OR(AND(ODD($A55)=$A55,ODD(CQ$2)=CQ$2),AND(EVEN($A55)=$A55,EVEN(CQ$2)=CQ$2)),CQ$1,-100))","v":1734.375},{"$f":"IF('Ceiling Speaker Calculator'!$C$29=\"Square\",CR$1,IF(OR(AND(ODD($A55)=$A55,ODD(CR$2)=CR$2),AND(EVEN($A55)=$A55,EVEN(CR$2)=CR$2)),CR$1,-100))","v":1753.125},{"$f":"IF('Ceiling Speaker Calculator'!$C$29=\"Square\",CS$1,IF(OR(AND(ODD($A55)=$A55,ODD(CS$2)=CS$2),AND(EVEN($A55)=$A55,EVEN(CS$2)=CS$2)),CS$1,-100))","v":1771.875},{"$f":"IF('Ceiling Speaker Calculator'!$C$29=\"Square\",CT$1,IF(OR(AND(ODD($A55)=$A55,ODD(CT$2)=CT$2),AND(EVEN($A55)=$A55,EVEN(CT$2)=CT$2)),CT$1,-100))","v":1790.625},{"$f":"IF('Ceiling Speaker Calculator'!$C$29=\"Square\",CU$1,IF(OR(AND(ODD($A55)=$A55,ODD(CU$2)=CU$2),AND(EVEN($A55)=$A55,EVEN(CU$2)=CU$2)),CU$1,-100))","v":1809.375},{"$f":"IF('Ceiling Speaker Calculator'!$C$29=\"Square\",CV$1,IF(OR(AND(ODD($A55)=$A55,ODD(CV$2)=CV$2),AND(EVEN($A55)=$A55,EVEN(CV$2)=CV$2)),CV$1,-100))","v":1828.125},{"$f":"IF('Ceiling Speaker Calculator'!$C$29=\"Square\",CW$1,IF(OR(AND(ODD($A55)=$A55,ODD(CW$2)=CW$2),AND(EVEN($A55)=$A55,EVEN(CW$2)=CW$2)),CW$1,-100))","v":1846.875},{"$f":"IF('Ceiling Speaker Calculator'!$C$29=\"Square\",CX$1,IF(OR(AND(ODD($A55)=$A55,ODD(CX$2)=CX$2),AND(EVEN($A55)=$A55,EVEN(CX$2)=CX$2)),CX$1,-100))","v":1865.625}]
[54,{"$f":"B55+'Ceiling Speaker Calculator'!$K$16","v":1070},{"$f":"IF('Ceiling Speaker Calculator'!$C$29=\"Square\",C$1,IF(OR(AND(ODD($A56)=$A56,ODD(C$2)=C$2),AND(EVEN($A56)=$A56,EVEN(C$2)=C$2)),C$1,-100))","v":9.375},{"$f":"IF('Ceiling Speaker Calculator'!$C$29=\"Square\",D$1,IF(OR(AND(ODD($A56)=$A56,ODD(D$2)=D$2),AND(EVEN($A56)=$A56,EVEN(D$2)=D$2)),D$1,-100))","v":28.125},{"$f":"IF('Ceiling Speaker Calculator'!$C$29=\"Square\",E$1,IF(OR(AND(ODD($A56)=$A56,ODD(E$2)=E$2),AND(EVEN($A56)=$A56,EVEN(E$2)=E$2)),E$1,-100))","v":46.875},{"$f":"IF('Ceiling Speaker Calculator'!$C$29=\"Square\",F$1,IF(OR(AND(ODD($A56)=$A56,ODD(F$2)=F$2),AND(EVEN($A56)=$A56,EVEN(F$2)=F$2)),F$1,-100))","v":65.625},{"$f":"IF('Ceiling Speaker Calculator'!$C$29=\"Square\",G$1,IF(OR(AND(ODD($A56)=$A56,ODD(G$2)=G$2),AND(EVEN($A56)=$A56,EVEN(G$2)=G$2)),G$1,-100))","v":84.375},{"$f":"IF('Ceiling Speaker Calculator'!$C$29=\"Square\",H$1,IF(OR(AND(ODD($A56)=$A56,ODD(H$2)=H$2),AND(EVEN($A56)=$A56,EVEN(H$2)=H$2)),H$1,-100))","v":103.125},{"$f":"IF('Ceiling Speaker Calculator'!$C$29=\"Square\",I$1,IF(OR(AND(ODD($A56)=$A56,ODD(I$2)=I$2),AND(EVEN($A56)=$A56,EVEN(I$2)=I$2)),I$1,-100))","v":121.875},{"$f":"IF('Ceiling Speaker Calculator'!$C$29=\"Square\",J$1,IF(OR(AND(ODD($A56)=$A56,ODD(J$2)=J$2),AND(EVEN($A56)=$A56,EVEN(J$2)=J$2)),J$1,-100))","v":140.625},{"$f":"IF('Ceiling Speaker Calculator'!$C$29=\"Square\",K$1,IF(OR(AND(ODD($A56)=$A56,ODD(K$2)=K$2),AND(EVEN($A56)=$A56,EVEN(K$2)=K$2)),K$1,-100))","v":159.375},{"$f":"IF('Ceiling Speaker Calculator'!$C$29=\"Square\",L$1,IF(OR(AND(ODD($A56)=$A56,ODD(L$2)=L$2),AND(EVEN($A56)=$A56,EVEN(L$2)=L$2)),L$1,-100))","v":178.125},{"$f":"IF('Ceiling Speaker Calculator'!$C$29=\"Square\",M$1,IF(OR(AND(ODD($A56)=$A56,ODD(M$2)=M$2),AND(EVEN($A56)=$A56,EVEN(M$2)=M$2)),M$1,-100))","v":196.875},{"$f":"IF('Ceiling Speaker Calculator'!$C$29=\"Square\",N$1,IF(OR(AND(ODD($A56)=$A56,ODD(N$2)=N$2),AND(EVEN($A56)=$A56,EVEN(N$2)=N$2)),N$1,-100))","v":215.625},{"$f":"IF('Ceiling Speaker Calculator'!$C$29=\"Square\",O$1,IF(OR(AND(ODD($A56)=$A56,ODD(O$2)=O$2),AND(EVEN($A56)=$A56,EVEN(O$2)=O$2)),O$1,-100))","v":234.375},{"$f":"IF('Ceiling Speaker Calculator'!$C$29=\"Square\",P$1,IF(OR(AND(ODD($A56)=$A56,ODD(P$2)=P$2),AND(EVEN($A56)=$A56,EVEN(P$2)=P$2)),P$1,-100))","v":253.125},{"$f":"IF('Ceiling Speaker Calculator'!$C$29=\"Square\",Q$1,IF(OR(AND(ODD($A56)=$A56,ODD(Q$2)=Q$2),AND(EVEN($A56)=$A56,EVEN(Q$2)=Q$2)),Q$1,-100))","v":271.875},{"$f":"IF('Ceiling Speaker Calculator'!$C$29=\"Square\",R$1,IF(OR(AND(ODD($A56)=$A56,ODD(R$2)=R$2),AND(EVEN($A56)=$A56,EVEN(R$2)=R$2)),R$1,-100))","v":290.625},{"$f":"IF('Ceiling Speaker Calculator'!$C$29=\"Square\",S$1,IF(OR(AND(ODD($A56)=$A56,ODD(S$2)=S$2),AND(EVEN($A56)=$A56,EVEN(S$2)=S$2)),S$1,-100))","v":309.375},{"$f":"IF('Ceiling Speaker Calculator'!$C$29=\"Square\",T$1,IF(OR(AND(ODD($A56)=$A56,ODD(T$2)=T$2),AND(EVEN($A56)=$A56,EVEN(T$2)=T$2)),T$1,-100))","v":328.125},{"$f":"IF('Ceiling Speaker Calculator'!$C$29=\"Square\",U$1,IF(OR(AND(ODD($A56)=$A56,ODD(U$2)=U$2),AND(EVEN($A56)=$A56,EVEN(U$2)=U$2)),U$1,-100))","v":346.875},{"$f":"IF('Ceiling Speaker Calculator'!$C$29=\"Square\",V$1,IF(OR(AND(ODD($A56)=$A56,ODD(V$2)=V$2),AND(EVEN($A56)=$A56,EVEN(V$2)=V$2)),V$1,-100))","v":365.625},{"$f":"IF('Ceiling Speaker Calculator'!$C$29=\"Square\",W$1,IF(OR(AND(ODD($A56)=$A56,ODD(W$2)=W$2),AND(EVEN($A56)=$A56,EVEN(W$2)=W$2)),W$1,-100))","v":384.375},{"$f":"IF('Ceiling Speaker Calculator'!$C$29=\"Square\",X$1,IF(OR(AND(ODD($A56)=$A56,ODD(X$2)=X$2),AND(EVEN($A56)=$A56,EVEN(X$2)=X$2)),X$1,-100))","v":403.125},{"$f":"IF('Ceiling Speaker Calculator'!$C$29=\"Square\",Y$1,IF(OR(AND(ODD($A56)=$A56,ODD(Y$2)=Y$2),AND(EVEN($A56)=$A56,EVEN(Y$2)=Y$2)),Y$1,-100))","v":421.875},{"$f":"IF('Ceiling Speaker Calculator'!$C$29=\"Square\",Z$1,IF(OR(AND(ODD($A56)=$A56,ODD(Z$2)=Z$2),AND(EVEN($A56)=$A56,EVEN(Z$2)=Z$2)),Z$1,-100))","v":440.625},{"$f":"IF('Ceiling Speaker Calculator'!$C$29=\"Square\",AA$1,IF(OR(AND(ODD($A56)=$A56,ODD(AA$2)=AA$2),AND(EVEN($A56)=$A56,EVEN(AA$2)=AA$2)),AA$1,-100))","v":459.375},{"$f":"IF('Ceiling Speaker Calculator'!$C$29=\"Square\",AB$1,IF(OR(AND(ODD($A56)=$A56,ODD(AB$2)=AB$2),AND(EVEN($A56)=$A56,EVEN(AB$2)=AB$2)),AB$1,-100))","v":478.125},{"$f":"IF('Ceiling Speaker Calculator'!$C$29=\"Square\",AC$1,IF(OR(AND(ODD($A56)=$A56,ODD(AC$2)=AC$2),AND(EVEN($A56)=$A56,EVEN(AC$2)=AC$2)),AC$1,-100))","v":496.875},{"$f":"IF('Ceiling Speaker Calculator'!$C$29=\"Square\",AD$1,IF(OR(AND(ODD($A56)=$A56,ODD(AD$2)=AD$2),AND(EVEN($A56)=$A56,EVEN(AD$2)=AD$2)),AD$1,-100))","v":515.625},{"$f":"IF('Ceiling Speaker Calculator'!$C$29=\"Square\",AE$1,IF(OR(AND(ODD($A56)=$A56,ODD(AE$2)=AE$2),AND(EVEN($A56)=$A56,EVEN(AE$2)=AE$2)),AE$1,-100))","v":534.375},{"$f":"IF('Ceiling Speaker Calculator'!$C$29=\"Square\",AF$1,IF(OR(AND(ODD($A56)=$A56,ODD(AF$2)=AF$2),AND(EVEN($A56)=$A56,EVEN(AF$2)=AF$2)),AF$1,-100))","v":553.125},{"$f":"IF('Ceiling Speaker Calculator'!$C$29=\"Square\",AG$1,IF(OR(AND(ODD($A56)=$A56,ODD(AG$2)=AG$2),AND(EVEN($A56)=$A56,EVEN(AG$2)=AG$2)),AG$1,-100))","v":571.875},{"$f":"IF('Ceiling Speaker Calculator'!$C$29=\"Square\",AH$1,IF(OR(AND(ODD($A56)=$A56,ODD(AH$2)=AH$2),AND(EVEN($A56)=$A56,EVEN(AH$2)=AH$2)),AH$1,-100))","v":590.625},{"$f":"IF('Ceiling Speaker Calculator'!$C$29=\"Square\",AI$1,IF(OR(AND(ODD($A56)=$A56,ODD(AI$2)=AI$2),AND(EVEN($A56)=$A56,EVEN(AI$2)=AI$2)),AI$1,-100))","v":609.375},{"$f":"IF('Ceiling Speaker Calculator'!$C$29=\"Square\",AJ$1,IF(OR(AND(ODD($A56)=$A56,ODD(AJ$2)=AJ$2),AND(EVEN($A56)=$A56,EVEN(AJ$2)=AJ$2)),AJ$1,-100))","v":628.125},{"$f":"IF('Ceiling Speaker Calculator'!$C$29=\"Square\",AK$1,IF(OR(AND(ODD($A56)=$A56,ODD(AK$2)=AK$2),AND(EVEN($A56)=$A56,EVEN(AK$2)=AK$2)),AK$1,-100))","v":646.875},{"$f":"IF('Ceiling Speaker Calculator'!$C$29=\"Square\",AL$1,IF(OR(AND(ODD($A56)=$A56,ODD(AL$2)=AL$2),AND(EVEN($A56)=$A56,EVEN(AL$2)=AL$2)),AL$1,-100))","v":665.625},{"$f":"IF('Ceiling Speaker Calculator'!$C$29=\"Square\",AM$1,IF(OR(AND(ODD($A56)=$A56,ODD(AM$2)=AM$2),AND(EVEN($A56)=$A56,EVEN(AM$2)=AM$2)),AM$1,-100))","v":684.375},{"$f":"IF('Ceiling Speaker Calculator'!$C$29=\"Square\",AN$1,IF(OR(AND(ODD($A56)=$A56,ODD(AN$2)=AN$2),AND(EVEN($A56)=$A56,EVEN(AN$2)=AN$2)),AN$1,-100))","v":703.125},{"$f":"IF('Ceiling Speaker Calculator'!$C$29=\"Square\",AO$1,IF(OR(AND(ODD($A56)=$A56,ODD(AO$2)=AO$2),AND(EVEN($A56)=$A56,EVEN(AO$2)=AO$2)),AO$1,-100))","v":721.875},{"$f":"IF('Ceiling Speaker Calculator'!$C$29=\"Square\",AP$1,IF(OR(AND(ODD($A56)=$A56,ODD(AP$2)=AP$2),AND(EVEN($A56)=$A56,EVEN(AP$2)=AP$2)),AP$1,-100))","v":740.625},{"$f":"IF('Ceiling Speaker Calculator'!$C$29=\"Square\",AQ$1,IF(OR(AND(ODD($A56)=$A56,ODD(AQ$2)=AQ$2),AND(EVEN($A56)=$A56,EVEN(AQ$2)=AQ$2)),AQ$1,-100))","v":759.375},{"$f":"IF('Ceiling Speaker Calculator'!$C$29=\"Square\",AR$1,IF(OR(AND(ODD($A56)=$A56,ODD(AR$2)=AR$2),AND(EVEN($A56)=$A56,EVEN(AR$2)=AR$2)),AR$1,-100))","v":778.125},{"$f":"IF('Ceiling Speaker Calculator'!$C$29=\"Square\",AS$1,IF(OR(AND(ODD($A56)=$A56,ODD(AS$2)=AS$2),AND(EVEN($A56)=$A56,EVEN(AS$2)=AS$2)),AS$1,-100))","v":796.875},{"$f":"IF('Ceiling Speaker Calculator'!$C$29=\"Square\",AT$1,IF(OR(AND(ODD($A56)=$A56,ODD(AT$2)=AT$2),AND(EVEN($A56)=$A56,EVEN(AT$2)=AT$2)),AT$1,-100))","v":815.625},{"$f":"IF('Ceiling Speaker Calculator'!$C$29=\"Square\",AU$1,IF(OR(AND(ODD($A56)=$A56,ODD(AU$2)=AU$2),AND(EVEN($A56)=$A56,EVEN(AU$2)=AU$2)),AU$1,-100))","v":834.375},{"$f":"IF('Ceiling Speaker Calculator'!$C$29=\"Square\",AV$1,IF(OR(AND(ODD($A56)=$A56,ODD(AV$2)=AV$2),AND(EVEN($A56)=$A56,EVEN(AV$2)=AV$2)),AV$1,-100))","v":853.125},{"$f":"IF('Ceiling Speaker Calculator'!$C$29=\"Square\",AW$1,IF(OR(AND(ODD($A56)=$A56,ODD(AW$2)=AW$2),AND(EVEN($A56)=$A56,EVEN(AW$2)=AW$2)),AW$1,-100))","v":871.875},{"$f":"IF('Ceiling Speaker Calculator'!$C$29=\"Square\",AX$1,IF(OR(AND(ODD($A56)=$A56,ODD(AX$2)=AX$2),AND(EVEN($A56)=$A56,EVEN(AX$2)=AX$2)),AX$1,-100))","v":890.625},{"$f":"IF('Ceiling Speaker Calculator'!$C$29=\"Square\",AY$1,IF(OR(AND(ODD($A56)=$A56,ODD(AY$2)=AY$2),AND(EVEN($A56)=$A56,EVEN(AY$2)=AY$2)),AY$1,-100))","v":909.375},{"$f":"IF('Ceiling Speaker Calculator'!$C$29=\"Square\",AZ$1,IF(OR(AND(ODD($A56)=$A56,ODD(AZ$2)=AZ$2),AND(EVEN($A56)=$A56,EVEN(AZ$2)=AZ$2)),AZ$1,-100))","v":928.125},{"$f":"IF('Ceiling Speaker Calculator'!$C$29=\"Square\",BA$1,IF(OR(AND(ODD($A56)=$A56,ODD(BA$2)=BA$2),AND(EVEN($A56)=$A56,EVEN(BA$2)=BA$2)),BA$1,-100))","v":946.875},{"$f":"IF('Ceiling Speaker Calculator'!$C$29=\"Square\",BB$1,IF(OR(AND(ODD($A56)=$A56,ODD(BB$2)=BB$2),AND(EVEN($A56)=$A56,EVEN(BB$2)=BB$2)),BB$1,-100))","v":965.625},{"$f":"IF('Ceiling Speaker Calculator'!$C$29=\"Square\",BC$1,IF(OR(AND(ODD($A56)=$A56,ODD(BC$2)=BC$2),AND(EVEN($A56)=$A56,EVEN(BC$2)=BC$2)),BC$1,-100))","v":984.375},{"$f":"IF('Ceiling Speaker Calculator'!$C$29=\"Square\",BD$1,IF(OR(AND(ODD($A56)=$A56,ODD(BD$2)=BD$2),AND(EVEN($A56)=$A56,EVEN(BD$2)=BD$2)),BD$1,-100))","v":1003.125},{"$f":"IF('Ceiling Speaker Calculator'!$C$29=\"Square\",BE$1,IF(OR(AND(ODD($A56)=$A56,ODD(BE$2)=BE$2),AND(EVEN($A56)=$A56,EVEN(BE$2)=BE$2)),BE$1,-100))","v":1021.875},{"$f":"IF('Ceiling Speaker Calculator'!$C$29=\"Square\",BF$1,IF(OR(AND(ODD($A56)=$A56,ODD(BF$2)=BF$2),AND(EVEN($A56)=$A56,EVEN(BF$2)=BF$2)),BF$1,-100))","v":1040.625},{"$f":"IF('Ceiling Speaker Calculator'!$C$29=\"Square\",BG$1,IF(OR(AND(ODD($A56)=$A56,ODD(BG$2)=BG$2),AND(EVEN($A56)=$A56,EVEN(BG$2)=BG$2)),BG$1,-100))","v":1059.375},{"$f":"IF('Ceiling Speaker Calculator'!$C$29=\"Square\",BH$1,IF(OR(AND(ODD($A56)=$A56,ODD(BH$2)=BH$2),AND(EVEN($A56)=$A56,EVEN(BH$2)=BH$2)),BH$1,-100))","v":1078.125},{"$f":"IF('Ceiling Speaker Calculator'!$C$29=\"Square\",BI$1,IF(OR(AND(ODD($A56)=$A56,ODD(BI$2)=BI$2),AND(EVEN($A56)=$A56,EVEN(BI$2)=BI$2)),BI$1,-100))","v":1096.875},{"$f":"IF('Ceiling Speaker Calculator'!$C$29=\"Square\",BJ$1,IF(OR(AND(ODD($A56)=$A56,ODD(BJ$2)=BJ$2),AND(EVEN($A56)=$A56,EVEN(BJ$2)=BJ$2)),BJ$1,-100))","v":1115.625},{"$f":"IF('Ceiling Speaker Calculator'!$C$29=\"Square\",BK$1,IF(OR(AND(ODD($A56)=$A56,ODD(BK$2)=BK$2),AND(EVEN($A56)=$A56,EVEN(BK$2)=BK$2)),BK$1,-100))","v":1134.375},{"$f":"IF('Ceiling Speaker Calculator'!$C$29=\"Square\",BL$1,IF(OR(AND(ODD($A56)=$A56,ODD(BL$2)=BL$2),AND(EVEN($A56)=$A56,EVEN(BL$2)=BL$2)),BL$1,-100))","v":1153.125},{"$f":"IF('Ceiling Speaker Calculator'!$C$29=\"Square\",BM$1,IF(OR(AND(ODD($A56)=$A56,ODD(BM$2)=BM$2),AND(EVEN($A56)=$A56,EVEN(BM$2)=BM$2)),BM$1,-100))","v":1171.875},{"$f":"IF('Ceiling Speaker Calculator'!$C$29=\"Square\",BN$1,IF(OR(AND(ODD($A56)=$A56,ODD(BN$2)=BN$2),AND(EVEN($A56)=$A56,EVEN(BN$2)=BN$2)),BN$1,-100))","v":1190.625},{"$f":"IF('Ceiling Speaker Calculator'!$C$29=\"Square\",BO$1,IF(OR(AND(ODD($A56)=$A56,ODD(BO$2)=BO$2),AND(EVEN($A56)=$A56,EVEN(BO$2)=BO$2)),BO$1,-100))","v":1209.375},{"$f":"IF('Ceiling Speaker Calculator'!$C$29=\"Square\",BP$1,IF(OR(AND(ODD($A56)=$A56,ODD(BP$2)=BP$2),AND(EVEN($A56)=$A56,EVEN(BP$2)=BP$2)),BP$1,-100))","v":1228.125},{"$f":"IF('Ceiling Speaker Calculator'!$C$29=\"Square\",BQ$1,IF(OR(AND(ODD($A56)=$A56,ODD(BQ$2)=BQ$2),AND(EVEN($A56)=$A56,EVEN(BQ$2)=BQ$2)),BQ$1,-100))","v":1246.875},{"$f":"IF('Ceiling Speaker Calculator'!$C$29=\"Square\",BR$1,IF(OR(AND(ODD($A56)=$A56,ODD(BR$2)=BR$2),AND(EVEN($A56)=$A56,EVEN(BR$2)=BR$2)),BR$1,-100))","v":1265.625},{"$f":"IF('Ceiling Speaker Calculator'!$C$29=\"Square\",BS$1,IF(OR(AND(ODD($A56)=$A56,ODD(BS$2)=BS$2),AND(EVEN($A56)=$A56,EVEN(BS$2)=BS$2)),BS$1,-100))","v":1284.375},{"$f":"IF('Ceiling Speaker Calculator'!$C$29=\"Square\",BT$1,IF(OR(AND(ODD($A56)=$A56,ODD(BT$2)=BT$2),AND(EVEN($A56)=$A56,EVEN(BT$2)=BT$2)),BT$1,-100))","v":1303.125},{"$f":"IF('Ceiling Speaker Calculator'!$C$29=\"Square\",BU$1,IF(OR(AND(ODD($A56)=$A56,ODD(BU$2)=BU$2),AND(EVEN($A56)=$A56,EVEN(BU$2)=BU$2)),BU$1,-100))","v":1321.875},{"$f":"IF('Ceiling Speaker Calculator'!$C$29=\"Square\",BV$1,IF(OR(AND(ODD($A56)=$A56,ODD(BV$2)=BV$2),AND(EVEN($A56)=$A56,EVEN(BV$2)=BV$2)),BV$1,-100))","v":1340.625},{"$f":"IF('Ceiling Speaker Calculator'!$C$29=\"Square\",BW$1,IF(OR(AND(ODD($A56)=$A56,ODD(BW$2)=BW$2),AND(EVEN($A56)=$A56,EVEN(BW$2)=BW$2)),BW$1,-100))","v":1359.375},{"$f":"IF('Ceiling Speaker Calculator'!$C$29=\"Square\",BX$1,IF(OR(AND(ODD($A56)=$A56,ODD(BX$2)=BX$2),AND(EVEN($A56)=$A56,EVEN(BX$2)=BX$2)),BX$1,-100))","v":1378.125},{"$f":"IF('Ceiling Speaker Calculator'!$C$29=\"Square\",BY$1,IF(OR(AND(ODD($A56)=$A56,ODD(BY$2)=BY$2),AND(EVEN($A56)=$A56,EVEN(BY$2)=BY$2)),BY$1,-100))","v":1396.875},{"$f":"IF('Ceiling Speaker Calculator'!$C$29=\"Square\",BZ$1,IF(OR(AND(ODD($A56)=$A56,ODD(BZ$2)=BZ$2),AND(EVEN($A56)=$A56,EVEN(BZ$2)=BZ$2)),BZ$1,-100))","v":1415.625},{"$f":"IF('Ceiling Speaker Calculator'!$C$29=\"Square\",CA$1,IF(OR(AND(ODD($A56)=$A56,ODD(CA$2)=CA$2),AND(EVEN($A56)=$A56,EVEN(CA$2)=CA$2)),CA$1,-100))","v":1434.375},{"$f":"IF('Ceiling Speaker Calculator'!$C$29=\"Square\",CB$1,IF(OR(AND(ODD($A56)=$A56,ODD(CB$2)=CB$2),AND(EVEN($A56)=$A56,EVEN(CB$2)=CB$2)),CB$1,-100))","v":1453.125},{"$f":"IF('Ceiling Speaker Calculator'!$C$29=\"Square\",CC$1,IF(OR(AND(ODD($A56)=$A56,ODD(CC$2)=CC$2),AND(EVEN($A56)=$A56,EVEN(CC$2)=CC$2)),CC$1,-100))","v":1471.875},{"$f":"IF('Ceiling Speaker Calculator'!$C$29=\"Square\",CD$1,IF(OR(AND(ODD($A56)=$A56,ODD(CD$2)=CD$2),AND(EVEN($A56)=$A56,EVEN(CD$2)=CD$2)),CD$1,-100))","v":1490.625},{"$f":"IF('Ceiling Speaker Calculator'!$C$29=\"Square\",CE$1,IF(OR(AND(ODD($A56)=$A56,ODD(CE$2)=CE$2),AND(EVEN($A56)=$A56,EVEN(CE$2)=CE$2)),CE$1,-100))","v":1509.375},{"$f":"IF('Ceiling Speaker Calculator'!$C$29=\"Square\",CF$1,IF(OR(AND(ODD($A56)=$A56,ODD(CF$2)=CF$2),AND(EVEN($A56)=$A56,EVEN(CF$2)=CF$2)),CF$1,-100))","v":1528.125},{"$f":"IF('Ceiling Speaker Calculator'!$C$29=\"Square\",CG$1,IF(OR(AND(ODD($A56)=$A56,ODD(CG$2)=CG$2),AND(EVEN($A56)=$A56,EVEN(CG$2)=CG$2)),CG$1,-100))","v":1546.875},{"$f":"IF('Ceiling Speaker Calculator'!$C$29=\"Square\",CH$1,IF(OR(AND(ODD($A56)=$A56,ODD(CH$2)=CH$2),AND(EVEN($A56)=$A56,EVEN(CH$2)=CH$2)),CH$1,-100))","v":1565.625},{"$f":"IF('Ceiling Speaker Calculator'!$C$29=\"Square\",CI$1,IF(OR(AND(ODD($A56)=$A56,ODD(CI$2)=CI$2),AND(EVEN($A56)=$A56,EVEN(CI$2)=CI$2)),CI$1,-100))","v":1584.375},{"$f":"IF('Ceiling Speaker Calculator'!$C$29=\"Square\",CJ$1,IF(OR(AND(ODD($A56)=$A56,ODD(CJ$2)=CJ$2),AND(EVEN($A56)=$A56,EVEN(CJ$2)=CJ$2)),CJ$1,-100))","v":1603.125},{"$f":"IF('Ceiling Speaker Calculator'!$C$29=\"Square\",CK$1,IF(OR(AND(ODD($A56)=$A56,ODD(CK$2)=CK$2),AND(EVEN($A56)=$A56,EVEN(CK$2)=CK$2)),CK$1,-100))","v":1621.875},{"$f":"IF('Ceiling Speaker Calculator'!$C$29=\"Square\",CL$1,IF(OR(AND(ODD($A56)=$A56,ODD(CL$2)=CL$2),AND(EVEN($A56)=$A56,EVEN(CL$2)=CL$2)),CL$1,-100))","v":1640.625},{"$f":"IF('Ceiling Speaker Calculator'!$C$29=\"Square\",CM$1,IF(OR(AND(ODD($A56)=$A56,ODD(CM$2)=CM$2),AND(EVEN($A56)=$A56,EVEN(CM$2)=CM$2)),CM$1,-100))","v":1659.375},{"$f":"IF('Ceiling Speaker Calculator'!$C$29=\"Square\",CN$1,IF(OR(AND(ODD($A56)=$A56,ODD(CN$2)=CN$2),AND(EVEN($A56)=$A56,EVEN(CN$2)=CN$2)),CN$1,-100))","v":1678.125},{"$f":"IF('Ceiling Speaker Calculator'!$C$29=\"Square\",CO$1,IF(OR(AND(ODD($A56)=$A56,ODD(CO$2)=CO$2),AND(EVEN($A56)=$A56,EVEN(CO$2)=CO$2)),CO$1,-100))","v":1696.875},{"$f":"IF('Ceiling Speaker Calculator'!$C$29=\"Square\",CP$1,IF(OR(AND(ODD($A56)=$A56,ODD(CP$2)=CP$2),AND(EVEN($A56)=$A56,EVEN(CP$2)=CP$2)),CP$1,-100))","v":1715.625},{"$f":"IF('Ceiling Speaker Calculator'!$C$29=\"Square\",CQ$1,IF(OR(AND(ODD($A56)=$A56,ODD(CQ$2)=CQ$2),AND(EVEN($A56)=$A56,EVEN(CQ$2)=CQ$2)),CQ$1,-100))","v":1734.375},{"$f":"IF('Ceiling Speaker Calculator'!$C$29=\"Square\",CR$1,IF(OR(AND(ODD($A56)=$A56,ODD(CR$2)=CR$2),AND(EVEN($A56)=$A56,EVEN(CR$2)=CR$2)),CR$1,-100))","v":1753.125},{"$f":"IF('Ceiling Speaker Calculator'!$C$29=\"Square\",CS$1,IF(OR(AND(ODD($A56)=$A56,ODD(CS$2)=CS$2),AND(EVEN($A56)=$A56,EVEN(CS$2)=CS$2)),CS$1,-100))","v":1771.875},{"$f":"IF('Ceiling Speaker Calculator'!$C$29=\"Square\",CT$1,IF(OR(AND(ODD($A56)=$A56,ODD(CT$2)=CT$2),AND(EVEN($A56)=$A56,EVEN(CT$2)=CT$2)),CT$1,-100))","v":1790.625},{"$f":"IF('Ceiling Speaker Calculator'!$C$29=\"Square\",CU$1,IF(OR(AND(ODD($A56)=$A56,ODD(CU$2)=CU$2),AND(EVEN($A56)=$A56,EVEN(CU$2)=CU$2)),CU$1,-100))","v":1809.375},{"$f":"IF('Ceiling Speaker Calculator'!$C$29=\"Square\",CV$1,IF(OR(AND(ODD($A56)=$A56,ODD(CV$2)=CV$2),AND(EVEN($A56)=$A56,EVEN(CV$2)=CV$2)),CV$1,-100))","v":1828.125},{"$f":"IF('Ceiling Speaker Calculator'!$C$29=\"Square\",CW$1,IF(OR(AND(ODD($A56)=$A56,ODD(CW$2)=CW$2),AND(EVEN($A56)=$A56,EVEN(CW$2)=CW$2)),CW$1,-100))","v":1846.875},{"$f":"IF('Ceiling Speaker Calculator'!$C$29=\"Square\",CX$1,IF(OR(AND(ODD($A56)=$A56,ODD(CX$2)=CX$2),AND(EVEN($A56)=$A56,EVEN(CX$2)=CX$2)),CX$1,-100))","v":1865.625}]
[55,{"$f":"B56+'Ceiling Speaker Calculator'!$K$16","v":1090},{"$f":"IF('Ceiling Speaker Calculator'!$C$29=\"Square\",C$1,IF(OR(AND(ODD($A57)=$A57,ODD(C$2)=C$2),AND(EVEN($A57)=$A57,EVEN(C$2)=C$2)),C$1,-100))","v":9.375},{"$f":"IF('Ceiling Speaker Calculator'!$C$29=\"Square\",D$1,IF(OR(AND(ODD($A57)=$A57,ODD(D$2)=D$2),AND(EVEN($A57)=$A57,EVEN(D$2)=D$2)),D$1,-100))","v":28.125},{"$f":"IF('Ceiling Speaker Calculator'!$C$29=\"Square\",E$1,IF(OR(AND(ODD($A57)=$A57,ODD(E$2)=E$2),AND(EVEN($A57)=$A57,EVEN(E$2)=E$2)),E$1,-100))","v":46.875},{"$f":"IF('Ceiling Speaker Calculator'!$C$29=\"Square\",F$1,IF(OR(AND(ODD($A57)=$A57,ODD(F$2)=F$2),AND(EVEN($A57)=$A57,EVEN(F$2)=F$2)),F$1,-100))","v":65.625},{"$f":"IF('Ceiling Speaker Calculator'!$C$29=\"Square\",G$1,IF(OR(AND(ODD($A57)=$A57,ODD(G$2)=G$2),AND(EVEN($A57)=$A57,EVEN(G$2)=G$2)),G$1,-100))","v":84.375},{"$f":"IF('Ceiling Speaker Calculator'!$C$29=\"Square\",H$1,IF(OR(AND(ODD($A57)=$A57,ODD(H$2)=H$2),AND(EVEN($A57)=$A57,EVEN(H$2)=H$2)),H$1,-100))","v":103.125},{"$f":"IF('Ceiling Speaker Calculator'!$C$29=\"Square\",I$1,IF(OR(AND(ODD($A57)=$A57,ODD(I$2)=I$2),AND(EVEN($A57)=$A57,EVEN(I$2)=I$2)),I$1,-100))","v":121.875},{"$f":"IF('Ceiling Speaker Calculator'!$C$29=\"Square\",J$1,IF(OR(AND(ODD($A57)=$A57,ODD(J$2)=J$2),AND(EVEN($A57)=$A57,EVEN(J$2)=J$2)),J$1,-100))","v":140.625},{"$f":"IF('Ceiling Speaker Calculator'!$C$29=\"Square\",K$1,IF(OR(AND(ODD($A57)=$A57,ODD(K$2)=K$2),AND(EVEN($A57)=$A57,EVEN(K$2)=K$2)),K$1,-100))","v":159.375},{"$f":"IF('Ceiling Speaker Calculator'!$C$29=\"Square\",L$1,IF(OR(AND(ODD($A57)=$A57,ODD(L$2)=L$2),AND(EVEN($A57)=$A57,EVEN(L$2)=L$2)),L$1,-100))","v":178.125},{"$f":"IF('Ceiling Speaker Calculator'!$C$29=\"Square\",M$1,IF(OR(AND(ODD($A57)=$A57,ODD(M$2)=M$2),AND(EVEN($A57)=$A57,EVEN(M$2)=M$2)),M$1,-100))","v":196.875},{"$f":"IF('Ceiling Speaker Calculator'!$C$29=\"Square\",N$1,IF(OR(AND(ODD($A57)=$A57,ODD(N$2)=N$2),AND(EVEN($A57)=$A57,EVEN(N$2)=N$2)),N$1,-100))","v":215.625},{"$f":"IF('Ceiling Speaker Calculator'!$C$29=\"Square\",O$1,IF(OR(AND(ODD($A57)=$A57,ODD(O$2)=O$2),AND(EVEN($A57)=$A57,EVEN(O$2)=O$2)),O$1,-100))","v":234.375},{"$f":"IF('Ceiling Speaker Calculator'!$C$29=\"Square\",P$1,IF(OR(AND(ODD($A57)=$A57,ODD(P$2)=P$2),AND(EVEN($A57)=$A57,EVEN(P$2)=P$2)),P$1,-100))","v":253.125},{"$f":"IF('Ceiling Speaker Calculator'!$C$29=\"Square\",Q$1,IF(OR(AND(ODD($A57)=$A57,ODD(Q$2)=Q$2),AND(EVEN($A57)=$A57,EVEN(Q$2)=Q$2)),Q$1,-100))","v":271.875},{"$f":"IF('Ceiling Speaker Calculator'!$C$29=\"Square\",R$1,IF(OR(AND(ODD($A57)=$A57,ODD(R$2)=R$2),AND(EVEN($A57)=$A57,EVEN(R$2)=R$2)),R$1,-100))","v":290.625},{"$f":"IF('Ceiling Speaker Calculator'!$C$29=\"Square\",S$1,IF(OR(AND(ODD($A57)=$A57,ODD(S$2)=S$2),AND(EVEN($A57)=$A57,EVEN(S$2)=S$2)),S$1,-100))","v":309.375},{"$f":"IF('Ceiling Speaker Calculator'!$C$29=\"Square\",T$1,IF(OR(AND(ODD($A57)=$A57,ODD(T$2)=T$2),AND(EVEN($A57)=$A57,EVEN(T$2)=T$2)),T$1,-100))","v":328.125},{"$f":"IF('Ceiling Speaker Calculator'!$C$29=\"Square\",U$1,IF(OR(AND(ODD($A57)=$A57,ODD(U$2)=U$2),AND(EVEN($A57)=$A57,EVEN(U$2)=U$2)),U$1,-100))","v":346.875},{"$f":"IF('Ceiling Speaker Calculator'!$C$29=\"Square\",V$1,IF(OR(AND(ODD($A57)=$A57,ODD(V$2)=V$2),AND(EVEN($A57)=$A57,EVEN(V$2)=V$2)),V$1,-100))","v":365.625},{"$f":"IF('Ceiling Speaker Calculator'!$C$29=\"Square\",W$1,IF(OR(AND(ODD($A57)=$A57,ODD(W$2)=W$2),AND(EVEN($A57)=$A57,EVEN(W$2)=W$2)),W$1,-100))","v":384.375},{"$f":"IF('Ceiling Speaker Calculator'!$C$29=\"Square\",X$1,IF(OR(AND(ODD($A57)=$A57,ODD(X$2)=X$2),AND(EVEN($A57)=$A57,EVEN(X$2)=X$2)),X$1,-100))","v":403.125},{"$f":"IF('Ceiling Speaker Calculator'!$C$29=\"Square\",Y$1,IF(OR(AND(ODD($A57)=$A57,ODD(Y$2)=Y$2),AND(EVEN($A57)=$A57,EVEN(Y$2)=Y$2)),Y$1,-100))","v":421.875},{"$f":"IF('Ceiling Speaker Calculator'!$C$29=\"Square\",Z$1,IF(OR(AND(ODD($A57)=$A57,ODD(Z$2)=Z$2),AND(EVEN($A57)=$A57,EVEN(Z$2)=Z$2)),Z$1,-100))","v":440.625},{"$f":"IF('Ceiling Speaker Calculator'!$C$29=\"Square\",AA$1,IF(OR(AND(ODD($A57)=$A57,ODD(AA$2)=AA$2),AND(EVEN($A57)=$A57,EVEN(AA$2)=AA$2)),AA$1,-100))","v":459.375},{"$f":"IF('Ceiling Speaker Calculator'!$C$29=\"Square\",AB$1,IF(OR(AND(ODD($A57)=$A57,ODD(AB$2)=AB$2),AND(EVEN($A57)=$A57,EVEN(AB$2)=AB$2)),AB$1,-100))","v":478.125},{"$f":"IF('Ceiling Speaker Calculator'!$C$29=\"Square\",AC$1,IF(OR(AND(ODD($A57)=$A57,ODD(AC$2)=AC$2),AND(EVEN($A57)=$A57,EVEN(AC$2)=AC$2)),AC$1,-100))","v":496.875},{"$f":"IF('Ceiling Speaker Calculator'!$C$29=\"Square\",AD$1,IF(OR(AND(ODD($A57)=$A57,ODD(AD$2)=AD$2),AND(EVEN($A57)=$A57,EVEN(AD$2)=AD$2)),AD$1,-100))","v":515.625},{"$f":"IF('Ceiling Speaker Calculator'!$C$29=\"Square\",AE$1,IF(OR(AND(ODD($A57)=$A57,ODD(AE$2)=AE$2),AND(EVEN($A57)=$A57,EVEN(AE$2)=AE$2)),AE$1,-100))","v":534.375},{"$f":"IF('Ceiling Speaker Calculator'!$C$29=\"Square\",AF$1,IF(OR(AND(ODD($A57)=$A57,ODD(AF$2)=AF$2),AND(EVEN($A57)=$A57,EVEN(AF$2)=AF$2)),AF$1,-100))","v":553.125},{"$f":"IF('Ceiling Speaker Calculator'!$C$29=\"Square\",AG$1,IF(OR(AND(ODD($A57)=$A57,ODD(AG$2)=AG$2),AND(EVEN($A57)=$A57,EVEN(AG$2)=AG$2)),AG$1,-100))","v":571.875},{"$f":"IF('Ceiling Speaker Calculator'!$C$29=\"Square\",AH$1,IF(OR(AND(ODD($A57)=$A57,ODD(AH$2)=AH$2),AND(EVEN($A57)=$A57,EVEN(AH$2)=AH$2)),AH$1,-100))","v":590.625},{"$f":"IF('Ceiling Speaker Calculator'!$C$29=\"Square\",AI$1,IF(OR(AND(ODD($A57)=$A57,ODD(AI$2)=AI$2),AND(EVEN($A57)=$A57,EVEN(AI$2)=AI$2)),AI$1,-100))","v":609.375},{"$f":"IF('Ceiling Speaker Calculator'!$C$29=\"Square\",AJ$1,IF(OR(AND(ODD($A57)=$A57,ODD(AJ$2)=AJ$2),AND(EVEN($A57)=$A57,EVEN(AJ$2)=AJ$2)),AJ$1,-100))","v":628.125},{"$f":"IF('Ceiling Speaker Calculator'!$C$29=\"Square\",AK$1,IF(OR(AND(ODD($A57)=$A57,ODD(AK$2)=AK$2),AND(EVEN($A57)=$A57,EVEN(AK$2)=AK$2)),AK$1,-100))","v":646.875},{"$f":"IF('Ceiling Speaker Calculator'!$C$29=\"Square\",AL$1,IF(OR(AND(ODD($A57)=$A57,ODD(AL$2)=AL$2),AND(EVEN($A57)=$A57,EVEN(AL$2)=AL$2)),AL$1,-100))","v":665.625},{"$f":"IF('Ceiling Speaker Calculator'!$C$29=\"Square\",AM$1,IF(OR(AND(ODD($A57)=$A57,ODD(AM$2)=AM$2),AND(EVEN($A57)=$A57,EVEN(AM$2)=AM$2)),AM$1,-100))","v":684.375},{"$f":"IF('Ceiling Speaker Calculator'!$C$29=\"Square\",AN$1,IF(OR(AND(ODD($A57)=$A57,ODD(AN$2)=AN$2),AND(EVEN($A57)=$A57,EVEN(AN$2)=AN$2)),AN$1,-100))","v":703.125},{"$f":"IF('Ceiling Speaker Calculator'!$C$29=\"Square\",AO$1,IF(OR(AND(ODD($A57)=$A57,ODD(AO$2)=AO$2),AND(EVEN($A57)=$A57,EVEN(AO$2)=AO$2)),AO$1,-100))","v":721.875},{"$f":"IF('Ceiling Speaker Calculator'!$C$29=\"Square\",AP$1,IF(OR(AND(ODD($A57)=$A57,ODD(AP$2)=AP$2),AND(EVEN($A57)=$A57,EVEN(AP$2)=AP$2)),AP$1,-100))","v":740.625},{"$f":"IF('Ceiling Speaker Calculator'!$C$29=\"Square\",AQ$1,IF(OR(AND(ODD($A57)=$A57,ODD(AQ$2)=AQ$2),AND(EVEN($A57)=$A57,EVEN(AQ$2)=AQ$2)),AQ$1,-100))","v":759.375},{"$f":"IF('Ceiling Speaker Calculator'!$C$29=\"Square\",AR$1,IF(OR(AND(ODD($A57)=$A57,ODD(AR$2)=AR$2),AND(EVEN($A57)=$A57,EVEN(AR$2)=AR$2)),AR$1,-100))","v":778.125},{"$f":"IF('Ceiling Speaker Calculator'!$C$29=\"Square\",AS$1,IF(OR(AND(ODD($A57)=$A57,ODD(AS$2)=AS$2),AND(EVEN($A57)=$A57,EVEN(AS$2)=AS$2)),AS$1,-100))","v":796.875},{"$f":"IF('Ceiling Speaker Calculator'!$C$29=\"Square\",AT$1,IF(OR(AND(ODD($A57)=$A57,ODD(AT$2)=AT$2),AND(EVEN($A57)=$A57,EVEN(AT$2)=AT$2)),AT$1,-100))","v":815.625},{"$f":"IF('Ceiling Speaker Calculator'!$C$29=\"Square\",AU$1,IF(OR(AND(ODD($A57)=$A57,ODD(AU$2)=AU$2),AND(EVEN($A57)=$A57,EVEN(AU$2)=AU$2)),AU$1,-100))","v":834.375},{"$f":"IF('Ceiling Speaker Calculator'!$C$29=\"Square\",AV$1,IF(OR(AND(ODD($A57)=$A57,ODD(AV$2)=AV$2),AND(EVEN($A57)=$A57,EVEN(AV$2)=AV$2)),AV$1,-100))","v":853.125},{"$f":"IF('Ceiling Speaker Calculator'!$C$29=\"Square\",AW$1,IF(OR(AND(ODD($A57)=$A57,ODD(AW$2)=AW$2),AND(EVEN($A57)=$A57,EVEN(AW$2)=AW$2)),AW$1,-100))","v":871.875},{"$f":"IF('Ceiling Speaker Calculator'!$C$29=\"Square\",AX$1,IF(OR(AND(ODD($A57)=$A57,ODD(AX$2)=AX$2),AND(EVEN($A57)=$A57,EVEN(AX$2)=AX$2)),AX$1,-100))","v":890.625},{"$f":"IF('Ceiling Speaker Calculator'!$C$29=\"Square\",AY$1,IF(OR(AND(ODD($A57)=$A57,ODD(AY$2)=AY$2),AND(EVEN($A57)=$A57,EVEN(AY$2)=AY$2)),AY$1,-100))","v":909.375},{"$f":"IF('Ceiling Speaker Calculator'!$C$29=\"Square\",AZ$1,IF(OR(AND(ODD($A57)=$A57,ODD(AZ$2)=AZ$2),AND(EVEN($A57)=$A57,EVEN(AZ$2)=AZ$2)),AZ$1,-100))","v":928.125},{"$f":"IF('Ceiling Speaker Calculator'!$C$29=\"Square\",BA$1,IF(OR(AND(ODD($A57)=$A57,ODD(BA$2)=BA$2),AND(EVEN($A57)=$A57,EVEN(BA$2)=BA$2)),BA$1,-100))","v":946.875},{"$f":"IF('Ceiling Speaker Calculator'!$C$29=\"Square\",BB$1,IF(OR(AND(ODD($A57)=$A57,ODD(BB$2)=BB$2),AND(EVEN($A57)=$A57,EVEN(BB$2)=BB$2)),BB$1,-100))","v":965.625},{"$f":"IF('Ceiling Speaker Calculator'!$C$29=\"Square\",BC$1,IF(OR(AND(ODD($A57)=$A57,ODD(BC$2)=BC$2),AND(EVEN($A57)=$A57,EVEN(BC$2)=BC$2)),BC$1,-100))","v":984.375},{"$f":"IF('Ceiling Speaker Calculator'!$C$29=\"Square\",BD$1,IF(OR(AND(ODD($A57)=$A57,ODD(BD$2)=BD$2),AND(EVEN($A57)=$A57,EVEN(BD$2)=BD$2)),BD$1,-100))","v":1003.125},{"$f":"IF('Ceiling Speaker Calculator'!$C$29=\"Square\",BE$1,IF(OR(AND(ODD($A57)=$A57,ODD(BE$2)=BE$2),AND(EVEN($A57)=$A57,EVEN(BE$2)=BE$2)),BE$1,-100))","v":1021.875},{"$f":"IF('Ceiling Speaker Calculator'!$C$29=\"Square\",BF$1,IF(OR(AND(ODD($A57)=$A57,ODD(BF$2)=BF$2),AND(EVEN($A57)=$A57,EVEN(BF$2)=BF$2)),BF$1,-100))","v":1040.625},{"$f":"IF('Ceiling Speaker Calculator'!$C$29=\"Square\",BG$1,IF(OR(AND(ODD($A57)=$A57,ODD(BG$2)=BG$2),AND(EVEN($A57)=$A57,EVEN(BG$2)=BG$2)),BG$1,-100))","v":1059.375},{"$f":"IF('Ceiling Speaker Calculator'!$C$29=\"Square\",BH$1,IF(OR(AND(ODD($A57)=$A57,ODD(BH$2)=BH$2),AND(EVEN($A57)=$A57,EVEN(BH$2)=BH$2)),BH$1,-100))","v":1078.125},{"$f":"IF('Ceiling Speaker Calculator'!$C$29=\"Square\",BI$1,IF(OR(AND(ODD($A57)=$A57,ODD(BI$2)=BI$2),AND(EVEN($A57)=$A57,EVEN(BI$2)=BI$2)),BI$1,-100))","v":1096.875},{"$f":"IF('Ceiling Speaker Calculator'!$C$29=\"Square\",BJ$1,IF(OR(AND(ODD($A57)=$A57,ODD(BJ$2)=BJ$2),AND(EVEN($A57)=$A57,EVEN(BJ$2)=BJ$2)),BJ$1,-100))","v":1115.625},{"$f":"IF('Ceiling Speaker Calculator'!$C$29=\"Square\",BK$1,IF(OR(AND(ODD($A57)=$A57,ODD(BK$2)=BK$2),AND(EVEN($A57)=$A57,EVEN(BK$2)=BK$2)),BK$1,-100))","v":1134.375},{"$f":"IF('Ceiling Speaker Calculator'!$C$29=\"Square\",BL$1,IF(OR(AND(ODD($A57)=$A57,ODD(BL$2)=BL$2),AND(EVEN($A57)=$A57,EVEN(BL$2)=BL$2)),BL$1,-100))","v":1153.125},{"$f":"IF('Ceiling Speaker Calculator'!$C$29=\"Square\",BM$1,IF(OR(AND(ODD($A57)=$A57,ODD(BM$2)=BM$2),AND(EVEN($A57)=$A57,EVEN(BM$2)=BM$2)),BM$1,-100))","v":1171.875},{"$f":"IF('Ceiling Speaker Calculator'!$C$29=\"Square\",BN$1,IF(OR(AND(ODD($A57)=$A57,ODD(BN$2)=BN$2),AND(EVEN($A57)=$A57,EVEN(BN$2)=BN$2)),BN$1,-100))","v":1190.625},{"$f":"IF('Ceiling Speaker Calculator'!$C$29=\"Square\",BO$1,IF(OR(AND(ODD($A57)=$A57,ODD(BO$2)=BO$2),AND(EVEN($A57)=$A57,EVEN(BO$2)=BO$2)),BO$1,-100))","v":1209.375},{"$f":"IF('Ceiling Speaker Calculator'!$C$29=\"Square\",BP$1,IF(OR(AND(ODD($A57)=$A57,ODD(BP$2)=BP$2),AND(EVEN($A57)=$A57,EVEN(BP$2)=BP$2)),BP$1,-100))","v":1228.125},{"$f":"IF('Ceiling Speaker Calculator'!$C$29=\"Square\",BQ$1,IF(OR(AND(ODD($A57)=$A57,ODD(BQ$2)=BQ$2),AND(EVEN($A57)=$A57,EVEN(BQ$2)=BQ$2)),BQ$1,-100))","v":1246.875},{"$f":"IF('Ceiling Speaker Calculator'!$C$29=\"Square\",BR$1,IF(OR(AND(ODD($A57)=$A57,ODD(BR$2)=BR$2),AND(EVEN($A57)=$A57,EVEN(BR$2)=BR$2)),BR$1,-100))","v":1265.625},{"$f":"IF('Ceiling Speaker Calculator'!$C$29=\"Square\",BS$1,IF(OR(AND(ODD($A57)=$A57,ODD(BS$2)=BS$2),AND(EVEN($A57)=$A57,EVEN(BS$2)=BS$2)),BS$1,-100))","v":1284.375},{"$f":"IF('Ceiling Speaker Calculator'!$C$29=\"Square\",BT$1,IF(OR(AND(ODD($A57)=$A57,ODD(BT$2)=BT$2),AND(EVEN($A57)=$A57,EVEN(BT$2)=BT$2)),BT$1,-100))","v":1303.125},{"$f":"IF('Ceiling Speaker Calculator'!$C$29=\"Square\",BU$1,IF(OR(AND(ODD($A57)=$A57,ODD(BU$2)=BU$2),AND(EVEN($A57)=$A57,EVEN(BU$2)=BU$2)),BU$1,-100))","v":1321.875},{"$f":"IF('Ceiling Speaker Calculator'!$C$29=\"Square\",BV$1,IF(OR(AND(ODD($A57)=$A57,ODD(BV$2)=BV$2),AND(EVEN($A57)=$A57,EVEN(BV$2)=BV$2)),BV$1,-100))","v":1340.625},{"$f":"IF('Ceiling Speaker Calculator'!$C$29=\"Square\",BW$1,IF(OR(AND(ODD($A57)=$A57,ODD(BW$2)=BW$2),AND(EVEN($A57)=$A57,EVEN(BW$2)=BW$2)),BW$1,-100))","v":1359.375},{"$f":"IF('Ceiling Speaker Calculator'!$C$29=\"Square\",BX$1,IF(OR(AND(ODD($A57)=$A57,ODD(BX$2)=BX$2),AND(EVEN($A57)=$A57,EVEN(BX$2)=BX$2)),BX$1,-100))","v":1378.125},{"$f":"IF('Ceiling Speaker Calculator'!$C$29=\"Square\",BY$1,IF(OR(AND(ODD($A57)=$A57,ODD(BY$2)=BY$2),AND(EVEN($A57)=$A57,EVEN(BY$2)=BY$2)),BY$1,-100))","v":1396.875},{"$f":"IF('Ceiling Speaker Calculator'!$C$29=\"Square\",BZ$1,IF(OR(AND(ODD($A57)=$A57,ODD(BZ$2)=BZ$2),AND(EVEN($A57)=$A57,EVEN(BZ$2)=BZ$2)),BZ$1,-100))","v":1415.625},{"$f":"IF('Ceiling Speaker Calculator'!$C$29=\"Square\",CA$1,IF(OR(AND(ODD($A57)=$A57,ODD(CA$2)=CA$2),AND(EVEN($A57)=$A57,EVEN(CA$2)=CA$2)),CA$1,-100))","v":1434.375},{"$f":"IF('Ceiling Speaker Calculator'!$C$29=\"Square\",CB$1,IF(OR(AND(ODD($A57)=$A57,ODD(CB$2)=CB$2),AND(EVEN($A57)=$A57,EVEN(CB$2)=CB$2)),CB$1,-100))","v":1453.125},{"$f":"IF('Ceiling Speaker Calculator'!$C$29=\"Square\",CC$1,IF(OR(AND(ODD($A57)=$A57,ODD(CC$2)=CC$2),AND(EVEN($A57)=$A57,EVEN(CC$2)=CC$2)),CC$1,-100))","v":1471.875},{"$f":"IF('Ceiling Speaker Calculator'!$C$29=\"Square\",CD$1,IF(OR(AND(ODD($A57)=$A57,ODD(CD$2)=CD$2),AND(EVEN($A57)=$A57,EVEN(CD$2)=CD$2)),CD$1,-100))","v":1490.625},{"$f":"IF('Ceiling Speaker Calculator'!$C$29=\"Square\",CE$1,IF(OR(AND(ODD($A57)=$A57,ODD(CE$2)=CE$2),AND(EVEN($A57)=$A57,EVEN(CE$2)=CE$2)),CE$1,-100))","v":1509.375},{"$f":"IF('Ceiling Speaker Calculator'!$C$29=\"Square\",CF$1,IF(OR(AND(ODD($A57)=$A57,ODD(CF$2)=CF$2),AND(EVEN($A57)=$A57,EVEN(CF$2)=CF$2)),CF$1,-100))","v":1528.125},{"$f":"IF('Ceiling Speaker Calculator'!$C$29=\"Square\",CG$1,IF(OR(AND(ODD($A57)=$A57,ODD(CG$2)=CG$2),AND(EVEN($A57)=$A57,EVEN(CG$2)=CG$2)),CG$1,-100))","v":1546.875},{"$f":"IF('Ceiling Speaker Calculator'!$C$29=\"Square\",CH$1,IF(OR(AND(ODD($A57)=$A57,ODD(CH$2)=CH$2),AND(EVEN($A57)=$A57,EVEN(CH$2)=CH$2)),CH$1,-100))","v":1565.625},{"$f":"IF('Ceiling Speaker Calculator'!$C$29=\"Square\",CI$1,IF(OR(AND(ODD($A57)=$A57,ODD(CI$2)=CI$2),AND(EVEN($A57)=$A57,EVEN(CI$2)=CI$2)),CI$1,-100))","v":1584.375},{"$f":"IF('Ceiling Speaker Calculator'!$C$29=\"Square\",CJ$1,IF(OR(AND(ODD($A57)=$A57,ODD(CJ$2)=CJ$2),AND(EVEN($A57)=$A57,EVEN(CJ$2)=CJ$2)),CJ$1,-100))","v":1603.125},{"$f":"IF('Ceiling Speaker Calculator'!$C$29=\"Square\",CK$1,IF(OR(AND(ODD($A57)=$A57,ODD(CK$2)=CK$2),AND(EVEN($A57)=$A57,EVEN(CK$2)=CK$2)),CK$1,-100))","v":1621.875},{"$f":"IF('Ceiling Speaker Calculator'!$C$29=\"Square\",CL$1,IF(OR(AND(ODD($A57)=$A57,ODD(CL$2)=CL$2),AND(EVEN($A57)=$A57,EVEN(CL$2)=CL$2)),CL$1,-100))","v":1640.625},{"$f":"IF('Ceiling Speaker Calculator'!$C$29=\"Square\",CM$1,IF(OR(AND(ODD($A57)=$A57,ODD(CM$2)=CM$2),AND(EVEN($A57)=$A57,EVEN(CM$2)=CM$2)),CM$1,-100))","v":1659.375},{"$f":"IF('Ceiling Speaker Calculator'!$C$29=\"Square\",CN$1,IF(OR(AND(ODD($A57)=$A57,ODD(CN$2)=CN$2),AND(EVEN($A57)=$A57,EVEN(CN$2)=CN$2)),CN$1,-100))","v":1678.125},{"$f":"IF('Ceiling Speaker Calculator'!$C$29=\"Square\",CO$1,IF(OR(AND(ODD($A57)=$A57,ODD(CO$2)=CO$2),AND(EVEN($A57)=$A57,EVEN(CO$2)=CO$2)),CO$1,-100))","v":1696.875},{"$f":"IF('Ceiling Speaker Calculator'!$C$29=\"Square\",CP$1,IF(OR(AND(ODD($A57)=$A57,ODD(CP$2)=CP$2),AND(EVEN($A57)=$A57,EVEN(CP$2)=CP$2)),CP$1,-100))","v":1715.625},{"$f":"IF('Ceiling Speaker Calculator'!$C$29=\"Square\",CQ$1,IF(OR(AND(ODD($A57)=$A57,ODD(CQ$2)=CQ$2),AND(EVEN($A57)=$A57,EVEN(CQ$2)=CQ$2)),CQ$1,-100))","v":1734.375},{"$f":"IF('Ceiling Speaker Calculator'!$C$29=\"Square\",CR$1,IF(OR(AND(ODD($A57)=$A57,ODD(CR$2)=CR$2),AND(EVEN($A57)=$A57,EVEN(CR$2)=CR$2)),CR$1,-100))","v":1753.125},{"$f":"IF('Ceiling Speaker Calculator'!$C$29=\"Square\",CS$1,IF(OR(AND(ODD($A57)=$A57,ODD(CS$2)=CS$2),AND(EVEN($A57)=$A57,EVEN(CS$2)=CS$2)),CS$1,-100))","v":1771.875},{"$f":"IF('Ceiling Speaker Calculator'!$C$29=\"Square\",CT$1,IF(OR(AND(ODD($A57)=$A57,ODD(CT$2)=CT$2),AND(EVEN($A57)=$A57,EVEN(CT$2)=CT$2)),CT$1,-100))","v":1790.625},{"$f":"IF('Ceiling Speaker Calculator'!$C$29=\"Square\",CU$1,IF(OR(AND(ODD($A57)=$A57,ODD(CU$2)=CU$2),AND(EVEN($A57)=$A57,EVEN(CU$2)=CU$2)),CU$1,-100))","v":1809.375},{"$f":"IF('Ceiling Speaker Calculator'!$C$29=\"Square\",CV$1,IF(OR(AND(ODD($A57)=$A57,ODD(CV$2)=CV$2),AND(EVEN($A57)=$A57,EVEN(CV$2)=CV$2)),CV$1,-100))","v":1828.125},{"$f":"IF('Ceiling Speaker Calculator'!$C$29=\"Square\",CW$1,IF(OR(AND(ODD($A57)=$A57,ODD(CW$2)=CW$2),AND(EVEN($A57)=$A57,EVEN(CW$2)=CW$2)),CW$1,-100))","v":1846.875},{"$f":"IF('Ceiling Speaker Calculator'!$C$29=\"Square\",CX$1,IF(OR(AND(ODD($A57)=$A57,ODD(CX$2)=CX$2),AND(EVEN($A57)=$A57,EVEN(CX$2)=CX$2)),CX$1,-100))","v":1865.625}]
[56,{"$f":"B57+'Ceiling Speaker Calculator'!$K$16","v":1110},{"$f":"IF('Ceiling Speaker Calculator'!$C$29=\"Square\",C$1,IF(OR(AND(ODD($A58)=$A58,ODD(C$2)=C$2),AND(EVEN($A58)=$A58,EVEN(C$2)=C$2)),C$1,-100))","v":9.375},{"$f":"IF('Ceiling Speaker Calculator'!$C$29=\"Square\",D$1,IF(OR(AND(ODD($A58)=$A58,ODD(D$2)=D$2),AND(EVEN($A58)=$A58,EVEN(D$2)=D$2)),D$1,-100))","v":28.125},{"$f":"IF('Ceiling Speaker Calculator'!$C$29=\"Square\",E$1,IF(OR(AND(ODD($A58)=$A58,ODD(E$2)=E$2),AND(EVEN($A58)=$A58,EVEN(E$2)=E$2)),E$1,-100))","v":46.875},{"$f":"IF('Ceiling Speaker Calculator'!$C$29=\"Square\",F$1,IF(OR(AND(ODD($A58)=$A58,ODD(F$2)=F$2),AND(EVEN($A58)=$A58,EVEN(F$2)=F$2)),F$1,-100))","v":65.625},{"$f":"IF('Ceiling Speaker Calculator'!$C$29=\"Square\",G$1,IF(OR(AND(ODD($A58)=$A58,ODD(G$2)=G$2),AND(EVEN($A58)=$A58,EVEN(G$2)=G$2)),G$1,-100))","v":84.375},{"$f":"IF('Ceiling Speaker Calculator'!$C$29=\"Square\",H$1,IF(OR(AND(ODD($A58)=$A58,ODD(H$2)=H$2),AND(EVEN($A58)=$A58,EVEN(H$2)=H$2)),H$1,-100))","v":103.125},{"$f":"IF('Ceiling Speaker Calculator'!$C$29=\"Square\",I$1,IF(OR(AND(ODD($A58)=$A58,ODD(I$2)=I$2),AND(EVEN($A58)=$A58,EVEN(I$2)=I$2)),I$1,-100))","v":121.875},{"$f":"IF('Ceiling Speaker Calculator'!$C$29=\"Square\",J$1,IF(OR(AND(ODD($A58)=$A58,ODD(J$2)=J$2),AND(EVEN($A58)=$A58,EVEN(J$2)=J$2)),J$1,-100))","v":140.625},{"$f":"IF('Ceiling Speaker Calculator'!$C$29=\"Square\",K$1,IF(OR(AND(ODD($A58)=$A58,ODD(K$2)=K$2),AND(EVEN($A58)=$A58,EVEN(K$2)=K$2)),K$1,-100))","v":159.375},{"$f":"IF('Ceiling Speaker Calculator'!$C$29=\"Square\",L$1,IF(OR(AND(ODD($A58)=$A58,ODD(L$2)=L$2),AND(EVEN($A58)=$A58,EVEN(L$2)=L$2)),L$1,-100))","v":178.125},{"$f":"IF('Ceiling Speaker Calculator'!$C$29=\"Square\",M$1,IF(OR(AND(ODD($A58)=$A58,ODD(M$2)=M$2),AND(EVEN($A58)=$A58,EVEN(M$2)=M$2)),M$1,-100))","v":196.875},{"$f":"IF('Ceiling Speaker Calculator'!$C$29=\"Square\",N$1,IF(OR(AND(ODD($A58)=$A58,ODD(N$2)=N$2),AND(EVEN($A58)=$A58,EVEN(N$2)=N$2)),N$1,-100))","v":215.625},{"$f":"IF('Ceiling Speaker Calculator'!$C$29=\"Square\",O$1,IF(OR(AND(ODD($A58)=$A58,ODD(O$2)=O$2),AND(EVEN($A58)=$A58,EVEN(O$2)=O$2)),O$1,-100))","v":234.375},{"$f":"IF('Ceiling Speaker Calculator'!$C$29=\"Square\",P$1,IF(OR(AND(ODD($A58)=$A58,ODD(P$2)=P$2),AND(EVEN($A58)=$A58,EVEN(P$2)=P$2)),P$1,-100))","v":253.125},{"$f":"IF('Ceiling Speaker Calculator'!$C$29=\"Square\",Q$1,IF(OR(AND(ODD($A58)=$A58,ODD(Q$2)=Q$2),AND(EVEN($A58)=$A58,EVEN(Q$2)=Q$2)),Q$1,-100))","v":271.875},{"$f":"IF('Ceiling Speaker Calculator'!$C$29=\"Square\",R$1,IF(OR(AND(ODD($A58)=$A58,ODD(R$2)=R$2),AND(EVEN($A58)=$A58,EVEN(R$2)=R$2)),R$1,-100))","v":290.625},{"$f":"IF('Ceiling Speaker Calculator'!$C$29=\"Square\",S$1,IF(OR(AND(ODD($A58)=$A58,ODD(S$2)=S$2),AND(EVEN($A58)=$A58,EVEN(S$2)=S$2)),S$1,-100))","v":309.375},{"$f":"IF('Ceiling Speaker Calculator'!$C$29=\"Square\",T$1,IF(OR(AND(ODD($A58)=$A58,ODD(T$2)=T$2),AND(EVEN($A58)=$A58,EVEN(T$2)=T$2)),T$1,-100))","v":328.125},{"$f":"IF('Ceiling Speaker Calculator'!$C$29=\"Square\",U$1,IF(OR(AND(ODD($A58)=$A58,ODD(U$2)=U$2),AND(EVEN($A58)=$A58,EVEN(U$2)=U$2)),U$1,-100))","v":346.875},{"$f":"IF('Ceiling Speaker Calculator'!$C$29=\"Square\",V$1,IF(OR(AND(ODD($A58)=$A58,ODD(V$2)=V$2),AND(EVEN($A58)=$A58,EVEN(V$2)=V$2)),V$1,-100))","v":365.625},{"$f":"IF('Ceiling Speaker Calculator'!$C$29=\"Square\",W$1,IF(OR(AND(ODD($A58)=$A58,ODD(W$2)=W$2),AND(EVEN($A58)=$A58,EVEN(W$2)=W$2)),W$1,-100))","v":384.375},{"$f":"IF('Ceiling Speaker Calculator'!$C$29=\"Square\",X$1,IF(OR(AND(ODD($A58)=$A58,ODD(X$2)=X$2),AND(EVEN($A58)=$A58,EVEN(X$2)=X$2)),X$1,-100))","v":403.125},{"$f":"IF('Ceiling Speaker Calculator'!$C$29=\"Square\",Y$1,IF(OR(AND(ODD($A58)=$A58,ODD(Y$2)=Y$2),AND(EVEN($A58)=$A58,EVEN(Y$2)=Y$2)),Y$1,-100))","v":421.875},{"$f":"IF('Ceiling Speaker Calculator'!$C$29=\"Square\",Z$1,IF(OR(AND(ODD($A58)=$A58,ODD(Z$2)=Z$2),AND(EVEN($A58)=$A58,EVEN(Z$2)=Z$2)),Z$1,-100))","v":440.625},{"$f":"IF('Ceiling Speaker Calculator'!$C$29=\"Square\",AA$1,IF(OR(AND(ODD($A58)=$A58,ODD(AA$2)=AA$2),AND(EVEN($A58)=$A58,EVEN(AA$2)=AA$2)),AA$1,-100))","v":459.375},{"$f":"IF('Ceiling Speaker Calculator'!$C$29=\"Square\",AB$1,IF(OR(AND(ODD($A58)=$A58,ODD(AB$2)=AB$2),AND(EVEN($A58)=$A58,EVEN(AB$2)=AB$2)),AB$1,-100))","v":478.125},{"$f":"IF('Ceiling Speaker Calculator'!$C$29=\"Square\",AC$1,IF(OR(AND(ODD($A58)=$A58,ODD(AC$2)=AC$2),AND(EVEN($A58)=$A58,EVEN(AC$2)=AC$2)),AC$1,-100))","v":496.875},{"$f":"IF('Ceiling Speaker Calculator'!$C$29=\"Square\",AD$1,IF(OR(AND(ODD($A58)=$A58,ODD(AD$2)=AD$2),AND(EVEN($A58)=$A58,EVEN(AD$2)=AD$2)),AD$1,-100))","v":515.625},{"$f":"IF('Ceiling Speaker Calculator'!$C$29=\"Square\",AE$1,IF(OR(AND(ODD($A58)=$A58,ODD(AE$2)=AE$2),AND(EVEN($A58)=$A58,EVEN(AE$2)=AE$2)),AE$1,-100))","v":534.375},{"$f":"IF('Ceiling Speaker Calculator'!$C$29=\"Square\",AF$1,IF(OR(AND(ODD($A58)=$A58,ODD(AF$2)=AF$2),AND(EVEN($A58)=$A58,EVEN(AF$2)=AF$2)),AF$1,-100))","v":553.125},{"$f":"IF('Ceiling Speaker Calculator'!$C$29=\"Square\",AG$1,IF(OR(AND(ODD($A58)=$A58,ODD(AG$2)=AG$2),AND(EVEN($A58)=$A58,EVEN(AG$2)=AG$2)),AG$1,-100))","v":571.875},{"$f":"IF('Ceiling Speaker Calculator'!$C$29=\"Square\",AH$1,IF(OR(AND(ODD($A58)=$A58,ODD(AH$2)=AH$2),AND(EVEN($A58)=$A58,EVEN(AH$2)=AH$2)),AH$1,-100))","v":590.625},{"$f":"IF('Ceiling Speaker Calculator'!$C$29=\"Square\",AI$1,IF(OR(AND(ODD($A58)=$A58,ODD(AI$2)=AI$2),AND(EVEN($A58)=$A58,EVEN(AI$2)=AI$2)),AI$1,-100))","v":609.375},{"$f":"IF('Ceiling Speaker Calculator'!$C$29=\"Square\",AJ$1,IF(OR(AND(ODD($A58)=$A58,ODD(AJ$2)=AJ$2),AND(EVEN($A58)=$A58,EVEN(AJ$2)=AJ$2)),AJ$1,-100))","v":628.125},{"$f":"IF('Ceiling Speaker Calculator'!$C$29=\"Square\",AK$1,IF(OR(AND(ODD($A58)=$A58,ODD(AK$2)=AK$2),AND(EVEN($A58)=$A58,EVEN(AK$2)=AK$2)),AK$1,-100))","v":646.875},{"$f":"IF('Ceiling Speaker Calculator'!$C$29=\"Square\",AL$1,IF(OR(AND(ODD($A58)=$A58,ODD(AL$2)=AL$2),AND(EVEN($A58)=$A58,EVEN(AL$2)=AL$2)),AL$1,-100))","v":665.625},{"$f":"IF('Ceiling Speaker Calculator'!$C$29=\"Square\",AM$1,IF(OR(AND(ODD($A58)=$A58,ODD(AM$2)=AM$2),AND(EVEN($A58)=$A58,EVEN(AM$2)=AM$2)),AM$1,-100))","v":684.375},{"$f":"IF('Ceiling Speaker Calculator'!$C$29=\"Square\",AN$1,IF(OR(AND(ODD($A58)=$A58,ODD(AN$2)=AN$2),AND(EVEN($A58)=$A58,EVEN(AN$2)=AN$2)),AN$1,-100))","v":703.125},{"$f":"IF('Ceiling Speaker Calculator'!$C$29=\"Square\",AO$1,IF(OR(AND(ODD($A58)=$A58,ODD(AO$2)=AO$2),AND(EVEN($A58)=$A58,EVEN(AO$2)=AO$2)),AO$1,-100))","v":721.875},{"$f":"IF('Ceiling Speaker Calculator'!$C$29=\"Square\",AP$1,IF(OR(AND(ODD($A58)=$A58,ODD(AP$2)=AP$2),AND(EVEN($A58)=$A58,EVEN(AP$2)=AP$2)),AP$1,-100))","v":740.625},{"$f":"IF('Ceiling Speaker Calculator'!$C$29=\"Square\",AQ$1,IF(OR(AND(ODD($A58)=$A58,ODD(AQ$2)=AQ$2),AND(EVEN($A58)=$A58,EVEN(AQ$2)=AQ$2)),AQ$1,-100))","v":759.375},{"$f":"IF('Ceiling Speaker Calculator'!$C$29=\"Square\",AR$1,IF(OR(AND(ODD($A58)=$A58,ODD(AR$2)=AR$2),AND(EVEN($A58)=$A58,EVEN(AR$2)=AR$2)),AR$1,-100))","v":778.125},{"$f":"IF('Ceiling Speaker Calculator'!$C$29=\"Square\",AS$1,IF(OR(AND(ODD($A58)=$A58,ODD(AS$2)=AS$2),AND(EVEN($A58)=$A58,EVEN(AS$2)=AS$2)),AS$1,-100))","v":796.875},{"$f":"IF('Ceiling Speaker Calculator'!$C$29=\"Square\",AT$1,IF(OR(AND(ODD($A58)=$A58,ODD(AT$2)=AT$2),AND(EVEN($A58)=$A58,EVEN(AT$2)=AT$2)),AT$1,-100))","v":815.625},{"$f":"IF('Ceiling Speaker Calculator'!$C$29=\"Square\",AU$1,IF(OR(AND(ODD($A58)=$A58,ODD(AU$2)=AU$2),AND(EVEN($A58)=$A58,EVEN(AU$2)=AU$2)),AU$1,-100))","v":834.375},{"$f":"IF('Ceiling Speaker Calculator'!$C$29=\"Square\",AV$1,IF(OR(AND(ODD($A58)=$A58,ODD(AV$2)=AV$2),AND(EVEN($A58)=$A58,EVEN(AV$2)=AV$2)),AV$1,-100))","v":853.125},{"$f":"IF('Ceiling Speaker Calculator'!$C$29=\"Square\",AW$1,IF(OR(AND(ODD($A58)=$A58,ODD(AW$2)=AW$2),AND(EVEN($A58)=$A58,EVEN(AW$2)=AW$2)),AW$1,-100))","v":871.875},{"$f":"IF('Ceiling Speaker Calculator'!$C$29=\"Square\",AX$1,IF(OR(AND(ODD($A58)=$A58,ODD(AX$2)=AX$2),AND(EVEN($A58)=$A58,EVEN(AX$2)=AX$2)),AX$1,-100))","v":890.625},{"$f":"IF('Ceiling Speaker Calculator'!$C$29=\"Square\",AY$1,IF(OR(AND(ODD($A58)=$A58,ODD(AY$2)=AY$2),AND(EVEN($A58)=$A58,EVEN(AY$2)=AY$2)),AY$1,-100))","v":909.375},{"$f":"IF('Ceiling Speaker Calculator'!$C$29=\"Square\",AZ$1,IF(OR(AND(ODD($A58)=$A58,ODD(AZ$2)=AZ$2),AND(EVEN($A58)=$A58,EVEN(AZ$2)=AZ$2)),AZ$1,-100))","v":928.125},{"$f":"IF('Ceiling Speaker Calculator'!$C$29=\"Square\",BA$1,IF(OR(AND(ODD($A58)=$A58,ODD(BA$2)=BA$2),AND(EVEN($A58)=$A58,EVEN(BA$2)=BA$2)),BA$1,-100))","v":946.875},{"$f":"IF('Ceiling Speaker Calculator'!$C$29=\"Square\",BB$1,IF(OR(AND(ODD($A58)=$A58,ODD(BB$2)=BB$2),AND(EVEN($A58)=$A58,EVEN(BB$2)=BB$2)),BB$1,-100))","v":965.625},{"$f":"IF('Ceiling Speaker Calculator'!$C$29=\"Square\",BC$1,IF(OR(AND(ODD($A58)=$A58,ODD(BC$2)=BC$2),AND(EVEN($A58)=$A58,EVEN(BC$2)=BC$2)),BC$1,-100))","v":984.375},{"$f":"IF('Ceiling Speaker Calculator'!$C$29=\"Square\",BD$1,IF(OR(AND(ODD($A58)=$A58,ODD(BD$2)=BD$2),AND(EVEN($A58)=$A58,EVEN(BD$2)=BD$2)),BD$1,-100))","v":1003.125},{"$f":"IF('Ceiling Speaker Calculator'!$C$29=\"Square\",BE$1,IF(OR(AND(ODD($A58)=$A58,ODD(BE$2)=BE$2),AND(EVEN($A58)=$A58,EVEN(BE$2)=BE$2)),BE$1,-100))","v":1021.875},{"$f":"IF('Ceiling Speaker Calculator'!$C$29=\"Square\",BF$1,IF(OR(AND(ODD($A58)=$A58,ODD(BF$2)=BF$2),AND(EVEN($A58)=$A58,EVEN(BF$2)=BF$2)),BF$1,-100))","v":1040.625},{"$f":"IF('Ceiling Speaker Calculator'!$C$29=\"Square\",BG$1,IF(OR(AND(ODD($A58)=$A58,ODD(BG$2)=BG$2),AND(EVEN($A58)=$A58,EVEN(BG$2)=BG$2)),BG$1,-100))","v":1059.375},{"$f":"IF('Ceiling Speaker Calculator'!$C$29=\"Square\",BH$1,IF(OR(AND(ODD($A58)=$A58,ODD(BH$2)=BH$2),AND(EVEN($A58)=$A58,EVEN(BH$2)=BH$2)),BH$1,-100))","v":1078.125},{"$f":"IF('Ceiling Speaker Calculator'!$C$29=\"Square\",BI$1,IF(OR(AND(ODD($A58)=$A58,ODD(BI$2)=BI$2),AND(EVEN($A58)=$A58,EVEN(BI$2)=BI$2)),BI$1,-100))","v":1096.875},{"$f":"IF('Ceiling Speaker Calculator'!$C$29=\"Square\",BJ$1,IF(OR(AND(ODD($A58)=$A58,ODD(BJ$2)=BJ$2),AND(EVEN($A58)=$A58,EVEN(BJ$2)=BJ$2)),BJ$1,-100))","v":1115.625},{"$f":"IF('Ceiling Speaker Calculator'!$C$29=\"Square\",BK$1,IF(OR(AND(ODD($A58)=$A58,ODD(BK$2)=BK$2),AND(EVEN($A58)=$A58,EVEN(BK$2)=BK$2)),BK$1,-100))","v":1134.375},{"$f":"IF('Ceiling Speaker Calculator'!$C$29=\"Square\",BL$1,IF(OR(AND(ODD($A58)=$A58,ODD(BL$2)=BL$2),AND(EVEN($A58)=$A58,EVEN(BL$2)=BL$2)),BL$1,-100))","v":1153.125},{"$f":"IF('Ceiling Speaker Calculator'!$C$29=\"Square\",BM$1,IF(OR(AND(ODD($A58)=$A58,ODD(BM$2)=BM$2),AND(EVEN($A58)=$A58,EVEN(BM$2)=BM$2)),BM$1,-100))","v":1171.875},{"$f":"IF('Ceiling Speaker Calculator'!$C$29=\"Square\",BN$1,IF(OR(AND(ODD($A58)=$A58,ODD(BN$2)=BN$2),AND(EVEN($A58)=$A58,EVEN(BN$2)=BN$2)),BN$1,-100))","v":1190.625},{"$f":"IF('Ceiling Speaker Calculator'!$C$29=\"Square\",BO$1,IF(OR(AND(ODD($A58)=$A58,ODD(BO$2)=BO$2),AND(EVEN($A58)=$A58,EVEN(BO$2)=BO$2)),BO$1,-100))","v":1209.375},{"$f":"IF('Ceiling Speaker Calculator'!$C$29=\"Square\",BP$1,IF(OR(AND(ODD($A58)=$A58,ODD(BP$2)=BP$2),AND(EVEN($A58)=$A58,EVEN(BP$2)=BP$2)),BP$1,-100))","v":1228.125},{"$f":"IF('Ceiling Speaker Calculator'!$C$29=\"Square\",BQ$1,IF(OR(AND(ODD($A58)=$A58,ODD(BQ$2)=BQ$2),AND(EVEN($A58)=$A58,EVEN(BQ$2)=BQ$2)),BQ$1,-100))","v":1246.875},{"$f":"IF('Ceiling Speaker Calculator'!$C$29=\"Square\",BR$1,IF(OR(AND(ODD($A58)=$A58,ODD(BR$2)=BR$2),AND(EVEN($A58)=$A58,EVEN(BR$2)=BR$2)),BR$1,-100))","v":1265.625},{"$f":"IF('Ceiling Speaker Calculator'!$C$29=\"Square\",BS$1,IF(OR(AND(ODD($A58)=$A58,ODD(BS$2)=BS$2),AND(EVEN($A58)=$A58,EVEN(BS$2)=BS$2)),BS$1,-100))","v":1284.375},{"$f":"IF('Ceiling Speaker Calculator'!$C$29=\"Square\",BT$1,IF(OR(AND(ODD($A58)=$A58,ODD(BT$2)=BT$2),AND(EVEN($A58)=$A58,EVEN(BT$2)=BT$2)),BT$1,-100))","v":1303.125},{"$f":"IF('Ceiling Speaker Calculator'!$C$29=\"Square\",BU$1,IF(OR(AND(ODD($A58)=$A58,ODD(BU$2)=BU$2),AND(EVEN($A58)=$A58,EVEN(BU$2)=BU$2)),BU$1,-100))","v":1321.875},{"$f":"IF('Ceiling Speaker Calculator'!$C$29=\"Square\",BV$1,IF(OR(AND(ODD($A58)=$A58,ODD(BV$2)=BV$2),AND(EVEN($A58)=$A58,EVEN(BV$2)=BV$2)),BV$1,-100))","v":1340.625},{"$f":"IF('Ceiling Speaker Calculator'!$C$29=\"Square\",BW$1,IF(OR(AND(ODD($A58)=$A58,ODD(BW$2)=BW$2),AND(EVEN($A58)=$A58,EVEN(BW$2)=BW$2)),BW$1,-100))","v":1359.375},{"$f":"IF('Ceiling Speaker Calculator'!$C$29=\"Square\",BX$1,IF(OR(AND(ODD($A58)=$A58,ODD(BX$2)=BX$2),AND(EVEN($A58)=$A58,EVEN(BX$2)=BX$2)),BX$1,-100))","v":1378.125},{"$f":"IF('Ceiling Speaker Calculator'!$C$29=\"Square\",BY$1,IF(OR(AND(ODD($A58)=$A58,ODD(BY$2)=BY$2),AND(EVEN($A58)=$A58,EVEN(BY$2)=BY$2)),BY$1,-100))","v":1396.875},{"$f":"IF('Ceiling Speaker Calculator'!$C$29=\"Square\",BZ$1,IF(OR(AND(ODD($A58)=$A58,ODD(BZ$2)=BZ$2),AND(EVEN($A58)=$A58,EVEN(BZ$2)=BZ$2)),BZ$1,-100))","v":1415.625},{"$f":"IF('Ceiling Speaker Calculator'!$C$29=\"Square\",CA$1,IF(OR(AND(ODD($A58)=$A58,ODD(CA$2)=CA$2),AND(EVEN($A58)=$A58,EVEN(CA$2)=CA$2)),CA$1,-100))","v":1434.375},{"$f":"IF('Ceiling Speaker Calculator'!$C$29=\"Square\",CB$1,IF(OR(AND(ODD($A58)=$A58,ODD(CB$2)=CB$2),AND(EVEN($A58)=$A58,EVEN(CB$2)=CB$2)),CB$1,-100))","v":1453.125},{"$f":"IF('Ceiling Speaker Calculator'!$C$29=\"Square\",CC$1,IF(OR(AND(ODD($A58)=$A58,ODD(CC$2)=CC$2),AND(EVEN($A58)=$A58,EVEN(CC$2)=CC$2)),CC$1,-100))","v":1471.875},{"$f":"IF('Ceiling Speaker Calculator'!$C$29=\"Square\",CD$1,IF(OR(AND(ODD($A58)=$A58,ODD(CD$2)=CD$2),AND(EVEN($A58)=$A58,EVEN(CD$2)=CD$2)),CD$1,-100))","v":1490.625},{"$f":"IF('Ceiling Speaker Calculator'!$C$29=\"Square\",CE$1,IF(OR(AND(ODD($A58)=$A58,ODD(CE$2)=CE$2),AND(EVEN($A58)=$A58,EVEN(CE$2)=CE$2)),CE$1,-100))","v":1509.375},{"$f":"IF('Ceiling Speaker Calculator'!$C$29=\"Square\",CF$1,IF(OR(AND(ODD($A58)=$A58,ODD(CF$2)=CF$2),AND(EVEN($A58)=$A58,EVEN(CF$2)=CF$2)),CF$1,-100))","v":1528.125},{"$f":"IF('Ceiling Speaker Calculator'!$C$29=\"Square\",CG$1,IF(OR(AND(ODD($A58)=$A58,ODD(CG$2)=CG$2),AND(EVEN($A58)=$A58,EVEN(CG$2)=CG$2)),CG$1,-100))","v":1546.875},{"$f":"IF('Ceiling Speaker Calculator'!$C$29=\"Square\",CH$1,IF(OR(AND(ODD($A58)=$A58,ODD(CH$2)=CH$2),AND(EVEN($A58)=$A58,EVEN(CH$2)=CH$2)),CH$1,-100))","v":1565.625},{"$f":"IF('Ceiling Speaker Calculator'!$C$29=\"Square\",CI$1,IF(OR(AND(ODD($A58)=$A58,ODD(CI$2)=CI$2),AND(EVEN($A58)=$A58,EVEN(CI$2)=CI$2)),CI$1,-100))","v":1584.375},{"$f":"IF('Ceiling Speaker Calculator'!$C$29=\"Square\",CJ$1,IF(OR(AND(ODD($A58)=$A58,ODD(CJ$2)=CJ$2),AND(EVEN($A58)=$A58,EVEN(CJ$2)=CJ$2)),CJ$1,-100))","v":1603.125},{"$f":"IF('Ceiling Speaker Calculator'!$C$29=\"Square\",CK$1,IF(OR(AND(ODD($A58)=$A58,ODD(CK$2)=CK$2),AND(EVEN($A58)=$A58,EVEN(CK$2)=CK$2)),CK$1,-100))","v":1621.875},{"$f":"IF('Ceiling Speaker Calculator'!$C$29=\"Square\",CL$1,IF(OR(AND(ODD($A58)=$A58,ODD(CL$2)=CL$2),AND(EVEN($A58)=$A58,EVEN(CL$2)=CL$2)),CL$1,-100))","v":1640.625},{"$f":"IF('Ceiling Speaker Calculator'!$C$29=\"Square\",CM$1,IF(OR(AND(ODD($A58)=$A58,ODD(CM$2)=CM$2),AND(EVEN($A58)=$A58,EVEN(CM$2)=CM$2)),CM$1,-100))","v":1659.375},{"$f":"IF('Ceiling Speaker Calculator'!$C$29=\"Square\",CN$1,IF(OR(AND(ODD($A58)=$A58,ODD(CN$2)=CN$2),AND(EVEN($A58)=$A58,EVEN(CN$2)=CN$2)),CN$1,-100))","v":1678.125},{"$f":"IF('Ceiling Speaker Calculator'!$C$29=\"Square\",CO$1,IF(OR(AND(ODD($A58)=$A58,ODD(CO$2)=CO$2),AND(EVEN($A58)=$A58,EVEN(CO$2)=CO$2)),CO$1,-100))","v":1696.875},{"$f":"IF('Ceiling Speaker Calculator'!$C$29=\"Square\",CP$1,IF(OR(AND(ODD($A58)=$A58,ODD(CP$2)=CP$2),AND(EVEN($A58)=$A58,EVEN(CP$2)=CP$2)),CP$1,-100))","v":1715.625},{"$f":"IF('Ceiling Speaker Calculator'!$C$29=\"Square\",CQ$1,IF(OR(AND(ODD($A58)=$A58,ODD(CQ$2)=CQ$2),AND(EVEN($A58)=$A58,EVEN(CQ$2)=CQ$2)),CQ$1,-100))","v":1734.375},{"$f":"IF('Ceiling Speaker Calculator'!$C$29=\"Square\",CR$1,IF(OR(AND(ODD($A58)=$A58,ODD(CR$2)=CR$2),AND(EVEN($A58)=$A58,EVEN(CR$2)=CR$2)),CR$1,-100))","v":1753.125},{"$f":"IF('Ceiling Speaker Calculator'!$C$29=\"Square\",CS$1,IF(OR(AND(ODD($A58)=$A58,ODD(CS$2)=CS$2),AND(EVEN($A58)=$A58,EVEN(CS$2)=CS$2)),CS$1,-100))","v":1771.875},{"$f":"IF('Ceiling Speaker Calculator'!$C$29=\"Square\",CT$1,IF(OR(AND(ODD($A58)=$A58,ODD(CT$2)=CT$2),AND(EVEN($A58)=$A58,EVEN(CT$2)=CT$2)),CT$1,-100))","v":1790.625},{"$f":"IF('Ceiling Speaker Calculator'!$C$29=\"Square\",CU$1,IF(OR(AND(ODD($A58)=$A58,ODD(CU$2)=CU$2),AND(EVEN($A58)=$A58,EVEN(CU$2)=CU$2)),CU$1,-100))","v":1809.375},{"$f":"IF('Ceiling Speaker Calculator'!$C$29=\"Square\",CV$1,IF(OR(AND(ODD($A58)=$A58,ODD(CV$2)=CV$2),AND(EVEN($A58)=$A58,EVEN(CV$2)=CV$2)),CV$1,-100))","v":1828.125},{"$f":"IF('Ceiling Speaker Calculator'!$C$29=\"Square\",CW$1,IF(OR(AND(ODD($A58)=$A58,ODD(CW$2)=CW$2),AND(EVEN($A58)=$A58,EVEN(CW$2)=CW$2)),CW$1,-100))","v":1846.875},{"$f":"IF('Ceiling Speaker Calculator'!$C$29=\"Square\",CX$1,IF(OR(AND(ODD($A58)=$A58,ODD(CX$2)=CX$2),AND(EVEN($A58)=$A58,EVEN(CX$2)=CX$2)),CX$1,-100))","v":1865.625}]
[57,{"$f":"B58+'Ceiling Speaker Calculator'!$K$16","v":1130},{"$f":"IF('Ceiling Speaker Calculator'!$C$29=\"Square\",C$1,IF(OR(AND(ODD($A59)=$A59,ODD(C$2)=C$2),AND(EVEN($A59)=$A59,EVEN(C$2)=C$2)),C$1,-100))","v":9.375},{"$f":"IF('Ceiling Speaker Calculator'!$C$29=\"Square\",D$1,IF(OR(AND(ODD($A59)=$A59,ODD(D$2)=D$2),AND(EVEN($A59)=$A59,EVEN(D$2)=D$2)),D$1,-100))","v":28.125},{"$f":"IF('Ceiling Speaker Calculator'!$C$29=\"Square\",E$1,IF(OR(AND(ODD($A59)=$A59,ODD(E$2)=E$2),AND(EVEN($A59)=$A59,EVEN(E$2)=E$2)),E$1,-100))","v":46.875},{"$f":"IF('Ceiling Speaker Calculator'!$C$29=\"Square\",F$1,IF(OR(AND(ODD($A59)=$A59,ODD(F$2)=F$2),AND(EVEN($A59)=$A59,EVEN(F$2)=F$2)),F$1,-100))","v":65.625},{"$f":"IF('Ceiling Speaker Calculator'!$C$29=\"Square\",G$1,IF(OR(AND(ODD($A59)=$A59,ODD(G$2)=G$2),AND(EVEN($A59)=$A59,EVEN(G$2)=G$2)),G$1,-100))","v":84.375},{"$f":"IF('Ceiling Speaker Calculator'!$C$29=\"Square\",H$1,IF(OR(AND(ODD($A59)=$A59,ODD(H$2)=H$2),AND(EVEN($A59)=$A59,EVEN(H$2)=H$2)),H$1,-100))","v":103.125},{"$f":"IF('Ceiling Speaker Calculator'!$C$29=\"Square\",I$1,IF(OR(AND(ODD($A59)=$A59,ODD(I$2)=I$2),AND(EVEN($A59)=$A59,EVEN(I$2)=I$2)),I$1,-100))","v":121.875},{"$f":"IF('Ceiling Speaker Calculator'!$C$29=\"Square\",J$1,IF(OR(AND(ODD($A59)=$A59,ODD(J$2)=J$2),AND(EVEN($A59)=$A59,EVEN(J$2)=J$2)),J$1,-100))","v":140.625},{"$f":"IF('Ceiling Speaker Calculator'!$C$29=\"Square\",K$1,IF(OR(AND(ODD($A59)=$A59,ODD(K$2)=K$2),AND(EVEN($A59)=$A59,EVEN(K$2)=K$2)),K$1,-100))","v":159.375},{"$f":"IF('Ceiling Speaker Calculator'!$C$29=\"Square\",L$1,IF(OR(AND(ODD($A59)=$A59,ODD(L$2)=L$2),AND(EVEN($A59)=$A59,EVEN(L$2)=L$2)),L$1,-100))","v":178.125},{"$f":"IF('Ceiling Speaker Calculator'!$C$29=\"Square\",M$1,IF(OR(AND(ODD($A59)=$A59,ODD(M$2)=M$2),AND(EVEN($A59)=$A59,EVEN(M$2)=M$2)),M$1,-100))","v":196.875},{"$f":"IF('Ceiling Speaker Calculator'!$C$29=\"Square\",N$1,IF(OR(AND(ODD($A59)=$A59,ODD(N$2)=N$2),AND(EVEN($A59)=$A59,EVEN(N$2)=N$2)),N$1,-100))","v":215.625},{"$f":"IF('Ceiling Speaker Calculator'!$C$29=\"Square\",O$1,IF(OR(AND(ODD($A59)=$A59,ODD(O$2)=O$2),AND(EVEN($A59)=$A59,EVEN(O$2)=O$2)),O$1,-100))","v":234.375},{"$f":"IF('Ceiling Speaker Calculator'!$C$29=\"Square\",P$1,IF(OR(AND(ODD($A59)=$A59,ODD(P$2)=P$2),AND(EVEN($A59)=$A59,EVEN(P$2)=P$2)),P$1,-100))","v":253.125},{"$f":"IF('Ceiling Speaker Calculator'!$C$29=\"Square\",Q$1,IF(OR(AND(ODD($A59)=$A59,ODD(Q$2)=Q$2),AND(EVEN($A59)=$A59,EVEN(Q$2)=Q$2)),Q$1,-100))","v":271.875},{"$f":"IF('Ceiling Speaker Calculator'!$C$29=\"Square\",R$1,IF(OR(AND(ODD($A59)=$A59,ODD(R$2)=R$2),AND(EVEN($A59)=$A59,EVEN(R$2)=R$2)),R$1,-100))","v":290.625},{"$f":"IF('Ceiling Speaker Calculator'!$C$29=\"Square\",S$1,IF(OR(AND(ODD($A59)=$A59,ODD(S$2)=S$2),AND(EVEN($A59)=$A59,EVEN(S$2)=S$2)),S$1,-100))","v":309.375},{"$f":"IF('Ceiling Speaker Calculator'!$C$29=\"Square\",T$1,IF(OR(AND(ODD($A59)=$A59,ODD(T$2)=T$2),AND(EVEN($A59)=$A59,EVEN(T$2)=T$2)),T$1,-100))","v":328.125},{"$f":"IF('Ceiling Speaker Calculator'!$C$29=\"Square\",U$1,IF(OR(AND(ODD($A59)=$A59,ODD(U$2)=U$2),AND(EVEN($A59)=$A59,EVEN(U$2)=U$2)),U$1,-100))","v":346.875},{"$f":"IF('Ceiling Speaker Calculator'!$C$29=\"Square\",V$1,IF(OR(AND(ODD($A59)=$A59,ODD(V$2)=V$2),AND(EVEN($A59)=$A59,EVEN(V$2)=V$2)),V$1,-100))","v":365.625},{"$f":"IF('Ceiling Speaker Calculator'!$C$29=\"Square\",W$1,IF(OR(AND(ODD($A59)=$A59,ODD(W$2)=W$2),AND(EVEN($A59)=$A59,EVEN(W$2)=W$2)),W$1,-100))","v":384.375},{"$f":"IF('Ceiling Speaker Calculator'!$C$29=\"Square\",X$1,IF(OR(AND(ODD($A59)=$A59,ODD(X$2)=X$2),AND(EVEN($A59)=$A59,EVEN(X$2)=X$2)),X$1,-100))","v":403.125},{"$f":"IF('Ceiling Speaker Calculator'!$C$29=\"Square\",Y$1,IF(OR(AND(ODD($A59)=$A59,ODD(Y$2)=Y$2),AND(EVEN($A59)=$A59,EVEN(Y$2)=Y$2)),Y$1,-100))","v":421.875},{"$f":"IF('Ceiling Speaker Calculator'!$C$29=\"Square\",Z$1,IF(OR(AND(ODD($A59)=$A59,ODD(Z$2)=Z$2),AND(EVEN($A59)=$A59,EVEN(Z$2)=Z$2)),Z$1,-100))","v":440.625},{"$f":"IF('Ceiling Speaker Calculator'!$C$29=\"Square\",AA$1,IF(OR(AND(ODD($A59)=$A59,ODD(AA$2)=AA$2),AND(EVEN($A59)=$A59,EVEN(AA$2)=AA$2)),AA$1,-100))","v":459.375},{"$f":"IF('Ceiling Speaker Calculator'!$C$29=\"Square\",AB$1,IF(OR(AND(ODD($A59)=$A59,ODD(AB$2)=AB$2),AND(EVEN($A59)=$A59,EVEN(AB$2)=AB$2)),AB$1,-100))","v":478.125},{"$f":"IF('Ceiling Speaker Calculator'!$C$29=\"Square\",AC$1,IF(OR(AND(ODD($A59)=$A59,ODD(AC$2)=AC$2),AND(EVEN($A59)=$A59,EVEN(AC$2)=AC$2)),AC$1,-100))","v":496.875},{"$f":"IF('Ceiling Speaker Calculator'!$C$29=\"Square\",AD$1,IF(OR(AND(ODD($A59)=$A59,ODD(AD$2)=AD$2),AND(EVEN($A59)=$A59,EVEN(AD$2)=AD$2)),AD$1,-100))","v":515.625},{"$f":"IF('Ceiling Speaker Calculator'!$C$29=\"Square\",AE$1,IF(OR(AND(ODD($A59)=$A59,ODD(AE$2)=AE$2),AND(EVEN($A59)=$A59,EVEN(AE$2)=AE$2)),AE$1,-100))","v":534.375},{"$f":"IF('Ceiling Speaker Calculator'!$C$29=\"Square\",AF$1,IF(OR(AND(ODD($A59)=$A59,ODD(AF$2)=AF$2),AND(EVEN($A59)=$A59,EVEN(AF$2)=AF$2)),AF$1,-100))","v":553.125},{"$f":"IF('Ceiling Speaker Calculator'!$C$29=\"Square\",AG$1,IF(OR(AND(ODD($A59)=$A59,ODD(AG$2)=AG$2),AND(EVEN($A59)=$A59,EVEN(AG$2)=AG$2)),AG$1,-100))","v":571.875},{"$f":"IF('Ceiling Speaker Calculator'!$C$29=\"Square\",AH$1,IF(OR(AND(ODD($A59)=$A59,ODD(AH$2)=AH$2),AND(EVEN($A59)=$A59,EVEN(AH$2)=AH$2)),AH$1,-100))","v":590.625},{"$f":"IF('Ceiling Speaker Calculator'!$C$29=\"Square\",AI$1,IF(OR(AND(ODD($A59)=$A59,ODD(AI$2)=AI$2),AND(EVEN($A59)=$A59,EVEN(AI$2)=AI$2)),AI$1,-100))","v":609.375},{"$f":"IF('Ceiling Speaker Calculator'!$C$29=\"Square\",AJ$1,IF(OR(AND(ODD($A59)=$A59,ODD(AJ$2)=AJ$2),AND(EVEN($A59)=$A59,EVEN(AJ$2)=AJ$2)),AJ$1,-100))","v":628.125},{"$f":"IF('Ceiling Speaker Calculator'!$C$29=\"Square\",AK$1,IF(OR(AND(ODD($A59)=$A59,ODD(AK$2)=AK$2),AND(EVEN($A59)=$A59,EVEN(AK$2)=AK$2)),AK$1,-100))","v":646.875},{"$f":"IF('Ceiling Speaker Calculator'!$C$29=\"Square\",AL$1,IF(OR(AND(ODD($A59)=$A59,ODD(AL$2)=AL$2),AND(EVEN($A59)=$A59,EVEN(AL$2)=AL$2)),AL$1,-100))","v":665.625},{"$f":"IF('Ceiling Speaker Calculator'!$C$29=\"Square\",AM$1,IF(OR(AND(ODD($A59)=$A59,ODD(AM$2)=AM$2),AND(EVEN($A59)=$A59,EVEN(AM$2)=AM$2)),AM$1,-100))","v":684.375},{"$f":"IF('Ceiling Speaker Calculator'!$C$29=\"Square\",AN$1,IF(OR(AND(ODD($A59)=$A59,ODD(AN$2)=AN$2),AND(EVEN($A59)=$A59,EVEN(AN$2)=AN$2)),AN$1,-100))","v":703.125},{"$f":"IF('Ceiling Speaker Calculator'!$C$29=\"Square\",AO$1,IF(OR(AND(ODD($A59)=$A59,ODD(AO$2)=AO$2),AND(EVEN($A59)=$A59,EVEN(AO$2)=AO$2)),AO$1,-100))","v":721.875},{"$f":"IF('Ceiling Speaker Calculator'!$C$29=\"Square\",AP$1,IF(OR(AND(ODD($A59)=$A59,ODD(AP$2)=AP$2),AND(EVEN($A59)=$A59,EVEN(AP$2)=AP$2)),AP$1,-100))","v":740.625},{"$f":"IF('Ceiling Speaker Calculator'!$C$29=\"Square\",AQ$1,IF(OR(AND(ODD($A59)=$A59,ODD(AQ$2)=AQ$2),AND(EVEN($A59)=$A59,EVEN(AQ$2)=AQ$2)),AQ$1,-100))","v":759.375},{"$f":"IF('Ceiling Speaker Calculator'!$C$29=\"Square\",AR$1,IF(OR(AND(ODD($A59)=$A59,ODD(AR$2)=AR$2),AND(EVEN($A59)=$A59,EVEN(AR$2)=AR$2)),AR$1,-100))","v":778.125},{"$f":"IF('Ceiling Speaker Calculator'!$C$29=\"Square\",AS$1,IF(OR(AND(ODD($A59)=$A59,ODD(AS$2)=AS$2),AND(EVEN($A59)=$A59,EVEN(AS$2)=AS$2)),AS$1,-100))","v":796.875},{"$f":"IF('Ceiling Speaker Calculator'!$C$29=\"Square\",AT$1,IF(OR(AND(ODD($A59)=$A59,ODD(AT$2)=AT$2),AND(EVEN($A59)=$A59,EVEN(AT$2)=AT$2)),AT$1,-100))","v":815.625},{"$f":"IF('Ceiling Speaker Calculator'!$C$29=\"Square\",AU$1,IF(OR(AND(ODD($A59)=$A59,ODD(AU$2)=AU$2),AND(EVEN($A59)=$A59,EVEN(AU$2)=AU$2)),AU$1,-100))","v":834.375},{"$f":"IF('Ceiling Speaker Calculator'!$C$29=\"Square\",AV$1,IF(OR(AND(ODD($A59)=$A59,ODD(AV$2)=AV$2),AND(EVEN($A59)=$A59,EVEN(AV$2)=AV$2)),AV$1,-100))","v":853.125},{"$f":"IF('Ceiling Speaker Calculator'!$C$29=\"Square\",AW$1,IF(OR(AND(ODD($A59)=$A59,ODD(AW$2)=AW$2),AND(EVEN($A59)=$A59,EVEN(AW$2)=AW$2)),AW$1,-100))","v":871.875},{"$f":"IF('Ceiling Speaker Calculator'!$C$29=\"Square\",AX$1,IF(OR(AND(ODD($A59)=$A59,ODD(AX$2)=AX$2),AND(EVEN($A59)=$A59,EVEN(AX$2)=AX$2)),AX$1,-100))","v":890.625},{"$f":"IF('Ceiling Speaker Calculator'!$C$29=\"Square\",AY$1,IF(OR(AND(ODD($A59)=$A59,ODD(AY$2)=AY$2),AND(EVEN($A59)=$A59,EVEN(AY$2)=AY$2)),AY$1,-100))","v":909.375},{"$f":"IF('Ceiling Speaker Calculator'!$C$29=\"Square\",AZ$1,IF(OR(AND(ODD($A59)=$A59,ODD(AZ$2)=AZ$2),AND(EVEN($A59)=$A59,EVEN(AZ$2)=AZ$2)),AZ$1,-100))","v":928.125},{"$f":"IF('Ceiling Speaker Calculator'!$C$29=\"Square\",BA$1,IF(OR(AND(ODD($A59)=$A59,ODD(BA$2)=BA$2),AND(EVEN($A59)=$A59,EVEN(BA$2)=BA$2)),BA$1,-100))","v":946.875},{"$f":"IF('Ceiling Speaker Calculator'!$C$29=\"Square\",BB$1,IF(OR(AND(ODD($A59)=$A59,ODD(BB$2)=BB$2),AND(EVEN($A59)=$A59,EVEN(BB$2)=BB$2)),BB$1,-100))","v":965.625},{"$f":"IF('Ceiling Speaker Calculator'!$C$29=\"Square\",BC$1,IF(OR(AND(ODD($A59)=$A59,ODD(BC$2)=BC$2),AND(EVEN($A59)=$A59,EVEN(BC$2)=BC$2)),BC$1,-100))","v":984.375},{"$f":"IF('Ceiling Speaker Calculator'!$C$29=\"Square\",BD$1,IF(OR(AND(ODD($A59)=$A59,ODD(BD$2)=BD$2),AND(EVEN($A59)=$A59,EVEN(BD$2)=BD$2)),BD$1,-100))","v":1003.125},{"$f":"IF('Ceiling Speaker Calculator'!$C$29=\"Square\",BE$1,IF(OR(AND(ODD($A59)=$A59,ODD(BE$2)=BE$2),AND(EVEN($A59)=$A59,EVEN(BE$2)=BE$2)),BE$1,-100))","v":1021.875},{"$f":"IF('Ceiling Speaker Calculator'!$C$29=\"Square\",BF$1,IF(OR(AND(ODD($A59)=$A59,ODD(BF$2)=BF$2),AND(EVEN($A59)=$A59,EVEN(BF$2)=BF$2)),BF$1,-100))","v":1040.625},{"$f":"IF('Ceiling Speaker Calculator'!$C$29=\"Square\",BG$1,IF(OR(AND(ODD($A59)=$A59,ODD(BG$2)=BG$2),AND(EVEN($A59)=$A59,EVEN(BG$2)=BG$2)),BG$1,-100))","v":1059.375},{"$f":"IF('Ceiling Speaker Calculator'!$C$29=\"Square\",BH$1,IF(OR(AND(ODD($A59)=$A59,ODD(BH$2)=BH$2),AND(EVEN($A59)=$A59,EVEN(BH$2)=BH$2)),BH$1,-100))","v":1078.125},{"$f":"IF('Ceiling Speaker Calculator'!$C$29=\"Square\",BI$1,IF(OR(AND(ODD($A59)=$A59,ODD(BI$2)=BI$2),AND(EVEN($A59)=$A59,EVEN(BI$2)=BI$2)),BI$1,-100))","v":1096.875},{"$f":"IF('Ceiling Speaker Calculator'!$C$29=\"Square\",BJ$1,IF(OR(AND(ODD($A59)=$A59,ODD(BJ$2)=BJ$2),AND(EVEN($A59)=$A59,EVEN(BJ$2)=BJ$2)),BJ$1,-100))","v":1115.625},{"$f":"IF('Ceiling Speaker Calculator'!$C$29=\"Square\",BK$1,IF(OR(AND(ODD($A59)=$A59,ODD(BK$2)=BK$2),AND(EVEN($A59)=$A59,EVEN(BK$2)=BK$2)),BK$1,-100))","v":1134.375},{"$f":"IF('Ceiling Speaker Calculator'!$C$29=\"Square\",BL$1,IF(OR(AND(ODD($A59)=$A59,ODD(BL$2)=BL$2),AND(EVEN($A59)=$A59,EVEN(BL$2)=BL$2)),BL$1,-100))","v":1153.125},{"$f":"IF('Ceiling Speaker Calculator'!$C$29=\"Square\",BM$1,IF(OR(AND(ODD($A59)=$A59,ODD(BM$2)=BM$2),AND(EVEN($A59)=$A59,EVEN(BM$2)=BM$2)),BM$1,-100))","v":1171.875},{"$f":"IF('Ceiling Speaker Calculator'!$C$29=\"Square\",BN$1,IF(OR(AND(ODD($A59)=$A59,ODD(BN$2)=BN$2),AND(EVEN($A59)=$A59,EVEN(BN$2)=BN$2)),BN$1,-100))","v":1190.625},{"$f":"IF('Ceiling Speaker Calculator'!$C$29=\"Square\",BO$1,IF(OR(AND(ODD($A59)=$A59,ODD(BO$2)=BO$2),AND(EVEN($A59)=$A59,EVEN(BO$2)=BO$2)),BO$1,-100))","v":1209.375},{"$f":"IF('Ceiling Speaker Calculator'!$C$29=\"Square\",BP$1,IF(OR(AND(ODD($A59)=$A59,ODD(BP$2)=BP$2),AND(EVEN($A59)=$A59,EVEN(BP$2)=BP$2)),BP$1,-100))","v":1228.125},{"$f":"IF('Ceiling Speaker Calculator'!$C$29=\"Square\",BQ$1,IF(OR(AND(ODD($A59)=$A59,ODD(BQ$2)=BQ$2),AND(EVEN($A59)=$A59,EVEN(BQ$2)=BQ$2)),BQ$1,-100))","v":1246.875},{"$f":"IF('Ceiling Speaker Calculator'!$C$29=\"Square\",BR$1,IF(OR(AND(ODD($A59)=$A59,ODD(BR$2)=BR$2),AND(EVEN($A59)=$A59,EVEN(BR$2)=BR$2)),BR$1,-100))","v":1265.625},{"$f":"IF('Ceiling Speaker Calculator'!$C$29=\"Square\",BS$1,IF(OR(AND(ODD($A59)=$A59,ODD(BS$2)=BS$2),AND(EVEN($A59)=$A59,EVEN(BS$2)=BS$2)),BS$1,-100))","v":1284.375},{"$f":"IF('Ceiling Speaker Calculator'!$C$29=\"Square\",BT$1,IF(OR(AND(ODD($A59)=$A59,ODD(BT$2)=BT$2),AND(EVEN($A59)=$A59,EVEN(BT$2)=BT$2)),BT$1,-100))","v":1303.125},{"$f":"IF('Ceiling Speaker Calculator'!$C$29=\"Square\",BU$1,IF(OR(AND(ODD($A59)=$A59,ODD(BU$2)=BU$2),AND(EVEN($A59)=$A59,EVEN(BU$2)=BU$2)),BU$1,-100))","v":1321.875},{"$f":"IF('Ceiling Speaker Calculator'!$C$29=\"Square\",BV$1,IF(OR(AND(ODD($A59)=$A59,ODD(BV$2)=BV$2),AND(EVEN($A59)=$A59,EVEN(BV$2)=BV$2)),BV$1,-100))","v":1340.625},{"$f":"IF('Ceiling Speaker Calculator'!$C$29=\"Square\",BW$1,IF(OR(AND(ODD($A59)=$A59,ODD(BW$2)=BW$2),AND(EVEN($A59)=$A59,EVEN(BW$2)=BW$2)),BW$1,-100))","v":1359.375},{"$f":"IF('Ceiling Speaker Calculator'!$C$29=\"Square\",BX$1,IF(OR(AND(ODD($A59)=$A59,ODD(BX$2)=BX$2),AND(EVEN($A59)=$A59,EVEN(BX$2)=BX$2)),BX$1,-100))","v":1378.125},{"$f":"IF('Ceiling Speaker Calculator'!$C$29=\"Square\",BY$1,IF(OR(AND(ODD($A59)=$A59,ODD(BY$2)=BY$2),AND(EVEN($A59)=$A59,EVEN(BY$2)=BY$2)),BY$1,-100))","v":1396.875},{"$f":"IF('Ceiling Speaker Calculator'!$C$29=\"Square\",BZ$1,IF(OR(AND(ODD($A59)=$A59,ODD(BZ$2)=BZ$2),AND(EVEN($A59)=$A59,EVEN(BZ$2)=BZ$2)),BZ$1,-100))","v":1415.625},{"$f":"IF('Ceiling Speaker Calculator'!$C$29=\"Square\",CA$1,IF(OR(AND(ODD($A59)=$A59,ODD(CA$2)=CA$2),AND(EVEN($A59)=$A59,EVEN(CA$2)=CA$2)),CA$1,-100))","v":1434.375},{"$f":"IF('Ceiling Speaker Calculator'!$C$29=\"Square\",CB$1,IF(OR(AND(ODD($A59)=$A59,ODD(CB$2)=CB$2),AND(EVEN($A59)=$A59,EVEN(CB$2)=CB$2)),CB$1,-100))","v":1453.125},{"$f":"IF('Ceiling Speaker Calculator'!$C$29=\"Square\",CC$1,IF(OR(AND(ODD($A59)=$A59,ODD(CC$2)=CC$2),AND(EVEN($A59)=$A59,EVEN(CC$2)=CC$2)),CC$1,-100))","v":1471.875},{"$f":"IF('Ceiling Speaker Calculator'!$C$29=\"Square\",CD$1,IF(OR(AND(ODD($A59)=$A59,ODD(CD$2)=CD$2),AND(EVEN($A59)=$A59,EVEN(CD$2)=CD$2)),CD$1,-100))","v":1490.625},{"$f":"IF('Ceiling Speaker Calculator'!$C$29=\"Square\",CE$1,IF(OR(AND(ODD($A59)=$A59,ODD(CE$2)=CE$2),AND(EVEN($A59)=$A59,EVEN(CE$2)=CE$2)),CE$1,-100))","v":1509.375},{"$f":"IF('Ceiling Speaker Calculator'!$C$29=\"Square\",CF$1,IF(OR(AND(ODD($A59)=$A59,ODD(CF$2)=CF$2),AND(EVEN($A59)=$A59,EVEN(CF$2)=CF$2)),CF$1,-100))","v":1528.125},{"$f":"IF('Ceiling Speaker Calculator'!$C$29=\"Square\",CG$1,IF(OR(AND(ODD($A59)=$A59,ODD(CG$2)=CG$2),AND(EVEN($A59)=$A59,EVEN(CG$2)=CG$2)),CG$1,-100))","v":1546.875},{"$f":"IF('Ceiling Speaker Calculator'!$C$29=\"Square\",CH$1,IF(OR(AND(ODD($A59)=$A59,ODD(CH$2)=CH$2),AND(EVEN($A59)=$A59,EVEN(CH$2)=CH$2)),CH$1,-100))","v":1565.625},{"$f":"IF('Ceiling Speaker Calculator'!$C$29=\"Square\",CI$1,IF(OR(AND(ODD($A59)=$A59,ODD(CI$2)=CI$2),AND(EVEN($A59)=$A59,EVEN(CI$2)=CI$2)),CI$1,-100))","v":1584.375},{"$f":"IF('Ceiling Speaker Calculator'!$C$29=\"Square\",CJ$1,IF(OR(AND(ODD($A59)=$A59,ODD(CJ$2)=CJ$2),AND(EVEN($A59)=$A59,EVEN(CJ$2)=CJ$2)),CJ$1,-100))","v":1603.125},{"$f":"IF('Ceiling Speaker Calculator'!$C$29=\"Square\",CK$1,IF(OR(AND(ODD($A59)=$A59,ODD(CK$2)=CK$2),AND(EVEN($A59)=$A59,EVEN(CK$2)=CK$2)),CK$1,-100))","v":1621.875},{"$f":"IF('Ceiling Speaker Calculator'!$C$29=\"Square\",CL$1,IF(OR(AND(ODD($A59)=$A59,ODD(CL$2)=CL$2),AND(EVEN($A59)=$A59,EVEN(CL$2)=CL$2)),CL$1,-100))","v":1640.625},{"$f":"IF('Ceiling Speaker Calculator'!$C$29=\"Square\",CM$1,IF(OR(AND(ODD($A59)=$A59,ODD(CM$2)=CM$2),AND(EVEN($A59)=$A59,EVEN(CM$2)=CM$2)),CM$1,-100))","v":1659.375},{"$f":"IF('Ceiling Speaker Calculator'!$C$29=\"Square\",CN$1,IF(OR(AND(ODD($A59)=$A59,ODD(CN$2)=CN$2),AND(EVEN($A59)=$A59,EVEN(CN$2)=CN$2)),CN$1,-100))","v":1678.125},{"$f":"IF('Ceiling Speaker Calculator'!$C$29=\"Square\",CO$1,IF(OR(AND(ODD($A59)=$A59,ODD(CO$2)=CO$2),AND(EVEN($A59)=$A59,EVEN(CO$2)=CO$2)),CO$1,-100))","v":1696.875},{"$f":"IF('Ceiling Speaker Calculator'!$C$29=\"Square\",CP$1,IF(OR(AND(ODD($A59)=$A59,ODD(CP$2)=CP$2),AND(EVEN($A59)=$A59,EVEN(CP$2)=CP$2)),CP$1,-100))","v":1715.625},{"$f":"IF('Ceiling Speaker Calculator'!$C$29=\"Square\",CQ$1,IF(OR(AND(ODD($A59)=$A59,ODD(CQ$2)=CQ$2),AND(EVEN($A59)=$A59,EVEN(CQ$2)=CQ$2)),CQ$1,-100))","v":1734.375},{"$f":"IF('Ceiling Speaker Calculator'!$C$29=\"Square\",CR$1,IF(OR(AND(ODD($A59)=$A59,ODD(CR$2)=CR$2),AND(EVEN($A59)=$A59,EVEN(CR$2)=CR$2)),CR$1,-100))","v":1753.125},{"$f":"IF('Ceiling Speaker Calculator'!$C$29=\"Square\",CS$1,IF(OR(AND(ODD($A59)=$A59,ODD(CS$2)=CS$2),AND(EVEN($A59)=$A59,EVEN(CS$2)=CS$2)),CS$1,-100))","v":1771.875},{"$f":"IF('Ceiling Speaker Calculator'!$C$29=\"Square\",CT$1,IF(OR(AND(ODD($A59)=$A59,ODD(CT$2)=CT$2),AND(EVEN($A59)=$A59,EVEN(CT$2)=CT$2)),CT$1,-100))","v":1790.625},{"$f":"IF('Ceiling Speaker Calculator'!$C$29=\"Square\",CU$1,IF(OR(AND(ODD($A59)=$A59,ODD(CU$2)=CU$2),AND(EVEN($A59)=$A59,EVEN(CU$2)=CU$2)),CU$1,-100))","v":1809.375},{"$f":"IF('Ceiling Speaker Calculator'!$C$29=\"Square\",CV$1,IF(OR(AND(ODD($A59)=$A59,ODD(CV$2)=CV$2),AND(EVEN($A59)=$A59,EVEN(CV$2)=CV$2)),CV$1,-100))","v":1828.125},{"$f":"IF('Ceiling Speaker Calculator'!$C$29=\"Square\",CW$1,IF(OR(AND(ODD($A59)=$A59,ODD(CW$2)=CW$2),AND(EVEN($A59)=$A59,EVEN(CW$2)=CW$2)),CW$1,-100))","v":1846.875},{"$f":"IF('Ceiling Speaker Calculator'!$C$29=\"Square\",CX$1,IF(OR(AND(ODD($A59)=$A59,ODD(CX$2)=CX$2),AND(EVEN($A59)=$A59,EVEN(CX$2)=CX$2)),CX$1,-100))","v":1865.625}]
[58,{"$f":"B59+'Ceiling Speaker Calculator'!$K$16","v":1150},{"$f":"IF('Ceiling Speaker Calculator'!$C$29=\"Square\",C$1,IF(OR(AND(ODD($A60)=$A60,ODD(C$2)=C$2),AND(EVEN($A60)=$A60,EVEN(C$2)=C$2)),C$1,-100))","v":9.375},{"$f":"IF('Ceiling Speaker Calculator'!$C$29=\"Square\",D$1,IF(OR(AND(ODD($A60)=$A60,ODD(D$2)=D$2),AND(EVEN($A60)=$A60,EVEN(D$2)=D$2)),D$1,-100))","v":28.125},{"$f":"IF('Ceiling Speaker Calculator'!$C$29=\"Square\",E$1,IF(OR(AND(ODD($A60)=$A60,ODD(E$2)=E$2),AND(EVEN($A60)=$A60,EVEN(E$2)=E$2)),E$1,-100))","v":46.875},{"$f":"IF('Ceiling Speaker Calculator'!$C$29=\"Square\",F$1,IF(OR(AND(ODD($A60)=$A60,ODD(F$2)=F$2),AND(EVEN($A60)=$A60,EVEN(F$2)=F$2)),F$1,-100))","v":65.625},{"$f":"IF('Ceiling Speaker Calculator'!$C$29=\"Square\",G$1,IF(OR(AND(ODD($A60)=$A60,ODD(G$2)=G$2),AND(EVEN($A60)=$A60,EVEN(G$2)=G$2)),G$1,-100))","v":84.375},{"$f":"IF('Ceiling Speaker Calculator'!$C$29=\"Square\",H$1,IF(OR(AND(ODD($A60)=$A60,ODD(H$2)=H$2),AND(EVEN($A60)=$A60,EVEN(H$2)=H$2)),H$1,-100))","v":103.125},{"$f":"IF('Ceiling Speaker Calculator'!$C$29=\"Square\",I$1,IF(OR(AND(ODD($A60)=$A60,ODD(I$2)=I$2),AND(EVEN($A60)=$A60,EVEN(I$2)=I$2)),I$1,-100))","v":121.875},{"$f":"IF('Ceiling Speaker Calculator'!$C$29=\"Square\",J$1,IF(OR(AND(ODD($A60)=$A60,ODD(J$2)=J$2),AND(EVEN($A60)=$A60,EVEN(J$2)=J$2)),J$1,-100))","v":140.625},{"$f":"IF('Ceiling Speaker Calculator'!$C$29=\"Square\",K$1,IF(OR(AND(ODD($A60)=$A60,ODD(K$2)=K$2),AND(EVEN($A60)=$A60,EVEN(K$2)=K$2)),K$1,-100))","v":159.375},{"$f":"IF('Ceiling Speaker Calculator'!$C$29=\"Square\",L$1,IF(OR(AND(ODD($A60)=$A60,ODD(L$2)=L$2),AND(EVEN($A60)=$A60,EVEN(L$2)=L$2)),L$1,-100))","v":178.125},{"$f":"IF('Ceiling Speaker Calculator'!$C$29=\"Square\",M$1,IF(OR(AND(ODD($A60)=$A60,ODD(M$2)=M$2),AND(EVEN($A60)=$A60,EVEN(M$2)=M$2)),M$1,-100))","v":196.875},{"$f":"IF('Ceiling Speaker Calculator'!$C$29=\"Square\",N$1,IF(OR(AND(ODD($A60)=$A60,ODD(N$2)=N$2),AND(EVEN($A60)=$A60,EVEN(N$2)=N$2)),N$1,-100))","v":215.625},{"$f":"IF('Ceiling Speaker Calculator'!$C$29=\"Square\",O$1,IF(OR(AND(ODD($A60)=$A60,ODD(O$2)=O$2),AND(EVEN($A60)=$A60,EVEN(O$2)=O$2)),O$1,-100))","v":234.375},{"$f":"IF('Ceiling Speaker Calculator'!$C$29=\"Square\",P$1,IF(OR(AND(ODD($A60)=$A60,ODD(P$2)=P$2),AND(EVEN($A60)=$A60,EVEN(P$2)=P$2)),P$1,-100))","v":253.125},{"$f":"IF('Ceiling Speaker Calculator'!$C$29=\"Square\",Q$1,IF(OR(AND(ODD($A60)=$A60,ODD(Q$2)=Q$2),AND(EVEN($A60)=$A60,EVEN(Q$2)=Q$2)),Q$1,-100))","v":271.875},{"$f":"IF('Ceiling Speaker Calculator'!$C$29=\"Square\",R$1,IF(OR(AND(ODD($A60)=$A60,ODD(R$2)=R$2),AND(EVEN($A60)=$A60,EVEN(R$2)=R$2)),R$1,-100))","v":290.625},{"$f":"IF('Ceiling Speaker Calculator'!$C$29=\"Square\",S$1,IF(OR(AND(ODD($A60)=$A60,ODD(S$2)=S$2),AND(EVEN($A60)=$A60,EVEN(S$2)=S$2)),S$1,-100))","v":309.375},{"$f":"IF('Ceiling Speaker Calculator'!$C$29=\"Square\",T$1,IF(OR(AND(ODD($A60)=$A60,ODD(T$2)=T$2),AND(EVEN($A60)=$A60,EVEN(T$2)=T$2)),T$1,-100))","v":328.125},{"$f":"IF('Ceiling Speaker Calculator'!$C$29=\"Square\",U$1,IF(OR(AND(ODD($A60)=$A60,ODD(U$2)=U$2),AND(EVEN($A60)=$A60,EVEN(U$2)=U$2)),U$1,-100))","v":346.875},{"$f":"IF('Ceiling Speaker Calculator'!$C$29=\"Square\",V$1,IF(OR(AND(ODD($A60)=$A60,ODD(V$2)=V$2),AND(EVEN($A60)=$A60,EVEN(V$2)=V$2)),V$1,-100))","v":365.625},{"$f":"IF('Ceiling Speaker Calculator'!$C$29=\"Square\",W$1,IF(OR(AND(ODD($A60)=$A60,ODD(W$2)=W$2),AND(EVEN($A60)=$A60,EVEN(W$2)=W$2)),W$1,-100))","v":384.375},{"$f":"IF('Ceiling Speaker Calculator'!$C$29=\"Square\",X$1,IF(OR(AND(ODD($A60)=$A60,ODD(X$2)=X$2),AND(EVEN($A60)=$A60,EVEN(X$2)=X$2)),X$1,-100))","v":403.125},{"$f":"IF('Ceiling Speaker Calculator'!$C$29=\"Square\",Y$1,IF(OR(AND(ODD($A60)=$A60,ODD(Y$2)=Y$2),AND(EVEN($A60)=$A60,EVEN(Y$2)=Y$2)),Y$1,-100))","v":421.875},{"$f":"IF('Ceiling Speaker Calculator'!$C$29=\"Square\",Z$1,IF(OR(AND(ODD($A60)=$A60,ODD(Z$2)=Z$2),AND(EVEN($A60)=$A60,EVEN(Z$2)=Z$2)),Z$1,-100))","v":440.625},{"$f":"IF('Ceiling Speaker Calculator'!$C$29=\"Square\",AA$1,IF(OR(AND(ODD($A60)=$A60,ODD(AA$2)=AA$2),AND(EVEN($A60)=$A60,EVEN(AA$2)=AA$2)),AA$1,-100))","v":459.375},{"$f":"IF('Ceiling Speaker Calculator'!$C$29=\"Square\",AB$1,IF(OR(AND(ODD($A60)=$A60,ODD(AB$2)=AB$2),AND(EVEN($A60)=$A60,EVEN(AB$2)=AB$2)),AB$1,-100))","v":478.125},{"$f":"IF('Ceiling Speaker Calculator'!$C$29=\"Square\",AC$1,IF(OR(AND(ODD($A60)=$A60,ODD(AC$2)=AC$2),AND(EVEN($A60)=$A60,EVEN(AC$2)=AC$2)),AC$1,-100))","v":496.875},{"$f":"IF('Ceiling Speaker Calculator'!$C$29=\"Square\",AD$1,IF(OR(AND(ODD($A60)=$A60,ODD(AD$2)=AD$2),AND(EVEN($A60)=$A60,EVEN(AD$2)=AD$2)),AD$1,-100))","v":515.625},{"$f":"IF('Ceiling Speaker Calculator'!$C$29=\"Square\",AE$1,IF(OR(AND(ODD($A60)=$A60,ODD(AE$2)=AE$2),AND(EVEN($A60)=$A60,EVEN(AE$2)=AE$2)),AE$1,-100))","v":534.375},{"$f":"IF('Ceiling Speaker Calculator'!$C$29=\"Square\",AF$1,IF(OR(AND(ODD($A60)=$A60,ODD(AF$2)=AF$2),AND(EVEN($A60)=$A60,EVEN(AF$2)=AF$2)),AF$1,-100))","v":553.125},{"$f":"IF('Ceiling Speaker Calculator'!$C$29=\"Square\",AG$1,IF(OR(AND(ODD($A60)=$A60,ODD(AG$2)=AG$2),AND(EVEN($A60)=$A60,EVEN(AG$2)=AG$2)),AG$1,-100))","v":571.875},{"$f":"IF('Ceiling Speaker Calculator'!$C$29=\"Square\",AH$1,IF(OR(AND(ODD($A60)=$A60,ODD(AH$2)=AH$2),AND(EVEN($A60)=$A60,EVEN(AH$2)=AH$2)),AH$1,-100))","v":590.625},{"$f":"IF('Ceiling Speaker Calculator'!$C$29=\"Square\",AI$1,IF(OR(AND(ODD($A60)=$A60,ODD(AI$2)=AI$2),AND(EVEN($A60)=$A60,EVEN(AI$2)=AI$2)),AI$1,-100))","v":609.375},{"$f":"IF('Ceiling Speaker Calculator'!$C$29=\"Square\",AJ$1,IF(OR(AND(ODD($A60)=$A60,ODD(AJ$2)=AJ$2),AND(EVEN($A60)=$A60,EVEN(AJ$2)=AJ$2)),AJ$1,-100))","v":628.125},{"$f":"IF('Ceiling Speaker Calculator'!$C$29=\"Square\",AK$1,IF(OR(AND(ODD($A60)=$A60,ODD(AK$2)=AK$2),AND(EVEN($A60)=$A60,EVEN(AK$2)=AK$2)),AK$1,-100))","v":646.875},{"$f":"IF('Ceiling Speaker Calculator'!$C$29=\"Square\",AL$1,IF(OR(AND(ODD($A60)=$A60,ODD(AL$2)=AL$2),AND(EVEN($A60)=$A60,EVEN(AL$2)=AL$2)),AL$1,-100))","v":665.625},{"$f":"IF('Ceiling Speaker Calculator'!$C$29=\"Square\",AM$1,IF(OR(AND(ODD($A60)=$A60,ODD(AM$2)=AM$2),AND(EVEN($A60)=$A60,EVEN(AM$2)=AM$2)),AM$1,-100))","v":684.375},{"$f":"IF('Ceiling Speaker Calculator'!$C$29=\"Square\",AN$1,IF(OR(AND(ODD($A60)=$A60,ODD(AN$2)=AN$2),AND(EVEN($A60)=$A60,EVEN(AN$2)=AN$2)),AN$1,-100))","v":703.125},{"$f":"IF('Ceiling Speaker Calculator'!$C$29=\"Square\",AO$1,IF(OR(AND(ODD($A60)=$A60,ODD(AO$2)=AO$2),AND(EVEN($A60)=$A60,EVEN(AO$2)=AO$2)),AO$1,-100))","v":721.875},{"$f":"IF('Ceiling Speaker Calculator'!$C$29=\"Square\",AP$1,IF(OR(AND(ODD($A60)=$A60,ODD(AP$2)=AP$2),AND(EVEN($A60)=$A60,EVEN(AP$2)=AP$2)),AP$1,-100))","v":740.625},{"$f":"IF('Ceiling Speaker Calculator'!$C$29=\"Square\",AQ$1,IF(OR(AND(ODD($A60)=$A60,ODD(AQ$2)=AQ$2),AND(EVEN($A60)=$A60,EVEN(AQ$2)=AQ$2)),AQ$1,-100))","v":759.375},{"$f":"IF('Ceiling Speaker Calculator'!$C$29=\"Square\",AR$1,IF(OR(AND(ODD($A60)=$A60,ODD(AR$2)=AR$2),AND(EVEN($A60)=$A60,EVEN(AR$2)=AR$2)),AR$1,-100))","v":778.125},{"$f":"IF('Ceiling Speaker Calculator'!$C$29=\"Square\",AS$1,IF(OR(AND(ODD($A60)=$A60,ODD(AS$2)=AS$2),AND(EVEN($A60)=$A60,EVEN(AS$2)=AS$2)),AS$1,-100))","v":796.875},{"$f":"IF('Ceiling Speaker Calculator'!$C$29=\"Square\",AT$1,IF(OR(AND(ODD($A60)=$A60,ODD(AT$2)=AT$2),AND(EVEN($A60)=$A60,EVEN(AT$2)=AT$2)),AT$1,-100))","v":815.625},{"$f":"IF('Ceiling Speaker Calculator'!$C$29=\"Square\",AU$1,IF(OR(AND(ODD($A60)=$A60,ODD(AU$2)=AU$2),AND(EVEN($A60)=$A60,EVEN(AU$2)=AU$2)),AU$1,-100))","v":834.375},{"$f":"IF('Ceiling Speaker Calculator'!$C$29=\"Square\",AV$1,IF(OR(AND(ODD($A60)=$A60,ODD(AV$2)=AV$2),AND(EVEN($A60)=$A60,EVEN(AV$2)=AV$2)),AV$1,-100))","v":853.125},{"$f":"IF('Ceiling Speaker Calculator'!$C$29=\"Square\",AW$1,IF(OR(AND(ODD($A60)=$A60,ODD(AW$2)=AW$2),AND(EVEN($A60)=$A60,EVEN(AW$2)=AW$2)),AW$1,-100))","v":871.875},{"$f":"IF('Ceiling Speaker Calculator'!$C$29=\"Square\",AX$1,IF(OR(AND(ODD($A60)=$A60,ODD(AX$2)=AX$2),AND(EVEN($A60)=$A60,EVEN(AX$2)=AX$2)),AX$1,-100))","v":890.625},{"$f":"IF('Ceiling Speaker Calculator'!$C$29=\"Square\",AY$1,IF(OR(AND(ODD($A60)=$A60,ODD(AY$2)=AY$2),AND(EVEN($A60)=$A60,EVEN(AY$2)=AY$2)),AY$1,-100))","v":909.375},{"$f":"IF('Ceiling Speaker Calculator'!$C$29=\"Square\",AZ$1,IF(OR(AND(ODD($A60)=$A60,ODD(AZ$2)=AZ$2),AND(EVEN($A60)=$A60,EVEN(AZ$2)=AZ$2)),AZ$1,-100))","v":928.125},{"$f":"IF('Ceiling Speaker Calculator'!$C$29=\"Square\",BA$1,IF(OR(AND(ODD($A60)=$A60,ODD(BA$2)=BA$2),AND(EVEN($A60)=$A60,EVEN(BA$2)=BA$2)),BA$1,-100))","v":946.875},{"$f":"IF('Ceiling Speaker Calculator'!$C$29=\"Square\",BB$1,IF(OR(AND(ODD($A60)=$A60,ODD(BB$2)=BB$2),AND(EVEN($A60)=$A60,EVEN(BB$2)=BB$2)),BB$1,-100))","v":965.625},{"$f":"IF('Ceiling Speaker Calculator'!$C$29=\"Square\",BC$1,IF(OR(AND(ODD($A60)=$A60,ODD(BC$2)=BC$2),AND(EVEN($A60)=$A60,EVEN(BC$2)=BC$2)),BC$1,-100))","v":984.375},{"$f":"IF('Ceiling Speaker Calculator'!$C$29=\"Square\",BD$1,IF(OR(AND(ODD($A60)=$A60,ODD(BD$2)=BD$2),AND(EVEN($A60)=$A60,EVEN(BD$2)=BD$2)),BD$1,-100))","v":1003.125},{"$f":"IF('Ceiling Speaker Calculator'!$C$29=\"Square\",BE$1,IF(OR(AND(ODD($A60)=$A60,ODD(BE$2)=BE$2),AND(EVEN($A60)=$A60,EVEN(BE$2)=BE$2)),BE$1,-100))","v":1021.875},{"$f":"IF('Ceiling Speaker Calculator'!$C$29=\"Square\",BF$1,IF(OR(AND(ODD($A60)=$A60,ODD(BF$2)=BF$2),AND(EVEN($A60)=$A60,EVEN(BF$2)=BF$2)),BF$1,-100))","v":1040.625},{"$f":"IF('Ceiling Speaker Calculator'!$C$29=\"Square\",BG$1,IF(OR(AND(ODD($A60)=$A60,ODD(BG$2)=BG$2),AND(EVEN($A60)=$A60,EVEN(BG$2)=BG$2)),BG$1,-100))","v":1059.375},{"$f":"IF('Ceiling Speaker Calculator'!$C$29=\"Square\",BH$1,IF(OR(AND(ODD($A60)=$A60,ODD(BH$2)=BH$2),AND(EVEN($A60)=$A60,EVEN(BH$2)=BH$2)),BH$1,-100))","v":1078.125},{"$f":"IF('Ceiling Speaker Calculator'!$C$29=\"Square\",BI$1,IF(OR(AND(ODD($A60)=$A60,ODD(BI$2)=BI$2),AND(EVEN($A60)=$A60,EVEN(BI$2)=BI$2)),BI$1,-100))","v":1096.875},{"$f":"IF('Ceiling Speaker Calculator'!$C$29=\"Square\",BJ$1,IF(OR(AND(ODD($A60)=$A60,ODD(BJ$2)=BJ$2),AND(EVEN($A60)=$A60,EVEN(BJ$2)=BJ$2)),BJ$1,-100))","v":1115.625},{"$f":"IF('Ceiling Speaker Calculator'!$C$29=\"Square\",BK$1,IF(OR(AND(ODD($A60)=$A60,ODD(BK$2)=BK$2),AND(EVEN($A60)=$A60,EVEN(BK$2)=BK$2)),BK$1,-100))","v":1134.375},{"$f":"IF('Ceiling Speaker Calculator'!$C$29=\"Square\",BL$1,IF(OR(AND(ODD($A60)=$A60,ODD(BL$2)=BL$2),AND(EVEN($A60)=$A60,EVEN(BL$2)=BL$2)),BL$1,-100))","v":1153.125},{"$f":"IF('Ceiling Speaker Calculator'!$C$29=\"Square\",BM$1,IF(OR(AND(ODD($A60)=$A60,ODD(BM$2)=BM$2),AND(EVEN($A60)=$A60,EVEN(BM$2)=BM$2)),BM$1,-100))","v":1171.875},{"$f":"IF('Ceiling Speaker Calculator'!$C$29=\"Square\",BN$1,IF(OR(AND(ODD($A60)=$A60,ODD(BN$2)=BN$2),AND(EVEN($A60)=$A60,EVEN(BN$2)=BN$2)),BN$1,-100))","v":1190.625},{"$f":"IF('Ceiling Speaker Calculator'!$C$29=\"Square\",BO$1,IF(OR(AND(ODD($A60)=$A60,ODD(BO$2)=BO$2),AND(EVEN($A60)=$A60,EVEN(BO$2)=BO$2)),BO$1,-100))","v":1209.375},{"$f":"IF('Ceiling Speaker Calculator'!$C$29=\"Square\",BP$1,IF(OR(AND(ODD($A60)=$A60,ODD(BP$2)=BP$2),AND(EVEN($A60)=$A60,EVEN(BP$2)=BP$2)),BP$1,-100))","v":1228.125},{"$f":"IF('Ceiling Speaker Calculator'!$C$29=\"Square\",BQ$1,IF(OR(AND(ODD($A60)=$A60,ODD(BQ$2)=BQ$2),AND(EVEN($A60)=$A60,EVEN(BQ$2)=BQ$2)),BQ$1,-100))","v":1246.875},{"$f":"IF('Ceiling Speaker Calculator'!$C$29=\"Square\",BR$1,IF(OR(AND(ODD($A60)=$A60,ODD(BR$2)=BR$2),AND(EVEN($A60)=$A60,EVEN(BR$2)=BR$2)),BR$1,-100))","v":1265.625},{"$f":"IF('Ceiling Speaker Calculator'!$C$29=\"Square\",BS$1,IF(OR(AND(ODD($A60)=$A60,ODD(BS$2)=BS$2),AND(EVEN($A60)=$A60,EVEN(BS$2)=BS$2)),BS$1,-100))","v":1284.375},{"$f":"IF('Ceiling Speaker Calculator'!$C$29=\"Square\",BT$1,IF(OR(AND(ODD($A60)=$A60,ODD(BT$2)=BT$2),AND(EVEN($A60)=$A60,EVEN(BT$2)=BT$2)),BT$1,-100))","v":1303.125},{"$f":"IF('Ceiling Speaker Calculator'!$C$29=\"Square\",BU$1,IF(OR(AND(ODD($A60)=$A60,ODD(BU$2)=BU$2),AND(EVEN($A60)=$A60,EVEN(BU$2)=BU$2)),BU$1,-100))","v":1321.875},{"$f":"IF('Ceiling Speaker Calculator'!$C$29=\"Square\",BV$1,IF(OR(AND(ODD($A60)=$A60,ODD(BV$2)=BV$2),AND(EVEN($A60)=$A60,EVEN(BV$2)=BV$2)),BV$1,-100))","v":1340.625},{"$f":"IF('Ceiling Speaker Calculator'!$C$29=\"Square\",BW$1,IF(OR(AND(ODD($A60)=$A60,ODD(BW$2)=BW$2),AND(EVEN($A60)=$A60,EVEN(BW$2)=BW$2)),BW$1,-100))","v":1359.375},{"$f":"IF('Ceiling Speaker Calculator'!$C$29=\"Square\",BX$1,IF(OR(AND(ODD($A60)=$A60,ODD(BX$2)=BX$2),AND(EVEN($A60)=$A60,EVEN(BX$2)=BX$2)),BX$1,-100))","v":1378.125},{"$f":"IF('Ceiling Speaker Calculator'!$C$29=\"Square\",BY$1,IF(OR(AND(ODD($A60)=$A60,ODD(BY$2)=BY$2),AND(EVEN($A60)=$A60,EVEN(BY$2)=BY$2)),BY$1,-100))","v":1396.875},{"$f":"IF('Ceiling Speaker Calculator'!$C$29=\"Square\",BZ$1,IF(OR(AND(ODD($A60)=$A60,ODD(BZ$2)=BZ$2),AND(EVEN($A60)=$A60,EVEN(BZ$2)=BZ$2)),BZ$1,-100))","v":1415.625},{"$f":"IF('Ceiling Speaker Calculator'!$C$29=\"Square\",CA$1,IF(OR(AND(ODD($A60)=$A60,ODD(CA$2)=CA$2),AND(EVEN($A60)=$A60,EVEN(CA$2)=CA$2)),CA$1,-100))","v":1434.375},{"$f":"IF('Ceiling Speaker Calculator'!$C$29=\"Square\",CB$1,IF(OR(AND(ODD($A60)=$A60,ODD(CB$2)=CB$2),AND(EVEN($A60)=$A60,EVEN(CB$2)=CB$2)),CB$1,-100))","v":1453.125},{"$f":"IF('Ceiling Speaker Calculator'!$C$29=\"Square\",CC$1,IF(OR(AND(ODD($A60)=$A60,ODD(CC$2)=CC$2),AND(EVEN($A60)=$A60,EVEN(CC$2)=CC$2)),CC$1,-100))","v":1471.875},{"$f":"IF('Ceiling Speaker Calculator'!$C$29=\"Square\",CD$1,IF(OR(AND(ODD($A60)=$A60,ODD(CD$2)=CD$2),AND(EVEN($A60)=$A60,EVEN(CD$2)=CD$2)),CD$1,-100))","v":1490.625},{"$f":"IF('Ceiling Speaker Calculator'!$C$29=\"Square\",CE$1,IF(OR(AND(ODD($A60)=$A60,ODD(CE$2)=CE$2),AND(EVEN($A60)=$A60,EVEN(CE$2)=CE$2)),CE$1,-100))","v":1509.375},{"$f":"IF('Ceiling Speaker Calculator'!$C$29=\"Square\",CF$1,IF(OR(AND(ODD($A60)=$A60,ODD(CF$2)=CF$2),AND(EVEN($A60)=$A60,EVEN(CF$2)=CF$2)),CF$1,-100))","v":1528.125},{"$f":"IF('Ceiling Speaker Calculator'!$C$29=\"Square\",CG$1,IF(OR(AND(ODD($A60)=$A60,ODD(CG$2)=CG$2),AND(EVEN($A60)=$A60,EVEN(CG$2)=CG$2)),CG$1,-100))","v":1546.875},{"$f":"IF('Ceiling Speaker Calculator'!$C$29=\"Square\",CH$1,IF(OR(AND(ODD($A60)=$A60,ODD(CH$2)=CH$2),AND(EVEN($A60)=$A60,EVEN(CH$2)=CH$2)),CH$1,-100))","v":1565.625},{"$f":"IF('Ceiling Speaker Calculator'!$C$29=\"Square\",CI$1,IF(OR(AND(ODD($A60)=$A60,ODD(CI$2)=CI$2),AND(EVEN($A60)=$A60,EVEN(CI$2)=CI$2)),CI$1,-100))","v":1584.375},{"$f":"IF('Ceiling Speaker Calculator'!$C$29=\"Square\",CJ$1,IF(OR(AND(ODD($A60)=$A60,ODD(CJ$2)=CJ$2),AND(EVEN($A60)=$A60,EVEN(CJ$2)=CJ$2)),CJ$1,-100))","v":1603.125},{"$f":"IF('Ceiling Speaker Calculator'!$C$29=\"Square\",CK$1,IF(OR(AND(ODD($A60)=$A60,ODD(CK$2)=CK$2),AND(EVEN($A60)=$A60,EVEN(CK$2)=CK$2)),CK$1,-100))","v":1621.875},{"$f":"IF('Ceiling Speaker Calculator'!$C$29=\"Square\",CL$1,IF(OR(AND(ODD($A60)=$A60,ODD(CL$2)=CL$2),AND(EVEN($A60)=$A60,EVEN(CL$2)=CL$2)),CL$1,-100))","v":1640.625},{"$f":"IF('Ceiling Speaker Calculator'!$C$29=\"Square\",CM$1,IF(OR(AND(ODD($A60)=$A60,ODD(CM$2)=CM$2),AND(EVEN($A60)=$A60,EVEN(CM$2)=CM$2)),CM$1,-100))","v":1659.375},{"$f":"IF('Ceiling Speaker Calculator'!$C$29=\"Square\",CN$1,IF(OR(AND(ODD($A60)=$A60,ODD(CN$2)=CN$2),AND(EVEN($A60)=$A60,EVEN(CN$2)=CN$2)),CN$1,-100))","v":1678.125},{"$f":"IF('Ceiling Speaker Calculator'!$C$29=\"Square\",CO$1,IF(OR(AND(ODD($A60)=$A60,ODD(CO$2)=CO$2),AND(EVEN($A60)=$A60,EVEN(CO$2)=CO$2)),CO$1,-100))","v":1696.875},{"$f":"IF('Ceiling Speaker Calculator'!$C$29=\"Square\",CP$1,IF(OR(AND(ODD($A60)=$A60,ODD(CP$2)=CP$2),AND(EVEN($A60)=$A60,EVEN(CP$2)=CP$2)),CP$1,-100))","v":1715.625},{"$f":"IF('Ceiling Speaker Calculator'!$C$29=\"Square\",CQ$1,IF(OR(AND(ODD($A60)=$A60,ODD(CQ$2)=CQ$2),AND(EVEN($A60)=$A60,EVEN(CQ$2)=CQ$2)),CQ$1,-100))","v":1734.375},{"$f":"IF('Ceiling Speaker Calculator'!$C$29=\"Square\",CR$1,IF(OR(AND(ODD($A60)=$A60,ODD(CR$2)=CR$2),AND(EVEN($A60)=$A60,EVEN(CR$2)=CR$2)),CR$1,-100))","v":1753.125},{"$f":"IF('Ceiling Speaker Calculator'!$C$29=\"Square\",CS$1,IF(OR(AND(ODD($A60)=$A60,ODD(CS$2)=CS$2),AND(EVEN($A60)=$A60,EVEN(CS$2)=CS$2)),CS$1,-100))","v":1771.875},{"$f":"IF('Ceiling Speaker Calculator'!$C$29=\"Square\",CT$1,IF(OR(AND(ODD($A60)=$A60,ODD(CT$2)=CT$2),AND(EVEN($A60)=$A60,EVEN(CT$2)=CT$2)),CT$1,-100))","v":1790.625},{"$f":"IF('Ceiling Speaker Calculator'!$C$29=\"Square\",CU$1,IF(OR(AND(ODD($A60)=$A60,ODD(CU$2)=CU$2),AND(EVEN($A60)=$A60,EVEN(CU$2)=CU$2)),CU$1,-100))","v":1809.375},{"$f":"IF('Ceiling Speaker Calculator'!$C$29=\"Square\",CV$1,IF(OR(AND(ODD($A60)=$A60,ODD(CV$2)=CV$2),AND(EVEN($A60)=$A60,EVEN(CV$2)=CV$2)),CV$1,-100))","v":1828.125},{"$f":"IF('Ceiling Speaker Calculator'!$C$29=\"Square\",CW$1,IF(OR(AND(ODD($A60)=$A60,ODD(CW$2)=CW$2),AND(EVEN($A60)=$A60,EVEN(CW$2)=CW$2)),CW$1,-100))","v":1846.875},{"$f":"IF('Ceiling Speaker Calculator'!$C$29=\"Square\",CX$1,IF(OR(AND(ODD($A60)=$A60,ODD(CX$2)=CX$2),AND(EVEN($A60)=$A60,EVEN(CX$2)=CX$2)),CX$1,-100))","v":1865.625}]
[59,{"$f":"B60+'Ceiling Speaker Calculator'!$K$16","v":1170},{"$f":"IF('Ceiling Speaker Calculator'!$C$29=\"Square\",C$1,IF(OR(AND(ODD($A61)=$A61,ODD(C$2)=C$2),AND(EVEN($A61)=$A61,EVEN(C$2)=C$2)),C$1,-100))","v":9.375},{"$f":"IF('Ceiling Speaker Calculator'!$C$29=\"Square\",D$1,IF(OR(AND(ODD($A61)=$A61,ODD(D$2)=D$2),AND(EVEN($A61)=$A61,EVEN(D$2)=D$2)),D$1,-100))","v":28.125},{"$f":"IF('Ceiling Speaker Calculator'!$C$29=\"Square\",E$1,IF(OR(AND(ODD($A61)=$A61,ODD(E$2)=E$2),AND(EVEN($A61)=$A61,EVEN(E$2)=E$2)),E$1,-100))","v":46.875},{"$f":"IF('Ceiling Speaker Calculator'!$C$29=\"Square\",F$1,IF(OR(AND(ODD($A61)=$A61,ODD(F$2)=F$2),AND(EVEN($A61)=$A61,EVEN(F$2)=F$2)),F$1,-100))","v":65.625},{"$f":"IF('Ceiling Speaker Calculator'!$C$29=\"Square\",G$1,IF(OR(AND(ODD($A61)=$A61,ODD(G$2)=G$2),AND(EVEN($A61)=$A61,EVEN(G$2)=G$2)),G$1,-100))","v":84.375},{"$f":"IF('Ceiling Speaker Calculator'!$C$29=\"Square\",H$1,IF(OR(AND(ODD($A61)=$A61,ODD(H$2)=H$2),AND(EVEN($A61)=$A61,EVEN(H$2)=H$2)),H$1,-100))","v":103.125},{"$f":"IF('Ceiling Speaker Calculator'!$C$29=\"Square\",I$1,IF(OR(AND(ODD($A61)=$A61,ODD(I$2)=I$2),AND(EVEN($A61)=$A61,EVEN(I$2)=I$2)),I$1,-100))","v":121.875},{"$f":"IF('Ceiling Speaker Calculator'!$C$29=\"Square\",J$1,IF(OR(AND(ODD($A61)=$A61,ODD(J$2)=J$2),AND(EVEN($A61)=$A61,EVEN(J$2)=J$2)),J$1,-100))","v":140.625},{"$f":"IF('Ceiling Speaker Calculator'!$C$29=\"Square\",K$1,IF(OR(AND(ODD($A61)=$A61,ODD(K$2)=K$2),AND(EVEN($A61)=$A61,EVEN(K$2)=K$2)),K$1,-100))","v":159.375},{"$f":"IF('Ceiling Speaker Calculator'!$C$29=\"Square\",L$1,IF(OR(AND(ODD($A61)=$A61,ODD(L$2)=L$2),AND(EVEN($A61)=$A61,EVEN(L$2)=L$2)),L$1,-100))","v":178.125},{"$f":"IF('Ceiling Speaker Calculator'!$C$29=\"Square\",M$1,IF(OR(AND(ODD($A61)=$A61,ODD(M$2)=M$2),AND(EVEN($A61)=$A61,EVEN(M$2)=M$2)),M$1,-100))","v":196.875},{"$f":"IF('Ceiling Speaker Calculator'!$C$29=\"Square\",N$1,IF(OR(AND(ODD($A61)=$A61,ODD(N$2)=N$2),AND(EVEN($A61)=$A61,EVEN(N$2)=N$2)),N$1,-100))","v":215.625},{"$f":"IF('Ceiling Speaker Calculator'!$C$29=\"Square\",O$1,IF(OR(AND(ODD($A61)=$A61,ODD(O$2)=O$2),AND(EVEN($A61)=$A61,EVEN(O$2)=O$2)),O$1,-100))","v":234.375},{"$f":"IF('Ceiling Speaker Calculator'!$C$29=\"Square\",P$1,IF(OR(AND(ODD($A61)=$A61,ODD(P$2)=P$2),AND(EVEN($A61)=$A61,EVEN(P$2)=P$2)),P$1,-100))","v":253.125},{"$f":"IF('Ceiling Speaker Calculator'!$C$29=\"Square\",Q$1,IF(OR(AND(ODD($A61)=$A61,ODD(Q$2)=Q$2),AND(EVEN($A61)=$A61,EVEN(Q$2)=Q$2)),Q$1,-100))","v":271.875},{"$f":"IF('Ceiling Speaker Calculator'!$C$29=\"Square\",R$1,IF(OR(AND(ODD($A61)=$A61,ODD(R$2)=R$2),AND(EVEN($A61)=$A61,EVEN(R$2)=R$2)),R$1,-100))","v":290.625},{"$f":"IF('Ceiling Speaker Calculator'!$C$29=\"Square\",S$1,IF(OR(AND(ODD($A61)=$A61,ODD(S$2)=S$2),AND(EVEN($A61)=$A61,EVEN(S$2)=S$2)),S$1,-100))","v":309.375},{"$f":"IF('Ceiling Speaker Calculator'!$C$29=\"Square\",T$1,IF(OR(AND(ODD($A61)=$A61,ODD(T$2)=T$2),AND(EVEN($A61)=$A61,EVEN(T$2)=T$2)),T$1,-100))","v":328.125},{"$f":"IF('Ceiling Speaker Calculator'!$C$29=\"Square\",U$1,IF(OR(AND(ODD($A61)=$A61,ODD(U$2)=U$2),AND(EVEN($A61)=$A61,EVEN(U$2)=U$2)),U$1,-100))","v":346.875},{"$f":"IF('Ceiling Speaker Calculator'!$C$29=\"Square\",V$1,IF(OR(AND(ODD($A61)=$A61,ODD(V$2)=V$2),AND(EVEN($A61)=$A61,EVEN(V$2)=V$2)),V$1,-100))","v":365.625},{"$f":"IF('Ceiling Speaker Calculator'!$C$29=\"Square\",W$1,IF(OR(AND(ODD($A61)=$A61,ODD(W$2)=W$2),AND(EVEN($A61)=$A61,EVEN(W$2)=W$2)),W$1,-100))","v":384.375},{"$f":"IF('Ceiling Speaker Calculator'!$C$29=\"Square\",X$1,IF(OR(AND(ODD($A61)=$A61,ODD(X$2)=X$2),AND(EVEN($A61)=$A61,EVEN(X$2)=X$2)),X$1,-100))","v":403.125},{"$f":"IF('Ceiling Speaker Calculator'!$C$29=\"Square\",Y$1,IF(OR(AND(ODD($A61)=$A61,ODD(Y$2)=Y$2),AND(EVEN($A61)=$A61,EVEN(Y$2)=Y$2)),Y$1,-100))","v":421.875},{"$f":"IF('Ceiling Speaker Calculator'!$C$29=\"Square\",Z$1,IF(OR(AND(ODD($A61)=$A61,ODD(Z$2)=Z$2),AND(EVEN($A61)=$A61,EVEN(Z$2)=Z$2)),Z$1,-100))","v":440.625},{"$f":"IF('Ceiling Speaker Calculator'!$C$29=\"Square\",AA$1,IF(OR(AND(ODD($A61)=$A61,ODD(AA$2)=AA$2),AND(EVEN($A61)=$A61,EVEN(AA$2)=AA$2)),AA$1,-100))","v":459.375},{"$f":"IF('Ceiling Speaker Calculator'!$C$29=\"Square\",AB$1,IF(OR(AND(ODD($A61)=$A61,ODD(AB$2)=AB$2),AND(EVEN($A61)=$A61,EVEN(AB$2)=AB$2)),AB$1,-100))","v":478.125},{"$f":"IF('Ceiling Speaker Calculator'!$C$29=\"Square\",AC$1,IF(OR(AND(ODD($A61)=$A61,ODD(AC$2)=AC$2),AND(EVEN($A61)=$A61,EVEN(AC$2)=AC$2)),AC$1,-100))","v":496.875},{"$f":"IF('Ceiling Speaker Calculator'!$C$29=\"Square\",AD$1,IF(OR(AND(ODD($A61)=$A61,ODD(AD$2)=AD$2),AND(EVEN($A61)=$A61,EVEN(AD$2)=AD$2)),AD$1,-100))","v":515.625},{"$f":"IF('Ceiling Speaker Calculator'!$C$29=\"Square\",AE$1,IF(OR(AND(ODD($A61)=$A61,ODD(AE$2)=AE$2),AND(EVEN($A61)=$A61,EVEN(AE$2)=AE$2)),AE$1,-100))","v":534.375},{"$f":"IF('Ceiling Speaker Calculator'!$C$29=\"Square\",AF$1,IF(OR(AND(ODD($A61)=$A61,ODD(AF$2)=AF$2),AND(EVEN($A61)=$A61,EVEN(AF$2)=AF$2)),AF$1,-100))","v":553.125},{"$f":"IF('Ceiling Speaker Calculator'!$C$29=\"Square\",AG$1,IF(OR(AND(ODD($A61)=$A61,ODD(AG$2)=AG$2),AND(EVEN($A61)=$A61,EVEN(AG$2)=AG$2)),AG$1,-100))","v":571.875},{"$f":"IF('Ceiling Speaker Calculator'!$C$29=\"Square\",AH$1,IF(OR(AND(ODD($A61)=$A61,ODD(AH$2)=AH$2),AND(EVEN($A61)=$A61,EVEN(AH$2)=AH$2)),AH$1,-100))","v":590.625},{"$f":"IF('Ceiling Speaker Calculator'!$C$29=\"Square\",AI$1,IF(OR(AND(ODD($A61)=$A61,ODD(AI$2)=AI$2),AND(EVEN($A61)=$A61,EVEN(AI$2)=AI$2)),AI$1,-100))","v":609.375},{"$f":"IF('Ceiling Speaker Calculator'!$C$29=\"Square\",AJ$1,IF(OR(AND(ODD($A61)=$A61,ODD(AJ$2)=AJ$2),AND(EVEN($A61)=$A61,EVEN(AJ$2)=AJ$2)),AJ$1,-100))","v":628.125},{"$f":"IF('Ceiling Speaker Calculator'!$C$29=\"Square\",AK$1,IF(OR(AND(ODD($A61)=$A61,ODD(AK$2)=AK$2),AND(EVEN($A61)=$A61,EVEN(AK$2)=AK$2)),AK$1,-100))","v":646.875},{"$f":"IF('Ceiling Speaker Calculator'!$C$29=\"Square\",AL$1,IF(OR(AND(ODD($A61)=$A61,ODD(AL$2)=AL$2),AND(EVEN($A61)=$A61,EVEN(AL$2)=AL$2)),AL$1,-100))","v":665.625},{"$f":"IF('Ceiling Speaker Calculator'!$C$29=\"Square\",AM$1,IF(OR(AND(ODD($A61)=$A61,ODD(AM$2)=AM$2),AND(EVEN($A61)=$A61,EVEN(AM$2)=AM$2)),AM$1,-100))","v":684.375},{"$f":"IF('Ceiling Speaker Calculator'!$C$29=\"Square\",AN$1,IF(OR(AND(ODD($A61)=$A61,ODD(AN$2)=AN$2),AND(EVEN($A61)=$A61,EVEN(AN$2)=AN$2)),AN$1,-100))","v":703.125},{"$f":"IF('Ceiling Speaker Calculator'!$C$29=\"Square\",AO$1,IF(OR(AND(ODD($A61)=$A61,ODD(AO$2)=AO$2),AND(EVEN($A61)=$A61,EVEN(AO$2)=AO$2)),AO$1,-100))","v":721.875},{"$f":"IF('Ceiling Speaker Calculator'!$C$29=\"Square\",AP$1,IF(OR(AND(ODD($A61)=$A61,ODD(AP$2)=AP$2),AND(EVEN($A61)=$A61,EVEN(AP$2)=AP$2)),AP$1,-100))","v":740.625},{"$f":"IF('Ceiling Speaker Calculator'!$C$29=\"Square\",AQ$1,IF(OR(AND(ODD($A61)=$A61,ODD(AQ$2)=AQ$2),AND(EVEN($A61)=$A61,EVEN(AQ$2)=AQ$2)),AQ$1,-100))","v":759.375},{"$f":"IF('Ceiling Speaker Calculator'!$C$29=\"Square\",AR$1,IF(OR(AND(ODD($A61)=$A61,ODD(AR$2)=AR$2),AND(EVEN($A61)=$A61,EVEN(AR$2)=AR$2)),AR$1,-100))","v":778.125},{"$f":"IF('Ceiling Speaker Calculator'!$C$29=\"Square\",AS$1,IF(OR(AND(ODD($A61)=$A61,ODD(AS$2)=AS$2),AND(EVEN($A61)=$A61,EVEN(AS$2)=AS$2)),AS$1,-100))","v":796.875},{"$f":"IF('Ceiling Speaker Calculator'!$C$29=\"Square\",AT$1,IF(OR(AND(ODD($A61)=$A61,ODD(AT$2)=AT$2),AND(EVEN($A61)=$A61,EVEN(AT$2)=AT$2)),AT$1,-100))","v":815.625},{"$f":"IF('Ceiling Speaker Calculator'!$C$29=\"Square\",AU$1,IF(OR(AND(ODD($A61)=$A61,ODD(AU$2)=AU$2),AND(EVEN($A61)=$A61,EVEN(AU$2)=AU$2)),AU$1,-100))","v":834.375},{"$f":"IF('Ceiling Speaker Calculator'!$C$29=\"Square\",AV$1,IF(OR(AND(ODD($A61)=$A61,ODD(AV$2)=AV$2),AND(EVEN($A61)=$A61,EVEN(AV$2)=AV$2)),AV$1,-100))","v":853.125},{"$f":"IF('Ceiling Speaker Calculator'!$C$29=\"Square\",AW$1,IF(OR(AND(ODD($A61)=$A61,ODD(AW$2)=AW$2),AND(EVEN($A61)=$A61,EVEN(AW$2)=AW$2)),AW$1,-100))","v":871.875},{"$f":"IF('Ceiling Speaker Calculator'!$C$29=\"Square\",AX$1,IF(OR(AND(ODD($A61)=$A61,ODD(AX$2)=AX$2),AND(EVEN($A61)=$A61,EVEN(AX$2)=AX$2)),AX$1,-100))","v":890.625},{"$f":"IF('Ceiling Speaker Calculator'!$C$29=\"Square\",AY$1,IF(OR(AND(ODD($A61)=$A61,ODD(AY$2)=AY$2),AND(EVEN($A61)=$A61,EVEN(AY$2)=AY$2)),AY$1,-100))","v":909.375},{"$f":"IF('Ceiling Speaker Calculator'!$C$29=\"Square\",AZ$1,IF(OR(AND(ODD($A61)=$A61,ODD(AZ$2)=AZ$2),AND(EVEN($A61)=$A61,EVEN(AZ$2)=AZ$2)),AZ$1,-100))","v":928.125},{"$f":"IF('Ceiling Speaker Calculator'!$C$29=\"Square\",BA$1,IF(OR(AND(ODD($A61)=$A61,ODD(BA$2)=BA$2),AND(EVEN($A61)=$A61,EVEN(BA$2)=BA$2)),BA$1,-100))","v":946.875},{"$f":"IF('Ceiling Speaker Calculator'!$C$29=\"Square\",BB$1,IF(OR(AND(ODD($A61)=$A61,ODD(BB$2)=BB$2),AND(EVEN($A61)=$A61,EVEN(BB$2)=BB$2)),BB$1,-100))","v":965.625},{"$f":"IF('Ceiling Speaker Calculator'!$C$29=\"Square\",BC$1,IF(OR(AND(ODD($A61)=$A61,ODD(BC$2)=BC$2),AND(EVEN($A61)=$A61,EVEN(BC$2)=BC$2)),BC$1,-100))","v":984.375},{"$f":"IF('Ceiling Speaker Calculator'!$C$29=\"Square\",BD$1,IF(OR(AND(ODD($A61)=$A61,ODD(BD$2)=BD$2),AND(EVEN($A61)=$A61,EVEN(BD$2)=BD$2)),BD$1,-100))","v":1003.125},{"$f":"IF('Ceiling Speaker Calculator'!$C$29=\"Square\",BE$1,IF(OR(AND(ODD($A61)=$A61,ODD(BE$2)=BE$2),AND(EVEN($A61)=$A61,EVEN(BE$2)=BE$2)),BE$1,-100))","v":1021.875},{"$f":"IF('Ceiling Speaker Calculator'!$C$29=\"Square\",BF$1,IF(OR(AND(ODD($A61)=$A61,ODD(BF$2)=BF$2),AND(EVEN($A61)=$A61,EVEN(BF$2)=BF$2)),BF$1,-100))","v":1040.625},{"$f":"IF('Ceiling Speaker Calculator'!$C$29=\"Square\",BG$1,IF(OR(AND(ODD($A61)=$A61,ODD(BG$2)=BG$2),AND(EVEN($A61)=$A61,EVEN(BG$2)=BG$2)),BG$1,-100))","v":1059.375},{"$f":"IF('Ceiling Speaker Calculator'!$C$29=\"Square\",BH$1,IF(OR(AND(ODD($A61)=$A61,ODD(BH$2)=BH$2),AND(EVEN($A61)=$A61,EVEN(BH$2)=BH$2)),BH$1,-100))","v":1078.125},{"$f":"IF('Ceiling Speaker Calculator'!$C$29=\"Square\",BI$1,IF(OR(AND(ODD($A61)=$A61,ODD(BI$2)=BI$2),AND(EVEN($A61)=$A61,EVEN(BI$2)=BI$2)),BI$1,-100))","v":1096.875},{"$f":"IF('Ceiling Speaker Calculator'!$C$29=\"Square\",BJ$1,IF(OR(AND(ODD($A61)=$A61,ODD(BJ$2)=BJ$2),AND(EVEN($A61)=$A61,EVEN(BJ$2)=BJ$2)),BJ$1,-100))","v":1115.625},{"$f":"IF('Ceiling Speaker Calculator'!$C$29=\"Square\",BK$1,IF(OR(AND(ODD($A61)=$A61,ODD(BK$2)=BK$2),AND(EVEN($A61)=$A61,EVEN(BK$2)=BK$2)),BK$1,-100))","v":1134.375},{"$f":"IF('Ceiling Speaker Calculator'!$C$29=\"Square\",BL$1,IF(OR(AND(ODD($A61)=$A61,ODD(BL$2)=BL$2),AND(EVEN($A61)=$A61,EVEN(BL$2)=BL$2)),BL$1,-100))","v":1153.125},{"$f":"IF('Ceiling Speaker Calculator'!$C$29=\"Square\",BM$1,IF(OR(AND(ODD($A61)=$A61,ODD(BM$2)=BM$2),AND(EVEN($A61)=$A61,EVEN(BM$2)=BM$2)),BM$1,-100))","v":1171.875},{"$f":"IF('Ceiling Speaker Calculator'!$C$29=\"Square\",BN$1,IF(OR(AND(ODD($A61)=$A61,ODD(BN$2)=BN$2),AND(EVEN($A61)=$A61,EVEN(BN$2)=BN$2)),BN$1,-100))","v":1190.625},{"$f":"IF('Ceiling Speaker Calculator'!$C$29=\"Square\",BO$1,IF(OR(AND(ODD($A61)=$A61,ODD(BO$2)=BO$2),AND(EVEN($A61)=$A61,EVEN(BO$2)=BO$2)),BO$1,-100))","v":1209.375},{"$f":"IF('Ceiling Speaker Calculator'!$C$29=\"Square\",BP$1,IF(OR(AND(ODD($A61)=$A61,ODD(BP$2)=BP$2),AND(EVEN($A61)=$A61,EVEN(BP$2)=BP$2)),BP$1,-100))","v":1228.125},{"$f":"IF('Ceiling Speaker Calculator'!$C$29=\"Square\",BQ$1,IF(OR(AND(ODD($A61)=$A61,ODD(BQ$2)=BQ$2),AND(EVEN($A61)=$A61,EVEN(BQ$2)=BQ$2)),BQ$1,-100))","v":1246.875},{"$f":"IF('Ceiling Speaker Calculator'!$C$29=\"Square\",BR$1,IF(OR(AND(ODD($A61)=$A61,ODD(BR$2)=BR$2),AND(EVEN($A61)=$A61,EVEN(BR$2)=BR$2)),BR$1,-100))","v":1265.625},{"$f":"IF('Ceiling Speaker Calculator'!$C$29=\"Square\",BS$1,IF(OR(AND(ODD($A61)=$A61,ODD(BS$2)=BS$2),AND(EVEN($A61)=$A61,EVEN(BS$2)=BS$2)),BS$1,-100))","v":1284.375},{"$f":"IF('Ceiling Speaker Calculator'!$C$29=\"Square\",BT$1,IF(OR(AND(ODD($A61)=$A61,ODD(BT$2)=BT$2),AND(EVEN($A61)=$A61,EVEN(BT$2)=BT$2)),BT$1,-100))","v":1303.125},{"$f":"IF('Ceiling Speaker Calculator'!$C$29=\"Square\",BU$1,IF(OR(AND(ODD($A61)=$A61,ODD(BU$2)=BU$2),AND(EVEN($A61)=$A61,EVEN(BU$2)=BU$2)),BU$1,-100))","v":1321.875},{"$f":"IF('Ceiling Speaker Calculator'!$C$29=\"Square\",BV$1,IF(OR(AND(ODD($A61)=$A61,ODD(BV$2)=BV$2),AND(EVEN($A61)=$A61,EVEN(BV$2)=BV$2)),BV$1,-100))","v":1340.625},{"$f":"IF('Ceiling Speaker Calculator'!$C$29=\"Square\",BW$1,IF(OR(AND(ODD($A61)=$A61,ODD(BW$2)=BW$2),AND(EVEN($A61)=$A61,EVEN(BW$2)=BW$2)),BW$1,-100))","v":1359.375},{"$f":"IF('Ceiling Speaker Calculator'!$C$29=\"Square\",BX$1,IF(OR(AND(ODD($A61)=$A61,ODD(BX$2)=BX$2),AND(EVEN($A61)=$A61,EVEN(BX$2)=BX$2)),BX$1,-100))","v":1378.125},{"$f":"IF('Ceiling Speaker Calculator'!$C$29=\"Square\",BY$1,IF(OR(AND(ODD($A61)=$A61,ODD(BY$2)=BY$2),AND(EVEN($A61)=$A61,EVEN(BY$2)=BY$2)),BY$1,-100))","v":1396.875},{"$f":"IF('Ceiling Speaker Calculator'!$C$29=\"Square\",BZ$1,IF(OR(AND(ODD($A61)=$A61,ODD(BZ$2)=BZ$2),AND(EVEN($A61)=$A61,EVEN(BZ$2)=BZ$2)),BZ$1,-100))","v":1415.625},{"$f":"IF('Ceiling Speaker Calculator'!$C$29=\"Square\",CA$1,IF(OR(AND(ODD($A61)=$A61,ODD(CA$2)=CA$2),AND(EVEN($A61)=$A61,EVEN(CA$2)=CA$2)),CA$1,-100))","v":1434.375},{"$f":"IF('Ceiling Speaker Calculator'!$C$29=\"Square\",CB$1,IF(OR(AND(ODD($A61)=$A61,ODD(CB$2)=CB$2),AND(EVEN($A61)=$A61,EVEN(CB$2)=CB$2)),CB$1,-100))","v":1453.125},{"$f":"IF('Ceiling Speaker Calculator'!$C$29=\"Square\",CC$1,IF(OR(AND(ODD($A61)=$A61,ODD(CC$2)=CC$2),AND(EVEN($A61)=$A61,EVEN(CC$2)=CC$2)),CC$1,-100))","v":1471.875},{"$f":"IF('Ceiling Speaker Calculator'!$C$29=\"Square\",CD$1,IF(OR(AND(ODD($A61)=$A61,ODD(CD$2)=CD$2),AND(EVEN($A61)=$A61,EVEN(CD$2)=CD$2)),CD$1,-100))","v":1490.625},{"$f":"IF('Ceiling Speaker Calculator'!$C$29=\"Square\",CE$1,IF(OR(AND(ODD($A61)=$A61,ODD(CE$2)=CE$2),AND(EVEN($A61)=$A61,EVEN(CE$2)=CE$2)),CE$1,-100))","v":1509.375},{"$f":"IF('Ceiling Speaker Calculator'!$C$29=\"Square\",CF$1,IF(OR(AND(ODD($A61)=$A61,ODD(CF$2)=CF$2),AND(EVEN($A61)=$A61,EVEN(CF$2)=CF$2)),CF$1,-100))","v":1528.125},{"$f":"IF('Ceiling Speaker Calculator'!$C$29=\"Square\",CG$1,IF(OR(AND(ODD($A61)=$A61,ODD(CG$2)=CG$2),AND(EVEN($A61)=$A61,EVEN(CG$2)=CG$2)),CG$1,-100))","v":1546.875},{"$f":"IF('Ceiling Speaker Calculator'!$C$29=\"Square\",CH$1,IF(OR(AND(ODD($A61)=$A61,ODD(CH$2)=CH$2),AND(EVEN($A61)=$A61,EVEN(CH$2)=CH$2)),CH$1,-100))","v":1565.625},{"$f":"IF('Ceiling Speaker Calculator'!$C$29=\"Square\",CI$1,IF(OR(AND(ODD($A61)=$A61,ODD(CI$2)=CI$2),AND(EVEN($A61)=$A61,EVEN(CI$2)=CI$2)),CI$1,-100))","v":1584.375},{"$f":"IF('Ceiling Speaker Calculator'!$C$29=\"Square\",CJ$1,IF(OR(AND(ODD($A61)=$A61,ODD(CJ$2)=CJ$2),AND(EVEN($A61)=$A61,EVEN(CJ$2)=CJ$2)),CJ$1,-100))","v":1603.125},{"$f":"IF('Ceiling Speaker Calculator'!$C$29=\"Square\",CK$1,IF(OR(AND(ODD($A61)=$A61,ODD(CK$2)=CK$2),AND(EVEN($A61)=$A61,EVEN(CK$2)=CK$2)),CK$1,-100))","v":1621.875},{"$f":"IF('Ceiling Speaker Calculator'!$C$29=\"Square\",CL$1,IF(OR(AND(ODD($A61)=$A61,ODD(CL$2)=CL$2),AND(EVEN($A61)=$A61,EVEN(CL$2)=CL$2)),CL$1,-100))","v":1640.625},{"$f":"IF('Ceiling Speaker Calculator'!$C$29=\"Square\",CM$1,IF(OR(AND(ODD($A61)=$A61,ODD(CM$2)=CM$2),AND(EVEN($A61)=$A61,EVEN(CM$2)=CM$2)),CM$1,-100))","v":1659.375},{"$f":"IF('Ceiling Speaker Calculator'!$C$29=\"Square\",CN$1,IF(OR(AND(ODD($A61)=$A61,ODD(CN$2)=CN$2),AND(EVEN($A61)=$A61,EVEN(CN$2)=CN$2)),CN$1,-100))","v":1678.125},{"$f":"IF('Ceiling Speaker Calculator'!$C$29=\"Square\",CO$1,IF(OR(AND(ODD($A61)=$A61,ODD(CO$2)=CO$2),AND(EVEN($A61)=$A61,EVEN(CO$2)=CO$2)),CO$1,-100))","v":1696.875},{"$f":"IF('Ceiling Speaker Calculator'!$C$29=\"Square\",CP$1,IF(OR(AND(ODD($A61)=$A61,ODD(CP$2)=CP$2),AND(EVEN($A61)=$A61,EVEN(CP$2)=CP$2)),CP$1,-100))","v":1715.625},{"$f":"IF('Ceiling Speaker Calculator'!$C$29=\"Square\",CQ$1,IF(OR(AND(ODD($A61)=$A61,ODD(CQ$2)=CQ$2),AND(EVEN($A61)=$A61,EVEN(CQ$2)=CQ$2)),CQ$1,-100))","v":1734.375},{"$f":"IF('Ceiling Speaker Calculator'!$C$29=\"Square\",CR$1,IF(OR(AND(ODD($A61)=$A61,ODD(CR$2)=CR$2),AND(EVEN($A61)=$A61,EVEN(CR$2)=CR$2)),CR$1,-100))","v":1753.125},{"$f":"IF('Ceiling Speaker Calculator'!$C$29=\"Square\",CS$1,IF(OR(AND(ODD($A61)=$A61,ODD(CS$2)=CS$2),AND(EVEN($A61)=$A61,EVEN(CS$2)=CS$2)),CS$1,-100))","v":1771.875},{"$f":"IF('Ceiling Speaker Calculator'!$C$29=\"Square\",CT$1,IF(OR(AND(ODD($A61)=$A61,ODD(CT$2)=CT$2),AND(EVEN($A61)=$A61,EVEN(CT$2)=CT$2)),CT$1,-100))","v":1790.625},{"$f":"IF('Ceiling Speaker Calculator'!$C$29=\"Square\",CU$1,IF(OR(AND(ODD($A61)=$A61,ODD(CU$2)=CU$2),AND(EVEN($A61)=$A61,EVEN(CU$2)=CU$2)),CU$1,-100))","v":1809.375},{"$f":"IF('Ceiling Speaker Calculator'!$C$29=\"Square\",CV$1,IF(OR(AND(ODD($A61)=$A61,ODD(CV$2)=CV$2),AND(EVEN($A61)=$A61,EVEN(CV$2)=CV$2)),CV$1,-100))","v":1828.125},{"$f":"IF('Ceiling Speaker Calculator'!$C$29=\"Square\",CW$1,IF(OR(AND(ODD($A61)=$A61,ODD(CW$2)=CW$2),AND(EVEN($A61)=$A61,EVEN(CW$2)=CW$2)),CW$1,-100))","v":1846.875},{"$f":"IF('Ceiling Speaker Calculator'!$C$29=\"Square\",CX$1,IF(OR(AND(ODD($A61)=$A61,ODD(CX$2)=CX$2),AND(EVEN($A61)=$A61,EVEN(CX$2)=CX$2)),CX$1,-100))","v":1865.625}]
[60,{"$f":"B61+'Ceiling Speaker Calculator'!$K$16","v":1190},{"$f":"IF('Ceiling Speaker Calculator'!$C$29=\"Square\",C$1,IF(OR(AND(ODD($A62)=$A62,ODD(C$2)=C$2),AND(EVEN($A62)=$A62,EVEN(C$2)=C$2)),C$1,-100))","v":9.375},{"$f":"IF('Ceiling Speaker Calculator'!$C$29=\"Square\",D$1,IF(OR(AND(ODD($A62)=$A62,ODD(D$2)=D$2),AND(EVEN($A62)=$A62,EVEN(D$2)=D$2)),D$1,-100))","v":28.125},{"$f":"IF('Ceiling Speaker Calculator'!$C$29=\"Square\",E$1,IF(OR(AND(ODD($A62)=$A62,ODD(E$2)=E$2),AND(EVEN($A62)=$A62,EVEN(E$2)=E$2)),E$1,-100))","v":46.875},{"$f":"IF('Ceiling Speaker Calculator'!$C$29=\"Square\",F$1,IF(OR(AND(ODD($A62)=$A62,ODD(F$2)=F$2),AND(EVEN($A62)=$A62,EVEN(F$2)=F$2)),F$1,-100))","v":65.625},{"$f":"IF('Ceiling Speaker Calculator'!$C$29=\"Square\",G$1,IF(OR(AND(ODD($A62)=$A62,ODD(G$2)=G$2),AND(EVEN($A62)=$A62,EVEN(G$2)=G$2)),G$1,-100))","v":84.375},{"$f":"IF('Ceiling Speaker Calculator'!$C$29=\"Square\",H$1,IF(OR(AND(ODD($A62)=$A62,ODD(H$2)=H$2),AND(EVEN($A62)=$A62,EVEN(H$2)=H$2)),H$1,-100))","v":103.125},{"$f":"IF('Ceiling Speaker Calculator'!$C$29=\"Square\",I$1,IF(OR(AND(ODD($A62)=$A62,ODD(I$2)=I$2),AND(EVEN($A62)=$A62,EVEN(I$2)=I$2)),I$1,-100))","v":121.875},{"$f":"IF('Ceiling Speaker Calculator'!$C$29=\"Square\",J$1,IF(OR(AND(ODD($A62)=$A62,ODD(J$2)=J$2),AND(EVEN($A62)=$A62,EVEN(J$2)=J$2)),J$1,-100))","v":140.625},{"$f":"IF('Ceiling Speaker Calculator'!$C$29=\"Square\",K$1,IF(OR(AND(ODD($A62)=$A62,ODD(K$2)=K$2),AND(EVEN($A62)=$A62,EVEN(K$2)=K$2)),K$1,-100))","v":159.375},{"$f":"IF('Ceiling Speaker Calculator'!$C$29=\"Square\",L$1,IF(OR(AND(ODD($A62)=$A62,ODD(L$2)=L$2),AND(EVEN($A62)=$A62,EVEN(L$2)=L$2)),L$1,-100))","v":178.125},{"$f":"IF('Ceiling Speaker Calculator'!$C$29=\"Square\",M$1,IF(OR(AND(ODD($A62)=$A62,ODD(M$2)=M$2),AND(EVEN($A62)=$A62,EVEN(M$2)=M$2)),M$1,-100))","v":196.875},{"$f":"IF('Ceiling Speaker Calculator'!$C$29=\"Square\",N$1,IF(OR(AND(ODD($A62)=$A62,ODD(N$2)=N$2),AND(EVEN($A62)=$A62,EVEN(N$2)=N$2)),N$1,-100))","v":215.625},{"$f":"IF('Ceiling Speaker Calculator'!$C$29=\"Square\",O$1,IF(OR(AND(ODD($A62)=$A62,ODD(O$2)=O$2),AND(EVEN($A62)=$A62,EVEN(O$2)=O$2)),O$1,-100))","v":234.375},{"$f":"IF('Ceiling Speaker Calculator'!$C$29=\"Square\",P$1,IF(OR(AND(ODD($A62)=$A62,ODD(P$2)=P$2),AND(EVEN($A62)=$A62,EVEN(P$2)=P$2)),P$1,-100))","v":253.125},{"$f":"IF('Ceiling Speaker Calculator'!$C$29=\"Square\",Q$1,IF(OR(AND(ODD($A62)=$A62,ODD(Q$2)=Q$2),AND(EVEN($A62)=$A62,EVEN(Q$2)=Q$2)),Q$1,-100))","v":271.875},{"$f":"IF('Ceiling Speaker Calculator'!$C$29=\"Square\",R$1,IF(OR(AND(ODD($A62)=$A62,ODD(R$2)=R$2),AND(EVEN($A62)=$A62,EVEN(R$2)=R$2)),R$1,-100))","v":290.625},{"$f":"IF('Ceiling Speaker Calculator'!$C$29=\"Square\",S$1,IF(OR(AND(ODD($A62)=$A62,ODD(S$2)=S$2),AND(EVEN($A62)=$A62,EVEN(S$2)=S$2)),S$1,-100))","v":309.375},{"$f":"IF('Ceiling Speaker Calculator'!$C$29=\"Square\",T$1,IF(OR(AND(ODD($A62)=$A62,ODD(T$2)=T$2),AND(EVEN($A62)=$A62,EVEN(T$2)=T$2)),T$1,-100))","v":328.125},{"$f":"IF('Ceiling Speaker Calculator'!$C$29=\"Square\",U$1,IF(OR(AND(ODD($A62)=$A62,ODD(U$2)=U$2),AND(EVEN($A62)=$A62,EVEN(U$2)=U$2)),U$1,-100))","v":346.875},{"$f":"IF('Ceiling Speaker Calculator'!$C$29=\"Square\",V$1,IF(OR(AND(ODD($A62)=$A62,ODD(V$2)=V$2),AND(EVEN($A62)=$A62,EVEN(V$2)=V$2)),V$1,-100))","v":365.625},{"$f":"IF('Ceiling Speaker Calculator'!$C$29=\"Square\",W$1,IF(OR(AND(ODD($A62)=$A62,ODD(W$2)=W$2),AND(EVEN($A62)=$A62,EVEN(W$2)=W$2)),W$1,-100))","v":384.375},{"$f":"IF('Ceiling Speaker Calculator'!$C$29=\"Square\",X$1,IF(OR(AND(ODD($A62)=$A62,ODD(X$2)=X$2),AND(EVEN($A62)=$A62,EVEN(X$2)=X$2)),X$1,-100))","v":403.125},{"$f":"IF('Ceiling Speaker Calculator'!$C$29=\"Square\",Y$1,IF(OR(AND(ODD($A62)=$A62,ODD(Y$2)=Y$2),AND(EVEN($A62)=$A62,EVEN(Y$2)=Y$2)),Y$1,-100))","v":421.875},{"$f":"IF('Ceiling Speaker Calculator'!$C$29=\"Square\",Z$1,IF(OR(AND(ODD($A62)=$A62,ODD(Z$2)=Z$2),AND(EVEN($A62)=$A62,EVEN(Z$2)=Z$2)),Z$1,-100))","v":440.625},{"$f":"IF('Ceiling Speaker Calculator'!$C$29=\"Square\",AA$1,IF(OR(AND(ODD($A62)=$A62,ODD(AA$2)=AA$2),AND(EVEN($A62)=$A62,EVEN(AA$2)=AA$2)),AA$1,-100))","v":459.375},{"$f":"IF('Ceiling Speaker Calculator'!$C$29=\"Square\",AB$1,IF(OR(AND(ODD($A62)=$A62,ODD(AB$2)=AB$2),AND(EVEN($A62)=$A62,EVEN(AB$2)=AB$2)),AB$1,-100))","v":478.125},{"$f":"IF('Ceiling Speaker Calculator'!$C$29=\"Square\",AC$1,IF(OR(AND(ODD($A62)=$A62,ODD(AC$2)=AC$2),AND(EVEN($A62)=$A62,EVEN(AC$2)=AC$2)),AC$1,-100))","v":496.875},{"$f":"IF('Ceiling Speaker Calculator'!$C$29=\"Square\",AD$1,IF(OR(AND(ODD($A62)=$A62,ODD(AD$2)=AD$2),AND(EVEN($A62)=$A62,EVEN(AD$2)=AD$2)),AD$1,-100))","v":515.625},{"$f":"IF('Ceiling Speaker Calculator'!$C$29=\"Square\",AE$1,IF(OR(AND(ODD($A62)=$A62,ODD(AE$2)=AE$2),AND(EVEN($A62)=$A62,EVEN(AE$2)=AE$2)),AE$1,-100))","v":534.375},{"$f":"IF('Ceiling Speaker Calculator'!$C$29=\"Square\",AF$1,IF(OR(AND(ODD($A62)=$A62,ODD(AF$2)=AF$2),AND(EVEN($A62)=$A62,EVEN(AF$2)=AF$2)),AF$1,-100))","v":553.125},{"$f":"IF('Ceiling Speaker Calculator'!$C$29=\"Square\",AG$1,IF(OR(AND(ODD($A62)=$A62,ODD(AG$2)=AG$2),AND(EVEN($A62)=$A62,EVEN(AG$2)=AG$2)),AG$1,-100))","v":571.875},{"$f":"IF('Ceiling Speaker Calculator'!$C$29=\"Square\",AH$1,IF(OR(AND(ODD($A62)=$A62,ODD(AH$2)=AH$2),AND(EVEN($A62)=$A62,EVEN(AH$2)=AH$2)),AH$1,-100))","v":590.625},{"$f":"IF('Ceiling Speaker Calculator'!$C$29=\"Square\",AI$1,IF(OR(AND(ODD($A62)=$A62,ODD(AI$2)=AI$2),AND(EVEN($A62)=$A62,EVEN(AI$2)=AI$2)),AI$1,-100))","v":609.375},{"$f":"IF('Ceiling Speaker Calculator'!$C$29=\"Square\",AJ$1,IF(OR(AND(ODD($A62)=$A62,ODD(AJ$2)=AJ$2),AND(EVEN($A62)=$A62,EVEN(AJ$2)=AJ$2)),AJ$1,-100))","v":628.125},{"$f":"IF('Ceiling Speaker Calculator'!$C$29=\"Square\",AK$1,IF(OR(AND(ODD($A62)=$A62,ODD(AK$2)=AK$2),AND(EVEN($A62)=$A62,EVEN(AK$2)=AK$2)),AK$1,-100))","v":646.875},{"$f":"IF('Ceiling Speaker Calculator'!$C$29=\"Square\",AL$1,IF(OR(AND(ODD($A62)=$A62,ODD(AL$2)=AL$2),AND(EVEN($A62)=$A62,EVEN(AL$2)=AL$2)),AL$1,-100))","v":665.625},{"$f":"IF('Ceiling Speaker Calculator'!$C$29=\"Square\",AM$1,IF(OR(AND(ODD($A62)=$A62,ODD(AM$2)=AM$2),AND(EVEN($A62)=$A62,EVEN(AM$2)=AM$2)),AM$1,-100))","v":684.375},{"$f":"IF('Ceiling Speaker Calculator'!$C$29=\"Square\",AN$1,IF(OR(AND(ODD($A62)=$A62,ODD(AN$2)=AN$2),AND(EVEN($A62)=$A62,EVEN(AN$2)=AN$2)),AN$1,-100))","v":703.125},{"$f":"IF('Ceiling Speaker Calculator'!$C$29=\"Square\",AO$1,IF(OR(AND(ODD($A62)=$A62,ODD(AO$2)=AO$2),AND(EVEN($A62)=$A62,EVEN(AO$2)=AO$2)),AO$1,-100))","v":721.875},{"$f":"IF('Ceiling Speaker Calculator'!$C$29=\"Square\",AP$1,IF(OR(AND(ODD($A62)=$A62,ODD(AP$2)=AP$2),AND(EVEN($A62)=$A62,EVEN(AP$2)=AP$2)),AP$1,-100))","v":740.625},{"$f":"IF('Ceiling Speaker Calculator'!$C$29=\"Square\",AQ$1,IF(OR(AND(ODD($A62)=$A62,ODD(AQ$2)=AQ$2),AND(EVEN($A62)=$A62,EVEN(AQ$2)=AQ$2)),AQ$1,-100))","v":759.375},{"$f":"IF('Ceiling Speaker Calculator'!$C$29=\"Square\",AR$1,IF(OR(AND(ODD($A62)=$A62,ODD(AR$2)=AR$2),AND(EVEN($A62)=$A62,EVEN(AR$2)=AR$2)),AR$1,-100))","v":778.125},{"$f":"IF('Ceiling Speaker Calculator'!$C$29=\"Square\",AS$1,IF(OR(AND(ODD($A62)=$A62,ODD(AS$2)=AS$2),AND(EVEN($A62)=$A62,EVEN(AS$2)=AS$2)),AS$1,-100))","v":796.875},{"$f":"IF('Ceiling Speaker Calculator'!$C$29=\"Square\",AT$1,IF(OR(AND(ODD($A62)=$A62,ODD(AT$2)=AT$2),AND(EVEN($A62)=$A62,EVEN(AT$2)=AT$2)),AT$1,-100))","v":815.625},{"$f":"IF('Ceiling Speaker Calculator'!$C$29=\"Square\",AU$1,IF(OR(AND(ODD($A62)=$A62,ODD(AU$2)=AU$2),AND(EVEN($A62)=$A62,EVEN(AU$2)=AU$2)),AU$1,-100))","v":834.375},{"$f":"IF('Ceiling Speaker Calculator'!$C$29=\"Square\",AV$1,IF(OR(AND(ODD($A62)=$A62,ODD(AV$2)=AV$2),AND(EVEN($A62)=$A62,EVEN(AV$2)=AV$2)),AV$1,-100))","v":853.125},{"$f":"IF('Ceiling Speaker Calculator'!$C$29=\"Square\",AW$1,IF(OR(AND(ODD($A62)=$A62,ODD(AW$2)=AW$2),AND(EVEN($A62)=$A62,EVEN(AW$2)=AW$2)),AW$1,-100))","v":871.875},{"$f":"IF('Ceiling Speaker Calculator'!$C$29=\"Square\",AX$1,IF(OR(AND(ODD($A62)=$A62,ODD(AX$2)=AX$2),AND(EVEN($A62)=$A62,EVEN(AX$2)=AX$2)),AX$1,-100))","v":890.625},{"$f":"IF('Ceiling Speaker Calculator'!$C$29=\"Square\",AY$1,IF(OR(AND(ODD($A62)=$A62,ODD(AY$2)=AY$2),AND(EVEN($A62)=$A62,EVEN(AY$2)=AY$2)),AY$1,-100))","v":909.375},{"$f":"IF('Ceiling Speaker Calculator'!$C$29=\"Square\",AZ$1,IF(OR(AND(ODD($A62)=$A62,ODD(AZ$2)=AZ$2),AND(EVEN($A62)=$A62,EVEN(AZ$2)=AZ$2)),AZ$1,-100))","v":928.125},{"$f":"IF('Ceiling Speaker Calculator'!$C$29=\"Square\",BA$1,IF(OR(AND(ODD($A62)=$A62,ODD(BA$2)=BA$2),AND(EVEN($A62)=$A62,EVEN(BA$2)=BA$2)),BA$1,-100))","v":946.875},{"$f":"IF('Ceiling Speaker Calculator'!$C$29=\"Square\",BB$1,IF(OR(AND(ODD($A62)=$A62,ODD(BB$2)=BB$2),AND(EVEN($A62)=$A62,EVEN(BB$2)=BB$2)),BB$1,-100))","v":965.625},{"$f":"IF('Ceiling Speaker Calculator'!$C$29=\"Square\",BC$1,IF(OR(AND(ODD($A62)=$A62,ODD(BC$2)=BC$2),AND(EVEN($A62)=$A62,EVEN(BC$2)=BC$2)),BC$1,-100))","v":984.375},{"$f":"IF('Ceiling Speaker Calculator'!$C$29=\"Square\",BD$1,IF(OR(AND(ODD($A62)=$A62,ODD(BD$2)=BD$2),AND(EVEN($A62)=$A62,EVEN(BD$2)=BD$2)),BD$1,-100))","v":1003.125},{"$f":"IF('Ceiling Speaker Calculator'!$C$29=\"Square\",BE$1,IF(OR(AND(ODD($A62)=$A62,ODD(BE$2)=BE$2),AND(EVEN($A62)=$A62,EVEN(BE$2)=BE$2)),BE$1,-100))","v":1021.875},{"$f":"IF('Ceiling Speaker Calculator'!$C$29=\"Square\",BF$1,IF(OR(AND(ODD($A62)=$A62,ODD(BF$2)=BF$2),AND(EVEN($A62)=$A62,EVEN(BF$2)=BF$2)),BF$1,-100))","v":1040.625},{"$f":"IF('Ceiling Speaker Calculator'!$C$29=\"Square\",BG$1,IF(OR(AND(ODD($A62)=$A62,ODD(BG$2)=BG$2),AND(EVEN($A62)=$A62,EVEN(BG$2)=BG$2)),BG$1,-100))","v":1059.375},{"$f":"IF('Ceiling Speaker Calculator'!$C$29=\"Square\",BH$1,IF(OR(AND(ODD($A62)=$A62,ODD(BH$2)=BH$2),AND(EVEN($A62)=$A62,EVEN(BH$2)=BH$2)),BH$1,-100))","v":1078.125},{"$f":"IF('Ceiling Speaker Calculator'!$C$29=\"Square\",BI$1,IF(OR(AND(ODD($A62)=$A62,ODD(BI$2)=BI$2),AND(EVEN($A62)=$A62,EVEN(BI$2)=BI$2)),BI$1,-100))","v":1096.875},{"$f":"IF('Ceiling Speaker Calculator'!$C$29=\"Square\",BJ$1,IF(OR(AND(ODD($A62)=$A62,ODD(BJ$2)=BJ$2),AND(EVEN($A62)=$A62,EVEN(BJ$2)=BJ$2)),BJ$1,-100))","v":1115.625},{"$f":"IF('Ceiling Speaker Calculator'!$C$29=\"Square\",BK$1,IF(OR(AND(ODD($A62)=$A62,ODD(BK$2)=BK$2),AND(EVEN($A62)=$A62,EVEN(BK$2)=BK$2)),BK$1,-100))","v":1134.375},{"$f":"IF('Ceiling Speaker Calculator'!$C$29=\"Square\",BL$1,IF(OR(AND(ODD($A62)=$A62,ODD(BL$2)=BL$2),AND(EVEN($A62)=$A62,EVEN(BL$2)=BL$2)),BL$1,-100))","v":1153.125},{"$f":"IF('Ceiling Speaker Calculator'!$C$29=\"Square\",BM$1,IF(OR(AND(ODD($A62)=$A62,ODD(BM$2)=BM$2),AND(EVEN($A62)=$A62,EVEN(BM$2)=BM$2)),BM$1,-100))","v":1171.875},{"$f":"IF('Ceiling Speaker Calculator'!$C$29=\"Square\",BN$1,IF(OR(AND(ODD($A62)=$A62,ODD(BN$2)=BN$2),AND(EVEN($A62)=$A62,EVEN(BN$2)=BN$2)),BN$1,-100))","v":1190.625},{"$f":"IF('Ceiling Speaker Calculator'!$C$29=\"Square\",BO$1,IF(OR(AND(ODD($A62)=$A62,ODD(BO$2)=BO$2),AND(EVEN($A62)=$A62,EVEN(BO$2)=BO$2)),BO$1,-100))","v":1209.375},{"$f":"IF('Ceiling Speaker Calculator'!$C$29=\"Square\",BP$1,IF(OR(AND(ODD($A62)=$A62,ODD(BP$2)=BP$2),AND(EVEN($A62)=$A62,EVEN(BP$2)=BP$2)),BP$1,-100))","v":1228.125},{"$f":"IF('Ceiling Speaker Calculator'!$C$29=\"Square\",BQ$1,IF(OR(AND(ODD($A62)=$A62,ODD(BQ$2)=BQ$2),AND(EVEN($A62)=$A62,EVEN(BQ$2)=BQ$2)),BQ$1,-100))","v":1246.875},{"$f":"IF('Ceiling Speaker Calculator'!$C$29=\"Square\",BR$1,IF(OR(AND(ODD($A62)=$A62,ODD(BR$2)=BR$2),AND(EVEN($A62)=$A62,EVEN(BR$2)=BR$2)),BR$1,-100))","v":1265.625},{"$f":"IF('Ceiling Speaker Calculator'!$C$29=\"Square\",BS$1,IF(OR(AND(ODD($A62)=$A62,ODD(BS$2)=BS$2),AND(EVEN($A62)=$A62,EVEN(BS$2)=BS$2)),BS$1,-100))","v":1284.375},{"$f":"IF('Ceiling Speaker Calculator'!$C$29=\"Square\",BT$1,IF(OR(AND(ODD($A62)=$A62,ODD(BT$2)=BT$2),AND(EVEN($A62)=$A62,EVEN(BT$2)=BT$2)),BT$1,-100))","v":1303.125},{"$f":"IF('Ceiling Speaker Calculator'!$C$29=\"Square\",BU$1,IF(OR(AND(ODD($A62)=$A62,ODD(BU$2)=BU$2),AND(EVEN($A62)=$A62,EVEN(BU$2)=BU$2)),BU$1,-100))","v":1321.875},{"$f":"IF('Ceiling Speaker Calculator'!$C$29=\"Square\",BV$1,IF(OR(AND(ODD($A62)=$A62,ODD(BV$2)=BV$2),AND(EVEN($A62)=$A62,EVEN(BV$2)=BV$2)),BV$1,-100))","v":1340.625},{"$f":"IF('Ceiling Speaker Calculator'!$C$29=\"Square\",BW$1,IF(OR(AND(ODD($A62)=$A62,ODD(BW$2)=BW$2),AND(EVEN($A62)=$A62,EVEN(BW$2)=BW$2)),BW$1,-100))","v":1359.375},{"$f":"IF('Ceiling Speaker Calculator'!$C$29=\"Square\",BX$1,IF(OR(AND(ODD($A62)=$A62,ODD(BX$2)=BX$2),AND(EVEN($A62)=$A62,EVEN(BX$2)=BX$2)),BX$1,-100))","v":1378.125},{"$f":"IF('Ceiling Speaker Calculator'!$C$29=\"Square\",BY$1,IF(OR(AND(ODD($A62)=$A62,ODD(BY$2)=BY$2),AND(EVEN($A62)=$A62,EVEN(BY$2)=BY$2)),BY$1,-100))","v":1396.875},{"$f":"IF('Ceiling Speaker Calculator'!$C$29=\"Square\",BZ$1,IF(OR(AND(ODD($A62)=$A62,ODD(BZ$2)=BZ$2),AND(EVEN($A62)=$A62,EVEN(BZ$2)=BZ$2)),BZ$1,-100))","v":1415.625},{"$f":"IF('Ceiling Speaker Calculator'!$C$29=\"Square\",CA$1,IF(OR(AND(ODD($A62)=$A62,ODD(CA$2)=CA$2),AND(EVEN($A62)=$A62,EVEN(CA$2)=CA$2)),CA$1,-100))","v":1434.375},{"$f":"IF('Ceiling Speaker Calculator'!$C$29=\"Square\",CB$1,IF(OR(AND(ODD($A62)=$A62,ODD(CB$2)=CB$2),AND(EVEN($A62)=$A62,EVEN(CB$2)=CB$2)),CB$1,-100))","v":1453.125},{"$f":"IF('Ceiling Speaker Calculator'!$C$29=\"Square\",CC$1,IF(OR(AND(ODD($A62)=$A62,ODD(CC$2)=CC$2),AND(EVEN($A62)=$A62,EVEN(CC$2)=CC$2)),CC$1,-100))","v":1471.875},{"$f":"IF('Ceiling Speaker Calculator'!$C$29=\"Square\",CD$1,IF(OR(AND(ODD($A62)=$A62,ODD(CD$2)=CD$2),AND(EVEN($A62)=$A62,EVEN(CD$2)=CD$2)),CD$1,-100))","v":1490.625},{"$f":"IF('Ceiling Speaker Calculator'!$C$29=\"Square\",CE$1,IF(OR(AND(ODD($A62)=$A62,ODD(CE$2)=CE$2),AND(EVEN($A62)=$A62,EVEN(CE$2)=CE$2)),CE$1,-100))","v":1509.375},{"$f":"IF('Ceiling Speaker Calculator'!$C$29=\"Square\",CF$1,IF(OR(AND(ODD($A62)=$A62,ODD(CF$2)=CF$2),AND(EVEN($A62)=$A62,EVEN(CF$2)=CF$2)),CF$1,-100))","v":1528.125},{"$f":"IF('Ceiling Speaker Calculator'!$C$29=\"Square\",CG$1,IF(OR(AND(ODD($A62)=$A62,ODD(CG$2)=CG$2),AND(EVEN($A62)=$A62,EVEN(CG$2)=CG$2)),CG$1,-100))","v":1546.875},{"$f":"IF('Ceiling Speaker Calculator'!$C$29=\"Square\",CH$1,IF(OR(AND(ODD($A62)=$A62,ODD(CH$2)=CH$2),AND(EVEN($A62)=$A62,EVEN(CH$2)=CH$2)),CH$1,-100))","v":1565.625},{"$f":"IF('Ceiling Speaker Calculator'!$C$29=\"Square\",CI$1,IF(OR(AND(ODD($A62)=$A62,ODD(CI$2)=CI$2),AND(EVEN($A62)=$A62,EVEN(CI$2)=CI$2)),CI$1,-100))","v":1584.375},{"$f":"IF('Ceiling Speaker Calculator'!$C$29=\"Square\",CJ$1,IF(OR(AND(ODD($A62)=$A62,ODD(CJ$2)=CJ$2),AND(EVEN($A62)=$A62,EVEN(CJ$2)=CJ$2)),CJ$1,-100))","v":1603.125},{"$f":"IF('Ceiling Speaker Calculator'!$C$29=\"Square\",CK$1,IF(OR(AND(ODD($A62)=$A62,ODD(CK$2)=CK$2),AND(EVEN($A62)=$A62,EVEN(CK$2)=CK$2)),CK$1,-100))","v":1621.875},{"$f":"IF('Ceiling Speaker Calculator'!$C$29=\"Square\",CL$1,IF(OR(AND(ODD($A62)=$A62,ODD(CL$2)=CL$2),AND(EVEN($A62)=$A62,EVEN(CL$2)=CL$2)),CL$1,-100))","v":1640.625},{"$f":"IF('Ceiling Speaker Calculator'!$C$29=\"Square\",CM$1,IF(OR(AND(ODD($A62)=$A62,ODD(CM$2)=CM$2),AND(EVEN($A62)=$A62,EVEN(CM$2)=CM$2)),CM$1,-100))","v":1659.375},{"$f":"IF('Ceiling Speaker Calculator'!$C$29=\"Square\",CN$1,IF(OR(AND(ODD($A62)=$A62,ODD(CN$2)=CN$2),AND(EVEN($A62)=$A62,EVEN(CN$2)=CN$2)),CN$1,-100))","v":1678.125},{"$f":"IF('Ceiling Speaker Calculator'!$C$29=\"Square\",CO$1,IF(OR(AND(ODD($A62)=$A62,ODD(CO$2)=CO$2),AND(EVEN($A62)=$A62,EVEN(CO$2)=CO$2)),CO$1,-100))","v":1696.875},{"$f":"IF('Ceiling Speaker Calculator'!$C$29=\"Square\",CP$1,IF(OR(AND(ODD($A62)=$A62,ODD(CP$2)=CP$2),AND(EVEN($A62)=$A62,EVEN(CP$2)=CP$2)),CP$1,-100))","v":1715.625},{"$f":"IF('Ceiling Speaker Calculator'!$C$29=\"Square\",CQ$1,IF(OR(AND(ODD($A62)=$A62,ODD(CQ$2)=CQ$2),AND(EVEN($A62)=$A62,EVEN(CQ$2)=CQ$2)),CQ$1,-100))","v":1734.375},{"$f":"IF('Ceiling Speaker Calculator'!$C$29=\"Square\",CR$1,IF(OR(AND(ODD($A62)=$A62,ODD(CR$2)=CR$2),AND(EVEN($A62)=$A62,EVEN(CR$2)=CR$2)),CR$1,-100))","v":1753.125},{"$f":"IF('Ceiling Speaker Calculator'!$C$29=\"Square\",CS$1,IF(OR(AND(ODD($A62)=$A62,ODD(CS$2)=CS$2),AND(EVEN($A62)=$A62,EVEN(CS$2)=CS$2)),CS$1,-100))","v":1771.875},{"$f":"IF('Ceiling Speaker Calculator'!$C$29=\"Square\",CT$1,IF(OR(AND(ODD($A62)=$A62,ODD(CT$2)=CT$2),AND(EVEN($A62)=$A62,EVEN(CT$2)=CT$2)),CT$1,-100))","v":1790.625},{"$f":"IF('Ceiling Speaker Calculator'!$C$29=\"Square\",CU$1,IF(OR(AND(ODD($A62)=$A62,ODD(CU$2)=CU$2),AND(EVEN($A62)=$A62,EVEN(CU$2)=CU$2)),CU$1,-100))","v":1809.375},{"$f":"IF('Ceiling Speaker Calculator'!$C$29=\"Square\",CV$1,IF(OR(AND(ODD($A62)=$A62,ODD(CV$2)=CV$2),AND(EVEN($A62)=$A62,EVEN(CV$2)=CV$2)),CV$1,-100))","v":1828.125},{"$f":"IF('Ceiling Speaker Calculator'!$C$29=\"Square\",CW$1,IF(OR(AND(ODD($A62)=$A62,ODD(CW$2)=CW$2),AND(EVEN($A62)=$A62,EVEN(CW$2)=CW$2)),CW$1,-100))","v":1846.875},{"$f":"IF('Ceiling Speaker Calculator'!$C$29=\"Square\",CX$1,IF(OR(AND(ODD($A62)=$A62,ODD(CX$2)=CX$2),AND(EVEN($A62)=$A62,EVEN(CX$2)=CX$2)),CX$1,-100))","v":1865.625}]
[61,{"$f":"B62+'Ceiling Speaker Calculator'!$K$16","v":1210},{"$f":"IF('Ceiling Speaker Calculator'!$C$29=\"Square\",C$1,IF(OR(AND(ODD($A63)=$A63,ODD(C$2)=C$2),AND(EVEN($A63)=$A63,EVEN(C$2)=C$2)),C$1,-100))","v":9.375},{"$f":"IF('Ceiling Speaker Calculator'!$C$29=\"Square\",D$1,IF(OR(AND(ODD($A63)=$A63,ODD(D$2)=D$2),AND(EVEN($A63)=$A63,EVEN(D$2)=D$2)),D$1,-100))","v":28.125},{"$f":"IF('Ceiling Speaker Calculator'!$C$29=\"Square\",E$1,IF(OR(AND(ODD($A63)=$A63,ODD(E$2)=E$2),AND(EVEN($A63)=$A63,EVEN(E$2)=E$2)),E$1,-100))","v":46.875},{"$f":"IF('Ceiling Speaker Calculator'!$C$29=\"Square\",F$1,IF(OR(AND(ODD($A63)=$A63,ODD(F$2)=F$2),AND(EVEN($A63)=$A63,EVEN(F$2)=F$2)),F$1,-100))","v":65.625},{"$f":"IF('Ceiling Speaker Calculator'!$C$29=\"Square\",G$1,IF(OR(AND(ODD($A63)=$A63,ODD(G$2)=G$2),AND(EVEN($A63)=$A63,EVEN(G$2)=G$2)),G$1,-100))","v":84.375},{"$f":"IF('Ceiling Speaker Calculator'!$C$29=\"Square\",H$1,IF(OR(AND(ODD($A63)=$A63,ODD(H$2)=H$2),AND(EVEN($A63)=$A63,EVEN(H$2)=H$2)),H$1,-100))","v":103.125},{"$f":"IF('Ceiling Speaker Calculator'!$C$29=\"Square\",I$1,IF(OR(AND(ODD($A63)=$A63,ODD(I$2)=I$2),AND(EVEN($A63)=$A63,EVEN(I$2)=I$2)),I$1,-100))","v":121.875},{"$f":"IF('Ceiling Speaker Calculator'!$C$29=\"Square\",J$1,IF(OR(AND(ODD($A63)=$A63,ODD(J$2)=J$2),AND(EVEN($A63)=$A63,EVEN(J$2)=J$2)),J$1,-100))","v":140.625},{"$f":"IF('Ceiling Speaker Calculator'!$C$29=\"Square\",K$1,IF(OR(AND(ODD($A63)=$A63,ODD(K$2)=K$2),AND(EVEN($A63)=$A63,EVEN(K$2)=K$2)),K$1,-100))","v":159.375},{"$f":"IF('Ceiling Speaker Calculator'!$C$29=\"Square\",L$1,IF(OR(AND(ODD($A63)=$A63,ODD(L$2)=L$2),AND(EVEN($A63)=$A63,EVEN(L$2)=L$2)),L$1,-100))","v":178.125},{"$f":"IF('Ceiling Speaker Calculator'!$C$29=\"Square\",M$1,IF(OR(AND(ODD($A63)=$A63,ODD(M$2)=M$2),AND(EVEN($A63)=$A63,EVEN(M$2)=M$2)),M$1,-100))","v":196.875},{"$f":"IF('Ceiling Speaker Calculator'!$C$29=\"Square\",N$1,IF(OR(AND(ODD($A63)=$A63,ODD(N$2)=N$2),AND(EVEN($A63)=$A63,EVEN(N$2)=N$2)),N$1,-100))","v":215.625},{"$f":"IF('Ceiling Speaker Calculator'!$C$29=\"Square\",O$1,IF(OR(AND(ODD($A63)=$A63,ODD(O$2)=O$2),AND(EVEN($A63)=$A63,EVEN(O$2)=O$2)),O$1,-100))","v":234.375},{"$f":"IF('Ceiling Speaker Calculator'!$C$29=\"Square\",P$1,IF(OR(AND(ODD($A63)=$A63,ODD(P$2)=P$2),AND(EVEN($A63)=$A63,EVEN(P$2)=P$2)),P$1,-100))","v":253.125},{"$f":"IF('Ceiling Speaker Calculator'!$C$29=\"Square\",Q$1,IF(OR(AND(ODD($A63)=$A63,ODD(Q$2)=Q$2),AND(EVEN($A63)=$A63,EVEN(Q$2)=Q$2)),Q$1,-100))","v":271.875},{"$f":"IF('Ceiling Speaker Calculator'!$C$29=\"Square\",R$1,IF(OR(AND(ODD($A63)=$A63,ODD(R$2)=R$2),AND(EVEN($A63)=$A63,EVEN(R$2)=R$2)),R$1,-100))","v":290.625},{"$f":"IF('Ceiling Speaker Calculator'!$C$29=\"Square\",S$1,IF(OR(AND(ODD($A63)=$A63,ODD(S$2)=S$2),AND(EVEN($A63)=$A63,EVEN(S$2)=S$2)),S$1,-100))","v":309.375},{"$f":"IF('Ceiling Speaker Calculator'!$C$29=\"Square\",T$1,IF(OR(AND(ODD($A63)=$A63,ODD(T$2)=T$2),AND(EVEN($A63)=$A63,EVEN(T$2)=T$2)),T$1,-100))","v":328.125},{"$f":"IF('Ceiling Speaker Calculator'!$C$29=\"Square\",U$1,IF(OR(AND(ODD($A63)=$A63,ODD(U$2)=U$2),AND(EVEN($A63)=$A63,EVEN(U$2)=U$2)),U$1,-100))","v":346.875},{"$f":"IF('Ceiling Speaker Calculator'!$C$29=\"Square\",V$1,IF(OR(AND(ODD($A63)=$A63,ODD(V$2)=V$2),AND(EVEN($A63)=$A63,EVEN(V$2)=V$2)),V$1,-100))","v":365.625},{"$f":"IF('Ceiling Speaker Calculator'!$C$29=\"Square\",W$1,IF(OR(AND(ODD($A63)=$A63,ODD(W$2)=W$2),AND(EVEN($A63)=$A63,EVEN(W$2)=W$2)),W$1,-100))","v":384.375},{"$f":"IF('Ceiling Speaker Calculator'!$C$29=\"Square\",X$1,IF(OR(AND(ODD($A63)=$A63,ODD(X$2)=X$2),AND(EVEN($A63)=$A63,EVEN(X$2)=X$2)),X$1,-100))","v":403.125},{"$f":"IF('Ceiling Speaker Calculator'!$C$29=\"Square\",Y$1,IF(OR(AND(ODD($A63)=$A63,ODD(Y$2)=Y$2),AND(EVEN($A63)=$A63,EVEN(Y$2)=Y$2)),Y$1,-100))","v":421.875},{"$f":"IF('Ceiling Speaker Calculator'!$C$29=\"Square\",Z$1,IF(OR(AND(ODD($A63)=$A63,ODD(Z$2)=Z$2),AND(EVEN($A63)=$A63,EVEN(Z$2)=Z$2)),Z$1,-100))","v":440.625},{"$f":"IF('Ceiling Speaker Calculator'!$C$29=\"Square\",AA$1,IF(OR(AND(ODD($A63)=$A63,ODD(AA$2)=AA$2),AND(EVEN($A63)=$A63,EVEN(AA$2)=AA$2)),AA$1,-100))","v":459.375},{"$f":"IF('Ceiling Speaker Calculator'!$C$29=\"Square\",AB$1,IF(OR(AND(ODD($A63)=$A63,ODD(AB$2)=AB$2),AND(EVEN($A63)=$A63,EVEN(AB$2)=AB$2)),AB$1,-100))","v":478.125},{"$f":"IF('Ceiling Speaker Calculator'!$C$29=\"Square\",AC$1,IF(OR(AND(ODD($A63)=$A63,ODD(AC$2)=AC$2),AND(EVEN($A63)=$A63,EVEN(AC$2)=AC$2)),AC$1,-100))","v":496.875},{"$f":"IF('Ceiling Speaker Calculator'!$C$29=\"Square\",AD$1,IF(OR(AND(ODD($A63)=$A63,ODD(AD$2)=AD$2),AND(EVEN($A63)=$A63,EVEN(AD$2)=AD$2)),AD$1,-100))","v":515.625},{"$f":"IF('Ceiling Speaker Calculator'!$C$29=\"Square\",AE$1,IF(OR(AND(ODD($A63)=$A63,ODD(AE$2)=AE$2),AND(EVEN($A63)=$A63,EVEN(AE$2)=AE$2)),AE$1,-100))","v":534.375},{"$f":"IF('Ceiling Speaker Calculator'!$C$29=\"Square\",AF$1,IF(OR(AND(ODD($A63)=$A63,ODD(AF$2)=AF$2),AND(EVEN($A63)=$A63,EVEN(AF$2)=AF$2)),AF$1,-100))","v":553.125},{"$f":"IF('Ceiling Speaker Calculator'!$C$29=\"Square\",AG$1,IF(OR(AND(ODD($A63)=$A63,ODD(AG$2)=AG$2),AND(EVEN($A63)=$A63,EVEN(AG$2)=AG$2)),AG$1,-100))","v":571.875},{"$f":"IF('Ceiling Speaker Calculator'!$C$29=\"Square\",AH$1,IF(OR(AND(ODD($A63)=$A63,ODD(AH$2)=AH$2),AND(EVEN($A63)=$A63,EVEN(AH$2)=AH$2)),AH$1,-100))","v":590.625},{"$f":"IF('Ceiling Speaker Calculator'!$C$29=\"Square\",AI$1,IF(OR(AND(ODD($A63)=$A63,ODD(AI$2)=AI$2),AND(EVEN($A63)=$A63,EVEN(AI$2)=AI$2)),AI$1,-100))","v":609.375},{"$f":"IF('Ceiling Speaker Calculator'!$C$29=\"Square\",AJ$1,IF(OR(AND(ODD($A63)=$A63,ODD(AJ$2)=AJ$2),AND(EVEN($A63)=$A63,EVEN(AJ$2)=AJ$2)),AJ$1,-100))","v":628.125},{"$f":"IF('Ceiling Speaker Calculator'!$C$29=\"Square\",AK$1,IF(OR(AND(ODD($A63)=$A63,ODD(AK$2)=AK$2),AND(EVEN($A63)=$A63,EVEN(AK$2)=AK$2)),AK$1,-100))","v":646.875},{"$f":"IF('Ceiling Speaker Calculator'!$C$29=\"Square\",AL$1,IF(OR(AND(ODD($A63)=$A63,ODD(AL$2)=AL$2),AND(EVEN($A63)=$A63,EVEN(AL$2)=AL$2)),AL$1,-100))","v":665.625},{"$f":"IF('Ceiling Speaker Calculator'!$C$29=\"Square\",AM$1,IF(OR(AND(ODD($A63)=$A63,ODD(AM$2)=AM$2),AND(EVEN($A63)=$A63,EVEN(AM$2)=AM$2)),AM$1,-100))","v":684.375},{"$f":"IF('Ceiling Speaker Calculator'!$C$29=\"Square\",AN$1,IF(OR(AND(ODD($A63)=$A63,ODD(AN$2)=AN$2),AND(EVEN($A63)=$A63,EVEN(AN$2)=AN$2)),AN$1,-100))","v":703.125},{"$f":"IF('Ceiling Speaker Calculator'!$C$29=\"Square\",AO$1,IF(OR(AND(ODD($A63)=$A63,ODD(AO$2)=AO$2),AND(EVEN($A63)=$A63,EVEN(AO$2)=AO$2)),AO$1,-100))","v":721.875},{"$f":"IF('Ceiling Speaker Calculator'!$C$29=\"Square\",AP$1,IF(OR(AND(ODD($A63)=$A63,ODD(AP$2)=AP$2),AND(EVEN($A63)=$A63,EVEN(AP$2)=AP$2)),AP$1,-100))","v":740.625},{"$f":"IF('Ceiling Speaker Calculator'!$C$29=\"Square\",AQ$1,IF(OR(AND(ODD($A63)=$A63,ODD(AQ$2)=AQ$2),AND(EVEN($A63)=$A63,EVEN(AQ$2)=AQ$2)),AQ$1,-100))","v":759.375},{"$f":"IF('Ceiling Speaker Calculator'!$C$29=\"Square\",AR$1,IF(OR(AND(ODD($A63)=$A63,ODD(AR$2)=AR$2),AND(EVEN($A63)=$A63,EVEN(AR$2)=AR$2)),AR$1,-100))","v":778.125},{"$f":"IF('Ceiling Speaker Calculator'!$C$29=\"Square\",AS$1,IF(OR(AND(ODD($A63)=$A63,ODD(AS$2)=AS$2),AND(EVEN($A63)=$A63,EVEN(AS$2)=AS$2)),AS$1,-100))","v":796.875},{"$f":"IF('Ceiling Speaker Calculator'!$C$29=\"Square\",AT$1,IF(OR(AND(ODD($A63)=$A63,ODD(AT$2)=AT$2),AND(EVEN($A63)=$A63,EVEN(AT$2)=AT$2)),AT$1,-100))","v":815.625},{"$f":"IF('Ceiling Speaker Calculator'!$C$29=\"Square\",AU$1,IF(OR(AND(ODD($A63)=$A63,ODD(AU$2)=AU$2),AND(EVEN($A63)=$A63,EVEN(AU$2)=AU$2)),AU$1,-100))","v":834.375},{"$f":"IF('Ceiling Speaker Calculator'!$C$29=\"Square\",AV$1,IF(OR(AND(ODD($A63)=$A63,ODD(AV$2)=AV$2),AND(EVEN($A63)=$A63,EVEN(AV$2)=AV$2)),AV$1,-100))","v":853.125},{"$f":"IF('Ceiling Speaker Calculator'!$C$29=\"Square\",AW$1,IF(OR(AND(ODD($A63)=$A63,ODD(AW$2)=AW$2),AND(EVEN($A63)=$A63,EVEN(AW$2)=AW$2)),AW$1,-100))","v":871.875},{"$f":"IF('Ceiling Speaker Calculator'!$C$29=\"Square\",AX$1,IF(OR(AND(ODD($A63)=$A63,ODD(AX$2)=AX$2),AND(EVEN($A63)=$A63,EVEN(AX$2)=AX$2)),AX$1,-100))","v":890.625},{"$f":"IF('Ceiling Speaker Calculator'!$C$29=\"Square\",AY$1,IF(OR(AND(ODD($A63)=$A63,ODD(AY$2)=AY$2),AND(EVEN($A63)=$A63,EVEN(AY$2)=AY$2)),AY$1,-100))","v":909.375},{"$f":"IF('Ceiling Speaker Calculator'!$C$29=\"Square\",AZ$1,IF(OR(AND(ODD($A63)=$A63,ODD(AZ$2)=AZ$2),AND(EVEN($A63)=$A63,EVEN(AZ$2)=AZ$2)),AZ$1,-100))","v":928.125},{"$f":"IF('Ceiling Speaker Calculator'!$C$29=\"Square\",BA$1,IF(OR(AND(ODD($A63)=$A63,ODD(BA$2)=BA$2),AND(EVEN($A63)=$A63,EVEN(BA$2)=BA$2)),BA$1,-100))","v":946.875},{"$f":"IF('Ceiling Speaker Calculator'!$C$29=\"Square\",BB$1,IF(OR(AND(ODD($A63)=$A63,ODD(BB$2)=BB$2),AND(EVEN($A63)=$A63,EVEN(BB$2)=BB$2)),BB$1,-100))","v":965.625},{"$f":"IF('Ceiling Speaker Calculator'!$C$29=\"Square\",BC$1,IF(OR(AND(ODD($A63)=$A63,ODD(BC$2)=BC$2),AND(EVEN($A63)=$A63,EVEN(BC$2)=BC$2)),BC$1,-100))","v":984.375},{"$f":"IF('Ceiling Speaker Calculator'!$C$29=\"Square\",BD$1,IF(OR(AND(ODD($A63)=$A63,ODD(BD$2)=BD$2),AND(EVEN($A63)=$A63,EVEN(BD$2)=BD$2)),BD$1,-100))","v":1003.125},{"$f":"IF('Ceiling Speaker Calculator'!$C$29=\"Square\",BE$1,IF(OR(AND(ODD($A63)=$A63,ODD(BE$2)=BE$2),AND(EVEN($A63)=$A63,EVEN(BE$2)=BE$2)),BE$1,-100))","v":1021.875},{"$f":"IF('Ceiling Speaker Calculator'!$C$29=\"Square\",BF$1,IF(OR(AND(ODD($A63)=$A63,ODD(BF$2)=BF$2),AND(EVEN($A63)=$A63,EVEN(BF$2)=BF$2)),BF$1,-100))","v":1040.625},{"$f":"IF('Ceiling Speaker Calculator'!$C$29=\"Square\",BG$1,IF(OR(AND(ODD($A63)=$A63,ODD(BG$2)=BG$2),AND(EVEN($A63)=$A63,EVEN(BG$2)=BG$2)),BG$1,-100))","v":1059.375},{"$f":"IF('Ceiling Speaker Calculator'!$C$29=\"Square\",BH$1,IF(OR(AND(ODD($A63)=$A63,ODD(BH$2)=BH$2),AND(EVEN($A63)=$A63,EVEN(BH$2)=BH$2)),BH$1,-100))","v":1078.125},{"$f":"IF('Ceiling Speaker Calculator'!$C$29=\"Square\",BI$1,IF(OR(AND(ODD($A63)=$A63,ODD(BI$2)=BI$2),AND(EVEN($A63)=$A63,EVEN(BI$2)=BI$2)),BI$1,-100))","v":1096.875},{"$f":"IF('Ceiling Speaker Calculator'!$C$29=\"Square\",BJ$1,IF(OR(AND(ODD($A63)=$A63,ODD(BJ$2)=BJ$2),AND(EVEN($A63)=$A63,EVEN(BJ$2)=BJ$2)),BJ$1,-100))","v":1115.625},{"$f":"IF('Ceiling Speaker Calculator'!$C$29=\"Square\",BK$1,IF(OR(AND(ODD($A63)=$A63,ODD(BK$2)=BK$2),AND(EVEN($A63)=$A63,EVEN(BK$2)=BK$2)),BK$1,-100))","v":1134.375},{"$f":"IF('Ceiling Speaker Calculator'!$C$29=\"Square\",BL$1,IF(OR(AND(ODD($A63)=$A63,ODD(BL$2)=BL$2),AND(EVEN($A63)=$A63,EVEN(BL$2)=BL$2)),BL$1,-100))","v":1153.125},{"$f":"IF('Ceiling Speaker Calculator'!$C$29=\"Square\",BM$1,IF(OR(AND(ODD($A63)=$A63,ODD(BM$2)=BM$2),AND(EVEN($A63)=$A63,EVEN(BM$2)=BM$2)),BM$1,-100))","v":1171.875},{"$f":"IF('Ceiling Speaker Calculator'!$C$29=\"Square\",BN$1,IF(OR(AND(ODD($A63)=$A63,ODD(BN$2)=BN$2),AND(EVEN($A63)=$A63,EVEN(BN$2)=BN$2)),BN$1,-100))","v":1190.625},{"$f":"IF('Ceiling Speaker Calculator'!$C$29=\"Square\",BO$1,IF(OR(AND(ODD($A63)=$A63,ODD(BO$2)=BO$2),AND(EVEN($A63)=$A63,EVEN(BO$2)=BO$2)),BO$1,-100))","v":1209.375},{"$f":"IF('Ceiling Speaker Calculator'!$C$29=\"Square\",BP$1,IF(OR(AND(ODD($A63)=$A63,ODD(BP$2)=BP$2),AND(EVEN($A63)=$A63,EVEN(BP$2)=BP$2)),BP$1,-100))","v":1228.125},{"$f":"IF('Ceiling Speaker Calculator'!$C$29=\"Square\",BQ$1,IF(OR(AND(ODD($A63)=$A63,ODD(BQ$2)=BQ$2),AND(EVEN($A63)=$A63,EVEN(BQ$2)=BQ$2)),BQ$1,-100))","v":1246.875},{"$f":"IF('Ceiling Speaker Calculator'!$C$29=\"Square\",BR$1,IF(OR(AND(ODD($A63)=$A63,ODD(BR$2)=BR$2),AND(EVEN($A63)=$A63,EVEN(BR$2)=BR$2)),BR$1,-100))","v":1265.625},{"$f":"IF('Ceiling Speaker Calculator'!$C$29=\"Square\",BS$1,IF(OR(AND(ODD($A63)=$A63,ODD(BS$2)=BS$2),AND(EVEN($A63)=$A63,EVEN(BS$2)=BS$2)),BS$1,-100))","v":1284.375},{"$f":"IF('Ceiling Speaker Calculator'!$C$29=\"Square\",BT$1,IF(OR(AND(ODD($A63)=$A63,ODD(BT$2)=BT$2),AND(EVEN($A63)=$A63,EVEN(BT$2)=BT$2)),BT$1,-100))","v":1303.125},{"$f":"IF('Ceiling Speaker Calculator'!$C$29=\"Square\",BU$1,IF(OR(AND(ODD($A63)=$A63,ODD(BU$2)=BU$2),AND(EVEN($A63)=$A63,EVEN(BU$2)=BU$2)),BU$1,-100))","v":1321.875},{"$f":"IF('Ceiling Speaker Calculator'!$C$29=\"Square\",BV$1,IF(OR(AND(ODD($A63)=$A63,ODD(BV$2)=BV$2),AND(EVEN($A63)=$A63,EVEN(BV$2)=BV$2)),BV$1,-100))","v":1340.625},{"$f":"IF('Ceiling Speaker Calculator'!$C$29=\"Square\",BW$1,IF(OR(AND(ODD($A63)=$A63,ODD(BW$2)=BW$2),AND(EVEN($A63)=$A63,EVEN(BW$2)=BW$2)),BW$1,-100))","v":1359.375},{"$f":"IF('Ceiling Speaker Calculator'!$C$29=\"Square\",BX$1,IF(OR(AND(ODD($A63)=$A63,ODD(BX$2)=BX$2),AND(EVEN($A63)=$A63,EVEN(BX$2)=BX$2)),BX$1,-100))","v":1378.125},{"$f":"IF('Ceiling Speaker Calculator'!$C$29=\"Square\",BY$1,IF(OR(AND(ODD($A63)=$A63,ODD(BY$2)=BY$2),AND(EVEN($A63)=$A63,EVEN(BY$2)=BY$2)),BY$1,-100))","v":1396.875},{"$f":"IF('Ceiling Speaker Calculator'!$C$29=\"Square\",BZ$1,IF(OR(AND(ODD($A63)=$A63,ODD(BZ$2)=BZ$2),AND(EVEN($A63)=$A63,EVEN(BZ$2)=BZ$2)),BZ$1,-100))","v":1415.625},{"$f":"IF('Ceiling Speaker Calculator'!$C$29=\"Square\",CA$1,IF(OR(AND(ODD($A63)=$A63,ODD(CA$2)=CA$2),AND(EVEN($A63)=$A63,EVEN(CA$2)=CA$2)),CA$1,-100))","v":1434.375},{"$f":"IF('Ceiling Speaker Calculator'!$C$29=\"Square\",CB$1,IF(OR(AND(ODD($A63)=$A63,ODD(CB$2)=CB$2),AND(EVEN($A63)=$A63,EVEN(CB$2)=CB$2)),CB$1,-100))","v":1453.125},{"$f":"IF('Ceiling Speaker Calculator'!$C$29=\"Square\",CC$1,IF(OR(AND(ODD($A63)=$A63,ODD(CC$2)=CC$2),AND(EVEN($A63)=$A63,EVEN(CC$2)=CC$2)),CC$1,-100))","v":1471.875},{"$f":"IF('Ceiling Speaker Calculator'!$C$29=\"Square\",CD$1,IF(OR(AND(ODD($A63)=$A63,ODD(CD$2)=CD$2),AND(EVEN($A63)=$A63,EVEN(CD$2)=CD$2)),CD$1,-100))","v":1490.625},{"$f":"IF('Ceiling Speaker Calculator'!$C$29=\"Square\",CE$1,IF(OR(AND(ODD($A63)=$A63,ODD(CE$2)=CE$2),AND(EVEN($A63)=$A63,EVEN(CE$2)=CE$2)),CE$1,-100))","v":1509.375},{"$f":"IF('Ceiling Speaker Calculator'!$C$29=\"Square\",CF$1,IF(OR(AND(ODD($A63)=$A63,ODD(CF$2)=CF$2),AND(EVEN($A63)=$A63,EVEN(CF$2)=CF$2)),CF$1,-100))","v":1528.125},{"$f":"IF('Ceiling Speaker Calculator'!$C$29=\"Square\",CG$1,IF(OR(AND(ODD($A63)=$A63,ODD(CG$2)=CG$2),AND(EVEN($A63)=$A63,EVEN(CG$2)=CG$2)),CG$1,-100))","v":1546.875},{"$f":"IF('Ceiling Speaker Calculator'!$C$29=\"Square\",CH$1,IF(OR(AND(ODD($A63)=$A63,ODD(CH$2)=CH$2),AND(EVEN($A63)=$A63,EVEN(CH$2)=CH$2)),CH$1,-100))","v":1565.625},{"$f":"IF('Ceiling Speaker Calculator'!$C$29=\"Square\",CI$1,IF(OR(AND(ODD($A63)=$A63,ODD(CI$2)=CI$2),AND(EVEN($A63)=$A63,EVEN(CI$2)=CI$2)),CI$1,-100))","v":1584.375},{"$f":"IF('Ceiling Speaker Calculator'!$C$29=\"Square\",CJ$1,IF(OR(AND(ODD($A63)=$A63,ODD(CJ$2)=CJ$2),AND(EVEN($A63)=$A63,EVEN(CJ$2)=CJ$2)),CJ$1,-100))","v":1603.125},{"$f":"IF('Ceiling Speaker Calculator'!$C$29=\"Square\",CK$1,IF(OR(AND(ODD($A63)=$A63,ODD(CK$2)=CK$2),AND(EVEN($A63)=$A63,EVEN(CK$2)=CK$2)),CK$1,-100))","v":1621.875},{"$f":"IF('Ceiling Speaker Calculator'!$C$29=\"Square\",CL$1,IF(OR(AND(ODD($A63)=$A63,ODD(CL$2)=CL$2),AND(EVEN($A63)=$A63,EVEN(CL$2)=CL$2)),CL$1,-100))","v":1640.625},{"$f":"IF('Ceiling Speaker Calculator'!$C$29=\"Square\",CM$1,IF(OR(AND(ODD($A63)=$A63,ODD(CM$2)=CM$2),AND(EVEN($A63)=$A63,EVEN(CM$2)=CM$2)),CM$1,-100))","v":1659.375},{"$f":"IF('Ceiling Speaker Calculator'!$C$29=\"Square\",CN$1,IF(OR(AND(ODD($A63)=$A63,ODD(CN$2)=CN$2),AND(EVEN($A63)=$A63,EVEN(CN$2)=CN$2)),CN$1,-100))","v":1678.125},{"$f":"IF('Ceiling Speaker Calculator'!$C$29=\"Square\",CO$1,IF(OR(AND(ODD($A63)=$A63,ODD(CO$2)=CO$2),AND(EVEN($A63)=$A63,EVEN(CO$2)=CO$2)),CO$1,-100))","v":1696.875},{"$f":"IF('Ceiling Speaker Calculator'!$C$29=\"Square\",CP$1,IF(OR(AND(ODD($A63)=$A63,ODD(CP$2)=CP$2),AND(EVEN($A63)=$A63,EVEN(CP$2)=CP$2)),CP$1,-100))","v":1715.625},{"$f":"IF('Ceiling Speaker Calculator'!$C$29=\"Square\",CQ$1,IF(OR(AND(ODD($A63)=$A63,ODD(CQ$2)=CQ$2),AND(EVEN($A63)=$A63,EVEN(CQ$2)=CQ$2)),CQ$1,-100))","v":1734.375},{"$f":"IF('Ceiling Speaker Calculator'!$C$29=\"Square\",CR$1,IF(OR(AND(ODD($A63)=$A63,ODD(CR$2)=CR$2),AND(EVEN($A63)=$A63,EVEN(CR$2)=CR$2)),CR$1,-100))","v":1753.125},{"$f":"IF('Ceiling Speaker Calculator'!$C$29=\"Square\",CS$1,IF(OR(AND(ODD($A63)=$A63,ODD(CS$2)=CS$2),AND(EVEN($A63)=$A63,EVEN(CS$2)=CS$2)),CS$1,-100))","v":1771.875},{"$f":"IF('Ceiling Speaker Calculator'!$C$29=\"Square\",CT$1,IF(OR(AND(ODD($A63)=$A63,ODD(CT$2)=CT$2),AND(EVEN($A63)=$A63,EVEN(CT$2)=CT$2)),CT$1,-100))","v":1790.625},{"$f":"IF('Ceiling Speaker Calculator'!$C$29=\"Square\",CU$1,IF(OR(AND(ODD($A63)=$A63,ODD(CU$2)=CU$2),AND(EVEN($A63)=$A63,EVEN(CU$2)=CU$2)),CU$1,-100))","v":1809.375},{"$f":"IF('Ceiling Speaker Calculator'!$C$29=\"Square\",CV$1,IF(OR(AND(ODD($A63)=$A63,ODD(CV$2)=CV$2),AND(EVEN($A63)=$A63,EVEN(CV$2)=CV$2)),CV$1,-100))","v":1828.125},{"$f":"IF('Ceiling Speaker Calculator'!$C$29=\"Square\",CW$1,IF(OR(AND(ODD($A63)=$A63,ODD(CW$2)=CW$2),AND(EVEN($A63)=$A63,EVEN(CW$2)=CW$2)),CW$1,-100))","v":1846.875},{"$f":"IF('Ceiling Speaker Calculator'!$C$29=\"Square\",CX$1,IF(OR(AND(ODD($A63)=$A63,ODD(CX$2)=CX$2),AND(EVEN($A63)=$A63,EVEN(CX$2)=CX$2)),CX$1,-100))","v":1865.625}]
[62,{"$f":"B63+'Ceiling Speaker Calculator'!$K$16","v":1230},{"$f":"IF('Ceiling Speaker Calculator'!$C$29=\"Square\",C$1,IF(OR(AND(ODD($A64)=$A64,ODD(C$2)=C$2),AND(EVEN($A64)=$A64,EVEN(C$2)=C$2)),C$1,-100))","v":9.375},{"$f":"IF('Ceiling Speaker Calculator'!$C$29=\"Square\",D$1,IF(OR(AND(ODD($A64)=$A64,ODD(D$2)=D$2),AND(EVEN($A64)=$A64,EVEN(D$2)=D$2)),D$1,-100))","v":28.125},{"$f":"IF('Ceiling Speaker Calculator'!$C$29=\"Square\",E$1,IF(OR(AND(ODD($A64)=$A64,ODD(E$2)=E$2),AND(EVEN($A64)=$A64,EVEN(E$2)=E$2)),E$1,-100))","v":46.875},{"$f":"IF('Ceiling Speaker Calculator'!$C$29=\"Square\",F$1,IF(OR(AND(ODD($A64)=$A64,ODD(F$2)=F$2),AND(EVEN($A64)=$A64,EVEN(F$2)=F$2)),F$1,-100))","v":65.625},{"$f":"IF('Ceiling Speaker Calculator'!$C$29=\"Square\",G$1,IF(OR(AND(ODD($A64)=$A64,ODD(G$2)=G$2),AND(EVEN($A64)=$A64,EVEN(G$2)=G$2)),G$1,-100))","v":84.375},{"$f":"IF('Ceiling Speaker Calculator'!$C$29=\"Square\",H$1,IF(OR(AND(ODD($A64)=$A64,ODD(H$2)=H$2),AND(EVEN($A64)=$A64,EVEN(H$2)=H$2)),H$1,-100))","v":103.125},{"$f":"IF('Ceiling Speaker Calculator'!$C$29=\"Square\",I$1,IF(OR(AND(ODD($A64)=$A64,ODD(I$2)=I$2),AND(EVEN($A64)=$A64,EVEN(I$2)=I$2)),I$1,-100))","v":121.875},{"$f":"IF('Ceiling Speaker Calculator'!$C$29=\"Square\",J$1,IF(OR(AND(ODD($A64)=$A64,ODD(J$2)=J$2),AND(EVEN($A64)=$A64,EVEN(J$2)=J$2)),J$1,-100))","v":140.625},{"$f":"IF('Ceiling Speaker Calculator'!$C$29=\"Square\",K$1,IF(OR(AND(ODD($A64)=$A64,ODD(K$2)=K$2),AND(EVEN($A64)=$A64,EVEN(K$2)=K$2)),K$1,-100))","v":159.375},{"$f":"IF('Ceiling Speaker Calculator'!$C$29=\"Square\",L$1,IF(OR(AND(ODD($A64)=$A64,ODD(L$2)=L$2),AND(EVEN($A64)=$A64,EVEN(L$2)=L$2)),L$1,-100))","v":178.125},{"$f":"IF('Ceiling Speaker Calculator'!$C$29=\"Square\",M$1,IF(OR(AND(ODD($A64)=$A64,ODD(M$2)=M$2),AND(EVEN($A64)=$A64,EVEN(M$2)=M$2)),M$1,-100))","v":196.875},{"$f":"IF('Ceiling Speaker Calculator'!$C$29=\"Square\",N$1,IF(OR(AND(ODD($A64)=$A64,ODD(N$2)=N$2),AND(EVEN($A64)=$A64,EVEN(N$2)=N$2)),N$1,-100))","v":215.625},{"$f":"IF('Ceiling Speaker Calculator'!$C$29=\"Square\",O$1,IF(OR(AND(ODD($A64)=$A64,ODD(O$2)=O$2),AND(EVEN($A64)=$A64,EVEN(O$2)=O$2)),O$1,-100))","v":234.375},{"$f":"IF('Ceiling Speaker Calculator'!$C$29=\"Square\",P$1,IF(OR(AND(ODD($A64)=$A64,ODD(P$2)=P$2),AND(EVEN($A64)=$A64,EVEN(P$2)=P$2)),P$1,-100))","v":253.125},{"$f":"IF('Ceiling Speaker Calculator'!$C$29=\"Square\",Q$1,IF(OR(AND(ODD($A64)=$A64,ODD(Q$2)=Q$2),AND(EVEN($A64)=$A64,EVEN(Q$2)=Q$2)),Q$1,-100))","v":271.875},{"$f":"IF('Ceiling Speaker Calculator'!$C$29=\"Square\",R$1,IF(OR(AND(ODD($A64)=$A64,ODD(R$2)=R$2),AND(EVEN($A64)=$A64,EVEN(R$2)=R$2)),R$1,-100))","v":290.625},{"$f":"IF('Ceiling Speaker Calculator'!$C$29=\"Square\",S$1,IF(OR(AND(ODD($A64)=$A64,ODD(S$2)=S$2),AND(EVEN($A64)=$A64,EVEN(S$2)=S$2)),S$1,-100))","v":309.375},{"$f":"IF('Ceiling Speaker Calculator'!$C$29=\"Square\",T$1,IF(OR(AND(ODD($A64)=$A64,ODD(T$2)=T$2),AND(EVEN($A64)=$A64,EVEN(T$2)=T$2)),T$1,-100))","v":328.125},{"$f":"IF('Ceiling Speaker Calculator'!$C$29=\"Square\",U$1,IF(OR(AND(ODD($A64)=$A64,ODD(U$2)=U$2),AND(EVEN($A64)=$A64,EVEN(U$2)=U$2)),U$1,-100))","v":346.875},{"$f":"IF('Ceiling Speaker Calculator'!$C$29=\"Square\",V$1,IF(OR(AND(ODD($A64)=$A64,ODD(V$2)=V$2),AND(EVEN($A64)=$A64,EVEN(V$2)=V$2)),V$1,-100))","v":365.625},{"$f":"IF('Ceiling Speaker Calculator'!$C$29=\"Square\",W$1,IF(OR(AND(ODD($A64)=$A64,ODD(W$2)=W$2),AND(EVEN($A64)=$A64,EVEN(W$2)=W$2)),W$1,-100))","v":384.375},{"$f":"IF('Ceiling Speaker Calculator'!$C$29=\"Square\",X$1,IF(OR(AND(ODD($A64)=$A64,ODD(X$2)=X$2),AND(EVEN($A64)=$A64,EVEN(X$2)=X$2)),X$1,-100))","v":403.125},{"$f":"IF('Ceiling Speaker Calculator'!$C$29=\"Square\",Y$1,IF(OR(AND(ODD($A64)=$A64,ODD(Y$2)=Y$2),AND(EVEN($A64)=$A64,EVEN(Y$2)=Y$2)),Y$1,-100))","v":421.875},{"$f":"IF('Ceiling Speaker Calculator'!$C$29=\"Square\",Z$1,IF(OR(AND(ODD($A64)=$A64,ODD(Z$2)=Z$2),AND(EVEN($A64)=$A64,EVEN(Z$2)=Z$2)),Z$1,-100))","v":440.625},{"$f":"IF('Ceiling Speaker Calculator'!$C$29=\"Square\",AA$1,IF(OR(AND(ODD($A64)=$A64,ODD(AA$2)=AA$2),AND(EVEN($A64)=$A64,EVEN(AA$2)=AA$2)),AA$1,-100))","v":459.375},{"$f":"IF('Ceiling Speaker Calculator'!$C$29=\"Square\",AB$1,IF(OR(AND(ODD($A64)=$A64,ODD(AB$2)=AB$2),AND(EVEN($A64)=$A64,EVEN(AB$2)=AB$2)),AB$1,-100))","v":478.125},{"$f":"IF('Ceiling Speaker Calculator'!$C$29=\"Square\",AC$1,IF(OR(AND(ODD($A64)=$A64,ODD(AC$2)=AC$2),AND(EVEN($A64)=$A64,EVEN(AC$2)=AC$2)),AC$1,-100))","v":496.875},{"$f":"IF('Ceiling Speaker Calculator'!$C$29=\"Square\",AD$1,IF(OR(AND(ODD($A64)=$A64,ODD(AD$2)=AD$2),AND(EVEN($A64)=$A64,EVEN(AD$2)=AD$2)),AD$1,-100))","v":515.625},{"$f":"IF('Ceiling Speaker Calculator'!$C$29=\"Square\",AE$1,IF(OR(AND(ODD($A64)=$A64,ODD(AE$2)=AE$2),AND(EVEN($A64)=$A64,EVEN(AE$2)=AE$2)),AE$1,-100))","v":534.375},{"$f":"IF('Ceiling Speaker Calculator'!$C$29=\"Square\",AF$1,IF(OR(AND(ODD($A64)=$A64,ODD(AF$2)=AF$2),AND(EVEN($A64)=$A64,EVEN(AF$2)=AF$2)),AF$1,-100))","v":553.125},{"$f":"IF('Ceiling Speaker Calculator'!$C$29=\"Square\",AG$1,IF(OR(AND(ODD($A64)=$A64,ODD(AG$2)=AG$2),AND(EVEN($A64)=$A64,EVEN(AG$2)=AG$2)),AG$1,-100))","v":571.875},{"$f":"IF('Ceiling Speaker Calculator'!$C$29=\"Square\",AH$1,IF(OR(AND(ODD($A64)=$A64,ODD(AH$2)=AH$2),AND(EVEN($A64)=$A64,EVEN(AH$2)=AH$2)),AH$1,-100))","v":590.625},{"$f":"IF('Ceiling Speaker Calculator'!$C$29=\"Square\",AI$1,IF(OR(AND(ODD($A64)=$A64,ODD(AI$2)=AI$2),AND(EVEN($A64)=$A64,EVEN(AI$2)=AI$2)),AI$1,-100))","v":609.375},{"$f":"IF('Ceiling Speaker Calculator'!$C$29=\"Square\",AJ$1,IF(OR(AND(ODD($A64)=$A64,ODD(AJ$2)=AJ$2),AND(EVEN($A64)=$A64,EVEN(AJ$2)=AJ$2)),AJ$1,-100))","v":628.125},{"$f":"IF('Ceiling Speaker Calculator'!$C$29=\"Square\",AK$1,IF(OR(AND(ODD($A64)=$A64,ODD(AK$2)=AK$2),AND(EVEN($A64)=$A64,EVEN(AK$2)=AK$2)),AK$1,-100))","v":646.875},{"$f":"IF('Ceiling Speaker Calculator'!$C$29=\"Square\",AL$1,IF(OR(AND(ODD($A64)=$A64,ODD(AL$2)=AL$2),AND(EVEN($A64)=$A64,EVEN(AL$2)=AL$2)),AL$1,-100))","v":665.625},{"$f":"IF('Ceiling Speaker Calculator'!$C$29=\"Square\",AM$1,IF(OR(AND(ODD($A64)=$A64,ODD(AM$2)=AM$2),AND(EVEN($A64)=$A64,EVEN(AM$2)=AM$2)),AM$1,-100))","v":684.375},{"$f":"IF('Ceiling Speaker Calculator'!$C$29=\"Square\",AN$1,IF(OR(AND(ODD($A64)=$A64,ODD(AN$2)=AN$2),AND(EVEN($A64)=$A64,EVEN(AN$2)=AN$2)),AN$1,-100))","v":703.125},{"$f":"IF('Ceiling Speaker Calculator'!$C$29=\"Square\",AO$1,IF(OR(AND(ODD($A64)=$A64,ODD(AO$2)=AO$2),AND(EVEN($A64)=$A64,EVEN(AO$2)=AO$2)),AO$1,-100))","v":721.875},{"$f":"IF('Ceiling Speaker Calculator'!$C$29=\"Square\",AP$1,IF(OR(AND(ODD($A64)=$A64,ODD(AP$2)=AP$2),AND(EVEN($A64)=$A64,EVEN(AP$2)=AP$2)),AP$1,-100))","v":740.625},{"$f":"IF('Ceiling Speaker Calculator'!$C$29=\"Square\",AQ$1,IF(OR(AND(ODD($A64)=$A64,ODD(AQ$2)=AQ$2),AND(EVEN($A64)=$A64,EVEN(AQ$2)=AQ$2)),AQ$1,-100))","v":759.375},{"$f":"IF('Ceiling Speaker Calculator'!$C$29=\"Square\",AR$1,IF(OR(AND(ODD($A64)=$A64,ODD(AR$2)=AR$2),AND(EVEN($A64)=$A64,EVEN(AR$2)=AR$2)),AR$1,-100))","v":778.125},{"$f":"IF('Ceiling Speaker Calculator'!$C$29=\"Square\",AS$1,IF(OR(AND(ODD($A64)=$A64,ODD(AS$2)=AS$2),AND(EVEN($A64)=$A64,EVEN(AS$2)=AS$2)),AS$1,-100))","v":796.875},{"$f":"IF('Ceiling Speaker Calculator'!$C$29=\"Square\",AT$1,IF(OR(AND(ODD($A64)=$A64,ODD(AT$2)=AT$2),AND(EVEN($A64)=$A64,EVEN(AT$2)=AT$2)),AT$1,-100))","v":815.625},{"$f":"IF('Ceiling Speaker Calculator'!$C$29=\"Square\",AU$1,IF(OR(AND(ODD($A64)=$A64,ODD(AU$2)=AU$2),AND(EVEN($A64)=$A64,EVEN(AU$2)=AU$2)),AU$1,-100))","v":834.375},{"$f":"IF('Ceiling Speaker Calculator'!$C$29=\"Square\",AV$1,IF(OR(AND(ODD($A64)=$A64,ODD(AV$2)=AV$2),AND(EVEN($A64)=$A64,EVEN(AV$2)=AV$2)),AV$1,-100))","v":853.125},{"$f":"IF('Ceiling Speaker Calculator'!$C$29=\"Square\",AW$1,IF(OR(AND(ODD($A64)=$A64,ODD(AW$2)=AW$2),AND(EVEN($A64)=$A64,EVEN(AW$2)=AW$2)),AW$1,-100))","v":871.875},{"$f":"IF('Ceiling Speaker Calculator'!$C$29=\"Square\",AX$1,IF(OR(AND(ODD($A64)=$A64,ODD(AX$2)=AX$2),AND(EVEN($A64)=$A64,EVEN(AX$2)=AX$2)),AX$1,-100))","v":890.625},{"$f":"IF('Ceiling Speaker Calculator'!$C$29=\"Square\",AY$1,IF(OR(AND(ODD($A64)=$A64,ODD(AY$2)=AY$2),AND(EVEN($A64)=$A64,EVEN(AY$2)=AY$2)),AY$1,-100))","v":909.375},{"$f":"IF('Ceiling Speaker Calculator'!$C$29=\"Square\",AZ$1,IF(OR(AND(ODD($A64)=$A64,ODD(AZ$2)=AZ$2),AND(EVEN($A64)=$A64,EVEN(AZ$2)=AZ$2)),AZ$1,-100))","v":928.125},{"$f":"IF('Ceiling Speaker Calculator'!$C$29=\"Square\",BA$1,IF(OR(AND(ODD($A64)=$A64,ODD(BA$2)=BA$2),AND(EVEN($A64)=$A64,EVEN(BA$2)=BA$2)),BA$1,-100))","v":946.875},{"$f":"IF('Ceiling Speaker Calculator'!$C$29=\"Square\",BB$1,IF(OR(AND(ODD($A64)=$A64,ODD(BB$2)=BB$2),AND(EVEN($A64)=$A64,EVEN(BB$2)=BB$2)),BB$1,-100))","v":965.625},{"$f":"IF('Ceiling Speaker Calculator'!$C$29=\"Square\",BC$1,IF(OR(AND(ODD($A64)=$A64,ODD(BC$2)=BC$2),AND(EVEN($A64)=$A64,EVEN(BC$2)=BC$2)),BC$1,-100))","v":984.375},{"$f":"IF('Ceiling Speaker Calculator'!$C$29=\"Square\",BD$1,IF(OR(AND(ODD($A64)=$A64,ODD(BD$2)=BD$2),AND(EVEN($A64)=$A64,EVEN(BD$2)=BD$2)),BD$1,-100))","v":1003.125},{"$f":"IF('Ceiling Speaker Calculator'!$C$29=\"Square\",BE$1,IF(OR(AND(ODD($A64)=$A64,ODD(BE$2)=BE$2),AND(EVEN($A64)=$A64,EVEN(BE$2)=BE$2)),BE$1,-100))","v":1021.875},{"$f":"IF('Ceiling Speaker Calculator'!$C$29=\"Square\",BF$1,IF(OR(AND(ODD($A64)=$A64,ODD(BF$2)=BF$2),AND(EVEN($A64)=$A64,EVEN(BF$2)=BF$2)),BF$1,-100))","v":1040.625},{"$f":"IF('Ceiling Speaker Calculator'!$C$29=\"Square\",BG$1,IF(OR(AND(ODD($A64)=$A64,ODD(BG$2)=BG$2),AND(EVEN($A64)=$A64,EVEN(BG$2)=BG$2)),BG$1,-100))","v":1059.375},{"$f":"IF('Ceiling Speaker Calculator'!$C$29=\"Square\",BH$1,IF(OR(AND(ODD($A64)=$A64,ODD(BH$2)=BH$2),AND(EVEN($A64)=$A64,EVEN(BH$2)=BH$2)),BH$1,-100))","v":1078.125},{"$f":"IF('Ceiling Speaker Calculator'!$C$29=\"Square\",BI$1,IF(OR(AND(ODD($A64)=$A64,ODD(BI$2)=BI$2),AND(EVEN($A64)=$A64,EVEN(BI$2)=BI$2)),BI$1,-100))","v":1096.875},{"$f":"IF('Ceiling Speaker Calculator'!$C$29=\"Square\",BJ$1,IF(OR(AND(ODD($A64)=$A64,ODD(BJ$2)=BJ$2),AND(EVEN($A64)=$A64,EVEN(BJ$2)=BJ$2)),BJ$1,-100))","v":1115.625},{"$f":"IF('Ceiling Speaker Calculator'!$C$29=\"Square\",BK$1,IF(OR(AND(ODD($A64)=$A64,ODD(BK$2)=BK$2),AND(EVEN($A64)=$A64,EVEN(BK$2)=BK$2)),BK$1,-100))","v":1134.375},{"$f":"IF('Ceiling Speaker Calculator'!$C$29=\"Square\",BL$1,IF(OR(AND(ODD($A64)=$A64,ODD(BL$2)=BL$2),AND(EVEN($A64)=$A64,EVEN(BL$2)=BL$2)),BL$1,-100))","v":1153.125},{"$f":"IF('Ceiling Speaker Calculator'!$C$29=\"Square\",BM$1,IF(OR(AND(ODD($A64)=$A64,ODD(BM$2)=BM$2),AND(EVEN($A64)=$A64,EVEN(BM$2)=BM$2)),BM$1,-100))","v":1171.875},{"$f":"IF('Ceiling Speaker Calculator'!$C$29=\"Square\",BN$1,IF(OR(AND(ODD($A64)=$A64,ODD(BN$2)=BN$2),AND(EVEN($A64)=$A64,EVEN(BN$2)=BN$2)),BN$1,-100))","v":1190.625},{"$f":"IF('Ceiling Speaker Calculator'!$C$29=\"Square\",BO$1,IF(OR(AND(ODD($A64)=$A64,ODD(BO$2)=BO$2),AND(EVEN($A64)=$A64,EVEN(BO$2)=BO$2)),BO$1,-100))","v":1209.375},{"$f":"IF('Ceiling Speaker Calculator'!$C$29=\"Square\",BP$1,IF(OR(AND(ODD($A64)=$A64,ODD(BP$2)=BP$2),AND(EVEN($A64)=$A64,EVEN(BP$2)=BP$2)),BP$1,-100))","v":1228.125},{"$f":"IF('Ceiling Speaker Calculator'!$C$29=\"Square\",BQ$1,IF(OR(AND(ODD($A64)=$A64,ODD(BQ$2)=BQ$2),AND(EVEN($A64)=$A64,EVEN(BQ$2)=BQ$2)),BQ$1,-100))","v":1246.875},{"$f":"IF('Ceiling Speaker Calculator'!$C$29=\"Square\",BR$1,IF(OR(AND(ODD($A64)=$A64,ODD(BR$2)=BR$2),AND(EVEN($A64)=$A64,EVEN(BR$2)=BR$2)),BR$1,-100))","v":1265.625},{"$f":"IF('Ceiling Speaker Calculator'!$C$29=\"Square\",BS$1,IF(OR(AND(ODD($A64)=$A64,ODD(BS$2)=BS$2),AND(EVEN($A64)=$A64,EVEN(BS$2)=BS$2)),BS$1,-100))","v":1284.375},{"$f":"IF('Ceiling Speaker Calculator'!$C$29=\"Square\",BT$1,IF(OR(AND(ODD($A64)=$A64,ODD(BT$2)=BT$2),AND(EVEN($A64)=$A64,EVEN(BT$2)=BT$2)),BT$1,-100))","v":1303.125},{"$f":"IF('Ceiling Speaker Calculator'!$C$29=\"Square\",BU$1,IF(OR(AND(ODD($A64)=$A64,ODD(BU$2)=BU$2),AND(EVEN($A64)=$A64,EVEN(BU$2)=BU$2)),BU$1,-100))","v":1321.875},{"$f":"IF('Ceiling Speaker Calculator'!$C$29=\"Square\",BV$1,IF(OR(AND(ODD($A64)=$A64,ODD(BV$2)=BV$2),AND(EVEN($A64)=$A64,EVEN(BV$2)=BV$2)),BV$1,-100))","v":1340.625},{"$f":"IF('Ceiling Speaker Calculator'!$C$29=\"Square\",BW$1,IF(OR(AND(ODD($A64)=$A64,ODD(BW$2)=BW$2),AND(EVEN($A64)=$A64,EVEN(BW$2)=BW$2)),BW$1,-100))","v":1359.375},{"$f":"IF('Ceiling Speaker Calculator'!$C$29=\"Square\",BX$1,IF(OR(AND(ODD($A64)=$A64,ODD(BX$2)=BX$2),AND(EVEN($A64)=$A64,EVEN(BX$2)=BX$2)),BX$1,-100))","v":1378.125},{"$f":"IF('Ceiling Speaker Calculator'!$C$29=\"Square\",BY$1,IF(OR(AND(ODD($A64)=$A64,ODD(BY$2)=BY$2),AND(EVEN($A64)=$A64,EVEN(BY$2)=BY$2)),BY$1,-100))","v":1396.875},{"$f":"IF('Ceiling Speaker Calculator'!$C$29=\"Square\",BZ$1,IF(OR(AND(ODD($A64)=$A64,ODD(BZ$2)=BZ$2),AND(EVEN($A64)=$A64,EVEN(BZ$2)=BZ$2)),BZ$1,-100))","v":1415.625},{"$f":"IF('Ceiling Speaker Calculator'!$C$29=\"Square\",CA$1,IF(OR(AND(ODD($A64)=$A64,ODD(CA$2)=CA$2),AND(EVEN($A64)=$A64,EVEN(CA$2)=CA$2)),CA$1,-100))","v":1434.375},{"$f":"IF('Ceiling Speaker Calculator'!$C$29=\"Square\",CB$1,IF(OR(AND(ODD($A64)=$A64,ODD(CB$2)=CB$2),AND(EVEN($A64)=$A64,EVEN(CB$2)=CB$2)),CB$1,-100))","v":1453.125},{"$f":"IF('Ceiling Speaker Calculator'!$C$29=\"Square\",CC$1,IF(OR(AND(ODD($A64)=$A64,ODD(CC$2)=CC$2),AND(EVEN($A64)=$A64,EVEN(CC$2)=CC$2)),CC$1,-100))","v":1471.875},{"$f":"IF('Ceiling Speaker Calculator'!$C$29=\"Square\",CD$1,IF(OR(AND(ODD($A64)=$A64,ODD(CD$2)=CD$2),AND(EVEN($A64)=$A64,EVEN(CD$2)=CD$2)),CD$1,-100))","v":1490.625},{"$f":"IF('Ceiling Speaker Calculator'!$C$29=\"Square\",CE$1,IF(OR(AND(ODD($A64)=$A64,ODD(CE$2)=CE$2),AND(EVEN($A64)=$A64,EVEN(CE$2)=CE$2)),CE$1,-100))","v":1509.375},{"$f":"IF('Ceiling Speaker Calculator'!$C$29=\"Square\",CF$1,IF(OR(AND(ODD($A64)=$A64,ODD(CF$2)=CF$2),AND(EVEN($A64)=$A64,EVEN(CF$2)=CF$2)),CF$1,-100))","v":1528.125},{"$f":"IF('Ceiling Speaker Calculator'!$C$29=\"Square\",CG$1,IF(OR(AND(ODD($A64)=$A64,ODD(CG$2)=CG$2),AND(EVEN($A64)=$A64,EVEN(CG$2)=CG$2)),CG$1,-100))","v":1546.875},{"$f":"IF('Ceiling Speaker Calculator'!$C$29=\"Square\",CH$1,IF(OR(AND(ODD($A64)=$A64,ODD(CH$2)=CH$2),AND(EVEN($A64)=$A64,EVEN(CH$2)=CH$2)),CH$1,-100))","v":1565.625},{"$f":"IF('Ceiling Speaker Calculator'!$C$29=\"Square\",CI$1,IF(OR(AND(ODD($A64)=$A64,ODD(CI$2)=CI$2),AND(EVEN($A64)=$A64,EVEN(CI$2)=CI$2)),CI$1,-100))","v":1584.375},{"$f":"IF('Ceiling Speaker Calculator'!$C$29=\"Square\",CJ$1,IF(OR(AND(ODD($A64)=$A64,ODD(CJ$2)=CJ$2),AND(EVEN($A64)=$A64,EVEN(CJ$2)=CJ$2)),CJ$1,-100))","v":1603.125},{"$f":"IF('Ceiling Speaker Calculator'!$C$29=\"Square\",CK$1,IF(OR(AND(ODD($A64)=$A64,ODD(CK$2)=CK$2),AND(EVEN($A64)=$A64,EVEN(CK$2)=CK$2)),CK$1,-100))","v":1621.875},{"$f":"IF('Ceiling Speaker Calculator'!$C$29=\"Square\",CL$1,IF(OR(AND(ODD($A64)=$A64,ODD(CL$2)=CL$2),AND(EVEN($A64)=$A64,EVEN(CL$2)=CL$2)),CL$1,-100))","v":1640.625},{"$f":"IF('Ceiling Speaker Calculator'!$C$29=\"Square\",CM$1,IF(OR(AND(ODD($A64)=$A64,ODD(CM$2)=CM$2),AND(EVEN($A64)=$A64,EVEN(CM$2)=CM$2)),CM$1,-100))","v":1659.375},{"$f":"IF('Ceiling Speaker Calculator'!$C$29=\"Square\",CN$1,IF(OR(AND(ODD($A64)=$A64,ODD(CN$2)=CN$2),AND(EVEN($A64)=$A64,EVEN(CN$2)=CN$2)),CN$1,-100))","v":1678.125},{"$f":"IF('Ceiling Speaker Calculator'!$C$29=\"Square\",CO$1,IF(OR(AND(ODD($A64)=$A64,ODD(CO$2)=CO$2),AND(EVEN($A64)=$A64,EVEN(CO$2)=CO$2)),CO$1,-100))","v":1696.875},{"$f":"IF('Ceiling Speaker Calculator'!$C$29=\"Square\",CP$1,IF(OR(AND(ODD($A64)=$A64,ODD(CP$2)=CP$2),AND(EVEN($A64)=$A64,EVEN(CP$2)=CP$2)),CP$1,-100))","v":1715.625},{"$f":"IF('Ceiling Speaker Calculator'!$C$29=\"Square\",CQ$1,IF(OR(AND(ODD($A64)=$A64,ODD(CQ$2)=CQ$2),AND(EVEN($A64)=$A64,EVEN(CQ$2)=CQ$2)),CQ$1,-100))","v":1734.375},{"$f":"IF('Ceiling Speaker Calculator'!$C$29=\"Square\",CR$1,IF(OR(AND(ODD($A64)=$A64,ODD(CR$2)=CR$2),AND(EVEN($A64)=$A64,EVEN(CR$2)=CR$2)),CR$1,-100))","v":1753.125},{"$f":"IF('Ceiling Speaker Calculator'!$C$29=\"Square\",CS$1,IF(OR(AND(ODD($A64)=$A64,ODD(CS$2)=CS$2),AND(EVEN($A64)=$A64,EVEN(CS$2)=CS$2)),CS$1,-100))","v":1771.875},{"$f":"IF('Ceiling Speaker Calculator'!$C$29=\"Square\",CT$1,IF(OR(AND(ODD($A64)=$A64,ODD(CT$2)=CT$2),AND(EVEN($A64)=$A64,EVEN(CT$2)=CT$2)),CT$1,-100))","v":1790.625},{"$f":"IF('Ceiling Speaker Calculator'!$C$29=\"Square\",CU$1,IF(OR(AND(ODD($A64)=$A64,ODD(CU$2)=CU$2),AND(EVEN($A64)=$A64,EVEN(CU$2)=CU$2)),CU$1,-100))","v":1809.375},{"$f":"IF('Ceiling Speaker Calculator'!$C$29=\"Square\",CV$1,IF(OR(AND(ODD($A64)=$A64,ODD(CV$2)=CV$2),AND(EVEN($A64)=$A64,EVEN(CV$2)=CV$2)),CV$1,-100))","v":1828.125},{"$f":"IF('Ceiling Speaker Calculator'!$C$29=\"Square\",CW$1,IF(OR(AND(ODD($A64)=$A64,ODD(CW$2)=CW$2),AND(EVEN($A64)=$A64,EVEN(CW$2)=CW$2)),CW$1,-100))","v":1846.875},{"$f":"IF('Ceiling Speaker Calculator'!$C$29=\"Square\",CX$1,IF(OR(AND(ODD($A64)=$A64,ODD(CX$2)=CX$2),AND(EVEN($A64)=$A64,EVEN(CX$2)=CX$2)),CX$1,-100))","v":1865.625}]
[63,{"$f":"B64+'Ceiling Speaker Calculator'!$K$16","v":1250},{"$f":"IF('Ceiling Speaker Calculator'!$C$29=\"Square\",C$1,IF(OR(AND(ODD($A65)=$A65,ODD(C$2)=C$2),AND(EVEN($A65)=$A65,EVEN(C$2)=C$2)),C$1,-100))","v":9.375},{"$f":"IF('Ceiling Speaker Calculator'!$C$29=\"Square\",D$1,IF(OR(AND(ODD($A65)=$A65,ODD(D$2)=D$2),AND(EVEN($A65)=$A65,EVEN(D$2)=D$2)),D$1,-100))","v":28.125},{"$f":"IF('Ceiling Speaker Calculator'!$C$29=\"Square\",E$1,IF(OR(AND(ODD($A65)=$A65,ODD(E$2)=E$2),AND(EVEN($A65)=$A65,EVEN(E$2)=E$2)),E$1,-100))","v":46.875},{"$f":"IF('Ceiling Speaker Calculator'!$C$29=\"Square\",F$1,IF(OR(AND(ODD($A65)=$A65,ODD(F$2)=F$2),AND(EVEN($A65)=$A65,EVEN(F$2)=F$2)),F$1,-100))","v":65.625},{"$f":"IF('Ceiling Speaker Calculator'!$C$29=\"Square\",G$1,IF(OR(AND(ODD($A65)=$A65,ODD(G$2)=G$2),AND(EVEN($A65)=$A65,EVEN(G$2)=G$2)),G$1,-100))","v":84.375},{"$f":"IF('Ceiling Speaker Calculator'!$C$29=\"Square\",H$1,IF(OR(AND(ODD($A65)=$A65,ODD(H$2)=H$2),AND(EVEN($A65)=$A65,EVEN(H$2)=H$2)),H$1,-100))","v":103.125},{"$f":"IF('Ceiling Speaker Calculator'!$C$29=\"Square\",I$1,IF(OR(AND(ODD($A65)=$A65,ODD(I$2)=I$2),AND(EVEN($A65)=$A65,EVEN(I$2)=I$2)),I$1,-100))","v":121.875},{"$f":"IF('Ceiling Speaker Calculator'!$C$29=\"Square\",J$1,IF(OR(AND(ODD($A65)=$A65,ODD(J$2)=J$2),AND(EVEN($A65)=$A65,EVEN(J$2)=J$2)),J$1,-100))","v":140.625},{"$f":"IF('Ceiling Speaker Calculator'!$C$29=\"Square\",K$1,IF(OR(AND(ODD($A65)=$A65,ODD(K$2)=K$2),AND(EVEN($A65)=$A65,EVEN(K$2)=K$2)),K$1,-100))","v":159.375},{"$f":"IF('Ceiling Speaker Calculator'!$C$29=\"Square\",L$1,IF(OR(AND(ODD($A65)=$A65,ODD(L$2)=L$2),AND(EVEN($A65)=$A65,EVEN(L$2)=L$2)),L$1,-100))","v":178.125},{"$f":"IF('Ceiling Speaker Calculator'!$C$29=\"Square\",M$1,IF(OR(AND(ODD($A65)=$A65,ODD(M$2)=M$2),AND(EVEN($A65)=$A65,EVEN(M$2)=M$2)),M$1,-100))","v":196.875},{"$f":"IF('Ceiling Speaker Calculator'!$C$29=\"Square\",N$1,IF(OR(AND(ODD($A65)=$A65,ODD(N$2)=N$2),AND(EVEN($A65)=$A65,EVEN(N$2)=N$2)),N$1,-100))","v":215.625},{"$f":"IF('Ceiling Speaker Calculator'!$C$29=\"Square\",O$1,IF(OR(AND(ODD($A65)=$A65,ODD(O$2)=O$2),AND(EVEN($A65)=$A65,EVEN(O$2)=O$2)),O$1,-100))","v":234.375},{"$f":"IF('Ceiling Speaker Calculator'!$C$29=\"Square\",P$1,IF(OR(AND(ODD($A65)=$A65,ODD(P$2)=P$2),AND(EVEN($A65)=$A65,EVEN(P$2)=P$2)),P$1,-100))","v":253.125},{"$f":"IF('Ceiling Speaker Calculator'!$C$29=\"Square\",Q$1,IF(OR(AND(ODD($A65)=$A65,ODD(Q$2)=Q$2),AND(EVEN($A65)=$A65,EVEN(Q$2)=Q$2)),Q$1,-100))","v":271.875},{"$f":"IF('Ceiling Speaker Calculator'!$C$29=\"Square\",R$1,IF(OR(AND(ODD($A65)=$A65,ODD(R$2)=R$2),AND(EVEN($A65)=$A65,EVEN(R$2)=R$2)),R$1,-100))","v":290.625},{"$f":"IF('Ceiling Speaker Calculator'!$C$29=\"Square\",S$1,IF(OR(AND(ODD($A65)=$A65,ODD(S$2)=S$2),AND(EVEN($A65)=$A65,EVEN(S$2)=S$2)),S$1,-100))","v":309.375},{"$f":"IF('Ceiling Speaker Calculator'!$C$29=\"Square\",T$1,IF(OR(AND(ODD($A65)=$A65,ODD(T$2)=T$2),AND(EVEN($A65)=$A65,EVEN(T$2)=T$2)),T$1,-100))","v":328.125},{"$f":"IF('Ceiling Speaker Calculator'!$C$29=\"Square\",U$1,IF(OR(AND(ODD($A65)=$A65,ODD(U$2)=U$2),AND(EVEN($A65)=$A65,EVEN(U$2)=U$2)),U$1,-100))","v":346.875},{"$f":"IF('Ceiling Speaker Calculator'!$C$29=\"Square\",V$1,IF(OR(AND(ODD($A65)=$A65,ODD(V$2)=V$2),AND(EVEN($A65)=$A65,EVEN(V$2)=V$2)),V$1,-100))","v":365.625},{"$f":"IF('Ceiling Speaker Calculator'!$C$29=\"Square\",W$1,IF(OR(AND(ODD($A65)=$A65,ODD(W$2)=W$2),AND(EVEN($A65)=$A65,EVEN(W$2)=W$2)),W$1,-100))","v":384.375},{"$f":"IF('Ceiling Speaker Calculator'!$C$29=\"Square\",X$1,IF(OR(AND(ODD($A65)=$A65,ODD(X$2)=X$2),AND(EVEN($A65)=$A65,EVEN(X$2)=X$2)),X$1,-100))","v":403.125},{"$f":"IF('Ceiling Speaker Calculator'!$C$29=\"Square\",Y$1,IF(OR(AND(ODD($A65)=$A65,ODD(Y$2)=Y$2),AND(EVEN($A65)=$A65,EVEN(Y$2)=Y$2)),Y$1,-100))","v":421.875},{"$f":"IF('Ceiling Speaker Calculator'!$C$29=\"Square\",Z$1,IF(OR(AND(ODD($A65)=$A65,ODD(Z$2)=Z$2),AND(EVEN($A65)=$A65,EVEN(Z$2)=Z$2)),Z$1,-100))","v":440.625},{"$f":"IF('Ceiling Speaker Calculator'!$C$29=\"Square\",AA$1,IF(OR(AND(ODD($A65)=$A65,ODD(AA$2)=AA$2),AND(EVEN($A65)=$A65,EVEN(AA$2)=AA$2)),AA$1,-100))","v":459.375},{"$f":"IF('Ceiling Speaker Calculator'!$C$29=\"Square\",AB$1,IF(OR(AND(ODD($A65)=$A65,ODD(AB$2)=AB$2),AND(EVEN($A65)=$A65,EVEN(AB$2)=AB$2)),AB$1,-100))","v":478.125},{"$f":"IF('Ceiling Speaker Calculator'!$C$29=\"Square\",AC$1,IF(OR(AND(ODD($A65)=$A65,ODD(AC$2)=AC$2),AND(EVEN($A65)=$A65,EVEN(AC$2)=AC$2)),AC$1,-100))","v":496.875},{"$f":"IF('Ceiling Speaker Calculator'!$C$29=\"Square\",AD$1,IF(OR(AND(ODD($A65)=$A65,ODD(AD$2)=AD$2),AND(EVEN($A65)=$A65,EVEN(AD$2)=AD$2)),AD$1,-100))","v":515.625},{"$f":"IF('Ceiling Speaker Calculator'!$C$29=\"Square\",AE$1,IF(OR(AND(ODD($A65)=$A65,ODD(AE$2)=AE$2),AND(EVEN($A65)=$A65,EVEN(AE$2)=AE$2)),AE$1,-100))","v":534.375},{"$f":"IF('Ceiling Speaker Calculator'!$C$29=\"Square\",AF$1,IF(OR(AND(ODD($A65)=$A65,ODD(AF$2)=AF$2),AND(EVEN($A65)=$A65,EVEN(AF$2)=AF$2)),AF$1,-100))","v":553.125},{"$f":"IF('Ceiling Speaker Calculator'!$C$29=\"Square\",AG$1,IF(OR(AND(ODD($A65)=$A65,ODD(AG$2)=AG$2),AND(EVEN($A65)=$A65,EVEN(AG$2)=AG$2)),AG$1,-100))","v":571.875},{"$f":"IF('Ceiling Speaker Calculator'!$C$29=\"Square\",AH$1,IF(OR(AND(ODD($A65)=$A65,ODD(AH$2)=AH$2),AND(EVEN($A65)=$A65,EVEN(AH$2)=AH$2)),AH$1,-100))","v":590.625},{"$f":"IF('Ceiling Speaker Calculator'!$C$29=\"Square\",AI$1,IF(OR(AND(ODD($A65)=$A65,ODD(AI$2)=AI$2),AND(EVEN($A65)=$A65,EVEN(AI$2)=AI$2)),AI$1,-100))","v":609.375},{"$f":"IF('Ceiling Speaker Calculator'!$C$29=\"Square\",AJ$1,IF(OR(AND(ODD($A65)=$A65,ODD(AJ$2)=AJ$2),AND(EVEN($A65)=$A65,EVEN(AJ$2)=AJ$2)),AJ$1,-100))","v":628.125},{"$f":"IF('Ceiling Speaker Calculator'!$C$29=\"Square\",AK$1,IF(OR(AND(ODD($A65)=$A65,ODD(AK$2)=AK$2),AND(EVEN($A65)=$A65,EVEN(AK$2)=AK$2)),AK$1,-100))","v":646.875},{"$f":"IF('Ceiling Speaker Calculator'!$C$29=\"Square\",AL$1,IF(OR(AND(ODD($A65)=$A65,ODD(AL$2)=AL$2),AND(EVEN($A65)=$A65,EVEN(AL$2)=AL$2)),AL$1,-100))","v":665.625},{"$f":"IF('Ceiling Speaker Calculator'!$C$29=\"Square\",AM$1,IF(OR(AND(ODD($A65)=$A65,ODD(AM$2)=AM$2),AND(EVEN($A65)=$A65,EVEN(AM$2)=AM$2)),AM$1,-100))","v":684.375},{"$f":"IF('Ceiling Speaker Calculator'!$C$29=\"Square\",AN$1,IF(OR(AND(ODD($A65)=$A65,ODD(AN$2)=AN$2),AND(EVEN($A65)=$A65,EVEN(AN$2)=AN$2)),AN$1,-100))","v":703.125},{"$f":"IF('Ceiling Speaker Calculator'!$C$29=\"Square\",AO$1,IF(OR(AND(ODD($A65)=$A65,ODD(AO$2)=AO$2),AND(EVEN($A65)=$A65,EVEN(AO$2)=AO$2)),AO$1,-100))","v":721.875},{"$f":"IF('Ceiling Speaker Calculator'!$C$29=\"Square\",AP$1,IF(OR(AND(ODD($A65)=$A65,ODD(AP$2)=AP$2),AND(EVEN($A65)=$A65,EVEN(AP$2)=AP$2)),AP$1,-100))","v":740.625},{"$f":"IF('Ceiling Speaker Calculator'!$C$29=\"Square\",AQ$1,IF(OR(AND(ODD($A65)=$A65,ODD(AQ$2)=AQ$2),AND(EVEN($A65)=$A65,EVEN(AQ$2)=AQ$2)),AQ$1,-100))","v":759.375},{"$f":"IF('Ceiling Speaker Calculator'!$C$29=\"Square\",AR$1,IF(OR(AND(ODD($A65)=$A65,ODD(AR$2)=AR$2),AND(EVEN($A65)=$A65,EVEN(AR$2)=AR$2)),AR$1,-100))","v":778.125},{"$f":"IF('Ceiling Speaker Calculator'!$C$29=\"Square\",AS$1,IF(OR(AND(ODD($A65)=$A65,ODD(AS$2)=AS$2),AND(EVEN($A65)=$A65,EVEN(AS$2)=AS$2)),AS$1,-100))","v":796.875},{"$f":"IF('Ceiling Speaker Calculator'!$C$29=\"Square\",AT$1,IF(OR(AND(ODD($A65)=$A65,ODD(AT$2)=AT$2),AND(EVEN($A65)=$A65,EVEN(AT$2)=AT$2)),AT$1,-100))","v":815.625},{"$f":"IF('Ceiling Speaker Calculator'!$C$29=\"Square\",AU$1,IF(OR(AND(ODD($A65)=$A65,ODD(AU$2)=AU$2),AND(EVEN($A65)=$A65,EVEN(AU$2)=AU$2)),AU$1,-100))","v":834.375},{"$f":"IF('Ceiling Speaker Calculator'!$C$29=\"Square\",AV$1,IF(OR(AND(ODD($A65)=$A65,ODD(AV$2)=AV$2),AND(EVEN($A65)=$A65,EVEN(AV$2)=AV$2)),AV$1,-100))","v":853.125},{"$f":"IF('Ceiling Speaker Calculator'!$C$29=\"Square\",AW$1,IF(OR(AND(ODD($A65)=$A65,ODD(AW$2)=AW$2),AND(EVEN($A65)=$A65,EVEN(AW$2)=AW$2)),AW$1,-100))","v":871.875},{"$f":"IF('Ceiling Speaker Calculator'!$C$29=\"Square\",AX$1,IF(OR(AND(ODD($A65)=$A65,ODD(AX$2)=AX$2),AND(EVEN($A65)=$A65,EVEN(AX$2)=AX$2)),AX$1,-100))","v":890.625},{"$f":"IF('Ceiling Speaker Calculator'!$C$29=\"Square\",AY$1,IF(OR(AND(ODD($A65)=$A65,ODD(AY$2)=AY$2),AND(EVEN($A65)=$A65,EVEN(AY$2)=AY$2)),AY$1,-100))","v":909.375},{"$f":"IF('Ceiling Speaker Calculator'!$C$29=\"Square\",AZ$1,IF(OR(AND(ODD($A65)=$A65,ODD(AZ$2)=AZ$2),AND(EVEN($A65)=$A65,EVEN(AZ$2)=AZ$2)),AZ$1,-100))","v":928.125},{"$f":"IF('Ceiling Speaker Calculator'!$C$29=\"Square\",BA$1,IF(OR(AND(ODD($A65)=$A65,ODD(BA$2)=BA$2),AND(EVEN($A65)=$A65,EVEN(BA$2)=BA$2)),BA$1,-100))","v":946.875},{"$f":"IF('Ceiling Speaker Calculator'!$C$29=\"Square\",BB$1,IF(OR(AND(ODD($A65)=$A65,ODD(BB$2)=BB$2),AND(EVEN($A65)=$A65,EVEN(BB$2)=BB$2)),BB$1,-100))","v":965.625},{"$f":"IF('Ceiling Speaker Calculator'!$C$29=\"Square\",BC$1,IF(OR(AND(ODD($A65)=$A65,ODD(BC$2)=BC$2),AND(EVEN($A65)=$A65,EVEN(BC$2)=BC$2)),BC$1,-100))","v":984.375},{"$f":"IF('Ceiling Speaker Calculator'!$C$29=\"Square\",BD$1,IF(OR(AND(ODD($A65)=$A65,ODD(BD$2)=BD$2),AND(EVEN($A65)=$A65,EVEN(BD$2)=BD$2)),BD$1,-100))","v":1003.125},{"$f":"IF('Ceiling Speaker Calculator'!$C$29=\"Square\",BE$1,IF(OR(AND(ODD($A65)=$A65,ODD(BE$2)=BE$2),AND(EVEN($A65)=$A65,EVEN(BE$2)=BE$2)),BE$1,-100))","v":1021.875},{"$f":"IF('Ceiling Speaker Calculator'!$C$29=\"Square\",BF$1,IF(OR(AND(ODD($A65)=$A65,ODD(BF$2)=BF$2),AND(EVEN($A65)=$A65,EVEN(BF$2)=BF$2)),BF$1,-100))","v":1040.625},{"$f":"IF('Ceiling Speaker Calculator'!$C$29=\"Square\",BG$1,IF(OR(AND(ODD($A65)=$A65,ODD(BG$2)=BG$2),AND(EVEN($A65)=$A65,EVEN(BG$2)=BG$2)),BG$1,-100))","v":1059.375},{"$f":"IF('Ceiling Speaker Calculator'!$C$29=\"Square\",BH$1,IF(OR(AND(ODD($A65)=$A65,ODD(BH$2)=BH$2),AND(EVEN($A65)=$A65,EVEN(BH$2)=BH$2)),BH$1,-100))","v":1078.125},{"$f":"IF('Ceiling Speaker Calculator'!$C$29=\"Square\",BI$1,IF(OR(AND(ODD($A65)=$A65,ODD(BI$2)=BI$2),AND(EVEN($A65)=$A65,EVEN(BI$2)=BI$2)),BI$1,-100))","v":1096.875},{"$f":"IF('Ceiling Speaker Calculator'!$C$29=\"Square\",BJ$1,IF(OR(AND(ODD($A65)=$A65,ODD(BJ$2)=BJ$2),AND(EVEN($A65)=$A65,EVEN(BJ$2)=BJ$2)),BJ$1,-100))","v":1115.625},{"$f":"IF('Ceiling Speaker Calculator'!$C$29=\"Square\",BK$1,IF(OR(AND(ODD($A65)=$A65,ODD(BK$2)=BK$2),AND(EVEN($A65)=$A65,EVEN(BK$2)=BK$2)),BK$1,-100))","v":1134.375},{"$f":"IF('Ceiling Speaker Calculator'!$C$29=\"Square\",BL$1,IF(OR(AND(ODD($A65)=$A65,ODD(BL$2)=BL$2),AND(EVEN($A65)=$A65,EVEN(BL$2)=BL$2)),BL$1,-100))","v":1153.125},{"$f":"IF('Ceiling Speaker Calculator'!$C$29=\"Square\",BM$1,IF(OR(AND(ODD($A65)=$A65,ODD(BM$2)=BM$2),AND(EVEN($A65)=$A65,EVEN(BM$2)=BM$2)),BM$1,-100))","v":1171.875},{"$f":"IF('Ceiling Speaker Calculator'!$C$29=\"Square\",BN$1,IF(OR(AND(ODD($A65)=$A65,ODD(BN$2)=BN$2),AND(EVEN($A65)=$A65,EVEN(BN$2)=BN$2)),BN$1,-100))","v":1190.625},{"$f":"IF('Ceiling Speaker Calculator'!$C$29=\"Square\",BO$1,IF(OR(AND(ODD($A65)=$A65,ODD(BO$2)=BO$2),AND(EVEN($A65)=$A65,EVEN(BO$2)=BO$2)),BO$1,-100))","v":1209.375},{"$f":"IF('Ceiling Speaker Calculator'!$C$29=\"Square\",BP$1,IF(OR(AND(ODD($A65)=$A65,ODD(BP$2)=BP$2),AND(EVEN($A65)=$A65,EVEN(BP$2)=BP$2)),BP$1,-100))","v":1228.125},{"$f":"IF('Ceiling Speaker Calculator'!$C$29=\"Square\",BQ$1,IF(OR(AND(ODD($A65)=$A65,ODD(BQ$2)=BQ$2),AND(EVEN($A65)=$A65,EVEN(BQ$2)=BQ$2)),BQ$1,-100))","v":1246.875},{"$f":"IF('Ceiling Speaker Calculator'!$C$29=\"Square\",BR$1,IF(OR(AND(ODD($A65)=$A65,ODD(BR$2)=BR$2),AND(EVEN($A65)=$A65,EVEN(BR$2)=BR$2)),BR$1,-100))","v":1265.625},{"$f":"IF('Ceiling Speaker Calculator'!$C$29=\"Square\",BS$1,IF(OR(AND(ODD($A65)=$A65,ODD(BS$2)=BS$2),AND(EVEN($A65)=$A65,EVEN(BS$2)=BS$2)),BS$1,-100))","v":1284.375},{"$f":"IF('Ceiling Speaker Calculator'!$C$29=\"Square\",BT$1,IF(OR(AND(ODD($A65)=$A65,ODD(BT$2)=BT$2),AND(EVEN($A65)=$A65,EVEN(BT$2)=BT$2)),BT$1,-100))","v":1303.125},{"$f":"IF('Ceiling Speaker Calculator'!$C$29=\"Square\",BU$1,IF(OR(AND(ODD($A65)=$A65,ODD(BU$2)=BU$2),AND(EVEN($A65)=$A65,EVEN(BU$2)=BU$2)),BU$1,-100))","v":1321.875},{"$f":"IF('Ceiling Speaker Calculator'!$C$29=\"Square\",BV$1,IF(OR(AND(ODD($A65)=$A65,ODD(BV$2)=BV$2),AND(EVEN($A65)=$A65,EVEN(BV$2)=BV$2)),BV$1,-100))","v":1340.625},{"$f":"IF('Ceiling Speaker Calculator'!$C$29=\"Square\",BW$1,IF(OR(AND(ODD($A65)=$A65,ODD(BW$2)=BW$2),AND(EVEN($A65)=$A65,EVEN(BW$2)=BW$2)),BW$1,-100))","v":1359.375},{"$f":"IF('Ceiling Speaker Calculator'!$C$29=\"Square\",BX$1,IF(OR(AND(ODD($A65)=$A65,ODD(BX$2)=BX$2),AND(EVEN($A65)=$A65,EVEN(BX$2)=BX$2)),BX$1,-100))","v":1378.125},{"$f":"IF('Ceiling Speaker Calculator'!$C$29=\"Square\",BY$1,IF(OR(AND(ODD($A65)=$A65,ODD(BY$2)=BY$2),AND(EVEN($A65)=$A65,EVEN(BY$2)=BY$2)),BY$1,-100))","v":1396.875},{"$f":"IF('Ceiling Speaker Calculator'!$C$29=\"Square\",BZ$1,IF(OR(AND(ODD($A65)=$A65,ODD(BZ$2)=BZ$2),AND(EVEN($A65)=$A65,EVEN(BZ$2)=BZ$2)),BZ$1,-100))","v":1415.625},{"$f":"IF('Ceiling Speaker Calculator'!$C$29=\"Square\",CA$1,IF(OR(AND(ODD($A65)=$A65,ODD(CA$2)=CA$2),AND(EVEN($A65)=$A65,EVEN(CA$2)=CA$2)),CA$1,-100))","v":1434.375},{"$f":"IF('Ceiling Speaker Calculator'!$C$29=\"Square\",CB$1,IF(OR(AND(ODD($A65)=$A65,ODD(CB$2)=CB$2),AND(EVEN($A65)=$A65,EVEN(CB$2)=CB$2)),CB$1,-100))","v":1453.125},{"$f":"IF('Ceiling Speaker Calculator'!$C$29=\"Square\",CC$1,IF(OR(AND(ODD($A65)=$A65,ODD(CC$2)=CC$2),AND(EVEN($A65)=$A65,EVEN(CC$2)=CC$2)),CC$1,-100))","v":1471.875},{"$f":"IF('Ceiling Speaker Calculator'!$C$29=\"Square\",CD$1,IF(OR(AND(ODD($A65)=$A65,ODD(CD$2)=CD$2),AND(EVEN($A65)=$A65,EVEN(CD$2)=CD$2)),CD$1,-100))","v":1490.625},{"$f":"IF('Ceiling Speaker Calculator'!$C$29=\"Square\",CE$1,IF(OR(AND(ODD($A65)=$A65,ODD(CE$2)=CE$2),AND(EVEN($A65)=$A65,EVEN(CE$2)=CE$2)),CE$1,-100))","v":1509.375},{"$f":"IF('Ceiling Speaker Calculator'!$C$29=\"Square\",CF$1,IF(OR(AND(ODD($A65)=$A65,ODD(CF$2)=CF$2),AND(EVEN($A65)=$A65,EVEN(CF$2)=CF$2)),CF$1,-100))","v":1528.125},{"$f":"IF('Ceiling Speaker Calculator'!$C$29=\"Square\",CG$1,IF(OR(AND(ODD($A65)=$A65,ODD(CG$2)=CG$2),AND(EVEN($A65)=$A65,EVEN(CG$2)=CG$2)),CG$1,-100))","v":1546.875},{"$f":"IF('Ceiling Speaker Calculator'!$C$29=\"Square\",CH$1,IF(OR(AND(ODD($A65)=$A65,ODD(CH$2)=CH$2),AND(EVEN($A65)=$A65,EVEN(CH$2)=CH$2)),CH$1,-100))","v":1565.625},{"$f":"IF('Ceiling Speaker Calculator'!$C$29=\"Square\",CI$1,IF(OR(AND(ODD($A65)=$A65,ODD(CI$2)=CI$2),AND(EVEN($A65)=$A65,EVEN(CI$2)=CI$2)),CI$1,-100))","v":1584.375},{"$f":"IF('Ceiling Speaker Calculator'!$C$29=\"Square\",CJ$1,IF(OR(AND(ODD($A65)=$A65,ODD(CJ$2)=CJ$2),AND(EVEN($A65)=$A65,EVEN(CJ$2)=CJ$2)),CJ$1,-100))","v":1603.125},{"$f":"IF('Ceiling Speaker Calculator'!$C$29=\"Square\",CK$1,IF(OR(AND(ODD($A65)=$A65,ODD(CK$2)=CK$2),AND(EVEN($A65)=$A65,EVEN(CK$2)=CK$2)),CK$1,-100))","v":1621.875},{"$f":"IF('Ceiling Speaker Calculator'!$C$29=\"Square\",CL$1,IF(OR(AND(ODD($A65)=$A65,ODD(CL$2)=CL$2),AND(EVEN($A65)=$A65,EVEN(CL$2)=CL$2)),CL$1,-100))","v":1640.625},{"$f":"IF('Ceiling Speaker Calculator'!$C$29=\"Square\",CM$1,IF(OR(AND(ODD($A65)=$A65,ODD(CM$2)=CM$2),AND(EVEN($A65)=$A65,EVEN(CM$2)=CM$2)),CM$1,-100))","v":1659.375},{"$f":"IF('Ceiling Speaker Calculator'!$C$29=\"Square\",CN$1,IF(OR(AND(ODD($A65)=$A65,ODD(CN$2)=CN$2),AND(EVEN($A65)=$A65,EVEN(CN$2)=CN$2)),CN$1,-100))","v":1678.125},{"$f":"IF('Ceiling Speaker Calculator'!$C$29=\"Square\",CO$1,IF(OR(AND(ODD($A65)=$A65,ODD(CO$2)=CO$2),AND(EVEN($A65)=$A65,EVEN(CO$2)=CO$2)),CO$1,-100))","v":1696.875},{"$f":"IF('Ceiling Speaker Calculator'!$C$29=\"Square\",CP$1,IF(OR(AND(ODD($A65)=$A65,ODD(CP$2)=CP$2),AND(EVEN($A65)=$A65,EVEN(CP$2)=CP$2)),CP$1,-100))","v":1715.625},{"$f":"IF('Ceiling Speaker Calculator'!$C$29=\"Square\",CQ$1,IF(OR(AND(ODD($A65)=$A65,ODD(CQ$2)=CQ$2),AND(EVEN($A65)=$A65,EVEN(CQ$2)=CQ$2)),CQ$1,-100))","v":1734.375},{"$f":"IF('Ceiling Speaker Calculator'!$C$29=\"Square\",CR$1,IF(OR(AND(ODD($A65)=$A65,ODD(CR$2)=CR$2),AND(EVEN($A65)=$A65,EVEN(CR$2)=CR$2)),CR$1,-100))","v":1753.125},{"$f":"IF('Ceiling Speaker Calculator'!$C$29=\"Square\",CS$1,IF(OR(AND(ODD($A65)=$A65,ODD(CS$2)=CS$2),AND(EVEN($A65)=$A65,EVEN(CS$2)=CS$2)),CS$1,-100))","v":1771.875},{"$f":"IF('Ceiling Speaker Calculator'!$C$29=\"Square\",CT$1,IF(OR(AND(ODD($A65)=$A65,ODD(CT$2)=CT$2),AND(EVEN($A65)=$A65,EVEN(CT$2)=CT$2)),CT$1,-100))","v":1790.625},{"$f":"IF('Ceiling Speaker Calculator'!$C$29=\"Square\",CU$1,IF(OR(AND(ODD($A65)=$A65,ODD(CU$2)=CU$2),AND(EVEN($A65)=$A65,EVEN(CU$2)=CU$2)),CU$1,-100))","v":1809.375},{"$f":"IF('Ceiling Speaker Calculator'!$C$29=\"Square\",CV$1,IF(OR(AND(ODD($A65)=$A65,ODD(CV$2)=CV$2),AND(EVEN($A65)=$A65,EVEN(CV$2)=CV$2)),CV$1,-100))","v":1828.125},{"$f":"IF('Ceiling Speaker Calculator'!$C$29=\"Square\",CW$1,IF(OR(AND(ODD($A65)=$A65,ODD(CW$2)=CW$2),AND(EVEN($A65)=$A65,EVEN(CW$2)=CW$2)),CW$1,-100))","v":1846.875},{"$f":"IF('Ceiling Speaker Calculator'!$C$29=\"Square\",CX$1,IF(OR(AND(ODD($A65)=$A65,ODD(CX$2)=CX$2),AND(EVEN($A65)=$A65,EVEN(CX$2)=CX$2)),CX$1,-100))","v":1865.625}]
[64,{"$f":"B65+'Ceiling Speaker Calculator'!$K$16","v":1270},{"$f":"IF('Ceiling Speaker Calculator'!$C$29=\"Square\",C$1,IF(OR(AND(ODD($A66)=$A66,ODD(C$2)=C$2),AND(EVEN($A66)=$A66,EVEN(C$2)=C$2)),C$1,-100))","v":9.375},{"$f":"IF('Ceiling Speaker Calculator'!$C$29=\"Square\",D$1,IF(OR(AND(ODD($A66)=$A66,ODD(D$2)=D$2),AND(EVEN($A66)=$A66,EVEN(D$2)=D$2)),D$1,-100))","v":28.125},{"$f":"IF('Ceiling Speaker Calculator'!$C$29=\"Square\",E$1,IF(OR(AND(ODD($A66)=$A66,ODD(E$2)=E$2),AND(EVEN($A66)=$A66,EVEN(E$2)=E$2)),E$1,-100))","v":46.875},{"$f":"IF('Ceiling Speaker Calculator'!$C$29=\"Square\",F$1,IF(OR(AND(ODD($A66)=$A66,ODD(F$2)=F$2),AND(EVEN($A66)=$A66,EVEN(F$2)=F$2)),F$1,-100))","v":65.625},{"$f":"IF('Ceiling Speaker Calculator'!$C$29=\"Square\",G$1,IF(OR(AND(ODD($A66)=$A66,ODD(G$2)=G$2),AND(EVEN($A66)=$A66,EVEN(G$2)=G$2)),G$1,-100))","v":84.375},{"$f":"IF('Ceiling Speaker Calculator'!$C$29=\"Square\",H$1,IF(OR(AND(ODD($A66)=$A66,ODD(H$2)=H$2),AND(EVEN($A66)=$A66,EVEN(H$2)=H$2)),H$1,-100))","v":103.125},{"$f":"IF('Ceiling Speaker Calculator'!$C$29=\"Square\",I$1,IF(OR(AND(ODD($A66)=$A66,ODD(I$2)=I$2),AND(EVEN($A66)=$A66,EVEN(I$2)=I$2)),I$1,-100))","v":121.875},{"$f":"IF('Ceiling Speaker Calculator'!$C$29=\"Square\",J$1,IF(OR(AND(ODD($A66)=$A66,ODD(J$2)=J$2),AND(EVEN($A66)=$A66,EVEN(J$2)=J$2)),J$1,-100))","v":140.625},{"$f":"IF('Ceiling Speaker Calculator'!$C$29=\"Square\",K$1,IF(OR(AND(ODD($A66)=$A66,ODD(K$2)=K$2),AND(EVEN($A66)=$A66,EVEN(K$2)=K$2)),K$1,-100))","v":159.375},{"$f":"IF('Ceiling Speaker Calculator'!$C$29=\"Square\",L$1,IF(OR(AND(ODD($A66)=$A66,ODD(L$2)=L$2),AND(EVEN($A66)=$A66,EVEN(L$2)=L$2)),L$1,-100))","v":178.125},{"$f":"IF('Ceiling Speaker Calculator'!$C$29=\"Square\",M$1,IF(OR(AND(ODD($A66)=$A66,ODD(M$2)=M$2),AND(EVEN($A66)=$A66,EVEN(M$2)=M$2)),M$1,-100))","v":196.875},{"$f":"IF('Ceiling Speaker Calculator'!$C$29=\"Square\",N$1,IF(OR(AND(ODD($A66)=$A66,ODD(N$2)=N$2),AND(EVEN($A66)=$A66,EVEN(N$2)=N$2)),N$1,-100))","v":215.625},{"$f":"IF('Ceiling Speaker Calculator'!$C$29=\"Square\",O$1,IF(OR(AND(ODD($A66)=$A66,ODD(O$2)=O$2),AND(EVEN($A66)=$A66,EVEN(O$2)=O$2)),O$1,-100))","v":234.375},{"$f":"IF('Ceiling Speaker Calculator'!$C$29=\"Square\",P$1,IF(OR(AND(ODD($A66)=$A66,ODD(P$2)=P$2),AND(EVEN($A66)=$A66,EVEN(P$2)=P$2)),P$1,-100))","v":253.125},{"$f":"IF('Ceiling Speaker Calculator'!$C$29=\"Square\",Q$1,IF(OR(AND(ODD($A66)=$A66,ODD(Q$2)=Q$2),AND(EVEN($A66)=$A66,EVEN(Q$2)=Q$2)),Q$1,-100))","v":271.875},{"$f":"IF('Ceiling Speaker Calculator'!$C$29=\"Square\",R$1,IF(OR(AND(ODD($A66)=$A66,ODD(R$2)=R$2),AND(EVEN($A66)=$A66,EVEN(R$2)=R$2)),R$1,-100))","v":290.625},{"$f":"IF('Ceiling Speaker Calculator'!$C$29=\"Square\",S$1,IF(OR(AND(ODD($A66)=$A66,ODD(S$2)=S$2),AND(EVEN($A66)=$A66,EVEN(S$2)=S$2)),S$1,-100))","v":309.375},{"$f":"IF('Ceiling Speaker Calculator'!$C$29=\"Square\",T$1,IF(OR(AND(ODD($A66)=$A66,ODD(T$2)=T$2),AND(EVEN($A66)=$A66,EVEN(T$2)=T$2)),T$1,-100))","v":328.125},{"$f":"IF('Ceiling Speaker Calculator'!$C$29=\"Square\",U$1,IF(OR(AND(ODD($A66)=$A66,ODD(U$2)=U$2),AND(EVEN($A66)=$A66,EVEN(U$2)=U$2)),U$1,-100))","v":346.875},{"$f":"IF('Ceiling Speaker Calculator'!$C$29=\"Square\",V$1,IF(OR(AND(ODD($A66)=$A66,ODD(V$2)=V$2),AND(EVEN($A66)=$A66,EVEN(V$2)=V$2)),V$1,-100))","v":365.625},{"$f":"IF('Ceiling Speaker Calculator'!$C$29=\"Square\",W$1,IF(OR(AND(ODD($A66)=$A66,ODD(W$2)=W$2),AND(EVEN($A66)=$A66,EVEN(W$2)=W$2)),W$1,-100))","v":384.375},{"$f":"IF('Ceiling Speaker Calculator'!$C$29=\"Square\",X$1,IF(OR(AND(ODD($A66)=$A66,ODD(X$2)=X$2),AND(EVEN($A66)=$A66,EVEN(X$2)=X$2)),X$1,-100))","v":403.125},{"$f":"IF('Ceiling Speaker Calculator'!$C$29=\"Square\",Y$1,IF(OR(AND(ODD($A66)=$A66,ODD(Y$2)=Y$2),AND(EVEN($A66)=$A66,EVEN(Y$2)=Y$2)),Y$1,-100))","v":421.875},{"$f":"IF('Ceiling Speaker Calculator'!$C$29=\"Square\",Z$1,IF(OR(AND(ODD($A66)=$A66,ODD(Z$2)=Z$2),AND(EVEN($A66)=$A66,EVEN(Z$2)=Z$2)),Z$1,-100))","v":440.625},{"$f":"IF('Ceiling Speaker Calculator'!$C$29=\"Square\",AA$1,IF(OR(AND(ODD($A66)=$A66,ODD(AA$2)=AA$2),AND(EVEN($A66)=$A66,EVEN(AA$2)=AA$2)),AA$1,-100))","v":459.375},{"$f":"IF('Ceiling Speaker Calculator'!$C$29=\"Square\",AB$1,IF(OR(AND(ODD($A66)=$A66,ODD(AB$2)=AB$2),AND(EVEN($A66)=$A66,EVEN(AB$2)=AB$2)),AB$1,-100))","v":478.125},{"$f":"IF('Ceiling Speaker Calculator'!$C$29=\"Square\",AC$1,IF(OR(AND(ODD($A66)=$A66,ODD(AC$2)=AC$2),AND(EVEN($A66)=$A66,EVEN(AC$2)=AC$2)),AC$1,-100))","v":496.875},{"$f":"IF('Ceiling Speaker Calculator'!$C$29=\"Square\",AD$1,IF(OR(AND(ODD($A66)=$A66,ODD(AD$2)=AD$2),AND(EVEN($A66)=$A66,EVEN(AD$2)=AD$2)),AD$1,-100))","v":515.625},{"$f":"IF('Ceiling Speaker Calculator'!$C$29=\"Square\",AE$1,IF(OR(AND(ODD($A66)=$A66,ODD(AE$2)=AE$2),AND(EVEN($A66)=$A66,EVEN(AE$2)=AE$2)),AE$1,-100))","v":534.375},{"$f":"IF('Ceiling Speaker Calculator'!$C$29=\"Square\",AF$1,IF(OR(AND(ODD($A66)=$A66,ODD(AF$2)=AF$2),AND(EVEN($A66)=$A66,EVEN(AF$2)=AF$2)),AF$1,-100))","v":553.125},{"$f":"IF('Ceiling Speaker Calculator'!$C$29=\"Square\",AG$1,IF(OR(AND(ODD($A66)=$A66,ODD(AG$2)=AG$2),AND(EVEN($A66)=$A66,EVEN(AG$2)=AG$2)),AG$1,-100))","v":571.875},{"$f":"IF('Ceiling Speaker Calculator'!$C$29=\"Square\",AH$1,IF(OR(AND(ODD($A66)=$A66,ODD(AH$2)=AH$2),AND(EVEN($A66)=$A66,EVEN(AH$2)=AH$2)),AH$1,-100))","v":590.625},{"$f":"IF('Ceiling Speaker Calculator'!$C$29=\"Square\",AI$1,IF(OR(AND(ODD($A66)=$A66,ODD(AI$2)=AI$2),AND(EVEN($A66)=$A66,EVEN(AI$2)=AI$2)),AI$1,-100))","v":609.375},{"$f":"IF('Ceiling Speaker Calculator'!$C$29=\"Square\",AJ$1,IF(OR(AND(ODD($A66)=$A66,ODD(AJ$2)=AJ$2),AND(EVEN($A66)=$A66,EVEN(AJ$2)=AJ$2)),AJ$1,-100))","v":628.125},{"$f":"IF('Ceiling Speaker Calculator'!$C$29=\"Square\",AK$1,IF(OR(AND(ODD($A66)=$A66,ODD(AK$2)=AK$2),AND(EVEN($A66)=$A66,EVEN(AK$2)=AK$2)),AK$1,-100))","v":646.875},{"$f":"IF('Ceiling Speaker Calculator'!$C$29=\"Square\",AL$1,IF(OR(AND(ODD($A66)=$A66,ODD(AL$2)=AL$2),AND(EVEN($A66)=$A66,EVEN(AL$2)=AL$2)),AL$1,-100))","v":665.625},{"$f":"IF('Ceiling Speaker Calculator'!$C$29=\"Square\",AM$1,IF(OR(AND(ODD($A66)=$A66,ODD(AM$2)=AM$2),AND(EVEN($A66)=$A66,EVEN(AM$2)=AM$2)),AM$1,-100))","v":684.375},{"$f":"IF('Ceiling Speaker Calculator'!$C$29=\"Square\",AN$1,IF(OR(AND(ODD($A66)=$A66,ODD(AN$2)=AN$2),AND(EVEN($A66)=$A66,EVEN(AN$2)=AN$2)),AN$1,-100))","v":703.125},{"$f":"IF('Ceiling Speaker Calculator'!$C$29=\"Square\",AO$1,IF(OR(AND(ODD($A66)=$A66,ODD(AO$2)=AO$2),AND(EVEN($A66)=$A66,EVEN(AO$2)=AO$2)),AO$1,-100))","v":721.875},{"$f":"IF('Ceiling Speaker Calculator'!$C$29=\"Square\",AP$1,IF(OR(AND(ODD($A66)=$A66,ODD(AP$2)=AP$2),AND(EVEN($A66)=$A66,EVEN(AP$2)=AP$2)),AP$1,-100))","v":740.625},{"$f":"IF('Ceiling Speaker Calculator'!$C$29=\"Square\",AQ$1,IF(OR(AND(ODD($A66)=$A66,ODD(AQ$2)=AQ$2),AND(EVEN($A66)=$A66,EVEN(AQ$2)=AQ$2)),AQ$1,-100))","v":759.375},{"$f":"IF('Ceiling Speaker Calculator'!$C$29=\"Square\",AR$1,IF(OR(AND(ODD($A66)=$A66,ODD(AR$2)=AR$2),AND(EVEN($A66)=$A66,EVEN(AR$2)=AR$2)),AR$1,-100))","v":778.125},{"$f":"IF('Ceiling Speaker Calculator'!$C$29=\"Square\",AS$1,IF(OR(AND(ODD($A66)=$A66,ODD(AS$2)=AS$2),AND(EVEN($A66)=$A66,EVEN(AS$2)=AS$2)),AS$1,-100))","v":796.875},{"$f":"IF('Ceiling Speaker Calculator'!$C$29=\"Square\",AT$1,IF(OR(AND(ODD($A66)=$A66,ODD(AT$2)=AT$2),AND(EVEN($A66)=$A66,EVEN(AT$2)=AT$2)),AT$1,-100))","v":815.625},{"$f":"IF('Ceiling Speaker Calculator'!$C$29=\"Square\",AU$1,IF(OR(AND(ODD($A66)=$A66,ODD(AU$2)=AU$2),AND(EVEN($A66)=$A66,EVEN(AU$2)=AU$2)),AU$1,-100))","v":834.375},{"$f":"IF('Ceiling Speaker Calculator'!$C$29=\"Square\",AV$1,IF(OR(AND(ODD($A66)=$A66,ODD(AV$2)=AV$2),AND(EVEN($A66)=$A66,EVEN(AV$2)=AV$2)),AV$1,-100))","v":853.125},{"$f":"IF('Ceiling Speaker Calculator'!$C$29=\"Square\",AW$1,IF(OR(AND(ODD($A66)=$A66,ODD(AW$2)=AW$2),AND(EVEN($A66)=$A66,EVEN(AW$2)=AW$2)),AW$1,-100))","v":871.875},{"$f":"IF('Ceiling Speaker Calculator'!$C$29=\"Square\",AX$1,IF(OR(AND(ODD($A66)=$A66,ODD(AX$2)=AX$2),AND(EVEN($A66)=$A66,EVEN(AX$2)=AX$2)),AX$1,-100))","v":890.625},{"$f":"IF('Ceiling Speaker Calculator'!$C$29=\"Square\",AY$1,IF(OR(AND(ODD($A66)=$A66,ODD(AY$2)=AY$2),AND(EVEN($A66)=$A66,EVEN(AY$2)=AY$2)),AY$1,-100))","v":909.375},{"$f":"IF('Ceiling Speaker Calculator'!$C$29=\"Square\",AZ$1,IF(OR(AND(ODD($A66)=$A66,ODD(AZ$2)=AZ$2),AND(EVEN($A66)=$A66,EVEN(AZ$2)=AZ$2)),AZ$1,-100))","v":928.125},{"$f":"IF('Ceiling Speaker Calculator'!$C$29=\"Square\",BA$1,IF(OR(AND(ODD($A66)=$A66,ODD(BA$2)=BA$2),AND(EVEN($A66)=$A66,EVEN(BA$2)=BA$2)),BA$1,-100))","v":946.875},{"$f":"IF('Ceiling Speaker Calculator'!$C$29=\"Square\",BB$1,IF(OR(AND(ODD($A66)=$A66,ODD(BB$2)=BB$2),AND(EVEN($A66)=$A66,EVEN(BB$2)=BB$2)),BB$1,-100))","v":965.625},{"$f":"IF('Ceiling Speaker Calculator'!$C$29=\"Square\",BC$1,IF(OR(AND(ODD($A66)=$A66,ODD(BC$2)=BC$2),AND(EVEN($A66)=$A66,EVEN(BC$2)=BC$2)),BC$1,-100))","v":984.375},{"$f":"IF('Ceiling Speaker Calculator'!$C$29=\"Square\",BD$1,IF(OR(AND(ODD($A66)=$A66,ODD(BD$2)=BD$2),AND(EVEN($A66)=$A66,EVEN(BD$2)=BD$2)),BD$1,-100))","v":1003.125},{"$f":"IF('Ceiling Speaker Calculator'!$C$29=\"Square\",BE$1,IF(OR(AND(ODD($A66)=$A66,ODD(BE$2)=BE$2),AND(EVEN($A66)=$A66,EVEN(BE$2)=BE$2)),BE$1,-100))","v":1021.875},{"$f":"IF('Ceiling Speaker Calculator'!$C$29=\"Square\",BF$1,IF(OR(AND(ODD($A66)=$A66,ODD(BF$2)=BF$2),AND(EVEN($A66)=$A66,EVEN(BF$2)=BF$2)),BF$1,-100))","v":1040.625},{"$f":"IF('Ceiling Speaker Calculator'!$C$29=\"Square\",BG$1,IF(OR(AND(ODD($A66)=$A66,ODD(BG$2)=BG$2),AND(EVEN($A66)=$A66,EVEN(BG$2)=BG$2)),BG$1,-100))","v":1059.375},{"$f":"IF('Ceiling Speaker Calculator'!$C$29=\"Square\",BH$1,IF(OR(AND(ODD($A66)=$A66,ODD(BH$2)=BH$2),AND(EVEN($A66)=$A66,EVEN(BH$2)=BH$2)),BH$1,-100))","v":1078.125},{"$f":"IF('Ceiling Speaker Calculator'!$C$29=\"Square\",BI$1,IF(OR(AND(ODD($A66)=$A66,ODD(BI$2)=BI$2),AND(EVEN($A66)=$A66,EVEN(BI$2)=BI$2)),BI$1,-100))","v":1096.875},{"$f":"IF('Ceiling Speaker Calculator'!$C$29=\"Square\",BJ$1,IF(OR(AND(ODD($A66)=$A66,ODD(BJ$2)=BJ$2),AND(EVEN($A66)=$A66,EVEN(BJ$2)=BJ$2)),BJ$1,-100))","v":1115.625},{"$f":"IF('Ceiling Speaker Calculator'!$C$29=\"Square\",BK$1,IF(OR(AND(ODD($A66)=$A66,ODD(BK$2)=BK$2),AND(EVEN($A66)=$A66,EVEN(BK$2)=BK$2)),BK$1,-100))","v":1134.375},{"$f":"IF('Ceiling Speaker Calculator'!$C$29=\"Square\",BL$1,IF(OR(AND(ODD($A66)=$A66,ODD(BL$2)=BL$2),AND(EVEN($A66)=$A66,EVEN(BL$2)=BL$2)),BL$1,-100))","v":1153.125},{"$f":"IF('Ceiling Speaker Calculator'!$C$29=\"Square\",BM$1,IF(OR(AND(ODD($A66)=$A66,ODD(BM$2)=BM$2),AND(EVEN($A66)=$A66,EVEN(BM$2)=BM$2)),BM$1,-100))","v":1171.875},{"$f":"IF('Ceiling Speaker Calculator'!$C$29=\"Square\",BN$1,IF(OR(AND(ODD($A66)=$A66,ODD(BN$2)=BN$2),AND(EVEN($A66)=$A66,EVEN(BN$2)=BN$2)),BN$1,-100))","v":1190.625},{"$f":"IF('Ceiling Speaker Calculator'!$C$29=\"Square\",BO$1,IF(OR(AND(ODD($A66)=$A66,ODD(BO$2)=BO$2),AND(EVEN($A66)=$A66,EVEN(BO$2)=BO$2)),BO$1,-100))","v":1209.375},{"$f":"IF('Ceiling Speaker Calculator'!$C$29=\"Square\",BP$1,IF(OR(AND(ODD($A66)=$A66,ODD(BP$2)=BP$2),AND(EVEN($A66)=$A66,EVEN(BP$2)=BP$2)),BP$1,-100))","v":1228.125},{"$f":"IF('Ceiling Speaker Calculator'!$C$29=\"Square\",BQ$1,IF(OR(AND(ODD($A66)=$A66,ODD(BQ$2)=BQ$2),AND(EVEN($A66)=$A66,EVEN(BQ$2)=BQ$2)),BQ$1,-100))","v":1246.875},{"$f":"IF('Ceiling Speaker Calculator'!$C$29=\"Square\",BR$1,IF(OR(AND(ODD($A66)=$A66,ODD(BR$2)=BR$2),AND(EVEN($A66)=$A66,EVEN(BR$2)=BR$2)),BR$1,-100))","v":1265.625},{"$f":"IF('Ceiling Speaker Calculator'!$C$29=\"Square\",BS$1,IF(OR(AND(ODD($A66)=$A66,ODD(BS$2)=BS$2),AND(EVEN($A66)=$A66,EVEN(BS$2)=BS$2)),BS$1,-100))","v":1284.375},{"$f":"IF('Ceiling Speaker Calculator'!$C$29=\"Square\",BT$1,IF(OR(AND(ODD($A66)=$A66,ODD(BT$2)=BT$2),AND(EVEN($A66)=$A66,EVEN(BT$2)=BT$2)),BT$1,-100))","v":1303.125},{"$f":"IF('Ceiling Speaker Calculator'!$C$29=\"Square\",BU$1,IF(OR(AND(ODD($A66)=$A66,ODD(BU$2)=BU$2),AND(EVEN($A66)=$A66,EVEN(BU$2)=BU$2)),BU$1,-100))","v":1321.875},{"$f":"IF('Ceiling Speaker Calculator'!$C$29=\"Square\",BV$1,IF(OR(AND(ODD($A66)=$A66,ODD(BV$2)=BV$2),AND(EVEN($A66)=$A66,EVEN(BV$2)=BV$2)),BV$1,-100))","v":1340.625},{"$f":"IF('Ceiling Speaker Calculator'!$C$29=\"Square\",BW$1,IF(OR(AND(ODD($A66)=$A66,ODD(BW$2)=BW$2),AND(EVEN($A66)=$A66,EVEN(BW$2)=BW$2)),BW$1,-100))","v":1359.375},{"$f":"IF('Ceiling Speaker Calculator'!$C$29=\"Square\",BX$1,IF(OR(AND(ODD($A66)=$A66,ODD(BX$2)=BX$2),AND(EVEN($A66)=$A66,EVEN(BX$2)=BX$2)),BX$1,-100))","v":1378.125},{"$f":"IF('Ceiling Speaker Calculator'!$C$29=\"Square\",BY$1,IF(OR(AND(ODD($A66)=$A66,ODD(BY$2)=BY$2),AND(EVEN($A66)=$A66,EVEN(BY$2)=BY$2)),BY$1,-100))","v":1396.875},{"$f":"IF('Ceiling Speaker Calculator'!$C$29=\"Square\",BZ$1,IF(OR(AND(ODD($A66)=$A66,ODD(BZ$2)=BZ$2),AND(EVEN($A66)=$A66,EVEN(BZ$2)=BZ$2)),BZ$1,-100))","v":1415.625},{"$f":"IF('Ceiling Speaker Calculator'!$C$29=\"Square\",CA$1,IF(OR(AND(ODD($A66)=$A66,ODD(CA$2)=CA$2),AND(EVEN($A66)=$A66,EVEN(CA$2)=CA$2)),CA$1,-100))","v":1434.375},{"$f":"IF('Ceiling Speaker Calculator'!$C$29=\"Square\",CB$1,IF(OR(AND(ODD($A66)=$A66,ODD(CB$2)=CB$2),AND(EVEN($A66)=$A66,EVEN(CB$2)=CB$2)),CB$1,-100))","v":1453.125},{"$f":"IF('Ceiling Speaker Calculator'!$C$29=\"Square\",CC$1,IF(OR(AND(ODD($A66)=$A66,ODD(CC$2)=CC$2),AND(EVEN($A66)=$A66,EVEN(CC$2)=CC$2)),CC$1,-100))","v":1471.875},{"$f":"IF('Ceiling Speaker Calculator'!$C$29=\"Square\",CD$1,IF(OR(AND(ODD($A66)=$A66,ODD(CD$2)=CD$2),AND(EVEN($A66)=$A66,EVEN(CD$2)=CD$2)),CD$1,-100))","v":1490.625},{"$f":"IF('Ceiling Speaker Calculator'!$C$29=\"Square\",CE$1,IF(OR(AND(ODD($A66)=$A66,ODD(CE$2)=CE$2),AND(EVEN($A66)=$A66,EVEN(CE$2)=CE$2)),CE$1,-100))","v":1509.375},{"$f":"IF('Ceiling Speaker Calculator'!$C$29=\"Square\",CF$1,IF(OR(AND(ODD($A66)=$A66,ODD(CF$2)=CF$2),AND(EVEN($A66)=$A66,EVEN(CF$2)=CF$2)),CF$1,-100))","v":1528.125},{"$f":"IF('Ceiling Speaker Calculator'!$C$29=\"Square\",CG$1,IF(OR(AND(ODD($A66)=$A66,ODD(CG$2)=CG$2),AND(EVEN($A66)=$A66,EVEN(CG$2)=CG$2)),CG$1,-100))","v":1546.875},{"$f":"IF('Ceiling Speaker Calculator'!$C$29=\"Square\",CH$1,IF(OR(AND(ODD($A66)=$A66,ODD(CH$2)=CH$2),AND(EVEN($A66)=$A66,EVEN(CH$2)=CH$2)),CH$1,-100))","v":1565.625},{"$f":"IF('Ceiling Speaker Calculator'!$C$29=\"Square\",CI$1,IF(OR(AND(ODD($A66)=$A66,ODD(CI$2)=CI$2),AND(EVEN($A66)=$A66,EVEN(CI$2)=CI$2)),CI$1,-100))","v":1584.375},{"$f":"IF('Ceiling Speaker Calculator'!$C$29=\"Square\",CJ$1,IF(OR(AND(ODD($A66)=$A66,ODD(CJ$2)=CJ$2),AND(EVEN($A66)=$A66,EVEN(CJ$2)=CJ$2)),CJ$1,-100))","v":1603.125},{"$f":"IF('Ceiling Speaker Calculator'!$C$29=\"Square\",CK$1,IF(OR(AND(ODD($A66)=$A66,ODD(CK$2)=CK$2),AND(EVEN($A66)=$A66,EVEN(CK$2)=CK$2)),CK$1,-100))","v":1621.875},{"$f":"IF('Ceiling Speaker Calculator'!$C$29=\"Square\",CL$1,IF(OR(AND(ODD($A66)=$A66,ODD(CL$2)=CL$2),AND(EVEN($A66)=$A66,EVEN(CL$2)=CL$2)),CL$1,-100))","v":1640.625},{"$f":"IF('Ceiling Speaker Calculator'!$C$29=\"Square\",CM$1,IF(OR(AND(ODD($A66)=$A66,ODD(CM$2)=CM$2),AND(EVEN($A66)=$A66,EVEN(CM$2)=CM$2)),CM$1,-100))","v":1659.375},{"$f":"IF('Ceiling Speaker Calculator'!$C$29=\"Square\",CN$1,IF(OR(AND(ODD($A66)=$A66,ODD(CN$2)=CN$2),AND(EVEN($A66)=$A66,EVEN(CN$2)=CN$2)),CN$1,-100))","v":1678.125},{"$f":"IF('Ceiling Speaker Calculator'!$C$29=\"Square\",CO$1,IF(OR(AND(ODD($A66)=$A66,ODD(CO$2)=CO$2),AND(EVEN($A66)=$A66,EVEN(CO$2)=CO$2)),CO$1,-100))","v":1696.875},{"$f":"IF('Ceiling Speaker Calculator'!$C$29=\"Square\",CP$1,IF(OR(AND(ODD($A66)=$A66,ODD(CP$2)=CP$2),AND(EVEN($A66)=$A66,EVEN(CP$2)=CP$2)),CP$1,-100))","v":1715.625},{"$f":"IF('Ceiling Speaker Calculator'!$C$29=\"Square\",CQ$1,IF(OR(AND(ODD($A66)=$A66,ODD(CQ$2)=CQ$2),AND(EVEN($A66)=$A66,EVEN(CQ$2)=CQ$2)),CQ$1,-100))","v":1734.375},{"$f":"IF('Ceiling Speaker Calculator'!$C$29=\"Square\",CR$1,IF(OR(AND(ODD($A66)=$A66,ODD(CR$2)=CR$2),AND(EVEN($A66)=$A66,EVEN(CR$2)=CR$2)),CR$1,-100))","v":1753.125},{"$f":"IF('Ceiling Speaker Calculator'!$C$29=\"Square\",CS$1,IF(OR(AND(ODD($A66)=$A66,ODD(CS$2)=CS$2),AND(EVEN($A66)=$A66,EVEN(CS$2)=CS$2)),CS$1,-100))","v":1771.875},{"$f":"IF('Ceiling Speaker Calculator'!$C$29=\"Square\",CT$1,IF(OR(AND(ODD($A66)=$A66,ODD(CT$2)=CT$2),AND(EVEN($A66)=$A66,EVEN(CT$2)=CT$2)),CT$1,-100))","v":1790.625},{"$f":"IF('Ceiling Speaker Calculator'!$C$29=\"Square\",CU$1,IF(OR(AND(ODD($A66)=$A66,ODD(CU$2)=CU$2),AND(EVEN($A66)=$A66,EVEN(CU$2)=CU$2)),CU$1,-100))","v":1809.375},{"$f":"IF('Ceiling Speaker Calculator'!$C$29=\"Square\",CV$1,IF(OR(AND(ODD($A66)=$A66,ODD(CV$2)=CV$2),AND(EVEN($A66)=$A66,EVEN(CV$2)=CV$2)),CV$1,-100))","v":1828.125},{"$f":"IF('Ceiling Speaker Calculator'!$C$29=\"Square\",CW$1,IF(OR(AND(ODD($A66)=$A66,ODD(CW$2)=CW$2),AND(EVEN($A66)=$A66,EVEN(CW$2)=CW$2)),CW$1,-100))","v":1846.875},{"$f":"IF('Ceiling Speaker Calculator'!$C$29=\"Square\",CX$1,IF(OR(AND(ODD($A66)=$A66,ODD(CX$2)=CX$2),AND(EVEN($A66)=$A66,EVEN(CX$2)=CX$2)),CX$1,-100))","v":1865.625}]
[65,{"$f":"B66+'Ceiling Speaker Calculator'!$K$16","v":1290},{"$f":"IF('Ceiling Speaker Calculator'!$C$29=\"Square\",C$1,IF(OR(AND(ODD($A67)=$A67,ODD(C$2)=C$2),AND(EVEN($A67)=$A67,EVEN(C$2)=C$2)),C$1,-100))","v":9.375},{"$f":"IF('Ceiling Speaker Calculator'!$C$29=\"Square\",D$1,IF(OR(AND(ODD($A67)=$A67,ODD(D$2)=D$2),AND(EVEN($A67)=$A67,EVEN(D$2)=D$2)),D$1,-100))","v":28.125},{"$f":"IF('Ceiling Speaker Calculator'!$C$29=\"Square\",E$1,IF(OR(AND(ODD($A67)=$A67,ODD(E$2)=E$2),AND(EVEN($A67)=$A67,EVEN(E$2)=E$2)),E$1,-100))","v":46.875},{"$f":"IF('Ceiling Speaker Calculator'!$C$29=\"Square\",F$1,IF(OR(AND(ODD($A67)=$A67,ODD(F$2)=F$2),AND(EVEN($A67)=$A67,EVEN(F$2)=F$2)),F$1,-100))","v":65.625},{"$f":"IF('Ceiling Speaker Calculator'!$C$29=\"Square\",G$1,IF(OR(AND(ODD($A67)=$A67,ODD(G$2)=G$2),AND(EVEN($A67)=$A67,EVEN(G$2)=G$2)),G$1,-100))","v":84.375},{"$f":"IF('Ceiling Speaker Calculator'!$C$29=\"Square\",H$1,IF(OR(AND(ODD($A67)=$A67,ODD(H$2)=H$2),AND(EVEN($A67)=$A67,EVEN(H$2)=H$2)),H$1,-100))","v":103.125},{"$f":"IF('Ceiling Speaker Calculator'!$C$29=\"Square\",I$1,IF(OR(AND(ODD($A67)=$A67,ODD(I$2)=I$2),AND(EVEN($A67)=$A67,EVEN(I$2)=I$2)),I$1,-100))","v":121.875},{"$f":"IF('Ceiling Speaker Calculator'!$C$29=\"Square\",J$1,IF(OR(AND(ODD($A67)=$A67,ODD(J$2)=J$2),AND(EVEN($A67)=$A67,EVEN(J$2)=J$2)),J$1,-100))","v":140.625},{"$f":"IF('Ceiling Speaker Calculator'!$C$29=\"Square\",K$1,IF(OR(AND(ODD($A67)=$A67,ODD(K$2)=K$2),AND(EVEN($A67)=$A67,EVEN(K$2)=K$2)),K$1,-100))","v":159.375},{"$f":"IF('Ceiling Speaker Calculator'!$C$29=\"Square\",L$1,IF(OR(AND(ODD($A67)=$A67,ODD(L$2)=L$2),AND(EVEN($A67)=$A67,EVEN(L$2)=L$2)),L$1,-100))","v":178.125},{"$f":"IF('Ceiling Speaker Calculator'!$C$29=\"Square\",M$1,IF(OR(AND(ODD($A67)=$A67,ODD(M$2)=M$2),AND(EVEN($A67)=$A67,EVEN(M$2)=M$2)),M$1,-100))","v":196.875},{"$f":"IF('Ceiling Speaker Calculator'!$C$29=\"Square\",N$1,IF(OR(AND(ODD($A67)=$A67,ODD(N$2)=N$2),AND(EVEN($A67)=$A67,EVEN(N$2)=N$2)),N$1,-100))","v":215.625},{"$f":"IF('Ceiling Speaker Calculator'!$C$29=\"Square\",O$1,IF(OR(AND(ODD($A67)=$A67,ODD(O$2)=O$2),AND(EVEN($A67)=$A67,EVEN(O$2)=O$2)),O$1,-100))","v":234.375},{"$f":"IF('Ceiling Speaker Calculator'!$C$29=\"Square\",P$1,IF(OR(AND(ODD($A67)=$A67,ODD(P$2)=P$2),AND(EVEN($A67)=$A67,EVEN(P$2)=P$2)),P$1,-100))","v":253.125},{"$f":"IF('Ceiling Speaker Calculator'!$C$29=\"Square\",Q$1,IF(OR(AND(ODD($A67)=$A67,ODD(Q$2)=Q$2),AND(EVEN($A67)=$A67,EVEN(Q$2)=Q$2)),Q$1,-100))","v":271.875},{"$f":"IF('Ceiling Speaker Calculator'!$C$29=\"Square\",R$1,IF(OR(AND(ODD($A67)=$A67,ODD(R$2)=R$2),AND(EVEN($A67)=$A67,EVEN(R$2)=R$2)),R$1,-100))","v":290.625},{"$f":"IF('Ceiling Speaker Calculator'!$C$29=\"Square\",S$1,IF(OR(AND(ODD($A67)=$A67,ODD(S$2)=S$2),AND(EVEN($A67)=$A67,EVEN(S$2)=S$2)),S$1,-100))","v":309.375},{"$f":"IF('Ceiling Speaker Calculator'!$C$29=\"Square\",T$1,IF(OR(AND(ODD($A67)=$A67,ODD(T$2)=T$2),AND(EVEN($A67)=$A67,EVEN(T$2)=T$2)),T$1,-100))","v":328.125},{"$f":"IF('Ceiling Speaker Calculator'!$C$29=\"Square\",U$1,IF(OR(AND(ODD($A67)=$A67,ODD(U$2)=U$2),AND(EVEN($A67)=$A67,EVEN(U$2)=U$2)),U$1,-100))","v":346.875},{"$f":"IF('Ceiling Speaker Calculator'!$C$29=\"Square\",V$1,IF(OR(AND(ODD($A67)=$A67,ODD(V$2)=V$2),AND(EVEN($A67)=$A67,EVEN(V$2)=V$2)),V$1,-100))","v":365.625},{"$f":"IF('Ceiling Speaker Calculator'!$C$29=\"Square\",W$1,IF(OR(AND(ODD($A67)=$A67,ODD(W$2)=W$2),AND(EVEN($A67)=$A67,EVEN(W$2)=W$2)),W$1,-100))","v":384.375},{"$f":"IF('Ceiling Speaker Calculator'!$C$29=\"Square\",X$1,IF(OR(AND(ODD($A67)=$A67,ODD(X$2)=X$2),AND(EVEN($A67)=$A67,EVEN(X$2)=X$2)),X$1,-100))","v":403.125},{"$f":"IF('Ceiling Speaker Calculator'!$C$29=\"Square\",Y$1,IF(OR(AND(ODD($A67)=$A67,ODD(Y$2)=Y$2),AND(EVEN($A67)=$A67,EVEN(Y$2)=Y$2)),Y$1,-100))","v":421.875},{"$f":"IF('Ceiling Speaker Calculator'!$C$29=\"Square\",Z$1,IF(OR(AND(ODD($A67)=$A67,ODD(Z$2)=Z$2),AND(EVEN($A67)=$A67,EVEN(Z$2)=Z$2)),Z$1,-100))","v":440.625},{"$f":"IF('Ceiling Speaker Calculator'!$C$29=\"Square\",AA$1,IF(OR(AND(ODD($A67)=$A67,ODD(AA$2)=AA$2),AND(EVEN($A67)=$A67,EVEN(AA$2)=AA$2)),AA$1,-100))","v":459.375},{"$f":"IF('Ceiling Speaker Calculator'!$C$29=\"Square\",AB$1,IF(OR(AND(ODD($A67)=$A67,ODD(AB$2)=AB$2),AND(EVEN($A67)=$A67,EVEN(AB$2)=AB$2)),AB$1,-100))","v":478.125},{"$f":"IF('Ceiling Speaker Calculator'!$C$29=\"Square\",AC$1,IF(OR(AND(ODD($A67)=$A67,ODD(AC$2)=AC$2),AND(EVEN($A67)=$A67,EVEN(AC$2)=AC$2)),AC$1,-100))","v":496.875},{"$f":"IF('Ceiling Speaker Calculator'!$C$29=\"Square\",AD$1,IF(OR(AND(ODD($A67)=$A67,ODD(AD$2)=AD$2),AND(EVEN($A67)=$A67,EVEN(AD$2)=AD$2)),AD$1,-100))","v":515.625},{"$f":"IF('Ceiling Speaker Calculator'!$C$29=\"Square\",AE$1,IF(OR(AND(ODD($A67)=$A67,ODD(AE$2)=AE$2),AND(EVEN($A67)=$A67,EVEN(AE$2)=AE$2)),AE$1,-100))","v":534.375},{"$f":"IF('Ceiling Speaker Calculator'!$C$29=\"Square\",AF$1,IF(OR(AND(ODD($A67)=$A67,ODD(AF$2)=AF$2),AND(EVEN($A67)=$A67,EVEN(AF$2)=AF$2)),AF$1,-100))","v":553.125},{"$f":"IF('Ceiling Speaker Calculator'!$C$29=\"Square\",AG$1,IF(OR(AND(ODD($A67)=$A67,ODD(AG$2)=AG$2),AND(EVEN($A67)=$A67,EVEN(AG$2)=AG$2)),AG$1,-100))","v":571.875},{"$f":"IF('Ceiling Speaker Calculator'!$C$29=\"Square\",AH$1,IF(OR(AND(ODD($A67)=$A67,ODD(AH$2)=AH$2),AND(EVEN($A67)=$A67,EVEN(AH$2)=AH$2)),AH$1,-100))","v":590.625},{"$f":"IF('Ceiling Speaker Calculator'!$C$29=\"Square\",AI$1,IF(OR(AND(ODD($A67)=$A67,ODD(AI$2)=AI$2),AND(EVEN($A67)=$A67,EVEN(AI$2)=AI$2)),AI$1,-100))","v":609.375},{"$f":"IF('Ceiling Speaker Calculator'!$C$29=\"Square\",AJ$1,IF(OR(AND(ODD($A67)=$A67,ODD(AJ$2)=AJ$2),AND(EVEN($A67)=$A67,EVEN(AJ$2)=AJ$2)),AJ$1,-100))","v":628.125},{"$f":"IF('Ceiling Speaker Calculator'!$C$29=\"Square\",AK$1,IF(OR(AND(ODD($A67)=$A67,ODD(AK$2)=AK$2),AND(EVEN($A67)=$A67,EVEN(AK$2)=AK$2)),AK$1,-100))","v":646.875},{"$f":"IF('Ceiling Speaker Calculator'!$C$29=\"Square\",AL$1,IF(OR(AND(ODD($A67)=$A67,ODD(AL$2)=AL$2),AND(EVEN($A67)=$A67,EVEN(AL$2)=AL$2)),AL$1,-100))","v":665.625},{"$f":"IF('Ceiling Speaker Calculator'!$C$29=\"Square\",AM$1,IF(OR(AND(ODD($A67)=$A67,ODD(AM$2)=AM$2),AND(EVEN($A67)=$A67,EVEN(AM$2)=AM$2)),AM$1,-100))","v":684.375},{"$f":"IF('Ceiling Speaker Calculator'!$C$29=\"Square\",AN$1,IF(OR(AND(ODD($A67)=$A67,ODD(AN$2)=AN$2),AND(EVEN($A67)=$A67,EVEN(AN$2)=AN$2)),AN$1,-100))","v":703.125},{"$f":"IF('Ceiling Speaker Calculator'!$C$29=\"Square\",AO$1,IF(OR(AND(ODD($A67)=$A67,ODD(AO$2)=AO$2),AND(EVEN($A67)=$A67,EVEN(AO$2)=AO$2)),AO$1,-100))","v":721.875},{"$f":"IF('Ceiling Speaker Calculator'!$C$29=\"Square\",AP$1,IF(OR(AND(ODD($A67)=$A67,ODD(AP$2)=AP$2),AND(EVEN($A67)=$A67,EVEN(AP$2)=AP$2)),AP$1,-100))","v":740.625},{"$f":"IF('Ceiling Speaker Calculator'!$C$29=\"Square\",AQ$1,IF(OR(AND(ODD($A67)=$A67,ODD(AQ$2)=AQ$2),AND(EVEN($A67)=$A67,EVEN(AQ$2)=AQ$2)),AQ$1,-100))","v":759.375},{"$f":"IF('Ceiling Speaker Calculator'!$C$29=\"Square\",AR$1,IF(OR(AND(ODD($A67)=$A67,ODD(AR$2)=AR$2),AND(EVEN($A67)=$A67,EVEN(AR$2)=AR$2)),AR$1,-100))","v":778.125},{"$f":"IF('Ceiling Speaker Calculator'!$C$29=\"Square\",AS$1,IF(OR(AND(ODD($A67)=$A67,ODD(AS$2)=AS$2),AND(EVEN($A67)=$A67,EVEN(AS$2)=AS$2)),AS$1,-100))","v":796.875},{"$f":"IF('Ceiling Speaker Calculator'!$C$29=\"Square\",AT$1,IF(OR(AND(ODD($A67)=$A67,ODD(AT$2)=AT$2),AND(EVEN($A67)=$A67,EVEN(AT$2)=AT$2)),AT$1,-100))","v":815.625},{"$f":"IF('Ceiling Speaker Calculator'!$C$29=\"Square\",AU$1,IF(OR(AND(ODD($A67)=$A67,ODD(AU$2)=AU$2),AND(EVEN($A67)=$A67,EVEN(AU$2)=AU$2)),AU$1,-100))","v":834.375},{"$f":"IF('Ceiling Speaker Calculator'!$C$29=\"Square\",AV$1,IF(OR(AND(ODD($A67)=$A67,ODD(AV$2)=AV$2),AND(EVEN($A67)=$A67,EVEN(AV$2)=AV$2)),AV$1,-100))","v":853.125},{"$f":"IF('Ceiling Speaker Calculator'!$C$29=\"Square\",AW$1,IF(OR(AND(ODD($A67)=$A67,ODD(AW$2)=AW$2),AND(EVEN($A67)=$A67,EVEN(AW$2)=AW$2)),AW$1,-100))","v":871.875},{"$f":"IF('Ceiling Speaker Calculator'!$C$29=\"Square\",AX$1,IF(OR(AND(ODD($A67)=$A67,ODD(AX$2)=AX$2),AND(EVEN($A67)=$A67,EVEN(AX$2)=AX$2)),AX$1,-100))","v":890.625},{"$f":"IF('Ceiling Speaker Calculator'!$C$29=\"Square\",AY$1,IF(OR(AND(ODD($A67)=$A67,ODD(AY$2)=AY$2),AND(EVEN($A67)=$A67,EVEN(AY$2)=AY$2)),AY$1,-100))","v":909.375},{"$f":"IF('Ceiling Speaker Calculator'!$C$29=\"Square\",AZ$1,IF(OR(AND(ODD($A67)=$A67,ODD(AZ$2)=AZ$2),AND(EVEN($A67)=$A67,EVEN(AZ$2)=AZ$2)),AZ$1,-100))","v":928.125},{"$f":"IF('Ceiling Speaker Calculator'!$C$29=\"Square\",BA$1,IF(OR(AND(ODD($A67)=$A67,ODD(BA$2)=BA$2),AND(EVEN($A67)=$A67,EVEN(BA$2)=BA$2)),BA$1,-100))","v":946.875},{"$f":"IF('Ceiling Speaker Calculator'!$C$29=\"Square\",BB$1,IF(OR(AND(ODD($A67)=$A67,ODD(BB$2)=BB$2),AND(EVEN($A67)=$A67,EVEN(BB$2)=BB$2)),BB$1,-100))","v":965.625},{"$f":"IF('Ceiling Speaker Calculator'!$C$29=\"Square\",BC$1,IF(OR(AND(ODD($A67)=$A67,ODD(BC$2)=BC$2),AND(EVEN($A67)=$A67,EVEN(BC$2)=BC$2)),BC$1,-100))","v":984.375},{"$f":"IF('Ceiling Speaker Calculator'!$C$29=\"Square\",BD$1,IF(OR(AND(ODD($A67)=$A67,ODD(BD$2)=BD$2),AND(EVEN($A67)=$A67,EVEN(BD$2)=BD$2)),BD$1,-100))","v":1003.125},{"$f":"IF('Ceiling Speaker Calculator'!$C$29=\"Square\",BE$1,IF(OR(AND(ODD($A67)=$A67,ODD(BE$2)=BE$2),AND(EVEN($A67)=$A67,EVEN(BE$2)=BE$2)),BE$1,-100))","v":1021.875},{"$f":"IF('Ceiling Speaker Calculator'!$C$29=\"Square\",BF$1,IF(OR(AND(ODD($A67)=$A67,ODD(BF$2)=BF$2),AND(EVEN($A67)=$A67,EVEN(BF$2)=BF$2)),BF$1,-100))","v":1040.625},{"$f":"IF('Ceiling Speaker Calculator'!$C$29=\"Square\",BG$1,IF(OR(AND(ODD($A67)=$A67,ODD(BG$2)=BG$2),AND(EVEN($A67)=$A67,EVEN(BG$2)=BG$2)),BG$1,-100))","v":1059.375},{"$f":"IF('Ceiling Speaker Calculator'!$C$29=\"Square\",BH$1,IF(OR(AND(ODD($A67)=$A67,ODD(BH$2)=BH$2),AND(EVEN($A67)=$A67,EVEN(BH$2)=BH$2)),BH$1,-100))","v":1078.125},{"$f":"IF('Ceiling Speaker Calculator'!$C$29=\"Square\",BI$1,IF(OR(AND(ODD($A67)=$A67,ODD(BI$2)=BI$2),AND(EVEN($A67)=$A67,EVEN(BI$2)=BI$2)),BI$1,-100))","v":1096.875},{"$f":"IF('Ceiling Speaker Calculator'!$C$29=\"Square\",BJ$1,IF(OR(AND(ODD($A67)=$A67,ODD(BJ$2)=BJ$2),AND(EVEN($A67)=$A67,EVEN(BJ$2)=BJ$2)),BJ$1,-100))","v":1115.625},{"$f":"IF('Ceiling Speaker Calculator'!$C$29=\"Square\",BK$1,IF(OR(AND(ODD($A67)=$A67,ODD(BK$2)=BK$2),AND(EVEN($A67)=$A67,EVEN(BK$2)=BK$2)),BK$1,-100))","v":1134.375},{"$f":"IF('Ceiling Speaker Calculator'!$C$29=\"Square\",BL$1,IF(OR(AND(ODD($A67)=$A67,ODD(BL$2)=BL$2),AND(EVEN($A67)=$A67,EVEN(BL$2)=BL$2)),BL$1,-100))","v":1153.125},{"$f":"IF('Ceiling Speaker Calculator'!$C$29=\"Square\",BM$1,IF(OR(AND(ODD($A67)=$A67,ODD(BM$2)=BM$2),AND(EVEN($A67)=$A67,EVEN(BM$2)=BM$2)),BM$1,-100))","v":1171.875},{"$f":"IF('Ceiling Speaker Calculator'!$C$29=\"Square\",BN$1,IF(OR(AND(ODD($A67)=$A67,ODD(BN$2)=BN$2),AND(EVEN($A67)=$A67,EVEN(BN$2)=BN$2)),BN$1,-100))","v":1190.625},{"$f":"IF('Ceiling Speaker Calculator'!$C$29=\"Square\",BO$1,IF(OR(AND(ODD($A67)=$A67,ODD(BO$2)=BO$2),AND(EVEN($A67)=$A67,EVEN(BO$2)=BO$2)),BO$1,-100))","v":1209.375},{"$f":"IF('Ceiling Speaker Calculator'!$C$29=\"Square\",BP$1,IF(OR(AND(ODD($A67)=$A67,ODD(BP$2)=BP$2),AND(EVEN($A67)=$A67,EVEN(BP$2)=BP$2)),BP$1,-100))","v":1228.125},{"$f":"IF('Ceiling Speaker Calculator'!$C$29=\"Square\",BQ$1,IF(OR(AND(ODD($A67)=$A67,ODD(BQ$2)=BQ$2),AND(EVEN($A67)=$A67,EVEN(BQ$2)=BQ$2)),BQ$1,-100))","v":1246.875},{"$f":"IF('Ceiling Speaker Calculator'!$C$29=\"Square\",BR$1,IF(OR(AND(ODD($A67)=$A67,ODD(BR$2)=BR$2),AND(EVEN($A67)=$A67,EVEN(BR$2)=BR$2)),BR$1,-100))","v":1265.625},{"$f":"IF('Ceiling Speaker Calculator'!$C$29=\"Square\",BS$1,IF(OR(AND(ODD($A67)=$A67,ODD(BS$2)=BS$2),AND(EVEN($A67)=$A67,EVEN(BS$2)=BS$2)),BS$1,-100))","v":1284.375},{"$f":"IF('Ceiling Speaker Calculator'!$C$29=\"Square\",BT$1,IF(OR(AND(ODD($A67)=$A67,ODD(BT$2)=BT$2),AND(EVEN($A67)=$A67,EVEN(BT$2)=BT$2)),BT$1,-100))","v":1303.125},{"$f":"IF('Ceiling Speaker Calculator'!$C$29=\"Square\",BU$1,IF(OR(AND(ODD($A67)=$A67,ODD(BU$2)=BU$2),AND(EVEN($A67)=$A67,EVEN(BU$2)=BU$2)),BU$1,-100))","v":1321.875},{"$f":"IF('Ceiling Speaker Calculator'!$C$29=\"Square\",BV$1,IF(OR(AND(ODD($A67)=$A67,ODD(BV$2)=BV$2),AND(EVEN($A67)=$A67,EVEN(BV$2)=BV$2)),BV$1,-100))","v":1340.625},{"$f":"IF('Ceiling Speaker Calculator'!$C$29=\"Square\",BW$1,IF(OR(AND(ODD($A67)=$A67,ODD(BW$2)=BW$2),AND(EVEN($A67)=$A67,EVEN(BW$2)=BW$2)),BW$1,-100))","v":1359.375},{"$f":"IF('Ceiling Speaker Calculator'!$C$29=\"Square\",BX$1,IF(OR(AND(ODD($A67)=$A67,ODD(BX$2)=BX$2),AND(EVEN($A67)=$A67,EVEN(BX$2)=BX$2)),BX$1,-100))","v":1378.125},{"$f":"IF('Ceiling Speaker Calculator'!$C$29=\"Square\",BY$1,IF(OR(AND(ODD($A67)=$A67,ODD(BY$2)=BY$2),AND(EVEN($A67)=$A67,EVEN(BY$2)=BY$2)),BY$1,-100))","v":1396.875},{"$f":"IF('Ceiling Speaker Calculator'!$C$29=\"Square\",BZ$1,IF(OR(AND(ODD($A67)=$A67,ODD(BZ$2)=BZ$2),AND(EVEN($A67)=$A67,EVEN(BZ$2)=BZ$2)),BZ$1,-100))","v":1415.625},{"$f":"IF('Ceiling Speaker Calculator'!$C$29=\"Square\",CA$1,IF(OR(AND(ODD($A67)=$A67,ODD(CA$2)=CA$2),AND(EVEN($A67)=$A67,EVEN(CA$2)=CA$2)),CA$1,-100))","v":1434.375},{"$f":"IF('Ceiling Speaker Calculator'!$C$29=\"Square\",CB$1,IF(OR(AND(ODD($A67)=$A67,ODD(CB$2)=CB$2),AND(EVEN($A67)=$A67,EVEN(CB$2)=CB$2)),CB$1,-100))","v":1453.125},{"$f":"IF('Ceiling Speaker Calculator'!$C$29=\"Square\",CC$1,IF(OR(AND(ODD($A67)=$A67,ODD(CC$2)=CC$2),AND(EVEN($A67)=$A67,EVEN(CC$2)=CC$2)),CC$1,-100))","v":1471.875},{"$f":"IF('Ceiling Speaker Calculator'!$C$29=\"Square\",CD$1,IF(OR(AND(ODD($A67)=$A67,ODD(CD$2)=CD$2),AND(EVEN($A67)=$A67,EVEN(CD$2)=CD$2)),CD$1,-100))","v":1490.625},{"$f":"IF('Ceiling Speaker Calculator'!$C$29=\"Square\",CE$1,IF(OR(AND(ODD($A67)=$A67,ODD(CE$2)=CE$2),AND(EVEN($A67)=$A67,EVEN(CE$2)=CE$2)),CE$1,-100))","v":1509.375},{"$f":"IF('Ceiling Speaker Calculator'!$C$29=\"Square\",CF$1,IF(OR(AND(ODD($A67)=$A67,ODD(CF$2)=CF$2),AND(EVEN($A67)=$A67,EVEN(CF$2)=CF$2)),CF$1,-100))","v":1528.125},{"$f":"IF('Ceiling Speaker Calculator'!$C$29=\"Square\",CG$1,IF(OR(AND(ODD($A67)=$A67,ODD(CG$2)=CG$2),AND(EVEN($A67)=$A67,EVEN(CG$2)=CG$2)),CG$1,-100))","v":1546.875},{"$f":"IF('Ceiling Speaker Calculator'!$C$29=\"Square\",CH$1,IF(OR(AND(ODD($A67)=$A67,ODD(CH$2)=CH$2),AND(EVEN($A67)=$A67,EVEN(CH$2)=CH$2)),CH$1,-100))","v":1565.625},{"$f":"IF('Ceiling Speaker Calculator'!$C$29=\"Square\",CI$1,IF(OR(AND(ODD($A67)=$A67,ODD(CI$2)=CI$2),AND(EVEN($A67)=$A67,EVEN(CI$2)=CI$2)),CI$1,-100))","v":1584.375},{"$f":"IF('Ceiling Speaker Calculator'!$C$29=\"Square\",CJ$1,IF(OR(AND(ODD($A67)=$A67,ODD(CJ$2)=CJ$2),AND(EVEN($A67)=$A67,EVEN(CJ$2)=CJ$2)),CJ$1,-100))","v":1603.125},{"$f":"IF('Ceiling Speaker Calculator'!$C$29=\"Square\",CK$1,IF(OR(AND(ODD($A67)=$A67,ODD(CK$2)=CK$2),AND(EVEN($A67)=$A67,EVEN(CK$2)=CK$2)),CK$1,-100))","v":1621.875},{"$f":"IF('Ceiling Speaker Calculator'!$C$29=\"Square\",CL$1,IF(OR(AND(ODD($A67)=$A67,ODD(CL$2)=CL$2),AND(EVEN($A67)=$A67,EVEN(CL$2)=CL$2)),CL$1,-100))","v":1640.625},{"$f":"IF('Ceiling Speaker Calculator'!$C$29=\"Square\",CM$1,IF(OR(AND(ODD($A67)=$A67,ODD(CM$2)=CM$2),AND(EVEN($A67)=$A67,EVEN(CM$2)=CM$2)),CM$1,-100))","v":1659.375},{"$f":"IF('Ceiling Speaker Calculator'!$C$29=\"Square\",CN$1,IF(OR(AND(ODD($A67)=$A67,ODD(CN$2)=CN$2),AND(EVEN($A67)=$A67,EVEN(CN$2)=CN$2)),CN$1,-100))","v":1678.125},{"$f":"IF('Ceiling Speaker Calculator'!$C$29=\"Square\",CO$1,IF(OR(AND(ODD($A67)=$A67,ODD(CO$2)=CO$2),AND(EVEN($A67)=$A67,EVEN(CO$2)=CO$2)),CO$1,-100))","v":1696.875},{"$f":"IF('Ceiling Speaker Calculator'!$C$29=\"Square\",CP$1,IF(OR(AND(ODD($A67)=$A67,ODD(CP$2)=CP$2),AND(EVEN($A67)=$A67,EVEN(CP$2)=CP$2)),CP$1,-100))","v":1715.625},{"$f":"IF('Ceiling Speaker Calculator'!$C$29=\"Square\",CQ$1,IF(OR(AND(ODD($A67)=$A67,ODD(CQ$2)=CQ$2),AND(EVEN($A67)=$A67,EVEN(CQ$2)=CQ$2)),CQ$1,-100))","v":1734.375},{"$f":"IF('Ceiling Speaker Calculator'!$C$29=\"Square\",CR$1,IF(OR(AND(ODD($A67)=$A67,ODD(CR$2)=CR$2),AND(EVEN($A67)=$A67,EVEN(CR$2)=CR$2)),CR$1,-100))","v":1753.125},{"$f":"IF('Ceiling Speaker Calculator'!$C$29=\"Square\",CS$1,IF(OR(AND(ODD($A67)=$A67,ODD(CS$2)=CS$2),AND(EVEN($A67)=$A67,EVEN(CS$2)=CS$2)),CS$1,-100))","v":1771.875},{"$f":"IF('Ceiling Speaker Calculator'!$C$29=\"Square\",CT$1,IF(OR(AND(ODD($A67)=$A67,ODD(CT$2)=CT$2),AND(EVEN($A67)=$A67,EVEN(CT$2)=CT$2)),CT$1,-100))","v":1790.625},{"$f":"IF('Ceiling Speaker Calculator'!$C$29=\"Square\",CU$1,IF(OR(AND(ODD($A67)=$A67,ODD(CU$2)=CU$2),AND(EVEN($A67)=$A67,EVEN(CU$2)=CU$2)),CU$1,-100))","v":1809.375},{"$f":"IF('Ceiling Speaker Calculator'!$C$29=\"Square\",CV$1,IF(OR(AND(ODD($A67)=$A67,ODD(CV$2)=CV$2),AND(EVEN($A67)=$A67,EVEN(CV$2)=CV$2)),CV$1,-100))","v":1828.125},{"$f":"IF('Ceiling Speaker Calculator'!$C$29=\"Square\",CW$1,IF(OR(AND(ODD($A67)=$A67,ODD(CW$2)=CW$2),AND(EVEN($A67)=$A67,EVEN(CW$2)=CW$2)),CW$1,-100))","v":1846.875},{"$f":"IF('Ceiling Speaker Calculator'!$C$29=\"Square\",CX$1,IF(OR(AND(ODD($A67)=$A67,ODD(CX$2)=CX$2),AND(EVEN($A67)=$A67,EVEN(CX$2)=CX$2)),CX$1,-100))","v":1865.625}]
[66,{"$f":"B67+'Ceiling Speaker Calculator'!$K$16","v":1310},{"$f":"IF('Ceiling Speaker Calculator'!$C$29=\"Square\",C$1,IF(OR(AND(ODD($A68)=$A68,ODD(C$2)=C$2),AND(EVEN($A68)=$A68,EVEN(C$2)=C$2)),C$1,-100))","v":9.375},{"$f":"IF('Ceiling Speaker Calculator'!$C$29=\"Square\",D$1,IF(OR(AND(ODD($A68)=$A68,ODD(D$2)=D$2),AND(EVEN($A68)=$A68,EVEN(D$2)=D$2)),D$1,-100))","v":28.125},{"$f":"IF('Ceiling Speaker Calculator'!$C$29=\"Square\",E$1,IF(OR(AND(ODD($A68)=$A68,ODD(E$2)=E$2),AND(EVEN($A68)=$A68,EVEN(E$2)=E$2)),E$1,-100))","v":46.875},{"$f":"IF('Ceiling Speaker Calculator'!$C$29=\"Square\",F$1,IF(OR(AND(ODD($A68)=$A68,ODD(F$2)=F$2),AND(EVEN($A68)=$A68,EVEN(F$2)=F$2)),F$1,-100))","v":65.625},{"$f":"IF('Ceiling Speaker Calculator'!$C$29=\"Square\",G$1,IF(OR(AND(ODD($A68)=$A68,ODD(G$2)=G$2),AND(EVEN($A68)=$A68,EVEN(G$2)=G$2)),G$1,-100))","v":84.375},{"$f":"IF('Ceiling Speaker Calculator'!$C$29=\"Square\",H$1,IF(OR(AND(ODD($A68)=$A68,ODD(H$2)=H$2),AND(EVEN($A68)=$A68,EVEN(H$2)=H$2)),H$1,-100))","v":103.125},{"$f":"IF('Ceiling Speaker Calculator'!$C$29=\"Square\",I$1,IF(OR(AND(ODD($A68)=$A68,ODD(I$2)=I$2),AND(EVEN($A68)=$A68,EVEN(I$2)=I$2)),I$1,-100))","v":121.875},{"$f":"IF('Ceiling Speaker Calculator'!$C$29=\"Square\",J$1,IF(OR(AND(ODD($A68)=$A68,ODD(J$2)=J$2),AND(EVEN($A68)=$A68,EVEN(J$2)=J$2)),J$1,-100))","v":140.625},{"$f":"IF('Ceiling Speaker Calculator'!$C$29=\"Square\",K$1,IF(OR(AND(ODD($A68)=$A68,ODD(K$2)=K$2),AND(EVEN($A68)=$A68,EVEN(K$2)=K$2)),K$1,-100))","v":159.375},{"$f":"IF('Ceiling Speaker Calculator'!$C$29=\"Square\",L$1,IF(OR(AND(ODD($A68)=$A68,ODD(L$2)=L$2),AND(EVEN($A68)=$A68,EVEN(L$2)=L$2)),L$1,-100))","v":178.125},{"$f":"IF('Ceiling Speaker Calculator'!$C$29=\"Square\",M$1,IF(OR(AND(ODD($A68)=$A68,ODD(M$2)=M$2),AND(EVEN($A68)=$A68,EVEN(M$2)=M$2)),M$1,-100))","v":196.875},{"$f":"IF('Ceiling Speaker Calculator'!$C$29=\"Square\",N$1,IF(OR(AND(ODD($A68)=$A68,ODD(N$2)=N$2),AND(EVEN($A68)=$A68,EVEN(N$2)=N$2)),N$1,-100))","v":215.625},{"$f":"IF('Ceiling Speaker Calculator'!$C$29=\"Square\",O$1,IF(OR(AND(ODD($A68)=$A68,ODD(O$2)=O$2),AND(EVEN($A68)=$A68,EVEN(O$2)=O$2)),O$1,-100))","v":234.375},{"$f":"IF('Ceiling Speaker Calculator'!$C$29=\"Square\",P$1,IF(OR(AND(ODD($A68)=$A68,ODD(P$2)=P$2),AND(EVEN($A68)=$A68,EVEN(P$2)=P$2)),P$1,-100))","v":253.125},{"$f":"IF('Ceiling Speaker Calculator'!$C$29=\"Square\",Q$1,IF(OR(AND(ODD($A68)=$A68,ODD(Q$2)=Q$2),AND(EVEN($A68)=$A68,EVEN(Q$2)=Q$2)),Q$1,-100))","v":271.875},{"$f":"IF('Ceiling Speaker Calculator'!$C$29=\"Square\",R$1,IF(OR(AND(ODD($A68)=$A68,ODD(R$2)=R$2),AND(EVEN($A68)=$A68,EVEN(R$2)=R$2)),R$1,-100))","v":290.625},{"$f":"IF('Ceiling Speaker Calculator'!$C$29=\"Square\",S$1,IF(OR(AND(ODD($A68)=$A68,ODD(S$2)=S$2),AND(EVEN($A68)=$A68,EVEN(S$2)=S$2)),S$1,-100))","v":309.375},{"$f":"IF('Ceiling Speaker Calculator'!$C$29=\"Square\",T$1,IF(OR(AND(ODD($A68)=$A68,ODD(T$2)=T$2),AND(EVEN($A68)=$A68,EVEN(T$2)=T$2)),T$1,-100))","v":328.125},{"$f":"IF('Ceiling Speaker Calculator'!$C$29=\"Square\",U$1,IF(OR(AND(ODD($A68)=$A68,ODD(U$2)=U$2),AND(EVEN($A68)=$A68,EVEN(U$2)=U$2)),U$1,-100))","v":346.875},{"$f":"IF('Ceiling Speaker Calculator'!$C$29=\"Square\",V$1,IF(OR(AND(ODD($A68)=$A68,ODD(V$2)=V$2),AND(EVEN($A68)=$A68,EVEN(V$2)=V$2)),V$1,-100))","v":365.625},{"$f":"IF('Ceiling Speaker Calculator'!$C$29=\"Square\",W$1,IF(OR(AND(ODD($A68)=$A68,ODD(W$2)=W$2),AND(EVEN($A68)=$A68,EVEN(W$2)=W$2)),W$1,-100))","v":384.375},{"$f":"IF('Ceiling Speaker Calculator'!$C$29=\"Square\",X$1,IF(OR(AND(ODD($A68)=$A68,ODD(X$2)=X$2),AND(EVEN($A68)=$A68,EVEN(X$2)=X$2)),X$1,-100))","v":403.125},{"$f":"IF('Ceiling Speaker Calculator'!$C$29=\"Square\",Y$1,IF(OR(AND(ODD($A68)=$A68,ODD(Y$2)=Y$2),AND(EVEN($A68)=$A68,EVEN(Y$2)=Y$2)),Y$1,-100))","v":421.875},{"$f":"IF('Ceiling Speaker Calculator'!$C$29=\"Square\",Z$1,IF(OR(AND(ODD($A68)=$A68,ODD(Z$2)=Z$2),AND(EVEN($A68)=$A68,EVEN(Z$2)=Z$2)),Z$1,-100))","v":440.625},{"$f":"IF('Ceiling Speaker Calculator'!$C$29=\"Square\",AA$1,IF(OR(AND(ODD($A68)=$A68,ODD(AA$2)=AA$2),AND(EVEN($A68)=$A68,EVEN(AA$2)=AA$2)),AA$1,-100))","v":459.375},{"$f":"IF('Ceiling Speaker Calculator'!$C$29=\"Square\",AB$1,IF(OR(AND(ODD($A68)=$A68,ODD(AB$2)=AB$2),AND(EVEN($A68)=$A68,EVEN(AB$2)=AB$2)),AB$1,-100))","v":478.125},{"$f":"IF('Ceiling Speaker Calculator'!$C$29=\"Square\",AC$1,IF(OR(AND(ODD($A68)=$A68,ODD(AC$2)=AC$2),AND(EVEN($A68)=$A68,EVEN(AC$2)=AC$2)),AC$1,-100))","v":496.875},{"$f":"IF('Ceiling Speaker Calculator'!$C$29=\"Square\",AD$1,IF(OR(AND(ODD($A68)=$A68,ODD(AD$2)=AD$2),AND(EVEN($A68)=$A68,EVEN(AD$2)=AD$2)),AD$1,-100))","v":515.625},{"$f":"IF('Ceiling Speaker Calculator'!$C$29=\"Square\",AE$1,IF(OR(AND(ODD($A68)=$A68,ODD(AE$2)=AE$2),AND(EVEN($A68)=$A68,EVEN(AE$2)=AE$2)),AE$1,-100))","v":534.375},{"$f":"IF('Ceiling Speaker Calculator'!$C$29=\"Square\",AF$1,IF(OR(AND(ODD($A68)=$A68,ODD(AF$2)=AF$2),AND(EVEN($A68)=$A68,EVEN(AF$2)=AF$2)),AF$1,-100))","v":553.125},{"$f":"IF('Ceiling Speaker Calculator'!$C$29=\"Square\",AG$1,IF(OR(AND(ODD($A68)=$A68,ODD(AG$2)=AG$2),AND(EVEN($A68)=$A68,EVEN(AG$2)=AG$2)),AG$1,-100))","v":571.875},{"$f":"IF('Ceiling Speaker Calculator'!$C$29=\"Square\",AH$1,IF(OR(AND(ODD($A68)=$A68,ODD(AH$2)=AH$2),AND(EVEN($A68)=$A68,EVEN(AH$2)=AH$2)),AH$1,-100))","v":590.625},{"$f":"IF('Ceiling Speaker Calculator'!$C$29=\"Square\",AI$1,IF(OR(AND(ODD($A68)=$A68,ODD(AI$2)=AI$2),AND(EVEN($A68)=$A68,EVEN(AI$2)=AI$2)),AI$1,-100))","v":609.375},{"$f":"IF('Ceiling Speaker Calculator'!$C$29=\"Square\",AJ$1,IF(OR(AND(ODD($A68)=$A68,ODD(AJ$2)=AJ$2),AND(EVEN($A68)=$A68,EVEN(AJ$2)=AJ$2)),AJ$1,-100))","v":628.125},{"$f":"IF('Ceiling Speaker Calculator'!$C$29=\"Square\",AK$1,IF(OR(AND(ODD($A68)=$A68,ODD(AK$2)=AK$2),AND(EVEN($A68)=$A68,EVEN(AK$2)=AK$2)),AK$1,-100))","v":646.875},{"$f":"IF('Ceiling Speaker Calculator'!$C$29=\"Square\",AL$1,IF(OR(AND(ODD($A68)=$A68,ODD(AL$2)=AL$2),AND(EVEN($A68)=$A68,EVEN(AL$2)=AL$2)),AL$1,-100))","v":665.625},{"$f":"IF('Ceiling Speaker Calculator'!$C$29=\"Square\",AM$1,IF(OR(AND(ODD($A68)=$A68,ODD(AM$2)=AM$2),AND(EVEN($A68)=$A68,EVEN(AM$2)=AM$2)),AM$1,-100))","v":684.375},{"$f":"IF('Ceiling Speaker Calculator'!$C$29=\"Square\",AN$1,IF(OR(AND(ODD($A68)=$A68,ODD(AN$2)=AN$2),AND(EVEN($A68)=$A68,EVEN(AN$2)=AN$2)),AN$1,-100))","v":703.125},{"$f":"IF('Ceiling Speaker Calculator'!$C$29=\"Square\",AO$1,IF(OR(AND(ODD($A68)=$A68,ODD(AO$2)=AO$2),AND(EVEN($A68)=$A68,EVEN(AO$2)=AO$2)),AO$1,-100))","v":721.875},{"$f":"IF('Ceiling Speaker Calculator'!$C$29=\"Square\",AP$1,IF(OR(AND(ODD($A68)=$A68,ODD(AP$2)=AP$2),AND(EVEN($A68)=$A68,EVEN(AP$2)=AP$2)),AP$1,-100))","v":740.625},{"$f":"IF('Ceiling Speaker Calculator'!$C$29=\"Square\",AQ$1,IF(OR(AND(ODD($A68)=$A68,ODD(AQ$2)=AQ$2),AND(EVEN($A68)=$A68,EVEN(AQ$2)=AQ$2)),AQ$1,-100))","v":759.375},{"$f":"IF('Ceiling Speaker Calculator'!$C$29=\"Square\",AR$1,IF(OR(AND(ODD($A68)=$A68,ODD(AR$2)=AR$2),AND(EVEN($A68)=$A68,EVEN(AR$2)=AR$2)),AR$1,-100))","v":778.125},{"$f":"IF('Ceiling Speaker Calculator'!$C$29=\"Square\",AS$1,IF(OR(AND(ODD($A68)=$A68,ODD(AS$2)=AS$2),AND(EVEN($A68)=$A68,EVEN(AS$2)=AS$2)),AS$1,-100))","v":796.875},{"$f":"IF('Ceiling Speaker Calculator'!$C$29=\"Square\",AT$1,IF(OR(AND(ODD($A68)=$A68,ODD(AT$2)=AT$2),AND(EVEN($A68)=$A68,EVEN(AT$2)=AT$2)),AT$1,-100))","v":815.625},{"$f":"IF('Ceiling Speaker Calculator'!$C$29=\"Square\",AU$1,IF(OR(AND(ODD($A68)=$A68,ODD(AU$2)=AU$2),AND(EVEN($A68)=$A68,EVEN(AU$2)=AU$2)),AU$1,-100))","v":834.375},{"$f":"IF('Ceiling Speaker Calculator'!$C$29=\"Square\",AV$1,IF(OR(AND(ODD($A68)=$A68,ODD(AV$2)=AV$2),AND(EVEN($A68)=$A68,EVEN(AV$2)=AV$2)),AV$1,-100))","v":853.125},{"$f":"IF('Ceiling Speaker Calculator'!$C$29=\"Square\",AW$1,IF(OR(AND(ODD($A68)=$A68,ODD(AW$2)=AW$2),AND(EVEN($A68)=$A68,EVEN(AW$2)=AW$2)),AW$1,-100))","v":871.875},{"$f":"IF('Ceiling Speaker Calculator'!$C$29=\"Square\",AX$1,IF(OR(AND(ODD($A68)=$A68,ODD(AX$2)=AX$2),AND(EVEN($A68)=$A68,EVEN(AX$2)=AX$2)),AX$1,-100))","v":890.625},{"$f":"IF('Ceiling Speaker Calculator'!$C$29=\"Square\",AY$1,IF(OR(AND(ODD($A68)=$A68,ODD(AY$2)=AY$2),AND(EVEN($A68)=$A68,EVEN(AY$2)=AY$2)),AY$1,-100))","v":909.375},{"$f":"IF('Ceiling Speaker Calculator'!$C$29=\"Square\",AZ$1,IF(OR(AND(ODD($A68)=$A68,ODD(AZ$2)=AZ$2),AND(EVEN($A68)=$A68,EVEN(AZ$2)=AZ$2)),AZ$1,-100))","v":928.125},{"$f":"IF('Ceiling Speaker Calculator'!$C$29=\"Square\",BA$1,IF(OR(AND(ODD($A68)=$A68,ODD(BA$2)=BA$2),AND(EVEN($A68)=$A68,EVEN(BA$2)=BA$2)),BA$1,-100))","v":946.875},{"$f":"IF('Ceiling Speaker Calculator'!$C$29=\"Square\",BB$1,IF(OR(AND(ODD($A68)=$A68,ODD(BB$2)=BB$2),AND(EVEN($A68)=$A68,EVEN(BB$2)=BB$2)),BB$1,-100))","v":965.625},{"$f":"IF('Ceiling Speaker Calculator'!$C$29=\"Square\",BC$1,IF(OR(AND(ODD($A68)=$A68,ODD(BC$2)=BC$2),AND(EVEN($A68)=$A68,EVEN(BC$2)=BC$2)),BC$1,-100))","v":984.375},{"$f":"IF('Ceiling Speaker Calculator'!$C$29=\"Square\",BD$1,IF(OR(AND(ODD($A68)=$A68,ODD(BD$2)=BD$2),AND(EVEN($A68)=$A68,EVEN(BD$2)=BD$2)),BD$1,-100))","v":1003.125},{"$f":"IF('Ceiling Speaker Calculator'!$C$29=\"Square\",BE$1,IF(OR(AND(ODD($A68)=$A68,ODD(BE$2)=BE$2),AND(EVEN($A68)=$A68,EVEN(BE$2)=BE$2)),BE$1,-100))","v":1021.875},{"$f":"IF('Ceiling Speaker Calculator'!$C$29=\"Square\",BF$1,IF(OR(AND(ODD($A68)=$A68,ODD(BF$2)=BF$2),AND(EVEN($A68)=$A68,EVEN(BF$2)=BF$2)),BF$1,-100))","v":1040.625},{"$f":"IF('Ceiling Speaker Calculator'!$C$29=\"Square\",BG$1,IF(OR(AND(ODD($A68)=$A68,ODD(BG$2)=BG$2),AND(EVEN($A68)=$A68,EVEN(BG$2)=BG$2)),BG$1,-100))","v":1059.375},{"$f":"IF('Ceiling Speaker Calculator'!$C$29=\"Square\",BH$1,IF(OR(AND(ODD($A68)=$A68,ODD(BH$2)=BH$2),AND(EVEN($A68)=$A68,EVEN(BH$2)=BH$2)),BH$1,-100))","v":1078.125},{"$f":"IF('Ceiling Speaker Calculator'!$C$29=\"Square\",BI$1,IF(OR(AND(ODD($A68)=$A68,ODD(BI$2)=BI$2),AND(EVEN($A68)=$A68,EVEN(BI$2)=BI$2)),BI$1,-100))","v":1096.875},{"$f":"IF('Ceiling Speaker Calculator'!$C$29=\"Square\",BJ$1,IF(OR(AND(ODD($A68)=$A68,ODD(BJ$2)=BJ$2),AND(EVEN($A68)=$A68,EVEN(BJ$2)=BJ$2)),BJ$1,-100))","v":1115.625},{"$f":"IF('Ceiling Speaker Calculator'!$C$29=\"Square\",BK$1,IF(OR(AND(ODD($A68)=$A68,ODD(BK$2)=BK$2),AND(EVEN($A68)=$A68,EVEN(BK$2)=BK$2)),BK$1,-100))","v":1134.375},{"$f":"IF('Ceiling Speaker Calculator'!$C$29=\"Square\",BL$1,IF(OR(AND(ODD($A68)=$A68,ODD(BL$2)=BL$2),AND(EVEN($A68)=$A68,EVEN(BL$2)=BL$2)),BL$1,-100))","v":1153.125},{"$f":"IF('Ceiling Speaker Calculator'!$C$29=\"Square\",BM$1,IF(OR(AND(ODD($A68)=$A68,ODD(BM$2)=BM$2),AND(EVEN($A68)=$A68,EVEN(BM$2)=BM$2)),BM$1,-100))","v":1171.875},{"$f":"IF('Ceiling Speaker Calculator'!$C$29=\"Square\",BN$1,IF(OR(AND(ODD($A68)=$A68,ODD(BN$2)=BN$2),AND(EVEN($A68)=$A68,EVEN(BN$2)=BN$2)),BN$1,-100))","v":1190.625},{"$f":"IF('Ceiling Speaker Calculator'!$C$29=\"Square\",BO$1,IF(OR(AND(ODD($A68)=$A68,ODD(BO$2)=BO$2),AND(EVEN($A68)=$A68,EVEN(BO$2)=BO$2)),BO$1,-100))","v":1209.375},{"$f":"IF('Ceiling Speaker Calculator'!$C$29=\"Square\",BP$1,IF(OR(AND(ODD($A68)=$A68,ODD(BP$2)=BP$2),AND(EVEN($A68)=$A68,EVEN(BP$2)=BP$2)),BP$1,-100))","v":1228.125},{"$f":"IF('Ceiling Speaker Calculator'!$C$29=\"Square\",BQ$1,IF(OR(AND(ODD($A68)=$A68,ODD(BQ$2)=BQ$2),AND(EVEN($A68)=$A68,EVEN(BQ$2)=BQ$2)),BQ$1,-100))","v":1246.875},{"$f":"IF('Ceiling Speaker Calculator'!$C$29=\"Square\",BR$1,IF(OR(AND(ODD($A68)=$A68,ODD(BR$2)=BR$2),AND(EVEN($A68)=$A68,EVEN(BR$2)=BR$2)),BR$1,-100))","v":1265.625},{"$f":"IF('Ceiling Speaker Calculator'!$C$29=\"Square\",BS$1,IF(OR(AND(ODD($A68)=$A68,ODD(BS$2)=BS$2),AND(EVEN($A68)=$A68,EVEN(BS$2)=BS$2)),BS$1,-100))","v":1284.375},{"$f":"IF('Ceiling Speaker Calculator'!$C$29=\"Square\",BT$1,IF(OR(AND(ODD($A68)=$A68,ODD(BT$2)=BT$2),AND(EVEN($A68)=$A68,EVEN(BT$2)=BT$2)),BT$1,-100))","v":1303.125},{"$f":"IF('Ceiling Speaker Calculator'!$C$29=\"Square\",BU$1,IF(OR(AND(ODD($A68)=$A68,ODD(BU$2)=BU$2),AND(EVEN($A68)=$A68,EVEN(BU$2)=BU$2)),BU$1,-100))","v":1321.875},{"$f":"IF('Ceiling Speaker Calculator'!$C$29=\"Square\",BV$1,IF(OR(AND(ODD($A68)=$A68,ODD(BV$2)=BV$2),AND(EVEN($A68)=$A68,EVEN(BV$2)=BV$2)),BV$1,-100))","v":1340.625},{"$f":"IF('Ceiling Speaker Calculator'!$C$29=\"Square\",BW$1,IF(OR(AND(ODD($A68)=$A68,ODD(BW$2)=BW$2),AND(EVEN($A68)=$A68,EVEN(BW$2)=BW$2)),BW$1,-100))","v":1359.375},{"$f":"IF('Ceiling Speaker Calculator'!$C$29=\"Square\",BX$1,IF(OR(AND(ODD($A68)=$A68,ODD(BX$2)=BX$2),AND(EVEN($A68)=$A68,EVEN(BX$2)=BX$2)),BX$1,-100))","v":1378.125},{"$f":"IF('Ceiling Speaker Calculator'!$C$29=\"Square\",BY$1,IF(OR(AND(ODD($A68)=$A68,ODD(BY$2)=BY$2),AND(EVEN($A68)=$A68,EVEN(BY$2)=BY$2)),BY$1,-100))","v":1396.875},{"$f":"IF('Ceiling Speaker Calculator'!$C$29=\"Square\",BZ$1,IF(OR(AND(ODD($A68)=$A68,ODD(BZ$2)=BZ$2),AND(EVEN($A68)=$A68,EVEN(BZ$2)=BZ$2)),BZ$1,-100))","v":1415.625},{"$f":"IF('Ceiling Speaker Calculator'!$C$29=\"Square\",CA$1,IF(OR(AND(ODD($A68)=$A68,ODD(CA$2)=CA$2),AND(EVEN($A68)=$A68,EVEN(CA$2)=CA$2)),CA$1,-100))","v":1434.375},{"$f":"IF('Ceiling Speaker Calculator'!$C$29=\"Square\",CB$1,IF(OR(AND(ODD($A68)=$A68,ODD(CB$2)=CB$2),AND(EVEN($A68)=$A68,EVEN(CB$2)=CB$2)),CB$1,-100))","v":1453.125},{"$f":"IF('Ceiling Speaker Calculator'!$C$29=\"Square\",CC$1,IF(OR(AND(ODD($A68)=$A68,ODD(CC$2)=CC$2),AND(EVEN($A68)=$A68,EVEN(CC$2)=CC$2)),CC$1,-100))","v":1471.875},{"$f":"IF('Ceiling Speaker Calculator'!$C$29=\"Square\",CD$1,IF(OR(AND(ODD($A68)=$A68,ODD(CD$2)=CD$2),AND(EVEN($A68)=$A68,EVEN(CD$2)=CD$2)),CD$1,-100))","v":1490.625},{"$f":"IF('Ceiling Speaker Calculator'!$C$29=\"Square\",CE$1,IF(OR(AND(ODD($A68)=$A68,ODD(CE$2)=CE$2),AND(EVEN($A68)=$A68,EVEN(CE$2)=CE$2)),CE$1,-100))","v":1509.375},{"$f":"IF('Ceiling Speaker Calculator'!$C$29=\"Square\",CF$1,IF(OR(AND(ODD($A68)=$A68,ODD(CF$2)=CF$2),AND(EVEN($A68)=$A68,EVEN(CF$2)=CF$2)),CF$1,-100))","v":1528.125},{"$f":"IF('Ceiling Speaker Calculator'!$C$29=\"Square\",CG$1,IF(OR(AND(ODD($A68)=$A68,ODD(CG$2)=CG$2),AND(EVEN($A68)=$A68,EVEN(CG$2)=CG$2)),CG$1,-100))","v":1546.875},{"$f":"IF('Ceiling Speaker Calculator'!$C$29=\"Square\",CH$1,IF(OR(AND(ODD($A68)=$A68,ODD(CH$2)=CH$2),AND(EVEN($A68)=$A68,EVEN(CH$2)=CH$2)),CH$1,-100))","v":1565.625},{"$f":"IF('Ceiling Speaker Calculator'!$C$29=\"Square\",CI$1,IF(OR(AND(ODD($A68)=$A68,ODD(CI$2)=CI$2),AND(EVEN($A68)=$A68,EVEN(CI$2)=CI$2)),CI$1,-100))","v":1584.375},{"$f":"IF('Ceiling Speaker Calculator'!$C$29=\"Square\",CJ$1,IF(OR(AND(ODD($A68)=$A68,ODD(CJ$2)=CJ$2),AND(EVEN($A68)=$A68,EVEN(CJ$2)=CJ$2)),CJ$1,-100))","v":1603.125},{"$f":"IF('Ceiling Speaker Calculator'!$C$29=\"Square\",CK$1,IF(OR(AND(ODD($A68)=$A68,ODD(CK$2)=CK$2),AND(EVEN($A68)=$A68,EVEN(CK$2)=CK$2)),CK$1,-100))","v":1621.875},{"$f":"IF('Ceiling Speaker Calculator'!$C$29=\"Square\",CL$1,IF(OR(AND(ODD($A68)=$A68,ODD(CL$2)=CL$2),AND(EVEN($A68)=$A68,EVEN(CL$2)=CL$2)),CL$1,-100))","v":1640.625},{"$f":"IF('Ceiling Speaker Calculator'!$C$29=\"Square\",CM$1,IF(OR(AND(ODD($A68)=$A68,ODD(CM$2)=CM$2),AND(EVEN($A68)=$A68,EVEN(CM$2)=CM$2)),CM$1,-100))","v":1659.375},{"$f":"IF('Ceiling Speaker Calculator'!$C$29=\"Square\",CN$1,IF(OR(AND(ODD($A68)=$A68,ODD(CN$2)=CN$2),AND(EVEN($A68)=$A68,EVEN(CN$2)=CN$2)),CN$1,-100))","v":1678.125},{"$f":"IF('Ceiling Speaker Calculator'!$C$29=\"Square\",CO$1,IF(OR(AND(ODD($A68)=$A68,ODD(CO$2)=CO$2),AND(EVEN($A68)=$A68,EVEN(CO$2)=CO$2)),CO$1,-100))","v":1696.875},{"$f":"IF('Ceiling Speaker Calculator'!$C$29=\"Square\",CP$1,IF(OR(AND(ODD($A68)=$A68,ODD(CP$2)=CP$2),AND(EVEN($A68)=$A68,EVEN(CP$2)=CP$2)),CP$1,-100))","v":1715.625},{"$f":"IF('Ceiling Speaker Calculator'!$C$29=\"Square\",CQ$1,IF(OR(AND(ODD($A68)=$A68,ODD(CQ$2)=CQ$2),AND(EVEN($A68)=$A68,EVEN(CQ$2)=CQ$2)),CQ$1,-100))","v":1734.375},{"$f":"IF('Ceiling Speaker Calculator'!$C$29=\"Square\",CR$1,IF(OR(AND(ODD($A68)=$A68,ODD(CR$2)=CR$2),AND(EVEN($A68)=$A68,EVEN(CR$2)=CR$2)),CR$1,-100))","v":1753.125},{"$f":"IF('Ceiling Speaker Calculator'!$C$29=\"Square\",CS$1,IF(OR(AND(ODD($A68)=$A68,ODD(CS$2)=CS$2),AND(EVEN($A68)=$A68,EVEN(CS$2)=CS$2)),CS$1,-100))","v":1771.875},{"$f":"IF('Ceiling Speaker Calculator'!$C$29=\"Square\",CT$1,IF(OR(AND(ODD($A68)=$A68,ODD(CT$2)=CT$2),AND(EVEN($A68)=$A68,EVEN(CT$2)=CT$2)),CT$1,-100))","v":1790.625},{"$f":"IF('Ceiling Speaker Calculator'!$C$29=\"Square\",CU$1,IF(OR(AND(ODD($A68)=$A68,ODD(CU$2)=CU$2),AND(EVEN($A68)=$A68,EVEN(CU$2)=CU$2)),CU$1,-100))","v":1809.375},{"$f":"IF('Ceiling Speaker Calculator'!$C$29=\"Square\",CV$1,IF(OR(AND(ODD($A68)=$A68,ODD(CV$2)=CV$2),AND(EVEN($A68)=$A68,EVEN(CV$2)=CV$2)),CV$1,-100))","v":1828.125},{"$f":"IF('Ceiling Speaker Calculator'!$C$29=\"Square\",CW$1,IF(OR(AND(ODD($A68)=$A68,ODD(CW$2)=CW$2),AND(EVEN($A68)=$A68,EVEN(CW$2)=CW$2)),CW$1,-100))","v":1846.875},{"$f":"IF('Ceiling Speaker Calculator'!$C$29=\"Square\",CX$1,IF(OR(AND(ODD($A68)=$A68,ODD(CX$2)=CX$2),AND(EVEN($A68)=$A68,EVEN(CX$2)=CX$2)),CX$1,-100))","v":1865.625}]
[67,{"$f":"B68+'Ceiling Speaker Calculator'!$K$16","v":1330},{"$f":"IF('Ceiling Speaker Calculator'!$C$29=\"Square\",C$1,IF(OR(AND(ODD($A69)=$A69,ODD(C$2)=C$2),AND(EVEN($A69)=$A69,EVEN(C$2)=C$2)),C$1,-100))","v":9.375},{"$f":"IF('Ceiling Speaker Calculator'!$C$29=\"Square\",D$1,IF(OR(AND(ODD($A69)=$A69,ODD(D$2)=D$2),AND(EVEN($A69)=$A69,EVEN(D$2)=D$2)),D$1,-100))","v":28.125},{"$f":"IF('Ceiling Speaker Calculator'!$C$29=\"Square\",E$1,IF(OR(AND(ODD($A69)=$A69,ODD(E$2)=E$2),AND(EVEN($A69)=$A69,EVEN(E$2)=E$2)),E$1,-100))","v":46.875},{"$f":"IF('Ceiling Speaker Calculator'!$C$29=\"Square\",F$1,IF(OR(AND(ODD($A69)=$A69,ODD(F$2)=F$2),AND(EVEN($A69)=$A69,EVEN(F$2)=F$2)),F$1,-100))","v":65.625},{"$f":"IF('Ceiling Speaker Calculator'!$C$29=\"Square\",G$1,IF(OR(AND(ODD($A69)=$A69,ODD(G$2)=G$2),AND(EVEN($A69)=$A69,EVEN(G$2)=G$2)),G$1,-100))","v":84.375},{"$f":"IF('Ceiling Speaker Calculator'!$C$29=\"Square\",H$1,IF(OR(AND(ODD($A69)=$A69,ODD(H$2)=H$2),AND(EVEN($A69)=$A69,EVEN(H$2)=H$2)),H$1,-100))","v":103.125},{"$f":"IF('Ceiling Speaker Calculator'!$C$29=\"Square\",I$1,IF(OR(AND(ODD($A69)=$A69,ODD(I$2)=I$2),AND(EVEN($A69)=$A69,EVEN(I$2)=I$2)),I$1,-100))","v":121.875},{"$f":"IF('Ceiling Speaker Calculator'!$C$29=\"Square\",J$1,IF(OR(AND(ODD($A69)=$A69,ODD(J$2)=J$2),AND(EVEN($A69)=$A69,EVEN(J$2)=J$2)),J$1,-100))","v":140.625},{"$f":"IF('Ceiling Speaker Calculator'!$C$29=\"Square\",K$1,IF(OR(AND(ODD($A69)=$A69,ODD(K$2)=K$2),AND(EVEN($A69)=$A69,EVEN(K$2)=K$2)),K$1,-100))","v":159.375},{"$f":"IF('Ceiling Speaker Calculator'!$C$29=\"Square\",L$1,IF(OR(AND(ODD($A69)=$A69,ODD(L$2)=L$2),AND(EVEN($A69)=$A69,EVEN(L$2)=L$2)),L$1,-100))","v":178.125},{"$f":"IF('Ceiling Speaker Calculator'!$C$29=\"Square\",M$1,IF(OR(AND(ODD($A69)=$A69,ODD(M$2)=M$2),AND(EVEN($A69)=$A69,EVEN(M$2)=M$2)),M$1,-100))","v":196.875},{"$f":"IF('Ceiling Speaker Calculator'!$C$29=\"Square\",N$1,IF(OR(AND(ODD($A69)=$A69,ODD(N$2)=N$2),AND(EVEN($A69)=$A69,EVEN(N$2)=N$2)),N$1,-100))","v":215.625},{"$f":"IF('Ceiling Speaker Calculator'!$C$29=\"Square\",O$1,IF(OR(AND(ODD($A69)=$A69,ODD(O$2)=O$2),AND(EVEN($A69)=$A69,EVEN(O$2)=O$2)),O$1,-100))","v":234.375},{"$f":"IF('Ceiling Speaker Calculator'!$C$29=\"Square\",P$1,IF(OR(AND(ODD($A69)=$A69,ODD(P$2)=P$2),AND(EVEN($A69)=$A69,EVEN(P$2)=P$2)),P$1,-100))","v":253.125},{"$f":"IF('Ceiling Speaker Calculator'!$C$29=\"Square\",Q$1,IF(OR(AND(ODD($A69)=$A69,ODD(Q$2)=Q$2),AND(EVEN($A69)=$A69,EVEN(Q$2)=Q$2)),Q$1,-100))","v":271.875},{"$f":"IF('Ceiling Speaker Calculator'!$C$29=\"Square\",R$1,IF(OR(AND(ODD($A69)=$A69,ODD(R$2)=R$2),AND(EVEN($A69)=$A69,EVEN(R$2)=R$2)),R$1,-100))","v":290.625},{"$f":"IF('Ceiling Speaker Calculator'!$C$29=\"Square\",S$1,IF(OR(AND(ODD($A69)=$A69,ODD(S$2)=S$2),AND(EVEN($A69)=$A69,EVEN(S$2)=S$2)),S$1,-100))","v":309.375},{"$f":"IF('Ceiling Speaker Calculator'!$C$29=\"Square\",T$1,IF(OR(AND(ODD($A69)=$A69,ODD(T$2)=T$2),AND(EVEN($A69)=$A69,EVEN(T$2)=T$2)),T$1,-100))","v":328.125},{"$f":"IF('Ceiling Speaker Calculator'!$C$29=\"Square\",U$1,IF(OR(AND(ODD($A69)=$A69,ODD(U$2)=U$2),AND(EVEN($A69)=$A69,EVEN(U$2)=U$2)),U$1,-100))","v":346.875},{"$f":"IF('Ceiling Speaker Calculator'!$C$29=\"Square\",V$1,IF(OR(AND(ODD($A69)=$A69,ODD(V$2)=V$2),AND(EVEN($A69)=$A69,EVEN(V$2)=V$2)),V$1,-100))","v":365.625},{"$f":"IF('Ceiling Speaker Calculator'!$C$29=\"Square\",W$1,IF(OR(AND(ODD($A69)=$A69,ODD(W$2)=W$2),AND(EVEN($A69)=$A69,EVEN(W$2)=W$2)),W$1,-100))","v":384.375},{"$f":"IF('Ceiling Speaker Calculator'!$C$29=\"Square\",X$1,IF(OR(AND(ODD($A69)=$A69,ODD(X$2)=X$2),AND(EVEN($A69)=$A69,EVEN(X$2)=X$2)),X$1,-100))","v":403.125},{"$f":"IF('Ceiling Speaker Calculator'!$C$29=\"Square\",Y$1,IF(OR(AND(ODD($A69)=$A69,ODD(Y$2)=Y$2),AND(EVEN($A69)=$A69,EVEN(Y$2)=Y$2)),Y$1,-100))","v":421.875},{"$f":"IF('Ceiling Speaker Calculator'!$C$29=\"Square\",Z$1,IF(OR(AND(ODD($A69)=$A69,ODD(Z$2)=Z$2),AND(EVEN($A69)=$A69,EVEN(Z$2)=Z$2)),Z$1,-100))","v":440.625},{"$f":"IF('Ceiling Speaker Calculator'!$C$29=\"Square\",AA$1,IF(OR(AND(ODD($A69)=$A69,ODD(AA$2)=AA$2),AND(EVEN($A69)=$A69,EVEN(AA$2)=AA$2)),AA$1,-100))","v":459.375},{"$f":"IF('Ceiling Speaker Calculator'!$C$29=\"Square\",AB$1,IF(OR(AND(ODD($A69)=$A69,ODD(AB$2)=AB$2),AND(EVEN($A69)=$A69,EVEN(AB$2)=AB$2)),AB$1,-100))","v":478.125},{"$f":"IF('Ceiling Speaker Calculator'!$C$29=\"Square\",AC$1,IF(OR(AND(ODD($A69)=$A69,ODD(AC$2)=AC$2),AND(EVEN($A69)=$A69,EVEN(AC$2)=AC$2)),AC$1,-100))","v":496.875},{"$f":"IF('Ceiling Speaker Calculator'!$C$29=\"Square\",AD$1,IF(OR(AND(ODD($A69)=$A69,ODD(AD$2)=AD$2),AND(EVEN($A69)=$A69,EVEN(AD$2)=AD$2)),AD$1,-100))","v":515.625},{"$f":"IF('Ceiling Speaker Calculator'!$C$29=\"Square\",AE$1,IF(OR(AND(ODD($A69)=$A69,ODD(AE$2)=AE$2),AND(EVEN($A69)=$A69,EVEN(AE$2)=AE$2)),AE$1,-100))","v":534.375},{"$f":"IF('Ceiling Speaker Calculator'!$C$29=\"Square\",AF$1,IF(OR(AND(ODD($A69)=$A69,ODD(AF$2)=AF$2),AND(EVEN($A69)=$A69,EVEN(AF$2)=AF$2)),AF$1,-100))","v":553.125},{"$f":"IF('Ceiling Speaker Calculator'!$C$29=\"Square\",AG$1,IF(OR(AND(ODD($A69)=$A69,ODD(AG$2)=AG$2),AND(EVEN($A69)=$A69,EVEN(AG$2)=AG$2)),AG$1,-100))","v":571.875},{"$f":"IF('Ceiling Speaker Calculator'!$C$29=\"Square\",AH$1,IF(OR(AND(ODD($A69)=$A69,ODD(AH$2)=AH$2),AND(EVEN($A69)=$A69,EVEN(AH$2)=AH$2)),AH$1,-100))","v":590.625},{"$f":"IF('Ceiling Speaker Calculator'!$C$29=\"Square\",AI$1,IF(OR(AND(ODD($A69)=$A69,ODD(AI$2)=AI$2),AND(EVEN($A69)=$A69,EVEN(AI$2)=AI$2)),AI$1,-100))","v":609.375},{"$f":"IF('Ceiling Speaker Calculator'!$C$29=\"Square\",AJ$1,IF(OR(AND(ODD($A69)=$A69,ODD(AJ$2)=AJ$2),AND(EVEN($A69)=$A69,EVEN(AJ$2)=AJ$2)),AJ$1,-100))","v":628.125},{"$f":"IF('Ceiling Speaker Calculator'!$C$29=\"Square\",AK$1,IF(OR(AND(ODD($A69)=$A69,ODD(AK$2)=AK$2),AND(EVEN($A69)=$A69,EVEN(AK$2)=AK$2)),AK$1,-100))","v":646.875},{"$f":"IF('Ceiling Speaker Calculator'!$C$29=\"Square\",AL$1,IF(OR(AND(ODD($A69)=$A69,ODD(AL$2)=AL$2),AND(EVEN($A69)=$A69,EVEN(AL$2)=AL$2)),AL$1,-100))","v":665.625},{"$f":"IF('Ceiling Speaker Calculator'!$C$29=\"Square\",AM$1,IF(OR(AND(ODD($A69)=$A69,ODD(AM$2)=AM$2),AND(EVEN($A69)=$A69,EVEN(AM$2)=AM$2)),AM$1,-100))","v":684.375},{"$f":"IF('Ceiling Speaker Calculator'!$C$29=\"Square\",AN$1,IF(OR(AND(ODD($A69)=$A69,ODD(AN$2)=AN$2),AND(EVEN($A69)=$A69,EVEN(AN$2)=AN$2)),AN$1,-100))","v":703.125},{"$f":"IF('Ceiling Speaker Calculator'!$C$29=\"Square\",AO$1,IF(OR(AND(ODD($A69)=$A69,ODD(AO$2)=AO$2),AND(EVEN($A69)=$A69,EVEN(AO$2)=AO$2)),AO$1,-100))","v":721.875},{"$f":"IF('Ceiling Speaker Calculator'!$C$29=\"Square\",AP$1,IF(OR(AND(ODD($A69)=$A69,ODD(AP$2)=AP$2),AND(EVEN($A69)=$A69,EVEN(AP$2)=AP$2)),AP$1,-100))","v":740.625},{"$f":"IF('Ceiling Speaker Calculator'!$C$29=\"Square\",AQ$1,IF(OR(AND(ODD($A69)=$A69,ODD(AQ$2)=AQ$2),AND(EVEN($A69)=$A69,EVEN(AQ$2)=AQ$2)),AQ$1,-100))","v":759.375},{"$f":"IF('Ceiling Speaker Calculator'!$C$29=\"Square\",AR$1,IF(OR(AND(ODD($A69)=$A69,ODD(AR$2)=AR$2),AND(EVEN($A69)=$A69,EVEN(AR$2)=AR$2)),AR$1,-100))","v":778.125},{"$f":"IF('Ceiling Speaker Calculator'!$C$29=\"Square\",AS$1,IF(OR(AND(ODD($A69)=$A69,ODD(AS$2)=AS$2),AND(EVEN($A69)=$A69,EVEN(AS$2)=AS$2)),AS$1,-100))","v":796.875},{"$f":"IF('Ceiling Speaker Calculator'!$C$29=\"Square\",AT$1,IF(OR(AND(ODD($A69)=$A69,ODD(AT$2)=AT$2),AND(EVEN($A69)=$A69,EVEN(AT$2)=AT$2)),AT$1,-100))","v":815.625},{"$f":"IF('Ceiling Speaker Calculator'!$C$29=\"Square\",AU$1,IF(OR(AND(ODD($A69)=$A69,ODD(AU$2)=AU$2),AND(EVEN($A69)=$A69,EVEN(AU$2)=AU$2)),AU$1,-100))","v":834.375},{"$f":"IF('Ceiling Speaker Calculator'!$C$29=\"Square\",AV$1,IF(OR(AND(ODD($A69)=$A69,ODD(AV$2)=AV$2),AND(EVEN($A69)=$A69,EVEN(AV$2)=AV$2)),AV$1,-100))","v":853.125},{"$f":"IF('Ceiling Speaker Calculator'!$C$29=\"Square\",AW$1,IF(OR(AND(ODD($A69)=$A69,ODD(AW$2)=AW$2),AND(EVEN($A69)=$A69,EVEN(AW$2)=AW$2)),AW$1,-100))","v":871.875},{"$f":"IF('Ceiling Speaker Calculator'!$C$29=\"Square\",AX$1,IF(OR(AND(ODD($A69)=$A69,ODD(AX$2)=AX$2),AND(EVEN($A69)=$A69,EVEN(AX$2)=AX$2)),AX$1,-100))","v":890.625},{"$f":"IF('Ceiling Speaker Calculator'!$C$29=\"Square\",AY$1,IF(OR(AND(ODD($A69)=$A69,ODD(AY$2)=AY$2),AND(EVEN($A69)=$A69,EVEN(AY$2)=AY$2)),AY$1,-100))","v":909.375},{"$f":"IF('Ceiling Speaker Calculator'!$C$29=\"Square\",AZ$1,IF(OR(AND(ODD($A69)=$A69,ODD(AZ$2)=AZ$2),AND(EVEN($A69)=$A69,EVEN(AZ$2)=AZ$2)),AZ$1,-100))","v":928.125},{"$f":"IF('Ceiling Speaker Calculator'!$C$29=\"Square\",BA$1,IF(OR(AND(ODD($A69)=$A69,ODD(BA$2)=BA$2),AND(EVEN($A69)=$A69,EVEN(BA$2)=BA$2)),BA$1,-100))","v":946.875},{"$f":"IF('Ceiling Speaker Calculator'!$C$29=\"Square\",BB$1,IF(OR(AND(ODD($A69)=$A69,ODD(BB$2)=BB$2),AND(EVEN($A69)=$A69,EVEN(BB$2)=BB$2)),BB$1,-100))","v":965.625},{"$f":"IF('Ceiling Speaker Calculator'!$C$29=\"Square\",BC$1,IF(OR(AND(ODD($A69)=$A69,ODD(BC$2)=BC$2),AND(EVEN($A69)=$A69,EVEN(BC$2)=BC$2)),BC$1,-100))","v":984.375},{"$f":"IF('Ceiling Speaker Calculator'!$C$29=\"Square\",BD$1,IF(OR(AND(ODD($A69)=$A69,ODD(BD$2)=BD$2),AND(EVEN($A69)=$A69,EVEN(BD$2)=BD$2)),BD$1,-100))","v":1003.125},{"$f":"IF('Ceiling Speaker Calculator'!$C$29=\"Square\",BE$1,IF(OR(AND(ODD($A69)=$A69,ODD(BE$2)=BE$2),AND(EVEN($A69)=$A69,EVEN(BE$2)=BE$2)),BE$1,-100))","v":1021.875},{"$f":"IF('Ceiling Speaker Calculator'!$C$29=\"Square\",BF$1,IF(OR(AND(ODD($A69)=$A69,ODD(BF$2)=BF$2),AND(EVEN($A69)=$A69,EVEN(BF$2)=BF$2)),BF$1,-100))","v":1040.625},{"$f":"IF('Ceiling Speaker Calculator'!$C$29=\"Square\",BG$1,IF(OR(AND(ODD($A69)=$A69,ODD(BG$2)=BG$2),AND(EVEN($A69)=$A69,EVEN(BG$2)=BG$2)),BG$1,-100))","v":1059.375},{"$f":"IF('Ceiling Speaker Calculator'!$C$29=\"Square\",BH$1,IF(OR(AND(ODD($A69)=$A69,ODD(BH$2)=BH$2),AND(EVEN($A69)=$A69,EVEN(BH$2)=BH$2)),BH$1,-100))","v":1078.125},{"$f":"IF('Ceiling Speaker Calculator'!$C$29=\"Square\",BI$1,IF(OR(AND(ODD($A69)=$A69,ODD(BI$2)=BI$2),AND(EVEN($A69)=$A69,EVEN(BI$2)=BI$2)),BI$1,-100))","v":1096.875},{"$f":"IF('Ceiling Speaker Calculator'!$C$29=\"Square\",BJ$1,IF(OR(AND(ODD($A69)=$A69,ODD(BJ$2)=BJ$2),AND(EVEN($A69)=$A69,EVEN(BJ$2)=BJ$2)),BJ$1,-100))","v":1115.625},{"$f":"IF('Ceiling Speaker Calculator'!$C$29=\"Square\",BK$1,IF(OR(AND(ODD($A69)=$A69,ODD(BK$2)=BK$2),AND(EVEN($A69)=$A69,EVEN(BK$2)=BK$2)),BK$1,-100))","v":1134.375},{"$f":"IF('Ceiling Speaker Calculator'!$C$29=\"Square\",BL$1,IF(OR(AND(ODD($A69)=$A69,ODD(BL$2)=BL$2),AND(EVEN($A69)=$A69,EVEN(BL$2)=BL$2)),BL$1,-100))","v":1153.125},{"$f":"IF('Ceiling Speaker Calculator'!$C$29=\"Square\",BM$1,IF(OR(AND(ODD($A69)=$A69,ODD(BM$2)=BM$2),AND(EVEN($A69)=$A69,EVEN(BM$2)=BM$2)),BM$1,-100))","v":1171.875},{"$f":"IF('Ceiling Speaker Calculator'!$C$29=\"Square\",BN$1,IF(OR(AND(ODD($A69)=$A69,ODD(BN$2)=BN$2),AND(EVEN($A69)=$A69,EVEN(BN$2)=BN$2)),BN$1,-100))","v":1190.625},{"$f":"IF('Ceiling Speaker Calculator'!$C$29=\"Square\",BO$1,IF(OR(AND(ODD($A69)=$A69,ODD(BO$2)=BO$2),AND(EVEN($A69)=$A69,EVEN(BO$2)=BO$2)),BO$1,-100))","v":1209.375},{"$f":"IF('Ceiling Speaker Calculator'!$C$29=\"Square\",BP$1,IF(OR(AND(ODD($A69)=$A69,ODD(BP$2)=BP$2),AND(EVEN($A69)=$A69,EVEN(BP$2)=BP$2)),BP$1,-100))","v":1228.125},{"$f":"IF('Ceiling Speaker Calculator'!$C$29=\"Square\",BQ$1,IF(OR(AND(ODD($A69)=$A69,ODD(BQ$2)=BQ$2),AND(EVEN($A69)=$A69,EVEN(BQ$2)=BQ$2)),BQ$1,-100))","v":1246.875},{"$f":"IF('Ceiling Speaker Calculator'!$C$29=\"Square\",BR$1,IF(OR(AND(ODD($A69)=$A69,ODD(BR$2)=BR$2),AND(EVEN($A69)=$A69,EVEN(BR$2)=BR$2)),BR$1,-100))","v":1265.625},{"$f":"IF('Ceiling Speaker Calculator'!$C$29=\"Square\",BS$1,IF(OR(AND(ODD($A69)=$A69,ODD(BS$2)=BS$2),AND(EVEN($A69)=$A69,EVEN(BS$2)=BS$2)),BS$1,-100))","v":1284.375},{"$f":"IF('Ceiling Speaker Calculator'!$C$29=\"Square\",BT$1,IF(OR(AND(ODD($A69)=$A69,ODD(BT$2)=BT$2),AND(EVEN($A69)=$A69,EVEN(BT$2)=BT$2)),BT$1,-100))","v":1303.125},{"$f":"IF('Ceiling Speaker Calculator'!$C$29=\"Square\",BU$1,IF(OR(AND(ODD($A69)=$A69,ODD(BU$2)=BU$2),AND(EVEN($A69)=$A69,EVEN(BU$2)=BU$2)),BU$1,-100))","v":1321.875},{"$f":"IF('Ceiling Speaker Calculator'!$C$29=\"Square\",BV$1,IF(OR(AND(ODD($A69)=$A69,ODD(BV$2)=BV$2),AND(EVEN($A69)=$A69,EVEN(BV$2)=BV$2)),BV$1,-100))","v":1340.625},{"$f":"IF('Ceiling Speaker Calculator'!$C$29=\"Square\",BW$1,IF(OR(AND(ODD($A69)=$A69,ODD(BW$2)=BW$2),AND(EVEN($A69)=$A69,EVEN(BW$2)=BW$2)),BW$1,-100))","v":1359.375},{"$f":"IF('Ceiling Speaker Calculator'!$C$29=\"Square\",BX$1,IF(OR(AND(ODD($A69)=$A69,ODD(BX$2)=BX$2),AND(EVEN($A69)=$A69,EVEN(BX$2)=BX$2)),BX$1,-100))","v":1378.125},{"$f":"IF('Ceiling Speaker Calculator'!$C$29=\"Square\",BY$1,IF(OR(AND(ODD($A69)=$A69,ODD(BY$2)=BY$2),AND(EVEN($A69)=$A69,EVEN(BY$2)=BY$2)),BY$1,-100))","v":1396.875},{"$f":"IF('Ceiling Speaker Calculator'!$C$29=\"Square\",BZ$1,IF(OR(AND(ODD($A69)=$A69,ODD(BZ$2)=BZ$2),AND(EVEN($A69)=$A69,EVEN(BZ$2)=BZ$2)),BZ$1,-100))","v":1415.625},{"$f":"IF('Ceiling Speaker Calculator'!$C$29=\"Square\",CA$1,IF(OR(AND(ODD($A69)=$A69,ODD(CA$2)=CA$2),AND(EVEN($A69)=$A69,EVEN(CA$2)=CA$2)),CA$1,-100))","v":1434.375},{"$f":"IF('Ceiling Speaker Calculator'!$C$29=\"Square\",CB$1,IF(OR(AND(ODD($A69)=$A69,ODD(CB$2)=CB$2),AND(EVEN($A69)=$A69,EVEN(CB$2)=CB$2)),CB$1,-100))","v":1453.125},{"$f":"IF('Ceiling Speaker Calculator'!$C$29=\"Square\",CC$1,IF(OR(AND(ODD($A69)=$A69,ODD(CC$2)=CC$2),AND(EVEN($A69)=$A69,EVEN(CC$2)=CC$2)),CC$1,-100))","v":1471.875},{"$f":"IF('Ceiling Speaker Calculator'!$C$29=\"Square\",CD$1,IF(OR(AND(ODD($A69)=$A69,ODD(CD$2)=CD$2),AND(EVEN($A69)=$A69,EVEN(CD$2)=CD$2)),CD$1,-100))","v":1490.625},{"$f":"IF('Ceiling Speaker Calculator'!$C$29=\"Square\",CE$1,IF(OR(AND(ODD($A69)=$A69,ODD(CE$2)=CE$2),AND(EVEN($A69)=$A69,EVEN(CE$2)=CE$2)),CE$1,-100))","v":1509.375},{"$f":"IF('Ceiling Speaker Calculator'!$C$29=\"Square\",CF$1,IF(OR(AND(ODD($A69)=$A69,ODD(CF$2)=CF$2),AND(EVEN($A69)=$A69,EVEN(CF$2)=CF$2)),CF$1,-100))","v":1528.125},{"$f":"IF('Ceiling Speaker Calculator'!$C$29=\"Square\",CG$1,IF(OR(AND(ODD($A69)=$A69,ODD(CG$2)=CG$2),AND(EVEN($A69)=$A69,EVEN(CG$2)=CG$2)),CG$1,-100))","v":1546.875},{"$f":"IF('Ceiling Speaker Calculator'!$C$29=\"Square\",CH$1,IF(OR(AND(ODD($A69)=$A69,ODD(CH$2)=CH$2),AND(EVEN($A69)=$A69,EVEN(CH$2)=CH$2)),CH$1,-100))","v":1565.625},{"$f":"IF('Ceiling Speaker Calculator'!$C$29=\"Square\",CI$1,IF(OR(AND(ODD($A69)=$A69,ODD(CI$2)=CI$2),AND(EVEN($A69)=$A69,EVEN(CI$2)=CI$2)),CI$1,-100))","v":1584.375},{"$f":"IF('Ceiling Speaker Calculator'!$C$29=\"Square\",CJ$1,IF(OR(AND(ODD($A69)=$A69,ODD(CJ$2)=CJ$2),AND(EVEN($A69)=$A69,EVEN(CJ$2)=CJ$2)),CJ$1,-100))","v":1603.125},{"$f":"IF('Ceiling Speaker Calculator'!$C$29=\"Square\",CK$1,IF(OR(AND(ODD($A69)=$A69,ODD(CK$2)=CK$2),AND(EVEN($A69)=$A69,EVEN(CK$2)=CK$2)),CK$1,-100))","v":1621.875},{"$f":"IF('Ceiling Speaker Calculator'!$C$29=\"Square\",CL$1,IF(OR(AND(ODD($A69)=$A69,ODD(CL$2)=CL$2),AND(EVEN($A69)=$A69,EVEN(CL$2)=CL$2)),CL$1,-100))","v":1640.625},{"$f":"IF('Ceiling Speaker Calculator'!$C$29=\"Square\",CM$1,IF(OR(AND(ODD($A69)=$A69,ODD(CM$2)=CM$2),AND(EVEN($A69)=$A69,EVEN(CM$2)=CM$2)),CM$1,-100))","v":1659.375},{"$f":"IF('Ceiling Speaker Calculator'!$C$29=\"Square\",CN$1,IF(OR(AND(ODD($A69)=$A69,ODD(CN$2)=CN$2),AND(EVEN($A69)=$A69,EVEN(CN$2)=CN$2)),CN$1,-100))","v":1678.125},{"$f":"IF('Ceiling Speaker Calculator'!$C$29=\"Square\",CO$1,IF(OR(AND(ODD($A69)=$A69,ODD(CO$2)=CO$2),AND(EVEN($A69)=$A69,EVEN(CO$2)=CO$2)),CO$1,-100))","v":1696.875},{"$f":"IF('Ceiling Speaker Calculator'!$C$29=\"Square\",CP$1,IF(OR(AND(ODD($A69)=$A69,ODD(CP$2)=CP$2),AND(EVEN($A69)=$A69,EVEN(CP$2)=CP$2)),CP$1,-100))","v":1715.625},{"$f":"IF('Ceiling Speaker Calculator'!$C$29=\"Square\",CQ$1,IF(OR(AND(ODD($A69)=$A69,ODD(CQ$2)=CQ$2),AND(EVEN($A69)=$A69,EVEN(CQ$2)=CQ$2)),CQ$1,-100))","v":1734.375},{"$f":"IF('Ceiling Speaker Calculator'!$C$29=\"Square\",CR$1,IF(OR(AND(ODD($A69)=$A69,ODD(CR$2)=CR$2),AND(EVEN($A69)=$A69,EVEN(CR$2)=CR$2)),CR$1,-100))","v":1753.125},{"$f":"IF('Ceiling Speaker Calculator'!$C$29=\"Square\",CS$1,IF(OR(AND(ODD($A69)=$A69,ODD(CS$2)=CS$2),AND(EVEN($A69)=$A69,EVEN(CS$2)=CS$2)),CS$1,-100))","v":1771.875},{"$f":"IF('Ceiling Speaker Calculator'!$C$29=\"Square\",CT$1,IF(OR(AND(ODD($A69)=$A69,ODD(CT$2)=CT$2),AND(EVEN($A69)=$A69,EVEN(CT$2)=CT$2)),CT$1,-100))","v":1790.625},{"$f":"IF('Ceiling Speaker Calculator'!$C$29=\"Square\",CU$1,IF(OR(AND(ODD($A69)=$A69,ODD(CU$2)=CU$2),AND(EVEN($A69)=$A69,EVEN(CU$2)=CU$2)),CU$1,-100))","v":1809.375},{"$f":"IF('Ceiling Speaker Calculator'!$C$29=\"Square\",CV$1,IF(OR(AND(ODD($A69)=$A69,ODD(CV$2)=CV$2),AND(EVEN($A69)=$A69,EVEN(CV$2)=CV$2)),CV$1,-100))","v":1828.125},{"$f":"IF('Ceiling Speaker Calculator'!$C$29=\"Square\",CW$1,IF(OR(AND(ODD($A69)=$A69,ODD(CW$2)=CW$2),AND(EVEN($A69)=$A69,EVEN(CW$2)=CW$2)),CW$1,-100))","v":1846.875},{"$f":"IF('Ceiling Speaker Calculator'!$C$29=\"Square\",CX$1,IF(OR(AND(ODD($A69)=$A69,ODD(CX$2)=CX$2),AND(EVEN($A69)=$A69,EVEN(CX$2)=CX$2)),CX$1,-100))","v":1865.625}]
[68,{"$f":"B69+'Ceiling Speaker Calculator'!$K$16","v":1350},{"$f":"IF('Ceiling Speaker Calculator'!$C$29=\"Square\",C$1,IF(OR(AND(ODD($A70)=$A70,ODD(C$2)=C$2),AND(EVEN($A70)=$A70,EVEN(C$2)=C$2)),C$1,-100))","v":9.375},{"$f":"IF('Ceiling Speaker Calculator'!$C$29=\"Square\",D$1,IF(OR(AND(ODD($A70)=$A70,ODD(D$2)=D$2),AND(EVEN($A70)=$A70,EVEN(D$2)=D$2)),D$1,-100))","v":28.125},{"$f":"IF('Ceiling Speaker Calculator'!$C$29=\"Square\",E$1,IF(OR(AND(ODD($A70)=$A70,ODD(E$2)=E$2),AND(EVEN($A70)=$A70,EVEN(E$2)=E$2)),E$1,-100))","v":46.875},{"$f":"IF('Ceiling Speaker Calculator'!$C$29=\"Square\",F$1,IF(OR(AND(ODD($A70)=$A70,ODD(F$2)=F$2),AND(EVEN($A70)=$A70,EVEN(F$2)=F$2)),F$1,-100))","v":65.625},{"$f":"IF('Ceiling Speaker Calculator'!$C$29=\"Square\",G$1,IF(OR(AND(ODD($A70)=$A70,ODD(G$2)=G$2),AND(EVEN($A70)=$A70,EVEN(G$2)=G$2)),G$1,-100))","v":84.375},{"$f":"IF('Ceiling Speaker Calculator'!$C$29=\"Square\",H$1,IF(OR(AND(ODD($A70)=$A70,ODD(H$2)=H$2),AND(EVEN($A70)=$A70,EVEN(H$2)=H$2)),H$1,-100))","v":103.125},{"$f":"IF('Ceiling Speaker Calculator'!$C$29=\"Square\",I$1,IF(OR(AND(ODD($A70)=$A70,ODD(I$2)=I$2),AND(EVEN($A70)=$A70,EVEN(I$2)=I$2)),I$1,-100))","v":121.875},{"$f":"IF('Ceiling Speaker Calculator'!$C$29=\"Square\",J$1,IF(OR(AND(ODD($A70)=$A70,ODD(J$2)=J$2),AND(EVEN($A70)=$A70,EVEN(J$2)=J$2)),J$1,-100))","v":140.625},{"$f":"IF('Ceiling Speaker Calculator'!$C$29=\"Square\",K$1,IF(OR(AND(ODD($A70)=$A70,ODD(K$2)=K$2),AND(EVEN($A70)=$A70,EVEN(K$2)=K$2)),K$1,-100))","v":159.375},{"$f":"IF('Ceiling Speaker Calculator'!$C$29=\"Square\",L$1,IF(OR(AND(ODD($A70)=$A70,ODD(L$2)=L$2),AND(EVEN($A70)=$A70,EVEN(L$2)=L$2)),L$1,-100))","v":178.125},{"$f":"IF('Ceiling Speaker Calculator'!$C$29=\"Square\",M$1,IF(OR(AND(ODD($A70)=$A70,ODD(M$2)=M$2),AND(EVEN($A70)=$A70,EVEN(M$2)=M$2)),M$1,-100))","v":196.875},{"$f":"IF('Ceiling Speaker Calculator'!$C$29=\"Square\",N$1,IF(OR(AND(ODD($A70)=$A70,ODD(N$2)=N$2),AND(EVEN($A70)=$A70,EVEN(N$2)=N$2)),N$1,-100))","v":215.625},{"$f":"IF('Ceiling Speaker Calculator'!$C$29=\"Square\",O$1,IF(OR(AND(ODD($A70)=$A70,ODD(O$2)=O$2),AND(EVEN($A70)=$A70,EVEN(O$2)=O$2)),O$1,-100))","v":234.375},{"$f":"IF('Ceiling Speaker Calculator'!$C$29=\"Square\",P$1,IF(OR(AND(ODD($A70)=$A70,ODD(P$2)=P$2),AND(EVEN($A70)=$A70,EVEN(P$2)=P$2)),P$1,-100))","v":253.125},{"$f":"IF('Ceiling Speaker Calculator'!$C$29=\"Square\",Q$1,IF(OR(AND(ODD($A70)=$A70,ODD(Q$2)=Q$2),AND(EVEN($A70)=$A70,EVEN(Q$2)=Q$2)),Q$1,-100))","v":271.875},{"$f":"IF('Ceiling Speaker Calculator'!$C$29=\"Square\",R$1,IF(OR(AND(ODD($A70)=$A70,ODD(R$2)=R$2),AND(EVEN($A70)=$A70,EVEN(R$2)=R$2)),R$1,-100))","v":290.625},{"$f":"IF('Ceiling Speaker Calculator'!$C$29=\"Square\",S$1,IF(OR(AND(ODD($A70)=$A70,ODD(S$2)=S$2),AND(EVEN($A70)=$A70,EVEN(S$2)=S$2)),S$1,-100))","v":309.375},{"$f":"IF('Ceiling Speaker Calculator'!$C$29=\"Square\",T$1,IF(OR(AND(ODD($A70)=$A70,ODD(T$2)=T$2),AND(EVEN($A70)=$A70,EVEN(T$2)=T$2)),T$1,-100))","v":328.125},{"$f":"IF('Ceiling Speaker Calculator'!$C$29=\"Square\",U$1,IF(OR(AND(ODD($A70)=$A70,ODD(U$2)=U$2),AND(EVEN($A70)=$A70,EVEN(U$2)=U$2)),U$1,-100))","v":346.875},{"$f":"IF('Ceiling Speaker Calculator'!$C$29=\"Square\",V$1,IF(OR(AND(ODD($A70)=$A70,ODD(V$2)=V$2),AND(EVEN($A70)=$A70,EVEN(V$2)=V$2)),V$1,-100))","v":365.625},{"$f":"IF('Ceiling Speaker Calculator'!$C$29=\"Square\",W$1,IF(OR(AND(ODD($A70)=$A70,ODD(W$2)=W$2),AND(EVEN($A70)=$A70,EVEN(W$2)=W$2)),W$1,-100))","v":384.375},{"$f":"IF('Ceiling Speaker Calculator'!$C$29=\"Square\",X$1,IF(OR(AND(ODD($A70)=$A70,ODD(X$2)=X$2),AND(EVEN($A70)=$A70,EVEN(X$2)=X$2)),X$1,-100))","v":403.125},{"$f":"IF('Ceiling Speaker Calculator'!$C$29=\"Square\",Y$1,IF(OR(AND(ODD($A70)=$A70,ODD(Y$2)=Y$2),AND(EVEN($A70)=$A70,EVEN(Y$2)=Y$2)),Y$1,-100))","v":421.875},{"$f":"IF('Ceiling Speaker Calculator'!$C$29=\"Square\",Z$1,IF(OR(AND(ODD($A70)=$A70,ODD(Z$2)=Z$2),AND(EVEN($A70)=$A70,EVEN(Z$2)=Z$2)),Z$1,-100))","v":440.625},{"$f":"IF('Ceiling Speaker Calculator'!$C$29=\"Square\",AA$1,IF(OR(AND(ODD($A70)=$A70,ODD(AA$2)=AA$2),AND(EVEN($A70)=$A70,EVEN(AA$2)=AA$2)),AA$1,-100))","v":459.375},{"$f":"IF('Ceiling Speaker Calculator'!$C$29=\"Square\",AB$1,IF(OR(AND(ODD($A70)=$A70,ODD(AB$2)=AB$2),AND(EVEN($A70)=$A70,EVEN(AB$2)=AB$2)),AB$1,-100))","v":478.125},{"$f":"IF('Ceiling Speaker Calculator'!$C$29=\"Square\",AC$1,IF(OR(AND(ODD($A70)=$A70,ODD(AC$2)=AC$2),AND(EVEN($A70)=$A70,EVEN(AC$2)=AC$2)),AC$1,-100))","v":496.875},{"$f":"IF('Ceiling Speaker Calculator'!$C$29=\"Square\",AD$1,IF(OR(AND(ODD($A70)=$A70,ODD(AD$2)=AD$2),AND(EVEN($A70)=$A70,EVEN(AD$2)=AD$2)),AD$1,-100))","v":515.625},{"$f":"IF('Ceiling Speaker Calculator'!$C$29=\"Square\",AE$1,IF(OR(AND(ODD($A70)=$A70,ODD(AE$2)=AE$2),AND(EVEN($A70)=$A70,EVEN(AE$2)=AE$2)),AE$1,-100))","v":534.375},{"$f":"IF('Ceiling Speaker Calculator'!$C$29=\"Square\",AF$1,IF(OR(AND(ODD($A70)=$A70,ODD(AF$2)=AF$2),AND(EVEN($A70)=$A70,EVEN(AF$2)=AF$2)),AF$1,-100))","v":553.125},{"$f":"IF('Ceiling Speaker Calculator'!$C$29=\"Square\",AG$1,IF(OR(AND(ODD($A70)=$A70,ODD(AG$2)=AG$2),AND(EVEN($A70)=$A70,EVEN(AG$2)=AG$2)),AG$1,-100))","v":571.875},{"$f":"IF('Ceiling Speaker Calculator'!$C$29=\"Square\",AH$1,IF(OR(AND(ODD($A70)=$A70,ODD(AH$2)=AH$2),AND(EVEN($A70)=$A70,EVEN(AH$2)=AH$2)),AH$1,-100))","v":590.625},{"$f":"IF('Ceiling Speaker Calculator'!$C$29=\"Square\",AI$1,IF(OR(AND(ODD($A70)=$A70,ODD(AI$2)=AI$2),AND(EVEN($A70)=$A70,EVEN(AI$2)=AI$2)),AI$1,-100))","v":609.375},{"$f":"IF('Ceiling Speaker Calculator'!$C$29=\"Square\",AJ$1,IF(OR(AND(ODD($A70)=$A70,ODD(AJ$2)=AJ$2),AND(EVEN($A70)=$A70,EVEN(AJ$2)=AJ$2)),AJ$1,-100))","v":628.125},{"$f":"IF('Ceiling Speaker Calculator'!$C$29=\"Square\",AK$1,IF(OR(AND(ODD($A70)=$A70,ODD(AK$2)=AK$2),AND(EVEN($A70)=$A70,EVEN(AK$2)=AK$2)),AK$1,-100))","v":646.875},{"$f":"IF('Ceiling Speaker Calculator'!$C$29=\"Square\",AL$1,IF(OR(AND(ODD($A70)=$A70,ODD(AL$2)=AL$2),AND(EVEN($A70)=$A70,EVEN(AL$2)=AL$2)),AL$1,-100))","v":665.625},{"$f":"IF('Ceiling Speaker Calculator'!$C$29=\"Square\",AM$1,IF(OR(AND(ODD($A70)=$A70,ODD(AM$2)=AM$2),AND(EVEN($A70)=$A70,EVEN(AM$2)=AM$2)),AM$1,-100))","v":684.375},{"$f":"IF('Ceiling Speaker Calculator'!$C$29=\"Square\",AN$1,IF(OR(AND(ODD($A70)=$A70,ODD(AN$2)=AN$2),AND(EVEN($A70)=$A70,EVEN(AN$2)=AN$2)),AN$1,-100))","v":703.125},{"$f":"IF('Ceiling Speaker Calculator'!$C$29=\"Square\",AO$1,IF(OR(AND(ODD($A70)=$A70,ODD(AO$2)=AO$2),AND(EVEN($A70)=$A70,EVEN(AO$2)=AO$2)),AO$1,-100))","v":721.875},{"$f":"IF('Ceiling Speaker Calculator'!$C$29=\"Square\",AP$1,IF(OR(AND(ODD($A70)=$A70,ODD(AP$2)=AP$2),AND(EVEN($A70)=$A70,EVEN(AP$2)=AP$2)),AP$1,-100))","v":740.625},{"$f":"IF('Ceiling Speaker Calculator'!$C$29=\"Square\",AQ$1,IF(OR(AND(ODD($A70)=$A70,ODD(AQ$2)=AQ$2),AND(EVEN($A70)=$A70,EVEN(AQ$2)=AQ$2)),AQ$1,-100))","v":759.375},{"$f":"IF('Ceiling Speaker Calculator'!$C$29=\"Square\",AR$1,IF(OR(AND(ODD($A70)=$A70,ODD(AR$2)=AR$2),AND(EVEN($A70)=$A70,EVEN(AR$2)=AR$2)),AR$1,-100))","v":778.125},{"$f":"IF('Ceiling Speaker Calculator'!$C$29=\"Square\",AS$1,IF(OR(AND(ODD($A70)=$A70,ODD(AS$2)=AS$2),AND(EVEN($A70)=$A70,EVEN(AS$2)=AS$2)),AS$1,-100))","v":796.875},{"$f":"IF('Ceiling Speaker Calculator'!$C$29=\"Square\",AT$1,IF(OR(AND(ODD($A70)=$A70,ODD(AT$2)=AT$2),AND(EVEN($A70)=$A70,EVEN(AT$2)=AT$2)),AT$1,-100))","v":815.625},{"$f":"IF('Ceiling Speaker Calculator'!$C$29=\"Square\",AU$1,IF(OR(AND(ODD($A70)=$A70,ODD(AU$2)=AU$2),AND(EVEN($A70)=$A70,EVEN(AU$2)=AU$2)),AU$1,-100))","v":834.375},{"$f":"IF('Ceiling Speaker Calculator'!$C$29=\"Square\",AV$1,IF(OR(AND(ODD($A70)=$A70,ODD(AV$2)=AV$2),AND(EVEN($A70)=$A70,EVEN(AV$2)=AV$2)),AV$1,-100))","v":853.125},{"$f":"IF('Ceiling Speaker Calculator'!$C$29=\"Square\",AW$1,IF(OR(AND(ODD($A70)=$A70,ODD(AW$2)=AW$2),AND(EVEN($A70)=$A70,EVEN(AW$2)=AW$2)),AW$1,-100))","v":871.875},{"$f":"IF('Ceiling Speaker Calculator'!$C$29=\"Square\",AX$1,IF(OR(AND(ODD($A70)=$A70,ODD(AX$2)=AX$2),AND(EVEN($A70)=$A70,EVEN(AX$2)=AX$2)),AX$1,-100))","v":890.625},{"$f":"IF('Ceiling Speaker Calculator'!$C$29=\"Square\",AY$1,IF(OR(AND(ODD($A70)=$A70,ODD(AY$2)=AY$2),AND(EVEN($A70)=$A70,EVEN(AY$2)=AY$2)),AY$1,-100))","v":909.375},{"$f":"IF('Ceiling Speaker Calculator'!$C$29=\"Square\",AZ$1,IF(OR(AND(ODD($A70)=$A70,ODD(AZ$2)=AZ$2),AND(EVEN($A70)=$A70,EVEN(AZ$2)=AZ$2)),AZ$1,-100))","v":928.125},{"$f":"IF('Ceiling Speaker Calculator'!$C$29=\"Square\",BA$1,IF(OR(AND(ODD($A70)=$A70,ODD(BA$2)=BA$2),AND(EVEN($A70)=$A70,EVEN(BA$2)=BA$2)),BA$1,-100))","v":946.875},{"$f":"IF('Ceiling Speaker Calculator'!$C$29=\"Square\",BB$1,IF(OR(AND(ODD($A70)=$A70,ODD(BB$2)=BB$2),AND(EVEN($A70)=$A70,EVEN(BB$2)=BB$2)),BB$1,-100))","v":965.625},{"$f":"IF('Ceiling Speaker Calculator'!$C$29=\"Square\",BC$1,IF(OR(AND(ODD($A70)=$A70,ODD(BC$2)=BC$2),AND(EVEN($A70)=$A70,EVEN(BC$2)=BC$2)),BC$1,-100))","v":984.375},{"$f":"IF('Ceiling Speaker Calculator'!$C$29=\"Square\",BD$1,IF(OR(AND(ODD($A70)=$A70,ODD(BD$2)=BD$2),AND(EVEN($A70)=$A70,EVEN(BD$2)=BD$2)),BD$1,-100))","v":1003.125},{"$f":"IF('Ceiling Speaker Calculator'!$C$29=\"Square\",BE$1,IF(OR(AND(ODD($A70)=$A70,ODD(BE$2)=BE$2),AND(EVEN($A70)=$A70,EVEN(BE$2)=BE$2)),BE$1,-100))","v":1021.875},{"$f":"IF('Ceiling Speaker Calculator'!$C$29=\"Square\",BF$1,IF(OR(AND(ODD($A70)=$A70,ODD(BF$2)=BF$2),AND(EVEN($A70)=$A70,EVEN(BF$2)=BF$2)),BF$1,-100))","v":1040.625},{"$f":"IF('Ceiling Speaker Calculator'!$C$29=\"Square\",BG$1,IF(OR(AND(ODD($A70)=$A70,ODD(BG$2)=BG$2),AND(EVEN($A70)=$A70,EVEN(BG$2)=BG$2)),BG$1,-100))","v":1059.375},{"$f":"IF('Ceiling Speaker Calculator'!$C$29=\"Square\",BH$1,IF(OR(AND(ODD($A70)=$A70,ODD(BH$2)=BH$2),AND(EVEN($A70)=$A70,EVEN(BH$2)=BH$2)),BH$1,-100))","v":1078.125},{"$f":"IF('Ceiling Speaker Calculator'!$C$29=\"Square\",BI$1,IF(OR(AND(ODD($A70)=$A70,ODD(BI$2)=BI$2),AND(EVEN($A70)=$A70,EVEN(BI$2)=BI$2)),BI$1,-100))","v":1096.875},{"$f":"IF('Ceiling Speaker Calculator'!$C$29=\"Square\",BJ$1,IF(OR(AND(ODD($A70)=$A70,ODD(BJ$2)=BJ$2),AND(EVEN($A70)=$A70,EVEN(BJ$2)=BJ$2)),BJ$1,-100))","v":1115.625},{"$f":"IF('Ceiling Speaker Calculator'!$C$29=\"Square\",BK$1,IF(OR(AND(ODD($A70)=$A70,ODD(BK$2)=BK$2),AND(EVEN($A70)=$A70,EVEN(BK$2)=BK$2)),BK$1,-100))","v":1134.375},{"$f":"IF('Ceiling Speaker Calculator'!$C$29=\"Square\",BL$1,IF(OR(AND(ODD($A70)=$A70,ODD(BL$2)=BL$2),AND(EVEN($A70)=$A70,EVEN(BL$2)=BL$2)),BL$1,-100))","v":1153.125},{"$f":"IF('Ceiling Speaker Calculator'!$C$29=\"Square\",BM$1,IF(OR(AND(ODD($A70)=$A70,ODD(BM$2)=BM$2),AND(EVEN($A70)=$A70,EVEN(BM$2)=BM$2)),BM$1,-100))","v":1171.875},{"$f":"IF('Ceiling Speaker Calculator'!$C$29=\"Square\",BN$1,IF(OR(AND(ODD($A70)=$A70,ODD(BN$2)=BN$2),AND(EVEN($A70)=$A70,EVEN(BN$2)=BN$2)),BN$1,-100))","v":1190.625},{"$f":"IF('Ceiling Speaker Calculator'!$C$29=\"Square\",BO$1,IF(OR(AND(ODD($A70)=$A70,ODD(BO$2)=BO$2),AND(EVEN($A70)=$A70,EVEN(BO$2)=BO$2)),BO$1,-100))","v":1209.375},{"$f":"IF('Ceiling Speaker Calculator'!$C$29=\"Square\",BP$1,IF(OR(AND(ODD($A70)=$A70,ODD(BP$2)=BP$2),AND(EVEN($A70)=$A70,EVEN(BP$2)=BP$2)),BP$1,-100))","v":1228.125},{"$f":"IF('Ceiling Speaker Calculator'!$C$29=\"Square\",BQ$1,IF(OR(AND(ODD($A70)=$A70,ODD(BQ$2)=BQ$2),AND(EVEN($A70)=$A70,EVEN(BQ$2)=BQ$2)),BQ$1,-100))","v":1246.875},{"$f":"IF('Ceiling Speaker Calculator'!$C$29=\"Square\",BR$1,IF(OR(AND(ODD($A70)=$A70,ODD(BR$2)=BR$2),AND(EVEN($A70)=$A70,EVEN(BR$2)=BR$2)),BR$1,-100))","v":1265.625},{"$f":"IF('Ceiling Speaker Calculator'!$C$29=\"Square\",BS$1,IF(OR(AND(ODD($A70)=$A70,ODD(BS$2)=BS$2),AND(EVEN($A70)=$A70,EVEN(BS$2)=BS$2)),BS$1,-100))","v":1284.375},{"$f":"IF('Ceiling Speaker Calculator'!$C$29=\"Square\",BT$1,IF(OR(AND(ODD($A70)=$A70,ODD(BT$2)=BT$2),AND(EVEN($A70)=$A70,EVEN(BT$2)=BT$2)),BT$1,-100))","v":1303.125},{"$f":"IF('Ceiling Speaker Calculator'!$C$29=\"Square\",BU$1,IF(OR(AND(ODD($A70)=$A70,ODD(BU$2)=BU$2),AND(EVEN($A70)=$A70,EVEN(BU$2)=BU$2)),BU$1,-100))","v":1321.875},{"$f":"IF('Ceiling Speaker Calculator'!$C$29=\"Square\",BV$1,IF(OR(AND(ODD($A70)=$A70,ODD(BV$2)=BV$2),AND(EVEN($A70)=$A70,EVEN(BV$2)=BV$2)),BV$1,-100))","v":1340.625},{"$f":"IF('Ceiling Speaker Calculator'!$C$29=\"Square\",BW$1,IF(OR(AND(ODD($A70)=$A70,ODD(BW$2)=BW$2),AND(EVEN($A70)=$A70,EVEN(BW$2)=BW$2)),BW$1,-100))","v":1359.375},{"$f":"IF('Ceiling Speaker Calculator'!$C$29=\"Square\",BX$1,IF(OR(AND(ODD($A70)=$A70,ODD(BX$2)=BX$2),AND(EVEN($A70)=$A70,EVEN(BX$2)=BX$2)),BX$1,-100))","v":1378.125},{"$f":"IF('Ceiling Speaker Calculator'!$C$29=\"Square\",BY$1,IF(OR(AND(ODD($A70)=$A70,ODD(BY$2)=BY$2),AND(EVEN($A70)=$A70,EVEN(BY$2)=BY$2)),BY$1,-100))","v":1396.875},{"$f":"IF('Ceiling Speaker Calculator'!$C$29=\"Square\",BZ$1,IF(OR(AND(ODD($A70)=$A70,ODD(BZ$2)=BZ$2),AND(EVEN($A70)=$A70,EVEN(BZ$2)=BZ$2)),BZ$1,-100))","v":1415.625},{"$f":"IF('Ceiling Speaker Calculator'!$C$29=\"Square\",CA$1,IF(OR(AND(ODD($A70)=$A70,ODD(CA$2)=CA$2),AND(EVEN($A70)=$A70,EVEN(CA$2)=CA$2)),CA$1,-100))","v":1434.375},{"$f":"IF('Ceiling Speaker Calculator'!$C$29=\"Square\",CB$1,IF(OR(AND(ODD($A70)=$A70,ODD(CB$2)=CB$2),AND(EVEN($A70)=$A70,EVEN(CB$2)=CB$2)),CB$1,-100))","v":1453.125},{"$f":"IF('Ceiling Speaker Calculator'!$C$29=\"Square\",CC$1,IF(OR(AND(ODD($A70)=$A70,ODD(CC$2)=CC$2),AND(EVEN($A70)=$A70,EVEN(CC$2)=CC$2)),CC$1,-100))","v":1471.875},{"$f":"IF('Ceiling Speaker Calculator'!$C$29=\"Square\",CD$1,IF(OR(AND(ODD($A70)=$A70,ODD(CD$2)=CD$2),AND(EVEN($A70)=$A70,EVEN(CD$2)=CD$2)),CD$1,-100))","v":1490.625},{"$f":"IF('Ceiling Speaker Calculator'!$C$29=\"Square\",CE$1,IF(OR(AND(ODD($A70)=$A70,ODD(CE$2)=CE$2),AND(EVEN($A70)=$A70,EVEN(CE$2)=CE$2)),CE$1,-100))","v":1509.375},{"$f":"IF('Ceiling Speaker Calculator'!$C$29=\"Square\",CF$1,IF(OR(AND(ODD($A70)=$A70,ODD(CF$2)=CF$2),AND(EVEN($A70)=$A70,EVEN(CF$2)=CF$2)),CF$1,-100))","v":1528.125},{"$f":"IF('Ceiling Speaker Calculator'!$C$29=\"Square\",CG$1,IF(OR(AND(ODD($A70)=$A70,ODD(CG$2)=CG$2),AND(EVEN($A70)=$A70,EVEN(CG$2)=CG$2)),CG$1,-100))","v":1546.875},{"$f":"IF('Ceiling Speaker Calculator'!$C$29=\"Square\",CH$1,IF(OR(AND(ODD($A70)=$A70,ODD(CH$2)=CH$2),AND(EVEN($A70)=$A70,EVEN(CH$2)=CH$2)),CH$1,-100))","v":1565.625},{"$f":"IF('Ceiling Speaker Calculator'!$C$29=\"Square\",CI$1,IF(OR(AND(ODD($A70)=$A70,ODD(CI$2)=CI$2),AND(EVEN($A70)=$A70,EVEN(CI$2)=CI$2)),CI$1,-100))","v":1584.375},{"$f":"IF('Ceiling Speaker Calculator'!$C$29=\"Square\",CJ$1,IF(OR(AND(ODD($A70)=$A70,ODD(CJ$2)=CJ$2),AND(EVEN($A70)=$A70,EVEN(CJ$2)=CJ$2)),CJ$1,-100))","v":1603.125},{"$f":"IF('Ceiling Speaker Calculator'!$C$29=\"Square\",CK$1,IF(OR(AND(ODD($A70)=$A70,ODD(CK$2)=CK$2),AND(EVEN($A70)=$A70,EVEN(CK$2)=CK$2)),CK$1,-100))","v":1621.875},{"$f":"IF('Ceiling Speaker Calculator'!$C$29=\"Square\",CL$1,IF(OR(AND(ODD($A70)=$A70,ODD(CL$2)=CL$2),AND(EVEN($A70)=$A70,EVEN(CL$2)=CL$2)),CL$1,-100))","v":1640.625},{"$f":"IF('Ceiling Speaker Calculator'!$C$29=\"Square\",CM$1,IF(OR(AND(ODD($A70)=$A70,ODD(CM$2)=CM$2),AND(EVEN($A70)=$A70,EVEN(CM$2)=CM$2)),CM$1,-100))","v":1659.375},{"$f":"IF('Ceiling Speaker Calculator'!$C$29=\"Square\",CN$1,IF(OR(AND(ODD($A70)=$A70,ODD(CN$2)=CN$2),AND(EVEN($A70)=$A70,EVEN(CN$2)=CN$2)),CN$1,-100))","v":1678.125},{"$f":"IF('Ceiling Speaker Calculator'!$C$29=\"Square\",CO$1,IF(OR(AND(ODD($A70)=$A70,ODD(CO$2)=CO$2),AND(EVEN($A70)=$A70,EVEN(CO$2)=CO$2)),CO$1,-100))","v":1696.875},{"$f":"IF('Ceiling Speaker Calculator'!$C$29=\"Square\",CP$1,IF(OR(AND(ODD($A70)=$A70,ODD(CP$2)=CP$2),AND(EVEN($A70)=$A70,EVEN(CP$2)=CP$2)),CP$1,-100))","v":1715.625},{"$f":"IF('Ceiling Speaker Calculator'!$C$29=\"Square\",CQ$1,IF(OR(AND(ODD($A70)=$A70,ODD(CQ$2)=CQ$2),AND(EVEN($A70)=$A70,EVEN(CQ$2)=CQ$2)),CQ$1,-100))","v":1734.375},{"$f":"IF('Ceiling Speaker Calculator'!$C$29=\"Square\",CR$1,IF(OR(AND(ODD($A70)=$A70,ODD(CR$2)=CR$2),AND(EVEN($A70)=$A70,EVEN(CR$2)=CR$2)),CR$1,-100))","v":1753.125},{"$f":"IF('Ceiling Speaker Calculator'!$C$29=\"Square\",CS$1,IF(OR(AND(ODD($A70)=$A70,ODD(CS$2)=CS$2),AND(EVEN($A70)=$A70,EVEN(CS$2)=CS$2)),CS$1,-100))","v":1771.875},{"$f":"IF('Ceiling Speaker Calculator'!$C$29=\"Square\",CT$1,IF(OR(AND(ODD($A70)=$A70,ODD(CT$2)=CT$2),AND(EVEN($A70)=$A70,EVEN(CT$2)=CT$2)),CT$1,-100))","v":1790.625},{"$f":"IF('Ceiling Speaker Calculator'!$C$29=\"Square\",CU$1,IF(OR(AND(ODD($A70)=$A70,ODD(CU$2)=CU$2),AND(EVEN($A70)=$A70,EVEN(CU$2)=CU$2)),CU$1,-100))","v":1809.375},{"$f":"IF('Ceiling Speaker Calculator'!$C$29=\"Square\",CV$1,IF(OR(AND(ODD($A70)=$A70,ODD(CV$2)=CV$2),AND(EVEN($A70)=$A70,EVEN(CV$2)=CV$2)),CV$1,-100))","v":1828.125},{"$f":"IF('Ceiling Speaker Calculator'!$C$29=\"Square\",CW$1,IF(OR(AND(ODD($A70)=$A70,ODD(CW$2)=CW$2),AND(EVEN($A70)=$A70,EVEN(CW$2)=CW$2)),CW$1,-100))","v":1846.875},{"$f":"IF('Ceiling Speaker Calculator'!$C$29=\"Square\",CX$1,IF(OR(AND(ODD($A70)=$A70,ODD(CX$2)=CX$2),AND(EVEN($A70)=$A70,EVEN(CX$2)=CX$2)),CX$1,-100))","v":1865.625}]
[69,{"$f":"B70+'Ceiling Speaker Calculator'!$K$16","v":1370},{"$f":"IF('Ceiling Speaker Calculator'!$C$29=\"Square\",C$1,IF(OR(AND(ODD($A71)=$A71,ODD(C$2)=C$2),AND(EVEN($A71)=$A71,EVEN(C$2)=C$2)),C$1,-100))","v":9.375},{"$f":"IF('Ceiling Speaker Calculator'!$C$29=\"Square\",D$1,IF(OR(AND(ODD($A71)=$A71,ODD(D$2)=D$2),AND(EVEN($A71)=$A71,EVEN(D$2)=D$2)),D$1,-100))","v":28.125},{"$f":"IF('Ceiling Speaker Calculator'!$C$29=\"Square\",E$1,IF(OR(AND(ODD($A71)=$A71,ODD(E$2)=E$2),AND(EVEN($A71)=$A71,EVEN(E$2)=E$2)),E$1,-100))","v":46.875},{"$f":"IF('Ceiling Speaker Calculator'!$C$29=\"Square\",F$1,IF(OR(AND(ODD($A71)=$A71,ODD(F$2)=F$2),AND(EVEN($A71)=$A71,EVEN(F$2)=F$2)),F$1,-100))","v":65.625},{"$f":"IF('Ceiling Speaker Calculator'!$C$29=\"Square\",G$1,IF(OR(AND(ODD($A71)=$A71,ODD(G$2)=G$2),AND(EVEN($A71)=$A71,EVEN(G$2)=G$2)),G$1,-100))","v":84.375},{"$f":"IF('Ceiling Speaker Calculator'!$C$29=\"Square\",H$1,IF(OR(AND(ODD($A71)=$A71,ODD(H$2)=H$2),AND(EVEN($A71)=$A71,EVEN(H$2)=H$2)),H$1,-100))","v":103.125},{"$f":"IF('Ceiling Speaker Calculator'!$C$29=\"Square\",I$1,IF(OR(AND(ODD($A71)=$A71,ODD(I$2)=I$2),AND(EVEN($A71)=$A71,EVEN(I$2)=I$2)),I$1,-100))","v":121.875},{"$f":"IF('Ceiling Speaker Calculator'!$C$29=\"Square\",J$1,IF(OR(AND(ODD($A71)=$A71,ODD(J$2)=J$2),AND(EVEN($A71)=$A71,EVEN(J$2)=J$2)),J$1,-100))","v":140.625},{"$f":"IF('Ceiling Speaker Calculator'!$C$29=\"Square\",K$1,IF(OR(AND(ODD($A71)=$A71,ODD(K$2)=K$2),AND(EVEN($A71)=$A71,EVEN(K$2)=K$2)),K$1,-100))","v":159.375},{"$f":"IF('Ceiling Speaker Calculator'!$C$29=\"Square\",L$1,IF(OR(AND(ODD($A71)=$A71,ODD(L$2)=L$2),AND(EVEN($A71)=$A71,EVEN(L$2)=L$2)),L$1,-100))","v":178.125},{"$f":"IF('Ceiling Speaker Calculator'!$C$29=\"Square\",M$1,IF(OR(AND(ODD($A71)=$A71,ODD(M$2)=M$2),AND(EVEN($A71)=$A71,EVEN(M$2)=M$2)),M$1,-100))","v":196.875},{"$f":"IF('Ceiling Speaker Calculator'!$C$29=\"Square\",N$1,IF(OR(AND(ODD($A71)=$A71,ODD(N$2)=N$2),AND(EVEN($A71)=$A71,EVEN(N$2)=N$2)),N$1,-100))","v":215.625},{"$f":"IF('Ceiling Speaker Calculator'!$C$29=\"Square\",O$1,IF(OR(AND(ODD($A71)=$A71,ODD(O$2)=O$2),AND(EVEN($A71)=$A71,EVEN(O$2)=O$2)),O$1,-100))","v":234.375},{"$f":"IF('Ceiling Speaker Calculator'!$C$29=\"Square\",P$1,IF(OR(AND(ODD($A71)=$A71,ODD(P$2)=P$2),AND(EVEN($A71)=$A71,EVEN(P$2)=P$2)),P$1,-100))","v":253.125},{"$f":"IF('Ceiling Speaker Calculator'!$C$29=\"Square\",Q$1,IF(OR(AND(ODD($A71)=$A71,ODD(Q$2)=Q$2),AND(EVEN($A71)=$A71,EVEN(Q$2)=Q$2)),Q$1,-100))","v":271.875},{"$f":"IF('Ceiling Speaker Calculator'!$C$29=\"Square\",R$1,IF(OR(AND(ODD($A71)=$A71,ODD(R$2)=R$2),AND(EVEN($A71)=$A71,EVEN(R$2)=R$2)),R$1,-100))","v":290.625},{"$f":"IF('Ceiling Speaker Calculator'!$C$29=\"Square\",S$1,IF(OR(AND(ODD($A71)=$A71,ODD(S$2)=S$2),AND(EVEN($A71)=$A71,EVEN(S$2)=S$2)),S$1,-100))","v":309.375},{"$f":"IF('Ceiling Speaker Calculator'!$C$29=\"Square\",T$1,IF(OR(AND(ODD($A71)=$A71,ODD(T$2)=T$2),AND(EVEN($A71)=$A71,EVEN(T$2)=T$2)),T$1,-100))","v":328.125},{"$f":"IF('Ceiling Speaker Calculator'!$C$29=\"Square\",U$1,IF(OR(AND(ODD($A71)=$A71,ODD(U$2)=U$2),AND(EVEN($A71)=$A71,EVEN(U$2)=U$2)),U$1,-100))","v":346.875},{"$f":"IF('Ceiling Speaker Calculator'!$C$29=\"Square\",V$1,IF(OR(AND(ODD($A71)=$A71,ODD(V$2)=V$2),AND(EVEN($A71)=$A71,EVEN(V$2)=V$2)),V$1,-100))","v":365.625},{"$f":"IF('Ceiling Speaker Calculator'!$C$29=\"Square\",W$1,IF(OR(AND(ODD($A71)=$A71,ODD(W$2)=W$2),AND(EVEN($A71)=$A71,EVEN(W$2)=W$2)),W$1,-100))","v":384.375},{"$f":"IF('Ceiling Speaker Calculator'!$C$29=\"Square\",X$1,IF(OR(AND(ODD($A71)=$A71,ODD(X$2)=X$2),AND(EVEN($A71)=$A71,EVEN(X$2)=X$2)),X$1,-100))","v":403.125},{"$f":"IF('Ceiling Speaker Calculator'!$C$29=\"Square\",Y$1,IF(OR(AND(ODD($A71)=$A71,ODD(Y$2)=Y$2),AND(EVEN($A71)=$A71,EVEN(Y$2)=Y$2)),Y$1,-100))","v":421.875},{"$f":"IF('Ceiling Speaker Calculator'!$C$29=\"Square\",Z$1,IF(OR(AND(ODD($A71)=$A71,ODD(Z$2)=Z$2),AND(EVEN($A71)=$A71,EVEN(Z$2)=Z$2)),Z$1,-100))","v":440.625},{"$f":"IF('Ceiling Speaker Calculator'!$C$29=\"Square\",AA$1,IF(OR(AND(ODD($A71)=$A71,ODD(AA$2)=AA$2),AND(EVEN($A71)=$A71,EVEN(AA$2)=AA$2)),AA$1,-100))","v":459.375},{"$f":"IF('Ceiling Speaker Calculator'!$C$29=\"Square\",AB$1,IF(OR(AND(ODD($A71)=$A71,ODD(AB$2)=AB$2),AND(EVEN($A71)=$A71,EVEN(AB$2)=AB$2)),AB$1,-100))","v":478.125},{"$f":"IF('Ceiling Speaker Calculator'!$C$29=\"Square\",AC$1,IF(OR(AND(ODD($A71)=$A71,ODD(AC$2)=AC$2),AND(EVEN($A71)=$A71,EVEN(AC$2)=AC$2)),AC$1,-100))","v":496.875},{"$f":"IF('Ceiling Speaker Calculator'!$C$29=\"Square\",AD$1,IF(OR(AND(ODD($A71)=$A71,ODD(AD$2)=AD$2),AND(EVEN($A71)=$A71,EVEN(AD$2)=AD$2)),AD$1,-100))","v":515.625},{"$f":"IF('Ceiling Speaker Calculator'!$C$29=\"Square\",AE$1,IF(OR(AND(ODD($A71)=$A71,ODD(AE$2)=AE$2),AND(EVEN($A71)=$A71,EVEN(AE$2)=AE$2)),AE$1,-100))","v":534.375},{"$f":"IF('Ceiling Speaker Calculator'!$C$29=\"Square\",AF$1,IF(OR(AND(ODD($A71)=$A71,ODD(AF$2)=AF$2),AND(EVEN($A71)=$A71,EVEN(AF$2)=AF$2)),AF$1,-100))","v":553.125},{"$f":"IF('Ceiling Speaker Calculator'!$C$29=\"Square\",AG$1,IF(OR(AND(ODD($A71)=$A71,ODD(AG$2)=AG$2),AND(EVEN($A71)=$A71,EVEN(AG$2)=AG$2)),AG$1,-100))","v":571.875},{"$f":"IF('Ceiling Speaker Calculator'!$C$29=\"Square\",AH$1,IF(OR(AND(ODD($A71)=$A71,ODD(AH$2)=AH$2),AND(EVEN($A71)=$A71,EVEN(AH$2)=AH$2)),AH$1,-100))","v":590.625},{"$f":"IF('Ceiling Speaker Calculator'!$C$29=\"Square\",AI$1,IF(OR(AND(ODD($A71)=$A71,ODD(AI$2)=AI$2),AND(EVEN($A71)=$A71,EVEN(AI$2)=AI$2)),AI$1,-100))","v":609.375},{"$f":"IF('Ceiling Speaker Calculator'!$C$29=\"Square\",AJ$1,IF(OR(AND(ODD($A71)=$A71,ODD(AJ$2)=AJ$2),AND(EVEN($A71)=$A71,EVEN(AJ$2)=AJ$2)),AJ$1,-100))","v":628.125},{"$f":"IF('Ceiling Speaker Calculator'!$C$29=\"Square\",AK$1,IF(OR(AND(ODD($A71)=$A71,ODD(AK$2)=AK$2),AND(EVEN($A71)=$A71,EVEN(AK$2)=AK$2)),AK$1,-100))","v":646.875},{"$f":"IF('Ceiling Speaker Calculator'!$C$29=\"Square\",AL$1,IF(OR(AND(ODD($A71)=$A71,ODD(AL$2)=AL$2),AND(EVEN($A71)=$A71,EVEN(AL$2)=AL$2)),AL$1,-100))","v":665.625},{"$f":"IF('Ceiling Speaker Calculator'!$C$29=\"Square\",AM$1,IF(OR(AND(ODD($A71)=$A71,ODD(AM$2)=AM$2),AND(EVEN($A71)=$A71,EVEN(AM$2)=AM$2)),AM$1,-100))","v":684.375},{"$f":"IF('Ceiling Speaker Calculator'!$C$29=\"Square\",AN$1,IF(OR(AND(ODD($A71)=$A71,ODD(AN$2)=AN$2),AND(EVEN($A71)=$A71,EVEN(AN$2)=AN$2)),AN$1,-100))","v":703.125},{"$f":"IF('Ceiling Speaker Calculator'!$C$29=\"Square\",AO$1,IF(OR(AND(ODD($A71)=$A71,ODD(AO$2)=AO$2),AND(EVEN($A71)=$A71,EVEN(AO$2)=AO$2)),AO$1,-100))","v":721.875},{"$f":"IF('Ceiling Speaker Calculator'!$C$29=\"Square\",AP$1,IF(OR(AND(ODD($A71)=$A71,ODD(AP$2)=AP$2),AND(EVEN($A71)=$A71,EVEN(AP$2)=AP$2)),AP$1,-100))","v":740.625},{"$f":"IF('Ceiling Speaker Calculator'!$C$29=\"Square\",AQ$1,IF(OR(AND(ODD($A71)=$A71,ODD(AQ$2)=AQ$2),AND(EVEN($A71)=$A71,EVEN(AQ$2)=AQ$2)),AQ$1,-100))","v":759.375},{"$f":"IF('Ceiling Speaker Calculator'!$C$29=\"Square\",AR$1,IF(OR(AND(ODD($A71)=$A71,ODD(AR$2)=AR$2),AND(EVEN($A71)=$A71,EVEN(AR$2)=AR$2)),AR$1,-100))","v":778.125},{"$f":"IF('Ceiling Speaker Calculator'!$C$29=\"Square\",AS$1,IF(OR(AND(ODD($A71)=$A71,ODD(AS$2)=AS$2),AND(EVEN($A71)=$A71,EVEN(AS$2)=AS$2)),AS$1,-100))","v":796.875},{"$f":"IF('Ceiling Speaker Calculator'!$C$29=\"Square\",AT$1,IF(OR(AND(ODD($A71)=$A71,ODD(AT$2)=AT$2),AND(EVEN($A71)=$A71,EVEN(AT$2)=AT$2)),AT$1,-100))","v":815.625},{"$f":"IF('Ceiling Speaker Calculator'!$C$29=\"Square\",AU$1,IF(OR(AND(ODD($A71)=$A71,ODD(AU$2)=AU$2),AND(EVEN($A71)=$A71,EVEN(AU$2)=AU$2)),AU$1,-100))","v":834.375},{"$f":"IF('Ceiling Speaker Calculator'!$C$29=\"Square\",AV$1,IF(OR(AND(ODD($A71)=$A71,ODD(AV$2)=AV$2),AND(EVEN($A71)=$A71,EVEN(AV$2)=AV$2)),AV$1,-100))","v":853.125},{"$f":"IF('Ceiling Speaker Calculator'!$C$29=\"Square\",AW$1,IF(OR(AND(ODD($A71)=$A71,ODD(AW$2)=AW$2),AND(EVEN($A71)=$A71,EVEN(AW$2)=AW$2)),AW$1,-100))","v":871.875},{"$f":"IF('Ceiling Speaker Calculator'!$C$29=\"Square\",AX$1,IF(OR(AND(ODD($A71)=$A71,ODD(AX$2)=AX$2),AND(EVEN($A71)=$A71,EVEN(AX$2)=AX$2)),AX$1,-100))","v":890.625},{"$f":"IF('Ceiling Speaker Calculator'!$C$29=\"Square\",AY$1,IF(OR(AND(ODD($A71)=$A71,ODD(AY$2)=AY$2),AND(EVEN($A71)=$A71,EVEN(AY$2)=AY$2)),AY$1,-100))","v":909.375},{"$f":"IF('Ceiling Speaker Calculator'!$C$29=\"Square\",AZ$1,IF(OR(AND(ODD($A71)=$A71,ODD(AZ$2)=AZ$2),AND(EVEN($A71)=$A71,EVEN(AZ$2)=AZ$2)),AZ$1,-100))","v":928.125},{"$f":"IF('Ceiling Speaker Calculator'!$C$29=\"Square\",BA$1,IF(OR(AND(ODD($A71)=$A71,ODD(BA$2)=BA$2),AND(EVEN($A71)=$A71,EVEN(BA$2)=BA$2)),BA$1,-100))","v":946.875},{"$f":"IF('Ceiling Speaker Calculator'!$C$29=\"Square\",BB$1,IF(OR(AND(ODD($A71)=$A71,ODD(BB$2)=BB$2),AND(EVEN($A71)=$A71,EVEN(BB$2)=BB$2)),BB$1,-100))","v":965.625},{"$f":"IF('Ceiling Speaker Calculator'!$C$29=\"Square\",BC$1,IF(OR(AND(ODD($A71)=$A71,ODD(BC$2)=BC$2),AND(EVEN($A71)=$A71,EVEN(BC$2)=BC$2)),BC$1,-100))","v":984.375},{"$f":"IF('Ceiling Speaker Calculator'!$C$29=\"Square\",BD$1,IF(OR(AND(ODD($A71)=$A71,ODD(BD$2)=BD$2),AND(EVEN($A71)=$A71,EVEN(BD$2)=BD$2)),BD$1,-100))","v":1003.125},{"$f":"IF('Ceiling Speaker Calculator'!$C$29=\"Square\",BE$1,IF(OR(AND(ODD($A71)=$A71,ODD(BE$2)=BE$2),AND(EVEN($A71)=$A71,EVEN(BE$2)=BE$2)),BE$1,-100))","v":1021.875},{"$f":"IF('Ceiling Speaker Calculator'!$C$29=\"Square\",BF$1,IF(OR(AND(ODD($A71)=$A71,ODD(BF$2)=BF$2),AND(EVEN($A71)=$A71,EVEN(BF$2)=BF$2)),BF$1,-100))","v":1040.625},{"$f":"IF('Ceiling Speaker Calculator'!$C$29=\"Square\",BG$1,IF(OR(AND(ODD($A71)=$A71,ODD(BG$2)=BG$2),AND(EVEN($A71)=$A71,EVEN(BG$2)=BG$2)),BG$1,-100))","v":1059.375},{"$f":"IF('Ceiling Speaker Calculator'!$C$29=\"Square\",BH$1,IF(OR(AND(ODD($A71)=$A71,ODD(BH$2)=BH$2),AND(EVEN($A71)=$A71,EVEN(BH$2)=BH$2)),BH$1,-100))","v":1078.125},{"$f":"IF('Ceiling Speaker Calculator'!$C$29=\"Square\",BI$1,IF(OR(AND(ODD($A71)=$A71,ODD(BI$2)=BI$2),AND(EVEN($A71)=$A71,EVEN(BI$2)=BI$2)),BI$1,-100))","v":1096.875},{"$f":"IF('Ceiling Speaker Calculator'!$C$29=\"Square\",BJ$1,IF(OR(AND(ODD($A71)=$A71,ODD(BJ$2)=BJ$2),AND(EVEN($A71)=$A71,EVEN(BJ$2)=BJ$2)),BJ$1,-100))","v":1115.625},{"$f":"IF('Ceiling Speaker Calculator'!$C$29=\"Square\",BK$1,IF(OR(AND(ODD($A71)=$A71,ODD(BK$2)=BK$2),AND(EVEN($A71)=$A71,EVEN(BK$2)=BK$2)),BK$1,-100))","v":1134.375},{"$f":"IF('Ceiling Speaker Calculator'!$C$29=\"Square\",BL$1,IF(OR(AND(ODD($A71)=$A71,ODD(BL$2)=BL$2),AND(EVEN($A71)=$A71,EVEN(BL$2)=BL$2)),BL$1,-100))","v":1153.125},{"$f":"IF('Ceiling Speaker Calculator'!$C$29=\"Square\",BM$1,IF(OR(AND(ODD($A71)=$A71,ODD(BM$2)=BM$2),AND(EVEN($A71)=$A71,EVEN(BM$2)=BM$2)),BM$1,-100))","v":1171.875},{"$f":"IF('Ceiling Speaker Calculator'!$C$29=\"Square\",BN$1,IF(OR(AND(ODD($A71)=$A71,ODD(BN$2)=BN$2),AND(EVEN($A71)=$A71,EVEN(BN$2)=BN$2)),BN$1,-100))","v":1190.625},{"$f":"IF('Ceiling Speaker Calculator'!$C$29=\"Square\",BO$1,IF(OR(AND(ODD($A71)=$A71,ODD(BO$2)=BO$2),AND(EVEN($A71)=$A71,EVEN(BO$2)=BO$2)),BO$1,-100))","v":1209.375},{"$f":"IF('Ceiling Speaker Calculator'!$C$29=\"Square\",BP$1,IF(OR(AND(ODD($A71)=$A71,ODD(BP$2)=BP$2),AND(EVEN($A71)=$A71,EVEN(BP$2)=BP$2)),BP$1,-100))","v":1228.125},{"$f":"IF('Ceiling Speaker Calculator'!$C$29=\"Square\",BQ$1,IF(OR(AND(ODD($A71)=$A71,ODD(BQ$2)=BQ$2),AND(EVEN($A71)=$A71,EVEN(BQ$2)=BQ$2)),BQ$1,-100))","v":1246.875},{"$f":"IF('Ceiling Speaker Calculator'!$C$29=\"Square\",BR$1,IF(OR(AND(ODD($A71)=$A71,ODD(BR$2)=BR$2),AND(EVEN($A71)=$A71,EVEN(BR$2)=BR$2)),BR$1,-100))","v":1265.625},{"$f":"IF('Ceiling Speaker Calculator'!$C$29=\"Square\",BS$1,IF(OR(AND(ODD($A71)=$A71,ODD(BS$2)=BS$2),AND(EVEN($A71)=$A71,EVEN(BS$2)=BS$2)),BS$1,-100))","v":1284.375},{"$f":"IF('Ceiling Speaker Calculator'!$C$29=\"Square\",BT$1,IF(OR(AND(ODD($A71)=$A71,ODD(BT$2)=BT$2),AND(EVEN($A71)=$A71,EVEN(BT$2)=BT$2)),BT$1,-100))","v":1303.125},{"$f":"IF('Ceiling Speaker Calculator'!$C$29=\"Square\",BU$1,IF(OR(AND(ODD($A71)=$A71,ODD(BU$2)=BU$2),AND(EVEN($A71)=$A71,EVEN(BU$2)=BU$2)),BU$1,-100))","v":1321.875},{"$f":"IF('Ceiling Speaker Calculator'!$C$29=\"Square\",BV$1,IF(OR(AND(ODD($A71)=$A71,ODD(BV$2)=BV$2),AND(EVEN($A71)=$A71,EVEN(BV$2)=BV$2)),BV$1,-100))","v":1340.625},{"$f":"IF('Ceiling Speaker Calculator'!$C$29=\"Square\",BW$1,IF(OR(AND(ODD($A71)=$A71,ODD(BW$2)=BW$2),AND(EVEN($A71)=$A71,EVEN(BW$2)=BW$2)),BW$1,-100))","v":1359.375},{"$f":"IF('Ceiling Speaker Calculator'!$C$29=\"Square\",BX$1,IF(OR(AND(ODD($A71)=$A71,ODD(BX$2)=BX$2),AND(EVEN($A71)=$A71,EVEN(BX$2)=BX$2)),BX$1,-100))","v":1378.125},{"$f":"IF('Ceiling Speaker Calculator'!$C$29=\"Square\",BY$1,IF(OR(AND(ODD($A71)=$A71,ODD(BY$2)=BY$2),AND(EVEN($A71)=$A71,EVEN(BY$2)=BY$2)),BY$1,-100))","v":1396.875},{"$f":"IF('Ceiling Speaker Calculator'!$C$29=\"Square\",BZ$1,IF(OR(AND(ODD($A71)=$A71,ODD(BZ$2)=BZ$2),AND(EVEN($A71)=$A71,EVEN(BZ$2)=BZ$2)),BZ$1,-100))","v":1415.625},{"$f":"IF('Ceiling Speaker Calculator'!$C$29=\"Square\",CA$1,IF(OR(AND(ODD($A71)=$A71,ODD(CA$2)=CA$2),AND(EVEN($A71)=$A71,EVEN(CA$2)=CA$2)),CA$1,-100))","v":1434.375},{"$f":"IF('Ceiling Speaker Calculator'!$C$29=\"Square\",CB$1,IF(OR(AND(ODD($A71)=$A71,ODD(CB$2)=CB$2),AND(EVEN($A71)=$A71,EVEN(CB$2)=CB$2)),CB$1,-100))","v":1453.125},{"$f":"IF('Ceiling Speaker Calculator'!$C$29=\"Square\",CC$1,IF(OR(AND(ODD($A71)=$A71,ODD(CC$2)=CC$2),AND(EVEN($A71)=$A71,EVEN(CC$2)=CC$2)),CC$1,-100))","v":1471.875},{"$f":"IF('Ceiling Speaker Calculator'!$C$29=\"Square\",CD$1,IF(OR(AND(ODD($A71)=$A71,ODD(CD$2)=CD$2),AND(EVEN($A71)=$A71,EVEN(CD$2)=CD$2)),CD$1,-100))","v":1490.625},{"$f":"IF('Ceiling Speaker Calculator'!$C$29=\"Square\",CE$1,IF(OR(AND(ODD($A71)=$A71,ODD(CE$2)=CE$2),AND(EVEN($A71)=$A71,EVEN(CE$2)=CE$2)),CE$1,-100))","v":1509.375},{"$f":"IF('Ceiling Speaker Calculator'!$C$29=\"Square\",CF$1,IF(OR(AND(ODD($A71)=$A71,ODD(CF$2)=CF$2),AND(EVEN($A71)=$A71,EVEN(CF$2)=CF$2)),CF$1,-100))","v":1528.125},{"$f":"IF('Ceiling Speaker Calculator'!$C$29=\"Square\",CG$1,IF(OR(AND(ODD($A71)=$A71,ODD(CG$2)=CG$2),AND(EVEN($A71)=$A71,EVEN(CG$2)=CG$2)),CG$1,-100))","v":1546.875},{"$f":"IF('Ceiling Speaker Calculator'!$C$29=\"Square\",CH$1,IF(OR(AND(ODD($A71)=$A71,ODD(CH$2)=CH$2),AND(EVEN($A71)=$A71,EVEN(CH$2)=CH$2)),CH$1,-100))","v":1565.625},{"$f":"IF('Ceiling Speaker Calculator'!$C$29=\"Square\",CI$1,IF(OR(AND(ODD($A71)=$A71,ODD(CI$2)=CI$2),AND(EVEN($A71)=$A71,EVEN(CI$2)=CI$2)),CI$1,-100))","v":1584.375},{"$f":"IF('Ceiling Speaker Calculator'!$C$29=\"Square\",CJ$1,IF(OR(AND(ODD($A71)=$A71,ODD(CJ$2)=CJ$2),AND(EVEN($A71)=$A71,EVEN(CJ$2)=CJ$2)),CJ$1,-100))","v":1603.125},{"$f":"IF('Ceiling Speaker Calculator'!$C$29=\"Square\",CK$1,IF(OR(AND(ODD($A71)=$A71,ODD(CK$2)=CK$2),AND(EVEN($A71)=$A71,EVEN(CK$2)=CK$2)),CK$1,-100))","v":1621.875},{"$f":"IF('Ceiling Speaker Calculator'!$C$29=\"Square\",CL$1,IF(OR(AND(ODD($A71)=$A71,ODD(CL$2)=CL$2),AND(EVEN($A71)=$A71,EVEN(CL$2)=CL$2)),CL$1,-100))","v":1640.625},{"$f":"IF('Ceiling Speaker Calculator'!$C$29=\"Square\",CM$1,IF(OR(AND(ODD($A71)=$A71,ODD(CM$2)=CM$2),AND(EVEN($A71)=$A71,EVEN(CM$2)=CM$2)),CM$1,-100))","v":1659.375},{"$f":"IF('Ceiling Speaker Calculator'!$C$29=\"Square\",CN$1,IF(OR(AND(ODD($A71)=$A71,ODD(CN$2)=CN$2),AND(EVEN($A71)=$A71,EVEN(CN$2)=CN$2)),CN$1,-100))","v":1678.125},{"$f":"IF('Ceiling Speaker Calculator'!$C$29=\"Square\",CO$1,IF(OR(AND(ODD($A71)=$A71,ODD(CO$2)=CO$2),AND(EVEN($A71)=$A71,EVEN(CO$2)=CO$2)),CO$1,-100))","v":1696.875},{"$f":"IF('Ceiling Speaker Calculator'!$C$29=\"Square\",CP$1,IF(OR(AND(ODD($A71)=$A71,ODD(CP$2)=CP$2),AND(EVEN($A71)=$A71,EVEN(CP$2)=CP$2)),CP$1,-100))","v":1715.625},{"$f":"IF('Ceiling Speaker Calculator'!$C$29=\"Square\",CQ$1,IF(OR(AND(ODD($A71)=$A71,ODD(CQ$2)=CQ$2),AND(EVEN($A71)=$A71,EVEN(CQ$2)=CQ$2)),CQ$1,-100))","v":1734.375},{"$f":"IF('Ceiling Speaker Calculator'!$C$29=\"Square\",CR$1,IF(OR(AND(ODD($A71)=$A71,ODD(CR$2)=CR$2),AND(EVEN($A71)=$A71,EVEN(CR$2)=CR$2)),CR$1,-100))","v":1753.125},{"$f":"IF('Ceiling Speaker Calculator'!$C$29=\"Square\",CS$1,IF(OR(AND(ODD($A71)=$A71,ODD(CS$2)=CS$2),AND(EVEN($A71)=$A71,EVEN(CS$2)=CS$2)),CS$1,-100))","v":1771.875},{"$f":"IF('Ceiling Speaker Calculator'!$C$29=\"Square\",CT$1,IF(OR(AND(ODD($A71)=$A71,ODD(CT$2)=CT$2),AND(EVEN($A71)=$A71,EVEN(CT$2)=CT$2)),CT$1,-100))","v":1790.625},{"$f":"IF('Ceiling Speaker Calculator'!$C$29=\"Square\",CU$1,IF(OR(AND(ODD($A71)=$A71,ODD(CU$2)=CU$2),AND(EVEN($A71)=$A71,EVEN(CU$2)=CU$2)),CU$1,-100))","v":1809.375},{"$f":"IF('Ceiling Speaker Calculator'!$C$29=\"Square\",CV$1,IF(OR(AND(ODD($A71)=$A71,ODD(CV$2)=CV$2),AND(EVEN($A71)=$A71,EVEN(CV$2)=CV$2)),CV$1,-100))","v":1828.125},{"$f":"IF('Ceiling Speaker Calculator'!$C$29=\"Square\",CW$1,IF(OR(AND(ODD($A71)=$A71,ODD(CW$2)=CW$2),AND(EVEN($A71)=$A71,EVEN(CW$2)=CW$2)),CW$1,-100))","v":1846.875},{"$f":"IF('Ceiling Speaker Calculator'!$C$29=\"Square\",CX$1,IF(OR(AND(ODD($A71)=$A71,ODD(CX$2)=CX$2),AND(EVEN($A71)=$A71,EVEN(CX$2)=CX$2)),CX$1,-100))","v":1865.625}]
[70,{"$f":"B71+'Ceiling Speaker Calculator'!$K$16","v":1390},{"$f":"IF('Ceiling Speaker Calculator'!$C$29=\"Square\",C$1,IF(OR(AND(ODD($A72)=$A72,ODD(C$2)=C$2),AND(EVEN($A72)=$A72,EVEN(C$2)=C$2)),C$1,-100))","v":9.375},{"$f":"IF('Ceiling Speaker Calculator'!$C$29=\"Square\",D$1,IF(OR(AND(ODD($A72)=$A72,ODD(D$2)=D$2),AND(EVEN($A72)=$A72,EVEN(D$2)=D$2)),D$1,-100))","v":28.125},{"$f":"IF('Ceiling Speaker Calculator'!$C$29=\"Square\",E$1,IF(OR(AND(ODD($A72)=$A72,ODD(E$2)=E$2),AND(EVEN($A72)=$A72,EVEN(E$2)=E$2)),E$1,-100))","v":46.875},{"$f":"IF('Ceiling Speaker Calculator'!$C$29=\"Square\",F$1,IF(OR(AND(ODD($A72)=$A72,ODD(F$2)=F$2),AND(EVEN($A72)=$A72,EVEN(F$2)=F$2)),F$1,-100))","v":65.625},{"$f":"IF('Ceiling Speaker Calculator'!$C$29=\"Square\",G$1,IF(OR(AND(ODD($A72)=$A72,ODD(G$2)=G$2),AND(EVEN($A72)=$A72,EVEN(G$2)=G$2)),G$1,-100))","v":84.375},{"$f":"IF('Ceiling Speaker Calculator'!$C$29=\"Square\",H$1,IF(OR(AND(ODD($A72)=$A72,ODD(H$2)=H$2),AND(EVEN($A72)=$A72,EVEN(H$2)=H$2)),H$1,-100))","v":103.125},{"$f":"IF('Ceiling Speaker Calculator'!$C$29=\"Square\",I$1,IF(OR(AND(ODD($A72)=$A72,ODD(I$2)=I$2),AND(EVEN($A72)=$A72,EVEN(I$2)=I$2)),I$1,-100))","v":121.875},{"$f":"IF('Ceiling Speaker Calculator'!$C$29=\"Square\",J$1,IF(OR(AND(ODD($A72)=$A72,ODD(J$2)=J$2),AND(EVEN($A72)=$A72,EVEN(J$2)=J$2)),J$1,-100))","v":140.625},{"$f":"IF('Ceiling Speaker Calculator'!$C$29=\"Square\",K$1,IF(OR(AND(ODD($A72)=$A72,ODD(K$2)=K$2),AND(EVEN($A72)=$A72,EVEN(K$2)=K$2)),K$1,-100))","v":159.375},{"$f":"IF('Ceiling Speaker Calculator'!$C$29=\"Square\",L$1,IF(OR(AND(ODD($A72)=$A72,ODD(L$2)=L$2),AND(EVEN($A72)=$A72,EVEN(L$2)=L$2)),L$1,-100))","v":178.125},{"$f":"IF('Ceiling Speaker Calculator'!$C$29=\"Square\",M$1,IF(OR(AND(ODD($A72)=$A72,ODD(M$2)=M$2),AND(EVEN($A72)=$A72,EVEN(M$2)=M$2)),M$1,-100))","v":196.875},{"$f":"IF('Ceiling Speaker Calculator'!$C$29=\"Square\",N$1,IF(OR(AND(ODD($A72)=$A72,ODD(N$2)=N$2),AND(EVEN($A72)=$A72,EVEN(N$2)=N$2)),N$1,-100))","v":215.625},{"$f":"IF('Ceiling Speaker Calculator'!$C$29=\"Square\",O$1,IF(OR(AND(ODD($A72)=$A72,ODD(O$2)=O$2),AND(EVEN($A72)=$A72,EVEN(O$2)=O$2)),O$1,-100))","v":234.375},{"$f":"IF('Ceiling Speaker Calculator'!$C$29=\"Square\",P$1,IF(OR(AND(ODD($A72)=$A72,ODD(P$2)=P$2),AND(EVEN($A72)=$A72,EVEN(P$2)=P$2)),P$1,-100))","v":253.125},{"$f":"IF('Ceiling Speaker Calculator'!$C$29=\"Square\",Q$1,IF(OR(AND(ODD($A72)=$A72,ODD(Q$2)=Q$2),AND(EVEN($A72)=$A72,EVEN(Q$2)=Q$2)),Q$1,-100))","v":271.875},{"$f":"IF('Ceiling Speaker Calculator'!$C$29=\"Square\",R$1,IF(OR(AND(ODD($A72)=$A72,ODD(R$2)=R$2),AND(EVEN($A72)=$A72,EVEN(R$2)=R$2)),R$1,-100))","v":290.625},{"$f":"IF('Ceiling Speaker Calculator'!$C$29=\"Square\",S$1,IF(OR(AND(ODD($A72)=$A72,ODD(S$2)=S$2),AND(EVEN($A72)=$A72,EVEN(S$2)=S$2)),S$1,-100))","v":309.375},{"$f":"IF('Ceiling Speaker Calculator'!$C$29=\"Square\",T$1,IF(OR(AND(ODD($A72)=$A72,ODD(T$2)=T$2),AND(EVEN($A72)=$A72,EVEN(T$2)=T$2)),T$1,-100))","v":328.125},{"$f":"IF('Ceiling Speaker Calculator'!$C$29=\"Square\",U$1,IF(OR(AND(ODD($A72)=$A72,ODD(U$2)=U$2),AND(EVEN($A72)=$A72,EVEN(U$2)=U$2)),U$1,-100))","v":346.875},{"$f":"IF('Ceiling Speaker Calculator'!$C$29=\"Square\",V$1,IF(OR(AND(ODD($A72)=$A72,ODD(V$2)=V$2),AND(EVEN($A72)=$A72,EVEN(V$2)=V$2)),V$1,-100))","v":365.625},{"$f":"IF('Ceiling Speaker Calculator'!$C$29=\"Square\",W$1,IF(OR(AND(ODD($A72)=$A72,ODD(W$2)=W$2),AND(EVEN($A72)=$A72,EVEN(W$2)=W$2)),W$1,-100))","v":384.375},{"$f":"IF('Ceiling Speaker Calculator'!$C$29=\"Square\",X$1,IF(OR(AND(ODD($A72)=$A72,ODD(X$2)=X$2),AND(EVEN($A72)=$A72,EVEN(X$2)=X$2)),X$1,-100))","v":403.125},{"$f":"IF('Ceiling Speaker Calculator'!$C$29=\"Square\",Y$1,IF(OR(AND(ODD($A72)=$A72,ODD(Y$2)=Y$2),AND(EVEN($A72)=$A72,EVEN(Y$2)=Y$2)),Y$1,-100))","v":421.875},{"$f":"IF('Ceiling Speaker Calculator'!$C$29=\"Square\",Z$1,IF(OR(AND(ODD($A72)=$A72,ODD(Z$2)=Z$2),AND(EVEN($A72)=$A72,EVEN(Z$2)=Z$2)),Z$1,-100))","v":440.625},{"$f":"IF('Ceiling Speaker Calculator'!$C$29=\"Square\",AA$1,IF(OR(AND(ODD($A72)=$A72,ODD(AA$2)=AA$2),AND(EVEN($A72)=$A72,EVEN(AA$2)=AA$2)),AA$1,-100))","v":459.375},{"$f":"IF('Ceiling Speaker Calculator'!$C$29=\"Square\",AB$1,IF(OR(AND(ODD($A72)=$A72,ODD(AB$2)=AB$2),AND(EVEN($A72)=$A72,EVEN(AB$2)=AB$2)),AB$1,-100))","v":478.125},{"$f":"IF('Ceiling Speaker Calculator'!$C$29=\"Square\",AC$1,IF(OR(AND(ODD($A72)=$A72,ODD(AC$2)=AC$2),AND(EVEN($A72)=$A72,EVEN(AC$2)=AC$2)),AC$1,-100))","v":496.875},{"$f":"IF('Ceiling Speaker Calculator'!$C$29=\"Square\",AD$1,IF(OR(AND(ODD($A72)=$A72,ODD(AD$2)=AD$2),AND(EVEN($A72)=$A72,EVEN(AD$2)=AD$2)),AD$1,-100))","v":515.625},{"$f":"IF('Ceiling Speaker Calculator'!$C$29=\"Square\",AE$1,IF(OR(AND(ODD($A72)=$A72,ODD(AE$2)=AE$2),AND(EVEN($A72)=$A72,EVEN(AE$2)=AE$2)),AE$1,-100))","v":534.375},{"$f":"IF('Ceiling Speaker Calculator'!$C$29=\"Square\",AF$1,IF(OR(AND(ODD($A72)=$A72,ODD(AF$2)=AF$2),AND(EVEN($A72)=$A72,EVEN(AF$2)=AF$2)),AF$1,-100))","v":553.125},{"$f":"IF('Ceiling Speaker Calculator'!$C$29=\"Square\",AG$1,IF(OR(AND(ODD($A72)=$A72,ODD(AG$2)=AG$2),AND(EVEN($A72)=$A72,EVEN(AG$2)=AG$2)),AG$1,-100))","v":571.875},{"$f":"IF('Ceiling Speaker Calculator'!$C$29=\"Square\",AH$1,IF(OR(AND(ODD($A72)=$A72,ODD(AH$2)=AH$2),AND(EVEN($A72)=$A72,EVEN(AH$2)=AH$2)),AH$1,-100))","v":590.625},{"$f":"IF('Ceiling Speaker Calculator'!$C$29=\"Square\",AI$1,IF(OR(AND(ODD($A72)=$A72,ODD(AI$2)=AI$2),AND(EVEN($A72)=$A72,EVEN(AI$2)=AI$2)),AI$1,-100))","v":609.375},{"$f":"IF('Ceiling Speaker Calculator'!$C$29=\"Square\",AJ$1,IF(OR(AND(ODD($A72)=$A72,ODD(AJ$2)=AJ$2),AND(EVEN($A72)=$A72,EVEN(AJ$2)=AJ$2)),AJ$1,-100))","v":628.125},{"$f":"IF('Ceiling Speaker Calculator'!$C$29=\"Square\",AK$1,IF(OR(AND(ODD($A72)=$A72,ODD(AK$2)=AK$2),AND(EVEN($A72)=$A72,EVEN(AK$2)=AK$2)),AK$1,-100))","v":646.875},{"$f":"IF('Ceiling Speaker Calculator'!$C$29=\"Square\",AL$1,IF(OR(AND(ODD($A72)=$A72,ODD(AL$2)=AL$2),AND(EVEN($A72)=$A72,EVEN(AL$2)=AL$2)),AL$1,-100))","v":665.625},{"$f":"IF('Ceiling Speaker Calculator'!$C$29=\"Square\",AM$1,IF(OR(AND(ODD($A72)=$A72,ODD(AM$2)=AM$2),AND(EVEN($A72)=$A72,EVEN(AM$2)=AM$2)),AM$1,-100))","v":684.375},{"$f":"IF('Ceiling Speaker Calculator'!$C$29=\"Square\",AN$1,IF(OR(AND(ODD($A72)=$A72,ODD(AN$2)=AN$2),AND(EVEN($A72)=$A72,EVEN(AN$2)=AN$2)),AN$1,-100))","v":703.125},{"$f":"IF('Ceiling Speaker Calculator'!$C$29=\"Square\",AO$1,IF(OR(AND(ODD($A72)=$A72,ODD(AO$2)=AO$2),AND(EVEN($A72)=$A72,EVEN(AO$2)=AO$2)),AO$1,-100))","v":721.875},{"$f":"IF('Ceiling Speaker Calculator'!$C$29=\"Square\",AP$1,IF(OR(AND(ODD($A72)=$A72,ODD(AP$2)=AP$2),AND(EVEN($A72)=$A72,EVEN(AP$2)=AP$2)),AP$1,-100))","v":740.625},{"$f":"IF('Ceiling Speaker Calculator'!$C$29=\"Square\",AQ$1,IF(OR(AND(ODD($A72)=$A72,ODD(AQ$2)=AQ$2),AND(EVEN($A72)=$A72,EVEN(AQ$2)=AQ$2)),AQ$1,-100))","v":759.375},{"$f":"IF('Ceiling Speaker Calculator'!$C$29=\"Square\",AR$1,IF(OR(AND(ODD($A72)=$A72,ODD(AR$2)=AR$2),AND(EVEN($A72)=$A72,EVEN(AR$2)=AR$2)),AR$1,-100))","v":778.125},{"$f":"IF('Ceiling Speaker Calculator'!$C$29=\"Square\",AS$1,IF(OR(AND(ODD($A72)=$A72,ODD(AS$2)=AS$2),AND(EVEN($A72)=$A72,EVEN(AS$2)=AS$2)),AS$1,-100))","v":796.875},{"$f":"IF('Ceiling Speaker Calculator'!$C$29=\"Square\",AT$1,IF(OR(AND(ODD($A72)=$A72,ODD(AT$2)=AT$2),AND(EVEN($A72)=$A72,EVEN(AT$2)=AT$2)),AT$1,-100))","v":815.625},{"$f":"IF('Ceiling Speaker Calculator'!$C$29=\"Square\",AU$1,IF(OR(AND(ODD($A72)=$A72,ODD(AU$2)=AU$2),AND(EVEN($A72)=$A72,EVEN(AU$2)=AU$2)),AU$1,-100))","v":834.375},{"$f":"IF('Ceiling Speaker Calculator'!$C$29=\"Square\",AV$1,IF(OR(AND(ODD($A72)=$A72,ODD(AV$2)=AV$2),AND(EVEN($A72)=$A72,EVEN(AV$2)=AV$2)),AV$1,-100))","v":853.125},{"$f":"IF('Ceiling Speaker Calculator'!$C$29=\"Square\",AW$1,IF(OR(AND(ODD($A72)=$A72,ODD(AW$2)=AW$2),AND(EVEN($A72)=$A72,EVEN(AW$2)=AW$2)),AW$1,-100))","v":871.875},{"$f":"IF('Ceiling Speaker Calculator'!$C$29=\"Square\",AX$1,IF(OR(AND(ODD($A72)=$A72,ODD(AX$2)=AX$2),AND(EVEN($A72)=$A72,EVEN(AX$2)=AX$2)),AX$1,-100))","v":890.625},{"$f":"IF('Ceiling Speaker Calculator'!$C$29=\"Square\",AY$1,IF(OR(AND(ODD($A72)=$A72,ODD(AY$2)=AY$2),AND(EVEN($A72)=$A72,EVEN(AY$2)=AY$2)),AY$1,-100))","v":909.375},{"$f":"IF('Ceiling Speaker Calculator'!$C$29=\"Square\",AZ$1,IF(OR(AND(ODD($A72)=$A72,ODD(AZ$2)=AZ$2),AND(EVEN($A72)=$A72,EVEN(AZ$2)=AZ$2)),AZ$1,-100))","v":928.125},{"$f":"IF('Ceiling Speaker Calculator'!$C$29=\"Square\",BA$1,IF(OR(AND(ODD($A72)=$A72,ODD(BA$2)=BA$2),AND(EVEN($A72)=$A72,EVEN(BA$2)=BA$2)),BA$1,-100))","v":946.875},{"$f":"IF('Ceiling Speaker Calculator'!$C$29=\"Square\",BB$1,IF(OR(AND(ODD($A72)=$A72,ODD(BB$2)=BB$2),AND(EVEN($A72)=$A72,EVEN(BB$2)=BB$2)),BB$1,-100))","v":965.625},{"$f":"IF('Ceiling Speaker Calculator'!$C$29=\"Square\",BC$1,IF(OR(AND(ODD($A72)=$A72,ODD(BC$2)=BC$2),AND(EVEN($A72)=$A72,EVEN(BC$2)=BC$2)),BC$1,-100))","v":984.375},{"$f":"IF('Ceiling Speaker Calculator'!$C$29=\"Square\",BD$1,IF(OR(AND(ODD($A72)=$A72,ODD(BD$2)=BD$2),AND(EVEN($A72)=$A72,EVEN(BD$2)=BD$2)),BD$1,-100))","v":1003.125},{"$f":"IF('Ceiling Speaker Calculator'!$C$29=\"Square\",BE$1,IF(OR(AND(ODD($A72)=$A72,ODD(BE$2)=BE$2),AND(EVEN($A72)=$A72,EVEN(BE$2)=BE$2)),BE$1,-100))","v":1021.875},{"$f":"IF('Ceiling Speaker Calculator'!$C$29=\"Square\",BF$1,IF(OR(AND(ODD($A72)=$A72,ODD(BF$2)=BF$2),AND(EVEN($A72)=$A72,EVEN(BF$2)=BF$2)),BF$1,-100))","v":1040.625},{"$f":"IF('Ceiling Speaker Calculator'!$C$29=\"Square\",BG$1,IF(OR(AND(ODD($A72)=$A72,ODD(BG$2)=BG$2),AND(EVEN($A72)=$A72,EVEN(BG$2)=BG$2)),BG$1,-100))","v":1059.375},{"$f":"IF('Ceiling Speaker Calculator'!$C$29=\"Square\",BH$1,IF(OR(AND(ODD($A72)=$A72,ODD(BH$2)=BH$2),AND(EVEN($A72)=$A72,EVEN(BH$2)=BH$2)),BH$1,-100))","v":1078.125},{"$f":"IF('Ceiling Speaker Calculator'!$C$29=\"Square\",BI$1,IF(OR(AND(ODD($A72)=$A72,ODD(BI$2)=BI$2),AND(EVEN($A72)=$A72,EVEN(BI$2)=BI$2)),BI$1,-100))","v":1096.875},{"$f":"IF('Ceiling Speaker Calculator'!$C$29=\"Square\",BJ$1,IF(OR(AND(ODD($A72)=$A72,ODD(BJ$2)=BJ$2),AND(EVEN($A72)=$A72,EVEN(BJ$2)=BJ$2)),BJ$1,-100))","v":1115.625},{"$f":"IF('Ceiling Speaker Calculator'!$C$29=\"Square\",BK$1,IF(OR(AND(ODD($A72)=$A72,ODD(BK$2)=BK$2),AND(EVEN($A72)=$A72,EVEN(BK$2)=BK$2)),BK$1,-100))","v":1134.375},{"$f":"IF('Ceiling Speaker Calculator'!$C$29=\"Square\",BL$1,IF(OR(AND(ODD($A72)=$A72,ODD(BL$2)=BL$2),AND(EVEN($A72)=$A72,EVEN(BL$2)=BL$2)),BL$1,-100))","v":1153.125},{"$f":"IF('Ceiling Speaker Calculator'!$C$29=\"Square\",BM$1,IF(OR(AND(ODD($A72)=$A72,ODD(BM$2)=BM$2),AND(EVEN($A72)=$A72,EVEN(BM$2)=BM$2)),BM$1,-100))","v":1171.875},{"$f":"IF('Ceiling Speaker Calculator'!$C$29=\"Square\",BN$1,IF(OR(AND(ODD($A72)=$A72,ODD(BN$2)=BN$2),AND(EVEN($A72)=$A72,EVEN(BN$2)=BN$2)),BN$1,-100))","v":1190.625},{"$f":"IF('Ceiling Speaker Calculator'!$C$29=\"Square\",BO$1,IF(OR(AND(ODD($A72)=$A72,ODD(BO$2)=BO$2),AND(EVEN($A72)=$A72,EVEN(BO$2)=BO$2)),BO$1,-100))","v":1209.375},{"$f":"IF('Ceiling Speaker Calculator'!$C$29=\"Square\",BP$1,IF(OR(AND(ODD($A72)=$A72,ODD(BP$2)=BP$2),AND(EVEN($A72)=$A72,EVEN(BP$2)=BP$2)),BP$1,-100))","v":1228.125},{"$f":"IF('Ceiling Speaker Calculator'!$C$29=\"Square\",BQ$1,IF(OR(AND(ODD($A72)=$A72,ODD(BQ$2)=BQ$2),AND(EVEN($A72)=$A72,EVEN(BQ$2)=BQ$2)),BQ$1,-100))","v":1246.875},{"$f":"IF('Ceiling Speaker Calculator'!$C$29=\"Square\",BR$1,IF(OR(AND(ODD($A72)=$A72,ODD(BR$2)=BR$2),AND(EVEN($A72)=$A72,EVEN(BR$2)=BR$2)),BR$1,-100))","v":1265.625},{"$f":"IF('Ceiling Speaker Calculator'!$C$29=\"Square\",BS$1,IF(OR(AND(ODD($A72)=$A72,ODD(BS$2)=BS$2),AND(EVEN($A72)=$A72,EVEN(BS$2)=BS$2)),BS$1,-100))","v":1284.375},{"$f":"IF('Ceiling Speaker Calculator'!$C$29=\"Square\",BT$1,IF(OR(AND(ODD($A72)=$A72,ODD(BT$2)=BT$2),AND(EVEN($A72)=$A72,EVEN(BT$2)=BT$2)),BT$1,-100))","v":1303.125},{"$f":"IF('Ceiling Speaker Calculator'!$C$29=\"Square\",BU$1,IF(OR(AND(ODD($A72)=$A72,ODD(BU$2)=BU$2),AND(EVEN($A72)=$A72,EVEN(BU$2)=BU$2)),BU$1,-100))","v":1321.875},{"$f":"IF('Ceiling Speaker Calculator'!$C$29=\"Square\",BV$1,IF(OR(AND(ODD($A72)=$A72,ODD(BV$2)=BV$2),AND(EVEN($A72)=$A72,EVEN(BV$2)=BV$2)),BV$1,-100))","v":1340.625},{"$f":"IF('Ceiling Speaker Calculator'!$C$29=\"Square\",BW$1,IF(OR(AND(ODD($A72)=$A72,ODD(BW$2)=BW$2),AND(EVEN($A72)=$A72,EVEN(BW$2)=BW$2)),BW$1,-100))","v":1359.375},{"$f":"IF('Ceiling Speaker Calculator'!$C$29=\"Square\",BX$1,IF(OR(AND(ODD($A72)=$A72,ODD(BX$2)=BX$2),AND(EVEN($A72)=$A72,EVEN(BX$2)=BX$2)),BX$1,-100))","v":1378.125},{"$f":"IF('Ceiling Speaker Calculator'!$C$29=\"Square\",BY$1,IF(OR(AND(ODD($A72)=$A72,ODD(BY$2)=BY$2),AND(EVEN($A72)=$A72,EVEN(BY$2)=BY$2)),BY$1,-100))","v":1396.875},{"$f":"IF('Ceiling Speaker Calculator'!$C$29=\"Square\",BZ$1,IF(OR(AND(ODD($A72)=$A72,ODD(BZ$2)=BZ$2),AND(EVEN($A72)=$A72,EVEN(BZ$2)=BZ$2)),BZ$1,-100))","v":1415.625},{"$f":"IF('Ceiling Speaker Calculator'!$C$29=\"Square\",CA$1,IF(OR(AND(ODD($A72)=$A72,ODD(CA$2)=CA$2),AND(EVEN($A72)=$A72,EVEN(CA$2)=CA$2)),CA$1,-100))","v":1434.375},{"$f":"IF('Ceiling Speaker Calculator'!$C$29=\"Square\",CB$1,IF(OR(AND(ODD($A72)=$A72,ODD(CB$2)=CB$2),AND(EVEN($A72)=$A72,EVEN(CB$2)=CB$2)),CB$1,-100))","v":1453.125},{"$f":"IF('Ceiling Speaker Calculator'!$C$29=\"Square\",CC$1,IF(OR(AND(ODD($A72)=$A72,ODD(CC$2)=CC$2),AND(EVEN($A72)=$A72,EVEN(CC$2)=CC$2)),CC$1,-100))","v":1471.875},{"$f":"IF('Ceiling Speaker Calculator'!$C$29=\"Square\",CD$1,IF(OR(AND(ODD($A72)=$A72,ODD(CD$2)=CD$2),AND(EVEN($A72)=$A72,EVEN(CD$2)=CD$2)),CD$1,-100))","v":1490.625},{"$f":"IF('Ceiling Speaker Calculator'!$C$29=\"Square\",CE$1,IF(OR(AND(ODD($A72)=$A72,ODD(CE$2)=CE$2),AND(EVEN($A72)=$A72,EVEN(CE$2)=CE$2)),CE$1,-100))","v":1509.375},{"$f":"IF('Ceiling Speaker Calculator'!$C$29=\"Square\",CF$1,IF(OR(AND(ODD($A72)=$A72,ODD(CF$2)=CF$2),AND(EVEN($A72)=$A72,EVEN(CF$2)=CF$2)),CF$1,-100))","v":1528.125},{"$f":"IF('Ceiling Speaker Calculator'!$C$29=\"Square\",CG$1,IF(OR(AND(ODD($A72)=$A72,ODD(CG$2)=CG$2),AND(EVEN($A72)=$A72,EVEN(CG$2)=CG$2)),CG$1,-100))","v":1546.875},{"$f":"IF('Ceiling Speaker Calculator'!$C$29=\"Square\",CH$1,IF(OR(AND(ODD($A72)=$A72,ODD(CH$2)=CH$2),AND(EVEN($A72)=$A72,EVEN(CH$2)=CH$2)),CH$1,-100))","v":1565.625},{"$f":"IF('Ceiling Speaker Calculator'!$C$29=\"Square\",CI$1,IF(OR(AND(ODD($A72)=$A72,ODD(CI$2)=CI$2),AND(EVEN($A72)=$A72,EVEN(CI$2)=CI$2)),CI$1,-100))","v":1584.375},{"$f":"IF('Ceiling Speaker Calculator'!$C$29=\"Square\",CJ$1,IF(OR(AND(ODD($A72)=$A72,ODD(CJ$2)=CJ$2),AND(EVEN($A72)=$A72,EVEN(CJ$2)=CJ$2)),CJ$1,-100))","v":1603.125},{"$f":"IF('Ceiling Speaker Calculator'!$C$29=\"Square\",CK$1,IF(OR(AND(ODD($A72)=$A72,ODD(CK$2)=CK$2),AND(EVEN($A72)=$A72,EVEN(CK$2)=CK$2)),CK$1,-100))","v":1621.875},{"$f":"IF('Ceiling Speaker Calculator'!$C$29=\"Square\",CL$1,IF(OR(AND(ODD($A72)=$A72,ODD(CL$2)=CL$2),AND(EVEN($A72)=$A72,EVEN(CL$2)=CL$2)),CL$1,-100))","v":1640.625},{"$f":"IF('Ceiling Speaker Calculator'!$C$29=\"Square\",CM$1,IF(OR(AND(ODD($A72)=$A72,ODD(CM$2)=CM$2),AND(EVEN($A72)=$A72,EVEN(CM$2)=CM$2)),CM$1,-100))","v":1659.375},{"$f":"IF('Ceiling Speaker Calculator'!$C$29=\"Square\",CN$1,IF(OR(AND(ODD($A72)=$A72,ODD(CN$2)=CN$2),AND(EVEN($A72)=$A72,EVEN(CN$2)=CN$2)),CN$1,-100))","v":1678.125},{"$f":"IF('Ceiling Speaker Calculator'!$C$29=\"Square\",CO$1,IF(OR(AND(ODD($A72)=$A72,ODD(CO$2)=CO$2),AND(EVEN($A72)=$A72,EVEN(CO$2)=CO$2)),CO$1,-100))","v":1696.875},{"$f":"IF('Ceiling Speaker Calculator'!$C$29=\"Square\",CP$1,IF(OR(AND(ODD($A72)=$A72,ODD(CP$2)=CP$2),AND(EVEN($A72)=$A72,EVEN(CP$2)=CP$2)),CP$1,-100))","v":1715.625},{"$f":"IF('Ceiling Speaker Calculator'!$C$29=\"Square\",CQ$1,IF(OR(AND(ODD($A72)=$A72,ODD(CQ$2)=CQ$2),AND(EVEN($A72)=$A72,EVEN(CQ$2)=CQ$2)),CQ$1,-100))","v":1734.375},{"$f":"IF('Ceiling Speaker Calculator'!$C$29=\"Square\",CR$1,IF(OR(AND(ODD($A72)=$A72,ODD(CR$2)=CR$2),AND(EVEN($A72)=$A72,EVEN(CR$2)=CR$2)),CR$1,-100))","v":1753.125},{"$f":"IF('Ceiling Speaker Calculator'!$C$29=\"Square\",CS$1,IF(OR(AND(ODD($A72)=$A72,ODD(CS$2)=CS$2),AND(EVEN($A72)=$A72,EVEN(CS$2)=CS$2)),CS$1,-100))","v":1771.875},{"$f":"IF('Ceiling Speaker Calculator'!$C$29=\"Square\",CT$1,IF(OR(AND(ODD($A72)=$A72,ODD(CT$2)=CT$2),AND(EVEN($A72)=$A72,EVEN(CT$2)=CT$2)),CT$1,-100))","v":1790.625},{"$f":"IF('Ceiling Speaker Calculator'!$C$29=\"Square\",CU$1,IF(OR(AND(ODD($A72)=$A72,ODD(CU$2)=CU$2),AND(EVEN($A72)=$A72,EVEN(CU$2)=CU$2)),CU$1,-100))","v":1809.375},{"$f":"IF('Ceiling Speaker Calculator'!$C$29=\"Square\",CV$1,IF(OR(AND(ODD($A72)=$A72,ODD(CV$2)=CV$2),AND(EVEN($A72)=$A72,EVEN(CV$2)=CV$2)),CV$1,-100))","v":1828.125},{"$f":"IF('Ceiling Speaker Calculator'!$C$29=\"Square\",CW$1,IF(OR(AND(ODD($A72)=$A72,ODD(CW$2)=CW$2),AND(EVEN($A72)=$A72,EVEN(CW$2)=CW$2)),CW$1,-100))","v":1846.875},{"$f":"IF('Ceiling Speaker Calculator'!$C$29=\"Square\",CX$1,IF(OR(AND(ODD($A72)=$A72,ODD(CX$2)=CX$2),AND(EVEN($A72)=$A72,EVEN(CX$2)=CX$2)),CX$1,-100))","v":1865.625}]
[71,{"$f":"B72+'Ceiling Speaker Calculator'!$K$16","v":1410},{"$f":"IF('Ceiling Speaker Calculator'!$C$29=\"Square\",C$1,IF(OR(AND(ODD($A73)=$A73,ODD(C$2)=C$2),AND(EVEN($A73)=$A73,EVEN(C$2)=C$2)),C$1,-100))","v":9.375},{"$f":"IF('Ceiling Speaker Calculator'!$C$29=\"Square\",D$1,IF(OR(AND(ODD($A73)=$A73,ODD(D$2)=D$2),AND(EVEN($A73)=$A73,EVEN(D$2)=D$2)),D$1,-100))","v":28.125},{"$f":"IF('Ceiling Speaker Calculator'!$C$29=\"Square\",E$1,IF(OR(AND(ODD($A73)=$A73,ODD(E$2)=E$2),AND(EVEN($A73)=$A73,EVEN(E$2)=E$2)),E$1,-100))","v":46.875},{"$f":"IF('Ceiling Speaker Calculator'!$C$29=\"Square\",F$1,IF(OR(AND(ODD($A73)=$A73,ODD(F$2)=F$2),AND(EVEN($A73)=$A73,EVEN(F$2)=F$2)),F$1,-100))","v":65.625},{"$f":"IF('Ceiling Speaker Calculator'!$C$29=\"Square\",G$1,IF(OR(AND(ODD($A73)=$A73,ODD(G$2)=G$2),AND(EVEN($A73)=$A73,EVEN(G$2)=G$2)),G$1,-100))","v":84.375},{"$f":"IF('Ceiling Speaker Calculator'!$C$29=\"Square\",H$1,IF(OR(AND(ODD($A73)=$A73,ODD(H$2)=H$2),AND(EVEN($A73)=$A73,EVEN(H$2)=H$2)),H$1,-100))","v":103.125},{"$f":"IF('Ceiling Speaker Calculator'!$C$29=\"Square\",I$1,IF(OR(AND(ODD($A73)=$A73,ODD(I$2)=I$2),AND(EVEN($A73)=$A73,EVEN(I$2)=I$2)),I$1,-100))","v":121.875},{"$f":"IF('Ceiling Speaker Calculator'!$C$29=\"Square\",J$1,IF(OR(AND(ODD($A73)=$A73,ODD(J$2)=J$2),AND(EVEN($A73)=$A73,EVEN(J$2)=J$2)),J$1,-100))","v":140.625},{"$f":"IF('Ceiling Speaker Calculator'!$C$29=\"Square\",K$1,IF(OR(AND(ODD($A73)=$A73,ODD(K$2)=K$2),AND(EVEN($A73)=$A73,EVEN(K$2)=K$2)),K$1,-100))","v":159.375},{"$f":"IF('Ceiling Speaker Calculator'!$C$29=\"Square\",L$1,IF(OR(AND(ODD($A73)=$A73,ODD(L$2)=L$2),AND(EVEN($A73)=$A73,EVEN(L$2)=L$2)),L$1,-100))","v":178.125},{"$f":"IF('Ceiling Speaker Calculator'!$C$29=\"Square\",M$1,IF(OR(AND(ODD($A73)=$A73,ODD(M$2)=M$2),AND(EVEN($A73)=$A73,EVEN(M$2)=M$2)),M$1,-100))","v":196.875},{"$f":"IF('Ceiling Speaker Calculator'!$C$29=\"Square\",N$1,IF(OR(AND(ODD($A73)=$A73,ODD(N$2)=N$2),AND(EVEN($A73)=$A73,EVEN(N$2)=N$2)),N$1,-100))","v":215.625},{"$f":"IF('Ceiling Speaker Calculator'!$C$29=\"Square\",O$1,IF(OR(AND(ODD($A73)=$A73,ODD(O$2)=O$2),AND(EVEN($A73)=$A73,EVEN(O$2)=O$2)),O$1,-100))","v":234.375},{"$f":"IF('Ceiling Speaker Calculator'!$C$29=\"Square\",P$1,IF(OR(AND(ODD($A73)=$A73,ODD(P$2)=P$2),AND(EVEN($A73)=$A73,EVEN(P$2)=P$2)),P$1,-100))","v":253.125},{"$f":"IF('Ceiling Speaker Calculator'!$C$29=\"Square\",Q$1,IF(OR(AND(ODD($A73)=$A73,ODD(Q$2)=Q$2),AND(EVEN($A73)=$A73,EVEN(Q$2)=Q$2)),Q$1,-100))","v":271.875},{"$f":"IF('Ceiling Speaker Calculator'!$C$29=\"Square\",R$1,IF(OR(AND(ODD($A73)=$A73,ODD(R$2)=R$2),AND(EVEN($A73)=$A73,EVEN(R$2)=R$2)),R$1,-100))","v":290.625},{"$f":"IF('Ceiling Speaker Calculator'!$C$29=\"Square\",S$1,IF(OR(AND(ODD($A73)=$A73,ODD(S$2)=S$2),AND(EVEN($A73)=$A73,EVEN(S$2)=S$2)),S$1,-100))","v":309.375},{"$f":"IF('Ceiling Speaker Calculator'!$C$29=\"Square\",T$1,IF(OR(AND(ODD($A73)=$A73,ODD(T$2)=T$2),AND(EVEN($A73)=$A73,EVEN(T$2)=T$2)),T$1,-100))","v":328.125},{"$f":"IF('Ceiling Speaker Calculator'!$C$29=\"Square\",U$1,IF(OR(AND(ODD($A73)=$A73,ODD(U$2)=U$2),AND(EVEN($A73)=$A73,EVEN(U$2)=U$2)),U$1,-100))","v":346.875},{"$f":"IF('Ceiling Speaker Calculator'!$C$29=\"Square\",V$1,IF(OR(AND(ODD($A73)=$A73,ODD(V$2)=V$2),AND(EVEN($A73)=$A73,EVEN(V$2)=V$2)),V$1,-100))","v":365.625},{"$f":"IF('Ceiling Speaker Calculator'!$C$29=\"Square\",W$1,IF(OR(AND(ODD($A73)=$A73,ODD(W$2)=W$2),AND(EVEN($A73)=$A73,EVEN(W$2)=W$2)),W$1,-100))","v":384.375},{"$f":"IF('Ceiling Speaker Calculator'!$C$29=\"Square\",X$1,IF(OR(AND(ODD($A73)=$A73,ODD(X$2)=X$2),AND(EVEN($A73)=$A73,EVEN(X$2)=X$2)),X$1,-100))","v":403.125},{"$f":"IF('Ceiling Speaker Calculator'!$C$29=\"Square\",Y$1,IF(OR(AND(ODD($A73)=$A73,ODD(Y$2)=Y$2),AND(EVEN($A73)=$A73,EVEN(Y$2)=Y$2)),Y$1,-100))","v":421.875},{"$f":"IF('Ceiling Speaker Calculator'!$C$29=\"Square\",Z$1,IF(OR(AND(ODD($A73)=$A73,ODD(Z$2)=Z$2),AND(EVEN($A73)=$A73,EVEN(Z$2)=Z$2)),Z$1,-100))","v":440.625},{"$f":"IF('Ceiling Speaker Calculator'!$C$29=\"Square\",AA$1,IF(OR(AND(ODD($A73)=$A73,ODD(AA$2)=AA$2),AND(EVEN($A73)=$A73,EVEN(AA$2)=AA$2)),AA$1,-100))","v":459.375},{"$f":"IF('Ceiling Speaker Calculator'!$C$29=\"Square\",AB$1,IF(OR(AND(ODD($A73)=$A73,ODD(AB$2)=AB$2),AND(EVEN($A73)=$A73,EVEN(AB$2)=AB$2)),AB$1,-100))","v":478.125},{"$f":"IF('Ceiling Speaker Calculator'!$C$29=\"Square\",AC$1,IF(OR(AND(ODD($A73)=$A73,ODD(AC$2)=AC$2),AND(EVEN($A73)=$A73,EVEN(AC$2)=AC$2)),AC$1,-100))","v":496.875},{"$f":"IF('Ceiling Speaker Calculator'!$C$29=\"Square\",AD$1,IF(OR(AND(ODD($A73)=$A73,ODD(AD$2)=AD$2),AND(EVEN($A73)=$A73,EVEN(AD$2)=AD$2)),AD$1,-100))","v":515.625},{"$f":"IF('Ceiling Speaker Calculator'!$C$29=\"Square\",AE$1,IF(OR(AND(ODD($A73)=$A73,ODD(AE$2)=AE$2),AND(EVEN($A73)=$A73,EVEN(AE$2)=AE$2)),AE$1,-100))","v":534.375},{"$f":"IF('Ceiling Speaker Calculator'!$C$29=\"Square\",AF$1,IF(OR(AND(ODD($A73)=$A73,ODD(AF$2)=AF$2),AND(EVEN($A73)=$A73,EVEN(AF$2)=AF$2)),AF$1,-100))","v":553.125},{"$f":"IF('Ceiling Speaker Calculator'!$C$29=\"Square\",AG$1,IF(OR(AND(ODD($A73)=$A73,ODD(AG$2)=AG$2),AND(EVEN($A73)=$A73,EVEN(AG$2)=AG$2)),AG$1,-100))","v":571.875},{"$f":"IF('Ceiling Speaker Calculator'!$C$29=\"Square\",AH$1,IF(OR(AND(ODD($A73)=$A73,ODD(AH$2)=AH$2),AND(EVEN($A73)=$A73,EVEN(AH$2)=AH$2)),AH$1,-100))","v":590.625},{"$f":"IF('Ceiling Speaker Calculator'!$C$29=\"Square\",AI$1,IF(OR(AND(ODD($A73)=$A73,ODD(AI$2)=AI$2),AND(EVEN($A73)=$A73,EVEN(AI$2)=AI$2)),AI$1,-100))","v":609.375},{"$f":"IF('Ceiling Speaker Calculator'!$C$29=\"Square\",AJ$1,IF(OR(AND(ODD($A73)=$A73,ODD(AJ$2)=AJ$2),AND(EVEN($A73)=$A73,EVEN(AJ$2)=AJ$2)),AJ$1,-100))","v":628.125},{"$f":"IF('Ceiling Speaker Calculator'!$C$29=\"Square\",AK$1,IF(OR(AND(ODD($A73)=$A73,ODD(AK$2)=AK$2),AND(EVEN($A73)=$A73,EVEN(AK$2)=AK$2)),AK$1,-100))","v":646.875},{"$f":"IF('Ceiling Speaker Calculator'!$C$29=\"Square\",AL$1,IF(OR(AND(ODD($A73)=$A73,ODD(AL$2)=AL$2),AND(EVEN($A73)=$A73,EVEN(AL$2)=AL$2)),AL$1,-100))","v":665.625},{"$f":"IF('Ceiling Speaker Calculator'!$C$29=\"Square\",AM$1,IF(OR(AND(ODD($A73)=$A73,ODD(AM$2)=AM$2),AND(EVEN($A73)=$A73,EVEN(AM$2)=AM$2)),AM$1,-100))","v":684.375},{"$f":"IF('Ceiling Speaker Calculator'!$C$29=\"Square\",AN$1,IF(OR(AND(ODD($A73)=$A73,ODD(AN$2)=AN$2),AND(EVEN($A73)=$A73,EVEN(AN$2)=AN$2)),AN$1,-100))","v":703.125},{"$f":"IF('Ceiling Speaker Calculator'!$C$29=\"Square\",AO$1,IF(OR(AND(ODD($A73)=$A73,ODD(AO$2)=AO$2),AND(EVEN($A73)=$A73,EVEN(AO$2)=AO$2)),AO$1,-100))","v":721.875},{"$f":"IF('Ceiling Speaker Calculator'!$C$29=\"Square\",AP$1,IF(OR(AND(ODD($A73)=$A73,ODD(AP$2)=AP$2),AND(EVEN($A73)=$A73,EVEN(AP$2)=AP$2)),AP$1,-100))","v":740.625},{"$f":"IF('Ceiling Speaker Calculator'!$C$29=\"Square\",AQ$1,IF(OR(AND(ODD($A73)=$A73,ODD(AQ$2)=AQ$2),AND(EVEN($A73)=$A73,EVEN(AQ$2)=AQ$2)),AQ$1,-100))","v":759.375},{"$f":"IF('Ceiling Speaker Calculator'!$C$29=\"Square\",AR$1,IF(OR(AND(ODD($A73)=$A73,ODD(AR$2)=AR$2),AND(EVEN($A73)=$A73,EVEN(AR$2)=AR$2)),AR$1,-100))","v":778.125},{"$f":"IF('Ceiling Speaker Calculator'!$C$29=\"Square\",AS$1,IF(OR(AND(ODD($A73)=$A73,ODD(AS$2)=AS$2),AND(EVEN($A73)=$A73,EVEN(AS$2)=AS$2)),AS$1,-100))","v":796.875},{"$f":"IF('Ceiling Speaker Calculator'!$C$29=\"Square\",AT$1,IF(OR(AND(ODD($A73)=$A73,ODD(AT$2)=AT$2),AND(EVEN($A73)=$A73,EVEN(AT$2)=AT$2)),AT$1,-100))","v":815.625},{"$f":"IF('Ceiling Speaker Calculator'!$C$29=\"Square\",AU$1,IF(OR(AND(ODD($A73)=$A73,ODD(AU$2)=AU$2),AND(EVEN($A73)=$A73,EVEN(AU$2)=AU$2)),AU$1,-100))","v":834.375},{"$f":"IF('Ceiling Speaker Calculator'!$C$29=\"Square\",AV$1,IF(OR(AND(ODD($A73)=$A73,ODD(AV$2)=AV$2),AND(EVEN($A73)=$A73,EVEN(AV$2)=AV$2)),AV$1,-100))","v":853.125},{"$f":"IF('Ceiling Speaker Calculator'!$C$29=\"Square\",AW$1,IF(OR(AND(ODD($A73)=$A73,ODD(AW$2)=AW$2),AND(EVEN($A73)=$A73,EVEN(AW$2)=AW$2)),AW$1,-100))","v":871.875},{"$f":"IF('Ceiling Speaker Calculator'!$C$29=\"Square\",AX$1,IF(OR(AND(ODD($A73)=$A73,ODD(AX$2)=AX$2),AND(EVEN($A73)=$A73,EVEN(AX$2)=AX$2)),AX$1,-100))","v":890.625},{"$f":"IF('Ceiling Speaker Calculator'!$C$29=\"Square\",AY$1,IF(OR(AND(ODD($A73)=$A73,ODD(AY$2)=AY$2),AND(EVEN($A73)=$A73,EVEN(AY$2)=AY$2)),AY$1,-100))","v":909.375},{"$f":"IF('Ceiling Speaker Calculator'!$C$29=\"Square\",AZ$1,IF(OR(AND(ODD($A73)=$A73,ODD(AZ$2)=AZ$2),AND(EVEN($A73)=$A73,EVEN(AZ$2)=AZ$2)),AZ$1,-100))","v":928.125},{"$f":"IF('Ceiling Speaker Calculator'!$C$29=\"Square\",BA$1,IF(OR(AND(ODD($A73)=$A73,ODD(BA$2)=BA$2),AND(EVEN($A73)=$A73,EVEN(BA$2)=BA$2)),BA$1,-100))","v":946.875},{"$f":"IF('Ceiling Speaker Calculator'!$C$29=\"Square\",BB$1,IF(OR(AND(ODD($A73)=$A73,ODD(BB$2)=BB$2),AND(EVEN($A73)=$A73,EVEN(BB$2)=BB$2)),BB$1,-100))","v":965.625},{"$f":"IF('Ceiling Speaker Calculator'!$C$29=\"Square\",BC$1,IF(OR(AND(ODD($A73)=$A73,ODD(BC$2)=BC$2),AND(EVEN($A73)=$A73,EVEN(BC$2)=BC$2)),BC$1,-100))","v":984.375},{"$f":"IF('Ceiling Speaker Calculator'!$C$29=\"Square\",BD$1,IF(OR(AND(ODD($A73)=$A73,ODD(BD$2)=BD$2),AND(EVEN($A73)=$A73,EVEN(BD$2)=BD$2)),BD$1,-100))","v":1003.125},{"$f":"IF('Ceiling Speaker Calculator'!$C$29=\"Square\",BE$1,IF(OR(AND(ODD($A73)=$A73,ODD(BE$2)=BE$2),AND(EVEN($A73)=$A73,EVEN(BE$2)=BE$2)),BE$1,-100))","v":1021.875},{"$f":"IF('Ceiling Speaker Calculator'!$C$29=\"Square\",BF$1,IF(OR(AND(ODD($A73)=$A73,ODD(BF$2)=BF$2),AND(EVEN($A73)=$A73,EVEN(BF$2)=BF$2)),BF$1,-100))","v":1040.625},{"$f":"IF('Ceiling Speaker Calculator'!$C$29=\"Square\",BG$1,IF(OR(AND(ODD($A73)=$A73,ODD(BG$2)=BG$2),AND(EVEN($A73)=$A73,EVEN(BG$2)=BG$2)),BG$1,-100))","v":1059.375},{"$f":"IF('Ceiling Speaker Calculator'!$C$29=\"Square\",BH$1,IF(OR(AND(ODD($A73)=$A73,ODD(BH$2)=BH$2),AND(EVEN($A73)=$A73,EVEN(BH$2)=BH$2)),BH$1,-100))","v":1078.125},{"$f":"IF('Ceiling Speaker Calculator'!$C$29=\"Square\",BI$1,IF(OR(AND(ODD($A73)=$A73,ODD(BI$2)=BI$2),AND(EVEN($A73)=$A73,EVEN(BI$2)=BI$2)),BI$1,-100))","v":1096.875},{"$f":"IF('Ceiling Speaker Calculator'!$C$29=\"Square\",BJ$1,IF(OR(AND(ODD($A73)=$A73,ODD(BJ$2)=BJ$2),AND(EVEN($A73)=$A73,EVEN(BJ$2)=BJ$2)),BJ$1,-100))","v":1115.625},{"$f":"IF('Ceiling Speaker Calculator'!$C$29=\"Square\",BK$1,IF(OR(AND(ODD($A73)=$A73,ODD(BK$2)=BK$2),AND(EVEN($A73)=$A73,EVEN(BK$2)=BK$2)),BK$1,-100))","v":1134.375},{"$f":"IF('Ceiling Speaker Calculator'!$C$29=\"Square\",BL$1,IF(OR(AND(ODD($A73)=$A73,ODD(BL$2)=BL$2),AND(EVEN($A73)=$A73,EVEN(BL$2)=BL$2)),BL$1,-100))","v":1153.125},{"$f":"IF('Ceiling Speaker Calculator'!$C$29=\"Square\",BM$1,IF(OR(AND(ODD($A73)=$A73,ODD(BM$2)=BM$2),AND(EVEN($A73)=$A73,EVEN(BM$2)=BM$2)),BM$1,-100))","v":1171.875},{"$f":"IF('Ceiling Speaker Calculator'!$C$29=\"Square\",BN$1,IF(OR(AND(ODD($A73)=$A73,ODD(BN$2)=BN$2),AND(EVEN($A73)=$A73,EVEN(BN$2)=BN$2)),BN$1,-100))","v":1190.625},{"$f":"IF('Ceiling Speaker Calculator'!$C$29=\"Square\",BO$1,IF(OR(AND(ODD($A73)=$A73,ODD(BO$2)=BO$2),AND(EVEN($A73)=$A73,EVEN(BO$2)=BO$2)),BO$1,-100))","v":1209.375},{"$f":"IF('Ceiling Speaker Calculator'!$C$29=\"Square\",BP$1,IF(OR(AND(ODD($A73)=$A73,ODD(BP$2)=BP$2),AND(EVEN($A73)=$A73,EVEN(BP$2)=BP$2)),BP$1,-100))","v":1228.125},{"$f":"IF('Ceiling Speaker Calculator'!$C$29=\"Square\",BQ$1,IF(OR(AND(ODD($A73)=$A73,ODD(BQ$2)=BQ$2),AND(EVEN($A73)=$A73,EVEN(BQ$2)=BQ$2)),BQ$1,-100))","v":1246.875},{"$f":"IF('Ceiling Speaker Calculator'!$C$29=\"Square\",BR$1,IF(OR(AND(ODD($A73)=$A73,ODD(BR$2)=BR$2),AND(EVEN($A73)=$A73,EVEN(BR$2)=BR$2)),BR$1,-100))","v":1265.625},{"$f":"IF('Ceiling Speaker Calculator'!$C$29=\"Square\",BS$1,IF(OR(AND(ODD($A73)=$A73,ODD(BS$2)=BS$2),AND(EVEN($A73)=$A73,EVEN(BS$2)=BS$2)),BS$1,-100))","v":1284.375},{"$f":"IF('Ceiling Speaker Calculator'!$C$29=\"Square\",BT$1,IF(OR(AND(ODD($A73)=$A73,ODD(BT$2)=BT$2),AND(EVEN($A73)=$A73,EVEN(BT$2)=BT$2)),BT$1,-100))","v":1303.125},{"$f":"IF('Ceiling Speaker Calculator'!$C$29=\"Square\",BU$1,IF(OR(AND(ODD($A73)=$A73,ODD(BU$2)=BU$2),AND(EVEN($A73)=$A73,EVEN(BU$2)=BU$2)),BU$1,-100))","v":1321.875},{"$f":"IF('Ceiling Speaker Calculator'!$C$29=\"Square\",BV$1,IF(OR(AND(ODD($A73)=$A73,ODD(BV$2)=BV$2),AND(EVEN($A73)=$A73,EVEN(BV$2)=BV$2)),BV$1,-100))","v":1340.625},{"$f":"IF('Ceiling Speaker Calculator'!$C$29=\"Square\",BW$1,IF(OR(AND(ODD($A73)=$A73,ODD(BW$2)=BW$2),AND(EVEN($A73)=$A73,EVEN(BW$2)=BW$2)),BW$1,-100))","v":1359.375},{"$f":"IF('Ceiling Speaker Calculator'!$C$29=\"Square\",BX$1,IF(OR(AND(ODD($A73)=$A73,ODD(BX$2)=BX$2),AND(EVEN($A73)=$A73,EVEN(BX$2)=BX$2)),BX$1,-100))","v":1378.125},{"$f":"IF('Ceiling Speaker Calculator'!$C$29=\"Square\",BY$1,IF(OR(AND(ODD($A73)=$A73,ODD(BY$2)=BY$2),AND(EVEN($A73)=$A73,EVEN(BY$2)=BY$2)),BY$1,-100))","v":1396.875},{"$f":"IF('Ceiling Speaker Calculator'!$C$29=\"Square\",BZ$1,IF(OR(AND(ODD($A73)=$A73,ODD(BZ$2)=BZ$2),AND(EVEN($A73)=$A73,EVEN(BZ$2)=BZ$2)),BZ$1,-100))","v":1415.625},{"$f":"IF('Ceiling Speaker Calculator'!$C$29=\"Square\",CA$1,IF(OR(AND(ODD($A73)=$A73,ODD(CA$2)=CA$2),AND(EVEN($A73)=$A73,EVEN(CA$2)=CA$2)),CA$1,-100))","v":1434.375},{"$f":"IF('Ceiling Speaker Calculator'!$C$29=\"Square\",CB$1,IF(OR(AND(ODD($A73)=$A73,ODD(CB$2)=CB$2),AND(EVEN($A73)=$A73,EVEN(CB$2)=CB$2)),CB$1,-100))","v":1453.125},{"$f":"IF('Ceiling Speaker Calculator'!$C$29=\"Square\",CC$1,IF(OR(AND(ODD($A73)=$A73,ODD(CC$2)=CC$2),AND(EVEN($A73)=$A73,EVEN(CC$2)=CC$2)),CC$1,-100))","v":1471.875},{"$f":"IF('Ceiling Speaker Calculator'!$C$29=\"Square\",CD$1,IF(OR(AND(ODD($A73)=$A73,ODD(CD$2)=CD$2),AND(EVEN($A73)=$A73,EVEN(CD$2)=CD$2)),CD$1,-100))","v":1490.625},{"$f":"IF('Ceiling Speaker Calculator'!$C$29=\"Square\",CE$1,IF(OR(AND(ODD($A73)=$A73,ODD(CE$2)=CE$2),AND(EVEN($A73)=$A73,EVEN(CE$2)=CE$2)),CE$1,-100))","v":1509.375},{"$f":"IF('Ceiling Speaker Calculator'!$C$29=\"Square\",CF$1,IF(OR(AND(ODD($A73)=$A73,ODD(CF$2)=CF$2),AND(EVEN($A73)=$A73,EVEN(CF$2)=CF$2)),CF$1,-100))","v":1528.125},{"$f":"IF('Ceiling Speaker Calculator'!$C$29=\"Square\",CG$1,IF(OR(AND(ODD($A73)=$A73,ODD(CG$2)=CG$2),AND(EVEN($A73)=$A73,EVEN(CG$2)=CG$2)),CG$1,-100))","v":1546.875},{"$f":"IF('Ceiling Speaker Calculator'!$C$29=\"Square\",CH$1,IF(OR(AND(ODD($A73)=$A73,ODD(CH$2)=CH$2),AND(EVEN($A73)=$A73,EVEN(CH$2)=CH$2)),CH$1,-100))","v":1565.625},{"$f":"IF('Ceiling Speaker Calculator'!$C$29=\"Square\",CI$1,IF(OR(AND(ODD($A73)=$A73,ODD(CI$2)=CI$2),AND(EVEN($A73)=$A73,EVEN(CI$2)=CI$2)),CI$1,-100))","v":1584.375},{"$f":"IF('Ceiling Speaker Calculator'!$C$29=\"Square\",CJ$1,IF(OR(AND(ODD($A73)=$A73,ODD(CJ$2)=CJ$2),AND(EVEN($A73)=$A73,EVEN(CJ$2)=CJ$2)),CJ$1,-100))","v":1603.125},{"$f":"IF('Ceiling Speaker Calculator'!$C$29=\"Square\",CK$1,IF(OR(AND(ODD($A73)=$A73,ODD(CK$2)=CK$2),AND(EVEN($A73)=$A73,EVEN(CK$2)=CK$2)),CK$1,-100))","v":1621.875},{"$f":"IF('Ceiling Speaker Calculator'!$C$29=\"Square\",CL$1,IF(OR(AND(ODD($A73)=$A73,ODD(CL$2)=CL$2),AND(EVEN($A73)=$A73,EVEN(CL$2)=CL$2)),CL$1,-100))","v":1640.625},{"$f":"IF('Ceiling Speaker Calculator'!$C$29=\"Square\",CM$1,IF(OR(AND(ODD($A73)=$A73,ODD(CM$2)=CM$2),AND(EVEN($A73)=$A73,EVEN(CM$2)=CM$2)),CM$1,-100))","v":1659.375},{"$f":"IF('Ceiling Speaker Calculator'!$C$29=\"Square\",CN$1,IF(OR(AND(ODD($A73)=$A73,ODD(CN$2)=CN$2),AND(EVEN($A73)=$A73,EVEN(CN$2)=CN$2)),CN$1,-100))","v":1678.125},{"$f":"IF('Ceiling Speaker Calculator'!$C$29=\"Square\",CO$1,IF(OR(AND(ODD($A73)=$A73,ODD(CO$2)=CO$2),AND(EVEN($A73)=$A73,EVEN(CO$2)=CO$2)),CO$1,-100))","v":1696.875},{"$f":"IF('Ceiling Speaker Calculator'!$C$29=\"Square\",CP$1,IF(OR(AND(ODD($A73)=$A73,ODD(CP$2)=CP$2),AND(EVEN($A73)=$A73,EVEN(CP$2)=CP$2)),CP$1,-100))","v":1715.625},{"$f":"IF('Ceiling Speaker Calculator'!$C$29=\"Square\",CQ$1,IF(OR(AND(ODD($A73)=$A73,ODD(CQ$2)=CQ$2),AND(EVEN($A73)=$A73,EVEN(CQ$2)=CQ$2)),CQ$1,-100))","v":1734.375},{"$f":"IF('Ceiling Speaker Calculator'!$C$29=\"Square\",CR$1,IF(OR(AND(ODD($A73)=$A73,ODD(CR$2)=CR$2),AND(EVEN($A73)=$A73,EVEN(CR$2)=CR$2)),CR$1,-100))","v":1753.125},{"$f":"IF('Ceiling Speaker Calculator'!$C$29=\"Square\",CS$1,IF(OR(AND(ODD($A73)=$A73,ODD(CS$2)=CS$2),AND(EVEN($A73)=$A73,EVEN(CS$2)=CS$2)),CS$1,-100))","v":1771.875},{"$f":"IF('Ceiling Speaker Calculator'!$C$29=\"Square\",CT$1,IF(OR(AND(ODD($A73)=$A73,ODD(CT$2)=CT$2),AND(EVEN($A73)=$A73,EVEN(CT$2)=CT$2)),CT$1,-100))","v":1790.625},{"$f":"IF('Ceiling Speaker Calculator'!$C$29=\"Square\",CU$1,IF(OR(AND(ODD($A73)=$A73,ODD(CU$2)=CU$2),AND(EVEN($A73)=$A73,EVEN(CU$2)=CU$2)),CU$1,-100))","v":1809.375},{"$f":"IF('Ceiling Speaker Calculator'!$C$29=\"Square\",CV$1,IF(OR(AND(ODD($A73)=$A73,ODD(CV$2)=CV$2),AND(EVEN($A73)=$A73,EVEN(CV$2)=CV$2)),CV$1,-100))","v":1828.125},{"$f":"IF('Ceiling Speaker Calculator'!$C$29=\"Square\",CW$1,IF(OR(AND(ODD($A73)=$A73,ODD(CW$2)=CW$2),AND(EVEN($A73)=$A73,EVEN(CW$2)=CW$2)),CW$1,-100))","v":1846.875},{"$f":"IF('Ceiling Speaker Calculator'!$C$29=\"Square\",CX$1,IF(OR(AND(ODD($A73)=$A73,ODD(CX$2)=CX$2),AND(EVEN($A73)=$A73,EVEN(CX$2)=CX$2)),CX$1,-100))","v":1865.625}]
[72,{"$f":"B73+'Ceiling Speaker Calculator'!$K$16","v":1430},{"$f":"IF('Ceiling Speaker Calculator'!$C$29=\"Square\",C$1,IF(OR(AND(ODD($A74)=$A74,ODD(C$2)=C$2),AND(EVEN($A74)=$A74,EVEN(C$2)=C$2)),C$1,-100))","v":9.375},{"$f":"IF('Ceiling Speaker Calculator'!$C$29=\"Square\",D$1,IF(OR(AND(ODD($A74)=$A74,ODD(D$2)=D$2),AND(EVEN($A74)=$A74,EVEN(D$2)=D$2)),D$1,-100))","v":28.125},{"$f":"IF('Ceiling Speaker Calculator'!$C$29=\"Square\",E$1,IF(OR(AND(ODD($A74)=$A74,ODD(E$2)=E$2),AND(EVEN($A74)=$A74,EVEN(E$2)=E$2)),E$1,-100))","v":46.875},{"$f":"IF('Ceiling Speaker Calculator'!$C$29=\"Square\",F$1,IF(OR(AND(ODD($A74)=$A74,ODD(F$2)=F$2),AND(EVEN($A74)=$A74,EVEN(F$2)=F$2)),F$1,-100))","v":65.625},{"$f":"IF('Ceiling Speaker Calculator'!$C$29=\"Square\",G$1,IF(OR(AND(ODD($A74)=$A74,ODD(G$2)=G$2),AND(EVEN($A74)=$A74,EVEN(G$2)=G$2)),G$1,-100))","v":84.375},{"$f":"IF('Ceiling Speaker Calculator'!$C$29=\"Square\",H$1,IF(OR(AND(ODD($A74)=$A74,ODD(H$2)=H$2),AND(EVEN($A74)=$A74,EVEN(H$2)=H$2)),H$1,-100))","v":103.125},{"$f":"IF('Ceiling Speaker Calculator'!$C$29=\"Square\",I$1,IF(OR(AND(ODD($A74)=$A74,ODD(I$2)=I$2),AND(EVEN($A74)=$A74,EVEN(I$2)=I$2)),I$1,-100))","v":121.875},{"$f":"IF('Ceiling Speaker Calculator'!$C$29=\"Square\",J$1,IF(OR(AND(ODD($A74)=$A74,ODD(J$2)=J$2),AND(EVEN($A74)=$A74,EVEN(J$2)=J$2)),J$1,-100))","v":140.625},{"$f":"IF('Ceiling Speaker Calculator'!$C$29=\"Square\",K$1,IF(OR(AND(ODD($A74)=$A74,ODD(K$2)=K$2),AND(EVEN($A74)=$A74,EVEN(K$2)=K$2)),K$1,-100))","v":159.375},{"$f":"IF('Ceiling Speaker Calculator'!$C$29=\"Square\",L$1,IF(OR(AND(ODD($A74)=$A74,ODD(L$2)=L$2),AND(EVEN($A74)=$A74,EVEN(L$2)=L$2)),L$1,-100))","v":178.125},{"$f":"IF('Ceiling Speaker Calculator'!$C$29=\"Square\",M$1,IF(OR(AND(ODD($A74)=$A74,ODD(M$2)=M$2),AND(EVEN($A74)=$A74,EVEN(M$2)=M$2)),M$1,-100))","v":196.875},{"$f":"IF('Ceiling Speaker Calculator'!$C$29=\"Square\",N$1,IF(OR(AND(ODD($A74)=$A74,ODD(N$2)=N$2),AND(EVEN($A74)=$A74,EVEN(N$2)=N$2)),N$1,-100))","v":215.625},{"$f":"IF('Ceiling Speaker Calculator'!$C$29=\"Square\",O$1,IF(OR(AND(ODD($A74)=$A74,ODD(O$2)=O$2),AND(EVEN($A74)=$A74,EVEN(O$2)=O$2)),O$1,-100))","v":234.375},{"$f":"IF('Ceiling Speaker Calculator'!$C$29=\"Square\",P$1,IF(OR(AND(ODD($A74)=$A74,ODD(P$2)=P$2),AND(EVEN($A74)=$A74,EVEN(P$2)=P$2)),P$1,-100))","v":253.125},{"$f":"IF('Ceiling Speaker Calculator'!$C$29=\"Square\",Q$1,IF(OR(AND(ODD($A74)=$A74,ODD(Q$2)=Q$2),AND(EVEN($A74)=$A74,EVEN(Q$2)=Q$2)),Q$1,-100))","v":271.875},{"$f":"IF('Ceiling Speaker Calculator'!$C$29=\"Square\",R$1,IF(OR(AND(ODD($A74)=$A74,ODD(R$2)=R$2),AND(EVEN($A74)=$A74,EVEN(R$2)=R$2)),R$1,-100))","v":290.625},{"$f":"IF('Ceiling Speaker Calculator'!$C$29=\"Square\",S$1,IF(OR(AND(ODD($A74)=$A74,ODD(S$2)=S$2),AND(EVEN($A74)=$A74,EVEN(S$2)=S$2)),S$1,-100))","v":309.375},{"$f":"IF('Ceiling Speaker Calculator'!$C$29=\"Square\",T$1,IF(OR(AND(ODD($A74)=$A74,ODD(T$2)=T$2),AND(EVEN($A74)=$A74,EVEN(T$2)=T$2)),T$1,-100))","v":328.125},{"$f":"IF('Ceiling Speaker Calculator'!$C$29=\"Square\",U$1,IF(OR(AND(ODD($A74)=$A74,ODD(U$2)=U$2),AND(EVEN($A74)=$A74,EVEN(U$2)=U$2)),U$1,-100))","v":346.875},{"$f":"IF('Ceiling Speaker Calculator'!$C$29=\"Square\",V$1,IF(OR(AND(ODD($A74)=$A74,ODD(V$2)=V$2),AND(EVEN($A74)=$A74,EVEN(V$2)=V$2)),V$1,-100))","v":365.625},{"$f":"IF('Ceiling Speaker Calculator'!$C$29=\"Square\",W$1,IF(OR(AND(ODD($A74)=$A74,ODD(W$2)=W$2),AND(EVEN($A74)=$A74,EVEN(W$2)=W$2)),W$1,-100))","v":384.375},{"$f":"IF('Ceiling Speaker Calculator'!$C$29=\"Square\",X$1,IF(OR(AND(ODD($A74)=$A74,ODD(X$2)=X$2),AND(EVEN($A74)=$A74,EVEN(X$2)=X$2)),X$1,-100))","v":403.125},{"$f":"IF('Ceiling Speaker Calculator'!$C$29=\"Square\",Y$1,IF(OR(AND(ODD($A74)=$A74,ODD(Y$2)=Y$2),AND(EVEN($A74)=$A74,EVEN(Y$2)=Y$2)),Y$1,-100))","v":421.875},{"$f":"IF('Ceiling Speaker Calculator'!$C$29=\"Square\",Z$1,IF(OR(AND(ODD($A74)=$A74,ODD(Z$2)=Z$2),AND(EVEN($A74)=$A74,EVEN(Z$2)=Z$2)),Z$1,-100))","v":440.625},{"$f":"IF('Ceiling Speaker Calculator'!$C$29=\"Square\",AA$1,IF(OR(AND(ODD($A74)=$A74,ODD(AA$2)=AA$2),AND(EVEN($A74)=$A74,EVEN(AA$2)=AA$2)),AA$1,-100))","v":459.375},{"$f":"IF('Ceiling Speaker Calculator'!$C$29=\"Square\",AB$1,IF(OR(AND(ODD($A74)=$A74,ODD(AB$2)=AB$2),AND(EVEN($A74)=$A74,EVEN(AB$2)=AB$2)),AB$1,-100))","v":478.125},{"$f":"IF('Ceiling Speaker Calculator'!$C$29=\"Square\",AC$1,IF(OR(AND(ODD($A74)=$A74,ODD(AC$2)=AC$2),AND(EVEN($A74)=$A74,EVEN(AC$2)=AC$2)),AC$1,-100))","v":496.875},{"$f":"IF('Ceiling Speaker Calculator'!$C$29=\"Square\",AD$1,IF(OR(AND(ODD($A74)=$A74,ODD(AD$2)=AD$2),AND(EVEN($A74)=$A74,EVEN(AD$2)=AD$2)),AD$1,-100))","v":515.625},{"$f":"IF('Ceiling Speaker Calculator'!$C$29=\"Square\",AE$1,IF(OR(AND(ODD($A74)=$A74,ODD(AE$2)=AE$2),AND(EVEN($A74)=$A74,EVEN(AE$2)=AE$2)),AE$1,-100))","v":534.375},{"$f":"IF('Ceiling Speaker Calculator'!$C$29=\"Square\",AF$1,IF(OR(AND(ODD($A74)=$A74,ODD(AF$2)=AF$2),AND(EVEN($A74)=$A74,EVEN(AF$2)=AF$2)),AF$1,-100))","v":553.125},{"$f":"IF('Ceiling Speaker Calculator'!$C$29=\"Square\",AG$1,IF(OR(AND(ODD($A74)=$A74,ODD(AG$2)=AG$2),AND(EVEN($A74)=$A74,EVEN(AG$2)=AG$2)),AG$1,-100))","v":571.875},{"$f":"IF('Ceiling Speaker Calculator'!$C$29=\"Square\",AH$1,IF(OR(AND(ODD($A74)=$A74,ODD(AH$2)=AH$2),AND(EVEN($A74)=$A74,EVEN(AH$2)=AH$2)),AH$1,-100))","v":590.625},{"$f":"IF('Ceiling Speaker Calculator'!$C$29=\"Square\",AI$1,IF(OR(AND(ODD($A74)=$A74,ODD(AI$2)=AI$2),AND(EVEN($A74)=$A74,EVEN(AI$2)=AI$2)),AI$1,-100))","v":609.375},{"$f":"IF('Ceiling Speaker Calculator'!$C$29=\"Square\",AJ$1,IF(OR(AND(ODD($A74)=$A74,ODD(AJ$2)=AJ$2),AND(EVEN($A74)=$A74,EVEN(AJ$2)=AJ$2)),AJ$1,-100))","v":628.125},{"$f":"IF('Ceiling Speaker Calculator'!$C$29=\"Square\",AK$1,IF(OR(AND(ODD($A74)=$A74,ODD(AK$2)=AK$2),AND(EVEN($A74)=$A74,EVEN(AK$2)=AK$2)),AK$1,-100))","v":646.875},{"$f":"IF('Ceiling Speaker Calculator'!$C$29=\"Square\",AL$1,IF(OR(AND(ODD($A74)=$A74,ODD(AL$2)=AL$2),AND(EVEN($A74)=$A74,EVEN(AL$2)=AL$2)),AL$1,-100))","v":665.625},{"$f":"IF('Ceiling Speaker Calculator'!$C$29=\"Square\",AM$1,IF(OR(AND(ODD($A74)=$A74,ODD(AM$2)=AM$2),AND(EVEN($A74)=$A74,EVEN(AM$2)=AM$2)),AM$1,-100))","v":684.375},{"$f":"IF('Ceiling Speaker Calculator'!$C$29=\"Square\",AN$1,IF(OR(AND(ODD($A74)=$A74,ODD(AN$2)=AN$2),AND(EVEN($A74)=$A74,EVEN(AN$2)=AN$2)),AN$1,-100))","v":703.125},{"$f":"IF('Ceiling Speaker Calculator'!$C$29=\"Square\",AO$1,IF(OR(AND(ODD($A74)=$A74,ODD(AO$2)=AO$2),AND(EVEN($A74)=$A74,EVEN(AO$2)=AO$2)),AO$1,-100))","v":721.875},{"$f":"IF('Ceiling Speaker Calculator'!$C$29=\"Square\",AP$1,IF(OR(AND(ODD($A74)=$A74,ODD(AP$2)=AP$2),AND(EVEN($A74)=$A74,EVEN(AP$2)=AP$2)),AP$1,-100))","v":740.625},{"$f":"IF('Ceiling Speaker Calculator'!$C$29=\"Square\",AQ$1,IF(OR(AND(ODD($A74)=$A74,ODD(AQ$2)=AQ$2),AND(EVEN($A74)=$A74,EVEN(AQ$2)=AQ$2)),AQ$1,-100))","v":759.375},{"$f":"IF('Ceiling Speaker Calculator'!$C$29=\"Square\",AR$1,IF(OR(AND(ODD($A74)=$A74,ODD(AR$2)=AR$2),AND(EVEN($A74)=$A74,EVEN(AR$2)=AR$2)),AR$1,-100))","v":778.125},{"$f":"IF('Ceiling Speaker Calculator'!$C$29=\"Square\",AS$1,IF(OR(AND(ODD($A74)=$A74,ODD(AS$2)=AS$2),AND(EVEN($A74)=$A74,EVEN(AS$2)=AS$2)),AS$1,-100))","v":796.875},{"$f":"IF('Ceiling Speaker Calculator'!$C$29=\"Square\",AT$1,IF(OR(AND(ODD($A74)=$A74,ODD(AT$2)=AT$2),AND(EVEN($A74)=$A74,EVEN(AT$2)=AT$2)),AT$1,-100))","v":815.625},{"$f":"IF('Ceiling Speaker Calculator'!$C$29=\"Square\",AU$1,IF(OR(AND(ODD($A74)=$A74,ODD(AU$2)=AU$2),AND(EVEN($A74)=$A74,EVEN(AU$2)=AU$2)),AU$1,-100))","v":834.375},{"$f":"IF('Ceiling Speaker Calculator'!$C$29=\"Square\",AV$1,IF(OR(AND(ODD($A74)=$A74,ODD(AV$2)=AV$2),AND(EVEN($A74)=$A74,EVEN(AV$2)=AV$2)),AV$1,-100))","v":853.125},{"$f":"IF('Ceiling Speaker Calculator'!$C$29=\"Square\",AW$1,IF(OR(AND(ODD($A74)=$A74,ODD(AW$2)=AW$2),AND(EVEN($A74)=$A74,EVEN(AW$2)=AW$2)),AW$1,-100))","v":871.875},{"$f":"IF('Ceiling Speaker Calculator'!$C$29=\"Square\",AX$1,IF(OR(AND(ODD($A74)=$A74,ODD(AX$2)=AX$2),AND(EVEN($A74)=$A74,EVEN(AX$2)=AX$2)),AX$1,-100))","v":890.625},{"$f":"IF('Ceiling Speaker Calculator'!$C$29=\"Square\",AY$1,IF(OR(AND(ODD($A74)=$A74,ODD(AY$2)=AY$2),AND(EVEN($A74)=$A74,EVEN(AY$2)=AY$2)),AY$1,-100))","v":909.375},{"$f":"IF('Ceiling Speaker Calculator'!$C$29=\"Square\",AZ$1,IF(OR(AND(ODD($A74)=$A74,ODD(AZ$2)=AZ$2),AND(EVEN($A74)=$A74,EVEN(AZ$2)=AZ$2)),AZ$1,-100))","v":928.125},{"$f":"IF('Ceiling Speaker Calculator'!$C$29=\"Square\",BA$1,IF(OR(AND(ODD($A74)=$A74,ODD(BA$2)=BA$2),AND(EVEN($A74)=$A74,EVEN(BA$2)=BA$2)),BA$1,-100))","v":946.875},{"$f":"IF('Ceiling Speaker Calculator'!$C$29=\"Square\",BB$1,IF(OR(AND(ODD($A74)=$A74,ODD(BB$2)=BB$2),AND(EVEN($A74)=$A74,EVEN(BB$2)=BB$2)),BB$1,-100))","v":965.625},{"$f":"IF('Ceiling Speaker Calculator'!$C$29=\"Square\",BC$1,IF(OR(AND(ODD($A74)=$A74,ODD(BC$2)=BC$2),AND(EVEN($A74)=$A74,EVEN(BC$2)=BC$2)),BC$1,-100))","v":984.375},{"$f":"IF('Ceiling Speaker Calculator'!$C$29=\"Square\",BD$1,IF(OR(AND(ODD($A74)=$A74,ODD(BD$2)=BD$2),AND(EVEN($A74)=$A74,EVEN(BD$2)=BD$2)),BD$1,-100))","v":1003.125},{"$f":"IF('Ceiling Speaker Calculator'!$C$29=\"Square\",BE$1,IF(OR(AND(ODD($A74)=$A74,ODD(BE$2)=BE$2),AND(EVEN($A74)=$A74,EVEN(BE$2)=BE$2)),BE$1,-100))","v":1021.875},{"$f":"IF('Ceiling Speaker Calculator'!$C$29=\"Square\",BF$1,IF(OR(AND(ODD($A74)=$A74,ODD(BF$2)=BF$2),AND(EVEN($A74)=$A74,EVEN(BF$2)=BF$2)),BF$1,-100))","v":1040.625},{"$f":"IF('Ceiling Speaker Calculator'!$C$29=\"Square\",BG$1,IF(OR(AND(ODD($A74)=$A74,ODD(BG$2)=BG$2),AND(EVEN($A74)=$A74,EVEN(BG$2)=BG$2)),BG$1,-100))","v":1059.375},{"$f":"IF('Ceiling Speaker Calculator'!$C$29=\"Square\",BH$1,IF(OR(AND(ODD($A74)=$A74,ODD(BH$2)=BH$2),AND(EVEN($A74)=$A74,EVEN(BH$2)=BH$2)),BH$1,-100))","v":1078.125},{"$f":"IF('Ceiling Speaker Calculator'!$C$29=\"Square\",BI$1,IF(OR(AND(ODD($A74)=$A74,ODD(BI$2)=BI$2),AND(EVEN($A74)=$A74,EVEN(BI$2)=BI$2)),BI$1,-100))","v":1096.875},{"$f":"IF('Ceiling Speaker Calculator'!$C$29=\"Square\",BJ$1,IF(OR(AND(ODD($A74)=$A74,ODD(BJ$2)=BJ$2),AND(EVEN($A74)=$A74,EVEN(BJ$2)=BJ$2)),BJ$1,-100))","v":1115.625},{"$f":"IF('Ceiling Speaker Calculator'!$C$29=\"Square\",BK$1,IF(OR(AND(ODD($A74)=$A74,ODD(BK$2)=BK$2),AND(EVEN($A74)=$A74,EVEN(BK$2)=BK$2)),BK$1,-100))","v":1134.375},{"$f":"IF('Ceiling Speaker Calculator'!$C$29=\"Square\",BL$1,IF(OR(AND(ODD($A74)=$A74,ODD(BL$2)=BL$2),AND(EVEN($A74)=$A74,EVEN(BL$2)=BL$2)),BL$1,-100))","v":1153.125},{"$f":"IF('Ceiling Speaker Calculator'!$C$29=\"Square\",BM$1,IF(OR(AND(ODD($A74)=$A74,ODD(BM$2)=BM$2),AND(EVEN($A74)=$A74,EVEN(BM$2)=BM$2)),BM$1,-100))","v":1171.875},{"$f":"IF('Ceiling Speaker Calculator'!$C$29=\"Square\",BN$1,IF(OR(AND(ODD($A74)=$A74,ODD(BN$2)=BN$2),AND(EVEN($A74)=$A74,EVEN(BN$2)=BN$2)),BN$1,-100))","v":1190.625},{"$f":"IF('Ceiling Speaker Calculator'!$C$29=\"Square\",BO$1,IF(OR(AND(ODD($A74)=$A74,ODD(BO$2)=BO$2),AND(EVEN($A74)=$A74,EVEN(BO$2)=BO$2)),BO$1,-100))","v":1209.375},{"$f":"IF('Ceiling Speaker Calculator'!$C$29=\"Square\",BP$1,IF(OR(AND(ODD($A74)=$A74,ODD(BP$2)=BP$2),AND(EVEN($A74)=$A74,EVEN(BP$2)=BP$2)),BP$1,-100))","v":1228.125},{"$f":"IF('Ceiling Speaker Calculator'!$C$29=\"Square\",BQ$1,IF(OR(AND(ODD($A74)=$A74,ODD(BQ$2)=BQ$2),AND(EVEN($A74)=$A74,EVEN(BQ$2)=BQ$2)),BQ$1,-100))","v":1246.875},{"$f":"IF('Ceiling Speaker Calculator'!$C$29=\"Square\",BR$1,IF(OR(AND(ODD($A74)=$A74,ODD(BR$2)=BR$2),AND(EVEN($A74)=$A74,EVEN(BR$2)=BR$2)),BR$1,-100))","v":1265.625},{"$f":"IF('Ceiling Speaker Calculator'!$C$29=\"Square\",BS$1,IF(OR(AND(ODD($A74)=$A74,ODD(BS$2)=BS$2),AND(EVEN($A74)=$A74,EVEN(BS$2)=BS$2)),BS$1,-100))","v":1284.375},{"$f":"IF('Ceiling Speaker Calculator'!$C$29=\"Square\",BT$1,IF(OR(AND(ODD($A74)=$A74,ODD(BT$2)=BT$2),AND(EVEN($A74)=$A74,EVEN(BT$2)=BT$2)),BT$1,-100))","v":1303.125},{"$f":"IF('Ceiling Speaker Calculator'!$C$29=\"Square\",BU$1,IF(OR(AND(ODD($A74)=$A74,ODD(BU$2)=BU$2),AND(EVEN($A74)=$A74,EVEN(BU$2)=BU$2)),BU$1,-100))","v":1321.875},{"$f":"IF('Ceiling Speaker Calculator'!$C$29=\"Square\",BV$1,IF(OR(AND(ODD($A74)=$A74,ODD(BV$2)=BV$2),AND(EVEN($A74)=$A74,EVEN(BV$2)=BV$2)),BV$1,-100))","v":1340.625},{"$f":"IF('Ceiling Speaker Calculator'!$C$29=\"Square\",BW$1,IF(OR(AND(ODD($A74)=$A74,ODD(BW$2)=BW$2),AND(EVEN($A74)=$A74,EVEN(BW$2)=BW$2)),BW$1,-100))","v":1359.375},{"$f":"IF('Ceiling Speaker Calculator'!$C$29=\"Square\",BX$1,IF(OR(AND(ODD($A74)=$A74,ODD(BX$2)=BX$2),AND(EVEN($A74)=$A74,EVEN(BX$2)=BX$2)),BX$1,-100))","v":1378.125},{"$f":"IF('Ceiling Speaker Calculator'!$C$29=\"Square\",BY$1,IF(OR(AND(ODD($A74)=$A74,ODD(BY$2)=BY$2),AND(EVEN($A74)=$A74,EVEN(BY$2)=BY$2)),BY$1,-100))","v":1396.875},{"$f":"IF('Ceiling Speaker Calculator'!$C$29=\"Square\",BZ$1,IF(OR(AND(ODD($A74)=$A74,ODD(BZ$2)=BZ$2),AND(EVEN($A74)=$A74,EVEN(BZ$2)=BZ$2)),BZ$1,-100))","v":1415.625},{"$f":"IF('Ceiling Speaker Calculator'!$C$29=\"Square\",CA$1,IF(OR(AND(ODD($A74)=$A74,ODD(CA$2)=CA$2),AND(EVEN($A74)=$A74,EVEN(CA$2)=CA$2)),CA$1,-100))","v":1434.375},{"$f":"IF('Ceiling Speaker Calculator'!$C$29=\"Square\",CB$1,IF(OR(AND(ODD($A74)=$A74,ODD(CB$2)=CB$2),AND(EVEN($A74)=$A74,EVEN(CB$2)=CB$2)),CB$1,-100))","v":1453.125},{"$f":"IF('Ceiling Speaker Calculator'!$C$29=\"Square\",CC$1,IF(OR(AND(ODD($A74)=$A74,ODD(CC$2)=CC$2),AND(EVEN($A74)=$A74,EVEN(CC$2)=CC$2)),CC$1,-100))","v":1471.875},{"$f":"IF('Ceiling Speaker Calculator'!$C$29=\"Square\",CD$1,IF(OR(AND(ODD($A74)=$A74,ODD(CD$2)=CD$2),AND(EVEN($A74)=$A74,EVEN(CD$2)=CD$2)),CD$1,-100))","v":1490.625},{"$f":"IF('Ceiling Speaker Calculator'!$C$29=\"Square\",CE$1,IF(OR(AND(ODD($A74)=$A74,ODD(CE$2)=CE$2),AND(EVEN($A74)=$A74,EVEN(CE$2)=CE$2)),CE$1,-100))","v":1509.375},{"$f":"IF('Ceiling Speaker Calculator'!$C$29=\"Square\",CF$1,IF(OR(AND(ODD($A74)=$A74,ODD(CF$2)=CF$2),AND(EVEN($A74)=$A74,EVEN(CF$2)=CF$2)),CF$1,-100))","v":1528.125},{"$f":"IF('Ceiling Speaker Calculator'!$C$29=\"Square\",CG$1,IF(OR(AND(ODD($A74)=$A74,ODD(CG$2)=CG$2),AND(EVEN($A74)=$A74,EVEN(CG$2)=CG$2)),CG$1,-100))","v":1546.875},{"$f":"IF('Ceiling Speaker Calculator'!$C$29=\"Square\",CH$1,IF(OR(AND(ODD($A74)=$A74,ODD(CH$2)=CH$2),AND(EVEN($A74)=$A74,EVEN(CH$2)=CH$2)),CH$1,-100))","v":1565.625},{"$f":"IF('Ceiling Speaker Calculator'!$C$29=\"Square\",CI$1,IF(OR(AND(ODD($A74)=$A74,ODD(CI$2)=CI$2),AND(EVEN($A74)=$A74,EVEN(CI$2)=CI$2)),CI$1,-100))","v":1584.375},{"$f":"IF('Ceiling Speaker Calculator'!$C$29=\"Square\",CJ$1,IF(OR(AND(ODD($A74)=$A74,ODD(CJ$2)=CJ$2),AND(EVEN($A74)=$A74,EVEN(CJ$2)=CJ$2)),CJ$1,-100))","v":1603.125},{"$f":"IF('Ceiling Speaker Calculator'!$C$29=\"Square\",CK$1,IF(OR(AND(ODD($A74)=$A74,ODD(CK$2)=CK$2),AND(EVEN($A74)=$A74,EVEN(CK$2)=CK$2)),CK$1,-100))","v":1621.875},{"$f":"IF('Ceiling Speaker Calculator'!$C$29=\"Square\",CL$1,IF(OR(AND(ODD($A74)=$A74,ODD(CL$2)=CL$2),AND(EVEN($A74)=$A74,EVEN(CL$2)=CL$2)),CL$1,-100))","v":1640.625},{"$f":"IF('Ceiling Speaker Calculator'!$C$29=\"Square\",CM$1,IF(OR(AND(ODD($A74)=$A74,ODD(CM$2)=CM$2),AND(EVEN($A74)=$A74,EVEN(CM$2)=CM$2)),CM$1,-100))","v":1659.375},{"$f":"IF('Ceiling Speaker Calculator'!$C$29=\"Square\",CN$1,IF(OR(AND(ODD($A74)=$A74,ODD(CN$2)=CN$2),AND(EVEN($A74)=$A74,EVEN(CN$2)=CN$2)),CN$1,-100))","v":1678.125},{"$f":"IF('Ceiling Speaker Calculator'!$C$29=\"Square\",CO$1,IF(OR(AND(ODD($A74)=$A74,ODD(CO$2)=CO$2),AND(EVEN($A74)=$A74,EVEN(CO$2)=CO$2)),CO$1,-100))","v":1696.875},{"$f":"IF('Ceiling Speaker Calculator'!$C$29=\"Square\",CP$1,IF(OR(AND(ODD($A74)=$A74,ODD(CP$2)=CP$2),AND(EVEN($A74)=$A74,EVEN(CP$2)=CP$2)),CP$1,-100))","v":1715.625},{"$f":"IF('Ceiling Speaker Calculator'!$C$29=\"Square\",CQ$1,IF(OR(AND(ODD($A74)=$A74,ODD(CQ$2)=CQ$2),AND(EVEN($A74)=$A74,EVEN(CQ$2)=CQ$2)),CQ$1,-100))","v":1734.375},{"$f":"IF('Ceiling Speaker Calculator'!$C$29=\"Square\",CR$1,IF(OR(AND(ODD($A74)=$A74,ODD(CR$2)=CR$2),AND(EVEN($A74)=$A74,EVEN(CR$2)=CR$2)),CR$1,-100))","v":1753.125},{"$f":"IF('Ceiling Speaker Calculator'!$C$29=\"Square\",CS$1,IF(OR(AND(ODD($A74)=$A74,ODD(CS$2)=CS$2),AND(EVEN($A74)=$A74,EVEN(CS$2)=CS$2)),CS$1,-100))","v":1771.875},{"$f":"IF('Ceiling Speaker Calculator'!$C$29=\"Square\",CT$1,IF(OR(AND(ODD($A74)=$A74,ODD(CT$2)=CT$2),AND(EVEN($A74)=$A74,EVEN(CT$2)=CT$2)),CT$1,-100))","v":1790.625},{"$f":"IF('Ceiling Speaker Calculator'!$C$29=\"Square\",CU$1,IF(OR(AND(ODD($A74)=$A74,ODD(CU$2)=CU$2),AND(EVEN($A74)=$A74,EVEN(CU$2)=CU$2)),CU$1,-100))","v":1809.375},{"$f":"IF('Ceiling Speaker Calculator'!$C$29=\"Square\",CV$1,IF(OR(AND(ODD($A74)=$A74,ODD(CV$2)=CV$2),AND(EVEN($A74)=$A74,EVEN(CV$2)=CV$2)),CV$1,-100))","v":1828.125},{"$f":"IF('Ceiling Speaker Calculator'!$C$29=\"Square\",CW$1,IF(OR(AND(ODD($A74)=$A74,ODD(CW$2)=CW$2),AND(EVEN($A74)=$A74,EVEN(CW$2)=CW$2)),CW$1,-100))","v":1846.875},{"$f":"IF('Ceiling Speaker Calculator'!$C$29=\"Square\",CX$1,IF(OR(AND(ODD($A74)=$A74,ODD(CX$2)=CX$2),AND(EVEN($A74)=$A74,EVEN(CX$2)=CX$2)),CX$1,-100))","v":1865.625}]
[73,{"$f":"B74+'Ceiling Speaker Calculator'!$K$16","v":1450},{"$f":"IF('Ceiling Speaker Calculator'!$C$29=\"Square\",C$1,IF(OR(AND(ODD($A75)=$A75,ODD(C$2)=C$2),AND(EVEN($A75)=$A75,EVEN(C$2)=C$2)),C$1,-100))","v":9.375},{"$f":"IF('Ceiling Speaker Calculator'!$C$29=\"Square\",D$1,IF(OR(AND(ODD($A75)=$A75,ODD(D$2)=D$2),AND(EVEN($A75)=$A75,EVEN(D$2)=D$2)),D$1,-100))","v":28.125},{"$f":"IF('Ceiling Speaker Calculator'!$C$29=\"Square\",E$1,IF(OR(AND(ODD($A75)=$A75,ODD(E$2)=E$2),AND(EVEN($A75)=$A75,EVEN(E$2)=E$2)),E$1,-100))","v":46.875},{"$f":"IF('Ceiling Speaker Calculator'!$C$29=\"Square\",F$1,IF(OR(AND(ODD($A75)=$A75,ODD(F$2)=F$2),AND(EVEN($A75)=$A75,EVEN(F$2)=F$2)),F$1,-100))","v":65.625},{"$f":"IF('Ceiling Speaker Calculator'!$C$29=\"Square\",G$1,IF(OR(AND(ODD($A75)=$A75,ODD(G$2)=G$2),AND(EVEN($A75)=$A75,EVEN(G$2)=G$2)),G$1,-100))","v":84.375},{"$f":"IF('Ceiling Speaker Calculator'!$C$29=\"Square\",H$1,IF(OR(AND(ODD($A75)=$A75,ODD(H$2)=H$2),AND(EVEN($A75)=$A75,EVEN(H$2)=H$2)),H$1,-100))","v":103.125},{"$f":"IF('Ceiling Speaker Calculator'!$C$29=\"Square\",I$1,IF(OR(AND(ODD($A75)=$A75,ODD(I$2)=I$2),AND(EVEN($A75)=$A75,EVEN(I$2)=I$2)),I$1,-100))","v":121.875},{"$f":"IF('Ceiling Speaker Calculator'!$C$29=\"Square\",J$1,IF(OR(AND(ODD($A75)=$A75,ODD(J$2)=J$2),AND(EVEN($A75)=$A75,EVEN(J$2)=J$2)),J$1,-100))","v":140.625},{"$f":"IF('Ceiling Speaker Calculator'!$C$29=\"Square\",K$1,IF(OR(AND(ODD($A75)=$A75,ODD(K$2)=K$2),AND(EVEN($A75)=$A75,EVEN(K$2)=K$2)),K$1,-100))","v":159.375},{"$f":"IF('Ceiling Speaker Calculator'!$C$29=\"Square\",L$1,IF(OR(AND(ODD($A75)=$A75,ODD(L$2)=L$2),AND(EVEN($A75)=$A75,EVEN(L$2)=L$2)),L$1,-100))","v":178.125},{"$f":"IF('Ceiling Speaker Calculator'!$C$29=\"Square\",M$1,IF(OR(AND(ODD($A75)=$A75,ODD(M$2)=M$2),AND(EVEN($A75)=$A75,EVEN(M$2)=M$2)),M$1,-100))","v":196.875},{"$f":"IF('Ceiling Speaker Calculator'!$C$29=\"Square\",N$1,IF(OR(AND(ODD($A75)=$A75,ODD(N$2)=N$2),AND(EVEN($A75)=$A75,EVEN(N$2)=N$2)),N$1,-100))","v":215.625},{"$f":"IF('Ceiling Speaker Calculator'!$C$29=\"Square\",O$1,IF(OR(AND(ODD($A75)=$A75,ODD(O$2)=O$2),AND(EVEN($A75)=$A75,EVEN(O$2)=O$2)),O$1,-100))","v":234.375},{"$f":"IF('Ceiling Speaker Calculator'!$C$29=\"Square\",P$1,IF(OR(AND(ODD($A75)=$A75,ODD(P$2)=P$2),AND(EVEN($A75)=$A75,EVEN(P$2)=P$2)),P$1,-100))","v":253.125},{"$f":"IF('Ceiling Speaker Calculator'!$C$29=\"Square\",Q$1,IF(OR(AND(ODD($A75)=$A75,ODD(Q$2)=Q$2),AND(EVEN($A75)=$A75,EVEN(Q$2)=Q$2)),Q$1,-100))","v":271.875},{"$f":"IF('Ceiling Speaker Calculator'!$C$29=\"Square\",R$1,IF(OR(AND(ODD($A75)=$A75,ODD(R$2)=R$2),AND(EVEN($A75)=$A75,EVEN(R$2)=R$2)),R$1,-100))","v":290.625},{"$f":"IF('Ceiling Speaker Calculator'!$C$29=\"Square\",S$1,IF(OR(AND(ODD($A75)=$A75,ODD(S$2)=S$2),AND(EVEN($A75)=$A75,EVEN(S$2)=S$2)),S$1,-100))","v":309.375},{"$f":"IF('Ceiling Speaker Calculator'!$C$29=\"Square\",T$1,IF(OR(AND(ODD($A75)=$A75,ODD(T$2)=T$2),AND(EVEN($A75)=$A75,EVEN(T$2)=T$2)),T$1,-100))","v":328.125},{"$f":"IF('Ceiling Speaker Calculator'!$C$29=\"Square\",U$1,IF(OR(AND(ODD($A75)=$A75,ODD(U$2)=U$2),AND(EVEN($A75)=$A75,EVEN(U$2)=U$2)),U$1,-100))","v":346.875},{"$f":"IF('Ceiling Speaker Calculator'!$C$29=\"Square\",V$1,IF(OR(AND(ODD($A75)=$A75,ODD(V$2)=V$2),AND(EVEN($A75)=$A75,EVEN(V$2)=V$2)),V$1,-100))","v":365.625},{"$f":"IF('Ceiling Speaker Calculator'!$C$29=\"Square\",W$1,IF(OR(AND(ODD($A75)=$A75,ODD(W$2)=W$2),AND(EVEN($A75)=$A75,EVEN(W$2)=W$2)),W$1,-100))","v":384.375},{"$f":"IF('Ceiling Speaker Calculator'!$C$29=\"Square\",X$1,IF(OR(AND(ODD($A75)=$A75,ODD(X$2)=X$2),AND(EVEN($A75)=$A75,EVEN(X$2)=X$2)),X$1,-100))","v":403.125},{"$f":"IF('Ceiling Speaker Calculator'!$C$29=\"Square\",Y$1,IF(OR(AND(ODD($A75)=$A75,ODD(Y$2)=Y$2),AND(EVEN($A75)=$A75,EVEN(Y$2)=Y$2)),Y$1,-100))","v":421.875},{"$f":"IF('Ceiling Speaker Calculator'!$C$29=\"Square\",Z$1,IF(OR(AND(ODD($A75)=$A75,ODD(Z$2)=Z$2),AND(EVEN($A75)=$A75,EVEN(Z$2)=Z$2)),Z$1,-100))","v":440.625},{"$f":"IF('Ceiling Speaker Calculator'!$C$29=\"Square\",AA$1,IF(OR(AND(ODD($A75)=$A75,ODD(AA$2)=AA$2),AND(EVEN($A75)=$A75,EVEN(AA$2)=AA$2)),AA$1,-100))","v":459.375},{"$f":"IF('Ceiling Speaker Calculator'!$C$29=\"Square\",AB$1,IF(OR(AND(ODD($A75)=$A75,ODD(AB$2)=AB$2),AND(EVEN($A75)=$A75,EVEN(AB$2)=AB$2)),AB$1,-100))","v":478.125},{"$f":"IF('Ceiling Speaker Calculator'!$C$29=\"Square\",AC$1,IF(OR(AND(ODD($A75)=$A75,ODD(AC$2)=AC$2),AND(EVEN($A75)=$A75,EVEN(AC$2)=AC$2)),AC$1,-100))","v":496.875},{"$f":"IF('Ceiling Speaker Calculator'!$C$29=\"Square\",AD$1,IF(OR(AND(ODD($A75)=$A75,ODD(AD$2)=AD$2),AND(EVEN($A75)=$A75,EVEN(AD$2)=AD$2)),AD$1,-100))","v":515.625},{"$f":"IF('Ceiling Speaker Calculator'!$C$29=\"Square\",AE$1,IF(OR(AND(ODD($A75)=$A75,ODD(AE$2)=AE$2),AND(EVEN($A75)=$A75,EVEN(AE$2)=AE$2)),AE$1,-100))","v":534.375},{"$f":"IF('Ceiling Speaker Calculator'!$C$29=\"Square\",AF$1,IF(OR(AND(ODD($A75)=$A75,ODD(AF$2)=AF$2),AND(EVEN($A75)=$A75,EVEN(AF$2)=AF$2)),AF$1,-100))","v":553.125},{"$f":"IF('Ceiling Speaker Calculator'!$C$29=\"Square\",AG$1,IF(OR(AND(ODD($A75)=$A75,ODD(AG$2)=AG$2),AND(EVEN($A75)=$A75,EVEN(AG$2)=AG$2)),AG$1,-100))","v":571.875},{"$f":"IF('Ceiling Speaker Calculator'!$C$29=\"Square\",AH$1,IF(OR(AND(ODD($A75)=$A75,ODD(AH$2)=AH$2),AND(EVEN($A75)=$A75,EVEN(AH$2)=AH$2)),AH$1,-100))","v":590.625},{"$f":"IF('Ceiling Speaker Calculator'!$C$29=\"Square\",AI$1,IF(OR(AND(ODD($A75)=$A75,ODD(AI$2)=AI$2),AND(EVEN($A75)=$A75,EVEN(AI$2)=AI$2)),AI$1,-100))","v":609.375},{"$f":"IF('Ceiling Speaker Calculator'!$C$29=\"Square\",AJ$1,IF(OR(AND(ODD($A75)=$A75,ODD(AJ$2)=AJ$2),AND(EVEN($A75)=$A75,EVEN(AJ$2)=AJ$2)),AJ$1,-100))","v":628.125},{"$f":"IF('Ceiling Speaker Calculator'!$C$29=\"Square\",AK$1,IF(OR(AND(ODD($A75)=$A75,ODD(AK$2)=AK$2),AND(EVEN($A75)=$A75,EVEN(AK$2)=AK$2)),AK$1,-100))","v":646.875},{"$f":"IF('Ceiling Speaker Calculator'!$C$29=\"Square\",AL$1,IF(OR(AND(ODD($A75)=$A75,ODD(AL$2)=AL$2),AND(EVEN($A75)=$A75,EVEN(AL$2)=AL$2)),AL$1,-100))","v":665.625},{"$f":"IF('Ceiling Speaker Calculator'!$C$29=\"Square\",AM$1,IF(OR(AND(ODD($A75)=$A75,ODD(AM$2)=AM$2),AND(EVEN($A75)=$A75,EVEN(AM$2)=AM$2)),AM$1,-100))","v":684.375},{"$f":"IF('Ceiling Speaker Calculator'!$C$29=\"Square\",AN$1,IF(OR(AND(ODD($A75)=$A75,ODD(AN$2)=AN$2),AND(EVEN($A75)=$A75,EVEN(AN$2)=AN$2)),AN$1,-100))","v":703.125},{"$f":"IF('Ceiling Speaker Calculator'!$C$29=\"Square\",AO$1,IF(OR(AND(ODD($A75)=$A75,ODD(AO$2)=AO$2),AND(EVEN($A75)=$A75,EVEN(AO$2)=AO$2)),AO$1,-100))","v":721.875},{"$f":"IF('Ceiling Speaker Calculator'!$C$29=\"Square\",AP$1,IF(OR(AND(ODD($A75)=$A75,ODD(AP$2)=AP$2),AND(EVEN($A75)=$A75,EVEN(AP$2)=AP$2)),AP$1,-100))","v":740.625},{"$f":"IF('Ceiling Speaker Calculator'!$C$29=\"Square\",AQ$1,IF(OR(AND(ODD($A75)=$A75,ODD(AQ$2)=AQ$2),AND(EVEN($A75)=$A75,EVEN(AQ$2)=AQ$2)),AQ$1,-100))","v":759.375},{"$f":"IF('Ceiling Speaker Calculator'!$C$29=\"Square\",AR$1,IF(OR(AND(ODD($A75)=$A75,ODD(AR$2)=AR$2),AND(EVEN($A75)=$A75,EVEN(AR$2)=AR$2)),AR$1,-100))","v":778.125},{"$f":"IF('Ceiling Speaker Calculator'!$C$29=\"Square\",AS$1,IF(OR(AND(ODD($A75)=$A75,ODD(AS$2)=AS$2),AND(EVEN($A75)=$A75,EVEN(AS$2)=AS$2)),AS$1,-100))","v":796.875},{"$f":"IF('Ceiling Speaker Calculator'!$C$29=\"Square\",AT$1,IF(OR(AND(ODD($A75)=$A75,ODD(AT$2)=AT$2),AND(EVEN($A75)=$A75,EVEN(AT$2)=AT$2)),AT$1,-100))","v":815.625},{"$f":"IF('Ceiling Speaker Calculator'!$C$29=\"Square\",AU$1,IF(OR(AND(ODD($A75)=$A75,ODD(AU$2)=AU$2),AND(EVEN($A75)=$A75,EVEN(AU$2)=AU$2)),AU$1,-100))","v":834.375},{"$f":"IF('Ceiling Speaker Calculator'!$C$29=\"Square\",AV$1,IF(OR(AND(ODD($A75)=$A75,ODD(AV$2)=AV$2),AND(EVEN($A75)=$A75,EVEN(AV$2)=AV$2)),AV$1,-100))","v":853.125},{"$f":"IF('Ceiling Speaker Calculator'!$C$29=\"Square\",AW$1,IF(OR(AND(ODD($A75)=$A75,ODD(AW$2)=AW$2),AND(EVEN($A75)=$A75,EVEN(AW$2)=AW$2)),AW$1,-100))","v":871.875},{"$f":"IF('Ceiling Speaker Calculator'!$C$29=\"Square\",AX$1,IF(OR(AND(ODD($A75)=$A75,ODD(AX$2)=AX$2),AND(EVEN($A75)=$A75,EVEN(AX$2)=AX$2)),AX$1,-100))","v":890.625},{"$f":"IF('Ceiling Speaker Calculator'!$C$29=\"Square\",AY$1,IF(OR(AND(ODD($A75)=$A75,ODD(AY$2)=AY$2),AND(EVEN($A75)=$A75,EVEN(AY$2)=AY$2)),AY$1,-100))","v":909.375},{"$f":"IF('Ceiling Speaker Calculator'!$C$29=\"Square\",AZ$1,IF(OR(AND(ODD($A75)=$A75,ODD(AZ$2)=AZ$2),AND(EVEN($A75)=$A75,EVEN(AZ$2)=AZ$2)),AZ$1,-100))","v":928.125},{"$f":"IF('Ceiling Speaker Calculator'!$C$29=\"Square\",BA$1,IF(OR(AND(ODD($A75)=$A75,ODD(BA$2)=BA$2),AND(EVEN($A75)=$A75,EVEN(BA$2)=BA$2)),BA$1,-100))","v":946.875},{"$f":"IF('Ceiling Speaker Calculator'!$C$29=\"Square\",BB$1,IF(OR(AND(ODD($A75)=$A75,ODD(BB$2)=BB$2),AND(EVEN($A75)=$A75,EVEN(BB$2)=BB$2)),BB$1,-100))","v":965.625},{"$f":"IF('Ceiling Speaker Calculator'!$C$29=\"Square\",BC$1,IF(OR(AND(ODD($A75)=$A75,ODD(BC$2)=BC$2),AND(EVEN($A75)=$A75,EVEN(BC$2)=BC$2)),BC$1,-100))","v":984.375},{"$f":"IF('Ceiling Speaker Calculator'!$C$29=\"Square\",BD$1,IF(OR(AND(ODD($A75)=$A75,ODD(BD$2)=BD$2),AND(EVEN($A75)=$A75,EVEN(BD$2)=BD$2)),BD$1,-100))","v":1003.125},{"$f":"IF('Ceiling Speaker Calculator'!$C$29=\"Square\",BE$1,IF(OR(AND(ODD($A75)=$A75,ODD(BE$2)=BE$2),AND(EVEN($A75)=$A75,EVEN(BE$2)=BE$2)),BE$1,-100))","v":1021.875},{"$f":"IF('Ceiling Speaker Calculator'!$C$29=\"Square\",BF$1,IF(OR(AND(ODD($A75)=$A75,ODD(BF$2)=BF$2),AND(EVEN($A75)=$A75,EVEN(BF$2)=BF$2)),BF$1,-100))","v":1040.625},{"$f":"IF('Ceiling Speaker Calculator'!$C$29=\"Square\",BG$1,IF(OR(AND(ODD($A75)=$A75,ODD(BG$2)=BG$2),AND(EVEN($A75)=$A75,EVEN(BG$2)=BG$2)),BG$1,-100))","v":1059.375},{"$f":"IF('Ceiling Speaker Calculator'!$C$29=\"Square\",BH$1,IF(OR(AND(ODD($A75)=$A75,ODD(BH$2)=BH$2),AND(EVEN($A75)=$A75,EVEN(BH$2)=BH$2)),BH$1,-100))","v":1078.125},{"$f":"IF('Ceiling Speaker Calculator'!$C$29=\"Square\",BI$1,IF(OR(AND(ODD($A75)=$A75,ODD(BI$2)=BI$2),AND(EVEN($A75)=$A75,EVEN(BI$2)=BI$2)),BI$1,-100))","v":1096.875},{"$f":"IF('Ceiling Speaker Calculator'!$C$29=\"Square\",BJ$1,IF(OR(AND(ODD($A75)=$A75,ODD(BJ$2)=BJ$2),AND(EVEN($A75)=$A75,EVEN(BJ$2)=BJ$2)),BJ$1,-100))","v":1115.625},{"$f":"IF('Ceiling Speaker Calculator'!$C$29=\"Square\",BK$1,IF(OR(AND(ODD($A75)=$A75,ODD(BK$2)=BK$2),AND(EVEN($A75)=$A75,EVEN(BK$2)=BK$2)),BK$1,-100))","v":1134.375},{"$f":"IF('Ceiling Speaker Calculator'!$C$29=\"Square\",BL$1,IF(OR(AND(ODD($A75)=$A75,ODD(BL$2)=BL$2),AND(EVEN($A75)=$A75,EVEN(BL$2)=BL$2)),BL$1,-100))","v":1153.125},{"$f":"IF('Ceiling Speaker Calculator'!$C$29=\"Square\",BM$1,IF(OR(AND(ODD($A75)=$A75,ODD(BM$2)=BM$2),AND(EVEN($A75)=$A75,EVEN(BM$2)=BM$2)),BM$1,-100))","v":1171.875},{"$f":"IF('Ceiling Speaker Calculator'!$C$29=\"Square\",BN$1,IF(OR(AND(ODD($A75)=$A75,ODD(BN$2)=BN$2),AND(EVEN($A75)=$A75,EVEN(BN$2)=BN$2)),BN$1,-100))","v":1190.625},{"$f":"IF('Ceiling Speaker Calculator'!$C$29=\"Square\",BO$1,IF(OR(AND(ODD($A75)=$A75,ODD(BO$2)=BO$2),AND(EVEN($A75)=$A75,EVEN(BO$2)=BO$2)),BO$1,-100))","v":1209.375},{"$f":"IF('Ceiling Speaker Calculator'!$C$29=\"Square\",BP$1,IF(OR(AND(ODD($A75)=$A75,ODD(BP$2)=BP$2),AND(EVEN($A75)=$A75,EVEN(BP$2)=BP$2)),BP$1,-100))","v":1228.125},{"$f":"IF('Ceiling Speaker Calculator'!$C$29=\"Square\",BQ$1,IF(OR(AND(ODD($A75)=$A75,ODD(BQ$2)=BQ$2),AND(EVEN($A75)=$A75,EVEN(BQ$2)=BQ$2)),BQ$1,-100))","v":1246.875},{"$f":"IF('Ceiling Speaker Calculator'!$C$29=\"Square\",BR$1,IF(OR(AND(ODD($A75)=$A75,ODD(BR$2)=BR$2),AND(EVEN($A75)=$A75,EVEN(BR$2)=BR$2)),BR$1,-100))","v":1265.625},{"$f":"IF('Ceiling Speaker Calculator'!$C$29=\"Square\",BS$1,IF(OR(AND(ODD($A75)=$A75,ODD(BS$2)=BS$2),AND(EVEN($A75)=$A75,EVEN(BS$2)=BS$2)),BS$1,-100))","v":1284.375},{"$f":"IF('Ceiling Speaker Calculator'!$C$29=\"Square\",BT$1,IF(OR(AND(ODD($A75)=$A75,ODD(BT$2)=BT$2),AND(EVEN($A75)=$A75,EVEN(BT$2)=BT$2)),BT$1,-100))","v":1303.125},{"$f":"IF('Ceiling Speaker Calculator'!$C$29=\"Square\",BU$1,IF(OR(AND(ODD($A75)=$A75,ODD(BU$2)=BU$2),AND(EVEN($A75)=$A75,EVEN(BU$2)=BU$2)),BU$1,-100))","v":1321.875},{"$f":"IF('Ceiling Speaker Calculator'!$C$29=\"Square\",BV$1,IF(OR(AND(ODD($A75)=$A75,ODD(BV$2)=BV$2),AND(EVEN($A75)=$A75,EVEN(BV$2)=BV$2)),BV$1,-100))","v":1340.625},{"$f":"IF('Ceiling Speaker Calculator'!$C$29=\"Square\",BW$1,IF(OR(AND(ODD($A75)=$A75,ODD(BW$2)=BW$2),AND(EVEN($A75)=$A75,EVEN(BW$2)=BW$2)),BW$1,-100))","v":1359.375},{"$f":"IF('Ceiling Speaker Calculator'!$C$29=\"Square\",BX$1,IF(OR(AND(ODD($A75)=$A75,ODD(BX$2)=BX$2),AND(EVEN($A75)=$A75,EVEN(BX$2)=BX$2)),BX$1,-100))","v":1378.125},{"$f":"IF('Ceiling Speaker Calculator'!$C$29=\"Square\",BY$1,IF(OR(AND(ODD($A75)=$A75,ODD(BY$2)=BY$2),AND(EVEN($A75)=$A75,EVEN(BY$2)=BY$2)),BY$1,-100))","v":1396.875},{"$f":"IF('Ceiling Speaker Calculator'!$C$29=\"Square\",BZ$1,IF(OR(AND(ODD($A75)=$A75,ODD(BZ$2)=BZ$2),AND(EVEN($A75)=$A75,EVEN(BZ$2)=BZ$2)),BZ$1,-100))","v":1415.625},{"$f":"IF('Ceiling Speaker Calculator'!$C$29=\"Square\",CA$1,IF(OR(AND(ODD($A75)=$A75,ODD(CA$2)=CA$2),AND(EVEN($A75)=$A75,EVEN(CA$2)=CA$2)),CA$1,-100))","v":1434.375},{"$f":"IF('Ceiling Speaker Calculator'!$C$29=\"Square\",CB$1,IF(OR(AND(ODD($A75)=$A75,ODD(CB$2)=CB$2),AND(EVEN($A75)=$A75,EVEN(CB$2)=CB$2)),CB$1,-100))","v":1453.125},{"$f":"IF('Ceiling Speaker Calculator'!$C$29=\"Square\",CC$1,IF(OR(AND(ODD($A75)=$A75,ODD(CC$2)=CC$2),AND(EVEN($A75)=$A75,EVEN(CC$2)=CC$2)),CC$1,-100))","v":1471.875},{"$f":"IF('Ceiling Speaker Calculator'!$C$29=\"Square\",CD$1,IF(OR(AND(ODD($A75)=$A75,ODD(CD$2)=CD$2),AND(EVEN($A75)=$A75,EVEN(CD$2)=CD$2)),CD$1,-100))","v":1490.625},{"$f":"IF('Ceiling Speaker Calculator'!$C$29=\"Square\",CE$1,IF(OR(AND(ODD($A75)=$A75,ODD(CE$2)=CE$2),AND(EVEN($A75)=$A75,EVEN(CE$2)=CE$2)),CE$1,-100))","v":1509.375},{"$f":"IF('Ceiling Speaker Calculator'!$C$29=\"Square\",CF$1,IF(OR(AND(ODD($A75)=$A75,ODD(CF$2)=CF$2),AND(EVEN($A75)=$A75,EVEN(CF$2)=CF$2)),CF$1,-100))","v":1528.125},{"$f":"IF('Ceiling Speaker Calculator'!$C$29=\"Square\",CG$1,IF(OR(AND(ODD($A75)=$A75,ODD(CG$2)=CG$2),AND(EVEN($A75)=$A75,EVEN(CG$2)=CG$2)),CG$1,-100))","v":1546.875},{"$f":"IF('Ceiling Speaker Calculator'!$C$29=\"Square\",CH$1,IF(OR(AND(ODD($A75)=$A75,ODD(CH$2)=CH$2),AND(EVEN($A75)=$A75,EVEN(CH$2)=CH$2)),CH$1,-100))","v":1565.625},{"$f":"IF('Ceiling Speaker Calculator'!$C$29=\"Square\",CI$1,IF(OR(AND(ODD($A75)=$A75,ODD(CI$2)=CI$2),AND(EVEN($A75)=$A75,EVEN(CI$2)=CI$2)),CI$1,-100))","v":1584.375},{"$f":"IF('Ceiling Speaker Calculator'!$C$29=\"Square\",CJ$1,IF(OR(AND(ODD($A75)=$A75,ODD(CJ$2)=CJ$2),AND(EVEN($A75)=$A75,EVEN(CJ$2)=CJ$2)),CJ$1,-100))","v":1603.125},{"$f":"IF('Ceiling Speaker Calculator'!$C$29=\"Square\",CK$1,IF(OR(AND(ODD($A75)=$A75,ODD(CK$2)=CK$2),AND(EVEN($A75)=$A75,EVEN(CK$2)=CK$2)),CK$1,-100))","v":1621.875},{"$f":"IF('Ceiling Speaker Calculator'!$C$29=\"Square\",CL$1,IF(OR(AND(ODD($A75)=$A75,ODD(CL$2)=CL$2),AND(EVEN($A75)=$A75,EVEN(CL$2)=CL$2)),CL$1,-100))","v":1640.625},{"$f":"IF('Ceiling Speaker Calculator'!$C$29=\"Square\",CM$1,IF(OR(AND(ODD($A75)=$A75,ODD(CM$2)=CM$2),AND(EVEN($A75)=$A75,EVEN(CM$2)=CM$2)),CM$1,-100))","v":1659.375},{"$f":"IF('Ceiling Speaker Calculator'!$C$29=\"Square\",CN$1,IF(OR(AND(ODD($A75)=$A75,ODD(CN$2)=CN$2),AND(EVEN($A75)=$A75,EVEN(CN$2)=CN$2)),CN$1,-100))","v":1678.125},{"$f":"IF('Ceiling Speaker Calculator'!$C$29=\"Square\",CO$1,IF(OR(AND(ODD($A75)=$A75,ODD(CO$2)=CO$2),AND(EVEN($A75)=$A75,EVEN(CO$2)=CO$2)),CO$1,-100))","v":1696.875},{"$f":"IF('Ceiling Speaker Calculator'!$C$29=\"Square\",CP$1,IF(OR(AND(ODD($A75)=$A75,ODD(CP$2)=CP$2),AND(EVEN($A75)=$A75,EVEN(CP$2)=CP$2)),CP$1,-100))","v":1715.625},{"$f":"IF('Ceiling Speaker Calculator'!$C$29=\"Square\",CQ$1,IF(OR(AND(ODD($A75)=$A75,ODD(CQ$2)=CQ$2),AND(EVEN($A75)=$A75,EVEN(CQ$2)=CQ$2)),CQ$1,-100))","v":1734.375},{"$f":"IF('Ceiling Speaker Calculator'!$C$29=\"Square\",CR$1,IF(OR(AND(ODD($A75)=$A75,ODD(CR$2)=CR$2),AND(EVEN($A75)=$A75,EVEN(CR$2)=CR$2)),CR$1,-100))","v":1753.125},{"$f":"IF('Ceiling Speaker Calculator'!$C$29=\"Square\",CS$1,IF(OR(AND(ODD($A75)=$A75,ODD(CS$2)=CS$2),AND(EVEN($A75)=$A75,EVEN(CS$2)=CS$2)),CS$1,-100))","v":1771.875},{"$f":"IF('Ceiling Speaker Calculator'!$C$29=\"Square\",CT$1,IF(OR(AND(ODD($A75)=$A75,ODD(CT$2)=CT$2),AND(EVEN($A75)=$A75,EVEN(CT$2)=CT$2)),CT$1,-100))","v":1790.625},{"$f":"IF('Ceiling Speaker Calculator'!$C$29=\"Square\",CU$1,IF(OR(AND(ODD($A75)=$A75,ODD(CU$2)=CU$2),AND(EVEN($A75)=$A75,EVEN(CU$2)=CU$2)),CU$1,-100))","v":1809.375},{"$f":"IF('Ceiling Speaker Calculator'!$C$29=\"Square\",CV$1,IF(OR(AND(ODD($A75)=$A75,ODD(CV$2)=CV$2),AND(EVEN($A75)=$A75,EVEN(CV$2)=CV$2)),CV$1,-100))","v":1828.125},{"$f":"IF('Ceiling Speaker Calculator'!$C$29=\"Square\",CW$1,IF(OR(AND(ODD($A75)=$A75,ODD(CW$2)=CW$2),AND(EVEN($A75)=$A75,EVEN(CW$2)=CW$2)),CW$1,-100))","v":1846.875},{"$f":"IF('Ceiling Speaker Calculator'!$C$29=\"Square\",CX$1,IF(OR(AND(ODD($A75)=$A75,ODD(CX$2)=CX$2),AND(EVEN($A75)=$A75,EVEN(CX$2)=CX$2)),CX$1,-100))","v":1865.625}]
[74,{"$f":"B75+'Ceiling Speaker Calculator'!$K$16","v":1470},{"$f":"IF('Ceiling Speaker Calculator'!$C$29=\"Square\",C$1,IF(OR(AND(ODD($A76)=$A76,ODD(C$2)=C$2),AND(EVEN($A76)=$A76,EVEN(C$2)=C$2)),C$1,-100))","v":9.375},{"$f":"IF('Ceiling Speaker Calculator'!$C$29=\"Square\",D$1,IF(OR(AND(ODD($A76)=$A76,ODD(D$2)=D$2),AND(EVEN($A76)=$A76,EVEN(D$2)=D$2)),D$1,-100))","v":28.125},{"$f":"IF('Ceiling Speaker Calculator'!$C$29=\"Square\",E$1,IF(OR(AND(ODD($A76)=$A76,ODD(E$2)=E$2),AND(EVEN($A76)=$A76,EVEN(E$2)=E$2)),E$1,-100))","v":46.875},{"$f":"IF('Ceiling Speaker Calculator'!$C$29=\"Square\",F$1,IF(OR(AND(ODD($A76)=$A76,ODD(F$2)=F$2),AND(EVEN($A76)=$A76,EVEN(F$2)=F$2)),F$1,-100))","v":65.625},{"$f":"IF('Ceiling Speaker Calculator'!$C$29=\"Square\",G$1,IF(OR(AND(ODD($A76)=$A76,ODD(G$2)=G$2),AND(EVEN($A76)=$A76,EVEN(G$2)=G$2)),G$1,-100))","v":84.375},{"$f":"IF('Ceiling Speaker Calculator'!$C$29=\"Square\",H$1,IF(OR(AND(ODD($A76)=$A76,ODD(H$2)=H$2),AND(EVEN($A76)=$A76,EVEN(H$2)=H$2)),H$1,-100))","v":103.125},{"$f":"IF('Ceiling Speaker Calculator'!$C$29=\"Square\",I$1,IF(OR(AND(ODD($A76)=$A76,ODD(I$2)=I$2),AND(EVEN($A76)=$A76,EVEN(I$2)=I$2)),I$1,-100))","v":121.875},{"$f":"IF('Ceiling Speaker Calculator'!$C$29=\"Square\",J$1,IF(OR(AND(ODD($A76)=$A76,ODD(J$2)=J$2),AND(EVEN($A76)=$A76,EVEN(J$2)=J$2)),J$1,-100))","v":140.625},{"$f":"IF('Ceiling Speaker Calculator'!$C$29=\"Square\",K$1,IF(OR(AND(ODD($A76)=$A76,ODD(K$2)=K$2),AND(EVEN($A76)=$A76,EVEN(K$2)=K$2)),K$1,-100))","v":159.375},{"$f":"IF('Ceiling Speaker Calculator'!$C$29=\"Square\",L$1,IF(OR(AND(ODD($A76)=$A76,ODD(L$2)=L$2),AND(EVEN($A76)=$A76,EVEN(L$2)=L$2)),L$1,-100))","v":178.125},{"$f":"IF('Ceiling Speaker Calculator'!$C$29=\"Square\",M$1,IF(OR(AND(ODD($A76)=$A76,ODD(M$2)=M$2),AND(EVEN($A76)=$A76,EVEN(M$2)=M$2)),M$1,-100))","v":196.875},{"$f":"IF('Ceiling Speaker Calculator'!$C$29=\"Square\",N$1,IF(OR(AND(ODD($A76)=$A76,ODD(N$2)=N$2),AND(EVEN($A76)=$A76,EVEN(N$2)=N$2)),N$1,-100))","v":215.625},{"$f":"IF('Ceiling Speaker Calculator'!$C$29=\"Square\",O$1,IF(OR(AND(ODD($A76)=$A76,ODD(O$2)=O$2),AND(EVEN($A76)=$A76,EVEN(O$2)=O$2)),O$1,-100))","v":234.375},{"$f":"IF('Ceiling Speaker Calculator'!$C$29=\"Square\",P$1,IF(OR(AND(ODD($A76)=$A76,ODD(P$2)=P$2),AND(EVEN($A76)=$A76,EVEN(P$2)=P$2)),P$1,-100))","v":253.125},{"$f":"IF('Ceiling Speaker Calculator'!$C$29=\"Square\",Q$1,IF(OR(AND(ODD($A76)=$A76,ODD(Q$2)=Q$2),AND(EVEN($A76)=$A76,EVEN(Q$2)=Q$2)),Q$1,-100))","v":271.875},{"$f":"IF('Ceiling Speaker Calculator'!$C$29=\"Square\",R$1,IF(OR(AND(ODD($A76)=$A76,ODD(R$2)=R$2),AND(EVEN($A76)=$A76,EVEN(R$2)=R$2)),R$1,-100))","v":290.625},{"$f":"IF('Ceiling Speaker Calculator'!$C$29=\"Square\",S$1,IF(OR(AND(ODD($A76)=$A76,ODD(S$2)=S$2),AND(EVEN($A76)=$A76,EVEN(S$2)=S$2)),S$1,-100))","v":309.375},{"$f":"IF('Ceiling Speaker Calculator'!$C$29=\"Square\",T$1,IF(OR(AND(ODD($A76)=$A76,ODD(T$2)=T$2),AND(EVEN($A76)=$A76,EVEN(T$2)=T$2)),T$1,-100))","v":328.125},{"$f":"IF('Ceiling Speaker Calculator'!$C$29=\"Square\",U$1,IF(OR(AND(ODD($A76)=$A76,ODD(U$2)=U$2),AND(EVEN($A76)=$A76,EVEN(U$2)=U$2)),U$1,-100))","v":346.875},{"$f":"IF('Ceiling Speaker Calculator'!$C$29=\"Square\",V$1,IF(OR(AND(ODD($A76)=$A76,ODD(V$2)=V$2),AND(EVEN($A76)=$A76,EVEN(V$2)=V$2)),V$1,-100))","v":365.625},{"$f":"IF('Ceiling Speaker Calculator'!$C$29=\"Square\",W$1,IF(OR(AND(ODD($A76)=$A76,ODD(W$2)=W$2),AND(EVEN($A76)=$A76,EVEN(W$2)=W$2)),W$1,-100))","v":384.375},{"$f":"IF('Ceiling Speaker Calculator'!$C$29=\"Square\",X$1,IF(OR(AND(ODD($A76)=$A76,ODD(X$2)=X$2),AND(EVEN($A76)=$A76,EVEN(X$2)=X$2)),X$1,-100))","v":403.125},{"$f":"IF('Ceiling Speaker Calculator'!$C$29=\"Square\",Y$1,IF(OR(AND(ODD($A76)=$A76,ODD(Y$2)=Y$2),AND(EVEN($A76)=$A76,EVEN(Y$2)=Y$2)),Y$1,-100))","v":421.875},{"$f":"IF('Ceiling Speaker Calculator'!$C$29=\"Square\",Z$1,IF(OR(AND(ODD($A76)=$A76,ODD(Z$2)=Z$2),AND(EVEN($A76)=$A76,EVEN(Z$2)=Z$2)),Z$1,-100))","v":440.625},{"$f":"IF('Ceiling Speaker Calculator'!$C$29=\"Square\",AA$1,IF(OR(AND(ODD($A76)=$A76,ODD(AA$2)=AA$2),AND(EVEN($A76)=$A76,EVEN(AA$2)=AA$2)),AA$1,-100))","v":459.375},{"$f":"IF('Ceiling Speaker Calculator'!$C$29=\"Square\",AB$1,IF(OR(AND(ODD($A76)=$A76,ODD(AB$2)=AB$2),AND(EVEN($A76)=$A76,EVEN(AB$2)=AB$2)),AB$1,-100))","v":478.125},{"$f":"IF('Ceiling Speaker Calculator'!$C$29=\"Square\",AC$1,IF(OR(AND(ODD($A76)=$A76,ODD(AC$2)=AC$2),AND(EVEN($A76)=$A76,EVEN(AC$2)=AC$2)),AC$1,-100))","v":496.875},{"$f":"IF('Ceiling Speaker Calculator'!$C$29=\"Square\",AD$1,IF(OR(AND(ODD($A76)=$A76,ODD(AD$2)=AD$2),AND(EVEN($A76)=$A76,EVEN(AD$2)=AD$2)),AD$1,-100))","v":515.625},{"$f":"IF('Ceiling Speaker Calculator'!$C$29=\"Square\",AE$1,IF(OR(AND(ODD($A76)=$A76,ODD(AE$2)=AE$2),AND(EVEN($A76)=$A76,EVEN(AE$2)=AE$2)),AE$1,-100))","v":534.375},{"$f":"IF('Ceiling Speaker Calculator'!$C$29=\"Square\",AF$1,IF(OR(AND(ODD($A76)=$A76,ODD(AF$2)=AF$2),AND(EVEN($A76)=$A76,EVEN(AF$2)=AF$2)),AF$1,-100))","v":553.125},{"$f":"IF('Ceiling Speaker Calculator'!$C$29=\"Square\",AG$1,IF(OR(AND(ODD($A76)=$A76,ODD(AG$2)=AG$2),AND(EVEN($A76)=$A76,EVEN(AG$2)=AG$2)),AG$1,-100))","v":571.875},{"$f":"IF('Ceiling Speaker Calculator'!$C$29=\"Square\",AH$1,IF(OR(AND(ODD($A76)=$A76,ODD(AH$2)=AH$2),AND(EVEN($A76)=$A76,EVEN(AH$2)=AH$2)),AH$1,-100))","v":590.625},{"$f":"IF('Ceiling Speaker Calculator'!$C$29=\"Square\",AI$1,IF(OR(AND(ODD($A76)=$A76,ODD(AI$2)=AI$2),AND(EVEN($A76)=$A76,EVEN(AI$2)=AI$2)),AI$1,-100))","v":609.375},{"$f":"IF('Ceiling Speaker Calculator'!$C$29=\"Square\",AJ$1,IF(OR(AND(ODD($A76)=$A76,ODD(AJ$2)=AJ$2),AND(EVEN($A76)=$A76,EVEN(AJ$2)=AJ$2)),AJ$1,-100))","v":628.125},{"$f":"IF('Ceiling Speaker Calculator'!$C$29=\"Square\",AK$1,IF(OR(AND(ODD($A76)=$A76,ODD(AK$2)=AK$2),AND(EVEN($A76)=$A76,EVEN(AK$2)=AK$2)),AK$1,-100))","v":646.875},{"$f":"IF('Ceiling Speaker Calculator'!$C$29=\"Square\",AL$1,IF(OR(AND(ODD($A76)=$A76,ODD(AL$2)=AL$2),AND(EVEN($A76)=$A76,EVEN(AL$2)=AL$2)),AL$1,-100))","v":665.625},{"$f":"IF('Ceiling Speaker Calculator'!$C$29=\"Square\",AM$1,IF(OR(AND(ODD($A76)=$A76,ODD(AM$2)=AM$2),AND(EVEN($A76)=$A76,EVEN(AM$2)=AM$2)),AM$1,-100))","v":684.375},{"$f":"IF('Ceiling Speaker Calculator'!$C$29=\"Square\",AN$1,IF(OR(AND(ODD($A76)=$A76,ODD(AN$2)=AN$2),AND(EVEN($A76)=$A76,EVEN(AN$2)=AN$2)),AN$1,-100))","v":703.125},{"$f":"IF('Ceiling Speaker Calculator'!$C$29=\"Square\",AO$1,IF(OR(AND(ODD($A76)=$A76,ODD(AO$2)=AO$2),AND(EVEN($A76)=$A76,EVEN(AO$2)=AO$2)),AO$1,-100))","v":721.875},{"$f":"IF('Ceiling Speaker Calculator'!$C$29=\"Square\",AP$1,IF(OR(AND(ODD($A76)=$A76,ODD(AP$2)=AP$2),AND(EVEN($A76)=$A76,EVEN(AP$2)=AP$2)),AP$1,-100))","v":740.625},{"$f":"IF('Ceiling Speaker Calculator'!$C$29=\"Square\",AQ$1,IF(OR(AND(ODD($A76)=$A76,ODD(AQ$2)=AQ$2),AND(EVEN($A76)=$A76,EVEN(AQ$2)=AQ$2)),AQ$1,-100))","v":759.375},{"$f":"IF('Ceiling Speaker Calculator'!$C$29=\"Square\",AR$1,IF(OR(AND(ODD($A76)=$A76,ODD(AR$2)=AR$2),AND(EVEN($A76)=$A76,EVEN(AR$2)=AR$2)),AR$1,-100))","v":778.125},{"$f":"IF('Ceiling Speaker Calculator'!$C$29=\"Square\",AS$1,IF(OR(AND(ODD($A76)=$A76,ODD(AS$2)=AS$2),AND(EVEN($A76)=$A76,EVEN(AS$2)=AS$2)),AS$1,-100))","v":796.875},{"$f":"IF('Ceiling Speaker Calculator'!$C$29=\"Square\",AT$1,IF(OR(AND(ODD($A76)=$A76,ODD(AT$2)=AT$2),AND(EVEN($A76)=$A76,EVEN(AT$2)=AT$2)),AT$1,-100))","v":815.625},{"$f":"IF('Ceiling Speaker Calculator'!$C$29=\"Square\",AU$1,IF(OR(AND(ODD($A76)=$A76,ODD(AU$2)=AU$2),AND(EVEN($A76)=$A76,EVEN(AU$2)=AU$2)),AU$1,-100))","v":834.375},{"$f":"IF('Ceiling Speaker Calculator'!$C$29=\"Square\",AV$1,IF(OR(AND(ODD($A76)=$A76,ODD(AV$2)=AV$2),AND(EVEN($A76)=$A76,EVEN(AV$2)=AV$2)),AV$1,-100))","v":853.125},{"$f":"IF('Ceiling Speaker Calculator'!$C$29=\"Square\",AW$1,IF(OR(AND(ODD($A76)=$A76,ODD(AW$2)=AW$2),AND(EVEN($A76)=$A76,EVEN(AW$2)=AW$2)),AW$1,-100))","v":871.875},{"$f":"IF('Ceiling Speaker Calculator'!$C$29=\"Square\",AX$1,IF(OR(AND(ODD($A76)=$A76,ODD(AX$2)=AX$2),AND(EVEN($A76)=$A76,EVEN(AX$2)=AX$2)),AX$1,-100))","v":890.625},{"$f":"IF('Ceiling Speaker Calculator'!$C$29=\"Square\",AY$1,IF(OR(AND(ODD($A76)=$A76,ODD(AY$2)=AY$2),AND(EVEN($A76)=$A76,EVEN(AY$2)=AY$2)),AY$1,-100))","v":909.375},{"$f":"IF('Ceiling Speaker Calculator'!$C$29=\"Square\",AZ$1,IF(OR(AND(ODD($A76)=$A76,ODD(AZ$2)=AZ$2),AND(EVEN($A76)=$A76,EVEN(AZ$2)=AZ$2)),AZ$1,-100))","v":928.125},{"$f":"IF('Ceiling Speaker Calculator'!$C$29=\"Square\",BA$1,IF(OR(AND(ODD($A76)=$A76,ODD(BA$2)=BA$2),AND(EVEN($A76)=$A76,EVEN(BA$2)=BA$2)),BA$1,-100))","v":946.875},{"$f":"IF('Ceiling Speaker Calculator'!$C$29=\"Square\",BB$1,IF(OR(AND(ODD($A76)=$A76,ODD(BB$2)=BB$2),AND(EVEN($A76)=$A76,EVEN(BB$2)=BB$2)),BB$1,-100))","v":965.625},{"$f":"IF('Ceiling Speaker Calculator'!$C$29=\"Square\",BC$1,IF(OR(AND(ODD($A76)=$A76,ODD(BC$2)=BC$2),AND(EVEN($A76)=$A76,EVEN(BC$2)=BC$2)),BC$1,-100))","v":984.375},{"$f":"IF('Ceiling Speaker Calculator'!$C$29=\"Square\",BD$1,IF(OR(AND(ODD($A76)=$A76,ODD(BD$2)=BD$2),AND(EVEN($A76)=$A76,EVEN(BD$2)=BD$2)),BD$1,-100))","v":1003.125},{"$f":"IF('Ceiling Speaker Calculator'!$C$29=\"Square\",BE$1,IF(OR(AND(ODD($A76)=$A76,ODD(BE$2)=BE$2),AND(EVEN($A76)=$A76,EVEN(BE$2)=BE$2)),BE$1,-100))","v":1021.875},{"$f":"IF('Ceiling Speaker Calculator'!$C$29=\"Square\",BF$1,IF(OR(AND(ODD($A76)=$A76,ODD(BF$2)=BF$2),AND(EVEN($A76)=$A76,EVEN(BF$2)=BF$2)),BF$1,-100))","v":1040.625},{"$f":"IF('Ceiling Speaker Calculator'!$C$29=\"Square\",BG$1,IF(OR(AND(ODD($A76)=$A76,ODD(BG$2)=BG$2),AND(EVEN($A76)=$A76,EVEN(BG$2)=BG$2)),BG$1,-100))","v":1059.375},{"$f":"IF('Ceiling Speaker Calculator'!$C$29=\"Square\",BH$1,IF(OR(AND(ODD($A76)=$A76,ODD(BH$2)=BH$2),AND(EVEN($A76)=$A76,EVEN(BH$2)=BH$2)),BH$1,-100))","v":1078.125},{"$f":"IF('Ceiling Speaker Calculator'!$C$29=\"Square\",BI$1,IF(OR(AND(ODD($A76)=$A76,ODD(BI$2)=BI$2),AND(EVEN($A76)=$A76,EVEN(BI$2)=BI$2)),BI$1,-100))","v":1096.875},{"$f":"IF('Ceiling Speaker Calculator'!$C$29=\"Square\",BJ$1,IF(OR(AND(ODD($A76)=$A76,ODD(BJ$2)=BJ$2),AND(EVEN($A76)=$A76,EVEN(BJ$2)=BJ$2)),BJ$1,-100))","v":1115.625},{"$f":"IF('Ceiling Speaker Calculator'!$C$29=\"Square\",BK$1,IF(OR(AND(ODD($A76)=$A76,ODD(BK$2)=BK$2),AND(EVEN($A76)=$A76,EVEN(BK$2)=BK$2)),BK$1,-100))","v":1134.375},{"$f":"IF('Ceiling Speaker Calculator'!$C$29=\"Square\",BL$1,IF(OR(AND(ODD($A76)=$A76,ODD(BL$2)=BL$2),AND(EVEN($A76)=$A76,EVEN(BL$2)=BL$2)),BL$1,-100))","v":1153.125},{"$f":"IF('Ceiling Speaker Calculator'!$C$29=\"Square\",BM$1,IF(OR(AND(ODD($A76)=$A76,ODD(BM$2)=BM$2),AND(EVEN($A76)=$A76,EVEN(BM$2)=BM$2)),BM$1,-100))","v":1171.875},{"$f":"IF('Ceiling Speaker Calculator'!$C$29=\"Square\",BN$1,IF(OR(AND(ODD($A76)=$A76,ODD(BN$2)=BN$2),AND(EVEN($A76)=$A76,EVEN(BN$2)=BN$2)),BN$1,-100))","v":1190.625},{"$f":"IF('Ceiling Speaker Calculator'!$C$29=\"Square\",BO$1,IF(OR(AND(ODD($A76)=$A76,ODD(BO$2)=BO$2),AND(EVEN($A76)=$A76,EVEN(BO$2)=BO$2)),BO$1,-100))","v":1209.375},{"$f":"IF('Ceiling Speaker Calculator'!$C$29=\"Square\",BP$1,IF(OR(AND(ODD($A76)=$A76,ODD(BP$2)=BP$2),AND(EVEN($A76)=$A76,EVEN(BP$2)=BP$2)),BP$1,-100))","v":1228.125},{"$f":"IF('Ceiling Speaker Calculator'!$C$29=\"Square\",BQ$1,IF(OR(AND(ODD($A76)=$A76,ODD(BQ$2)=BQ$2),AND(EVEN($A76)=$A76,EVEN(BQ$2)=BQ$2)),BQ$1,-100))","v":1246.875},{"$f":"IF('Ceiling Speaker Calculator'!$C$29=\"Square\",BR$1,IF(OR(AND(ODD($A76)=$A76,ODD(BR$2)=BR$2),AND(EVEN($A76)=$A76,EVEN(BR$2)=BR$2)),BR$1,-100))","v":1265.625},{"$f":"IF('Ceiling Speaker Calculator'!$C$29=\"Square\",BS$1,IF(OR(AND(ODD($A76)=$A76,ODD(BS$2)=BS$2),AND(EVEN($A76)=$A76,EVEN(BS$2)=BS$2)),BS$1,-100))","v":1284.375},{"$f":"IF('Ceiling Speaker Calculator'!$C$29=\"Square\",BT$1,IF(OR(AND(ODD($A76)=$A76,ODD(BT$2)=BT$2),AND(EVEN($A76)=$A76,EVEN(BT$2)=BT$2)),BT$1,-100))","v":1303.125},{"$f":"IF('Ceiling Speaker Calculator'!$C$29=\"Square\",BU$1,IF(OR(AND(ODD($A76)=$A76,ODD(BU$2)=BU$2),AND(EVEN($A76)=$A76,EVEN(BU$2)=BU$2)),BU$1,-100))","v":1321.875},{"$f":"IF('Ceiling Speaker Calculator'!$C$29=\"Square\",BV$1,IF(OR(AND(ODD($A76)=$A76,ODD(BV$2)=BV$2),AND(EVEN($A76)=$A76,EVEN(BV$2)=BV$2)),BV$1,-100))","v":1340.625},{"$f":"IF('Ceiling Speaker Calculator'!$C$29=\"Square\",BW$1,IF(OR(AND(ODD($A76)=$A76,ODD(BW$2)=BW$2),AND(EVEN($A76)=$A76,EVEN(BW$2)=BW$2)),BW$1,-100))","v":1359.375},{"$f":"IF('Ceiling Speaker Calculator'!$C$29=\"Square\",BX$1,IF(OR(AND(ODD($A76)=$A76,ODD(BX$2)=BX$2),AND(EVEN($A76)=$A76,EVEN(BX$2)=BX$2)),BX$1,-100))","v":1378.125},{"$f":"IF('Ceiling Speaker Calculator'!$C$29=\"Square\",BY$1,IF(OR(AND(ODD($A76)=$A76,ODD(BY$2)=BY$2),AND(EVEN($A76)=$A76,EVEN(BY$2)=BY$2)),BY$1,-100))","v":1396.875},{"$f":"IF('Ceiling Speaker Calculator'!$C$29=\"Square\",BZ$1,IF(OR(AND(ODD($A76)=$A76,ODD(BZ$2)=BZ$2),AND(EVEN($A76)=$A76,EVEN(BZ$2)=BZ$2)),BZ$1,-100))","v":1415.625},{"$f":"IF('Ceiling Speaker Calculator'!$C$29=\"Square\",CA$1,IF(OR(AND(ODD($A76)=$A76,ODD(CA$2)=CA$2),AND(EVEN($A76)=$A76,EVEN(CA$2)=CA$2)),CA$1,-100))","v":1434.375},{"$f":"IF('Ceiling Speaker Calculator'!$C$29=\"Square\",CB$1,IF(OR(AND(ODD($A76)=$A76,ODD(CB$2)=CB$2),AND(EVEN($A76)=$A76,EVEN(CB$2)=CB$2)),CB$1,-100))","v":1453.125},{"$f":"IF('Ceiling Speaker Calculator'!$C$29=\"Square\",CC$1,IF(OR(AND(ODD($A76)=$A76,ODD(CC$2)=CC$2),AND(EVEN($A76)=$A76,EVEN(CC$2)=CC$2)),CC$1,-100))","v":1471.875},{"$f":"IF('Ceiling Speaker Calculator'!$C$29=\"Square\",CD$1,IF(OR(AND(ODD($A76)=$A76,ODD(CD$2)=CD$2),AND(EVEN($A76)=$A76,EVEN(CD$2)=CD$2)),CD$1,-100))","v":1490.625},{"$f":"IF('Ceiling Speaker Calculator'!$C$29=\"Square\",CE$1,IF(OR(AND(ODD($A76)=$A76,ODD(CE$2)=CE$2),AND(EVEN($A76)=$A76,EVEN(CE$2)=CE$2)),CE$1,-100))","v":1509.375},{"$f":"IF('Ceiling Speaker Calculator'!$C$29=\"Square\",CF$1,IF(OR(AND(ODD($A76)=$A76,ODD(CF$2)=CF$2),AND(EVEN($A76)=$A76,EVEN(CF$2)=CF$2)),CF$1,-100))","v":1528.125},{"$f":"IF('Ceiling Speaker Calculator'!$C$29=\"Square\",CG$1,IF(OR(AND(ODD($A76)=$A76,ODD(CG$2)=CG$2),AND(EVEN($A76)=$A76,EVEN(CG$2)=CG$2)),CG$1,-100))","v":1546.875},{"$f":"IF('Ceiling Speaker Calculator'!$C$29=\"Square\",CH$1,IF(OR(AND(ODD($A76)=$A76,ODD(CH$2)=CH$2),AND(EVEN($A76)=$A76,EVEN(CH$2)=CH$2)),CH$1,-100))","v":1565.625},{"$f":"IF('Ceiling Speaker Calculator'!$C$29=\"Square\",CI$1,IF(OR(AND(ODD($A76)=$A76,ODD(CI$2)=CI$2),AND(EVEN($A76)=$A76,EVEN(CI$2)=CI$2)),CI$1,-100))","v":1584.375},{"$f":"IF('Ceiling Speaker Calculator'!$C$29=\"Square\",CJ$1,IF(OR(AND(ODD($A76)=$A76,ODD(CJ$2)=CJ$2),AND(EVEN($A76)=$A76,EVEN(CJ$2)=CJ$2)),CJ$1,-100))","v":1603.125},{"$f":"IF('Ceiling Speaker Calculator'!$C$29=\"Square\",CK$1,IF(OR(AND(ODD($A76)=$A76,ODD(CK$2)=CK$2),AND(EVEN($A76)=$A76,EVEN(CK$2)=CK$2)),CK$1,-100))","v":1621.875},{"$f":"IF('Ceiling Speaker Calculator'!$C$29=\"Square\",CL$1,IF(OR(AND(ODD($A76)=$A76,ODD(CL$2)=CL$2),AND(EVEN($A76)=$A76,EVEN(CL$2)=CL$2)),CL$1,-100))","v":1640.625},{"$f":"IF('Ceiling Speaker Calculator'!$C$29=\"Square\",CM$1,IF(OR(AND(ODD($A76)=$A76,ODD(CM$2)=CM$2),AND(EVEN($A76)=$A76,EVEN(CM$2)=CM$2)),CM$1,-100))","v":1659.375},{"$f":"IF('Ceiling Speaker Calculator'!$C$29=\"Square\",CN$1,IF(OR(AND(ODD($A76)=$A76,ODD(CN$2)=CN$2),AND(EVEN($A76)=$A76,EVEN(CN$2)=CN$2)),CN$1,-100))","v":1678.125},{"$f":"IF('Ceiling Speaker Calculator'!$C$29=\"Square\",CO$1,IF(OR(AND(ODD($A76)=$A76,ODD(CO$2)=CO$2),AND(EVEN($A76)=$A76,EVEN(CO$2)=CO$2)),CO$1,-100))","v":1696.875},{"$f":"IF('Ceiling Speaker Calculator'!$C$29=\"Square\",CP$1,IF(OR(AND(ODD($A76)=$A76,ODD(CP$2)=CP$2),AND(EVEN($A76)=$A76,EVEN(CP$2)=CP$2)),CP$1,-100))","v":1715.625},{"$f":"IF('Ceiling Speaker Calculator'!$C$29=\"Square\",CQ$1,IF(OR(AND(ODD($A76)=$A76,ODD(CQ$2)=CQ$2),AND(EVEN($A76)=$A76,EVEN(CQ$2)=CQ$2)),CQ$1,-100))","v":1734.375},{"$f":"IF('Ceiling Speaker Calculator'!$C$29=\"Square\",CR$1,IF(OR(AND(ODD($A76)=$A76,ODD(CR$2)=CR$2),AND(EVEN($A76)=$A76,EVEN(CR$2)=CR$2)),CR$1,-100))","v":1753.125},{"$f":"IF('Ceiling Speaker Calculator'!$C$29=\"Square\",CS$1,IF(OR(AND(ODD($A76)=$A76,ODD(CS$2)=CS$2),AND(EVEN($A76)=$A76,EVEN(CS$2)=CS$2)),CS$1,-100))","v":1771.875},{"$f":"IF('Ceiling Speaker Calculator'!$C$29=\"Square\",CT$1,IF(OR(AND(ODD($A76)=$A76,ODD(CT$2)=CT$2),AND(EVEN($A76)=$A76,EVEN(CT$2)=CT$2)),CT$1,-100))","v":1790.625},{"$f":"IF('Ceiling Speaker Calculator'!$C$29=\"Square\",CU$1,IF(OR(AND(ODD($A76)=$A76,ODD(CU$2)=CU$2),AND(EVEN($A76)=$A76,EVEN(CU$2)=CU$2)),CU$1,-100))","v":1809.375},{"$f":"IF('Ceiling Speaker Calculator'!$C$29=\"Square\",CV$1,IF(OR(AND(ODD($A76)=$A76,ODD(CV$2)=CV$2),AND(EVEN($A76)=$A76,EVEN(CV$2)=CV$2)),CV$1,-100))","v":1828.125},{"$f":"IF('Ceiling Speaker Calculator'!$C$29=\"Square\",CW$1,IF(OR(AND(ODD($A76)=$A76,ODD(CW$2)=CW$2),AND(EVEN($A76)=$A76,EVEN(CW$2)=CW$2)),CW$1,-100))","v":1846.875},{"$f":"IF('Ceiling Speaker Calculator'!$C$29=\"Square\",CX$1,IF(OR(AND(ODD($A76)=$A76,ODD(CX$2)=CX$2),AND(EVEN($A76)=$A76,EVEN(CX$2)=CX$2)),CX$1,-100))","v":1865.625}]
[75,{"$f":"B76+'Ceiling Speaker Calculator'!$K$16","v":1490},{"$f":"IF('Ceiling Speaker Calculator'!$C$29=\"Square\",C$1,IF(OR(AND(ODD($A77)=$A77,ODD(C$2)=C$2),AND(EVEN($A77)=$A77,EVEN(C$2)=C$2)),C$1,-100))","v":9.375},{"$f":"IF('Ceiling Speaker Calculator'!$C$29=\"Square\",D$1,IF(OR(AND(ODD($A77)=$A77,ODD(D$2)=D$2),AND(EVEN($A77)=$A77,EVEN(D$2)=D$2)),D$1,-100))","v":28.125},{"$f":"IF('Ceiling Speaker Calculator'!$C$29=\"Square\",E$1,IF(OR(AND(ODD($A77)=$A77,ODD(E$2)=E$2),AND(EVEN($A77)=$A77,EVEN(E$2)=E$2)),E$1,-100))","v":46.875},{"$f":"IF('Ceiling Speaker Calculator'!$C$29=\"Square\",F$1,IF(OR(AND(ODD($A77)=$A77,ODD(F$2)=F$2),AND(EVEN($A77)=$A77,EVEN(F$2)=F$2)),F$1,-100))","v":65.625},{"$f":"IF('Ceiling Speaker Calculator'!$C$29=\"Square\",G$1,IF(OR(AND(ODD($A77)=$A77,ODD(G$2)=G$2),AND(EVEN($A77)=$A77,EVEN(G$2)=G$2)),G$1,-100))","v":84.375},{"$f":"IF('Ceiling Speaker Calculator'!$C$29=\"Square\",H$1,IF(OR(AND(ODD($A77)=$A77,ODD(H$2)=H$2),AND(EVEN($A77)=$A77,EVEN(H$2)=H$2)),H$1,-100))","v":103.125},{"$f":"IF('Ceiling Speaker Calculator'!$C$29=\"Square\",I$1,IF(OR(AND(ODD($A77)=$A77,ODD(I$2)=I$2),AND(EVEN($A77)=$A77,EVEN(I$2)=I$2)),I$1,-100))","v":121.875},{"$f":"IF('Ceiling Speaker Calculator'!$C$29=\"Square\",J$1,IF(OR(AND(ODD($A77)=$A77,ODD(J$2)=J$2),AND(EVEN($A77)=$A77,EVEN(J$2)=J$2)),J$1,-100))","v":140.625},{"$f":"IF('Ceiling Speaker Calculator'!$C$29=\"Square\",K$1,IF(OR(AND(ODD($A77)=$A77,ODD(K$2)=K$2),AND(EVEN($A77)=$A77,EVEN(K$2)=K$2)),K$1,-100))","v":159.375},{"$f":"IF('Ceiling Speaker Calculator'!$C$29=\"Square\",L$1,IF(OR(AND(ODD($A77)=$A77,ODD(L$2)=L$2),AND(EVEN($A77)=$A77,EVEN(L$2)=L$2)),L$1,-100))","v":178.125},{"$f":"IF('Ceiling Speaker Calculator'!$C$29=\"Square\",M$1,IF(OR(AND(ODD($A77)=$A77,ODD(M$2)=M$2),AND(EVEN($A77)=$A77,EVEN(M$2)=M$2)),M$1,-100))","v":196.875},{"$f":"IF('Ceiling Speaker Calculator'!$C$29=\"Square\",N$1,IF(OR(AND(ODD($A77)=$A77,ODD(N$2)=N$2),AND(EVEN($A77)=$A77,EVEN(N$2)=N$2)),N$1,-100))","v":215.625},{"$f":"IF('Ceiling Speaker Calculator'!$C$29=\"Square\",O$1,IF(OR(AND(ODD($A77)=$A77,ODD(O$2)=O$2),AND(EVEN($A77)=$A77,EVEN(O$2)=O$2)),O$1,-100))","v":234.375},{"$f":"IF('Ceiling Speaker Calculator'!$C$29=\"Square\",P$1,IF(OR(AND(ODD($A77)=$A77,ODD(P$2)=P$2),AND(EVEN($A77)=$A77,EVEN(P$2)=P$2)),P$1,-100))","v":253.125},{"$f":"IF('Ceiling Speaker Calculator'!$C$29=\"Square\",Q$1,IF(OR(AND(ODD($A77)=$A77,ODD(Q$2)=Q$2),AND(EVEN($A77)=$A77,EVEN(Q$2)=Q$2)),Q$1,-100))","v":271.875},{"$f":"IF('Ceiling Speaker Calculator'!$C$29=\"Square\",R$1,IF(OR(AND(ODD($A77)=$A77,ODD(R$2)=R$2),AND(EVEN($A77)=$A77,EVEN(R$2)=R$2)),R$1,-100))","v":290.625},{"$f":"IF('Ceiling Speaker Calculator'!$C$29=\"Square\",S$1,IF(OR(AND(ODD($A77)=$A77,ODD(S$2)=S$2),AND(EVEN($A77)=$A77,EVEN(S$2)=S$2)),S$1,-100))","v":309.375},{"$f":"IF('Ceiling Speaker Calculator'!$C$29=\"Square\",T$1,IF(OR(AND(ODD($A77)=$A77,ODD(T$2)=T$2),AND(EVEN($A77)=$A77,EVEN(T$2)=T$2)),T$1,-100))","v":328.125},{"$f":"IF('Ceiling Speaker Calculator'!$C$29=\"Square\",U$1,IF(OR(AND(ODD($A77)=$A77,ODD(U$2)=U$2),AND(EVEN($A77)=$A77,EVEN(U$2)=U$2)),U$1,-100))","v":346.875},{"$f":"IF('Ceiling Speaker Calculator'!$C$29=\"Square\",V$1,IF(OR(AND(ODD($A77)=$A77,ODD(V$2)=V$2),AND(EVEN($A77)=$A77,EVEN(V$2)=V$2)),V$1,-100))","v":365.625},{"$f":"IF('Ceiling Speaker Calculator'!$C$29=\"Square\",W$1,IF(OR(AND(ODD($A77)=$A77,ODD(W$2)=W$2),AND(EVEN($A77)=$A77,EVEN(W$2)=W$2)),W$1,-100))","v":384.375},{"$f":"IF('Ceiling Speaker Calculator'!$C$29=\"Square\",X$1,IF(OR(AND(ODD($A77)=$A77,ODD(X$2)=X$2),AND(EVEN($A77)=$A77,EVEN(X$2)=X$2)),X$1,-100))","v":403.125},{"$f":"IF('Ceiling Speaker Calculator'!$C$29=\"Square\",Y$1,IF(OR(AND(ODD($A77)=$A77,ODD(Y$2)=Y$2),AND(EVEN($A77)=$A77,EVEN(Y$2)=Y$2)),Y$1,-100))","v":421.875},{"$f":"IF('Ceiling Speaker Calculator'!$C$29=\"Square\",Z$1,IF(OR(AND(ODD($A77)=$A77,ODD(Z$2)=Z$2),AND(EVEN($A77)=$A77,EVEN(Z$2)=Z$2)),Z$1,-100))","v":440.625},{"$f":"IF('Ceiling Speaker Calculator'!$C$29=\"Square\",AA$1,IF(OR(AND(ODD($A77)=$A77,ODD(AA$2)=AA$2),AND(EVEN($A77)=$A77,EVEN(AA$2)=AA$2)),AA$1,-100))","v":459.375},{"$f":"IF('Ceiling Speaker Calculator'!$C$29=\"Square\",AB$1,IF(OR(AND(ODD($A77)=$A77,ODD(AB$2)=AB$2),AND(EVEN($A77)=$A77,EVEN(AB$2)=AB$2)),AB$1,-100))","v":478.125},{"$f":"IF('Ceiling Speaker Calculator'!$C$29=\"Square\",AC$1,IF(OR(AND(ODD($A77)=$A77,ODD(AC$2)=AC$2),AND(EVEN($A77)=$A77,EVEN(AC$2)=AC$2)),AC$1,-100))","v":496.875},{"$f":"IF('Ceiling Speaker Calculator'!$C$29=\"Square\",AD$1,IF(OR(AND(ODD($A77)=$A77,ODD(AD$2)=AD$2),AND(EVEN($A77)=$A77,EVEN(AD$2)=AD$2)),AD$1,-100))","v":515.625},{"$f":"IF('Ceiling Speaker Calculator'!$C$29=\"Square\",AE$1,IF(OR(AND(ODD($A77)=$A77,ODD(AE$2)=AE$2),AND(EVEN($A77)=$A77,EVEN(AE$2)=AE$2)),AE$1,-100))","v":534.375},{"$f":"IF('Ceiling Speaker Calculator'!$C$29=\"Square\",AF$1,IF(OR(AND(ODD($A77)=$A77,ODD(AF$2)=AF$2),AND(EVEN($A77)=$A77,EVEN(AF$2)=AF$2)),AF$1,-100))","v":553.125},{"$f":"IF('Ceiling Speaker Calculator'!$C$29=\"Square\",AG$1,IF(OR(AND(ODD($A77)=$A77,ODD(AG$2)=AG$2),AND(EVEN($A77)=$A77,EVEN(AG$2)=AG$2)),AG$1,-100))","v":571.875},{"$f":"IF('Ceiling Speaker Calculator'!$C$29=\"Square\",AH$1,IF(OR(AND(ODD($A77)=$A77,ODD(AH$2)=AH$2),AND(EVEN($A77)=$A77,EVEN(AH$2)=AH$2)),AH$1,-100))","v":590.625},{"$f":"IF('Ceiling Speaker Calculator'!$C$29=\"Square\",AI$1,IF(OR(AND(ODD($A77)=$A77,ODD(AI$2)=AI$2),AND(EVEN($A77)=$A77,EVEN(AI$2)=AI$2)),AI$1,-100))","v":609.375},{"$f":"IF('Ceiling Speaker Calculator'!$C$29=\"Square\",AJ$1,IF(OR(AND(ODD($A77)=$A77,ODD(AJ$2)=AJ$2),AND(EVEN($A77)=$A77,EVEN(AJ$2)=AJ$2)),AJ$1,-100))","v":628.125},{"$f":"IF('Ceiling Speaker Calculator'!$C$29=\"Square\",AK$1,IF(OR(AND(ODD($A77)=$A77,ODD(AK$2)=AK$2),AND(EVEN($A77)=$A77,EVEN(AK$2)=AK$2)),AK$1,-100))","v":646.875},{"$f":"IF('Ceiling Speaker Calculator'!$C$29=\"Square\",AL$1,IF(OR(AND(ODD($A77)=$A77,ODD(AL$2)=AL$2),AND(EVEN($A77)=$A77,EVEN(AL$2)=AL$2)),AL$1,-100))","v":665.625},{"$f":"IF('Ceiling Speaker Calculator'!$C$29=\"Square\",AM$1,IF(OR(AND(ODD($A77)=$A77,ODD(AM$2)=AM$2),AND(EVEN($A77)=$A77,EVEN(AM$2)=AM$2)),AM$1,-100))","v":684.375},{"$f":"IF('Ceiling Speaker Calculator'!$C$29=\"Square\",AN$1,IF(OR(AND(ODD($A77)=$A77,ODD(AN$2)=AN$2),AND(EVEN($A77)=$A77,EVEN(AN$2)=AN$2)),AN$1,-100))","v":703.125},{"$f":"IF('Ceiling Speaker Calculator'!$C$29=\"Square\",AO$1,IF(OR(AND(ODD($A77)=$A77,ODD(AO$2)=AO$2),AND(EVEN($A77)=$A77,EVEN(AO$2)=AO$2)),AO$1,-100))","v":721.875},{"$f":"IF('Ceiling Speaker Calculator'!$C$29=\"Square\",AP$1,IF(OR(AND(ODD($A77)=$A77,ODD(AP$2)=AP$2),AND(EVEN($A77)=$A77,EVEN(AP$2)=AP$2)),AP$1,-100))","v":740.625},{"$f":"IF('Ceiling Speaker Calculator'!$C$29=\"Square\",AQ$1,IF(OR(AND(ODD($A77)=$A77,ODD(AQ$2)=AQ$2),AND(EVEN($A77)=$A77,EVEN(AQ$2)=AQ$2)),AQ$1,-100))","v":759.375},{"$f":"IF('Ceiling Speaker Calculator'!$C$29=\"Square\",AR$1,IF(OR(AND(ODD($A77)=$A77,ODD(AR$2)=AR$2),AND(EVEN($A77)=$A77,EVEN(AR$2)=AR$2)),AR$1,-100))","v":778.125},{"$f":"IF('Ceiling Speaker Calculator'!$C$29=\"Square\",AS$1,IF(OR(AND(ODD($A77)=$A77,ODD(AS$2)=AS$2),AND(EVEN($A77)=$A77,EVEN(AS$2)=AS$2)),AS$1,-100))","v":796.875},{"$f":"IF('Ceiling Speaker Calculator'!$C$29=\"Square\",AT$1,IF(OR(AND(ODD($A77)=$A77,ODD(AT$2)=AT$2),AND(EVEN($A77)=$A77,EVEN(AT$2)=AT$2)),AT$1,-100))","v":815.625},{"$f":"IF('Ceiling Speaker Calculator'!$C$29=\"Square\",AU$1,IF(OR(AND(ODD($A77)=$A77,ODD(AU$2)=AU$2),AND(EVEN($A77)=$A77,EVEN(AU$2)=AU$2)),AU$1,-100))","v":834.375},{"$f":"IF('Ceiling Speaker Calculator'!$C$29=\"Square\",AV$1,IF(OR(AND(ODD($A77)=$A77,ODD(AV$2)=AV$2),AND(EVEN($A77)=$A77,EVEN(AV$2)=AV$2)),AV$1,-100))","v":853.125},{"$f":"IF('Ceiling Speaker Calculator'!$C$29=\"Square\",AW$1,IF(OR(AND(ODD($A77)=$A77,ODD(AW$2)=AW$2),AND(EVEN($A77)=$A77,EVEN(AW$2)=AW$2)),AW$1,-100))","v":871.875},{"$f":"IF('Ceiling Speaker Calculator'!$C$29=\"Square\",AX$1,IF(OR(AND(ODD($A77)=$A77,ODD(AX$2)=AX$2),AND(EVEN($A77)=$A77,EVEN(AX$2)=AX$2)),AX$1,-100))","v":890.625},{"$f":"IF('Ceiling Speaker Calculator'!$C$29=\"Square\",AY$1,IF(OR(AND(ODD($A77)=$A77,ODD(AY$2)=AY$2),AND(EVEN($A77)=$A77,EVEN(AY$2)=AY$2)),AY$1,-100))","v":909.375},{"$f":"IF('Ceiling Speaker Calculator'!$C$29=\"Square\",AZ$1,IF(OR(AND(ODD($A77)=$A77,ODD(AZ$2)=AZ$2),AND(EVEN($A77)=$A77,EVEN(AZ$2)=AZ$2)),AZ$1,-100))","v":928.125},{"$f":"IF('Ceiling Speaker Calculator'!$C$29=\"Square\",BA$1,IF(OR(AND(ODD($A77)=$A77,ODD(BA$2)=BA$2),AND(EVEN($A77)=$A77,EVEN(BA$2)=BA$2)),BA$1,-100))","v":946.875},{"$f":"IF('Ceiling Speaker Calculator'!$C$29=\"Square\",BB$1,IF(OR(AND(ODD($A77)=$A77,ODD(BB$2)=BB$2),AND(EVEN($A77)=$A77,EVEN(BB$2)=BB$2)),BB$1,-100))","v":965.625},{"$f":"IF('Ceiling Speaker Calculator'!$C$29=\"Square\",BC$1,IF(OR(AND(ODD($A77)=$A77,ODD(BC$2)=BC$2),AND(EVEN($A77)=$A77,EVEN(BC$2)=BC$2)),BC$1,-100))","v":984.375},{"$f":"IF('Ceiling Speaker Calculator'!$C$29=\"Square\",BD$1,IF(OR(AND(ODD($A77)=$A77,ODD(BD$2)=BD$2),AND(EVEN($A77)=$A77,EVEN(BD$2)=BD$2)),BD$1,-100))","v":1003.125},{"$f":"IF('Ceiling Speaker Calculator'!$C$29=\"Square\",BE$1,IF(OR(AND(ODD($A77)=$A77,ODD(BE$2)=BE$2),AND(EVEN($A77)=$A77,EVEN(BE$2)=BE$2)),BE$1,-100))","v":1021.875},{"$f":"IF('Ceiling Speaker Calculator'!$C$29=\"Square\",BF$1,IF(OR(AND(ODD($A77)=$A77,ODD(BF$2)=BF$2),AND(EVEN($A77)=$A77,EVEN(BF$2)=BF$2)),BF$1,-100))","v":1040.625},{"$f":"IF('Ceiling Speaker Calculator'!$C$29=\"Square\",BG$1,IF(OR(AND(ODD($A77)=$A77,ODD(BG$2)=BG$2),AND(EVEN($A77)=$A77,EVEN(BG$2)=BG$2)),BG$1,-100))","v":1059.375},{"$f":"IF('Ceiling Speaker Calculator'!$C$29=\"Square\",BH$1,IF(OR(AND(ODD($A77)=$A77,ODD(BH$2)=BH$2),AND(EVEN($A77)=$A77,EVEN(BH$2)=BH$2)),BH$1,-100))","v":1078.125},{"$f":"IF('Ceiling Speaker Calculator'!$C$29=\"Square\",BI$1,IF(OR(AND(ODD($A77)=$A77,ODD(BI$2)=BI$2),AND(EVEN($A77)=$A77,EVEN(BI$2)=BI$2)),BI$1,-100))","v":1096.875},{"$f":"IF('Ceiling Speaker Calculator'!$C$29=\"Square\",BJ$1,IF(OR(AND(ODD($A77)=$A77,ODD(BJ$2)=BJ$2),AND(EVEN($A77)=$A77,EVEN(BJ$2)=BJ$2)),BJ$1,-100))","v":1115.625},{"$f":"IF('Ceiling Speaker Calculator'!$C$29=\"Square\",BK$1,IF(OR(AND(ODD($A77)=$A77,ODD(BK$2)=BK$2),AND(EVEN($A77)=$A77,EVEN(BK$2)=BK$2)),BK$1,-100))","v":1134.375},{"$f":"IF('Ceiling Speaker Calculator'!$C$29=\"Square\",BL$1,IF(OR(AND(ODD($A77)=$A77,ODD(BL$2)=BL$2),AND(EVEN($A77)=$A77,EVEN(BL$2)=BL$2)),BL$1,-100))","v":1153.125},{"$f":"IF('Ceiling Speaker Calculator'!$C$29=\"Square\",BM$1,IF(OR(AND(ODD($A77)=$A77,ODD(BM$2)=BM$2),AND(EVEN($A77)=$A77,EVEN(BM$2)=BM$2)),BM$1,-100))","v":1171.875},{"$f":"IF('Ceiling Speaker Calculator'!$C$29=\"Square\",BN$1,IF(OR(AND(ODD($A77)=$A77,ODD(BN$2)=BN$2),AND(EVEN($A77)=$A77,EVEN(BN$2)=BN$2)),BN$1,-100))","v":1190.625},{"$f":"IF('Ceiling Speaker Calculator'!$C$29=\"Square\",BO$1,IF(OR(AND(ODD($A77)=$A77,ODD(BO$2)=BO$2),AND(EVEN($A77)=$A77,EVEN(BO$2)=BO$2)),BO$1,-100))","v":1209.375},{"$f":"IF('Ceiling Speaker Calculator'!$C$29=\"Square\",BP$1,IF(OR(AND(ODD($A77)=$A77,ODD(BP$2)=BP$2),AND(EVEN($A77)=$A77,EVEN(BP$2)=BP$2)),BP$1,-100))","v":1228.125},{"$f":"IF('Ceiling Speaker Calculator'!$C$29=\"Square\",BQ$1,IF(OR(AND(ODD($A77)=$A77,ODD(BQ$2)=BQ$2),AND(EVEN($A77)=$A77,EVEN(BQ$2)=BQ$2)),BQ$1,-100))","v":1246.875},{"$f":"IF('Ceiling Speaker Calculator'!$C$29=\"Square\",BR$1,IF(OR(AND(ODD($A77)=$A77,ODD(BR$2)=BR$2),AND(EVEN($A77)=$A77,EVEN(BR$2)=BR$2)),BR$1,-100))","v":1265.625},{"$f":"IF('Ceiling Speaker Calculator'!$C$29=\"Square\",BS$1,IF(OR(AND(ODD($A77)=$A77,ODD(BS$2)=BS$2),AND(EVEN($A77)=$A77,EVEN(BS$2)=BS$2)),BS$1,-100))","v":1284.375},{"$f":"IF('Ceiling Speaker Calculator'!$C$29=\"Square\",BT$1,IF(OR(AND(ODD($A77)=$A77,ODD(BT$2)=BT$2),AND(EVEN($A77)=$A77,EVEN(BT$2)=BT$2)),BT$1,-100))","v":1303.125},{"$f":"IF('Ceiling Speaker Calculator'!$C$29=\"Square\",BU$1,IF(OR(AND(ODD($A77)=$A77,ODD(BU$2)=BU$2),AND(EVEN($A77)=$A77,EVEN(BU$2)=BU$2)),BU$1,-100))","v":1321.875},{"$f":"IF('Ceiling Speaker Calculator'!$C$29=\"Square\",BV$1,IF(OR(AND(ODD($A77)=$A77,ODD(BV$2)=BV$2),AND(EVEN($A77)=$A77,EVEN(BV$2)=BV$2)),BV$1,-100))","v":1340.625},{"$f":"IF('Ceiling Speaker Calculator'!$C$29=\"Square\",BW$1,IF(OR(AND(ODD($A77)=$A77,ODD(BW$2)=BW$2),AND(EVEN($A77)=$A77,EVEN(BW$2)=BW$2)),BW$1,-100))","v":1359.375},{"$f":"IF('Ceiling Speaker Calculator'!$C$29=\"Square\",BX$1,IF(OR(AND(ODD($A77)=$A77,ODD(BX$2)=BX$2),AND(EVEN($A77)=$A77,EVEN(BX$2)=BX$2)),BX$1,-100))","v":1378.125},{"$f":"IF('Ceiling Speaker Calculator'!$C$29=\"Square\",BY$1,IF(OR(AND(ODD($A77)=$A77,ODD(BY$2)=BY$2),AND(EVEN($A77)=$A77,EVEN(BY$2)=BY$2)),BY$1,-100))","v":1396.875},{"$f":"IF('Ceiling Speaker Calculator'!$C$29=\"Square\",BZ$1,IF(OR(AND(ODD($A77)=$A77,ODD(BZ$2)=BZ$2),AND(EVEN($A77)=$A77,EVEN(BZ$2)=BZ$2)),BZ$1,-100))","v":1415.625},{"$f":"IF('Ceiling Speaker Calculator'!$C$29=\"Square\",CA$1,IF(OR(AND(ODD($A77)=$A77,ODD(CA$2)=CA$2),AND(EVEN($A77)=$A77,EVEN(CA$2)=CA$2)),CA$1,-100))","v":1434.375},{"$f":"IF('Ceiling Speaker Calculator'!$C$29=\"Square\",CB$1,IF(OR(AND(ODD($A77)=$A77,ODD(CB$2)=CB$2),AND(EVEN($A77)=$A77,EVEN(CB$2)=CB$2)),CB$1,-100))","v":1453.125},{"$f":"IF('Ceiling Speaker Calculator'!$C$29=\"Square\",CC$1,IF(OR(AND(ODD($A77)=$A77,ODD(CC$2)=CC$2),AND(EVEN($A77)=$A77,EVEN(CC$2)=CC$2)),CC$1,-100))","v":1471.875},{"$f":"IF('Ceiling Speaker Calculator'!$C$29=\"Square\",CD$1,IF(OR(AND(ODD($A77)=$A77,ODD(CD$2)=CD$2),AND(EVEN($A77)=$A77,EVEN(CD$2)=CD$2)),CD$1,-100))","v":1490.625},{"$f":"IF('Ceiling Speaker Calculator'!$C$29=\"Square\",CE$1,IF(OR(AND(ODD($A77)=$A77,ODD(CE$2)=CE$2),AND(EVEN($A77)=$A77,EVEN(CE$2)=CE$2)),CE$1,-100))","v":1509.375},{"$f":"IF('Ceiling Speaker Calculator'!$C$29=\"Square\",CF$1,IF(OR(AND(ODD($A77)=$A77,ODD(CF$2)=CF$2),AND(EVEN($A77)=$A77,EVEN(CF$2)=CF$2)),CF$1,-100))","v":1528.125},{"$f":"IF('Ceiling Speaker Calculator'!$C$29=\"Square\",CG$1,IF(OR(AND(ODD($A77)=$A77,ODD(CG$2)=CG$2),AND(EVEN($A77)=$A77,EVEN(CG$2)=CG$2)),CG$1,-100))","v":1546.875},{"$f":"IF('Ceiling Speaker Calculator'!$C$29=\"Square\",CH$1,IF(OR(AND(ODD($A77)=$A77,ODD(CH$2)=CH$2),AND(EVEN($A77)=$A77,EVEN(CH$2)=CH$2)),CH$1,-100))","v":1565.625},{"$f":"IF('Ceiling Speaker Calculator'!$C$29=\"Square\",CI$1,IF(OR(AND(ODD($A77)=$A77,ODD(CI$2)=CI$2),AND(EVEN($A77)=$A77,EVEN(CI$2)=CI$2)),CI$1,-100))","v":1584.375},{"$f":"IF('Ceiling Speaker Calculator'!$C$29=\"Square\",CJ$1,IF(OR(AND(ODD($A77)=$A77,ODD(CJ$2)=CJ$2),AND(EVEN($A77)=$A77,EVEN(CJ$2)=CJ$2)),CJ$1,-100))","v":1603.125},{"$f":"IF('Ceiling Speaker Calculator'!$C$29=\"Square\",CK$1,IF(OR(AND(ODD($A77)=$A77,ODD(CK$2)=CK$2),AND(EVEN($A77)=$A77,EVEN(CK$2)=CK$2)),CK$1,-100))","v":1621.875},{"$f":"IF('Ceiling Speaker Calculator'!$C$29=\"Square\",CL$1,IF(OR(AND(ODD($A77)=$A77,ODD(CL$2)=CL$2),AND(EVEN($A77)=$A77,EVEN(CL$2)=CL$2)),CL$1,-100))","v":1640.625},{"$f":"IF('Ceiling Speaker Calculator'!$C$29=\"Square\",CM$1,IF(OR(AND(ODD($A77)=$A77,ODD(CM$2)=CM$2),AND(EVEN($A77)=$A77,EVEN(CM$2)=CM$2)),CM$1,-100))","v":1659.375},{"$f":"IF('Ceiling Speaker Calculator'!$C$29=\"Square\",CN$1,IF(OR(AND(ODD($A77)=$A77,ODD(CN$2)=CN$2),AND(EVEN($A77)=$A77,EVEN(CN$2)=CN$2)),CN$1,-100))","v":1678.125},{"$f":"IF('Ceiling Speaker Calculator'!$C$29=\"Square\",CO$1,IF(OR(AND(ODD($A77)=$A77,ODD(CO$2)=CO$2),AND(EVEN($A77)=$A77,EVEN(CO$2)=CO$2)),CO$1,-100))","v":1696.875},{"$f":"IF('Ceiling Speaker Calculator'!$C$29=\"Square\",CP$1,IF(OR(AND(ODD($A77)=$A77,ODD(CP$2)=CP$2),AND(EVEN($A77)=$A77,EVEN(CP$2)=CP$2)),CP$1,-100))","v":1715.625},{"$f":"IF('Ceiling Speaker Calculator'!$C$29=\"Square\",CQ$1,IF(OR(AND(ODD($A77)=$A77,ODD(CQ$2)=CQ$2),AND(EVEN($A77)=$A77,EVEN(CQ$2)=CQ$2)),CQ$1,-100))","v":1734.375},{"$f":"IF('Ceiling Speaker Calculator'!$C$29=\"Square\",CR$1,IF(OR(AND(ODD($A77)=$A77,ODD(CR$2)=CR$2),AND(EVEN($A77)=$A77,EVEN(CR$2)=CR$2)),CR$1,-100))","v":1753.125},{"$f":"IF('Ceiling Speaker Calculator'!$C$29=\"Square\",CS$1,IF(OR(AND(ODD($A77)=$A77,ODD(CS$2)=CS$2),AND(EVEN($A77)=$A77,EVEN(CS$2)=CS$2)),CS$1,-100))","v":1771.875},{"$f":"IF('Ceiling Speaker Calculator'!$C$29=\"Square\",CT$1,IF(OR(AND(ODD($A77)=$A77,ODD(CT$2)=CT$2),AND(EVEN($A77)=$A77,EVEN(CT$2)=CT$2)),CT$1,-100))","v":1790.625},{"$f":"IF('Ceiling Speaker Calculator'!$C$29=\"Square\",CU$1,IF(OR(AND(ODD($A77)=$A77,ODD(CU$2)=CU$2),AND(EVEN($A77)=$A77,EVEN(CU$2)=CU$2)),CU$1,-100))","v":1809.375},{"$f":"IF('Ceiling Speaker Calculator'!$C$29=\"Square\",CV$1,IF(OR(AND(ODD($A77)=$A77,ODD(CV$2)=CV$2),AND(EVEN($A77)=$A77,EVEN(CV$2)=CV$2)),CV$1,-100))","v":1828.125},{"$f":"IF('Ceiling Speaker Calculator'!$C$29=\"Square\",CW$1,IF(OR(AND(ODD($A77)=$A77,ODD(CW$2)=CW$2),AND(EVEN($A77)=$A77,EVEN(CW$2)=CW$2)),CW$1,-100))","v":1846.875},{"$f":"IF('Ceiling Speaker Calculator'!$C$29=\"Square\",CX$1,IF(OR(AND(ODD($A77)=$A77,ODD(CX$2)=CX$2),AND(EVEN($A77)=$A77,EVEN(CX$2)=CX$2)),CX$1,-100))","v":1865.625}]
[76,{"$f":"B77+'Ceiling Speaker Calculator'!$K$16","v":1510},{"$f":"IF('Ceiling Speaker Calculator'!$C$29=\"Square\",C$1,IF(OR(AND(ODD($A78)=$A78,ODD(C$2)=C$2),AND(EVEN($A78)=$A78,EVEN(C$2)=C$2)),C$1,-100))","v":9.375},{"$f":"IF('Ceiling Speaker Calculator'!$C$29=\"Square\",D$1,IF(OR(AND(ODD($A78)=$A78,ODD(D$2)=D$2),AND(EVEN($A78)=$A78,EVEN(D$2)=D$2)),D$1,-100))","v":28.125},{"$f":"IF('Ceiling Speaker Calculator'!$C$29=\"Square\",E$1,IF(OR(AND(ODD($A78)=$A78,ODD(E$2)=E$2),AND(EVEN($A78)=$A78,EVEN(E$2)=E$2)),E$1,-100))","v":46.875},{"$f":"IF('Ceiling Speaker Calculator'!$C$29=\"Square\",F$1,IF(OR(AND(ODD($A78)=$A78,ODD(F$2)=F$2),AND(EVEN($A78)=$A78,EVEN(F$2)=F$2)),F$1,-100))","v":65.625},{"$f":"IF('Ceiling Speaker Calculator'!$C$29=\"Square\",G$1,IF(OR(AND(ODD($A78)=$A78,ODD(G$2)=G$2),AND(EVEN($A78)=$A78,EVEN(G$2)=G$2)),G$1,-100))","v":84.375},{"$f":"IF('Ceiling Speaker Calculator'!$C$29=\"Square\",H$1,IF(OR(AND(ODD($A78)=$A78,ODD(H$2)=H$2),AND(EVEN($A78)=$A78,EVEN(H$2)=H$2)),H$1,-100))","v":103.125},{"$f":"IF('Ceiling Speaker Calculator'!$C$29=\"Square\",I$1,IF(OR(AND(ODD($A78)=$A78,ODD(I$2)=I$2),AND(EVEN($A78)=$A78,EVEN(I$2)=I$2)),I$1,-100))","v":121.875},{"$f":"IF('Ceiling Speaker Calculator'!$C$29=\"Square\",J$1,IF(OR(AND(ODD($A78)=$A78,ODD(J$2)=J$2),AND(EVEN($A78)=$A78,EVEN(J$2)=J$2)),J$1,-100))","v":140.625},{"$f":"IF('Ceiling Speaker Calculator'!$C$29=\"Square\",K$1,IF(OR(AND(ODD($A78)=$A78,ODD(K$2)=K$2),AND(EVEN($A78)=$A78,EVEN(K$2)=K$2)),K$1,-100))","v":159.375},{"$f":"IF('Ceiling Speaker Calculator'!$C$29=\"Square\",L$1,IF(OR(AND(ODD($A78)=$A78,ODD(L$2)=L$2),AND(EVEN($A78)=$A78,EVEN(L$2)=L$2)),L$1,-100))","v":178.125},{"$f":"IF('Ceiling Speaker Calculator'!$C$29=\"Square\",M$1,IF(OR(AND(ODD($A78)=$A78,ODD(M$2)=M$2),AND(EVEN($A78)=$A78,EVEN(M$2)=M$2)),M$1,-100))","v":196.875},{"$f":"IF('Ceiling Speaker Calculator'!$C$29=\"Square\",N$1,IF(OR(AND(ODD($A78)=$A78,ODD(N$2)=N$2),AND(EVEN($A78)=$A78,EVEN(N$2)=N$2)),N$1,-100))","v":215.625},{"$f":"IF('Ceiling Speaker Calculator'!$C$29=\"Square\",O$1,IF(OR(AND(ODD($A78)=$A78,ODD(O$2)=O$2),AND(EVEN($A78)=$A78,EVEN(O$2)=O$2)),O$1,-100))","v":234.375},{"$f":"IF('Ceiling Speaker Calculator'!$C$29=\"Square\",P$1,IF(OR(AND(ODD($A78)=$A78,ODD(P$2)=P$2),AND(EVEN($A78)=$A78,EVEN(P$2)=P$2)),P$1,-100))","v":253.125},{"$f":"IF('Ceiling Speaker Calculator'!$C$29=\"Square\",Q$1,IF(OR(AND(ODD($A78)=$A78,ODD(Q$2)=Q$2),AND(EVEN($A78)=$A78,EVEN(Q$2)=Q$2)),Q$1,-100))","v":271.875},{"$f":"IF('Ceiling Speaker Calculator'!$C$29=\"Square\",R$1,IF(OR(AND(ODD($A78)=$A78,ODD(R$2)=R$2),AND(EVEN($A78)=$A78,EVEN(R$2)=R$2)),R$1,-100))","v":290.625},{"$f":"IF('Ceiling Speaker Calculator'!$C$29=\"Square\",S$1,IF(OR(AND(ODD($A78)=$A78,ODD(S$2)=S$2),AND(EVEN($A78)=$A78,EVEN(S$2)=S$2)),S$1,-100))","v":309.375},{"$f":"IF('Ceiling Speaker Calculator'!$C$29=\"Square\",T$1,IF(OR(AND(ODD($A78)=$A78,ODD(T$2)=T$2),AND(EVEN($A78)=$A78,EVEN(T$2)=T$2)),T$1,-100))","v":328.125},{"$f":"IF('Ceiling Speaker Calculator'!$C$29=\"Square\",U$1,IF(OR(AND(ODD($A78)=$A78,ODD(U$2)=U$2),AND(EVEN($A78)=$A78,EVEN(U$2)=U$2)),U$1,-100))","v":346.875},{"$f":"IF('Ceiling Speaker Calculator'!$C$29=\"Square\",V$1,IF(OR(AND(ODD($A78)=$A78,ODD(V$2)=V$2),AND(EVEN($A78)=$A78,EVEN(V$2)=V$2)),V$1,-100))","v":365.625},{"$f":"IF('Ceiling Speaker Calculator'!$C$29=\"Square\",W$1,IF(OR(AND(ODD($A78)=$A78,ODD(W$2)=W$2),AND(EVEN($A78)=$A78,EVEN(W$2)=W$2)),W$1,-100))","v":384.375},{"$f":"IF('Ceiling Speaker Calculator'!$C$29=\"Square\",X$1,IF(OR(AND(ODD($A78)=$A78,ODD(X$2)=X$2),AND(EVEN($A78)=$A78,EVEN(X$2)=X$2)),X$1,-100))","v":403.125},{"$f":"IF('Ceiling Speaker Calculator'!$C$29=\"Square\",Y$1,IF(OR(AND(ODD($A78)=$A78,ODD(Y$2)=Y$2),AND(EVEN($A78)=$A78,EVEN(Y$2)=Y$2)),Y$1,-100))","v":421.875},{"$f":"IF('Ceiling Speaker Calculator'!$C$29=\"Square\",Z$1,IF(OR(AND(ODD($A78)=$A78,ODD(Z$2)=Z$2),AND(EVEN($A78)=$A78,EVEN(Z$2)=Z$2)),Z$1,-100))","v":440.625},{"$f":"IF('Ceiling Speaker Calculator'!$C$29=\"Square\",AA$1,IF(OR(AND(ODD($A78)=$A78,ODD(AA$2)=AA$2),AND(EVEN($A78)=$A78,EVEN(AA$2)=AA$2)),AA$1,-100))","v":459.375},{"$f":"IF('Ceiling Speaker Calculator'!$C$29=\"Square\",AB$1,IF(OR(AND(ODD($A78)=$A78,ODD(AB$2)=AB$2),AND(EVEN($A78)=$A78,EVEN(AB$2)=AB$2)),AB$1,-100))","v":478.125},{"$f":"IF('Ceiling Speaker Calculator'!$C$29=\"Square\",AC$1,IF(OR(AND(ODD($A78)=$A78,ODD(AC$2)=AC$2),AND(EVEN($A78)=$A78,EVEN(AC$2)=AC$2)),AC$1,-100))","v":496.875},{"$f":"IF('Ceiling Speaker Calculator'!$C$29=\"Square\",AD$1,IF(OR(AND(ODD($A78)=$A78,ODD(AD$2)=AD$2),AND(EVEN($A78)=$A78,EVEN(AD$2)=AD$2)),AD$1,-100))","v":515.625},{"$f":"IF('Ceiling Speaker Calculator'!$C$29=\"Square\",AE$1,IF(OR(AND(ODD($A78)=$A78,ODD(AE$2)=AE$2),AND(EVEN($A78)=$A78,EVEN(AE$2)=AE$2)),AE$1,-100))","v":534.375},{"$f":"IF('Ceiling Speaker Calculator'!$C$29=\"Square\",AF$1,IF(OR(AND(ODD($A78)=$A78,ODD(AF$2)=AF$2),AND(EVEN($A78)=$A78,EVEN(AF$2)=AF$2)),AF$1,-100))","v":553.125},{"$f":"IF('Ceiling Speaker Calculator'!$C$29=\"Square\",AG$1,IF(OR(AND(ODD($A78)=$A78,ODD(AG$2)=AG$2),AND(EVEN($A78)=$A78,EVEN(AG$2)=AG$2)),AG$1,-100))","v":571.875},{"$f":"IF('Ceiling Speaker Calculator'!$C$29=\"Square\",AH$1,IF(OR(AND(ODD($A78)=$A78,ODD(AH$2)=AH$2),AND(EVEN($A78)=$A78,EVEN(AH$2)=AH$2)),AH$1,-100))","v":590.625},{"$f":"IF('Ceiling Speaker Calculator'!$C$29=\"Square\",AI$1,IF(OR(AND(ODD($A78)=$A78,ODD(AI$2)=AI$2),AND(EVEN($A78)=$A78,EVEN(AI$2)=AI$2)),AI$1,-100))","v":609.375},{"$f":"IF('Ceiling Speaker Calculator'!$C$29=\"Square\",AJ$1,IF(OR(AND(ODD($A78)=$A78,ODD(AJ$2)=AJ$2),AND(EVEN($A78)=$A78,EVEN(AJ$2)=AJ$2)),AJ$1,-100))","v":628.125},{"$f":"IF('Ceiling Speaker Calculator'!$C$29=\"Square\",AK$1,IF(OR(AND(ODD($A78)=$A78,ODD(AK$2)=AK$2),AND(EVEN($A78)=$A78,EVEN(AK$2)=AK$2)),AK$1,-100))","v":646.875},{"$f":"IF('Ceiling Speaker Calculator'!$C$29=\"Square\",AL$1,IF(OR(AND(ODD($A78)=$A78,ODD(AL$2)=AL$2),AND(EVEN($A78)=$A78,EVEN(AL$2)=AL$2)),AL$1,-100))","v":665.625},{"$f":"IF('Ceiling Speaker Calculator'!$C$29=\"Square\",AM$1,IF(OR(AND(ODD($A78)=$A78,ODD(AM$2)=AM$2),AND(EVEN($A78)=$A78,EVEN(AM$2)=AM$2)),AM$1,-100))","v":684.375},{"$f":"IF('Ceiling Speaker Calculator'!$C$29=\"Square\",AN$1,IF(OR(AND(ODD($A78)=$A78,ODD(AN$2)=AN$2),AND(EVEN($A78)=$A78,EVEN(AN$2)=AN$2)),AN$1,-100))","v":703.125},{"$f":"IF('Ceiling Speaker Calculator'!$C$29=\"Square\",AO$1,IF(OR(AND(ODD($A78)=$A78,ODD(AO$2)=AO$2),AND(EVEN($A78)=$A78,EVEN(AO$2)=AO$2)),AO$1,-100))","v":721.875},{"$f":"IF('Ceiling Speaker Calculator'!$C$29=\"Square\",AP$1,IF(OR(AND(ODD($A78)=$A78,ODD(AP$2)=AP$2),AND(EVEN($A78)=$A78,EVEN(AP$2)=AP$2)),AP$1,-100))","v":740.625},{"$f":"IF('Ceiling Speaker Calculator'!$C$29=\"Square\",AQ$1,IF(OR(AND(ODD($A78)=$A78,ODD(AQ$2)=AQ$2),AND(EVEN($A78)=$A78,EVEN(AQ$2)=AQ$2)),AQ$1,-100))","v":759.375},{"$f":"IF('Ceiling Speaker Calculator'!$C$29=\"Square\",AR$1,IF(OR(AND(ODD($A78)=$A78,ODD(AR$2)=AR$2),AND(EVEN($A78)=$A78,EVEN(AR$2)=AR$2)),AR$1,-100))","v":778.125},{"$f":"IF('Ceiling Speaker Calculator'!$C$29=\"Square\",AS$1,IF(OR(AND(ODD($A78)=$A78,ODD(AS$2)=AS$2),AND(EVEN($A78)=$A78,EVEN(AS$2)=AS$2)),AS$1,-100))","v":796.875},{"$f":"IF('Ceiling Speaker Calculator'!$C$29=\"Square\",AT$1,IF(OR(AND(ODD($A78)=$A78,ODD(AT$2)=AT$2),AND(EVEN($A78)=$A78,EVEN(AT$2)=AT$2)),AT$1,-100))","v":815.625},{"$f":"IF('Ceiling Speaker Calculator'!$C$29=\"Square\",AU$1,IF(OR(AND(ODD($A78)=$A78,ODD(AU$2)=AU$2),AND(EVEN($A78)=$A78,EVEN(AU$2)=AU$2)),AU$1,-100))","v":834.375},{"$f":"IF('Ceiling Speaker Calculator'!$C$29=\"Square\",AV$1,IF(OR(AND(ODD($A78)=$A78,ODD(AV$2)=AV$2),AND(EVEN($A78)=$A78,EVEN(AV$2)=AV$2)),AV$1,-100))","v":853.125},{"$f":"IF('Ceiling Speaker Calculator'!$C$29=\"Square\",AW$1,IF(OR(AND(ODD($A78)=$A78,ODD(AW$2)=AW$2),AND(EVEN($A78)=$A78,EVEN(AW$2)=AW$2)),AW$1,-100))","v":871.875},{"$f":"IF('Ceiling Speaker Calculator'!$C$29=\"Square\",AX$1,IF(OR(AND(ODD($A78)=$A78,ODD(AX$2)=AX$2),AND(EVEN($A78)=$A78,EVEN(AX$2)=AX$2)),AX$1,-100))","v":890.625},{"$f":"IF('Ceiling Speaker Calculator'!$C$29=\"Square\",AY$1,IF(OR(AND(ODD($A78)=$A78,ODD(AY$2)=AY$2),AND(EVEN($A78)=$A78,EVEN(AY$2)=AY$2)),AY$1,-100))","v":909.375},{"$f":"IF('Ceiling Speaker Calculator'!$C$29=\"Square\",AZ$1,IF(OR(AND(ODD($A78)=$A78,ODD(AZ$2)=AZ$2),AND(EVEN($A78)=$A78,EVEN(AZ$2)=AZ$2)),AZ$1,-100))","v":928.125},{"$f":"IF('Ceiling Speaker Calculator'!$C$29=\"Square\",BA$1,IF(OR(AND(ODD($A78)=$A78,ODD(BA$2)=BA$2),AND(EVEN($A78)=$A78,EVEN(BA$2)=BA$2)),BA$1,-100))","v":946.875},{"$f":"IF('Ceiling Speaker Calculator'!$C$29=\"Square\",BB$1,IF(OR(AND(ODD($A78)=$A78,ODD(BB$2)=BB$2),AND(EVEN($A78)=$A78,EVEN(BB$2)=BB$2)),BB$1,-100))","v":965.625},{"$f":"IF('Ceiling Speaker Calculator'!$C$29=\"Square\",BC$1,IF(OR(AND(ODD($A78)=$A78,ODD(BC$2)=BC$2),AND(EVEN($A78)=$A78,EVEN(BC$2)=BC$2)),BC$1,-100))","v":984.375},{"$f":"IF('Ceiling Speaker Calculator'!$C$29=\"Square\",BD$1,IF(OR(AND(ODD($A78)=$A78,ODD(BD$2)=BD$2),AND(EVEN($A78)=$A78,EVEN(BD$2)=BD$2)),BD$1,-100))","v":1003.125},{"$f":"IF('Ceiling Speaker Calculator'!$C$29=\"Square\",BE$1,IF(OR(AND(ODD($A78)=$A78,ODD(BE$2)=BE$2),AND(EVEN($A78)=$A78,EVEN(BE$2)=BE$2)),BE$1,-100))","v":1021.875},{"$f":"IF('Ceiling Speaker Calculator'!$C$29=\"Square\",BF$1,IF(OR(AND(ODD($A78)=$A78,ODD(BF$2)=BF$2),AND(EVEN($A78)=$A78,EVEN(BF$2)=BF$2)),BF$1,-100))","v":1040.625},{"$f":"IF('Ceiling Speaker Calculator'!$C$29=\"Square\",BG$1,IF(OR(AND(ODD($A78)=$A78,ODD(BG$2)=BG$2),AND(EVEN($A78)=$A78,EVEN(BG$2)=BG$2)),BG$1,-100))","v":1059.375},{"$f":"IF('Ceiling Speaker Calculator'!$C$29=\"Square\",BH$1,IF(OR(AND(ODD($A78)=$A78,ODD(BH$2)=BH$2),AND(EVEN($A78)=$A78,EVEN(BH$2)=BH$2)),BH$1,-100))","v":1078.125},{"$f":"IF('Ceiling Speaker Calculator'!$C$29=\"Square\",BI$1,IF(OR(AND(ODD($A78)=$A78,ODD(BI$2)=BI$2),AND(EVEN($A78)=$A78,EVEN(BI$2)=BI$2)),BI$1,-100))","v":1096.875},{"$f":"IF('Ceiling Speaker Calculator'!$C$29=\"Square\",BJ$1,IF(OR(AND(ODD($A78)=$A78,ODD(BJ$2)=BJ$2),AND(EVEN($A78)=$A78,EVEN(BJ$2)=BJ$2)),BJ$1,-100))","v":1115.625},{"$f":"IF('Ceiling Speaker Calculator'!$C$29=\"Square\",BK$1,IF(OR(AND(ODD($A78)=$A78,ODD(BK$2)=BK$2),AND(EVEN($A78)=$A78,EVEN(BK$2)=BK$2)),BK$1,-100))","v":1134.375},{"$f":"IF('Ceiling Speaker Calculator'!$C$29=\"Square\",BL$1,IF(OR(AND(ODD($A78)=$A78,ODD(BL$2)=BL$2),AND(EVEN($A78)=$A78,EVEN(BL$2)=BL$2)),BL$1,-100))","v":1153.125},{"$f":"IF('Ceiling Speaker Calculator'!$C$29=\"Square\",BM$1,IF(OR(AND(ODD($A78)=$A78,ODD(BM$2)=BM$2),AND(EVEN($A78)=$A78,EVEN(BM$2)=BM$2)),BM$1,-100))","v":1171.875},{"$f":"IF('Ceiling Speaker Calculator'!$C$29=\"Square\",BN$1,IF(OR(AND(ODD($A78)=$A78,ODD(BN$2)=BN$2),AND(EVEN($A78)=$A78,EVEN(BN$2)=BN$2)),BN$1,-100))","v":1190.625},{"$f":"IF('Ceiling Speaker Calculator'!$C$29=\"Square\",BO$1,IF(OR(AND(ODD($A78)=$A78,ODD(BO$2)=BO$2),AND(EVEN($A78)=$A78,EVEN(BO$2)=BO$2)),BO$1,-100))","v":1209.375},{"$f":"IF('Ceiling Speaker Calculator'!$C$29=\"Square\",BP$1,IF(OR(AND(ODD($A78)=$A78,ODD(BP$2)=BP$2),AND(EVEN($A78)=$A78,EVEN(BP$2)=BP$2)),BP$1,-100))","v":1228.125},{"$f":"IF('Ceiling Speaker Calculator'!$C$29=\"Square\",BQ$1,IF(OR(AND(ODD($A78)=$A78,ODD(BQ$2)=BQ$2),AND(EVEN($A78)=$A78,EVEN(BQ$2)=BQ$2)),BQ$1,-100))","v":1246.875},{"$f":"IF('Ceiling Speaker Calculator'!$C$29=\"Square\",BR$1,IF(OR(AND(ODD($A78)=$A78,ODD(BR$2)=BR$2),AND(EVEN($A78)=$A78,EVEN(BR$2)=BR$2)),BR$1,-100))","v":1265.625},{"$f":"IF('Ceiling Speaker Calculator'!$C$29=\"Square\",BS$1,IF(OR(AND(ODD($A78)=$A78,ODD(BS$2)=BS$2),AND(EVEN($A78)=$A78,EVEN(BS$2)=BS$2)),BS$1,-100))","v":1284.375},{"$f":"IF('Ceiling Speaker Calculator'!$C$29=\"Square\",BT$1,IF(OR(AND(ODD($A78)=$A78,ODD(BT$2)=BT$2),AND(EVEN($A78)=$A78,EVEN(BT$2)=BT$2)),BT$1,-100))","v":1303.125},{"$f":"IF('Ceiling Speaker Calculator'!$C$29=\"Square\",BU$1,IF(OR(AND(ODD($A78)=$A78,ODD(BU$2)=BU$2),AND(EVEN($A78)=$A78,EVEN(BU$2)=BU$2)),BU$1,-100))","v":1321.875},{"$f":"IF('Ceiling Speaker Calculator'!$C$29=\"Square\",BV$1,IF(OR(AND(ODD($A78)=$A78,ODD(BV$2)=BV$2),AND(EVEN($A78)=$A78,EVEN(BV$2)=BV$2)),BV$1,-100))","v":1340.625},{"$f":"IF('Ceiling Speaker Calculator'!$C$29=\"Square\",BW$1,IF(OR(AND(ODD($A78)=$A78,ODD(BW$2)=BW$2),AND(EVEN($A78)=$A78,EVEN(BW$2)=BW$2)),BW$1,-100))","v":1359.375},{"$f":"IF('Ceiling Speaker Calculator'!$C$29=\"Square\",BX$1,IF(OR(AND(ODD($A78)=$A78,ODD(BX$2)=BX$2),AND(EVEN($A78)=$A78,EVEN(BX$2)=BX$2)),BX$1,-100))","v":1378.125},{"$f":"IF('Ceiling Speaker Calculator'!$C$29=\"Square\",BY$1,IF(OR(AND(ODD($A78)=$A78,ODD(BY$2)=BY$2),AND(EVEN($A78)=$A78,EVEN(BY$2)=BY$2)),BY$1,-100))","v":1396.875},{"$f":"IF('Ceiling Speaker Calculator'!$C$29=\"Square\",BZ$1,IF(OR(AND(ODD($A78)=$A78,ODD(BZ$2)=BZ$2),AND(EVEN($A78)=$A78,EVEN(BZ$2)=BZ$2)),BZ$1,-100))","v":1415.625},{"$f":"IF('Ceiling Speaker Calculator'!$C$29=\"Square\",CA$1,IF(OR(AND(ODD($A78)=$A78,ODD(CA$2)=CA$2),AND(EVEN($A78)=$A78,EVEN(CA$2)=CA$2)),CA$1,-100))","v":1434.375},{"$f":"IF('Ceiling Speaker Calculator'!$C$29=\"Square\",CB$1,IF(OR(AND(ODD($A78)=$A78,ODD(CB$2)=CB$2),AND(EVEN($A78)=$A78,EVEN(CB$2)=CB$2)),CB$1,-100))","v":1453.125},{"$f":"IF('Ceiling Speaker Calculator'!$C$29=\"Square\",CC$1,IF(OR(AND(ODD($A78)=$A78,ODD(CC$2)=CC$2),AND(EVEN($A78)=$A78,EVEN(CC$2)=CC$2)),CC$1,-100))","v":1471.875},{"$f":"IF('Ceiling Speaker Calculator'!$C$29=\"Square\",CD$1,IF(OR(AND(ODD($A78)=$A78,ODD(CD$2)=CD$2),AND(EVEN($A78)=$A78,EVEN(CD$2)=CD$2)),CD$1,-100))","v":1490.625},{"$f":"IF('Ceiling Speaker Calculator'!$C$29=\"Square\",CE$1,IF(OR(AND(ODD($A78)=$A78,ODD(CE$2)=CE$2),AND(EVEN($A78)=$A78,EVEN(CE$2)=CE$2)),CE$1,-100))","v":1509.375},{"$f":"IF('Ceiling Speaker Calculator'!$C$29=\"Square\",CF$1,IF(OR(AND(ODD($A78)=$A78,ODD(CF$2)=CF$2),AND(EVEN($A78)=$A78,EVEN(CF$2)=CF$2)),CF$1,-100))","v":1528.125},{"$f":"IF('Ceiling Speaker Calculator'!$C$29=\"Square\",CG$1,IF(OR(AND(ODD($A78)=$A78,ODD(CG$2)=CG$2),AND(EVEN($A78)=$A78,EVEN(CG$2)=CG$2)),CG$1,-100))","v":1546.875},{"$f":"IF('Ceiling Speaker Calculator'!$C$29=\"Square\",CH$1,IF(OR(AND(ODD($A78)=$A78,ODD(CH$2)=CH$2),AND(EVEN($A78)=$A78,EVEN(CH$2)=CH$2)),CH$1,-100))","v":1565.625},{"$f":"IF('Ceiling Speaker Calculator'!$C$29=\"Square\",CI$1,IF(OR(AND(ODD($A78)=$A78,ODD(CI$2)=CI$2),AND(EVEN($A78)=$A78,EVEN(CI$2)=CI$2)),CI$1,-100))","v":1584.375},{"$f":"IF('Ceiling Speaker Calculator'!$C$29=\"Square\",CJ$1,IF(OR(AND(ODD($A78)=$A78,ODD(CJ$2)=CJ$2),AND(EVEN($A78)=$A78,EVEN(CJ$2)=CJ$2)),CJ$1,-100))","v":1603.125},{"$f":"IF('Ceiling Speaker Calculator'!$C$29=\"Square\",CK$1,IF(OR(AND(ODD($A78)=$A78,ODD(CK$2)=CK$2),AND(EVEN($A78)=$A78,EVEN(CK$2)=CK$2)),CK$1,-100))","v":1621.875},{"$f":"IF('Ceiling Speaker Calculator'!$C$29=\"Square\",CL$1,IF(OR(AND(ODD($A78)=$A78,ODD(CL$2)=CL$2),AND(EVEN($A78)=$A78,EVEN(CL$2)=CL$2)),CL$1,-100))","v":1640.625},{"$f":"IF('Ceiling Speaker Calculator'!$C$29=\"Square\",CM$1,IF(OR(AND(ODD($A78)=$A78,ODD(CM$2)=CM$2),AND(EVEN($A78)=$A78,EVEN(CM$2)=CM$2)),CM$1,-100))","v":1659.375},{"$f":"IF('Ceiling Speaker Calculator'!$C$29=\"Square\",CN$1,IF(OR(AND(ODD($A78)=$A78,ODD(CN$2)=CN$2),AND(EVEN($A78)=$A78,EVEN(CN$2)=CN$2)),CN$1,-100))","v":1678.125},{"$f":"IF('Ceiling Speaker Calculator'!$C$29=\"Square\",CO$1,IF(OR(AND(ODD($A78)=$A78,ODD(CO$2)=CO$2),AND(EVEN($A78)=$A78,EVEN(CO$2)=CO$2)),CO$1,-100))","v":1696.875},{"$f":"IF('Ceiling Speaker Calculator'!$C$29=\"Square\",CP$1,IF(OR(AND(ODD($A78)=$A78,ODD(CP$2)=CP$2),AND(EVEN($A78)=$A78,EVEN(CP$2)=CP$2)),CP$1,-100))","v":1715.625},{"$f":"IF('Ceiling Speaker Calculator'!$C$29=\"Square\",CQ$1,IF(OR(AND(ODD($A78)=$A78,ODD(CQ$2)=CQ$2),AND(EVEN($A78)=$A78,EVEN(CQ$2)=CQ$2)),CQ$1,-100))","v":1734.375},{"$f":"IF('Ceiling Speaker Calculator'!$C$29=\"Square\",CR$1,IF(OR(AND(ODD($A78)=$A78,ODD(CR$2)=CR$2),AND(EVEN($A78)=$A78,EVEN(CR$2)=CR$2)),CR$1,-100))","v":1753.125},{"$f":"IF('Ceiling Speaker Calculator'!$C$29=\"Square\",CS$1,IF(OR(AND(ODD($A78)=$A78,ODD(CS$2)=CS$2),AND(EVEN($A78)=$A78,EVEN(CS$2)=CS$2)),CS$1,-100))","v":1771.875},{"$f":"IF('Ceiling Speaker Calculator'!$C$29=\"Square\",CT$1,IF(OR(AND(ODD($A78)=$A78,ODD(CT$2)=CT$2),AND(EVEN($A78)=$A78,EVEN(CT$2)=CT$2)),CT$1,-100))","v":1790.625},{"$f":"IF('Ceiling Speaker Calculator'!$C$29=\"Square\",CU$1,IF(OR(AND(ODD($A78)=$A78,ODD(CU$2)=CU$2),AND(EVEN($A78)=$A78,EVEN(CU$2)=CU$2)),CU$1,-100))","v":1809.375},{"$f":"IF('Ceiling Speaker Calculator'!$C$29=\"Square\",CV$1,IF(OR(AND(ODD($A78)=$A78,ODD(CV$2)=CV$2),AND(EVEN($A78)=$A78,EVEN(CV$2)=CV$2)),CV$1,-100))","v":1828.125},{"$f":"IF('Ceiling Speaker Calculator'!$C$29=\"Square\",CW$1,IF(OR(AND(ODD($A78)=$A78,ODD(CW$2)=CW$2),AND(EVEN($A78)=$A78,EVEN(CW$2)=CW$2)),CW$1,-100))","v":1846.875},{"$f":"IF('Ceiling Speaker Calculator'!$C$29=\"Square\",CX$1,IF(OR(AND(ODD($A78)=$A78,ODD(CX$2)=CX$2),AND(EVEN($A78)=$A78,EVEN(CX$2)=CX$2)),CX$1,-100))","v":1865.625}]
[77,{"$f":"B78+'Ceiling Speaker Calculator'!$K$16","v":1530},{"$f":"IF('Ceiling Speaker Calculator'!$C$29=\"Square\",C$1,IF(OR(AND(ODD($A79)=$A79,ODD(C$2)=C$2),AND(EVEN($A79)=$A79,EVEN(C$2)=C$2)),C$1,-100))","v":9.375},{"$f":"IF('Ceiling Speaker Calculator'!$C$29=\"Square\",D$1,IF(OR(AND(ODD($A79)=$A79,ODD(D$2)=D$2),AND(EVEN($A79)=$A79,EVEN(D$2)=D$2)),D$1,-100))","v":28.125},{"$f":"IF('Ceiling Speaker Calculator'!$C$29=\"Square\",E$1,IF(OR(AND(ODD($A79)=$A79,ODD(E$2)=E$2),AND(EVEN($A79)=$A79,EVEN(E$2)=E$2)),E$1,-100))","v":46.875},{"$f":"IF('Ceiling Speaker Calculator'!$C$29=\"Square\",F$1,IF(OR(AND(ODD($A79)=$A79,ODD(F$2)=F$2),AND(EVEN($A79)=$A79,EVEN(F$2)=F$2)),F$1,-100))","v":65.625},{"$f":"IF('Ceiling Speaker Calculator'!$C$29=\"Square\",G$1,IF(OR(AND(ODD($A79)=$A79,ODD(G$2)=G$2),AND(EVEN($A79)=$A79,EVEN(G$2)=G$2)),G$1,-100))","v":84.375},{"$f":"IF('Ceiling Speaker Calculator'!$C$29=\"Square\",H$1,IF(OR(AND(ODD($A79)=$A79,ODD(H$2)=H$2),AND(EVEN($A79)=$A79,EVEN(H$2)=H$2)),H$1,-100))","v":103.125},{"$f":"IF('Ceiling Speaker Calculator'!$C$29=\"Square\",I$1,IF(OR(AND(ODD($A79)=$A79,ODD(I$2)=I$2),AND(EVEN($A79)=$A79,EVEN(I$2)=I$2)),I$1,-100))","v":121.875},{"$f":"IF('Ceiling Speaker Calculator'!$C$29=\"Square\",J$1,IF(OR(AND(ODD($A79)=$A79,ODD(J$2)=J$2),AND(EVEN($A79)=$A79,EVEN(J$2)=J$2)),J$1,-100))","v":140.625},{"$f":"IF('Ceiling Speaker Calculator'!$C$29=\"Square\",K$1,IF(OR(AND(ODD($A79)=$A79,ODD(K$2)=K$2),AND(EVEN($A79)=$A79,EVEN(K$2)=K$2)),K$1,-100))","v":159.375},{"$f":"IF('Ceiling Speaker Calculator'!$C$29=\"Square\",L$1,IF(OR(AND(ODD($A79)=$A79,ODD(L$2)=L$2),AND(EVEN($A79)=$A79,EVEN(L$2)=L$2)),L$1,-100))","v":178.125},{"$f":"IF('Ceiling Speaker Calculator'!$C$29=\"Square\",M$1,IF(OR(AND(ODD($A79)=$A79,ODD(M$2)=M$2),AND(EVEN($A79)=$A79,EVEN(M$2)=M$2)),M$1,-100))","v":196.875},{"$f":"IF('Ceiling Speaker Calculator'!$C$29=\"Square\",N$1,IF(OR(AND(ODD($A79)=$A79,ODD(N$2)=N$2),AND(EVEN($A79)=$A79,EVEN(N$2)=N$2)),N$1,-100))","v":215.625},{"$f":"IF('Ceiling Speaker Calculator'!$C$29=\"Square\",O$1,IF(OR(AND(ODD($A79)=$A79,ODD(O$2)=O$2),AND(EVEN($A79)=$A79,EVEN(O$2)=O$2)),O$1,-100))","v":234.375},{"$f":"IF('Ceiling Speaker Calculator'!$C$29=\"Square\",P$1,IF(OR(AND(ODD($A79)=$A79,ODD(P$2)=P$2),AND(EVEN($A79)=$A79,EVEN(P$2)=P$2)),P$1,-100))","v":253.125},{"$f":"IF('Ceiling Speaker Calculator'!$C$29=\"Square\",Q$1,IF(OR(AND(ODD($A79)=$A79,ODD(Q$2)=Q$2),AND(EVEN($A79)=$A79,EVEN(Q$2)=Q$2)),Q$1,-100))","v":271.875},{"$f":"IF('Ceiling Speaker Calculator'!$C$29=\"Square\",R$1,IF(OR(AND(ODD($A79)=$A79,ODD(R$2)=R$2),AND(EVEN($A79)=$A79,EVEN(R$2)=R$2)),R$1,-100))","v":290.625},{"$f":"IF('Ceiling Speaker Calculator'!$C$29=\"Square\",S$1,IF(OR(AND(ODD($A79)=$A79,ODD(S$2)=S$2),AND(EVEN($A79)=$A79,EVEN(S$2)=S$2)),S$1,-100))","v":309.375},{"$f":"IF('Ceiling Speaker Calculator'!$C$29=\"Square\",T$1,IF(OR(AND(ODD($A79)=$A79,ODD(T$2)=T$2),AND(EVEN($A79)=$A79,EVEN(T$2)=T$2)),T$1,-100))","v":328.125},{"$f":"IF('Ceiling Speaker Calculator'!$C$29=\"Square\",U$1,IF(OR(AND(ODD($A79)=$A79,ODD(U$2)=U$2),AND(EVEN($A79)=$A79,EVEN(U$2)=U$2)),U$1,-100))","v":346.875},{"$f":"IF('Ceiling Speaker Calculator'!$C$29=\"Square\",V$1,IF(OR(AND(ODD($A79)=$A79,ODD(V$2)=V$2),AND(EVEN($A79)=$A79,EVEN(V$2)=V$2)),V$1,-100))","v":365.625},{"$f":"IF('Ceiling Speaker Calculator'!$C$29=\"Square\",W$1,IF(OR(AND(ODD($A79)=$A79,ODD(W$2)=W$2),AND(EVEN($A79)=$A79,EVEN(W$2)=W$2)),W$1,-100))","v":384.375},{"$f":"IF('Ceiling Speaker Calculator'!$C$29=\"Square\",X$1,IF(OR(AND(ODD($A79)=$A79,ODD(X$2)=X$2),AND(EVEN($A79)=$A79,EVEN(X$2)=X$2)),X$1,-100))","v":403.125},{"$f":"IF('Ceiling Speaker Calculator'!$C$29=\"Square\",Y$1,IF(OR(AND(ODD($A79)=$A79,ODD(Y$2)=Y$2),AND(EVEN($A79)=$A79,EVEN(Y$2)=Y$2)),Y$1,-100))","v":421.875},{"$f":"IF('Ceiling Speaker Calculator'!$C$29=\"Square\",Z$1,IF(OR(AND(ODD($A79)=$A79,ODD(Z$2)=Z$2),AND(EVEN($A79)=$A79,EVEN(Z$2)=Z$2)),Z$1,-100))","v":440.625},{"$f":"IF('Ceiling Speaker Calculator'!$C$29=\"Square\",AA$1,IF(OR(AND(ODD($A79)=$A79,ODD(AA$2)=AA$2),AND(EVEN($A79)=$A79,EVEN(AA$2)=AA$2)),AA$1,-100))","v":459.375},{"$f":"IF('Ceiling Speaker Calculator'!$C$29=\"Square\",AB$1,IF(OR(AND(ODD($A79)=$A79,ODD(AB$2)=AB$2),AND(EVEN($A79)=$A79,EVEN(AB$2)=AB$2)),AB$1,-100))","v":478.125},{"$f":"IF('Ceiling Speaker Calculator'!$C$29=\"Square\",AC$1,IF(OR(AND(ODD($A79)=$A79,ODD(AC$2)=AC$2),AND(EVEN($A79)=$A79,EVEN(AC$2)=AC$2)),AC$1,-100))","v":496.875},{"$f":"IF('Ceiling Speaker Calculator'!$C$29=\"Square\",AD$1,IF(OR(AND(ODD($A79)=$A79,ODD(AD$2)=AD$2),AND(EVEN($A79)=$A79,EVEN(AD$2)=AD$2)),AD$1,-100))","v":515.625},{"$f":"IF('Ceiling Speaker Calculator'!$C$29=\"Square\",AE$1,IF(OR(AND(ODD($A79)=$A79,ODD(AE$2)=AE$2),AND(EVEN($A79)=$A79,EVEN(AE$2)=AE$2)),AE$1,-100))","v":534.375},{"$f":"IF('Ceiling Speaker Calculator'!$C$29=\"Square\",AF$1,IF(OR(AND(ODD($A79)=$A79,ODD(AF$2)=AF$2),AND(EVEN($A79)=$A79,EVEN(AF$2)=AF$2)),AF$1,-100))","v":553.125},{"$f":"IF('Ceiling Speaker Calculator'!$C$29=\"Square\",AG$1,IF(OR(AND(ODD($A79)=$A79,ODD(AG$2)=AG$2),AND(EVEN($A79)=$A79,EVEN(AG$2)=AG$2)),AG$1,-100))","v":571.875},{"$f":"IF('Ceiling Speaker Calculator'!$C$29=\"Square\",AH$1,IF(OR(AND(ODD($A79)=$A79,ODD(AH$2)=AH$2),AND(EVEN($A79)=$A79,EVEN(AH$2)=AH$2)),AH$1,-100))","v":590.625},{"$f":"IF('Ceiling Speaker Calculator'!$C$29=\"Square\",AI$1,IF(OR(AND(ODD($A79)=$A79,ODD(AI$2)=AI$2),AND(EVEN($A79)=$A79,EVEN(AI$2)=AI$2)),AI$1,-100))","v":609.375},{"$f":"IF('Ceiling Speaker Calculator'!$C$29=\"Square\",AJ$1,IF(OR(AND(ODD($A79)=$A79,ODD(AJ$2)=AJ$2),AND(EVEN($A79)=$A79,EVEN(AJ$2)=AJ$2)),AJ$1,-100))","v":628.125},{"$f":"IF('Ceiling Speaker Calculator'!$C$29=\"Square\",AK$1,IF(OR(AND(ODD($A79)=$A79,ODD(AK$2)=AK$2),AND(EVEN($A79)=$A79,EVEN(AK$2)=AK$2)),AK$1,-100))","v":646.875},{"$f":"IF('Ceiling Speaker Calculator'!$C$29=\"Square\",AL$1,IF(OR(AND(ODD($A79)=$A79,ODD(AL$2)=AL$2),AND(EVEN($A79)=$A79,EVEN(AL$2)=AL$2)),AL$1,-100))","v":665.625},{"$f":"IF('Ceiling Speaker Calculator'!$C$29=\"Square\",AM$1,IF(OR(AND(ODD($A79)=$A79,ODD(AM$2)=AM$2),AND(EVEN($A79)=$A79,EVEN(AM$2)=AM$2)),AM$1,-100))","v":684.375},{"$f":"IF('Ceiling Speaker Calculator'!$C$29=\"Square\",AN$1,IF(OR(AND(ODD($A79)=$A79,ODD(AN$2)=AN$2),AND(EVEN($A79)=$A79,EVEN(AN$2)=AN$2)),AN$1,-100))","v":703.125},{"$f":"IF('Ceiling Speaker Calculator'!$C$29=\"Square\",AO$1,IF(OR(AND(ODD($A79)=$A79,ODD(AO$2)=AO$2),AND(EVEN($A79)=$A79,EVEN(AO$2)=AO$2)),AO$1,-100))","v":721.875},{"$f":"IF('Ceiling Speaker Calculator'!$C$29=\"Square\",AP$1,IF(OR(AND(ODD($A79)=$A79,ODD(AP$2)=AP$2),AND(EVEN($A79)=$A79,EVEN(AP$2)=AP$2)),AP$1,-100))","v":740.625},{"$f":"IF('Ceiling Speaker Calculator'!$C$29=\"Square\",AQ$1,IF(OR(AND(ODD($A79)=$A79,ODD(AQ$2)=AQ$2),AND(EVEN($A79)=$A79,EVEN(AQ$2)=AQ$2)),AQ$1,-100))","v":759.375},{"$f":"IF('Ceiling Speaker Calculator'!$C$29=\"Square\",AR$1,IF(OR(AND(ODD($A79)=$A79,ODD(AR$2)=AR$2),AND(EVEN($A79)=$A79,EVEN(AR$2)=AR$2)),AR$1,-100))","v":778.125},{"$f":"IF('Ceiling Speaker Calculator'!$C$29=\"Square\",AS$1,IF(OR(AND(ODD($A79)=$A79,ODD(AS$2)=AS$2),AND(EVEN($A79)=$A79,EVEN(AS$2)=AS$2)),AS$1,-100))","v":796.875},{"$f":"IF('Ceiling Speaker Calculator'!$C$29=\"Square\",AT$1,IF(OR(AND(ODD($A79)=$A79,ODD(AT$2)=AT$2),AND(EVEN($A79)=$A79,EVEN(AT$2)=AT$2)),AT$1,-100))","v":815.625},{"$f":"IF('Ceiling Speaker Calculator'!$C$29=\"Square\",AU$1,IF(OR(AND(ODD($A79)=$A79,ODD(AU$2)=AU$2),AND(EVEN($A79)=$A79,EVEN(AU$2)=AU$2)),AU$1,-100))","v":834.375},{"$f":"IF('Ceiling Speaker Calculator'!$C$29=\"Square\",AV$1,IF(OR(AND(ODD($A79)=$A79,ODD(AV$2)=AV$2),AND(EVEN($A79)=$A79,EVEN(AV$2)=AV$2)),AV$1,-100))","v":853.125},{"$f":"IF('Ceiling Speaker Calculator'!$C$29=\"Square\",AW$1,IF(OR(AND(ODD($A79)=$A79,ODD(AW$2)=AW$2),AND(EVEN($A79)=$A79,EVEN(AW$2)=AW$2)),AW$1,-100))","v":871.875},{"$f":"IF('Ceiling Speaker Calculator'!$C$29=\"Square\",AX$1,IF(OR(AND(ODD($A79)=$A79,ODD(AX$2)=AX$2),AND(EVEN($A79)=$A79,EVEN(AX$2)=AX$2)),AX$1,-100))","v":890.625},{"$f":"IF('Ceiling Speaker Calculator'!$C$29=\"Square\",AY$1,IF(OR(AND(ODD($A79)=$A79,ODD(AY$2)=AY$2),AND(EVEN($A79)=$A79,EVEN(AY$2)=AY$2)),AY$1,-100))","v":909.375},{"$f":"IF('Ceiling Speaker Calculator'!$C$29=\"Square\",AZ$1,IF(OR(AND(ODD($A79)=$A79,ODD(AZ$2)=AZ$2),AND(EVEN($A79)=$A79,EVEN(AZ$2)=AZ$2)),AZ$1,-100))","v":928.125},{"$f":"IF('Ceiling Speaker Calculator'!$C$29=\"Square\",BA$1,IF(OR(AND(ODD($A79)=$A79,ODD(BA$2)=BA$2),AND(EVEN($A79)=$A79,EVEN(BA$2)=BA$2)),BA$1,-100))","v":946.875},{"$f":"IF('Ceiling Speaker Calculator'!$C$29=\"Square\",BB$1,IF(OR(AND(ODD($A79)=$A79,ODD(BB$2)=BB$2),AND(EVEN($A79)=$A79,EVEN(BB$2)=BB$2)),BB$1,-100))","v":965.625},{"$f":"IF('Ceiling Speaker Calculator'!$C$29=\"Square\",BC$1,IF(OR(AND(ODD($A79)=$A79,ODD(BC$2)=BC$2),AND(EVEN($A79)=$A79,EVEN(BC$2)=BC$2)),BC$1,-100))","v":984.375},{"$f":"IF('Ceiling Speaker Calculator'!$C$29=\"Square\",BD$1,IF(OR(AND(ODD($A79)=$A79,ODD(BD$2)=BD$2),AND(EVEN($A79)=$A79,EVEN(BD$2)=BD$2)),BD$1,-100))","v":1003.125},{"$f":"IF('Ceiling Speaker Calculator'!$C$29=\"Square\",BE$1,IF(OR(AND(ODD($A79)=$A79,ODD(BE$2)=BE$2),AND(EVEN($A79)=$A79,EVEN(BE$2)=BE$2)),BE$1,-100))","v":1021.875},{"$f":"IF('Ceiling Speaker Calculator'!$C$29=\"Square\",BF$1,IF(OR(AND(ODD($A79)=$A79,ODD(BF$2)=BF$2),AND(EVEN($A79)=$A79,EVEN(BF$2)=BF$2)),BF$1,-100))","v":1040.625},{"$f":"IF('Ceiling Speaker Calculator'!$C$29=\"Square\",BG$1,IF(OR(AND(ODD($A79)=$A79,ODD(BG$2)=BG$2),AND(EVEN($A79)=$A79,EVEN(BG$2)=BG$2)),BG$1,-100))","v":1059.375},{"$f":"IF('Ceiling Speaker Calculator'!$C$29=\"Square\",BH$1,IF(OR(AND(ODD($A79)=$A79,ODD(BH$2)=BH$2),AND(EVEN($A79)=$A79,EVEN(BH$2)=BH$2)),BH$1,-100))","v":1078.125},{"$f":"IF('Ceiling Speaker Calculator'!$C$29=\"Square\",BI$1,IF(OR(AND(ODD($A79)=$A79,ODD(BI$2)=BI$2),AND(EVEN($A79)=$A79,EVEN(BI$2)=BI$2)),BI$1,-100))","v":1096.875},{"$f":"IF('Ceiling Speaker Calculator'!$C$29=\"Square\",BJ$1,IF(OR(AND(ODD($A79)=$A79,ODD(BJ$2)=BJ$2),AND(EVEN($A79)=$A79,EVEN(BJ$2)=BJ$2)),BJ$1,-100))","v":1115.625},{"$f":"IF('Ceiling Speaker Calculator'!$C$29=\"Square\",BK$1,IF(OR(AND(ODD($A79)=$A79,ODD(BK$2)=BK$2),AND(EVEN($A79)=$A79,EVEN(BK$2)=BK$2)),BK$1,-100))","v":1134.375},{"$f":"IF('Ceiling Speaker Calculator'!$C$29=\"Square\",BL$1,IF(OR(AND(ODD($A79)=$A79,ODD(BL$2)=BL$2),AND(EVEN($A79)=$A79,EVEN(BL$2)=BL$2)),BL$1,-100))","v":1153.125},{"$f":"IF('Ceiling Speaker Calculator'!$C$29=\"Square\",BM$1,IF(OR(AND(ODD($A79)=$A79,ODD(BM$2)=BM$2),AND(EVEN($A79)=$A79,EVEN(BM$2)=BM$2)),BM$1,-100))","v":1171.875},{"$f":"IF('Ceiling Speaker Calculator'!$C$29=\"Square\",BN$1,IF(OR(AND(ODD($A79)=$A79,ODD(BN$2)=BN$2),AND(EVEN($A79)=$A79,EVEN(BN$2)=BN$2)),BN$1,-100))","v":1190.625},{"$f":"IF('Ceiling Speaker Calculator'!$C$29=\"Square\",BO$1,IF(OR(AND(ODD($A79)=$A79,ODD(BO$2)=BO$2),AND(EVEN($A79)=$A79,EVEN(BO$2)=BO$2)),BO$1,-100))","v":1209.375},{"$f":"IF('Ceiling Speaker Calculator'!$C$29=\"Square\",BP$1,IF(OR(AND(ODD($A79)=$A79,ODD(BP$2)=BP$2),AND(EVEN($A79)=$A79,EVEN(BP$2)=BP$2)),BP$1,-100))","v":1228.125},{"$f":"IF('Ceiling Speaker Calculator'!$C$29=\"Square\",BQ$1,IF(OR(AND(ODD($A79)=$A79,ODD(BQ$2)=BQ$2),AND(EVEN($A79)=$A79,EVEN(BQ$2)=BQ$2)),BQ$1,-100))","v":1246.875},{"$f":"IF('Ceiling Speaker Calculator'!$C$29=\"Square\",BR$1,IF(OR(AND(ODD($A79)=$A79,ODD(BR$2)=BR$2),AND(EVEN($A79)=$A79,EVEN(BR$2)=BR$2)),BR$1,-100))","v":1265.625},{"$f":"IF('Ceiling Speaker Calculator'!$C$29=\"Square\",BS$1,IF(OR(AND(ODD($A79)=$A79,ODD(BS$2)=BS$2),AND(EVEN($A79)=$A79,EVEN(BS$2)=BS$2)),BS$1,-100))","v":1284.375},{"$f":"IF('Ceiling Speaker Calculator'!$C$29=\"Square\",BT$1,IF(OR(AND(ODD($A79)=$A79,ODD(BT$2)=BT$2),AND(EVEN($A79)=$A79,EVEN(BT$2)=BT$2)),BT$1,-100))","v":1303.125},{"$f":"IF('Ceiling Speaker Calculator'!$C$29=\"Square\",BU$1,IF(OR(AND(ODD($A79)=$A79,ODD(BU$2)=BU$2),AND(EVEN($A79)=$A79,EVEN(BU$2)=BU$2)),BU$1,-100))","v":1321.875},{"$f":"IF('Ceiling Speaker Calculator'!$C$29=\"Square\",BV$1,IF(OR(AND(ODD($A79)=$A79,ODD(BV$2)=BV$2),AND(EVEN($A79)=$A79,EVEN(BV$2)=BV$2)),BV$1,-100))","v":1340.625},{"$f":"IF('Ceiling Speaker Calculator'!$C$29=\"Square\",BW$1,IF(OR(AND(ODD($A79)=$A79,ODD(BW$2)=BW$2),AND(EVEN($A79)=$A79,EVEN(BW$2)=BW$2)),BW$1,-100))","v":1359.375},{"$f":"IF('Ceiling Speaker Calculator'!$C$29=\"Square\",BX$1,IF(OR(AND(ODD($A79)=$A79,ODD(BX$2)=BX$2),AND(EVEN($A79)=$A79,EVEN(BX$2)=BX$2)),BX$1,-100))","v":1378.125},{"$f":"IF('Ceiling Speaker Calculator'!$C$29=\"Square\",BY$1,IF(OR(AND(ODD($A79)=$A79,ODD(BY$2)=BY$2),AND(EVEN($A79)=$A79,EVEN(BY$2)=BY$2)),BY$1,-100))","v":1396.875},{"$f":"IF('Ceiling Speaker Calculator'!$C$29=\"Square\",BZ$1,IF(OR(AND(ODD($A79)=$A79,ODD(BZ$2)=BZ$2),AND(EVEN($A79)=$A79,EVEN(BZ$2)=BZ$2)),BZ$1,-100))","v":1415.625},{"$f":"IF('Ceiling Speaker Calculator'!$C$29=\"Square\",CA$1,IF(OR(AND(ODD($A79)=$A79,ODD(CA$2)=CA$2),AND(EVEN($A79)=$A79,EVEN(CA$2)=CA$2)),CA$1,-100))","v":1434.375},{"$f":"IF('Ceiling Speaker Calculator'!$C$29=\"Square\",CB$1,IF(OR(AND(ODD($A79)=$A79,ODD(CB$2)=CB$2),AND(EVEN($A79)=$A79,EVEN(CB$2)=CB$2)),CB$1,-100))","v":1453.125},{"$f":"IF('Ceiling Speaker Calculator'!$C$29=\"Square\",CC$1,IF(OR(AND(ODD($A79)=$A79,ODD(CC$2)=CC$2),AND(EVEN($A79)=$A79,EVEN(CC$2)=CC$2)),CC$1,-100))","v":1471.875},{"$f":"IF('Ceiling Speaker Calculator'!$C$29=\"Square\",CD$1,IF(OR(AND(ODD($A79)=$A79,ODD(CD$2)=CD$2),AND(EVEN($A79)=$A79,EVEN(CD$2)=CD$2)),CD$1,-100))","v":1490.625},{"$f":"IF('Ceiling Speaker Calculator'!$C$29=\"Square\",CE$1,IF(OR(AND(ODD($A79)=$A79,ODD(CE$2)=CE$2),AND(EVEN($A79)=$A79,EVEN(CE$2)=CE$2)),CE$1,-100))","v":1509.375},{"$f":"IF('Ceiling Speaker Calculator'!$C$29=\"Square\",CF$1,IF(OR(AND(ODD($A79)=$A79,ODD(CF$2)=CF$2),AND(EVEN($A79)=$A79,EVEN(CF$2)=CF$2)),CF$1,-100))","v":1528.125},{"$f":"IF('Ceiling Speaker Calculator'!$C$29=\"Square\",CG$1,IF(OR(AND(ODD($A79)=$A79,ODD(CG$2)=CG$2),AND(EVEN($A79)=$A79,EVEN(CG$2)=CG$2)),CG$1,-100))","v":1546.875},{"$f":"IF('Ceiling Speaker Calculator'!$C$29=\"Square\",CH$1,IF(OR(AND(ODD($A79)=$A79,ODD(CH$2)=CH$2),AND(EVEN($A79)=$A79,EVEN(CH$2)=CH$2)),CH$1,-100))","v":1565.625},{"$f":"IF('Ceiling Speaker Calculator'!$C$29=\"Square\",CI$1,IF(OR(AND(ODD($A79)=$A79,ODD(CI$2)=CI$2),AND(EVEN($A79)=$A79,EVEN(CI$2)=CI$2)),CI$1,-100))","v":1584.375},{"$f":"IF('Ceiling Speaker Calculator'!$C$29=\"Square\",CJ$1,IF(OR(AND(ODD($A79)=$A79,ODD(CJ$2)=CJ$2),AND(EVEN($A79)=$A79,EVEN(CJ$2)=CJ$2)),CJ$1,-100))","v":1603.125},{"$f":"IF('Ceiling Speaker Calculator'!$C$29=\"Square\",CK$1,IF(OR(AND(ODD($A79)=$A79,ODD(CK$2)=CK$2),AND(EVEN($A79)=$A79,EVEN(CK$2)=CK$2)),CK$1,-100))","v":1621.875},{"$f":"IF('Ceiling Speaker Calculator'!$C$29=\"Square\",CL$1,IF(OR(AND(ODD($A79)=$A79,ODD(CL$2)=CL$2),AND(EVEN($A79)=$A79,EVEN(CL$2)=CL$2)),CL$1,-100))","v":1640.625},{"$f":"IF('Ceiling Speaker Calculator'!$C$29=\"Square\",CM$1,IF(OR(AND(ODD($A79)=$A79,ODD(CM$2)=CM$2),AND(EVEN($A79)=$A79,EVEN(CM$2)=CM$2)),CM$1,-100))","v":1659.375},{"$f":"IF('Ceiling Speaker Calculator'!$C$29=\"Square\",CN$1,IF(OR(AND(ODD($A79)=$A79,ODD(CN$2)=CN$2),AND(EVEN($A79)=$A79,EVEN(CN$2)=CN$2)),CN$1,-100))","v":1678.125},{"$f":"IF('Ceiling Speaker Calculator'!$C$29=\"Square\",CO$1,IF(OR(AND(ODD($A79)=$A79,ODD(CO$2)=CO$2),AND(EVEN($A79)=$A79,EVEN(CO$2)=CO$2)),CO$1,-100))","v":1696.875},{"$f":"IF('Ceiling Speaker Calculator'!$C$29=\"Square\",CP$1,IF(OR(AND(ODD($A79)=$A79,ODD(CP$2)=CP$2),AND(EVEN($A79)=$A79,EVEN(CP$2)=CP$2)),CP$1,-100))","v":1715.625},{"$f":"IF('Ceiling Speaker Calculator'!$C$29=\"Square\",CQ$1,IF(OR(AND(ODD($A79)=$A79,ODD(CQ$2)=CQ$2),AND(EVEN($A79)=$A79,EVEN(CQ$2)=CQ$2)),CQ$1,-100))","v":1734.375},{"$f":"IF('Ceiling Speaker Calculator'!$C$29=\"Square\",CR$1,IF(OR(AND(ODD($A79)=$A79,ODD(CR$2)=CR$2),AND(EVEN($A79)=$A79,EVEN(CR$2)=CR$2)),CR$1,-100))","v":1753.125},{"$f":"IF('Ceiling Speaker Calculator'!$C$29=\"Square\",CS$1,IF(OR(AND(ODD($A79)=$A79,ODD(CS$2)=CS$2),AND(EVEN($A79)=$A79,EVEN(CS$2)=CS$2)),CS$1,-100))","v":1771.875},{"$f":"IF('Ceiling Speaker Calculator'!$C$29=\"Square\",CT$1,IF(OR(AND(ODD($A79)=$A79,ODD(CT$2)=CT$2),AND(EVEN($A79)=$A79,EVEN(CT$2)=CT$2)),CT$1,-100))","v":1790.625},{"$f":"IF('Ceiling Speaker Calculator'!$C$29=\"Square\",CU$1,IF(OR(AND(ODD($A79)=$A79,ODD(CU$2)=CU$2),AND(EVEN($A79)=$A79,EVEN(CU$2)=CU$2)),CU$1,-100))","v":1809.375},{"$f":"IF('Ceiling Speaker Calculator'!$C$29=\"Square\",CV$1,IF(OR(AND(ODD($A79)=$A79,ODD(CV$2)=CV$2),AND(EVEN($A79)=$A79,EVEN(CV$2)=CV$2)),CV$1,-100))","v":1828.125},{"$f":"IF('Ceiling Speaker Calculator'!$C$29=\"Square\",CW$1,IF(OR(AND(ODD($A79)=$A79,ODD(CW$2)=CW$2),AND(EVEN($A79)=$A79,EVEN(CW$2)=CW$2)),CW$1,-100))","v":1846.875},{"$f":"IF('Ceiling Speaker Calculator'!$C$29=\"Square\",CX$1,IF(OR(AND(ODD($A79)=$A79,ODD(CX$2)=CX$2),AND(EVEN($A79)=$A79,EVEN(CX$2)=CX$2)),CX$1,-100))","v":1865.625}]
[78,{"$f":"B79+'Ceiling Speaker Calculator'!$K$16","v":1550},{"$f":"IF('Ceiling Speaker Calculator'!$C$29=\"Square\",C$1,IF(OR(AND(ODD($A80)=$A80,ODD(C$2)=C$2),AND(EVEN($A80)=$A80,EVEN(C$2)=C$2)),C$1,-100))","v":9.375},{"$f":"IF('Ceiling Speaker Calculator'!$C$29=\"Square\",D$1,IF(OR(AND(ODD($A80)=$A80,ODD(D$2)=D$2),AND(EVEN($A80)=$A80,EVEN(D$2)=D$2)),D$1,-100))","v":28.125},{"$f":"IF('Ceiling Speaker Calculator'!$C$29=\"Square\",E$1,IF(OR(AND(ODD($A80)=$A80,ODD(E$2)=E$2),AND(EVEN($A80)=$A80,EVEN(E$2)=E$2)),E$1,-100))","v":46.875},{"$f":"IF('Ceiling Speaker Calculator'!$C$29=\"Square\",F$1,IF(OR(AND(ODD($A80)=$A80,ODD(F$2)=F$2),AND(EVEN($A80)=$A80,EVEN(F$2)=F$2)),F$1,-100))","v":65.625},{"$f":"IF('Ceiling Speaker Calculator'!$C$29=\"Square\",G$1,IF(OR(AND(ODD($A80)=$A80,ODD(G$2)=G$2),AND(EVEN($A80)=$A80,EVEN(G$2)=G$2)),G$1,-100))","v":84.375},{"$f":"IF('Ceiling Speaker Calculator'!$C$29=\"Square\",H$1,IF(OR(AND(ODD($A80)=$A80,ODD(H$2)=H$2),AND(EVEN($A80)=$A80,EVEN(H$2)=H$2)),H$1,-100))","v":103.125},{"$f":"IF('Ceiling Speaker Calculator'!$C$29=\"Square\",I$1,IF(OR(AND(ODD($A80)=$A80,ODD(I$2)=I$2),AND(EVEN($A80)=$A80,EVEN(I$2)=I$2)),I$1,-100))","v":121.875},{"$f":"IF('Ceiling Speaker Calculator'!$C$29=\"Square\",J$1,IF(OR(AND(ODD($A80)=$A80,ODD(J$2)=J$2),AND(EVEN($A80)=$A80,EVEN(J$2)=J$2)),J$1,-100))","v":140.625},{"$f":"IF('Ceiling Speaker Calculator'!$C$29=\"Square\",K$1,IF(OR(AND(ODD($A80)=$A80,ODD(K$2)=K$2),AND(EVEN($A80)=$A80,EVEN(K$2)=K$2)),K$1,-100))","v":159.375},{"$f":"IF('Ceiling Speaker Calculator'!$C$29=\"Square\",L$1,IF(OR(AND(ODD($A80)=$A80,ODD(L$2)=L$2),AND(EVEN($A80)=$A80,EVEN(L$2)=L$2)),L$1,-100))","v":178.125},{"$f":"IF('Ceiling Speaker Calculator'!$C$29=\"Square\",M$1,IF(OR(AND(ODD($A80)=$A80,ODD(M$2)=M$2),AND(EVEN($A80)=$A80,EVEN(M$2)=M$2)),M$1,-100))","v":196.875},{"$f":"IF('Ceiling Speaker Calculator'!$C$29=\"Square\",N$1,IF(OR(AND(ODD($A80)=$A80,ODD(N$2)=N$2),AND(EVEN($A80)=$A80,EVEN(N$2)=N$2)),N$1,-100))","v":215.625},{"$f":"IF('Ceiling Speaker Calculator'!$C$29=\"Square\",O$1,IF(OR(AND(ODD($A80)=$A80,ODD(O$2)=O$2),AND(EVEN($A80)=$A80,EVEN(O$2)=O$2)),O$1,-100))","v":234.375},{"$f":"IF('Ceiling Speaker Calculator'!$C$29=\"Square\",P$1,IF(OR(AND(ODD($A80)=$A80,ODD(P$2)=P$2),AND(EVEN($A80)=$A80,EVEN(P$2)=P$2)),P$1,-100))","v":253.125},{"$f":"IF('Ceiling Speaker Calculator'!$C$29=\"Square\",Q$1,IF(OR(AND(ODD($A80)=$A80,ODD(Q$2)=Q$2),AND(EVEN($A80)=$A80,EVEN(Q$2)=Q$2)),Q$1,-100))","v":271.875},{"$f":"IF('Ceiling Speaker Calculator'!$C$29=\"Square\",R$1,IF(OR(AND(ODD($A80)=$A80,ODD(R$2)=R$2),AND(EVEN($A80)=$A80,EVEN(R$2)=R$2)),R$1,-100))","v":290.625},{"$f":"IF('Ceiling Speaker Calculator'!$C$29=\"Square\",S$1,IF(OR(AND(ODD($A80)=$A80,ODD(S$2)=S$2),AND(EVEN($A80)=$A80,EVEN(S$2)=S$2)),S$1,-100))","v":309.375},{"$f":"IF('Ceiling Speaker Calculator'!$C$29=\"Square\",T$1,IF(OR(AND(ODD($A80)=$A80,ODD(T$2)=T$2),AND(EVEN($A80)=$A80,EVEN(T$2)=T$2)),T$1,-100))","v":328.125},{"$f":"IF('Ceiling Speaker Calculator'!$C$29=\"Square\",U$1,IF(OR(AND(ODD($A80)=$A80,ODD(U$2)=U$2),AND(EVEN($A80)=$A80,EVEN(U$2)=U$2)),U$1,-100))","v":346.875},{"$f":"IF('Ceiling Speaker Calculator'!$C$29=\"Square\",V$1,IF(OR(AND(ODD($A80)=$A80,ODD(V$2)=V$2),AND(EVEN($A80)=$A80,EVEN(V$2)=V$2)),V$1,-100))","v":365.625},{"$f":"IF('Ceiling Speaker Calculator'!$C$29=\"Square\",W$1,IF(OR(AND(ODD($A80)=$A80,ODD(W$2)=W$2),AND(EVEN($A80)=$A80,EVEN(W$2)=W$2)),W$1,-100))","v":384.375},{"$f":"IF('Ceiling Speaker Calculator'!$C$29=\"Square\",X$1,IF(OR(AND(ODD($A80)=$A80,ODD(X$2)=X$2),AND(EVEN($A80)=$A80,EVEN(X$2)=X$2)),X$1,-100))","v":403.125},{"$f":"IF('Ceiling Speaker Calculator'!$C$29=\"Square\",Y$1,IF(OR(AND(ODD($A80)=$A80,ODD(Y$2)=Y$2),AND(EVEN($A80)=$A80,EVEN(Y$2)=Y$2)),Y$1,-100))","v":421.875},{"$f":"IF('Ceiling Speaker Calculator'!$C$29=\"Square\",Z$1,IF(OR(AND(ODD($A80)=$A80,ODD(Z$2)=Z$2),AND(EVEN($A80)=$A80,EVEN(Z$2)=Z$2)),Z$1,-100))","v":440.625},{"$f":"IF('Ceiling Speaker Calculator'!$C$29=\"Square\",AA$1,IF(OR(AND(ODD($A80)=$A80,ODD(AA$2)=AA$2),AND(EVEN($A80)=$A80,EVEN(AA$2)=AA$2)),AA$1,-100))","v":459.375},{"$f":"IF('Ceiling Speaker Calculator'!$C$29=\"Square\",AB$1,IF(OR(AND(ODD($A80)=$A80,ODD(AB$2)=AB$2),AND(EVEN($A80)=$A80,EVEN(AB$2)=AB$2)),AB$1,-100))","v":478.125},{"$f":"IF('Ceiling Speaker Calculator'!$C$29=\"Square\",AC$1,IF(OR(AND(ODD($A80)=$A80,ODD(AC$2)=AC$2),AND(EVEN($A80)=$A80,EVEN(AC$2)=AC$2)),AC$1,-100))","v":496.875},{"$f":"IF('Ceiling Speaker Calculator'!$C$29=\"Square\",AD$1,IF(OR(AND(ODD($A80)=$A80,ODD(AD$2)=AD$2),AND(EVEN($A80)=$A80,EVEN(AD$2)=AD$2)),AD$1,-100))","v":515.625},{"$f":"IF('Ceiling Speaker Calculator'!$C$29=\"Square\",AE$1,IF(OR(AND(ODD($A80)=$A80,ODD(AE$2)=AE$2),AND(EVEN($A80)=$A80,EVEN(AE$2)=AE$2)),AE$1,-100))","v":534.375},{"$f":"IF('Ceiling Speaker Calculator'!$C$29=\"Square\",AF$1,IF(OR(AND(ODD($A80)=$A80,ODD(AF$2)=AF$2),AND(EVEN($A80)=$A80,EVEN(AF$2)=AF$2)),AF$1,-100))","v":553.125},{"$f":"IF('Ceiling Speaker Calculator'!$C$29=\"Square\",AG$1,IF(OR(AND(ODD($A80)=$A80,ODD(AG$2)=AG$2),AND(EVEN($A80)=$A80,EVEN(AG$2)=AG$2)),AG$1,-100))","v":571.875},{"$f":"IF('Ceiling Speaker Calculator'!$C$29=\"Square\",AH$1,IF(OR(AND(ODD($A80)=$A80,ODD(AH$2)=AH$2),AND(EVEN($A80)=$A80,EVEN(AH$2)=AH$2)),AH$1,-100))","v":590.625},{"$f":"IF('Ceiling Speaker Calculator'!$C$29=\"Square\",AI$1,IF(OR(AND(ODD($A80)=$A80,ODD(AI$2)=AI$2),AND(EVEN($A80)=$A80,EVEN(AI$2)=AI$2)),AI$1,-100))","v":609.375},{"$f":"IF('Ceiling Speaker Calculator'!$C$29=\"Square\",AJ$1,IF(OR(AND(ODD($A80)=$A80,ODD(AJ$2)=AJ$2),AND(EVEN($A80)=$A80,EVEN(AJ$2)=AJ$2)),AJ$1,-100))","v":628.125},{"$f":"IF('Ceiling Speaker Calculator'!$C$29=\"Square\",AK$1,IF(OR(AND(ODD($A80)=$A80,ODD(AK$2)=AK$2),AND(EVEN($A80)=$A80,EVEN(AK$2)=AK$2)),AK$1,-100))","v":646.875},{"$f":"IF('Ceiling Speaker Calculator'!$C$29=\"Square\",AL$1,IF(OR(AND(ODD($A80)=$A80,ODD(AL$2)=AL$2),AND(EVEN($A80)=$A80,EVEN(AL$2)=AL$2)),AL$1,-100))","v":665.625},{"$f":"IF('Ceiling Speaker Calculator'!$C$29=\"Square\",AM$1,IF(OR(AND(ODD($A80)=$A80,ODD(AM$2)=AM$2),AND(EVEN($A80)=$A80,EVEN(AM$2)=AM$2)),AM$1,-100))","v":684.375},{"$f":"IF('Ceiling Speaker Calculator'!$C$29=\"Square\",AN$1,IF(OR(AND(ODD($A80)=$A80,ODD(AN$2)=AN$2),AND(EVEN($A80)=$A80,EVEN(AN$2)=AN$2)),AN$1,-100))","v":703.125},{"$f":"IF('Ceiling Speaker Calculator'!$C$29=\"Square\",AO$1,IF(OR(AND(ODD($A80)=$A80,ODD(AO$2)=AO$2),AND(EVEN($A80)=$A80,EVEN(AO$2)=AO$2)),AO$1,-100))","v":721.875},{"$f":"IF('Ceiling Speaker Calculator'!$C$29=\"Square\",AP$1,IF(OR(AND(ODD($A80)=$A80,ODD(AP$2)=AP$2),AND(EVEN($A80)=$A80,EVEN(AP$2)=AP$2)),AP$1,-100))","v":740.625},{"$f":"IF('Ceiling Speaker Calculator'!$C$29=\"Square\",AQ$1,IF(OR(AND(ODD($A80)=$A80,ODD(AQ$2)=AQ$2),AND(EVEN($A80)=$A80,EVEN(AQ$2)=AQ$2)),AQ$1,-100))","v":759.375},{"$f":"IF('Ceiling Speaker Calculator'!$C$29=\"Square\",AR$1,IF(OR(AND(ODD($A80)=$A80,ODD(AR$2)=AR$2),AND(EVEN($A80)=$A80,EVEN(AR$2)=AR$2)),AR$1,-100))","v":778.125},{"$f":"IF('Ceiling Speaker Calculator'!$C$29=\"Square\",AS$1,IF(OR(AND(ODD($A80)=$A80,ODD(AS$2)=AS$2),AND(EVEN($A80)=$A80,EVEN(AS$2)=AS$2)),AS$1,-100))","v":796.875},{"$f":"IF('Ceiling Speaker Calculator'!$C$29=\"Square\",AT$1,IF(OR(AND(ODD($A80)=$A80,ODD(AT$2)=AT$2),AND(EVEN($A80)=$A80,EVEN(AT$2)=AT$2)),AT$1,-100))","v":815.625},{"$f":"IF('Ceiling Speaker Calculator'!$C$29=\"Square\",AU$1,IF(OR(AND(ODD($A80)=$A80,ODD(AU$2)=AU$2),AND(EVEN($A80)=$A80,EVEN(AU$2)=AU$2)),AU$1,-100))","v":834.375},{"$f":"IF('Ceiling Speaker Calculator'!$C$29=\"Square\",AV$1,IF(OR(AND(ODD($A80)=$A80,ODD(AV$2)=AV$2),AND(EVEN($A80)=$A80,EVEN(AV$2)=AV$2)),AV$1,-100))","v":853.125},{"$f":"IF('Ceiling Speaker Calculator'!$C$29=\"Square\",AW$1,IF(OR(AND(ODD($A80)=$A80,ODD(AW$2)=AW$2),AND(EVEN($A80)=$A80,EVEN(AW$2)=AW$2)),AW$1,-100))","v":871.875},{"$f":"IF('Ceiling Speaker Calculator'!$C$29=\"Square\",AX$1,IF(OR(AND(ODD($A80)=$A80,ODD(AX$2)=AX$2),AND(EVEN($A80)=$A80,EVEN(AX$2)=AX$2)),AX$1,-100))","v":890.625},{"$f":"IF('Ceiling Speaker Calculator'!$C$29=\"Square\",AY$1,IF(OR(AND(ODD($A80)=$A80,ODD(AY$2)=AY$2),AND(EVEN($A80)=$A80,EVEN(AY$2)=AY$2)),AY$1,-100))","v":909.375},{"$f":"IF('Ceiling Speaker Calculator'!$C$29=\"Square\",AZ$1,IF(OR(AND(ODD($A80)=$A80,ODD(AZ$2)=AZ$2),AND(EVEN($A80)=$A80,EVEN(AZ$2)=AZ$2)),AZ$1,-100))","v":928.125},{"$f":"IF('Ceiling Speaker Calculator'!$C$29=\"Square\",BA$1,IF(OR(AND(ODD($A80)=$A80,ODD(BA$2)=BA$2),AND(EVEN($A80)=$A80,EVEN(BA$2)=BA$2)),BA$1,-100))","v":946.875},{"$f":"IF('Ceiling Speaker Calculator'!$C$29=\"Square\",BB$1,IF(OR(AND(ODD($A80)=$A80,ODD(BB$2)=BB$2),AND(EVEN($A80)=$A80,EVEN(BB$2)=BB$2)),BB$1,-100))","v":965.625},{"$f":"IF('Ceiling Speaker Calculator'!$C$29=\"Square\",BC$1,IF(OR(AND(ODD($A80)=$A80,ODD(BC$2)=BC$2),AND(EVEN($A80)=$A80,EVEN(BC$2)=BC$2)),BC$1,-100))","v":984.375},{"$f":"IF('Ceiling Speaker Calculator'!$C$29=\"Square\",BD$1,IF(OR(AND(ODD($A80)=$A80,ODD(BD$2)=BD$2),AND(EVEN($A80)=$A80,EVEN(BD$2)=BD$2)),BD$1,-100))","v":1003.125},{"$f":"IF('Ceiling Speaker Calculator'!$C$29=\"Square\",BE$1,IF(OR(AND(ODD($A80)=$A80,ODD(BE$2)=BE$2),AND(EVEN($A80)=$A80,EVEN(BE$2)=BE$2)),BE$1,-100))","v":1021.875},{"$f":"IF('Ceiling Speaker Calculator'!$C$29=\"Square\",BF$1,IF(OR(AND(ODD($A80)=$A80,ODD(BF$2)=BF$2),AND(EVEN($A80)=$A80,EVEN(BF$2)=BF$2)),BF$1,-100))","v":1040.625},{"$f":"IF('Ceiling Speaker Calculator'!$C$29=\"Square\",BG$1,IF(OR(AND(ODD($A80)=$A80,ODD(BG$2)=BG$2),AND(EVEN($A80)=$A80,EVEN(BG$2)=BG$2)),BG$1,-100))","v":1059.375},{"$f":"IF('Ceiling Speaker Calculator'!$C$29=\"Square\",BH$1,IF(OR(AND(ODD($A80)=$A80,ODD(BH$2)=BH$2),AND(EVEN($A80)=$A80,EVEN(BH$2)=BH$2)),BH$1,-100))","v":1078.125},{"$f":"IF('Ceiling Speaker Calculator'!$C$29=\"Square\",BI$1,IF(OR(AND(ODD($A80)=$A80,ODD(BI$2)=BI$2),AND(EVEN($A80)=$A80,EVEN(BI$2)=BI$2)),BI$1,-100))","v":1096.875},{"$f":"IF('Ceiling Speaker Calculator'!$C$29=\"Square\",BJ$1,IF(OR(AND(ODD($A80)=$A80,ODD(BJ$2)=BJ$2),AND(EVEN($A80)=$A80,EVEN(BJ$2)=BJ$2)),BJ$1,-100))","v":1115.625},{"$f":"IF('Ceiling Speaker Calculator'!$C$29=\"Square\",BK$1,IF(OR(AND(ODD($A80)=$A80,ODD(BK$2)=BK$2),AND(EVEN($A80)=$A80,EVEN(BK$2)=BK$2)),BK$1,-100))","v":1134.375},{"$f":"IF('Ceiling Speaker Calculator'!$C$29=\"Square\",BL$1,IF(OR(AND(ODD($A80)=$A80,ODD(BL$2)=BL$2),AND(EVEN($A80)=$A80,EVEN(BL$2)=BL$2)),BL$1,-100))","v":1153.125},{"$f":"IF('Ceiling Speaker Calculator'!$C$29=\"Square\",BM$1,IF(OR(AND(ODD($A80)=$A80,ODD(BM$2)=BM$2),AND(EVEN($A80)=$A80,EVEN(BM$2)=BM$2)),BM$1,-100))","v":1171.875},{"$f":"IF('Ceiling Speaker Calculator'!$C$29=\"Square\",BN$1,IF(OR(AND(ODD($A80)=$A80,ODD(BN$2)=BN$2),AND(EVEN($A80)=$A80,EVEN(BN$2)=BN$2)),BN$1,-100))","v":1190.625},{"$f":"IF('Ceiling Speaker Calculator'!$C$29=\"Square\",BO$1,IF(OR(AND(ODD($A80)=$A80,ODD(BO$2)=BO$2),AND(EVEN($A80)=$A80,EVEN(BO$2)=BO$2)),BO$1,-100))","v":1209.375},{"$f":"IF('Ceiling Speaker Calculator'!$C$29=\"Square\",BP$1,IF(OR(AND(ODD($A80)=$A80,ODD(BP$2)=BP$2),AND(EVEN($A80)=$A80,EVEN(BP$2)=BP$2)),BP$1,-100))","v":1228.125},{"$f":"IF('Ceiling Speaker Calculator'!$C$29=\"Square\",BQ$1,IF(OR(AND(ODD($A80)=$A80,ODD(BQ$2)=BQ$2),AND(EVEN($A80)=$A80,EVEN(BQ$2)=BQ$2)),BQ$1,-100))","v":1246.875},{"$f":"IF('Ceiling Speaker Calculator'!$C$29=\"Square\",BR$1,IF(OR(AND(ODD($A80)=$A80,ODD(BR$2)=BR$2),AND(EVEN($A80)=$A80,EVEN(BR$2)=BR$2)),BR$1,-100))","v":1265.625},{"$f":"IF('Ceiling Speaker Calculator'!$C$29=\"Square\",BS$1,IF(OR(AND(ODD($A80)=$A80,ODD(BS$2)=BS$2),AND(EVEN($A80)=$A80,EVEN(BS$2)=BS$2)),BS$1,-100))","v":1284.375},{"$f":"IF('Ceiling Speaker Calculator'!$C$29=\"Square\",BT$1,IF(OR(AND(ODD($A80)=$A80,ODD(BT$2)=BT$2),AND(EVEN($A80)=$A80,EVEN(BT$2)=BT$2)),BT$1,-100))","v":1303.125},{"$f":"IF('Ceiling Speaker Calculator'!$C$29=\"Square\",BU$1,IF(OR(AND(ODD($A80)=$A80,ODD(BU$2)=BU$2),AND(EVEN($A80)=$A80,EVEN(BU$2)=BU$2)),BU$1,-100))","v":1321.875},{"$f":"IF('Ceiling Speaker Calculator'!$C$29=\"Square\",BV$1,IF(OR(AND(ODD($A80)=$A80,ODD(BV$2)=BV$2),AND(EVEN($A80)=$A80,EVEN(BV$2)=BV$2)),BV$1,-100))","v":1340.625},{"$f":"IF('Ceiling Speaker Calculator'!$C$29=\"Square\",BW$1,IF(OR(AND(ODD($A80)=$A80,ODD(BW$2)=BW$2),AND(EVEN($A80)=$A80,EVEN(BW$2)=BW$2)),BW$1,-100))","v":1359.375},{"$f":"IF('Ceiling Speaker Calculator'!$C$29=\"Square\",BX$1,IF(OR(AND(ODD($A80)=$A80,ODD(BX$2)=BX$2),AND(EVEN($A80)=$A80,EVEN(BX$2)=BX$2)),BX$1,-100))","v":1378.125},{"$f":"IF('Ceiling Speaker Calculator'!$C$29=\"Square\",BY$1,IF(OR(AND(ODD($A80)=$A80,ODD(BY$2)=BY$2),AND(EVEN($A80)=$A80,EVEN(BY$2)=BY$2)),BY$1,-100))","v":1396.875},{"$f":"IF('Ceiling Speaker Calculator'!$C$29=\"Square\",BZ$1,IF(OR(AND(ODD($A80)=$A80,ODD(BZ$2)=BZ$2),AND(EVEN($A80)=$A80,EVEN(BZ$2)=BZ$2)),BZ$1,-100))","v":1415.625},{"$f":"IF('Ceiling Speaker Calculator'!$C$29=\"Square\",CA$1,IF(OR(AND(ODD($A80)=$A80,ODD(CA$2)=CA$2),AND(EVEN($A80)=$A80,EVEN(CA$2)=CA$2)),CA$1,-100))","v":1434.375},{"$f":"IF('Ceiling Speaker Calculator'!$C$29=\"Square\",CB$1,IF(OR(AND(ODD($A80)=$A80,ODD(CB$2)=CB$2),AND(EVEN($A80)=$A80,EVEN(CB$2)=CB$2)),CB$1,-100))","v":1453.125},{"$f":"IF('Ceiling Speaker Calculator'!$C$29=\"Square\",CC$1,IF(OR(AND(ODD($A80)=$A80,ODD(CC$2)=CC$2),AND(EVEN($A80)=$A80,EVEN(CC$2)=CC$2)),CC$1,-100))","v":1471.875},{"$f":"IF('Ceiling Speaker Calculator'!$C$29=\"Square\",CD$1,IF(OR(AND(ODD($A80)=$A80,ODD(CD$2)=CD$2),AND(EVEN($A80)=$A80,EVEN(CD$2)=CD$2)),CD$1,-100))","v":1490.625},{"$f":"IF('Ceiling Speaker Calculator'!$C$29=\"Square\",CE$1,IF(OR(AND(ODD($A80)=$A80,ODD(CE$2)=CE$2),AND(EVEN($A80)=$A80,EVEN(CE$2)=CE$2)),CE$1,-100))","v":1509.375},{"$f":"IF('Ceiling Speaker Calculator'!$C$29=\"Square\",CF$1,IF(OR(AND(ODD($A80)=$A80,ODD(CF$2)=CF$2),AND(EVEN($A80)=$A80,EVEN(CF$2)=CF$2)),CF$1,-100))","v":1528.125},{"$f":"IF('Ceiling Speaker Calculator'!$C$29=\"Square\",CG$1,IF(OR(AND(ODD($A80)=$A80,ODD(CG$2)=CG$2),AND(EVEN($A80)=$A80,EVEN(CG$2)=CG$2)),CG$1,-100))","v":1546.875},{"$f":"IF('Ceiling Speaker Calculator'!$C$29=\"Square\",CH$1,IF(OR(AND(ODD($A80)=$A80,ODD(CH$2)=CH$2),AND(EVEN($A80)=$A80,EVEN(CH$2)=CH$2)),CH$1,-100))","v":1565.625},{"$f":"IF('Ceiling Speaker Calculator'!$C$29=\"Square\",CI$1,IF(OR(AND(ODD($A80)=$A80,ODD(CI$2)=CI$2),AND(EVEN($A80)=$A80,EVEN(CI$2)=CI$2)),CI$1,-100))","v":1584.375},{"$f":"IF('Ceiling Speaker Calculator'!$C$29=\"Square\",CJ$1,IF(OR(AND(ODD($A80)=$A80,ODD(CJ$2)=CJ$2),AND(EVEN($A80)=$A80,EVEN(CJ$2)=CJ$2)),CJ$1,-100))","v":1603.125},{"$f":"IF('Ceiling Speaker Calculator'!$C$29=\"Square\",CK$1,IF(OR(AND(ODD($A80)=$A80,ODD(CK$2)=CK$2),AND(EVEN($A80)=$A80,EVEN(CK$2)=CK$2)),CK$1,-100))","v":1621.875},{"$f":"IF('Ceiling Speaker Calculator'!$C$29=\"Square\",CL$1,IF(OR(AND(ODD($A80)=$A80,ODD(CL$2)=CL$2),AND(EVEN($A80)=$A80,EVEN(CL$2)=CL$2)),CL$1,-100))","v":1640.625},{"$f":"IF('Ceiling Speaker Calculator'!$C$29=\"Square\",CM$1,IF(OR(AND(ODD($A80)=$A80,ODD(CM$2)=CM$2),AND(EVEN($A80)=$A80,EVEN(CM$2)=CM$2)),CM$1,-100))","v":1659.375},{"$f":"IF('Ceiling Speaker Calculator'!$C$29=\"Square\",CN$1,IF(OR(AND(ODD($A80)=$A80,ODD(CN$2)=CN$2),AND(EVEN($A80)=$A80,EVEN(CN$2)=CN$2)),CN$1,-100))","v":1678.125},{"$f":"IF('Ceiling Speaker Calculator'!$C$29=\"Square\",CO$1,IF(OR(AND(ODD($A80)=$A80,ODD(CO$2)=CO$2),AND(EVEN($A80)=$A80,EVEN(CO$2)=CO$2)),CO$1,-100))","v":1696.875},{"$f":"IF('Ceiling Speaker Calculator'!$C$29=\"Square\",CP$1,IF(OR(AND(ODD($A80)=$A80,ODD(CP$2)=CP$2),AND(EVEN($A80)=$A80,EVEN(CP$2)=CP$2)),CP$1,-100))","v":1715.625},{"$f":"IF('Ceiling Speaker Calculator'!$C$29=\"Square\",CQ$1,IF(OR(AND(ODD($A80)=$A80,ODD(CQ$2)=CQ$2),AND(EVEN($A80)=$A80,EVEN(CQ$2)=CQ$2)),CQ$1,-100))","v":1734.375},{"$f":"IF('Ceiling Speaker Calculator'!$C$29=\"Square\",CR$1,IF(OR(AND(ODD($A80)=$A80,ODD(CR$2)=CR$2),AND(EVEN($A80)=$A80,EVEN(CR$2)=CR$2)),CR$1,-100))","v":1753.125},{"$f":"IF('Ceiling Speaker Calculator'!$C$29=\"Square\",CS$1,IF(OR(AND(ODD($A80)=$A80,ODD(CS$2)=CS$2),AND(EVEN($A80)=$A80,EVEN(CS$2)=CS$2)),CS$1,-100))","v":1771.875},{"$f":"IF('Ceiling Speaker Calculator'!$C$29=\"Square\",CT$1,IF(OR(AND(ODD($A80)=$A80,ODD(CT$2)=CT$2),AND(EVEN($A80)=$A80,EVEN(CT$2)=CT$2)),CT$1,-100))","v":1790.625},{"$f":"IF('Ceiling Speaker Calculator'!$C$29=\"Square\",CU$1,IF(OR(AND(ODD($A80)=$A80,ODD(CU$2)=CU$2),AND(EVEN($A80)=$A80,EVEN(CU$2)=CU$2)),CU$1,-100))","v":1809.375},{"$f":"IF('Ceiling Speaker Calculator'!$C$29=\"Square\",CV$1,IF(OR(AND(ODD($A80)=$A80,ODD(CV$2)=CV$2),AND(EVEN($A80)=$A80,EVEN(CV$2)=CV$2)),CV$1,-100))","v":1828.125},{"$f":"IF('Ceiling Speaker Calculator'!$C$29=\"Square\",CW$1,IF(OR(AND(ODD($A80)=$A80,ODD(CW$2)=CW$2),AND(EVEN($A80)=$A80,EVEN(CW$2)=CW$2)),CW$1,-100))","v":1846.875},{"$f":"IF('Ceiling Speaker Calculator'!$C$29=\"Square\",CX$1,IF(OR(AND(ODD($A80)=$A80,ODD(CX$2)=CX$2),AND(EVEN($A80)=$A80,EVEN(CX$2)=CX$2)),CX$1,-100))","v":1865.625}]
[79,{"$f":"B80+'Ceiling Speaker Calculator'!$K$16","v":1570},{"$f":"IF('Ceiling Speaker Calculator'!$C$29=\"Square\",C$1,IF(OR(AND(ODD($A81)=$A81,ODD(C$2)=C$2),AND(EVEN($A81)=$A81,EVEN(C$2)=C$2)),C$1,-100))","v":9.375},{"$f":"IF('Ceiling Speaker Calculator'!$C$29=\"Square\",D$1,IF(OR(AND(ODD($A81)=$A81,ODD(D$2)=D$2),AND(EVEN($A81)=$A81,EVEN(D$2)=D$2)),D$1,-100))","v":28.125},{"$f":"IF('Ceiling Speaker Calculator'!$C$29=\"Square\",E$1,IF(OR(AND(ODD($A81)=$A81,ODD(E$2)=E$2),AND(EVEN($A81)=$A81,EVEN(E$2)=E$2)),E$1,-100))","v":46.875},{"$f":"IF('Ceiling Speaker Calculator'!$C$29=\"Square\",F$1,IF(OR(AND(ODD($A81)=$A81,ODD(F$2)=F$2),AND(EVEN($A81)=$A81,EVEN(F$2)=F$2)),F$1,-100))","v":65.625},{"$f":"IF('Ceiling Speaker Calculator'!$C$29=\"Square\",G$1,IF(OR(AND(ODD($A81)=$A81,ODD(G$2)=G$2),AND(EVEN($A81)=$A81,EVEN(G$2)=G$2)),G$1,-100))","v":84.375},{"$f":"IF('Ceiling Speaker Calculator'!$C$29=\"Square\",H$1,IF(OR(AND(ODD($A81)=$A81,ODD(H$2)=H$2),AND(EVEN($A81)=$A81,EVEN(H$2)=H$2)),H$1,-100))","v":103.125},{"$f":"IF('Ceiling Speaker Calculator'!$C$29=\"Square\",I$1,IF(OR(AND(ODD($A81)=$A81,ODD(I$2)=I$2),AND(EVEN($A81)=$A81,EVEN(I$2)=I$2)),I$1,-100))","v":121.875},{"$f":"IF('Ceiling Speaker Calculator'!$C$29=\"Square\",J$1,IF(OR(AND(ODD($A81)=$A81,ODD(J$2)=J$2),AND(EVEN($A81)=$A81,EVEN(J$2)=J$2)),J$1,-100))","v":140.625},{"$f":"IF('Ceiling Speaker Calculator'!$C$29=\"Square\",K$1,IF(OR(AND(ODD($A81)=$A81,ODD(K$2)=K$2),AND(EVEN($A81)=$A81,EVEN(K$2)=K$2)),K$1,-100))","v":159.375},{"$f":"IF('Ceiling Speaker Calculator'!$C$29=\"Square\",L$1,IF(OR(AND(ODD($A81)=$A81,ODD(L$2)=L$2),AND(EVEN($A81)=$A81,EVEN(L$2)=L$2)),L$1,-100))","v":178.125},{"$f":"IF('Ceiling Speaker Calculator'!$C$29=\"Square\",M$1,IF(OR(AND(ODD($A81)=$A81,ODD(M$2)=M$2),AND(EVEN($A81)=$A81,EVEN(M$2)=M$2)),M$1,-100))","v":196.875},{"$f":"IF('Ceiling Speaker Calculator'!$C$29=\"Square\",N$1,IF(OR(AND(ODD($A81)=$A81,ODD(N$2)=N$2),AND(EVEN($A81)=$A81,EVEN(N$2)=N$2)),N$1,-100))","v":215.625},{"$f":"IF('Ceiling Speaker Calculator'!$C$29=\"Square\",O$1,IF(OR(AND(ODD($A81)=$A81,ODD(O$2)=O$2),AND(EVEN($A81)=$A81,EVEN(O$2)=O$2)),O$1,-100))","v":234.375},{"$f":"IF('Ceiling Speaker Calculator'!$C$29=\"Square\",P$1,IF(OR(AND(ODD($A81)=$A81,ODD(P$2)=P$2),AND(EVEN($A81)=$A81,EVEN(P$2)=P$2)),P$1,-100))","v":253.125},{"$f":"IF('Ceiling Speaker Calculator'!$C$29=\"Square\",Q$1,IF(OR(AND(ODD($A81)=$A81,ODD(Q$2)=Q$2),AND(EVEN($A81)=$A81,EVEN(Q$2)=Q$2)),Q$1,-100))","v":271.875},{"$f":"IF('Ceiling Speaker Calculator'!$C$29=\"Square\",R$1,IF(OR(AND(ODD($A81)=$A81,ODD(R$2)=R$2),AND(EVEN($A81)=$A81,EVEN(R$2)=R$2)),R$1,-100))","v":290.625},{"$f":"IF('Ceiling Speaker Calculator'!$C$29=\"Square\",S$1,IF(OR(AND(ODD($A81)=$A81,ODD(S$2)=S$2),AND(EVEN($A81)=$A81,EVEN(S$2)=S$2)),S$1,-100))","v":309.375},{"$f":"IF('Ceiling Speaker Calculator'!$C$29=\"Square\",T$1,IF(OR(AND(ODD($A81)=$A81,ODD(T$2)=T$2),AND(EVEN($A81)=$A81,EVEN(T$2)=T$2)),T$1,-100))","v":328.125},{"$f":"IF('Ceiling Speaker Calculator'!$C$29=\"Square\",U$1,IF(OR(AND(ODD($A81)=$A81,ODD(U$2)=U$2),AND(EVEN($A81)=$A81,EVEN(U$2)=U$2)),U$1,-100))","v":346.875},{"$f":"IF('Ceiling Speaker Calculator'!$C$29=\"Square\",V$1,IF(OR(AND(ODD($A81)=$A81,ODD(V$2)=V$2),AND(EVEN($A81)=$A81,EVEN(V$2)=V$2)),V$1,-100))","v":365.625},{"$f":"IF('Ceiling Speaker Calculator'!$C$29=\"Square\",W$1,IF(OR(AND(ODD($A81)=$A81,ODD(W$2)=W$2),AND(EVEN($A81)=$A81,EVEN(W$2)=W$2)),W$1,-100))","v":384.375},{"$f":"IF('Ceiling Speaker Calculator'!$C$29=\"Square\",X$1,IF(OR(AND(ODD($A81)=$A81,ODD(X$2)=X$2),AND(EVEN($A81)=$A81,EVEN(X$2)=X$2)),X$1,-100))","v":403.125},{"$f":"IF('Ceiling Speaker Calculator'!$C$29=\"Square\",Y$1,IF(OR(AND(ODD($A81)=$A81,ODD(Y$2)=Y$2),AND(EVEN($A81)=$A81,EVEN(Y$2)=Y$2)),Y$1,-100))","v":421.875},{"$f":"IF('Ceiling Speaker Calculator'!$C$29=\"Square\",Z$1,IF(OR(AND(ODD($A81)=$A81,ODD(Z$2)=Z$2),AND(EVEN($A81)=$A81,EVEN(Z$2)=Z$2)),Z$1,-100))","v":440.625},{"$f":"IF('Ceiling Speaker Calculator'!$C$29=\"Square\",AA$1,IF(OR(AND(ODD($A81)=$A81,ODD(AA$2)=AA$2),AND(EVEN($A81)=$A81,EVEN(AA$2)=AA$2)),AA$1,-100))","v":459.375},{"$f":"IF('Ceiling Speaker Calculator'!$C$29=\"Square\",AB$1,IF(OR(AND(ODD($A81)=$A81,ODD(AB$2)=AB$2),AND(EVEN($A81)=$A81,EVEN(AB$2)=AB$2)),AB$1,-100))","v":478.125},{"$f":"IF('Ceiling Speaker Calculator'!$C$29=\"Square\",AC$1,IF(OR(AND(ODD($A81)=$A81,ODD(AC$2)=AC$2),AND(EVEN($A81)=$A81,EVEN(AC$2)=AC$2)),AC$1,-100))","v":496.875},{"$f":"IF('Ceiling Speaker Calculator'!$C$29=\"Square\",AD$1,IF(OR(AND(ODD($A81)=$A81,ODD(AD$2)=AD$2),AND(EVEN($A81)=$A81,EVEN(AD$2)=AD$2)),AD$1,-100))","v":515.625},{"$f":"IF('Ceiling Speaker Calculator'!$C$29=\"Square\",AE$1,IF(OR(AND(ODD($A81)=$A81,ODD(AE$2)=AE$2),AND(EVEN($A81)=$A81,EVEN(AE$2)=AE$2)),AE$1,-100))","v":534.375},{"$f":"IF('Ceiling Speaker Calculator'!$C$29=\"Square\",AF$1,IF(OR(AND(ODD($A81)=$A81,ODD(AF$2)=AF$2),AND(EVEN($A81)=$A81,EVEN(AF$2)=AF$2)),AF$1,-100))","v":553.125},{"$f":"IF('Ceiling Speaker Calculator'!$C$29=\"Square\",AG$1,IF(OR(AND(ODD($A81)=$A81,ODD(AG$2)=AG$2),AND(EVEN($A81)=$A81,EVEN(AG$2)=AG$2)),AG$1,-100))","v":571.875},{"$f":"IF('Ceiling Speaker Calculator'!$C$29=\"Square\",AH$1,IF(OR(AND(ODD($A81)=$A81,ODD(AH$2)=AH$2),AND(EVEN($A81)=$A81,EVEN(AH$2)=AH$2)),AH$1,-100))","v":590.625},{"$f":"IF('Ceiling Speaker Calculator'!$C$29=\"Square\",AI$1,IF(OR(AND(ODD($A81)=$A81,ODD(AI$2)=AI$2),AND(EVEN($A81)=$A81,EVEN(AI$2)=AI$2)),AI$1,-100))","v":609.375},{"$f":"IF('Ceiling Speaker Calculator'!$C$29=\"Square\",AJ$1,IF(OR(AND(ODD($A81)=$A81,ODD(AJ$2)=AJ$2),AND(EVEN($A81)=$A81,EVEN(AJ$2)=AJ$2)),AJ$1,-100))","v":628.125},{"$f":"IF('Ceiling Speaker Calculator'!$C$29=\"Square\",AK$1,IF(OR(AND(ODD($A81)=$A81,ODD(AK$2)=AK$2),AND(EVEN($A81)=$A81,EVEN(AK$2)=AK$2)),AK$1,-100))","v":646.875},{"$f":"IF('Ceiling Speaker Calculator'!$C$29=\"Square\",AL$1,IF(OR(AND(ODD($A81)=$A81,ODD(AL$2)=AL$2),AND(EVEN($A81)=$A81,EVEN(AL$2)=AL$2)),AL$1,-100))","v":665.625},{"$f":"IF('Ceiling Speaker Calculator'!$C$29=\"Square\",AM$1,IF(OR(AND(ODD($A81)=$A81,ODD(AM$2)=AM$2),AND(EVEN($A81)=$A81,EVEN(AM$2)=AM$2)),AM$1,-100))","v":684.375},{"$f":"IF('Ceiling Speaker Calculator'!$C$29=\"Square\",AN$1,IF(OR(AND(ODD($A81)=$A81,ODD(AN$2)=AN$2),AND(EVEN($A81)=$A81,EVEN(AN$2)=AN$2)),AN$1,-100))","v":703.125},{"$f":"IF('Ceiling Speaker Calculator'!$C$29=\"Square\",AO$1,IF(OR(AND(ODD($A81)=$A81,ODD(AO$2)=AO$2),AND(EVEN($A81)=$A81,EVEN(AO$2)=AO$2)),AO$1,-100))","v":721.875},{"$f":"IF('Ceiling Speaker Calculator'!$C$29=\"Square\",AP$1,IF(OR(AND(ODD($A81)=$A81,ODD(AP$2)=AP$2),AND(EVEN($A81)=$A81,EVEN(AP$2)=AP$2)),AP$1,-100))","v":740.625},{"$f":"IF('Ceiling Speaker Calculator'!$C$29=\"Square\",AQ$1,IF(OR(AND(ODD($A81)=$A81,ODD(AQ$2)=AQ$2),AND(EVEN($A81)=$A81,EVEN(AQ$2)=AQ$2)),AQ$1,-100))","v":759.375},{"$f":"IF('Ceiling Speaker Calculator'!$C$29=\"Square\",AR$1,IF(OR(AND(ODD($A81)=$A81,ODD(AR$2)=AR$2),AND(EVEN($A81)=$A81,EVEN(AR$2)=AR$2)),AR$1,-100))","v":778.125},{"$f":"IF('Ceiling Speaker Calculator'!$C$29=\"Square\",AS$1,IF(OR(AND(ODD($A81)=$A81,ODD(AS$2)=AS$2),AND(EVEN($A81)=$A81,EVEN(AS$2)=AS$2)),AS$1,-100))","v":796.875},{"$f":"IF('Ceiling Speaker Calculator'!$C$29=\"Square\",AT$1,IF(OR(AND(ODD($A81)=$A81,ODD(AT$2)=AT$2),AND(EVEN($A81)=$A81,EVEN(AT$2)=AT$2)),AT$1,-100))","v":815.625},{"$f":"IF('Ceiling Speaker Calculator'!$C$29=\"Square\",AU$1,IF(OR(AND(ODD($A81)=$A81,ODD(AU$2)=AU$2),AND(EVEN($A81)=$A81,EVEN(AU$2)=AU$2)),AU$1,-100))","v":834.375},{"$f":"IF('Ceiling Speaker Calculator'!$C$29=\"Square\",AV$1,IF(OR(AND(ODD($A81)=$A81,ODD(AV$2)=AV$2),AND(EVEN($A81)=$A81,EVEN(AV$2)=AV$2)),AV$1,-100))","v":853.125},{"$f":"IF('Ceiling Speaker Calculator'!$C$29=\"Square\",AW$1,IF(OR(AND(ODD($A81)=$A81,ODD(AW$2)=AW$2),AND(EVEN($A81)=$A81,EVEN(AW$2)=AW$2)),AW$1,-100))","v":871.875},{"$f":"IF('Ceiling Speaker Calculator'!$C$29=\"Square\",AX$1,IF(OR(AND(ODD($A81)=$A81,ODD(AX$2)=AX$2),AND(EVEN($A81)=$A81,EVEN(AX$2)=AX$2)),AX$1,-100))","v":890.625},{"$f":"IF('Ceiling Speaker Calculator'!$C$29=\"Square\",AY$1,IF(OR(AND(ODD($A81)=$A81,ODD(AY$2)=AY$2),AND(EVEN($A81)=$A81,EVEN(AY$2)=AY$2)),AY$1,-100))","v":909.375},{"$f":"IF('Ceiling Speaker Calculator'!$C$29=\"Square\",AZ$1,IF(OR(AND(ODD($A81)=$A81,ODD(AZ$2)=AZ$2),AND(EVEN($A81)=$A81,EVEN(AZ$2)=AZ$2)),AZ$1,-100))","v":928.125},{"$f":"IF('Ceiling Speaker Calculator'!$C$29=\"Square\",BA$1,IF(OR(AND(ODD($A81)=$A81,ODD(BA$2)=BA$2),AND(EVEN($A81)=$A81,EVEN(BA$2)=BA$2)),BA$1,-100))","v":946.875},{"$f":"IF('Ceiling Speaker Calculator'!$C$29=\"Square\",BB$1,IF(OR(AND(ODD($A81)=$A81,ODD(BB$2)=BB$2),AND(EVEN($A81)=$A81,EVEN(BB$2)=BB$2)),BB$1,-100))","v":965.625},{"$f":"IF('Ceiling Speaker Calculator'!$C$29=\"Square\",BC$1,IF(OR(AND(ODD($A81)=$A81,ODD(BC$2)=BC$2),AND(EVEN($A81)=$A81,EVEN(BC$2)=BC$2)),BC$1,-100))","v":984.375},{"$f":"IF('Ceiling Speaker Calculator'!$C$29=\"Square\",BD$1,IF(OR(AND(ODD($A81)=$A81,ODD(BD$2)=BD$2),AND(EVEN($A81)=$A81,EVEN(BD$2)=BD$2)),BD$1,-100))","v":1003.125},{"$f":"IF('Ceiling Speaker Calculator'!$C$29=\"Square\",BE$1,IF(OR(AND(ODD($A81)=$A81,ODD(BE$2)=BE$2),AND(EVEN($A81)=$A81,EVEN(BE$2)=BE$2)),BE$1,-100))","v":1021.875},{"$f":"IF('Ceiling Speaker Calculator'!$C$29=\"Square\",BF$1,IF(OR(AND(ODD($A81)=$A81,ODD(BF$2)=BF$2),AND(EVEN($A81)=$A81,EVEN(BF$2)=BF$2)),BF$1,-100))","v":1040.625},{"$f":"IF('Ceiling Speaker Calculator'!$C$29=\"Square\",BG$1,IF(OR(AND(ODD($A81)=$A81,ODD(BG$2)=BG$2),AND(EVEN($A81)=$A81,EVEN(BG$2)=BG$2)),BG$1,-100))","v":1059.375},{"$f":"IF('Ceiling Speaker Calculator'!$C$29=\"Square\",BH$1,IF(OR(AND(ODD($A81)=$A81,ODD(BH$2)=BH$2),AND(EVEN($A81)=$A81,EVEN(BH$2)=BH$2)),BH$1,-100))","v":1078.125},{"$f":"IF('Ceiling Speaker Calculator'!$C$29=\"Square\",BI$1,IF(OR(AND(ODD($A81)=$A81,ODD(BI$2)=BI$2),AND(EVEN($A81)=$A81,EVEN(BI$2)=BI$2)),BI$1,-100))","v":1096.875},{"$f":"IF('Ceiling Speaker Calculator'!$C$29=\"Square\",BJ$1,IF(OR(AND(ODD($A81)=$A81,ODD(BJ$2)=BJ$2),AND(EVEN($A81)=$A81,EVEN(BJ$2)=BJ$2)),BJ$1,-100))","v":1115.625},{"$f":"IF('Ceiling Speaker Calculator'!$C$29=\"Square\",BK$1,IF(OR(AND(ODD($A81)=$A81,ODD(BK$2)=BK$2),AND(EVEN($A81)=$A81,EVEN(BK$2)=BK$2)),BK$1,-100))","v":1134.375},{"$f":"IF('Ceiling Speaker Calculator'!$C$29=\"Square\",BL$1,IF(OR(AND(ODD($A81)=$A81,ODD(BL$2)=BL$2),AND(EVEN($A81)=$A81,EVEN(BL$2)=BL$2)),BL$1,-100))","v":1153.125},{"$f":"IF('Ceiling Speaker Calculator'!$C$29=\"Square\",BM$1,IF(OR(AND(ODD($A81)=$A81,ODD(BM$2)=BM$2),AND(EVEN($A81)=$A81,EVEN(BM$2)=BM$2)),BM$1,-100))","v":1171.875},{"$f":"IF('Ceiling Speaker Calculator'!$C$29=\"Square\",BN$1,IF(OR(AND(ODD($A81)=$A81,ODD(BN$2)=BN$2),AND(EVEN($A81)=$A81,EVEN(BN$2)=BN$2)),BN$1,-100))","v":1190.625},{"$f":"IF('Ceiling Speaker Calculator'!$C$29=\"Square\",BO$1,IF(OR(AND(ODD($A81)=$A81,ODD(BO$2)=BO$2),AND(EVEN($A81)=$A81,EVEN(BO$2)=BO$2)),BO$1,-100))","v":1209.375},{"$f":"IF('Ceiling Speaker Calculator'!$C$29=\"Square\",BP$1,IF(OR(AND(ODD($A81)=$A81,ODD(BP$2)=BP$2),AND(EVEN($A81)=$A81,EVEN(BP$2)=BP$2)),BP$1,-100))","v":1228.125},{"$f":"IF('Ceiling Speaker Calculator'!$C$29=\"Square\",BQ$1,IF(OR(AND(ODD($A81)=$A81,ODD(BQ$2)=BQ$2),AND(EVEN($A81)=$A81,EVEN(BQ$2)=BQ$2)),BQ$1,-100))","v":1246.875},{"$f":"IF('Ceiling Speaker Calculator'!$C$29=\"Square\",BR$1,IF(OR(AND(ODD($A81)=$A81,ODD(BR$2)=BR$2),AND(EVEN($A81)=$A81,EVEN(BR$2)=BR$2)),BR$1,-100))","v":1265.625},{"$f":"IF('Ceiling Speaker Calculator'!$C$29=\"Square\",BS$1,IF(OR(AND(ODD($A81)=$A81,ODD(BS$2)=BS$2),AND(EVEN($A81)=$A81,EVEN(BS$2)=BS$2)),BS$1,-100))","v":1284.375},{"$f":"IF('Ceiling Speaker Calculator'!$C$29=\"Square\",BT$1,IF(OR(AND(ODD($A81)=$A81,ODD(BT$2)=BT$2),AND(EVEN($A81)=$A81,EVEN(BT$2)=BT$2)),BT$1,-100))","v":1303.125},{"$f":"IF('Ceiling Speaker Calculator'!$C$29=\"Square\",BU$1,IF(OR(AND(ODD($A81)=$A81,ODD(BU$2)=BU$2),AND(EVEN($A81)=$A81,EVEN(BU$2)=BU$2)),BU$1,-100))","v":1321.875},{"$f":"IF('Ceiling Speaker Calculator'!$C$29=\"Square\",BV$1,IF(OR(AND(ODD($A81)=$A81,ODD(BV$2)=BV$2),AND(EVEN($A81)=$A81,EVEN(BV$2)=BV$2)),BV$1,-100))","v":1340.625},{"$f":"IF('Ceiling Speaker Calculator'!$C$29=\"Square\",BW$1,IF(OR(AND(ODD($A81)=$A81,ODD(BW$2)=BW$2),AND(EVEN($A81)=$A81,EVEN(BW$2)=BW$2)),BW$1,-100))","v":1359.375},{"$f":"IF('Ceiling Speaker Calculator'!$C$29=\"Square\",BX$1,IF(OR(AND(ODD($A81)=$A81,ODD(BX$2)=BX$2),AND(EVEN($A81)=$A81,EVEN(BX$2)=BX$2)),BX$1,-100))","v":1378.125},{"$f":"IF('Ceiling Speaker Calculator'!$C$29=\"Square\",BY$1,IF(OR(AND(ODD($A81)=$A81,ODD(BY$2)=BY$2),AND(EVEN($A81)=$A81,EVEN(BY$2)=BY$2)),BY$1,-100))","v":1396.875},{"$f":"IF('Ceiling Speaker Calculator'!$C$29=\"Square\",BZ$1,IF(OR(AND(ODD($A81)=$A81,ODD(BZ$2)=BZ$2),AND(EVEN($A81)=$A81,EVEN(BZ$2)=BZ$2)),BZ$1,-100))","v":1415.625},{"$f":"IF('Ceiling Speaker Calculator'!$C$29=\"Square\",CA$1,IF(OR(AND(ODD($A81)=$A81,ODD(CA$2)=CA$2),AND(EVEN($A81)=$A81,EVEN(CA$2)=CA$2)),CA$1,-100))","v":1434.375},{"$f":"IF('Ceiling Speaker Calculator'!$C$29=\"Square\",CB$1,IF(OR(AND(ODD($A81)=$A81,ODD(CB$2)=CB$2),AND(EVEN($A81)=$A81,EVEN(CB$2)=CB$2)),CB$1,-100))","v":1453.125},{"$f":"IF('Ceiling Speaker Calculator'!$C$29=\"Square\",CC$1,IF(OR(AND(ODD($A81)=$A81,ODD(CC$2)=CC$2),AND(EVEN($A81)=$A81,EVEN(CC$2)=CC$2)),CC$1,-100))","v":1471.875},{"$f":"IF('Ceiling Speaker Calculator'!$C$29=\"Square\",CD$1,IF(OR(AND(ODD($A81)=$A81,ODD(CD$2)=CD$2),AND(EVEN($A81)=$A81,EVEN(CD$2)=CD$2)),CD$1,-100))","v":1490.625},{"$f":"IF('Ceiling Speaker Calculator'!$C$29=\"Square\",CE$1,IF(OR(AND(ODD($A81)=$A81,ODD(CE$2)=CE$2),AND(EVEN($A81)=$A81,EVEN(CE$2)=CE$2)),CE$1,-100))","v":1509.375},{"$f":"IF('Ceiling Speaker Calculator'!$C$29=\"Square\",CF$1,IF(OR(AND(ODD($A81)=$A81,ODD(CF$2)=CF$2),AND(EVEN($A81)=$A81,EVEN(CF$2)=CF$2)),CF$1,-100))","v":1528.125},{"$f":"IF('Ceiling Speaker Calculator'!$C$29=\"Square\",CG$1,IF(OR(AND(ODD($A81)=$A81,ODD(CG$2)=CG$2),AND(EVEN($A81)=$A81,EVEN(CG$2)=CG$2)),CG$1,-100))","v":1546.875},{"$f":"IF('Ceiling Speaker Calculator'!$C$29=\"Square\",CH$1,IF(OR(AND(ODD($A81)=$A81,ODD(CH$2)=CH$2),AND(EVEN($A81)=$A81,EVEN(CH$2)=CH$2)),CH$1,-100))","v":1565.625},{"$f":"IF('Ceiling Speaker Calculator'!$C$29=\"Square\",CI$1,IF(OR(AND(ODD($A81)=$A81,ODD(CI$2)=CI$2),AND(EVEN($A81)=$A81,EVEN(CI$2)=CI$2)),CI$1,-100))","v":1584.375},{"$f":"IF('Ceiling Speaker Calculator'!$C$29=\"Square\",CJ$1,IF(OR(AND(ODD($A81)=$A81,ODD(CJ$2)=CJ$2),AND(EVEN($A81)=$A81,EVEN(CJ$2)=CJ$2)),CJ$1,-100))","v":1603.125},{"$f":"IF('Ceiling Speaker Calculator'!$C$29=\"Square\",CK$1,IF(OR(AND(ODD($A81)=$A81,ODD(CK$2)=CK$2),AND(EVEN($A81)=$A81,EVEN(CK$2)=CK$2)),CK$1,-100))","v":1621.875},{"$f":"IF('Ceiling Speaker Calculator'!$C$29=\"Square\",CL$1,IF(OR(AND(ODD($A81)=$A81,ODD(CL$2)=CL$2),AND(EVEN($A81)=$A81,EVEN(CL$2)=CL$2)),CL$1,-100))","v":1640.625},{"$f":"IF('Ceiling Speaker Calculator'!$C$29=\"Square\",CM$1,IF(OR(AND(ODD($A81)=$A81,ODD(CM$2)=CM$2),AND(EVEN($A81)=$A81,EVEN(CM$2)=CM$2)),CM$1,-100))","v":1659.375},{"$f":"IF('Ceiling Speaker Calculator'!$C$29=\"Square\",CN$1,IF(OR(AND(ODD($A81)=$A81,ODD(CN$2)=CN$2),AND(EVEN($A81)=$A81,EVEN(CN$2)=CN$2)),CN$1,-100))","v":1678.125},{"$f":"IF('Ceiling Speaker Calculator'!$C$29=\"Square\",CO$1,IF(OR(AND(ODD($A81)=$A81,ODD(CO$2)=CO$2),AND(EVEN($A81)=$A81,EVEN(CO$2)=CO$2)),CO$1,-100))","v":1696.875},{"$f":"IF('Ceiling Speaker Calculator'!$C$29=\"Square\",CP$1,IF(OR(AND(ODD($A81)=$A81,ODD(CP$2)=CP$2),AND(EVEN($A81)=$A81,EVEN(CP$2)=CP$2)),CP$1,-100))","v":1715.625},{"$f":"IF('Ceiling Speaker Calculator'!$C$29=\"Square\",CQ$1,IF(OR(AND(ODD($A81)=$A81,ODD(CQ$2)=CQ$2),AND(EVEN($A81)=$A81,EVEN(CQ$2)=CQ$2)),CQ$1,-100))","v":1734.375},{"$f":"IF('Ceiling Speaker Calculator'!$C$29=\"Square\",CR$1,IF(OR(AND(ODD($A81)=$A81,ODD(CR$2)=CR$2),AND(EVEN($A81)=$A81,EVEN(CR$2)=CR$2)),CR$1,-100))","v":1753.125},{"$f":"IF('Ceiling Speaker Calculator'!$C$29=\"Square\",CS$1,IF(OR(AND(ODD($A81)=$A81,ODD(CS$2)=CS$2),AND(EVEN($A81)=$A81,EVEN(CS$2)=CS$2)),CS$1,-100))","v":1771.875},{"$f":"IF('Ceiling Speaker Calculator'!$C$29=\"Square\",CT$1,IF(OR(AND(ODD($A81)=$A81,ODD(CT$2)=CT$2),AND(EVEN($A81)=$A81,EVEN(CT$2)=CT$2)),CT$1,-100))","v":1790.625},{"$f":"IF('Ceiling Speaker Calculator'!$C$29=\"Square\",CU$1,IF(OR(AND(ODD($A81)=$A81,ODD(CU$2)=CU$2),AND(EVEN($A81)=$A81,EVEN(CU$2)=CU$2)),CU$1,-100))","v":1809.375},{"$f":"IF('Ceiling Speaker Calculator'!$C$29=\"Square\",CV$1,IF(OR(AND(ODD($A81)=$A81,ODD(CV$2)=CV$2),AND(EVEN($A81)=$A81,EVEN(CV$2)=CV$2)),CV$1,-100))","v":1828.125},{"$f":"IF('Ceiling Speaker Calculator'!$C$29=\"Square\",CW$1,IF(OR(AND(ODD($A81)=$A81,ODD(CW$2)=CW$2),AND(EVEN($A81)=$A81,EVEN(CW$2)=CW$2)),CW$1,-100))","v":1846.875},{"$f":"IF('Ceiling Speaker Calculator'!$C$29=\"Square\",CX$1,IF(OR(AND(ODD($A81)=$A81,ODD(CX$2)=CX$2),AND(EVEN($A81)=$A81,EVEN(CX$2)=CX$2)),CX$1,-100))","v":1865.625}]
[80,{"$f":"B81+'Ceiling Speaker Calculator'!$K$16","v":1590},{"$f":"IF('Ceiling Speaker Calculator'!$C$29=\"Square\",C$1,IF(OR(AND(ODD($A82)=$A82,ODD(C$2)=C$2),AND(EVEN($A82)=$A82,EVEN(C$2)=C$2)),C$1,-100))","v":9.375},{"$f":"IF('Ceiling Speaker Calculator'!$C$29=\"Square\",D$1,IF(OR(AND(ODD($A82)=$A82,ODD(D$2)=D$2),AND(EVEN($A82)=$A82,EVEN(D$2)=D$2)),D$1,-100))","v":28.125},{"$f":"IF('Ceiling Speaker Calculator'!$C$29=\"Square\",E$1,IF(OR(AND(ODD($A82)=$A82,ODD(E$2)=E$2),AND(EVEN($A82)=$A82,EVEN(E$2)=E$2)),E$1,-100))","v":46.875},{"$f":"IF('Ceiling Speaker Calculator'!$C$29=\"Square\",F$1,IF(OR(AND(ODD($A82)=$A82,ODD(F$2)=F$2),AND(EVEN($A82)=$A82,EVEN(F$2)=F$2)),F$1,-100))","v":65.625},{"$f":"IF('Ceiling Speaker Calculator'!$C$29=\"Square\",G$1,IF(OR(AND(ODD($A82)=$A82,ODD(G$2)=G$2),AND(EVEN($A82)=$A82,EVEN(G$2)=G$2)),G$1,-100))","v":84.375},{"$f":"IF('Ceiling Speaker Calculator'!$C$29=\"Square\",H$1,IF(OR(AND(ODD($A82)=$A82,ODD(H$2)=H$2),AND(EVEN($A82)=$A82,EVEN(H$2)=H$2)),H$1,-100))","v":103.125},{"$f":"IF('Ceiling Speaker Calculator'!$C$29=\"Square\",I$1,IF(OR(AND(ODD($A82)=$A82,ODD(I$2)=I$2),AND(EVEN($A82)=$A82,EVEN(I$2)=I$2)),I$1,-100))","v":121.875},{"$f":"IF('Ceiling Speaker Calculator'!$C$29=\"Square\",J$1,IF(OR(AND(ODD($A82)=$A82,ODD(J$2)=J$2),AND(EVEN($A82)=$A82,EVEN(J$2)=J$2)),J$1,-100))","v":140.625},{"$f":"IF('Ceiling Speaker Calculator'!$C$29=\"Square\",K$1,IF(OR(AND(ODD($A82)=$A82,ODD(K$2)=K$2),AND(EVEN($A82)=$A82,EVEN(K$2)=K$2)),K$1,-100))","v":159.375},{"$f":"IF('Ceiling Speaker Calculator'!$C$29=\"Square\",L$1,IF(OR(AND(ODD($A82)=$A82,ODD(L$2)=L$2),AND(EVEN($A82)=$A82,EVEN(L$2)=L$2)),L$1,-100))","v":178.125},{"$f":"IF('Ceiling Speaker Calculator'!$C$29=\"Square\",M$1,IF(OR(AND(ODD($A82)=$A82,ODD(M$2)=M$2),AND(EVEN($A82)=$A82,EVEN(M$2)=M$2)),M$1,-100))","v":196.875},{"$f":"IF('Ceiling Speaker Calculator'!$C$29=\"Square\",N$1,IF(OR(AND(ODD($A82)=$A82,ODD(N$2)=N$2),AND(EVEN($A82)=$A82,EVEN(N$2)=N$2)),N$1,-100))","v":215.625},{"$f":"IF('Ceiling Speaker Calculator'!$C$29=\"Square\",O$1,IF(OR(AND(ODD($A82)=$A82,ODD(O$2)=O$2),AND(EVEN($A82)=$A82,EVEN(O$2)=O$2)),O$1,-100))","v":234.375},{"$f":"IF('Ceiling Speaker Calculator'!$C$29=\"Square\",P$1,IF(OR(AND(ODD($A82)=$A82,ODD(P$2)=P$2),AND(EVEN($A82)=$A82,EVEN(P$2)=P$2)),P$1,-100))","v":253.125},{"$f":"IF('Ceiling Speaker Calculator'!$C$29=\"Square\",Q$1,IF(OR(AND(ODD($A82)=$A82,ODD(Q$2)=Q$2),AND(EVEN($A82)=$A82,EVEN(Q$2)=Q$2)),Q$1,-100))","v":271.875},{"$f":"IF('Ceiling Speaker Calculator'!$C$29=\"Square\",R$1,IF(OR(AND(ODD($A82)=$A82,ODD(R$2)=R$2),AND(EVEN($A82)=$A82,EVEN(R$2)=R$2)),R$1,-100))","v":290.625},{"$f":"IF('Ceiling Speaker Calculator'!$C$29=\"Square\",S$1,IF(OR(AND(ODD($A82)=$A82,ODD(S$2)=S$2),AND(EVEN($A82)=$A82,EVEN(S$2)=S$2)),S$1,-100))","v":309.375},{"$f":"IF('Ceiling Speaker Calculator'!$C$29=\"Square\",T$1,IF(OR(AND(ODD($A82)=$A82,ODD(T$2)=T$2),AND(EVEN($A82)=$A82,EVEN(T$2)=T$2)),T$1,-100))","v":328.125},{"$f":"IF('Ceiling Speaker Calculator'!$C$29=\"Square\",U$1,IF(OR(AND(ODD($A82)=$A82,ODD(U$2)=U$2),AND(EVEN($A82)=$A82,EVEN(U$2)=U$2)),U$1,-100))","v":346.875},{"$f":"IF('Ceiling Speaker Calculator'!$C$29=\"Square\",V$1,IF(OR(AND(ODD($A82)=$A82,ODD(V$2)=V$2),AND(EVEN($A82)=$A82,EVEN(V$2)=V$2)),V$1,-100))","v":365.625},{"$f":"IF('Ceiling Speaker Calculator'!$C$29=\"Square\",W$1,IF(OR(AND(ODD($A82)=$A82,ODD(W$2)=W$2),AND(EVEN($A82)=$A82,EVEN(W$2)=W$2)),W$1,-100))","v":384.375},{"$f":"IF('Ceiling Speaker Calculator'!$C$29=\"Square\",X$1,IF(OR(AND(ODD($A82)=$A82,ODD(X$2)=X$2),AND(EVEN($A82)=$A82,EVEN(X$2)=X$2)),X$1,-100))","v":403.125},{"$f":"IF('Ceiling Speaker Calculator'!$C$29=\"Square\",Y$1,IF(OR(AND(ODD($A82)=$A82,ODD(Y$2)=Y$2),AND(EVEN($A82)=$A82,EVEN(Y$2)=Y$2)),Y$1,-100))","v":421.875},{"$f":"IF('Ceiling Speaker Calculator'!$C$29=\"Square\",Z$1,IF(OR(AND(ODD($A82)=$A82,ODD(Z$2)=Z$2),AND(EVEN($A82)=$A82,EVEN(Z$2)=Z$2)),Z$1,-100))","v":440.625},{"$f":"IF('Ceiling Speaker Calculator'!$C$29=\"Square\",AA$1,IF(OR(AND(ODD($A82)=$A82,ODD(AA$2)=AA$2),AND(EVEN($A82)=$A82,EVEN(AA$2)=AA$2)),AA$1,-100))","v":459.375},{"$f":"IF('Ceiling Speaker Calculator'!$C$29=\"Square\",AB$1,IF(OR(AND(ODD($A82)=$A82,ODD(AB$2)=AB$2),AND(EVEN($A82)=$A82,EVEN(AB$2)=AB$2)),AB$1,-100))","v":478.125},{"$f":"IF('Ceiling Speaker Calculator'!$C$29=\"Square\",AC$1,IF(OR(AND(ODD($A82)=$A82,ODD(AC$2)=AC$2),AND(EVEN($A82)=$A82,EVEN(AC$2)=AC$2)),AC$1,-100))","v":496.875},{"$f":"IF('Ceiling Speaker Calculator'!$C$29=\"Square\",AD$1,IF(OR(AND(ODD($A82)=$A82,ODD(AD$2)=AD$2),AND(EVEN($A82)=$A82,EVEN(AD$2)=AD$2)),AD$1,-100))","v":515.625},{"$f":"IF('Ceiling Speaker Calculator'!$C$29=\"Square\",AE$1,IF(OR(AND(ODD($A82)=$A82,ODD(AE$2)=AE$2),AND(EVEN($A82)=$A82,EVEN(AE$2)=AE$2)),AE$1,-100))","v":534.375},{"$f":"IF('Ceiling Speaker Calculator'!$C$29=\"Square\",AF$1,IF(OR(AND(ODD($A82)=$A82,ODD(AF$2)=AF$2),AND(EVEN($A82)=$A82,EVEN(AF$2)=AF$2)),AF$1,-100))","v":553.125},{"$f":"IF('Ceiling Speaker Calculator'!$C$29=\"Square\",AG$1,IF(OR(AND(ODD($A82)=$A82,ODD(AG$2)=AG$2),AND(EVEN($A82)=$A82,EVEN(AG$2)=AG$2)),AG$1,-100))","v":571.875},{"$f":"IF('Ceiling Speaker Calculator'!$C$29=\"Square\",AH$1,IF(OR(AND(ODD($A82)=$A82,ODD(AH$2)=AH$2),AND(EVEN($A82)=$A82,EVEN(AH$2)=AH$2)),AH$1,-100))","v":590.625},{"$f":"IF('Ceiling Speaker Calculator'!$C$29=\"Square\",AI$1,IF(OR(AND(ODD($A82)=$A82,ODD(AI$2)=AI$2),AND(EVEN($A82)=$A82,EVEN(AI$2)=AI$2)),AI$1,-100))","v":609.375},{"$f":"IF('Ceiling Speaker Calculator'!$C$29=\"Square\",AJ$1,IF(OR(AND(ODD($A82)=$A82,ODD(AJ$2)=AJ$2),AND(EVEN($A82)=$A82,EVEN(AJ$2)=AJ$2)),AJ$1,-100))","v":628.125},{"$f":"IF('Ceiling Speaker Calculator'!$C$29=\"Square\",AK$1,IF(OR(AND(ODD($A82)=$A82,ODD(AK$2)=AK$2),AND(EVEN($A82)=$A82,EVEN(AK$2)=AK$2)),AK$1,-100))","v":646.875},{"$f":"IF('Ceiling Speaker Calculator'!$C$29=\"Square\",AL$1,IF(OR(AND(ODD($A82)=$A82,ODD(AL$2)=AL$2),AND(EVEN($A82)=$A82,EVEN(AL$2)=AL$2)),AL$1,-100))","v":665.625},{"$f":"IF('Ceiling Speaker Calculator'!$C$29=\"Square\",AM$1,IF(OR(AND(ODD($A82)=$A82,ODD(AM$2)=AM$2),AND(EVEN($A82)=$A82,EVEN(AM$2)=AM$2)),AM$1,-100))","v":684.375},{"$f":"IF('Ceiling Speaker Calculator'!$C$29=\"Square\",AN$1,IF(OR(AND(ODD($A82)=$A82,ODD(AN$2)=AN$2),AND(EVEN($A82)=$A82,EVEN(AN$2)=AN$2)),AN$1,-100))","v":703.125},{"$f":"IF('Ceiling Speaker Calculator'!$C$29=\"Square\",AO$1,IF(OR(AND(ODD($A82)=$A82,ODD(AO$2)=AO$2),AND(EVEN($A82)=$A82,EVEN(AO$2)=AO$2)),AO$1,-100))","v":721.875},{"$f":"IF('Ceiling Speaker Calculator'!$C$29=\"Square\",AP$1,IF(OR(AND(ODD($A82)=$A82,ODD(AP$2)=AP$2),AND(EVEN($A82)=$A82,EVEN(AP$2)=AP$2)),AP$1,-100))","v":740.625},{"$f":"IF('Ceiling Speaker Calculator'!$C$29=\"Square\",AQ$1,IF(OR(AND(ODD($A82)=$A82,ODD(AQ$2)=AQ$2),AND(EVEN($A82)=$A82,EVEN(AQ$2)=AQ$2)),AQ$1,-100))","v":759.375},{"$f":"IF('Ceiling Speaker Calculator'!$C$29=\"Square\",AR$1,IF(OR(AND(ODD($A82)=$A82,ODD(AR$2)=AR$2),AND(EVEN($A82)=$A82,EVEN(AR$2)=AR$2)),AR$1,-100))","v":778.125},{"$f":"IF('Ceiling Speaker Calculator'!$C$29=\"Square\",AS$1,IF(OR(AND(ODD($A82)=$A82,ODD(AS$2)=AS$2),AND(EVEN($A82)=$A82,EVEN(AS$2)=AS$2)),AS$1,-100))","v":796.875},{"$f":"IF('Ceiling Speaker Calculator'!$C$29=\"Square\",AT$1,IF(OR(AND(ODD($A82)=$A82,ODD(AT$2)=AT$2),AND(EVEN($A82)=$A82,EVEN(AT$2)=AT$2)),AT$1,-100))","v":815.625},{"$f":"IF('Ceiling Speaker Calculator'!$C$29=\"Square\",AU$1,IF(OR(AND(ODD($A82)=$A82,ODD(AU$2)=AU$2),AND(EVEN($A82)=$A82,EVEN(AU$2)=AU$2)),AU$1,-100))","v":834.375},{"$f":"IF('Ceiling Speaker Calculator'!$C$29=\"Square\",AV$1,IF(OR(AND(ODD($A82)=$A82,ODD(AV$2)=AV$2),AND(EVEN($A82)=$A82,EVEN(AV$2)=AV$2)),AV$1,-100))","v":853.125},{"$f":"IF('Ceiling Speaker Calculator'!$C$29=\"Square\",AW$1,IF(OR(AND(ODD($A82)=$A82,ODD(AW$2)=AW$2),AND(EVEN($A82)=$A82,EVEN(AW$2)=AW$2)),AW$1,-100))","v":871.875},{"$f":"IF('Ceiling Speaker Calculator'!$C$29=\"Square\",AX$1,IF(OR(AND(ODD($A82)=$A82,ODD(AX$2)=AX$2),AND(EVEN($A82)=$A82,EVEN(AX$2)=AX$2)),AX$1,-100))","v":890.625},{"$f":"IF('Ceiling Speaker Calculator'!$C$29=\"Square\",AY$1,IF(OR(AND(ODD($A82)=$A82,ODD(AY$2)=AY$2),AND(EVEN($A82)=$A82,EVEN(AY$2)=AY$2)),AY$1,-100))","v":909.375},{"$f":"IF('Ceiling Speaker Calculator'!$C$29=\"Square\",AZ$1,IF(OR(AND(ODD($A82)=$A82,ODD(AZ$2)=AZ$2),AND(EVEN($A82)=$A82,EVEN(AZ$2)=AZ$2)),AZ$1,-100))","v":928.125},{"$f":"IF('Ceiling Speaker Calculator'!$C$29=\"Square\",BA$1,IF(OR(AND(ODD($A82)=$A82,ODD(BA$2)=BA$2),AND(EVEN($A82)=$A82,EVEN(BA$2)=BA$2)),BA$1,-100))","v":946.875},{"$f":"IF('Ceiling Speaker Calculator'!$C$29=\"Square\",BB$1,IF(OR(AND(ODD($A82)=$A82,ODD(BB$2)=BB$2),AND(EVEN($A82)=$A82,EVEN(BB$2)=BB$2)),BB$1,-100))","v":965.625},{"$f":"IF('Ceiling Speaker Calculator'!$C$29=\"Square\",BC$1,IF(OR(AND(ODD($A82)=$A82,ODD(BC$2)=BC$2),AND(EVEN($A82)=$A82,EVEN(BC$2)=BC$2)),BC$1,-100))","v":984.375},{"$f":"IF('Ceiling Speaker Calculator'!$C$29=\"Square\",BD$1,IF(OR(AND(ODD($A82)=$A82,ODD(BD$2)=BD$2),AND(EVEN($A82)=$A82,EVEN(BD$2)=BD$2)),BD$1,-100))","v":1003.125},{"$f":"IF('Ceiling Speaker Calculator'!$C$29=\"Square\",BE$1,IF(OR(AND(ODD($A82)=$A82,ODD(BE$2)=BE$2),AND(EVEN($A82)=$A82,EVEN(BE$2)=BE$2)),BE$1,-100))","v":1021.875},{"$f":"IF('Ceiling Speaker Calculator'!$C$29=\"Square\",BF$1,IF(OR(AND(ODD($A82)=$A82,ODD(BF$2)=BF$2),AND(EVEN($A82)=$A82,EVEN(BF$2)=BF$2)),BF$1,-100))","v":1040.625},{"$f":"IF('Ceiling Speaker Calculator'!$C$29=\"Square\",BG$1,IF(OR(AND(ODD($A82)=$A82,ODD(BG$2)=BG$2),AND(EVEN($A82)=$A82,EVEN(BG$2)=BG$2)),BG$1,-100))","v":1059.375},{"$f":"IF('Ceiling Speaker Calculator'!$C$29=\"Square\",BH$1,IF(OR(AND(ODD($A82)=$A82,ODD(BH$2)=BH$2),AND(EVEN($A82)=$A82,EVEN(BH$2)=BH$2)),BH$1,-100))","v":1078.125},{"$f":"IF('Ceiling Speaker Calculator'!$C$29=\"Square\",BI$1,IF(OR(AND(ODD($A82)=$A82,ODD(BI$2)=BI$2),AND(EVEN($A82)=$A82,EVEN(BI$2)=BI$2)),BI$1,-100))","v":1096.875},{"$f":"IF('Ceiling Speaker Calculator'!$C$29=\"Square\",BJ$1,IF(OR(AND(ODD($A82)=$A82,ODD(BJ$2)=BJ$2),AND(EVEN($A82)=$A82,EVEN(BJ$2)=BJ$2)),BJ$1,-100))","v":1115.625},{"$f":"IF('Ceiling Speaker Calculator'!$C$29=\"Square\",BK$1,IF(OR(AND(ODD($A82)=$A82,ODD(BK$2)=BK$2),AND(EVEN($A82)=$A82,EVEN(BK$2)=BK$2)),BK$1,-100))","v":1134.375},{"$f":"IF('Ceiling Speaker Calculator'!$C$29=\"Square\",BL$1,IF(OR(AND(ODD($A82)=$A82,ODD(BL$2)=BL$2),AND(EVEN($A82)=$A82,EVEN(BL$2)=BL$2)),BL$1,-100))","v":1153.125},{"$f":"IF('Ceiling Speaker Calculator'!$C$29=\"Square\",BM$1,IF(OR(AND(ODD($A82)=$A82,ODD(BM$2)=BM$2),AND(EVEN($A82)=$A82,EVEN(BM$2)=BM$2)),BM$1,-100))","v":1171.875},{"$f":"IF('Ceiling Speaker Calculator'!$C$29=\"Square\",BN$1,IF(OR(AND(ODD($A82)=$A82,ODD(BN$2)=BN$2),AND(EVEN($A82)=$A82,EVEN(BN$2)=BN$2)),BN$1,-100))","v":1190.625},{"$f":"IF('Ceiling Speaker Calculator'!$C$29=\"Square\",BO$1,IF(OR(AND(ODD($A82)=$A82,ODD(BO$2)=BO$2),AND(EVEN($A82)=$A82,EVEN(BO$2)=BO$2)),BO$1,-100))","v":1209.375},{"$f":"IF('Ceiling Speaker Calculator'!$C$29=\"Square\",BP$1,IF(OR(AND(ODD($A82)=$A82,ODD(BP$2)=BP$2),AND(EVEN($A82)=$A82,EVEN(BP$2)=BP$2)),BP$1,-100))","v":1228.125},{"$f":"IF('Ceiling Speaker Calculator'!$C$29=\"Square\",BQ$1,IF(OR(AND(ODD($A82)=$A82,ODD(BQ$2)=BQ$2),AND(EVEN($A82)=$A82,EVEN(BQ$2)=BQ$2)),BQ$1,-100))","v":1246.875},{"$f":"IF('Ceiling Speaker Calculator'!$C$29=\"Square\",BR$1,IF(OR(AND(ODD($A82)=$A82,ODD(BR$2)=BR$2),AND(EVEN($A82)=$A82,EVEN(BR$2)=BR$2)),BR$1,-100))","v":1265.625},{"$f":"IF('Ceiling Speaker Calculator'!$C$29=\"Square\",BS$1,IF(OR(AND(ODD($A82)=$A82,ODD(BS$2)=BS$2),AND(EVEN($A82)=$A82,EVEN(BS$2)=BS$2)),BS$1,-100))","v":1284.375},{"$f":"IF('Ceiling Speaker Calculator'!$C$29=\"Square\",BT$1,IF(OR(AND(ODD($A82)=$A82,ODD(BT$2)=BT$2),AND(EVEN($A82)=$A82,EVEN(BT$2)=BT$2)),BT$1,-100))","v":1303.125},{"$f":"IF('Ceiling Speaker Calculator'!$C$29=\"Square\",BU$1,IF(OR(AND(ODD($A82)=$A82,ODD(BU$2)=BU$2),AND(EVEN($A82)=$A82,EVEN(BU$2)=BU$2)),BU$1,-100))","v":1321.875},{"$f":"IF('Ceiling Speaker Calculator'!$C$29=\"Square\",BV$1,IF(OR(AND(ODD($A82)=$A82,ODD(BV$2)=BV$2),AND(EVEN($A82)=$A82,EVEN(BV$2)=BV$2)),BV$1,-100))","v":1340.625},{"$f":"IF('Ceiling Speaker Calculator'!$C$29=\"Square\",BW$1,IF(OR(AND(ODD($A82)=$A82,ODD(BW$2)=BW$2),AND(EVEN($A82)=$A82,EVEN(BW$2)=BW$2)),BW$1,-100))","v":1359.375},{"$f":"IF('Ceiling Speaker Calculator'!$C$29=\"Square\",BX$1,IF(OR(AND(ODD($A82)=$A82,ODD(BX$2)=BX$2),AND(EVEN($A82)=$A82,EVEN(BX$2)=BX$2)),BX$1,-100))","v":1378.125},{"$f":"IF('Ceiling Speaker Calculator'!$C$29=\"Square\",BY$1,IF(OR(AND(ODD($A82)=$A82,ODD(BY$2)=BY$2),AND(EVEN($A82)=$A82,EVEN(BY$2)=BY$2)),BY$1,-100))","v":1396.875},{"$f":"IF('Ceiling Speaker Calculator'!$C$29=\"Square\",BZ$1,IF(OR(AND(ODD($A82)=$A82,ODD(BZ$2)=BZ$2),AND(EVEN($A82)=$A82,EVEN(BZ$2)=BZ$2)),BZ$1,-100))","v":1415.625},{"$f":"IF('Ceiling Speaker Calculator'!$C$29=\"Square\",CA$1,IF(OR(AND(ODD($A82)=$A82,ODD(CA$2)=CA$2),AND(EVEN($A82)=$A82,EVEN(CA$2)=CA$2)),CA$1,-100))","v":1434.375},{"$f":"IF('Ceiling Speaker Calculator'!$C$29=\"Square\",CB$1,IF(OR(AND(ODD($A82)=$A82,ODD(CB$2)=CB$2),AND(EVEN($A82)=$A82,EVEN(CB$2)=CB$2)),CB$1,-100))","v":1453.125},{"$f":"IF('Ceiling Speaker Calculator'!$C$29=\"Square\",CC$1,IF(OR(AND(ODD($A82)=$A82,ODD(CC$2)=CC$2),AND(EVEN($A82)=$A82,EVEN(CC$2)=CC$2)),CC$1,-100))","v":1471.875},{"$f":"IF('Ceiling Speaker Calculator'!$C$29=\"Square\",CD$1,IF(OR(AND(ODD($A82)=$A82,ODD(CD$2)=CD$2),AND(EVEN($A82)=$A82,EVEN(CD$2)=CD$2)),CD$1,-100))","v":1490.625},{"$f":"IF('Ceiling Speaker Calculator'!$C$29=\"Square\",CE$1,IF(OR(AND(ODD($A82)=$A82,ODD(CE$2)=CE$2),AND(EVEN($A82)=$A82,EVEN(CE$2)=CE$2)),CE$1,-100))","v":1509.375},{"$f":"IF('Ceiling Speaker Calculator'!$C$29=\"Square\",CF$1,IF(OR(AND(ODD($A82)=$A82,ODD(CF$2)=CF$2),AND(EVEN($A82)=$A82,EVEN(CF$2)=CF$2)),CF$1,-100))","v":1528.125},{"$f":"IF('Ceiling Speaker Calculator'!$C$29=\"Square\",CG$1,IF(OR(AND(ODD($A82)=$A82,ODD(CG$2)=CG$2),AND(EVEN($A82)=$A82,EVEN(CG$2)=CG$2)),CG$1,-100))","v":1546.875},{"$f":"IF('Ceiling Speaker Calculator'!$C$29=\"Square\",CH$1,IF(OR(AND(ODD($A82)=$A82,ODD(CH$2)=CH$2),AND(EVEN($A82)=$A82,EVEN(CH$2)=CH$2)),CH$1,-100))","v":1565.625},{"$f":"IF('Ceiling Speaker Calculator'!$C$29=\"Square\",CI$1,IF(OR(AND(ODD($A82)=$A82,ODD(CI$2)=CI$2),AND(EVEN($A82)=$A82,EVEN(CI$2)=CI$2)),CI$1,-100))","v":1584.375},{"$f":"IF('Ceiling Speaker Calculator'!$C$29=\"Square\",CJ$1,IF(OR(AND(ODD($A82)=$A82,ODD(CJ$2)=CJ$2),AND(EVEN($A82)=$A82,EVEN(CJ$2)=CJ$2)),CJ$1,-100))","v":1603.125},{"$f":"IF('Ceiling Speaker Calculator'!$C$29=\"Square\",CK$1,IF(OR(AND(ODD($A82)=$A82,ODD(CK$2)=CK$2),AND(EVEN($A82)=$A82,EVEN(CK$2)=CK$2)),CK$1,-100))","v":1621.875},{"$f":"IF('Ceiling Speaker Calculator'!$C$29=\"Square\",CL$1,IF(OR(AND(ODD($A82)=$A82,ODD(CL$2)=CL$2),AND(EVEN($A82)=$A82,EVEN(CL$2)=CL$2)),CL$1,-100))","v":1640.625},{"$f":"IF('Ceiling Speaker Calculator'!$C$29=\"Square\",CM$1,IF(OR(AND(ODD($A82)=$A82,ODD(CM$2)=CM$2),AND(EVEN($A82)=$A82,EVEN(CM$2)=CM$2)),CM$1,-100))","v":1659.375},{"$f":"IF('Ceiling Speaker Calculator'!$C$29=\"Square\",CN$1,IF(OR(AND(ODD($A82)=$A82,ODD(CN$2)=CN$2),AND(EVEN($A82)=$A82,EVEN(CN$2)=CN$2)),CN$1,-100))","v":1678.125},{"$f":"IF('Ceiling Speaker Calculator'!$C$29=\"Square\",CO$1,IF(OR(AND(ODD($A82)=$A82,ODD(CO$2)=CO$2),AND(EVEN($A82)=$A82,EVEN(CO$2)=CO$2)),CO$1,-100))","v":1696.875},{"$f":"IF('Ceiling Speaker Calculator'!$C$29=\"Square\",CP$1,IF(OR(AND(ODD($A82)=$A82,ODD(CP$2)=CP$2),AND(EVEN($A82)=$A82,EVEN(CP$2)=CP$2)),CP$1,-100))","v":1715.625},{"$f":"IF('Ceiling Speaker Calculator'!$C$29=\"Square\",CQ$1,IF(OR(AND(ODD($A82)=$A82,ODD(CQ$2)=CQ$2),AND(EVEN($A82)=$A82,EVEN(CQ$2)=CQ$2)),CQ$1,-100))","v":1734.375},{"$f":"IF('Ceiling Speaker Calculator'!$C$29=\"Square\",CR$1,IF(OR(AND(ODD($A82)=$A82,ODD(CR$2)=CR$2),AND(EVEN($A82)=$A82,EVEN(CR$2)=CR$2)),CR$1,-100))","v":1753.125},{"$f":"IF('Ceiling Speaker Calculator'!$C$29=\"Square\",CS$1,IF(OR(AND(ODD($A82)=$A82,ODD(CS$2)=CS$2),AND(EVEN($A82)=$A82,EVEN(CS$2)=CS$2)),CS$1,-100))","v":1771.875},{"$f":"IF('Ceiling Speaker Calculator'!$C$29=\"Square\",CT$1,IF(OR(AND(ODD($A82)=$A82,ODD(CT$2)=CT$2),AND(EVEN($A82)=$A82,EVEN(CT$2)=CT$2)),CT$1,-100))","v":1790.625},{"$f":"IF('Ceiling Speaker Calculator'!$C$29=\"Square\",CU$1,IF(OR(AND(ODD($A82)=$A82,ODD(CU$2)=CU$2),AND(EVEN($A82)=$A82,EVEN(CU$2)=CU$2)),CU$1,-100))","v":1809.375},{"$f":"IF('Ceiling Speaker Calculator'!$C$29=\"Square\",CV$1,IF(OR(AND(ODD($A82)=$A82,ODD(CV$2)=CV$2),AND(EVEN($A82)=$A82,EVEN(CV$2)=CV$2)),CV$1,-100))","v":1828.125},{"$f":"IF('Ceiling Speaker Calculator'!$C$29=\"Square\",CW$1,IF(OR(AND(ODD($A82)=$A82,ODD(CW$2)=CW$2),AND(EVEN($A82)=$A82,EVEN(CW$2)=CW$2)),CW$1,-100))","v":1846.875},{"$f":"IF('Ceiling Speaker Calculator'!$C$29=\"Square\",CX$1,IF(OR(AND(ODD($A82)=$A82,ODD(CX$2)=CX$2),AND(EVEN($A82)=$A82,EVEN(CX$2)=CX$2)),CX$1,-100))","v":1865.625}]
[81,{"$f":"B82+'Ceiling Speaker Calculator'!$K$16","v":1610},{"$f":"IF('Ceiling Speaker Calculator'!$C$29=\"Square\",C$1,IF(OR(AND(ODD($A83)=$A83,ODD(C$2)=C$2),AND(EVEN($A83)=$A83,EVEN(C$2)=C$2)),C$1,-100))","v":9.375},{"$f":"IF('Ceiling Speaker Calculator'!$C$29=\"Square\",D$1,IF(OR(AND(ODD($A83)=$A83,ODD(D$2)=D$2),AND(EVEN($A83)=$A83,EVEN(D$2)=D$2)),D$1,-100))","v":28.125},{"$f":"IF('Ceiling Speaker Calculator'!$C$29=\"Square\",E$1,IF(OR(AND(ODD($A83)=$A83,ODD(E$2)=E$2),AND(EVEN($A83)=$A83,EVEN(E$2)=E$2)),E$1,-100))","v":46.875},{"$f":"IF('Ceiling Speaker Calculator'!$C$29=\"Square\",F$1,IF(OR(AND(ODD($A83)=$A83,ODD(F$2)=F$2),AND(EVEN($A83)=$A83,EVEN(F$2)=F$2)),F$1,-100))","v":65.625},{"$f":"IF('Ceiling Speaker Calculator'!$C$29=\"Square\",G$1,IF(OR(AND(ODD($A83)=$A83,ODD(G$2)=G$2),AND(EVEN($A83)=$A83,EVEN(G$2)=G$2)),G$1,-100))","v":84.375},{"$f":"IF('Ceiling Speaker Calculator'!$C$29=\"Square\",H$1,IF(OR(AND(ODD($A83)=$A83,ODD(H$2)=H$2),AND(EVEN($A83)=$A83,EVEN(H$2)=H$2)),H$1,-100))","v":103.125},{"$f":"IF('Ceiling Speaker Calculator'!$C$29=\"Square\",I$1,IF(OR(AND(ODD($A83)=$A83,ODD(I$2)=I$2),AND(EVEN($A83)=$A83,EVEN(I$2)=I$2)),I$1,-100))","v":121.875},{"$f":"IF('Ceiling Speaker Calculator'!$C$29=\"Square\",J$1,IF(OR(AND(ODD($A83)=$A83,ODD(J$2)=J$2),AND(EVEN($A83)=$A83,EVEN(J$2)=J$2)),J$1,-100))","v":140.625},{"$f":"IF('Ceiling Speaker Calculator'!$C$29=\"Square\",K$1,IF(OR(AND(ODD($A83)=$A83,ODD(K$2)=K$2),AND(EVEN($A83)=$A83,EVEN(K$2)=K$2)),K$1,-100))","v":159.375},{"$f":"IF('Ceiling Speaker Calculator'!$C$29=\"Square\",L$1,IF(OR(AND(ODD($A83)=$A83,ODD(L$2)=L$2),AND(EVEN($A83)=$A83,EVEN(L$2)=L$2)),L$1,-100))","v":178.125},{"$f":"IF('Ceiling Speaker Calculator'!$C$29=\"Square\",M$1,IF(OR(AND(ODD($A83)=$A83,ODD(M$2)=M$2),AND(EVEN($A83)=$A83,EVEN(M$2)=M$2)),M$1,-100))","v":196.875},{"$f":"IF('Ceiling Speaker Calculator'!$C$29=\"Square\",N$1,IF(OR(AND(ODD($A83)=$A83,ODD(N$2)=N$2),AND(EVEN($A83)=$A83,EVEN(N$2)=N$2)),N$1,-100))","v":215.625},{"$f":"IF('Ceiling Speaker Calculator'!$C$29=\"Square\",O$1,IF(OR(AND(ODD($A83)=$A83,ODD(O$2)=O$2),AND(EVEN($A83)=$A83,EVEN(O$2)=O$2)),O$1,-100))","v":234.375},{"$f":"IF('Ceiling Speaker Calculator'!$C$29=\"Square\",P$1,IF(OR(AND(ODD($A83)=$A83,ODD(P$2)=P$2),AND(EVEN($A83)=$A83,EVEN(P$2)=P$2)),P$1,-100))","v":253.125},{"$f":"IF('Ceiling Speaker Calculator'!$C$29=\"Square\",Q$1,IF(OR(AND(ODD($A83)=$A83,ODD(Q$2)=Q$2),AND(EVEN($A83)=$A83,EVEN(Q$2)=Q$2)),Q$1,-100))","v":271.875},{"$f":"IF('Ceiling Speaker Calculator'!$C$29=\"Square\",R$1,IF(OR(AND(ODD($A83)=$A83,ODD(R$2)=R$2),AND(EVEN($A83)=$A83,EVEN(R$2)=R$2)),R$1,-100))","v":290.625},{"$f":"IF('Ceiling Speaker Calculator'!$C$29=\"Square\",S$1,IF(OR(AND(ODD($A83)=$A83,ODD(S$2)=S$2),AND(EVEN($A83)=$A83,EVEN(S$2)=S$2)),S$1,-100))","v":309.375},{"$f":"IF('Ceiling Speaker Calculator'!$C$29=\"Square\",T$1,IF(OR(AND(ODD($A83)=$A83,ODD(T$2)=T$2),AND(EVEN($A83)=$A83,EVEN(T$2)=T$2)),T$1,-100))","v":328.125},{"$f":"IF('Ceiling Speaker Calculator'!$C$29=\"Square\",U$1,IF(OR(AND(ODD($A83)=$A83,ODD(U$2)=U$2),AND(EVEN($A83)=$A83,EVEN(U$2)=U$2)),U$1,-100))","v":346.875},{"$f":"IF('Ceiling Speaker Calculator'!$C$29=\"Square\",V$1,IF(OR(AND(ODD($A83)=$A83,ODD(V$2)=V$2),AND(EVEN($A83)=$A83,EVEN(V$2)=V$2)),V$1,-100))","v":365.625},{"$f":"IF('Ceiling Speaker Calculator'!$C$29=\"Square\",W$1,IF(OR(AND(ODD($A83)=$A83,ODD(W$2)=W$2),AND(EVEN($A83)=$A83,EVEN(W$2)=W$2)),W$1,-100))","v":384.375},{"$f":"IF('Ceiling Speaker Calculator'!$C$29=\"Square\",X$1,IF(OR(AND(ODD($A83)=$A83,ODD(X$2)=X$2),AND(EVEN($A83)=$A83,EVEN(X$2)=X$2)),X$1,-100))","v":403.125},{"$f":"IF('Ceiling Speaker Calculator'!$C$29=\"Square\",Y$1,IF(OR(AND(ODD($A83)=$A83,ODD(Y$2)=Y$2),AND(EVEN($A83)=$A83,EVEN(Y$2)=Y$2)),Y$1,-100))","v":421.875},{"$f":"IF('Ceiling Speaker Calculator'!$C$29=\"Square\",Z$1,IF(OR(AND(ODD($A83)=$A83,ODD(Z$2)=Z$2),AND(EVEN($A83)=$A83,EVEN(Z$2)=Z$2)),Z$1,-100))","v":440.625},{"$f":"IF('Ceiling Speaker Calculator'!$C$29=\"Square\",AA$1,IF(OR(AND(ODD($A83)=$A83,ODD(AA$2)=AA$2),AND(EVEN($A83)=$A83,EVEN(AA$2)=AA$2)),AA$1,-100))","v":459.375},{"$f":"IF('Ceiling Speaker Calculator'!$C$29=\"Square\",AB$1,IF(OR(AND(ODD($A83)=$A83,ODD(AB$2)=AB$2),AND(EVEN($A83)=$A83,EVEN(AB$2)=AB$2)),AB$1,-100))","v":478.125},{"$f":"IF('Ceiling Speaker Calculator'!$C$29=\"Square\",AC$1,IF(OR(AND(ODD($A83)=$A83,ODD(AC$2)=AC$2),AND(EVEN($A83)=$A83,EVEN(AC$2)=AC$2)),AC$1,-100))","v":496.875},{"$f":"IF('Ceiling Speaker Calculator'!$C$29=\"Square\",AD$1,IF(OR(AND(ODD($A83)=$A83,ODD(AD$2)=AD$2),AND(EVEN($A83)=$A83,EVEN(AD$2)=AD$2)),AD$1,-100))","v":515.625},{"$f":"IF('Ceiling Speaker Calculator'!$C$29=\"Square\",AE$1,IF(OR(AND(ODD($A83)=$A83,ODD(AE$2)=AE$2),AND(EVEN($A83)=$A83,EVEN(AE$2)=AE$2)),AE$1,-100))","v":534.375},{"$f":"IF('Ceiling Speaker Calculator'!$C$29=\"Square\",AF$1,IF(OR(AND(ODD($A83)=$A83,ODD(AF$2)=AF$2),AND(EVEN($A83)=$A83,EVEN(AF$2)=AF$2)),AF$1,-100))","v":553.125},{"$f":"IF('Ceiling Speaker Calculator'!$C$29=\"Square\",AG$1,IF(OR(AND(ODD($A83)=$A83,ODD(AG$2)=AG$2),AND(EVEN($A83)=$A83,EVEN(AG$2)=AG$2)),AG$1,-100))","v":571.875},{"$f":"IF('Ceiling Speaker Calculator'!$C$29=\"Square\",AH$1,IF(OR(AND(ODD($A83)=$A83,ODD(AH$2)=AH$2),AND(EVEN($A83)=$A83,EVEN(AH$2)=AH$2)),AH$1,-100))","v":590.625},{"$f":"IF('Ceiling Speaker Calculator'!$C$29=\"Square\",AI$1,IF(OR(AND(ODD($A83)=$A83,ODD(AI$2)=AI$2),AND(EVEN($A83)=$A83,EVEN(AI$2)=AI$2)),AI$1,-100))","v":609.375},{"$f":"IF('Ceiling Speaker Calculator'!$C$29=\"Square\",AJ$1,IF(OR(AND(ODD($A83)=$A83,ODD(AJ$2)=AJ$2),AND(EVEN($A83)=$A83,EVEN(AJ$2)=AJ$2)),AJ$1,-100))","v":628.125},{"$f":"IF('Ceiling Speaker Calculator'!$C$29=\"Square\",AK$1,IF(OR(AND(ODD($A83)=$A83,ODD(AK$2)=AK$2),AND(EVEN($A83)=$A83,EVEN(AK$2)=AK$2)),AK$1,-100))","v":646.875},{"$f":"IF('Ceiling Speaker Calculator'!$C$29=\"Square\",AL$1,IF(OR(AND(ODD($A83)=$A83,ODD(AL$2)=AL$2),AND(EVEN($A83)=$A83,EVEN(AL$2)=AL$2)),AL$1,-100))","v":665.625},{"$f":"IF('Ceiling Speaker Calculator'!$C$29=\"Square\",AM$1,IF(OR(AND(ODD($A83)=$A83,ODD(AM$2)=AM$2),AND(EVEN($A83)=$A83,EVEN(AM$2)=AM$2)),AM$1,-100))","v":684.375},{"$f":"IF('Ceiling Speaker Calculator'!$C$29=\"Square\",AN$1,IF(OR(AND(ODD($A83)=$A83,ODD(AN$2)=AN$2),AND(EVEN($A83)=$A83,EVEN(AN$2)=AN$2)),AN$1,-100))","v":703.125},{"$f":"IF('Ceiling Speaker Calculator'!$C$29=\"Square\",AO$1,IF(OR(AND(ODD($A83)=$A83,ODD(AO$2)=AO$2),AND(EVEN($A83)=$A83,EVEN(AO$2)=AO$2)),AO$1,-100))","v":721.875},{"$f":"IF('Ceiling Speaker Calculator'!$C$29=\"Square\",AP$1,IF(OR(AND(ODD($A83)=$A83,ODD(AP$2)=AP$2),AND(EVEN($A83)=$A83,EVEN(AP$2)=AP$2)),AP$1,-100))","v":740.625},{"$f":"IF('Ceiling Speaker Calculator'!$C$29=\"Square\",AQ$1,IF(OR(AND(ODD($A83)=$A83,ODD(AQ$2)=AQ$2),AND(EVEN($A83)=$A83,EVEN(AQ$2)=AQ$2)),AQ$1,-100))","v":759.375},{"$f":"IF('Ceiling Speaker Calculator'!$C$29=\"Square\",AR$1,IF(OR(AND(ODD($A83)=$A83,ODD(AR$2)=AR$2),AND(EVEN($A83)=$A83,EVEN(AR$2)=AR$2)),AR$1,-100))","v":778.125},{"$f":"IF('Ceiling Speaker Calculator'!$C$29=\"Square\",AS$1,IF(OR(AND(ODD($A83)=$A83,ODD(AS$2)=AS$2),AND(EVEN($A83)=$A83,EVEN(AS$2)=AS$2)),AS$1,-100))","v":796.875},{"$f":"IF('Ceiling Speaker Calculator'!$C$29=\"Square\",AT$1,IF(OR(AND(ODD($A83)=$A83,ODD(AT$2)=AT$2),AND(EVEN($A83)=$A83,EVEN(AT$2)=AT$2)),AT$1,-100))","v":815.625},{"$f":"IF('Ceiling Speaker Calculator'!$C$29=\"Square\",AU$1,IF(OR(AND(ODD($A83)=$A83,ODD(AU$2)=AU$2),AND(EVEN($A83)=$A83,EVEN(AU$2)=AU$2)),AU$1,-100))","v":834.375},{"$f":"IF('Ceiling Speaker Calculator'!$C$29=\"Square\",AV$1,IF(OR(AND(ODD($A83)=$A83,ODD(AV$2)=AV$2),AND(EVEN($A83)=$A83,EVEN(AV$2)=AV$2)),AV$1,-100))","v":853.125},{"$f":"IF('Ceiling Speaker Calculator'!$C$29=\"Square\",AW$1,IF(OR(AND(ODD($A83)=$A83,ODD(AW$2)=AW$2),AND(EVEN($A83)=$A83,EVEN(AW$2)=AW$2)),AW$1,-100))","v":871.875},{"$f":"IF('Ceiling Speaker Calculator'!$C$29=\"Square\",AX$1,IF(OR(AND(ODD($A83)=$A83,ODD(AX$2)=AX$2),AND(EVEN($A83)=$A83,EVEN(AX$2)=AX$2)),AX$1,-100))","v":890.625},{"$f":"IF('Ceiling Speaker Calculator'!$C$29=\"Square\",AY$1,IF(OR(AND(ODD($A83)=$A83,ODD(AY$2)=AY$2),AND(EVEN($A83)=$A83,EVEN(AY$2)=AY$2)),AY$1,-100))","v":909.375},{"$f":"IF('Ceiling Speaker Calculator'!$C$29=\"Square\",AZ$1,IF(OR(AND(ODD($A83)=$A83,ODD(AZ$2)=AZ$2),AND(EVEN($A83)=$A83,EVEN(AZ$2)=AZ$2)),AZ$1,-100))","v":928.125},{"$f":"IF('Ceiling Speaker Calculator'!$C$29=\"Square\",BA$1,IF(OR(AND(ODD($A83)=$A83,ODD(BA$2)=BA$2),AND(EVEN($A83)=$A83,EVEN(BA$2)=BA$2)),BA$1,-100))","v":946.875},{"$f":"IF('Ceiling Speaker Calculator'!$C$29=\"Square\",BB$1,IF(OR(AND(ODD($A83)=$A83,ODD(BB$2)=BB$2),AND(EVEN($A83)=$A83,EVEN(BB$2)=BB$2)),BB$1,-100))","v":965.625},{"$f":"IF('Ceiling Speaker Calculator'!$C$29=\"Square\",BC$1,IF(OR(AND(ODD($A83)=$A83,ODD(BC$2)=BC$2),AND(EVEN($A83)=$A83,EVEN(BC$2)=BC$2)),BC$1,-100))","v":984.375},{"$f":"IF('Ceiling Speaker Calculator'!$C$29=\"Square\",BD$1,IF(OR(AND(ODD($A83)=$A83,ODD(BD$2)=BD$2),AND(EVEN($A83)=$A83,EVEN(BD$2)=BD$2)),BD$1,-100))","v":1003.125},{"$f":"IF('Ceiling Speaker Calculator'!$C$29=\"Square\",BE$1,IF(OR(AND(ODD($A83)=$A83,ODD(BE$2)=BE$2),AND(EVEN($A83)=$A83,EVEN(BE$2)=BE$2)),BE$1,-100))","v":1021.875},{"$f":"IF('Ceiling Speaker Calculator'!$C$29=\"Square\",BF$1,IF(OR(AND(ODD($A83)=$A83,ODD(BF$2)=BF$2),AND(EVEN($A83)=$A83,EVEN(BF$2)=BF$2)),BF$1,-100))","v":1040.625},{"$f":"IF('Ceiling Speaker Calculator'!$C$29=\"Square\",BG$1,IF(OR(AND(ODD($A83)=$A83,ODD(BG$2)=BG$2),AND(EVEN($A83)=$A83,EVEN(BG$2)=BG$2)),BG$1,-100))","v":1059.375},{"$f":"IF('Ceiling Speaker Calculator'!$C$29=\"Square\",BH$1,IF(OR(AND(ODD($A83)=$A83,ODD(BH$2)=BH$2),AND(EVEN($A83)=$A83,EVEN(BH$2)=BH$2)),BH$1,-100))","v":1078.125},{"$f":"IF('Ceiling Speaker Calculator'!$C$29=\"Square\",BI$1,IF(OR(AND(ODD($A83)=$A83,ODD(BI$2)=BI$2),AND(EVEN($A83)=$A83,EVEN(BI$2)=BI$2)),BI$1,-100))","v":1096.875},{"$f":"IF('Ceiling Speaker Calculator'!$C$29=\"Square\",BJ$1,IF(OR(AND(ODD($A83)=$A83,ODD(BJ$2)=BJ$2),AND(EVEN($A83)=$A83,EVEN(BJ$2)=BJ$2)),BJ$1,-100))","v":1115.625},{"$f":"IF('Ceiling Speaker Calculator'!$C$29=\"Square\",BK$1,IF(OR(AND(ODD($A83)=$A83,ODD(BK$2)=BK$2),AND(EVEN($A83)=$A83,EVEN(BK$2)=BK$2)),BK$1,-100))","v":1134.375},{"$f":"IF('Ceiling Speaker Calculator'!$C$29=\"Square\",BL$1,IF(OR(AND(ODD($A83)=$A83,ODD(BL$2)=BL$2),AND(EVEN($A83)=$A83,EVEN(BL$2)=BL$2)),BL$1,-100))","v":1153.125},{"$f":"IF('Ceiling Speaker Calculator'!$C$29=\"Square\",BM$1,IF(OR(AND(ODD($A83)=$A83,ODD(BM$2)=BM$2),AND(EVEN($A83)=$A83,EVEN(BM$2)=BM$2)),BM$1,-100))","v":1171.875},{"$f":"IF('Ceiling Speaker Calculator'!$C$29=\"Square\",BN$1,IF(OR(AND(ODD($A83)=$A83,ODD(BN$2)=BN$2),AND(EVEN($A83)=$A83,EVEN(BN$2)=BN$2)),BN$1,-100))","v":1190.625},{"$f":"IF('Ceiling Speaker Calculator'!$C$29=\"Square\",BO$1,IF(OR(AND(ODD($A83)=$A83,ODD(BO$2)=BO$2),AND(EVEN($A83)=$A83,EVEN(BO$2)=BO$2)),BO$1,-100))","v":1209.375},{"$f":"IF('Ceiling Speaker Calculator'!$C$29=\"Square\",BP$1,IF(OR(AND(ODD($A83)=$A83,ODD(BP$2)=BP$2),AND(EVEN($A83)=$A83,EVEN(BP$2)=BP$2)),BP$1,-100))","v":1228.125},{"$f":"IF('Ceiling Speaker Calculator'!$C$29=\"Square\",BQ$1,IF(OR(AND(ODD($A83)=$A83,ODD(BQ$2)=BQ$2),AND(EVEN($A83)=$A83,EVEN(BQ$2)=BQ$2)),BQ$1,-100))","v":1246.875},{"$f":"IF('Ceiling Speaker Calculator'!$C$29=\"Square\",BR$1,IF(OR(AND(ODD($A83)=$A83,ODD(BR$2)=BR$2),AND(EVEN($A83)=$A83,EVEN(BR$2)=BR$2)),BR$1,-100))","v":1265.625},{"$f":"IF('Ceiling Speaker Calculator'!$C$29=\"Square\",BS$1,IF(OR(AND(ODD($A83)=$A83,ODD(BS$2)=BS$2),AND(EVEN($A83)=$A83,EVEN(BS$2)=BS$2)),BS$1,-100))","v":1284.375},{"$f":"IF('Ceiling Speaker Calculator'!$C$29=\"Square\",BT$1,IF(OR(AND(ODD($A83)=$A83,ODD(BT$2)=BT$2),AND(EVEN($A83)=$A83,EVEN(BT$2)=BT$2)),BT$1,-100))","v":1303.125},{"$f":"IF('Ceiling Speaker Calculator'!$C$29=\"Square\",BU$1,IF(OR(AND(ODD($A83)=$A83,ODD(BU$2)=BU$2),AND(EVEN($A83)=$A83,EVEN(BU$2)=BU$2)),BU$1,-100))","v":1321.875},{"$f":"IF('Ceiling Speaker Calculator'!$C$29=\"Square\",BV$1,IF(OR(AND(ODD($A83)=$A83,ODD(BV$2)=BV$2),AND(EVEN($A83)=$A83,EVEN(BV$2)=BV$2)),BV$1,-100))","v":1340.625},{"$f":"IF('Ceiling Speaker Calculator'!$C$29=\"Square\",BW$1,IF(OR(AND(ODD($A83)=$A83,ODD(BW$2)=BW$2),AND(EVEN($A83)=$A83,EVEN(BW$2)=BW$2)),BW$1,-100))","v":1359.375},{"$f":"IF('Ceiling Speaker Calculator'!$C$29=\"Square\",BX$1,IF(OR(AND(ODD($A83)=$A83,ODD(BX$2)=BX$2),AND(EVEN($A83)=$A83,EVEN(BX$2)=BX$2)),BX$1,-100))","v":1378.125},{"$f":"IF('Ceiling Speaker Calculator'!$C$29=\"Square\",BY$1,IF(OR(AND(ODD($A83)=$A83,ODD(BY$2)=BY$2),AND(EVEN($A83)=$A83,EVEN(BY$2)=BY$2)),BY$1,-100))","v":1396.875},{"$f":"IF('Ceiling Speaker Calculator'!$C$29=\"Square\",BZ$1,IF(OR(AND(ODD($A83)=$A83,ODD(BZ$2)=BZ$2),AND(EVEN($A83)=$A83,EVEN(BZ$2)=BZ$2)),BZ$1,-100))","v":1415.625},{"$f":"IF('Ceiling Speaker Calculator'!$C$29=\"Square\",CA$1,IF(OR(AND(ODD($A83)=$A83,ODD(CA$2)=CA$2),AND(EVEN($A83)=$A83,EVEN(CA$2)=CA$2)),CA$1,-100))","v":1434.375},{"$f":"IF('Ceiling Speaker Calculator'!$C$29=\"Square\",CB$1,IF(OR(AND(ODD($A83)=$A83,ODD(CB$2)=CB$2),AND(EVEN($A83)=$A83,EVEN(CB$2)=CB$2)),CB$1,-100))","v":1453.125},{"$f":"IF('Ceiling Speaker Calculator'!$C$29=\"Square\",CC$1,IF(OR(AND(ODD($A83)=$A83,ODD(CC$2)=CC$2),AND(EVEN($A83)=$A83,EVEN(CC$2)=CC$2)),CC$1,-100))","v":1471.875},{"$f":"IF('Ceiling Speaker Calculator'!$C$29=\"Square\",CD$1,IF(OR(AND(ODD($A83)=$A83,ODD(CD$2)=CD$2),AND(EVEN($A83)=$A83,EVEN(CD$2)=CD$2)),CD$1,-100))","v":1490.625},{"$f":"IF('Ceiling Speaker Calculator'!$C$29=\"Square\",CE$1,IF(OR(AND(ODD($A83)=$A83,ODD(CE$2)=CE$2),AND(EVEN($A83)=$A83,EVEN(CE$2)=CE$2)),CE$1,-100))","v":1509.375},{"$f":"IF('Ceiling Speaker Calculator'!$C$29=\"Square\",CF$1,IF(OR(AND(ODD($A83)=$A83,ODD(CF$2)=CF$2),AND(EVEN($A83)=$A83,EVEN(CF$2)=CF$2)),CF$1,-100))","v":1528.125},{"$f":"IF('Ceiling Speaker Calculator'!$C$29=\"Square\",CG$1,IF(OR(AND(ODD($A83)=$A83,ODD(CG$2)=CG$2),AND(EVEN($A83)=$A83,EVEN(CG$2)=CG$2)),CG$1,-100))","v":1546.875},{"$f":"IF('Ceiling Speaker Calculator'!$C$29=\"Square\",CH$1,IF(OR(AND(ODD($A83)=$A83,ODD(CH$2)=CH$2),AND(EVEN($A83)=$A83,EVEN(CH$2)=CH$2)),CH$1,-100))","v":1565.625},{"$f":"IF('Ceiling Speaker Calculator'!$C$29=\"Square\",CI$1,IF(OR(AND(ODD($A83)=$A83,ODD(CI$2)=CI$2),AND(EVEN($A83)=$A83,EVEN(CI$2)=CI$2)),CI$1,-100))","v":1584.375},{"$f":"IF('Ceiling Speaker Calculator'!$C$29=\"Square\",CJ$1,IF(OR(AND(ODD($A83)=$A83,ODD(CJ$2)=CJ$2),AND(EVEN($A83)=$A83,EVEN(CJ$2)=CJ$2)),CJ$1,-100))","v":1603.125},{"$f":"IF('Ceiling Speaker Calculator'!$C$29=\"Square\",CK$1,IF(OR(AND(ODD($A83)=$A83,ODD(CK$2)=CK$2),AND(EVEN($A83)=$A83,EVEN(CK$2)=CK$2)),CK$1,-100))","v":1621.875},{"$f":"IF('Ceiling Speaker Calculator'!$C$29=\"Square\",CL$1,IF(OR(AND(ODD($A83)=$A83,ODD(CL$2)=CL$2),AND(EVEN($A83)=$A83,EVEN(CL$2)=CL$2)),CL$1,-100))","v":1640.625},{"$f":"IF('Ceiling Speaker Calculator'!$C$29=\"Square\",CM$1,IF(OR(AND(ODD($A83)=$A83,ODD(CM$2)=CM$2),AND(EVEN($A83)=$A83,EVEN(CM$2)=CM$2)),CM$1,-100))","v":1659.375},{"$f":"IF('Ceiling Speaker Calculator'!$C$29=\"Square\",CN$1,IF(OR(AND(ODD($A83)=$A83,ODD(CN$2)=CN$2),AND(EVEN($A83)=$A83,EVEN(CN$2)=CN$2)),CN$1,-100))","v":1678.125},{"$f":"IF('Ceiling Speaker Calculator'!$C$29=\"Square\",CO$1,IF(OR(AND(ODD($A83)=$A83,ODD(CO$2)=CO$2),AND(EVEN($A83)=$A83,EVEN(CO$2)=CO$2)),CO$1,-100))","v":1696.875},{"$f":"IF('Ceiling Speaker Calculator'!$C$29=\"Square\",CP$1,IF(OR(AND(ODD($A83)=$A83,ODD(CP$2)=CP$2),AND(EVEN($A83)=$A83,EVEN(CP$2)=CP$2)),CP$1,-100))","v":1715.625},{"$f":"IF('Ceiling Speaker Calculator'!$C$29=\"Square\",CQ$1,IF(OR(AND(ODD($A83)=$A83,ODD(CQ$2)=CQ$2),AND(EVEN($A83)=$A83,EVEN(CQ$2)=CQ$2)),CQ$1,-100))","v":1734.375},{"$f":"IF('Ceiling Speaker Calculator'!$C$29=\"Square\",CR$1,IF(OR(AND(ODD($A83)=$A83,ODD(CR$2)=CR$2),AND(EVEN($A83)=$A83,EVEN(CR$2)=CR$2)),CR$1,-100))","v":1753.125},{"$f":"IF('Ceiling Speaker Calculator'!$C$29=\"Square\",CS$1,IF(OR(AND(ODD($A83)=$A83,ODD(CS$2)=CS$2),AND(EVEN($A83)=$A83,EVEN(CS$2)=CS$2)),CS$1,-100))","v":1771.875},{"$f":"IF('Ceiling Speaker Calculator'!$C$29=\"Square\",CT$1,IF(OR(AND(ODD($A83)=$A83,ODD(CT$2)=CT$2),AND(EVEN($A83)=$A83,EVEN(CT$2)=CT$2)),CT$1,-100))","v":1790.625},{"$f":"IF('Ceiling Speaker Calculator'!$C$29=\"Square\",CU$1,IF(OR(AND(ODD($A83)=$A83,ODD(CU$2)=CU$2),AND(EVEN($A83)=$A83,EVEN(CU$2)=CU$2)),CU$1,-100))","v":1809.375},{"$f":"IF('Ceiling Speaker Calculator'!$C$29=\"Square\",CV$1,IF(OR(AND(ODD($A83)=$A83,ODD(CV$2)=CV$2),AND(EVEN($A83)=$A83,EVEN(CV$2)=CV$2)),CV$1,-100))","v":1828.125},{"$f":"IF('Ceiling Speaker Calculator'!$C$29=\"Square\",CW$1,IF(OR(AND(ODD($A83)=$A83,ODD(CW$2)=CW$2),AND(EVEN($A83)=$A83,EVEN(CW$2)=CW$2)),CW$1,-100))","v":1846.875},{"$f":"IF('Ceiling Speaker Calculator'!$C$29=\"Square\",CX$1,IF(OR(AND(ODD($A83)=$A83,ODD(CX$2)=CX$2),AND(EVEN($A83)=$A83,EVEN(CX$2)=CX$2)),CX$1,-100))","v":1865.625}]
[82,{"$f":"B83+'Ceiling Speaker Calculator'!$K$16","v":1630},{"$f":"IF('Ceiling Speaker Calculator'!$C$29=\"Square\",C$1,IF(OR(AND(ODD($A84)=$A84,ODD(C$2)=C$2),AND(EVEN($A84)=$A84,EVEN(C$2)=C$2)),C$1,-100))","v":9.375},{"$f":"IF('Ceiling Speaker Calculator'!$C$29=\"Square\",D$1,IF(OR(AND(ODD($A84)=$A84,ODD(D$2)=D$2),AND(EVEN($A84)=$A84,EVEN(D$2)=D$2)),D$1,-100))","v":28.125},{"$f":"IF('Ceiling Speaker Calculator'!$C$29=\"Square\",E$1,IF(OR(AND(ODD($A84)=$A84,ODD(E$2)=E$2),AND(EVEN($A84)=$A84,EVEN(E$2)=E$2)),E$1,-100))","v":46.875},{"$f":"IF('Ceiling Speaker Calculator'!$C$29=\"Square\",F$1,IF(OR(AND(ODD($A84)=$A84,ODD(F$2)=F$2),AND(EVEN($A84)=$A84,EVEN(F$2)=F$2)),F$1,-100))","v":65.625},{"$f":"IF('Ceiling Speaker Calculator'!$C$29=\"Square\",G$1,IF(OR(AND(ODD($A84)=$A84,ODD(G$2)=G$2),AND(EVEN($A84)=$A84,EVEN(G$2)=G$2)),G$1,-100))","v":84.375},{"$f":"IF('Ceiling Speaker Calculator'!$C$29=\"Square\",H$1,IF(OR(AND(ODD($A84)=$A84,ODD(H$2)=H$2),AND(EVEN($A84)=$A84,EVEN(H$2)=H$2)),H$1,-100))","v":103.125},{"$f":"IF('Ceiling Speaker Calculator'!$C$29=\"Square\",I$1,IF(OR(AND(ODD($A84)=$A84,ODD(I$2)=I$2),AND(EVEN($A84)=$A84,EVEN(I$2)=I$2)),I$1,-100))","v":121.875},{"$f":"IF('Ceiling Speaker Calculator'!$C$29=\"Square\",J$1,IF(OR(AND(ODD($A84)=$A84,ODD(J$2)=J$2),AND(EVEN($A84)=$A84,EVEN(J$2)=J$2)),J$1,-100))","v":140.625},{"$f":"IF('Ceiling Speaker Calculator'!$C$29=\"Square\",K$1,IF(OR(AND(ODD($A84)=$A84,ODD(K$2)=K$2),AND(EVEN($A84)=$A84,EVEN(K$2)=K$2)),K$1,-100))","v":159.375},{"$f":"IF('Ceiling Speaker Calculator'!$C$29=\"Square\",L$1,IF(OR(AND(ODD($A84)=$A84,ODD(L$2)=L$2),AND(EVEN($A84)=$A84,EVEN(L$2)=L$2)),L$1,-100))","v":178.125},{"$f":"IF('Ceiling Speaker Calculator'!$C$29=\"Square\",M$1,IF(OR(AND(ODD($A84)=$A84,ODD(M$2)=M$2),AND(EVEN($A84)=$A84,EVEN(M$2)=M$2)),M$1,-100))","v":196.875},{"$f":"IF('Ceiling Speaker Calculator'!$C$29=\"Square\",N$1,IF(OR(AND(ODD($A84)=$A84,ODD(N$2)=N$2),AND(EVEN($A84)=$A84,EVEN(N$2)=N$2)),N$1,-100))","v":215.625},{"$f":"IF('Ceiling Speaker Calculator'!$C$29=\"Square\",O$1,IF(OR(AND(ODD($A84)=$A84,ODD(O$2)=O$2),AND(EVEN($A84)=$A84,EVEN(O$2)=O$2)),O$1,-100))","v":234.375},{"$f":"IF('Ceiling Speaker Calculator'!$C$29=\"Square\",P$1,IF(OR(AND(ODD($A84)=$A84,ODD(P$2)=P$2),AND(EVEN($A84)=$A84,EVEN(P$2)=P$2)),P$1,-100))","v":253.125},{"$f":"IF('Ceiling Speaker Calculator'!$C$29=\"Square\",Q$1,IF(OR(AND(ODD($A84)=$A84,ODD(Q$2)=Q$2),AND(EVEN($A84)=$A84,EVEN(Q$2)=Q$2)),Q$1,-100))","v":271.875},{"$f":"IF('Ceiling Speaker Calculator'!$C$29=\"Square\",R$1,IF(OR(AND(ODD($A84)=$A84,ODD(R$2)=R$2),AND(EVEN($A84)=$A84,EVEN(R$2)=R$2)),R$1,-100))","v":290.625},{"$f":"IF('Ceiling Speaker Calculator'!$C$29=\"Square\",S$1,IF(OR(AND(ODD($A84)=$A84,ODD(S$2)=S$2),AND(EVEN($A84)=$A84,EVEN(S$2)=S$2)),S$1,-100))","v":309.375},{"$f":"IF('Ceiling Speaker Calculator'!$C$29=\"Square\",T$1,IF(OR(AND(ODD($A84)=$A84,ODD(T$2)=T$2),AND(EVEN($A84)=$A84,EVEN(T$2)=T$2)),T$1,-100))","v":328.125},{"$f":"IF('Ceiling Speaker Calculator'!$C$29=\"Square\",U$1,IF(OR(AND(ODD($A84)=$A84,ODD(U$2)=U$2),AND(EVEN($A84)=$A84,EVEN(U$2)=U$2)),U$1,-100))","v":346.875},{"$f":"IF('Ceiling Speaker Calculator'!$C$29=\"Square\",V$1,IF(OR(AND(ODD($A84)=$A84,ODD(V$2)=V$2),AND(EVEN($A84)=$A84,EVEN(V$2)=V$2)),V$1,-100))","v":365.625},{"$f":"IF('Ceiling Speaker Calculator'!$C$29=\"Square\",W$1,IF(OR(AND(ODD($A84)=$A84,ODD(W$2)=W$2),AND(EVEN($A84)=$A84,EVEN(W$2)=W$2)),W$1,-100))","v":384.375},{"$f":"IF('Ceiling Speaker Calculator'!$C$29=\"Square\",X$1,IF(OR(AND(ODD($A84)=$A84,ODD(X$2)=X$2),AND(EVEN($A84)=$A84,EVEN(X$2)=X$2)),X$1,-100))","v":403.125},{"$f":"IF('Ceiling Speaker Calculator'!$C$29=\"Square\",Y$1,IF(OR(AND(ODD($A84)=$A84,ODD(Y$2)=Y$2),AND(EVEN($A84)=$A84,EVEN(Y$2)=Y$2)),Y$1,-100))","v":421.875},{"$f":"IF('Ceiling Speaker Calculator'!$C$29=\"Square\",Z$1,IF(OR(AND(ODD($A84)=$A84,ODD(Z$2)=Z$2),AND(EVEN($A84)=$A84,EVEN(Z$2)=Z$2)),Z$1,-100))","v":440.625},{"$f":"IF('Ceiling Speaker Calculator'!$C$29=\"Square\",AA$1,IF(OR(AND(ODD($A84)=$A84,ODD(AA$2)=AA$2),AND(EVEN($A84)=$A84,EVEN(AA$2)=AA$2)),AA$1,-100))","v":459.375},{"$f":"IF('Ceiling Speaker Calculator'!$C$29=\"Square\",AB$1,IF(OR(AND(ODD($A84)=$A84,ODD(AB$2)=AB$2),AND(EVEN($A84)=$A84,EVEN(AB$2)=AB$2)),AB$1,-100))","v":478.125},{"$f":"IF('Ceiling Speaker Calculator'!$C$29=\"Square\",AC$1,IF(OR(AND(ODD($A84)=$A84,ODD(AC$2)=AC$2),AND(EVEN($A84)=$A84,EVEN(AC$2)=AC$2)),AC$1,-100))","v":496.875},{"$f":"IF('Ceiling Speaker Calculator'!$C$29=\"Square\",AD$1,IF(OR(AND(ODD($A84)=$A84,ODD(AD$2)=AD$2),AND(EVEN($A84)=$A84,EVEN(AD$2)=AD$2)),AD$1,-100))","v":515.625},{"$f":"IF('Ceiling Speaker Calculator'!$C$29=\"Square\",AE$1,IF(OR(AND(ODD($A84)=$A84,ODD(AE$2)=AE$2),AND(EVEN($A84)=$A84,EVEN(AE$2)=AE$2)),AE$1,-100))","v":534.375},{"$f":"IF('Ceiling Speaker Calculator'!$C$29=\"Square\",AF$1,IF(OR(AND(ODD($A84)=$A84,ODD(AF$2)=AF$2),AND(EVEN($A84)=$A84,EVEN(AF$2)=AF$2)),AF$1,-100))","v":553.125},{"$f":"IF('Ceiling Speaker Calculator'!$C$29=\"Square\",AG$1,IF(OR(AND(ODD($A84)=$A84,ODD(AG$2)=AG$2),AND(EVEN($A84)=$A84,EVEN(AG$2)=AG$2)),AG$1,-100))","v":571.875},{"$f":"IF('Ceiling Speaker Calculator'!$C$29=\"Square\",AH$1,IF(OR(AND(ODD($A84)=$A84,ODD(AH$2)=AH$2),AND(EVEN($A84)=$A84,EVEN(AH$2)=AH$2)),AH$1,-100))","v":590.625},{"$f":"IF('Ceiling Speaker Calculator'!$C$29=\"Square\",AI$1,IF(OR(AND(ODD($A84)=$A84,ODD(AI$2)=AI$2),AND(EVEN($A84)=$A84,EVEN(AI$2)=AI$2)),AI$1,-100))","v":609.375},{"$f":"IF('Ceiling Speaker Calculator'!$C$29=\"Square\",AJ$1,IF(OR(AND(ODD($A84)=$A84,ODD(AJ$2)=AJ$2),AND(EVEN($A84)=$A84,EVEN(AJ$2)=AJ$2)),AJ$1,-100))","v":628.125},{"$f":"IF('Ceiling Speaker Calculator'!$C$29=\"Square\",AK$1,IF(OR(AND(ODD($A84)=$A84,ODD(AK$2)=AK$2),AND(EVEN($A84)=$A84,EVEN(AK$2)=AK$2)),AK$1,-100))","v":646.875},{"$f":"IF('Ceiling Speaker Calculator'!$C$29=\"Square\",AL$1,IF(OR(AND(ODD($A84)=$A84,ODD(AL$2)=AL$2),AND(EVEN($A84)=$A84,EVEN(AL$2)=AL$2)),AL$1,-100))","v":665.625},{"$f":"IF('Ceiling Speaker Calculator'!$C$29=\"Square\",AM$1,IF(OR(AND(ODD($A84)=$A84,ODD(AM$2)=AM$2),AND(EVEN($A84)=$A84,EVEN(AM$2)=AM$2)),AM$1,-100))","v":684.375},{"$f":"IF('Ceiling Speaker Calculator'!$C$29=\"Square\",AN$1,IF(OR(AND(ODD($A84)=$A84,ODD(AN$2)=AN$2),AND(EVEN($A84)=$A84,EVEN(AN$2)=AN$2)),AN$1,-100))","v":703.125},{"$f":"IF('Ceiling Speaker Calculator'!$C$29=\"Square\",AO$1,IF(OR(AND(ODD($A84)=$A84,ODD(AO$2)=AO$2),AND(EVEN($A84)=$A84,EVEN(AO$2)=AO$2)),AO$1,-100))","v":721.875},{"$f":"IF('Ceiling Speaker Calculator'!$C$29=\"Square\",AP$1,IF(OR(AND(ODD($A84)=$A84,ODD(AP$2)=AP$2),AND(EVEN($A84)=$A84,EVEN(AP$2)=AP$2)),AP$1,-100))","v":740.625},{"$f":"IF('Ceiling Speaker Calculator'!$C$29=\"Square\",AQ$1,IF(OR(AND(ODD($A84)=$A84,ODD(AQ$2)=AQ$2),AND(EVEN($A84)=$A84,EVEN(AQ$2)=AQ$2)),AQ$1,-100))","v":759.375},{"$f":"IF('Ceiling Speaker Calculator'!$C$29=\"Square\",AR$1,IF(OR(AND(ODD($A84)=$A84,ODD(AR$2)=AR$2),AND(EVEN($A84)=$A84,EVEN(AR$2)=AR$2)),AR$1,-100))","v":778.125},{"$f":"IF('Ceiling Speaker Calculator'!$C$29=\"Square\",AS$1,IF(OR(AND(ODD($A84)=$A84,ODD(AS$2)=AS$2),AND(EVEN($A84)=$A84,EVEN(AS$2)=AS$2)),AS$1,-100))","v":796.875},{"$f":"IF('Ceiling Speaker Calculator'!$C$29=\"Square\",AT$1,IF(OR(AND(ODD($A84)=$A84,ODD(AT$2)=AT$2),AND(EVEN($A84)=$A84,EVEN(AT$2)=AT$2)),AT$1,-100))","v":815.625},{"$f":"IF('Ceiling Speaker Calculator'!$C$29=\"Square\",AU$1,IF(OR(AND(ODD($A84)=$A84,ODD(AU$2)=AU$2),AND(EVEN($A84)=$A84,EVEN(AU$2)=AU$2)),AU$1,-100))","v":834.375},{"$f":"IF('Ceiling Speaker Calculator'!$C$29=\"Square\",AV$1,IF(OR(AND(ODD($A84)=$A84,ODD(AV$2)=AV$2),AND(EVEN($A84)=$A84,EVEN(AV$2)=AV$2)),AV$1,-100))","v":853.125},{"$f":"IF('Ceiling Speaker Calculator'!$C$29=\"Square\",AW$1,IF(OR(AND(ODD($A84)=$A84,ODD(AW$2)=AW$2),AND(EVEN($A84)=$A84,EVEN(AW$2)=AW$2)),AW$1,-100))","v":871.875},{"$f":"IF('Ceiling Speaker Calculator'!$C$29=\"Square\",AX$1,IF(OR(AND(ODD($A84)=$A84,ODD(AX$2)=AX$2),AND(EVEN($A84)=$A84,EVEN(AX$2)=AX$2)),AX$1,-100))","v":890.625},{"$f":"IF('Ceiling Speaker Calculator'!$C$29=\"Square\",AY$1,IF(OR(AND(ODD($A84)=$A84,ODD(AY$2)=AY$2),AND(EVEN($A84)=$A84,EVEN(AY$2)=AY$2)),AY$1,-100))","v":909.375},{"$f":"IF('Ceiling Speaker Calculator'!$C$29=\"Square\",AZ$1,IF(OR(AND(ODD($A84)=$A84,ODD(AZ$2)=AZ$2),AND(EVEN($A84)=$A84,EVEN(AZ$2)=AZ$2)),AZ$1,-100))","v":928.125},{"$f":"IF('Ceiling Speaker Calculator'!$C$29=\"Square\",BA$1,IF(OR(AND(ODD($A84)=$A84,ODD(BA$2)=BA$2),AND(EVEN($A84)=$A84,EVEN(BA$2)=BA$2)),BA$1,-100))","v":946.875},{"$f":"IF('Ceiling Speaker Calculator'!$C$29=\"Square\",BB$1,IF(OR(AND(ODD($A84)=$A84,ODD(BB$2)=BB$2),AND(EVEN($A84)=$A84,EVEN(BB$2)=BB$2)),BB$1,-100))","v":965.625},{"$f":"IF('Ceiling Speaker Calculator'!$C$29=\"Square\",BC$1,IF(OR(AND(ODD($A84)=$A84,ODD(BC$2)=BC$2),AND(EVEN($A84)=$A84,EVEN(BC$2)=BC$2)),BC$1,-100))","v":984.375},{"$f":"IF('Ceiling Speaker Calculator'!$C$29=\"Square\",BD$1,IF(OR(AND(ODD($A84)=$A84,ODD(BD$2)=BD$2),AND(EVEN($A84)=$A84,EVEN(BD$2)=BD$2)),BD$1,-100))","v":1003.125},{"$f":"IF('Ceiling Speaker Calculator'!$C$29=\"Square\",BE$1,IF(OR(AND(ODD($A84)=$A84,ODD(BE$2)=BE$2),AND(EVEN($A84)=$A84,EVEN(BE$2)=BE$2)),BE$1,-100))","v":1021.875},{"$f":"IF('Ceiling Speaker Calculator'!$C$29=\"Square\",BF$1,IF(OR(AND(ODD($A84)=$A84,ODD(BF$2)=BF$2),AND(EVEN($A84)=$A84,EVEN(BF$2)=BF$2)),BF$1,-100))","v":1040.625},{"$f":"IF('Ceiling Speaker Calculator'!$C$29=\"Square\",BG$1,IF(OR(AND(ODD($A84)=$A84,ODD(BG$2)=BG$2),AND(EVEN($A84)=$A84,EVEN(BG$2)=BG$2)),BG$1,-100))","v":1059.375},{"$f":"IF('Ceiling Speaker Calculator'!$C$29=\"Square\",BH$1,IF(OR(AND(ODD($A84)=$A84,ODD(BH$2)=BH$2),AND(EVEN($A84)=$A84,EVEN(BH$2)=BH$2)),BH$1,-100))","v":1078.125},{"$f":"IF('Ceiling Speaker Calculator'!$C$29=\"Square\",BI$1,IF(OR(AND(ODD($A84)=$A84,ODD(BI$2)=BI$2),AND(EVEN($A84)=$A84,EVEN(BI$2)=BI$2)),BI$1,-100))","v":1096.875},{"$f":"IF('Ceiling Speaker Calculator'!$C$29=\"Square\",BJ$1,IF(OR(AND(ODD($A84)=$A84,ODD(BJ$2)=BJ$2),AND(EVEN($A84)=$A84,EVEN(BJ$2)=BJ$2)),BJ$1,-100))","v":1115.625},{"$f":"IF('Ceiling Speaker Calculator'!$C$29=\"Square\",BK$1,IF(OR(AND(ODD($A84)=$A84,ODD(BK$2)=BK$2),AND(EVEN($A84)=$A84,EVEN(BK$2)=BK$2)),BK$1,-100))","v":1134.375},{"$f":"IF('Ceiling Speaker Calculator'!$C$29=\"Square\",BL$1,IF(OR(AND(ODD($A84)=$A84,ODD(BL$2)=BL$2),AND(EVEN($A84)=$A84,EVEN(BL$2)=BL$2)),BL$1,-100))","v":1153.125},{"$f":"IF('Ceiling Speaker Calculator'!$C$29=\"Square\",BM$1,IF(OR(AND(ODD($A84)=$A84,ODD(BM$2)=BM$2),AND(EVEN($A84)=$A84,EVEN(BM$2)=BM$2)),BM$1,-100))","v":1171.875},{"$f":"IF('Ceiling Speaker Calculator'!$C$29=\"Square\",BN$1,IF(OR(AND(ODD($A84)=$A84,ODD(BN$2)=BN$2),AND(EVEN($A84)=$A84,EVEN(BN$2)=BN$2)),BN$1,-100))","v":1190.625},{"$f":"IF('Ceiling Speaker Calculator'!$C$29=\"Square\",BO$1,IF(OR(AND(ODD($A84)=$A84,ODD(BO$2)=BO$2),AND(EVEN($A84)=$A84,EVEN(BO$2)=BO$2)),BO$1,-100))","v":1209.375},{"$f":"IF('Ceiling Speaker Calculator'!$C$29=\"Square\",BP$1,IF(OR(AND(ODD($A84)=$A84,ODD(BP$2)=BP$2),AND(EVEN($A84)=$A84,EVEN(BP$2)=BP$2)),BP$1,-100))","v":1228.125},{"$f":"IF('Ceiling Speaker Calculator'!$C$29=\"Square\",BQ$1,IF(OR(AND(ODD($A84)=$A84,ODD(BQ$2)=BQ$2),AND(EVEN($A84)=$A84,EVEN(BQ$2)=BQ$2)),BQ$1,-100))","v":1246.875},{"$f":"IF('Ceiling Speaker Calculator'!$C$29=\"Square\",BR$1,IF(OR(AND(ODD($A84)=$A84,ODD(BR$2)=BR$2),AND(EVEN($A84)=$A84,EVEN(BR$2)=BR$2)),BR$1,-100))","v":1265.625},{"$f":"IF('Ceiling Speaker Calculator'!$C$29=\"Square\",BS$1,IF(OR(AND(ODD($A84)=$A84,ODD(BS$2)=BS$2),AND(EVEN($A84)=$A84,EVEN(BS$2)=BS$2)),BS$1,-100))","v":1284.375},{"$f":"IF('Ceiling Speaker Calculator'!$C$29=\"Square\",BT$1,IF(OR(AND(ODD($A84)=$A84,ODD(BT$2)=BT$2),AND(EVEN($A84)=$A84,EVEN(BT$2)=BT$2)),BT$1,-100))","v":1303.125},{"$f":"IF('Ceiling Speaker Calculator'!$C$29=\"Square\",BU$1,IF(OR(AND(ODD($A84)=$A84,ODD(BU$2)=BU$2),AND(EVEN($A84)=$A84,EVEN(BU$2)=BU$2)),BU$1,-100))","v":1321.875},{"$f":"IF('Ceiling Speaker Calculator'!$C$29=\"Square\",BV$1,IF(OR(AND(ODD($A84)=$A84,ODD(BV$2)=BV$2),AND(EVEN($A84)=$A84,EVEN(BV$2)=BV$2)),BV$1,-100))","v":1340.625},{"$f":"IF('Ceiling Speaker Calculator'!$C$29=\"Square\",BW$1,IF(OR(AND(ODD($A84)=$A84,ODD(BW$2)=BW$2),AND(EVEN($A84)=$A84,EVEN(BW$2)=BW$2)),BW$1,-100))","v":1359.375},{"$f":"IF('Ceiling Speaker Calculator'!$C$29=\"Square\",BX$1,IF(OR(AND(ODD($A84)=$A84,ODD(BX$2)=BX$2),AND(EVEN($A84)=$A84,EVEN(BX$2)=BX$2)),BX$1,-100))","v":1378.125},{"$f":"IF('Ceiling Speaker Calculator'!$C$29=\"Square\",BY$1,IF(OR(AND(ODD($A84)=$A84,ODD(BY$2)=BY$2),AND(EVEN($A84)=$A84,EVEN(BY$2)=BY$2)),BY$1,-100))","v":1396.875},{"$f":"IF('Ceiling Speaker Calculator'!$C$29=\"Square\",BZ$1,IF(OR(AND(ODD($A84)=$A84,ODD(BZ$2)=BZ$2),AND(EVEN($A84)=$A84,EVEN(BZ$2)=BZ$2)),BZ$1,-100))","v":1415.625},{"$f":"IF('Ceiling Speaker Calculator'!$C$29=\"Square\",CA$1,IF(OR(AND(ODD($A84)=$A84,ODD(CA$2)=CA$2),AND(EVEN($A84)=$A84,EVEN(CA$2)=CA$2)),CA$1,-100))","v":1434.375},{"$f":"IF('Ceiling Speaker Calculator'!$C$29=\"Square\",CB$1,IF(OR(AND(ODD($A84)=$A84,ODD(CB$2)=CB$2),AND(EVEN($A84)=$A84,EVEN(CB$2)=CB$2)),CB$1,-100))","v":1453.125},{"$f":"IF('Ceiling Speaker Calculator'!$C$29=\"Square\",CC$1,IF(OR(AND(ODD($A84)=$A84,ODD(CC$2)=CC$2),AND(EVEN($A84)=$A84,EVEN(CC$2)=CC$2)),CC$1,-100))","v":1471.875},{"$f":"IF('Ceiling Speaker Calculator'!$C$29=\"Square\",CD$1,IF(OR(AND(ODD($A84)=$A84,ODD(CD$2)=CD$2),AND(EVEN($A84)=$A84,EVEN(CD$2)=CD$2)),CD$1,-100))","v":1490.625},{"$f":"IF('Ceiling Speaker Calculator'!$C$29=\"Square\",CE$1,IF(OR(AND(ODD($A84)=$A84,ODD(CE$2)=CE$2),AND(EVEN($A84)=$A84,EVEN(CE$2)=CE$2)),CE$1,-100))","v":1509.375},{"$f":"IF('Ceiling Speaker Calculator'!$C$29=\"Square\",CF$1,IF(OR(AND(ODD($A84)=$A84,ODD(CF$2)=CF$2),AND(EVEN($A84)=$A84,EVEN(CF$2)=CF$2)),CF$1,-100))","v":1528.125},{"$f":"IF('Ceiling Speaker Calculator'!$C$29=\"Square\",CG$1,IF(OR(AND(ODD($A84)=$A84,ODD(CG$2)=CG$2),AND(EVEN($A84)=$A84,EVEN(CG$2)=CG$2)),CG$1,-100))","v":1546.875},{"$f":"IF('Ceiling Speaker Calculator'!$C$29=\"Square\",CH$1,IF(OR(AND(ODD($A84)=$A84,ODD(CH$2)=CH$2),AND(EVEN($A84)=$A84,EVEN(CH$2)=CH$2)),CH$1,-100))","v":1565.625},{"$f":"IF('Ceiling Speaker Calculator'!$C$29=\"Square\",CI$1,IF(OR(AND(ODD($A84)=$A84,ODD(CI$2)=CI$2),AND(EVEN($A84)=$A84,EVEN(CI$2)=CI$2)),CI$1,-100))","v":1584.375},{"$f":"IF('Ceiling Speaker Calculator'!$C$29=\"Square\",CJ$1,IF(OR(AND(ODD($A84)=$A84,ODD(CJ$2)=CJ$2),AND(EVEN($A84)=$A84,EVEN(CJ$2)=CJ$2)),CJ$1,-100))","v":1603.125},{"$f":"IF('Ceiling Speaker Calculator'!$C$29=\"Square\",CK$1,IF(OR(AND(ODD($A84)=$A84,ODD(CK$2)=CK$2),AND(EVEN($A84)=$A84,EVEN(CK$2)=CK$2)),CK$1,-100))","v":1621.875},{"$f":"IF('Ceiling Speaker Calculator'!$C$29=\"Square\",CL$1,IF(OR(AND(ODD($A84)=$A84,ODD(CL$2)=CL$2),AND(EVEN($A84)=$A84,EVEN(CL$2)=CL$2)),CL$1,-100))","v":1640.625},{"$f":"IF('Ceiling Speaker Calculator'!$C$29=\"Square\",CM$1,IF(OR(AND(ODD($A84)=$A84,ODD(CM$2)=CM$2),AND(EVEN($A84)=$A84,EVEN(CM$2)=CM$2)),CM$1,-100))","v":1659.375},{"$f":"IF('Ceiling Speaker Calculator'!$C$29=\"Square\",CN$1,IF(OR(AND(ODD($A84)=$A84,ODD(CN$2)=CN$2),AND(EVEN($A84)=$A84,EVEN(CN$2)=CN$2)),CN$1,-100))","v":1678.125},{"$f":"IF('Ceiling Speaker Calculator'!$C$29=\"Square\",CO$1,IF(OR(AND(ODD($A84)=$A84,ODD(CO$2)=CO$2),AND(EVEN($A84)=$A84,EVEN(CO$2)=CO$2)),CO$1,-100))","v":1696.875},{"$f":"IF('Ceiling Speaker Calculator'!$C$29=\"Square\",CP$1,IF(OR(AND(ODD($A84)=$A84,ODD(CP$2)=CP$2),AND(EVEN($A84)=$A84,EVEN(CP$2)=CP$2)),CP$1,-100))","v":1715.625},{"$f":"IF('Ceiling Speaker Calculator'!$C$29=\"Square\",CQ$1,IF(OR(AND(ODD($A84)=$A84,ODD(CQ$2)=CQ$2),AND(EVEN($A84)=$A84,EVEN(CQ$2)=CQ$2)),CQ$1,-100))","v":1734.375},{"$f":"IF('Ceiling Speaker Calculator'!$C$29=\"Square\",CR$1,IF(OR(AND(ODD($A84)=$A84,ODD(CR$2)=CR$2),AND(EVEN($A84)=$A84,EVEN(CR$2)=CR$2)),CR$1,-100))","v":1753.125},{"$f":"IF('Ceiling Speaker Calculator'!$C$29=\"Square\",CS$1,IF(OR(AND(ODD($A84)=$A84,ODD(CS$2)=CS$2),AND(EVEN($A84)=$A84,EVEN(CS$2)=CS$2)),CS$1,-100))","v":1771.875},{"$f":"IF('Ceiling Speaker Calculator'!$C$29=\"Square\",CT$1,IF(OR(AND(ODD($A84)=$A84,ODD(CT$2)=CT$2),AND(EVEN($A84)=$A84,EVEN(CT$2)=CT$2)),CT$1,-100))","v":1790.625},{"$f":"IF('Ceiling Speaker Calculator'!$C$29=\"Square\",CU$1,IF(OR(AND(ODD($A84)=$A84,ODD(CU$2)=CU$2),AND(EVEN($A84)=$A84,EVEN(CU$2)=CU$2)),CU$1,-100))","v":1809.375},{"$f":"IF('Ceiling Speaker Calculator'!$C$29=\"Square\",CV$1,IF(OR(AND(ODD($A84)=$A84,ODD(CV$2)=CV$2),AND(EVEN($A84)=$A84,EVEN(CV$2)=CV$2)),CV$1,-100))","v":1828.125},{"$f":"IF('Ceiling Speaker Calculator'!$C$29=\"Square\",CW$1,IF(OR(AND(ODD($A84)=$A84,ODD(CW$2)=CW$2),AND(EVEN($A84)=$A84,EVEN(CW$2)=CW$2)),CW$1,-100))","v":1846.875},{"$f":"IF('Ceiling Speaker Calculator'!$C$29=\"Square\",CX$1,IF(OR(AND(ODD($A84)=$A84,ODD(CX$2)=CX$2),AND(EVEN($A84)=$A84,EVEN(CX$2)=CX$2)),CX$1,-100))","v":1865.625}]
[83,{"$f":"B84+'Ceiling Speaker Calculator'!$K$16","v":1650},{"$f":"IF('Ceiling Speaker Calculator'!$C$29=\"Square\",C$1,IF(OR(AND(ODD($A85)=$A85,ODD(C$2)=C$2),AND(EVEN($A85)=$A85,EVEN(C$2)=C$2)),C$1,-100))","v":9.375},{"$f":"IF('Ceiling Speaker Calculator'!$C$29=\"Square\",D$1,IF(OR(AND(ODD($A85)=$A85,ODD(D$2)=D$2),AND(EVEN($A85)=$A85,EVEN(D$2)=D$2)),D$1,-100))","v":28.125},{"$f":"IF('Ceiling Speaker Calculator'!$C$29=\"Square\",E$1,IF(OR(AND(ODD($A85)=$A85,ODD(E$2)=E$2),AND(EVEN($A85)=$A85,EVEN(E$2)=E$2)),E$1,-100))","v":46.875},{"$f":"IF('Ceiling Speaker Calculator'!$C$29=\"Square\",F$1,IF(OR(AND(ODD($A85)=$A85,ODD(F$2)=F$2),AND(EVEN($A85)=$A85,EVEN(F$2)=F$2)),F$1,-100))","v":65.625},{"$f":"IF('Ceiling Speaker Calculator'!$C$29=\"Square\",G$1,IF(OR(AND(ODD($A85)=$A85,ODD(G$2)=G$2),AND(EVEN($A85)=$A85,EVEN(G$2)=G$2)),G$1,-100))","v":84.375},{"$f":"IF('Ceiling Speaker Calculator'!$C$29=\"Square\",H$1,IF(OR(AND(ODD($A85)=$A85,ODD(H$2)=H$2),AND(EVEN($A85)=$A85,EVEN(H$2)=H$2)),H$1,-100))","v":103.125},{"$f":"IF('Ceiling Speaker Calculator'!$C$29=\"Square\",I$1,IF(OR(AND(ODD($A85)=$A85,ODD(I$2)=I$2),AND(EVEN($A85)=$A85,EVEN(I$2)=I$2)),I$1,-100))","v":121.875},{"$f":"IF('Ceiling Speaker Calculator'!$C$29=\"Square\",J$1,IF(OR(AND(ODD($A85)=$A85,ODD(J$2)=J$2),AND(EVEN($A85)=$A85,EVEN(J$2)=J$2)),J$1,-100))","v":140.625},{"$f":"IF('Ceiling Speaker Calculator'!$C$29=\"Square\",K$1,IF(OR(AND(ODD($A85)=$A85,ODD(K$2)=K$2),AND(EVEN($A85)=$A85,EVEN(K$2)=K$2)),K$1,-100))","v":159.375},{"$f":"IF('Ceiling Speaker Calculator'!$C$29=\"Square\",L$1,IF(OR(AND(ODD($A85)=$A85,ODD(L$2)=L$2),AND(EVEN($A85)=$A85,EVEN(L$2)=L$2)),L$1,-100))","v":178.125},{"$f":"IF('Ceiling Speaker Calculator'!$C$29=\"Square\",M$1,IF(OR(AND(ODD($A85)=$A85,ODD(M$2)=M$2),AND(EVEN($A85)=$A85,EVEN(M$2)=M$2)),M$1,-100))","v":196.875},{"$f":"IF('Ceiling Speaker Calculator'!$C$29=\"Square\",N$1,IF(OR(AND(ODD($A85)=$A85,ODD(N$2)=N$2),AND(EVEN($A85)=$A85,EVEN(N$2)=N$2)),N$1,-100))","v":215.625},{"$f":"IF('Ceiling Speaker Calculator'!$C$29=\"Square\",O$1,IF(OR(AND(ODD($A85)=$A85,ODD(O$2)=O$2),AND(EVEN($A85)=$A85,EVEN(O$2)=O$2)),O$1,-100))","v":234.375},{"$f":"IF('Ceiling Speaker Calculator'!$C$29=\"Square\",P$1,IF(OR(AND(ODD($A85)=$A85,ODD(P$2)=P$2),AND(EVEN($A85)=$A85,EVEN(P$2)=P$2)),P$1,-100))","v":253.125},{"$f":"IF('Ceiling Speaker Calculator'!$C$29=\"Square\",Q$1,IF(OR(AND(ODD($A85)=$A85,ODD(Q$2)=Q$2),AND(EVEN($A85)=$A85,EVEN(Q$2)=Q$2)),Q$1,-100))","v":271.875},{"$f":"IF('Ceiling Speaker Calculator'!$C$29=\"Square\",R$1,IF(OR(AND(ODD($A85)=$A85,ODD(R$2)=R$2),AND(EVEN($A85)=$A85,EVEN(R$2)=R$2)),R$1,-100))","v":290.625},{"$f":"IF('Ceiling Speaker Calculator'!$C$29=\"Square\",S$1,IF(OR(AND(ODD($A85)=$A85,ODD(S$2)=S$2),AND(EVEN($A85)=$A85,EVEN(S$2)=S$2)),S$1,-100))","v":309.375},{"$f":"IF('Ceiling Speaker Calculator'!$C$29=\"Square\",T$1,IF(OR(AND(ODD($A85)=$A85,ODD(T$2)=T$2),AND(EVEN($A85)=$A85,EVEN(T$2)=T$2)),T$1,-100))","v":328.125},{"$f":"IF('Ceiling Speaker Calculator'!$C$29=\"Square\",U$1,IF(OR(AND(ODD($A85)=$A85,ODD(U$2)=U$2),AND(EVEN($A85)=$A85,EVEN(U$2)=U$2)),U$1,-100))","v":346.875},{"$f":"IF('Ceiling Speaker Calculator'!$C$29=\"Square\",V$1,IF(OR(AND(ODD($A85)=$A85,ODD(V$2)=V$2),AND(EVEN($A85)=$A85,EVEN(V$2)=V$2)),V$1,-100))","v":365.625},{"$f":"IF('Ceiling Speaker Calculator'!$C$29=\"Square\",W$1,IF(OR(AND(ODD($A85)=$A85,ODD(W$2)=W$2),AND(EVEN($A85)=$A85,EVEN(W$2)=W$2)),W$1,-100))","v":384.375},{"$f":"IF('Ceiling Speaker Calculator'!$C$29=\"Square\",X$1,IF(OR(AND(ODD($A85)=$A85,ODD(X$2)=X$2),AND(EVEN($A85)=$A85,EVEN(X$2)=X$2)),X$1,-100))","v":403.125},{"$f":"IF('Ceiling Speaker Calculator'!$C$29=\"Square\",Y$1,IF(OR(AND(ODD($A85)=$A85,ODD(Y$2)=Y$2),AND(EVEN($A85)=$A85,EVEN(Y$2)=Y$2)),Y$1,-100))","v":421.875},{"$f":"IF('Ceiling Speaker Calculator'!$C$29=\"Square\",Z$1,IF(OR(AND(ODD($A85)=$A85,ODD(Z$2)=Z$2),AND(EVEN($A85)=$A85,EVEN(Z$2)=Z$2)),Z$1,-100))","v":440.625},{"$f":"IF('Ceiling Speaker Calculator'!$C$29=\"Square\",AA$1,IF(OR(AND(ODD($A85)=$A85,ODD(AA$2)=AA$2),AND(EVEN($A85)=$A85,EVEN(AA$2)=AA$2)),AA$1,-100))","v":459.375},{"$f":"IF('Ceiling Speaker Calculator'!$C$29=\"Square\",AB$1,IF(OR(AND(ODD($A85)=$A85,ODD(AB$2)=AB$2),AND(EVEN($A85)=$A85,EVEN(AB$2)=AB$2)),AB$1,-100))","v":478.125},{"$f":"IF('Ceiling Speaker Calculator'!$C$29=\"Square\",AC$1,IF(OR(AND(ODD($A85)=$A85,ODD(AC$2)=AC$2),AND(EVEN($A85)=$A85,EVEN(AC$2)=AC$2)),AC$1,-100))","v":496.875},{"$f":"IF('Ceiling Speaker Calculator'!$C$29=\"Square\",AD$1,IF(OR(AND(ODD($A85)=$A85,ODD(AD$2)=AD$2),AND(EVEN($A85)=$A85,EVEN(AD$2)=AD$2)),AD$1,-100))","v":515.625},{"$f":"IF('Ceiling Speaker Calculator'!$C$29=\"Square\",AE$1,IF(OR(AND(ODD($A85)=$A85,ODD(AE$2)=AE$2),AND(EVEN($A85)=$A85,EVEN(AE$2)=AE$2)),AE$1,-100))","v":534.375},{"$f":"IF('Ceiling Speaker Calculator'!$C$29=\"Square\",AF$1,IF(OR(AND(ODD($A85)=$A85,ODD(AF$2)=AF$2),AND(EVEN($A85)=$A85,EVEN(AF$2)=AF$2)),AF$1,-100))","v":553.125},{"$f":"IF('Ceiling Speaker Calculator'!$C$29=\"Square\",AG$1,IF(OR(AND(ODD($A85)=$A85,ODD(AG$2)=AG$2),AND(EVEN($A85)=$A85,EVEN(AG$2)=AG$2)),AG$1,-100))","v":571.875},{"$f":"IF('Ceiling Speaker Calculator'!$C$29=\"Square\",AH$1,IF(OR(AND(ODD($A85)=$A85,ODD(AH$2)=AH$2),AND(EVEN($A85)=$A85,EVEN(AH$2)=AH$2)),AH$1,-100))","v":590.625},{"$f":"IF('Ceiling Speaker Calculator'!$C$29=\"Square\",AI$1,IF(OR(AND(ODD($A85)=$A85,ODD(AI$2)=AI$2),AND(EVEN($A85)=$A85,EVEN(AI$2)=AI$2)),AI$1,-100))","v":609.375},{"$f":"IF('Ceiling Speaker Calculator'!$C$29=\"Square\",AJ$1,IF(OR(AND(ODD($A85)=$A85,ODD(AJ$2)=AJ$2),AND(EVEN($A85)=$A85,EVEN(AJ$2)=AJ$2)),AJ$1,-100))","v":628.125},{"$f":"IF('Ceiling Speaker Calculator'!$C$29=\"Square\",AK$1,IF(OR(AND(ODD($A85)=$A85,ODD(AK$2)=AK$2),AND(EVEN($A85)=$A85,EVEN(AK$2)=AK$2)),AK$1,-100))","v":646.875},{"$f":"IF('Ceiling Speaker Calculator'!$C$29=\"Square\",AL$1,IF(OR(AND(ODD($A85)=$A85,ODD(AL$2)=AL$2),AND(EVEN($A85)=$A85,EVEN(AL$2)=AL$2)),AL$1,-100))","v":665.625},{"$f":"IF('Ceiling Speaker Calculator'!$C$29=\"Square\",AM$1,IF(OR(AND(ODD($A85)=$A85,ODD(AM$2)=AM$2),AND(EVEN($A85)=$A85,EVEN(AM$2)=AM$2)),AM$1,-100))","v":684.375},{"$f":"IF('Ceiling Speaker Calculator'!$C$29=\"Square\",AN$1,IF(OR(AND(ODD($A85)=$A85,ODD(AN$2)=AN$2),AND(EVEN($A85)=$A85,EVEN(AN$2)=AN$2)),AN$1,-100))","v":703.125},{"$f":"IF('Ceiling Speaker Calculator'!$C$29=\"Square\",AO$1,IF(OR(AND(ODD($A85)=$A85,ODD(AO$2)=AO$2),AND(EVEN($A85)=$A85,EVEN(AO$2)=AO$2)),AO$1,-100))","v":721.875},{"$f":"IF('Ceiling Speaker Calculator'!$C$29=\"Square\",AP$1,IF(OR(AND(ODD($A85)=$A85,ODD(AP$2)=AP$2),AND(EVEN($A85)=$A85,EVEN(AP$2)=AP$2)),AP$1,-100))","v":740.625},{"$f":"IF('Ceiling Speaker Calculator'!$C$29=\"Square\",AQ$1,IF(OR(AND(ODD($A85)=$A85,ODD(AQ$2)=AQ$2),AND(EVEN($A85)=$A85,EVEN(AQ$2)=AQ$2)),AQ$1,-100))","v":759.375},{"$f":"IF('Ceiling Speaker Calculator'!$C$29=\"Square\",AR$1,IF(OR(AND(ODD($A85)=$A85,ODD(AR$2)=AR$2),AND(EVEN($A85)=$A85,EVEN(AR$2)=AR$2)),AR$1,-100))","v":778.125},{"$f":"IF('Ceiling Speaker Calculator'!$C$29=\"Square\",AS$1,IF(OR(AND(ODD($A85)=$A85,ODD(AS$2)=AS$2),AND(EVEN($A85)=$A85,EVEN(AS$2)=AS$2)),AS$1,-100))","v":796.875},{"$f":"IF('Ceiling Speaker Calculator'!$C$29=\"Square\",AT$1,IF(OR(AND(ODD($A85)=$A85,ODD(AT$2)=AT$2),AND(EVEN($A85)=$A85,EVEN(AT$2)=AT$2)),AT$1,-100))","v":815.625},{"$f":"IF('Ceiling Speaker Calculator'!$C$29=\"Square\",AU$1,IF(OR(AND(ODD($A85)=$A85,ODD(AU$2)=AU$2),AND(EVEN($A85)=$A85,EVEN(AU$2)=AU$2)),AU$1,-100))","v":834.375},{"$f":"IF('Ceiling Speaker Calculator'!$C$29=\"Square\",AV$1,IF(OR(AND(ODD($A85)=$A85,ODD(AV$2)=AV$2),AND(EVEN($A85)=$A85,EVEN(AV$2)=AV$2)),AV$1,-100))","v":853.125},{"$f":"IF('Ceiling Speaker Calculator'!$C$29=\"Square\",AW$1,IF(OR(AND(ODD($A85)=$A85,ODD(AW$2)=AW$2),AND(EVEN($A85)=$A85,EVEN(AW$2)=AW$2)),AW$1,-100))","v":871.875},{"$f":"IF('Ceiling Speaker Calculator'!$C$29=\"Square\",AX$1,IF(OR(AND(ODD($A85)=$A85,ODD(AX$2)=AX$2),AND(EVEN($A85)=$A85,EVEN(AX$2)=AX$2)),AX$1,-100))","v":890.625},{"$f":"IF('Ceiling Speaker Calculator'!$C$29=\"Square\",AY$1,IF(OR(AND(ODD($A85)=$A85,ODD(AY$2)=AY$2),AND(EVEN($A85)=$A85,EVEN(AY$2)=AY$2)),AY$1,-100))","v":909.375},{"$f":"IF('Ceiling Speaker Calculator'!$C$29=\"Square\",AZ$1,IF(OR(AND(ODD($A85)=$A85,ODD(AZ$2)=AZ$2),AND(EVEN($A85)=$A85,EVEN(AZ$2)=AZ$2)),AZ$1,-100))","v":928.125},{"$f":"IF('Ceiling Speaker Calculator'!$C$29=\"Square\",BA$1,IF(OR(AND(ODD($A85)=$A85,ODD(BA$2)=BA$2),AND(EVEN($A85)=$A85,EVEN(BA$2)=BA$2)),BA$1,-100))","v":946.875},{"$f":"IF('Ceiling Speaker Calculator'!$C$29=\"Square\",BB$1,IF(OR(AND(ODD($A85)=$A85,ODD(BB$2)=BB$2),AND(EVEN($A85)=$A85,EVEN(BB$2)=BB$2)),BB$1,-100))","v":965.625},{"$f":"IF('Ceiling Speaker Calculator'!$C$29=\"Square\",BC$1,IF(OR(AND(ODD($A85)=$A85,ODD(BC$2)=BC$2),AND(EVEN($A85)=$A85,EVEN(BC$2)=BC$2)),BC$1,-100))","v":984.375},{"$f":"IF('Ceiling Speaker Calculator'!$C$29=\"Square\",BD$1,IF(OR(AND(ODD($A85)=$A85,ODD(BD$2)=BD$2),AND(EVEN($A85)=$A85,EVEN(BD$2)=BD$2)),BD$1,-100))","v":1003.125},{"$f":"IF('Ceiling Speaker Calculator'!$C$29=\"Square\",BE$1,IF(OR(AND(ODD($A85)=$A85,ODD(BE$2)=BE$2),AND(EVEN($A85)=$A85,EVEN(BE$2)=BE$2)),BE$1,-100))","v":1021.875},{"$f":"IF('Ceiling Speaker Calculator'!$C$29=\"Square\",BF$1,IF(OR(AND(ODD($A85)=$A85,ODD(BF$2)=BF$2),AND(EVEN($A85)=$A85,EVEN(BF$2)=BF$2)),BF$1,-100))","v":1040.625},{"$f":"IF('Ceiling Speaker Calculator'!$C$29=\"Square\",BG$1,IF(OR(AND(ODD($A85)=$A85,ODD(BG$2)=BG$2),AND(EVEN($A85)=$A85,EVEN(BG$2)=BG$2)),BG$1,-100))","v":1059.375},{"$f":"IF('Ceiling Speaker Calculator'!$C$29=\"Square\",BH$1,IF(OR(AND(ODD($A85)=$A85,ODD(BH$2)=BH$2),AND(EVEN($A85)=$A85,EVEN(BH$2)=BH$2)),BH$1,-100))","v":1078.125},{"$f":"IF('Ceiling Speaker Calculator'!$C$29=\"Square\",BI$1,IF(OR(AND(ODD($A85)=$A85,ODD(BI$2)=BI$2),AND(EVEN($A85)=$A85,EVEN(BI$2)=BI$2)),BI$1,-100))","v":1096.875},{"$f":"IF('Ceiling Speaker Calculator'!$C$29=\"Square\",BJ$1,IF(OR(AND(ODD($A85)=$A85,ODD(BJ$2)=BJ$2),AND(EVEN($A85)=$A85,EVEN(BJ$2)=BJ$2)),BJ$1,-100))","v":1115.625},{"$f":"IF('Ceiling Speaker Calculator'!$C$29=\"Square\",BK$1,IF(OR(AND(ODD($A85)=$A85,ODD(BK$2)=BK$2),AND(EVEN($A85)=$A85,EVEN(BK$2)=BK$2)),BK$1,-100))","v":1134.375},{"$f":"IF('Ceiling Speaker Calculator'!$C$29=\"Square\",BL$1,IF(OR(AND(ODD($A85)=$A85,ODD(BL$2)=BL$2),AND(EVEN($A85)=$A85,EVEN(BL$2)=BL$2)),BL$1,-100))","v":1153.125},{"$f":"IF('Ceiling Speaker Calculator'!$C$29=\"Square\",BM$1,IF(OR(AND(ODD($A85)=$A85,ODD(BM$2)=BM$2),AND(EVEN($A85)=$A85,EVEN(BM$2)=BM$2)),BM$1,-100))","v":1171.875},{"$f":"IF('Ceiling Speaker Calculator'!$C$29=\"Square\",BN$1,IF(OR(AND(ODD($A85)=$A85,ODD(BN$2)=BN$2),AND(EVEN($A85)=$A85,EVEN(BN$2)=BN$2)),BN$1,-100))","v":1190.625},{"$f":"IF('Ceiling Speaker Calculator'!$C$29=\"Square\",BO$1,IF(OR(AND(ODD($A85)=$A85,ODD(BO$2)=BO$2),AND(EVEN($A85)=$A85,EVEN(BO$2)=BO$2)),BO$1,-100))","v":1209.375},{"$f":"IF('Ceiling Speaker Calculator'!$C$29=\"Square\",BP$1,IF(OR(AND(ODD($A85)=$A85,ODD(BP$2)=BP$2),AND(EVEN($A85)=$A85,EVEN(BP$2)=BP$2)),BP$1,-100))","v":1228.125},{"$f":"IF('Ceiling Speaker Calculator'!$C$29=\"Square\",BQ$1,IF(OR(AND(ODD($A85)=$A85,ODD(BQ$2)=BQ$2),AND(EVEN($A85)=$A85,EVEN(BQ$2)=BQ$2)),BQ$1,-100))","v":1246.875},{"$f":"IF('Ceiling Speaker Calculator'!$C$29=\"Square\",BR$1,IF(OR(AND(ODD($A85)=$A85,ODD(BR$2)=BR$2),AND(EVEN($A85)=$A85,EVEN(BR$2)=BR$2)),BR$1,-100))","v":1265.625},{"$f":"IF('Ceiling Speaker Calculator'!$C$29=\"Square\",BS$1,IF(OR(AND(ODD($A85)=$A85,ODD(BS$2)=BS$2),AND(EVEN($A85)=$A85,EVEN(BS$2)=BS$2)),BS$1,-100))","v":1284.375},{"$f":"IF('Ceiling Speaker Calculator'!$C$29=\"Square\",BT$1,IF(OR(AND(ODD($A85)=$A85,ODD(BT$2)=BT$2),AND(EVEN($A85)=$A85,EVEN(BT$2)=BT$2)),BT$1,-100))","v":1303.125},{"$f":"IF('Ceiling Speaker Calculator'!$C$29=\"Square\",BU$1,IF(OR(AND(ODD($A85)=$A85,ODD(BU$2)=BU$2),AND(EVEN($A85)=$A85,EVEN(BU$2)=BU$2)),BU$1,-100))","v":1321.875},{"$f":"IF('Ceiling Speaker Calculator'!$C$29=\"Square\",BV$1,IF(OR(AND(ODD($A85)=$A85,ODD(BV$2)=BV$2),AND(EVEN($A85)=$A85,EVEN(BV$2)=BV$2)),BV$1,-100))","v":1340.625},{"$f":"IF('Ceiling Speaker Calculator'!$C$29=\"Square\",BW$1,IF(OR(AND(ODD($A85)=$A85,ODD(BW$2)=BW$2),AND(EVEN($A85)=$A85,EVEN(BW$2)=BW$2)),BW$1,-100))","v":1359.375},{"$f":"IF('Ceiling Speaker Calculator'!$C$29=\"Square\",BX$1,IF(OR(AND(ODD($A85)=$A85,ODD(BX$2)=BX$2),AND(EVEN($A85)=$A85,EVEN(BX$2)=BX$2)),BX$1,-100))","v":1378.125},{"$f":"IF('Ceiling Speaker Calculator'!$C$29=\"Square\",BY$1,IF(OR(AND(ODD($A85)=$A85,ODD(BY$2)=BY$2),AND(EVEN($A85)=$A85,EVEN(BY$2)=BY$2)),BY$1,-100))","v":1396.875},{"$f":"IF('Ceiling Speaker Calculator'!$C$29=\"Square\",BZ$1,IF(OR(AND(ODD($A85)=$A85,ODD(BZ$2)=BZ$2),AND(EVEN($A85)=$A85,EVEN(BZ$2)=BZ$2)),BZ$1,-100))","v":1415.625},{"$f":"IF('Ceiling Speaker Calculator'!$C$29=\"Square\",CA$1,IF(OR(AND(ODD($A85)=$A85,ODD(CA$2)=CA$2),AND(EVEN($A85)=$A85,EVEN(CA$2)=CA$2)),CA$1,-100))","v":1434.375},{"$f":"IF('Ceiling Speaker Calculator'!$C$29=\"Square\",CB$1,IF(OR(AND(ODD($A85)=$A85,ODD(CB$2)=CB$2),AND(EVEN($A85)=$A85,EVEN(CB$2)=CB$2)),CB$1,-100))","v":1453.125},{"$f":"IF('Ceiling Speaker Calculator'!$C$29=\"Square\",CC$1,IF(OR(AND(ODD($A85)=$A85,ODD(CC$2)=CC$2),AND(EVEN($A85)=$A85,EVEN(CC$2)=CC$2)),CC$1,-100))","v":1471.875},{"$f":"IF('Ceiling Speaker Calculator'!$C$29=\"Square\",CD$1,IF(OR(AND(ODD($A85)=$A85,ODD(CD$2)=CD$2),AND(EVEN($A85)=$A85,EVEN(CD$2)=CD$2)),CD$1,-100))","v":1490.625},{"$f":"IF('Ceiling Speaker Calculator'!$C$29=\"Square\",CE$1,IF(OR(AND(ODD($A85)=$A85,ODD(CE$2)=CE$2),AND(EVEN($A85)=$A85,EVEN(CE$2)=CE$2)),CE$1,-100))","v":1509.375},{"$f":"IF('Ceiling Speaker Calculator'!$C$29=\"Square\",CF$1,IF(OR(AND(ODD($A85)=$A85,ODD(CF$2)=CF$2),AND(EVEN($A85)=$A85,EVEN(CF$2)=CF$2)),CF$1,-100))","v":1528.125},{"$f":"IF('Ceiling Speaker Calculator'!$C$29=\"Square\",CG$1,IF(OR(AND(ODD($A85)=$A85,ODD(CG$2)=CG$2),AND(EVEN($A85)=$A85,EVEN(CG$2)=CG$2)),CG$1,-100))","v":1546.875},{"$f":"IF('Ceiling Speaker Calculator'!$C$29=\"Square\",CH$1,IF(OR(AND(ODD($A85)=$A85,ODD(CH$2)=CH$2),AND(EVEN($A85)=$A85,EVEN(CH$2)=CH$2)),CH$1,-100))","v":1565.625},{"$f":"IF('Ceiling Speaker Calculator'!$C$29=\"Square\",CI$1,IF(OR(AND(ODD($A85)=$A85,ODD(CI$2)=CI$2),AND(EVEN($A85)=$A85,EVEN(CI$2)=CI$2)),CI$1,-100))","v":1584.375},{"$f":"IF('Ceiling Speaker Calculator'!$C$29=\"Square\",CJ$1,IF(OR(AND(ODD($A85)=$A85,ODD(CJ$2)=CJ$2),AND(EVEN($A85)=$A85,EVEN(CJ$2)=CJ$2)),CJ$1,-100))","v":1603.125},{"$f":"IF('Ceiling Speaker Calculator'!$C$29=\"Square\",CK$1,IF(OR(AND(ODD($A85)=$A85,ODD(CK$2)=CK$2),AND(EVEN($A85)=$A85,EVEN(CK$2)=CK$2)),CK$1,-100))","v":1621.875},{"$f":"IF('Ceiling Speaker Calculator'!$C$29=\"Square\",CL$1,IF(OR(AND(ODD($A85)=$A85,ODD(CL$2)=CL$2),AND(EVEN($A85)=$A85,EVEN(CL$2)=CL$2)),CL$1,-100))","v":1640.625},{"$f":"IF('Ceiling Speaker Calculator'!$C$29=\"Square\",CM$1,IF(OR(AND(ODD($A85)=$A85,ODD(CM$2)=CM$2),AND(EVEN($A85)=$A85,EVEN(CM$2)=CM$2)),CM$1,-100))","v":1659.375},{"$f":"IF('Ceiling Speaker Calculator'!$C$29=\"Square\",CN$1,IF(OR(AND(ODD($A85)=$A85,ODD(CN$2)=CN$2),AND(EVEN($A85)=$A85,EVEN(CN$2)=CN$2)),CN$1,-100))","v":1678.125},{"$f":"IF('Ceiling Speaker Calculator'!$C$29=\"Square\",CO$1,IF(OR(AND(ODD($A85)=$A85,ODD(CO$2)=CO$2),AND(EVEN($A85)=$A85,EVEN(CO$2)=CO$2)),CO$1,-100))","v":1696.875},{"$f":"IF('Ceiling Speaker Calculator'!$C$29=\"Square\",CP$1,IF(OR(AND(ODD($A85)=$A85,ODD(CP$2)=CP$2),AND(EVEN($A85)=$A85,EVEN(CP$2)=CP$2)),CP$1,-100))","v":1715.625},{"$f":"IF('Ceiling Speaker Calculator'!$C$29=\"Square\",CQ$1,IF(OR(AND(ODD($A85)=$A85,ODD(CQ$2)=CQ$2),AND(EVEN($A85)=$A85,EVEN(CQ$2)=CQ$2)),CQ$1,-100))","v":1734.375},{"$f":"IF('Ceiling Speaker Calculator'!$C$29=\"Square\",CR$1,IF(OR(AND(ODD($A85)=$A85,ODD(CR$2)=CR$2),AND(EVEN($A85)=$A85,EVEN(CR$2)=CR$2)),CR$1,-100))","v":1753.125},{"$f":"IF('Ceiling Speaker Calculator'!$C$29=\"Square\",CS$1,IF(OR(AND(ODD($A85)=$A85,ODD(CS$2)=CS$2),AND(EVEN($A85)=$A85,EVEN(CS$2)=CS$2)),CS$1,-100))","v":1771.875},{"$f":"IF('Ceiling Speaker Calculator'!$C$29=\"Square\",CT$1,IF(OR(AND(ODD($A85)=$A85,ODD(CT$2)=CT$2),AND(EVEN($A85)=$A85,EVEN(CT$2)=CT$2)),CT$1,-100))","v":1790.625},{"$f":"IF('Ceiling Speaker Calculator'!$C$29=\"Square\",CU$1,IF(OR(AND(ODD($A85)=$A85,ODD(CU$2)=CU$2),AND(EVEN($A85)=$A85,EVEN(CU$2)=CU$2)),CU$1,-100))","v":1809.375},{"$f":"IF('Ceiling Speaker Calculator'!$C$29=\"Square\",CV$1,IF(OR(AND(ODD($A85)=$A85,ODD(CV$2)=CV$2),AND(EVEN($A85)=$A85,EVEN(CV$2)=CV$2)),CV$1,-100))","v":1828.125},{"$f":"IF('Ceiling Speaker Calculator'!$C$29=\"Square\",CW$1,IF(OR(AND(ODD($A85)=$A85,ODD(CW$2)=CW$2),AND(EVEN($A85)=$A85,EVEN(CW$2)=CW$2)),CW$1,-100))","v":1846.875},{"$f":"IF('Ceiling Speaker Calculator'!$C$29=\"Square\",CX$1,IF(OR(AND(ODD($A85)=$A85,ODD(CX$2)=CX$2),AND(EVEN($A85)=$A85,EVEN(CX$2)=CX$2)),CX$1,-100))","v":1865.625}]
[84,{"$f":"B85+'Ceiling Speaker Calculator'!$K$16","v":1670},{"$f":"IF('Ceiling Speaker Calculator'!$C$29=\"Square\",C$1,IF(OR(AND(ODD($A86)=$A86,ODD(C$2)=C$2),AND(EVEN($A86)=$A86,EVEN(C$2)=C$2)),C$1,-100))","v":9.375},{"$f":"IF('Ceiling Speaker Calculator'!$C$29=\"Square\",D$1,IF(OR(AND(ODD($A86)=$A86,ODD(D$2)=D$2),AND(EVEN($A86)=$A86,EVEN(D$2)=D$2)),D$1,-100))","v":28.125},{"$f":"IF('Ceiling Speaker Calculator'!$C$29=\"Square\",E$1,IF(OR(AND(ODD($A86)=$A86,ODD(E$2)=E$2),AND(EVEN($A86)=$A86,EVEN(E$2)=E$2)),E$1,-100))","v":46.875},{"$f":"IF('Ceiling Speaker Calculator'!$C$29=\"Square\",F$1,IF(OR(AND(ODD($A86)=$A86,ODD(F$2)=F$2),AND(EVEN($A86)=$A86,EVEN(F$2)=F$2)),F$1,-100))","v":65.625},{"$f":"IF('Ceiling Speaker Calculator'!$C$29=\"Square\",G$1,IF(OR(AND(ODD($A86)=$A86,ODD(G$2)=G$2),AND(EVEN($A86)=$A86,EVEN(G$2)=G$2)),G$1,-100))","v":84.375},{"$f":"IF('Ceiling Speaker Calculator'!$C$29=\"Square\",H$1,IF(OR(AND(ODD($A86)=$A86,ODD(H$2)=H$2),AND(EVEN($A86)=$A86,EVEN(H$2)=H$2)),H$1,-100))","v":103.125},{"$f":"IF('Ceiling Speaker Calculator'!$C$29=\"Square\",I$1,IF(OR(AND(ODD($A86)=$A86,ODD(I$2)=I$2),AND(EVEN($A86)=$A86,EVEN(I$2)=I$2)),I$1,-100))","v":121.875},{"$f":"IF('Ceiling Speaker Calculator'!$C$29=\"Square\",J$1,IF(OR(AND(ODD($A86)=$A86,ODD(J$2)=J$2),AND(EVEN($A86)=$A86,EVEN(J$2)=J$2)),J$1,-100))","v":140.625},{"$f":"IF('Ceiling Speaker Calculator'!$C$29=\"Square\",K$1,IF(OR(AND(ODD($A86)=$A86,ODD(K$2)=K$2),AND(EVEN($A86)=$A86,EVEN(K$2)=K$2)),K$1,-100))","v":159.375},{"$f":"IF('Ceiling Speaker Calculator'!$C$29=\"Square\",L$1,IF(OR(AND(ODD($A86)=$A86,ODD(L$2)=L$2),AND(EVEN($A86)=$A86,EVEN(L$2)=L$2)),L$1,-100))","v":178.125},{"$f":"IF('Ceiling Speaker Calculator'!$C$29=\"Square\",M$1,IF(OR(AND(ODD($A86)=$A86,ODD(M$2)=M$2),AND(EVEN($A86)=$A86,EVEN(M$2)=M$2)),M$1,-100))","v":196.875},{"$f":"IF('Ceiling Speaker Calculator'!$C$29=\"Square\",N$1,IF(OR(AND(ODD($A86)=$A86,ODD(N$2)=N$2),AND(EVEN($A86)=$A86,EVEN(N$2)=N$2)),N$1,-100))","v":215.625},{"$f":"IF('Ceiling Speaker Calculator'!$C$29=\"Square\",O$1,IF(OR(AND(ODD($A86)=$A86,ODD(O$2)=O$2),AND(EVEN($A86)=$A86,EVEN(O$2)=O$2)),O$1,-100))","v":234.375},{"$f":"IF('Ceiling Speaker Calculator'!$C$29=\"Square\",P$1,IF(OR(AND(ODD($A86)=$A86,ODD(P$2)=P$2),AND(EVEN($A86)=$A86,EVEN(P$2)=P$2)),P$1,-100))","v":253.125},{"$f":"IF('Ceiling Speaker Calculator'!$C$29=\"Square\",Q$1,IF(OR(AND(ODD($A86)=$A86,ODD(Q$2)=Q$2),AND(EVEN($A86)=$A86,EVEN(Q$2)=Q$2)),Q$1,-100))","v":271.875},{"$f":"IF('Ceiling Speaker Calculator'!$C$29=\"Square\",R$1,IF(OR(AND(ODD($A86)=$A86,ODD(R$2)=R$2),AND(EVEN($A86)=$A86,EVEN(R$2)=R$2)),R$1,-100))","v":290.625},{"$f":"IF('Ceiling Speaker Calculator'!$C$29=\"Square\",S$1,IF(OR(AND(ODD($A86)=$A86,ODD(S$2)=S$2),AND(EVEN($A86)=$A86,EVEN(S$2)=S$2)),S$1,-100))","v":309.375},{"$f":"IF('Ceiling Speaker Calculator'!$C$29=\"Square\",T$1,IF(OR(AND(ODD($A86)=$A86,ODD(T$2)=T$2),AND(EVEN($A86)=$A86,EVEN(T$2)=T$2)),T$1,-100))","v":328.125},{"$f":"IF('Ceiling Speaker Calculator'!$C$29=\"Square\",U$1,IF(OR(AND(ODD($A86)=$A86,ODD(U$2)=U$2),AND(EVEN($A86)=$A86,EVEN(U$2)=U$2)),U$1,-100))","v":346.875},{"$f":"IF('Ceiling Speaker Calculator'!$C$29=\"Square\",V$1,IF(OR(AND(ODD($A86)=$A86,ODD(V$2)=V$2),AND(EVEN($A86)=$A86,EVEN(V$2)=V$2)),V$1,-100))","v":365.625},{"$f":"IF('Ceiling Speaker Calculator'!$C$29=\"Square\",W$1,IF(OR(AND(ODD($A86)=$A86,ODD(W$2)=W$2),AND(EVEN($A86)=$A86,EVEN(W$2)=W$2)),W$1,-100))","v":384.375},{"$f":"IF('Ceiling Speaker Calculator'!$C$29=\"Square\",X$1,IF(OR(AND(ODD($A86)=$A86,ODD(X$2)=X$2),AND(EVEN($A86)=$A86,EVEN(X$2)=X$2)),X$1,-100))","v":403.125},{"$f":"IF('Ceiling Speaker Calculator'!$C$29=\"Square\",Y$1,IF(OR(AND(ODD($A86)=$A86,ODD(Y$2)=Y$2),AND(EVEN($A86)=$A86,EVEN(Y$2)=Y$2)),Y$1,-100))","v":421.875},{"$f":"IF('Ceiling Speaker Calculator'!$C$29=\"Square\",Z$1,IF(OR(AND(ODD($A86)=$A86,ODD(Z$2)=Z$2),AND(EVEN($A86)=$A86,EVEN(Z$2)=Z$2)),Z$1,-100))","v":440.625},{"$f":"IF('Ceiling Speaker Calculator'!$C$29=\"Square\",AA$1,IF(OR(AND(ODD($A86)=$A86,ODD(AA$2)=AA$2),AND(EVEN($A86)=$A86,EVEN(AA$2)=AA$2)),AA$1,-100))","v":459.375},{"$f":"IF('Ceiling Speaker Calculator'!$C$29=\"Square\",AB$1,IF(OR(AND(ODD($A86)=$A86,ODD(AB$2)=AB$2),AND(EVEN($A86)=$A86,EVEN(AB$2)=AB$2)),AB$1,-100))","v":478.125},{"$f":"IF('Ceiling Speaker Calculator'!$C$29=\"Square\",AC$1,IF(OR(AND(ODD($A86)=$A86,ODD(AC$2)=AC$2),AND(EVEN($A86)=$A86,EVEN(AC$2)=AC$2)),AC$1,-100))","v":496.875},{"$f":"IF('Ceiling Speaker Calculator'!$C$29=\"Square\",AD$1,IF(OR(AND(ODD($A86)=$A86,ODD(AD$2)=AD$2),AND(EVEN($A86)=$A86,EVEN(AD$2)=AD$2)),AD$1,-100))","v":515.625},{"$f":"IF('Ceiling Speaker Calculator'!$C$29=\"Square\",AE$1,IF(OR(AND(ODD($A86)=$A86,ODD(AE$2)=AE$2),AND(EVEN($A86)=$A86,EVEN(AE$2)=AE$2)),AE$1,-100))","v":534.375},{"$f":"IF('Ceiling Speaker Calculator'!$C$29=\"Square\",AF$1,IF(OR(AND(ODD($A86)=$A86,ODD(AF$2)=AF$2),AND(EVEN($A86)=$A86,EVEN(AF$2)=AF$2)),AF$1,-100))","v":553.125},{"$f":"IF('Ceiling Speaker Calculator'!$C$29=\"Square\",AG$1,IF(OR(AND(ODD($A86)=$A86,ODD(AG$2)=AG$2),AND(EVEN($A86)=$A86,EVEN(AG$2)=AG$2)),AG$1,-100))","v":571.875},{"$f":"IF('Ceiling Speaker Calculator'!$C$29=\"Square\",AH$1,IF(OR(AND(ODD($A86)=$A86,ODD(AH$2)=AH$2),AND(EVEN($A86)=$A86,EVEN(AH$2)=AH$2)),AH$1,-100))","v":590.625},{"$f":"IF('Ceiling Speaker Calculator'!$C$29=\"Square\",AI$1,IF(OR(AND(ODD($A86)=$A86,ODD(AI$2)=AI$2),AND(EVEN($A86)=$A86,EVEN(AI$2)=AI$2)),AI$1,-100))","v":609.375},{"$f":"IF('Ceiling Speaker Calculator'!$C$29=\"Square\",AJ$1,IF(OR(AND(ODD($A86)=$A86,ODD(AJ$2)=AJ$2),AND(EVEN($A86)=$A86,EVEN(AJ$2)=AJ$2)),AJ$1,-100))","v":628.125},{"$f":"IF('Ceiling Speaker Calculator'!$C$29=\"Square\",AK$1,IF(OR(AND(ODD($A86)=$A86,ODD(AK$2)=AK$2),AND(EVEN($A86)=$A86,EVEN(AK$2)=AK$2)),AK$1,-100))","v":646.875},{"$f":"IF('Ceiling Speaker Calculator'!$C$29=\"Square\",AL$1,IF(OR(AND(ODD($A86)=$A86,ODD(AL$2)=AL$2),AND(EVEN($A86)=$A86,EVEN(AL$2)=AL$2)),AL$1,-100))","v":665.625},{"$f":"IF('Ceiling Speaker Calculator'!$C$29=\"Square\",AM$1,IF(OR(AND(ODD($A86)=$A86,ODD(AM$2)=AM$2),AND(EVEN($A86)=$A86,EVEN(AM$2)=AM$2)),AM$1,-100))","v":684.375},{"$f":"IF('Ceiling Speaker Calculator'!$C$29=\"Square\",AN$1,IF(OR(AND(ODD($A86)=$A86,ODD(AN$2)=AN$2),AND(EVEN($A86)=$A86,EVEN(AN$2)=AN$2)),AN$1,-100))","v":703.125},{"$f":"IF('Ceiling Speaker Calculator'!$C$29=\"Square\",AO$1,IF(OR(AND(ODD($A86)=$A86,ODD(AO$2)=AO$2),AND(EVEN($A86)=$A86,EVEN(AO$2)=AO$2)),AO$1,-100))","v":721.875},{"$f":"IF('Ceiling Speaker Calculator'!$C$29=\"Square\",AP$1,IF(OR(AND(ODD($A86)=$A86,ODD(AP$2)=AP$2),AND(EVEN($A86)=$A86,EVEN(AP$2)=AP$2)),AP$1,-100))","v":740.625},{"$f":"IF('Ceiling Speaker Calculator'!$C$29=\"Square\",AQ$1,IF(OR(AND(ODD($A86)=$A86,ODD(AQ$2)=AQ$2),AND(EVEN($A86)=$A86,EVEN(AQ$2)=AQ$2)),AQ$1,-100))","v":759.375},{"$f":"IF('Ceiling Speaker Calculator'!$C$29=\"Square\",AR$1,IF(OR(AND(ODD($A86)=$A86,ODD(AR$2)=AR$2),AND(EVEN($A86)=$A86,EVEN(AR$2)=AR$2)),AR$1,-100))","v":778.125},{"$f":"IF('Ceiling Speaker Calculator'!$C$29=\"Square\",AS$1,IF(OR(AND(ODD($A86)=$A86,ODD(AS$2)=AS$2),AND(EVEN($A86)=$A86,EVEN(AS$2)=AS$2)),AS$1,-100))","v":796.875},{"$f":"IF('Ceiling Speaker Calculator'!$C$29=\"Square\",AT$1,IF(OR(AND(ODD($A86)=$A86,ODD(AT$2)=AT$2),AND(EVEN($A86)=$A86,EVEN(AT$2)=AT$2)),AT$1,-100))","v":815.625},{"$f":"IF('Ceiling Speaker Calculator'!$C$29=\"Square\",AU$1,IF(OR(AND(ODD($A86)=$A86,ODD(AU$2)=AU$2),AND(EVEN($A86)=$A86,EVEN(AU$2)=AU$2)),AU$1,-100))","v":834.375},{"$f":"IF('Ceiling Speaker Calculator'!$C$29=\"Square\",AV$1,IF(OR(AND(ODD($A86)=$A86,ODD(AV$2)=AV$2),AND(EVEN($A86)=$A86,EVEN(AV$2)=AV$2)),AV$1,-100))","v":853.125},{"$f":"IF('Ceiling Speaker Calculator'!$C$29=\"Square\",AW$1,IF(OR(AND(ODD($A86)=$A86,ODD(AW$2)=AW$2),AND(EVEN($A86)=$A86,EVEN(AW$2)=AW$2)),AW$1,-100))","v":871.875},{"$f":"IF('Ceiling Speaker Calculator'!$C$29=\"Square\",AX$1,IF(OR(AND(ODD($A86)=$A86,ODD(AX$2)=AX$2),AND(EVEN($A86)=$A86,EVEN(AX$2)=AX$2)),AX$1,-100))","v":890.625},{"$f":"IF('Ceiling Speaker Calculator'!$C$29=\"Square\",AY$1,IF(OR(AND(ODD($A86)=$A86,ODD(AY$2)=AY$2),AND(EVEN($A86)=$A86,EVEN(AY$2)=AY$2)),AY$1,-100))","v":909.375},{"$f":"IF('Ceiling Speaker Calculator'!$C$29=\"Square\",AZ$1,IF(OR(AND(ODD($A86)=$A86,ODD(AZ$2)=AZ$2),AND(EVEN($A86)=$A86,EVEN(AZ$2)=AZ$2)),AZ$1,-100))","v":928.125},{"$f":"IF('Ceiling Speaker Calculator'!$C$29=\"Square\",BA$1,IF(OR(AND(ODD($A86)=$A86,ODD(BA$2)=BA$2),AND(EVEN($A86)=$A86,EVEN(BA$2)=BA$2)),BA$1,-100))","v":946.875},{"$f":"IF('Ceiling Speaker Calculator'!$C$29=\"Square\",BB$1,IF(OR(AND(ODD($A86)=$A86,ODD(BB$2)=BB$2),AND(EVEN($A86)=$A86,EVEN(BB$2)=BB$2)),BB$1,-100))","v":965.625},{"$f":"IF('Ceiling Speaker Calculator'!$C$29=\"Square\",BC$1,IF(OR(AND(ODD($A86)=$A86,ODD(BC$2)=BC$2),AND(EVEN($A86)=$A86,EVEN(BC$2)=BC$2)),BC$1,-100))","v":984.375},{"$f":"IF('Ceiling Speaker Calculator'!$C$29=\"Square\",BD$1,IF(OR(AND(ODD($A86)=$A86,ODD(BD$2)=BD$2),AND(EVEN($A86)=$A86,EVEN(BD$2)=BD$2)),BD$1,-100))","v":1003.125},{"$f":"IF('Ceiling Speaker Calculator'!$C$29=\"Square\",BE$1,IF(OR(AND(ODD($A86)=$A86,ODD(BE$2)=BE$2),AND(EVEN($A86)=$A86,EVEN(BE$2)=BE$2)),BE$1,-100))","v":1021.875},{"$f":"IF('Ceiling Speaker Calculator'!$C$29=\"Square\",BF$1,IF(OR(AND(ODD($A86)=$A86,ODD(BF$2)=BF$2),AND(EVEN($A86)=$A86,EVEN(BF$2)=BF$2)),BF$1,-100))","v":1040.625},{"$f":"IF('Ceiling Speaker Calculator'!$C$29=\"Square\",BG$1,IF(OR(AND(ODD($A86)=$A86,ODD(BG$2)=BG$2),AND(EVEN($A86)=$A86,EVEN(BG$2)=BG$2)),BG$1,-100))","v":1059.375},{"$f":"IF('Ceiling Speaker Calculator'!$C$29=\"Square\",BH$1,IF(OR(AND(ODD($A86)=$A86,ODD(BH$2)=BH$2),AND(EVEN($A86)=$A86,EVEN(BH$2)=BH$2)),BH$1,-100))","v":1078.125},{"$f":"IF('Ceiling Speaker Calculator'!$C$29=\"Square\",BI$1,IF(OR(AND(ODD($A86)=$A86,ODD(BI$2)=BI$2),AND(EVEN($A86)=$A86,EVEN(BI$2)=BI$2)),BI$1,-100))","v":1096.875},{"$f":"IF('Ceiling Speaker Calculator'!$C$29=\"Square\",BJ$1,IF(OR(AND(ODD($A86)=$A86,ODD(BJ$2)=BJ$2),AND(EVEN($A86)=$A86,EVEN(BJ$2)=BJ$2)),BJ$1,-100))","v":1115.625},{"$f":"IF('Ceiling Speaker Calculator'!$C$29=\"Square\",BK$1,IF(OR(AND(ODD($A86)=$A86,ODD(BK$2)=BK$2),AND(EVEN($A86)=$A86,EVEN(BK$2)=BK$2)),BK$1,-100))","v":1134.375},{"$f":"IF('Ceiling Speaker Calculator'!$C$29=\"Square\",BL$1,IF(OR(AND(ODD($A86)=$A86,ODD(BL$2)=BL$2),AND(EVEN($A86)=$A86,EVEN(BL$2)=BL$2)),BL$1,-100))","v":1153.125},{"$f":"IF('Ceiling Speaker Calculator'!$C$29=\"Square\",BM$1,IF(OR(AND(ODD($A86)=$A86,ODD(BM$2)=BM$2),AND(EVEN($A86)=$A86,EVEN(BM$2)=BM$2)),BM$1,-100))","v":1171.875},{"$f":"IF('Ceiling Speaker Calculator'!$C$29=\"Square\",BN$1,IF(OR(AND(ODD($A86)=$A86,ODD(BN$2)=BN$2),AND(EVEN($A86)=$A86,EVEN(BN$2)=BN$2)),BN$1,-100))","v":1190.625},{"$f":"IF('Ceiling Speaker Calculator'!$C$29=\"Square\",BO$1,IF(OR(AND(ODD($A86)=$A86,ODD(BO$2)=BO$2),AND(EVEN($A86)=$A86,EVEN(BO$2)=BO$2)),BO$1,-100))","v":1209.375},{"$f":"IF('Ceiling Speaker Calculator'!$C$29=\"Square\",BP$1,IF(OR(AND(ODD($A86)=$A86,ODD(BP$2)=BP$2),AND(EVEN($A86)=$A86,EVEN(BP$2)=BP$2)),BP$1,-100))","v":1228.125},{"$f":"IF('Ceiling Speaker Calculator'!$C$29=\"Square\",BQ$1,IF(OR(AND(ODD($A86)=$A86,ODD(BQ$2)=BQ$2),AND(EVEN($A86)=$A86,EVEN(BQ$2)=BQ$2)),BQ$1,-100))","v":1246.875},{"$f":"IF('Ceiling Speaker Calculator'!$C$29=\"Square\",BR$1,IF(OR(AND(ODD($A86)=$A86,ODD(BR$2)=BR$2),AND(EVEN($A86)=$A86,EVEN(BR$2)=BR$2)),BR$1,-100))","v":1265.625},{"$f":"IF('Ceiling Speaker Calculator'!$C$29=\"Square\",BS$1,IF(OR(AND(ODD($A86)=$A86,ODD(BS$2)=BS$2),AND(EVEN($A86)=$A86,EVEN(BS$2)=BS$2)),BS$1,-100))","v":1284.375},{"$f":"IF('Ceiling Speaker Calculator'!$C$29=\"Square\",BT$1,IF(OR(AND(ODD($A86)=$A86,ODD(BT$2)=BT$2),AND(EVEN($A86)=$A86,EVEN(BT$2)=BT$2)),BT$1,-100))","v":1303.125},{"$f":"IF('Ceiling Speaker Calculator'!$C$29=\"Square\",BU$1,IF(OR(AND(ODD($A86)=$A86,ODD(BU$2)=BU$2),AND(EVEN($A86)=$A86,EVEN(BU$2)=BU$2)),BU$1,-100))","v":1321.875},{"$f":"IF('Ceiling Speaker Calculator'!$C$29=\"Square\",BV$1,IF(OR(AND(ODD($A86)=$A86,ODD(BV$2)=BV$2),AND(EVEN($A86)=$A86,EVEN(BV$2)=BV$2)),BV$1,-100))","v":1340.625},{"$f":"IF('Ceiling Speaker Calculator'!$C$29=\"Square\",BW$1,IF(OR(AND(ODD($A86)=$A86,ODD(BW$2)=BW$2),AND(EVEN($A86)=$A86,EVEN(BW$2)=BW$2)),BW$1,-100))","v":1359.375},{"$f":"IF('Ceiling Speaker Calculator'!$C$29=\"Square\",BX$1,IF(OR(AND(ODD($A86)=$A86,ODD(BX$2)=BX$2),AND(EVEN($A86)=$A86,EVEN(BX$2)=BX$2)),BX$1,-100))","v":1378.125},{"$f":"IF('Ceiling Speaker Calculator'!$C$29=\"Square\",BY$1,IF(OR(AND(ODD($A86)=$A86,ODD(BY$2)=BY$2),AND(EVEN($A86)=$A86,EVEN(BY$2)=BY$2)),BY$1,-100))","v":1396.875},{"$f":"IF('Ceiling Speaker Calculator'!$C$29=\"Square\",BZ$1,IF(OR(AND(ODD($A86)=$A86,ODD(BZ$2)=BZ$2),AND(EVEN($A86)=$A86,EVEN(BZ$2)=BZ$2)),BZ$1,-100))","v":1415.625},{"$f":"IF('Ceiling Speaker Calculator'!$C$29=\"Square\",CA$1,IF(OR(AND(ODD($A86)=$A86,ODD(CA$2)=CA$2),AND(EVEN($A86)=$A86,EVEN(CA$2)=CA$2)),CA$1,-100))","v":1434.375},{"$f":"IF('Ceiling Speaker Calculator'!$C$29=\"Square\",CB$1,IF(OR(AND(ODD($A86)=$A86,ODD(CB$2)=CB$2),AND(EVEN($A86)=$A86,EVEN(CB$2)=CB$2)),CB$1,-100))","v":1453.125},{"$f":"IF('Ceiling Speaker Calculator'!$C$29=\"Square\",CC$1,IF(OR(AND(ODD($A86)=$A86,ODD(CC$2)=CC$2),AND(EVEN($A86)=$A86,EVEN(CC$2)=CC$2)),CC$1,-100))","v":1471.875},{"$f":"IF('Ceiling Speaker Calculator'!$C$29=\"Square\",CD$1,IF(OR(AND(ODD($A86)=$A86,ODD(CD$2)=CD$2),AND(EVEN($A86)=$A86,EVEN(CD$2)=CD$2)),CD$1,-100))","v":1490.625},{"$f":"IF('Ceiling Speaker Calculator'!$C$29=\"Square\",CE$1,IF(OR(AND(ODD($A86)=$A86,ODD(CE$2)=CE$2),AND(EVEN($A86)=$A86,EVEN(CE$2)=CE$2)),CE$1,-100))","v":1509.375},{"$f":"IF('Ceiling Speaker Calculator'!$C$29=\"Square\",CF$1,IF(OR(AND(ODD($A86)=$A86,ODD(CF$2)=CF$2),AND(EVEN($A86)=$A86,EVEN(CF$2)=CF$2)),CF$1,-100))","v":1528.125},{"$f":"IF('Ceiling Speaker Calculator'!$C$29=\"Square\",CG$1,IF(OR(AND(ODD($A86)=$A86,ODD(CG$2)=CG$2),AND(EVEN($A86)=$A86,EVEN(CG$2)=CG$2)),CG$1,-100))","v":1546.875},{"$f":"IF('Ceiling Speaker Calculator'!$C$29=\"Square\",CH$1,IF(OR(AND(ODD($A86)=$A86,ODD(CH$2)=CH$2),AND(EVEN($A86)=$A86,EVEN(CH$2)=CH$2)),CH$1,-100))","v":1565.625},{"$f":"IF('Ceiling Speaker Calculator'!$C$29=\"Square\",CI$1,IF(OR(AND(ODD($A86)=$A86,ODD(CI$2)=CI$2),AND(EVEN($A86)=$A86,EVEN(CI$2)=CI$2)),CI$1,-100))","v":1584.375},{"$f":"IF('Ceiling Speaker Calculator'!$C$29=\"Square\",CJ$1,IF(OR(AND(ODD($A86)=$A86,ODD(CJ$2)=CJ$2),AND(EVEN($A86)=$A86,EVEN(CJ$2)=CJ$2)),CJ$1,-100))","v":1603.125},{"$f":"IF('Ceiling Speaker Calculator'!$C$29=\"Square\",CK$1,IF(OR(AND(ODD($A86)=$A86,ODD(CK$2)=CK$2),AND(EVEN($A86)=$A86,EVEN(CK$2)=CK$2)),CK$1,-100))","v":1621.875},{"$f":"IF('Ceiling Speaker Calculator'!$C$29=\"Square\",CL$1,IF(OR(AND(ODD($A86)=$A86,ODD(CL$2)=CL$2),AND(EVEN($A86)=$A86,EVEN(CL$2)=CL$2)),CL$1,-100))","v":1640.625},{"$f":"IF('Ceiling Speaker Calculator'!$C$29=\"Square\",CM$1,IF(OR(AND(ODD($A86)=$A86,ODD(CM$2)=CM$2),AND(EVEN($A86)=$A86,EVEN(CM$2)=CM$2)),CM$1,-100))","v":1659.375},{"$f":"IF('Ceiling Speaker Calculator'!$C$29=\"Square\",CN$1,IF(OR(AND(ODD($A86)=$A86,ODD(CN$2)=CN$2),AND(EVEN($A86)=$A86,EVEN(CN$2)=CN$2)),CN$1,-100))","v":1678.125},{"$f":"IF('Ceiling Speaker Calculator'!$C$29=\"Square\",CO$1,IF(OR(AND(ODD($A86)=$A86,ODD(CO$2)=CO$2),AND(EVEN($A86)=$A86,EVEN(CO$2)=CO$2)),CO$1,-100))","v":1696.875},{"$f":"IF('Ceiling Speaker Calculator'!$C$29=\"Square\",CP$1,IF(OR(AND(ODD($A86)=$A86,ODD(CP$2)=CP$2),AND(EVEN($A86)=$A86,EVEN(CP$2)=CP$2)),CP$1,-100))","v":1715.625},{"$f":"IF('Ceiling Speaker Calculator'!$C$29=\"Square\",CQ$1,IF(OR(AND(ODD($A86)=$A86,ODD(CQ$2)=CQ$2),AND(EVEN($A86)=$A86,EVEN(CQ$2)=CQ$2)),CQ$1,-100))","v":1734.375},{"$f":"IF('Ceiling Speaker Calculator'!$C$29=\"Square\",CR$1,IF(OR(AND(ODD($A86)=$A86,ODD(CR$2)=CR$2),AND(EVEN($A86)=$A86,EVEN(CR$2)=CR$2)),CR$1,-100))","v":1753.125},{"$f":"IF('Ceiling Speaker Calculator'!$C$29=\"Square\",CS$1,IF(OR(AND(ODD($A86)=$A86,ODD(CS$2)=CS$2),AND(EVEN($A86)=$A86,EVEN(CS$2)=CS$2)),CS$1,-100))","v":1771.875},{"$f":"IF('Ceiling Speaker Calculator'!$C$29=\"Square\",CT$1,IF(OR(AND(ODD($A86)=$A86,ODD(CT$2)=CT$2),AND(EVEN($A86)=$A86,EVEN(CT$2)=CT$2)),CT$1,-100))","v":1790.625},{"$f":"IF('Ceiling Speaker Calculator'!$C$29=\"Square\",CU$1,IF(OR(AND(ODD($A86)=$A86,ODD(CU$2)=CU$2),AND(EVEN($A86)=$A86,EVEN(CU$2)=CU$2)),CU$1,-100))","v":1809.375},{"$f":"IF('Ceiling Speaker Calculator'!$C$29=\"Square\",CV$1,IF(OR(AND(ODD($A86)=$A86,ODD(CV$2)=CV$2),AND(EVEN($A86)=$A86,EVEN(CV$2)=CV$2)),CV$1,-100))","v":1828.125},{"$f":"IF('Ceiling Speaker Calculator'!$C$29=\"Square\",CW$1,IF(OR(AND(ODD($A86)=$A86,ODD(CW$2)=CW$2),AND(EVEN($A86)=$A86,EVEN(CW$2)=CW$2)),CW$1,-100))","v":1846.875},{"$f":"IF('Ceiling Speaker Calculator'!$C$29=\"Square\",CX$1,IF(OR(AND(ODD($A86)=$A86,ODD(CX$2)=CX$2),AND(EVEN($A86)=$A86,EVEN(CX$2)=CX$2)),CX$1,-100))","v":1865.625}]
[85,{"$f":"B86+'Ceiling Speaker Calculator'!$K$16","v":1690},{"$f":"IF('Ceiling Speaker Calculator'!$C$29=\"Square\",C$1,IF(OR(AND(ODD($A87)=$A87,ODD(C$2)=C$2),AND(EVEN($A87)=$A87,EVEN(C$2)=C$2)),C$1,-100))","v":9.375},{"$f":"IF('Ceiling Speaker Calculator'!$C$29=\"Square\",D$1,IF(OR(AND(ODD($A87)=$A87,ODD(D$2)=D$2),AND(EVEN($A87)=$A87,EVEN(D$2)=D$2)),D$1,-100))","v":28.125},{"$f":"IF('Ceiling Speaker Calculator'!$C$29=\"Square\",E$1,IF(OR(AND(ODD($A87)=$A87,ODD(E$2)=E$2),AND(EVEN($A87)=$A87,EVEN(E$2)=E$2)),E$1,-100))","v":46.875},{"$f":"IF('Ceiling Speaker Calculator'!$C$29=\"Square\",F$1,IF(OR(AND(ODD($A87)=$A87,ODD(F$2)=F$2),AND(EVEN($A87)=$A87,EVEN(F$2)=F$2)),F$1,-100))","v":65.625},{"$f":"IF('Ceiling Speaker Calculator'!$C$29=\"Square\",G$1,IF(OR(AND(ODD($A87)=$A87,ODD(G$2)=G$2),AND(EVEN($A87)=$A87,EVEN(G$2)=G$2)),G$1,-100))","v":84.375},{"$f":"IF('Ceiling Speaker Calculator'!$C$29=\"Square\",H$1,IF(OR(AND(ODD($A87)=$A87,ODD(H$2)=H$2),AND(EVEN($A87)=$A87,EVEN(H$2)=H$2)),H$1,-100))","v":103.125},{"$f":"IF('Ceiling Speaker Calculator'!$C$29=\"Square\",I$1,IF(OR(AND(ODD($A87)=$A87,ODD(I$2)=I$2),AND(EVEN($A87)=$A87,EVEN(I$2)=I$2)),I$1,-100))","v":121.875},{"$f":"IF('Ceiling Speaker Calculator'!$C$29=\"Square\",J$1,IF(OR(AND(ODD($A87)=$A87,ODD(J$2)=J$2),AND(EVEN($A87)=$A87,EVEN(J$2)=J$2)),J$1,-100))","v":140.625},{"$f":"IF('Ceiling Speaker Calculator'!$C$29=\"Square\",K$1,IF(OR(AND(ODD($A87)=$A87,ODD(K$2)=K$2),AND(EVEN($A87)=$A87,EVEN(K$2)=K$2)),K$1,-100))","v":159.375},{"$f":"IF('Ceiling Speaker Calculator'!$C$29=\"Square\",L$1,IF(OR(AND(ODD($A87)=$A87,ODD(L$2)=L$2),AND(EVEN($A87)=$A87,EVEN(L$2)=L$2)),L$1,-100))","v":178.125},{"$f":"IF('Ceiling Speaker Calculator'!$C$29=\"Square\",M$1,IF(OR(AND(ODD($A87)=$A87,ODD(M$2)=M$2),AND(EVEN($A87)=$A87,EVEN(M$2)=M$2)),M$1,-100))","v":196.875},{"$f":"IF('Ceiling Speaker Calculator'!$C$29=\"Square\",N$1,IF(OR(AND(ODD($A87)=$A87,ODD(N$2)=N$2),AND(EVEN($A87)=$A87,EVEN(N$2)=N$2)),N$1,-100))","v":215.625},{"$f":"IF('Ceiling Speaker Calculator'!$C$29=\"Square\",O$1,IF(OR(AND(ODD($A87)=$A87,ODD(O$2)=O$2),AND(EVEN($A87)=$A87,EVEN(O$2)=O$2)),O$1,-100))","v":234.375},{"$f":"IF('Ceiling Speaker Calculator'!$C$29=\"Square\",P$1,IF(OR(AND(ODD($A87)=$A87,ODD(P$2)=P$2),AND(EVEN($A87)=$A87,EVEN(P$2)=P$2)),P$1,-100))","v":253.125},{"$f":"IF('Ceiling Speaker Calculator'!$C$29=\"Square\",Q$1,IF(OR(AND(ODD($A87)=$A87,ODD(Q$2)=Q$2),AND(EVEN($A87)=$A87,EVEN(Q$2)=Q$2)),Q$1,-100))","v":271.875},{"$f":"IF('Ceiling Speaker Calculator'!$C$29=\"Square\",R$1,IF(OR(AND(ODD($A87)=$A87,ODD(R$2)=R$2),AND(EVEN($A87)=$A87,EVEN(R$2)=R$2)),R$1,-100))","v":290.625},{"$f":"IF('Ceiling Speaker Calculator'!$C$29=\"Square\",S$1,IF(OR(AND(ODD($A87)=$A87,ODD(S$2)=S$2),AND(EVEN($A87)=$A87,EVEN(S$2)=S$2)),S$1,-100))","v":309.375},{"$f":"IF('Ceiling Speaker Calculator'!$C$29=\"Square\",T$1,IF(OR(AND(ODD($A87)=$A87,ODD(T$2)=T$2),AND(EVEN($A87)=$A87,EVEN(T$2)=T$2)),T$1,-100))","v":328.125},{"$f":"IF('Ceiling Speaker Calculator'!$C$29=\"Square\",U$1,IF(OR(AND(ODD($A87)=$A87,ODD(U$2)=U$2),AND(EVEN($A87)=$A87,EVEN(U$2)=U$2)),U$1,-100))","v":346.875},{"$f":"IF('Ceiling Speaker Calculator'!$C$29=\"Square\",V$1,IF(OR(AND(ODD($A87)=$A87,ODD(V$2)=V$2),AND(EVEN($A87)=$A87,EVEN(V$2)=V$2)),V$1,-100))","v":365.625},{"$f":"IF('Ceiling Speaker Calculator'!$C$29=\"Square\",W$1,IF(OR(AND(ODD($A87)=$A87,ODD(W$2)=W$2),AND(EVEN($A87)=$A87,EVEN(W$2)=W$2)),W$1,-100))","v":384.375},{"$f":"IF('Ceiling Speaker Calculator'!$C$29=\"Square\",X$1,IF(OR(AND(ODD($A87)=$A87,ODD(X$2)=X$2),AND(EVEN($A87)=$A87,EVEN(X$2)=X$2)),X$1,-100))","v":403.125},{"$f":"IF('Ceiling Speaker Calculator'!$C$29=\"Square\",Y$1,IF(OR(AND(ODD($A87)=$A87,ODD(Y$2)=Y$2),AND(EVEN($A87)=$A87,EVEN(Y$2)=Y$2)),Y$1,-100))","v":421.875},{"$f":"IF('Ceiling Speaker Calculator'!$C$29=\"Square\",Z$1,IF(OR(AND(ODD($A87)=$A87,ODD(Z$2)=Z$2),AND(EVEN($A87)=$A87,EVEN(Z$2)=Z$2)),Z$1,-100))","v":440.625},{"$f":"IF('Ceiling Speaker Calculator'!$C$29=\"Square\",AA$1,IF(OR(AND(ODD($A87)=$A87,ODD(AA$2)=AA$2),AND(EVEN($A87)=$A87,EVEN(AA$2)=AA$2)),AA$1,-100))","v":459.375},{"$f":"IF('Ceiling Speaker Calculator'!$C$29=\"Square\",AB$1,IF(OR(AND(ODD($A87)=$A87,ODD(AB$2)=AB$2),AND(EVEN($A87)=$A87,EVEN(AB$2)=AB$2)),AB$1,-100))","v":478.125},{"$f":"IF('Ceiling Speaker Calculator'!$C$29=\"Square\",AC$1,IF(OR(AND(ODD($A87)=$A87,ODD(AC$2)=AC$2),AND(EVEN($A87)=$A87,EVEN(AC$2)=AC$2)),AC$1,-100))","v":496.875},{"$f":"IF('Ceiling Speaker Calculator'!$C$29=\"Square\",AD$1,IF(OR(AND(ODD($A87)=$A87,ODD(AD$2)=AD$2),AND(EVEN($A87)=$A87,EVEN(AD$2)=AD$2)),AD$1,-100))","v":515.625},{"$f":"IF('Ceiling Speaker Calculator'!$C$29=\"Square\",AE$1,IF(OR(AND(ODD($A87)=$A87,ODD(AE$2)=AE$2),AND(EVEN($A87)=$A87,EVEN(AE$2)=AE$2)),AE$1,-100))","v":534.375},{"$f":"IF('Ceiling Speaker Calculator'!$C$29=\"Square\",AF$1,IF(OR(AND(ODD($A87)=$A87,ODD(AF$2)=AF$2),AND(EVEN($A87)=$A87,EVEN(AF$2)=AF$2)),AF$1,-100))","v":553.125},{"$f":"IF('Ceiling Speaker Calculator'!$C$29=\"Square\",AG$1,IF(OR(AND(ODD($A87)=$A87,ODD(AG$2)=AG$2),AND(EVEN($A87)=$A87,EVEN(AG$2)=AG$2)),AG$1,-100))","v":571.875},{"$f":"IF('Ceiling Speaker Calculator'!$C$29=\"Square\",AH$1,IF(OR(AND(ODD($A87)=$A87,ODD(AH$2)=AH$2),AND(EVEN($A87)=$A87,EVEN(AH$2)=AH$2)),AH$1,-100))","v":590.625},{"$f":"IF('Ceiling Speaker Calculator'!$C$29=\"Square\",AI$1,IF(OR(AND(ODD($A87)=$A87,ODD(AI$2)=AI$2),AND(EVEN($A87)=$A87,EVEN(AI$2)=AI$2)),AI$1,-100))","v":609.375},{"$f":"IF('Ceiling Speaker Calculator'!$C$29=\"Square\",AJ$1,IF(OR(AND(ODD($A87)=$A87,ODD(AJ$2)=AJ$2),AND(EVEN($A87)=$A87,EVEN(AJ$2)=AJ$2)),AJ$1,-100))","v":628.125},{"$f":"IF('Ceiling Speaker Calculator'!$C$29=\"Square\",AK$1,IF(OR(AND(ODD($A87)=$A87,ODD(AK$2)=AK$2),AND(EVEN($A87)=$A87,EVEN(AK$2)=AK$2)),AK$1,-100))","v":646.875},{"$f":"IF('Ceiling Speaker Calculator'!$C$29=\"Square\",AL$1,IF(OR(AND(ODD($A87)=$A87,ODD(AL$2)=AL$2),AND(EVEN($A87)=$A87,EVEN(AL$2)=AL$2)),AL$1,-100))","v":665.625},{"$f":"IF('Ceiling Speaker Calculator'!$C$29=\"Square\",AM$1,IF(OR(AND(ODD($A87)=$A87,ODD(AM$2)=AM$2),AND(EVEN($A87)=$A87,EVEN(AM$2)=AM$2)),AM$1,-100))","v":684.375},{"$f":"IF('Ceiling Speaker Calculator'!$C$29=\"Square\",AN$1,IF(OR(AND(ODD($A87)=$A87,ODD(AN$2)=AN$2),AND(EVEN($A87)=$A87,EVEN(AN$2)=AN$2)),AN$1,-100))","v":703.125},{"$f":"IF('Ceiling Speaker Calculator'!$C$29=\"Square\",AO$1,IF(OR(AND(ODD($A87)=$A87,ODD(AO$2)=AO$2),AND(EVEN($A87)=$A87,EVEN(AO$2)=AO$2)),AO$1,-100))","v":721.875},{"$f":"IF('Ceiling Speaker Calculator'!$C$29=\"Square\",AP$1,IF(OR(AND(ODD($A87)=$A87,ODD(AP$2)=AP$2),AND(EVEN($A87)=$A87,EVEN(AP$2)=AP$2)),AP$1,-100))","v":740.625},{"$f":"IF('Ceiling Speaker Calculator'!$C$29=\"Square\",AQ$1,IF(OR(AND(ODD($A87)=$A87,ODD(AQ$2)=AQ$2),AND(EVEN($A87)=$A87,EVEN(AQ$2)=AQ$2)),AQ$1,-100))","v":759.375},{"$f":"IF('Ceiling Speaker Calculator'!$C$29=\"Square\",AR$1,IF(OR(AND(ODD($A87)=$A87,ODD(AR$2)=AR$2),AND(EVEN($A87)=$A87,EVEN(AR$2)=AR$2)),AR$1,-100))","v":778.125},{"$f":"IF('Ceiling Speaker Calculator'!$C$29=\"Square\",AS$1,IF(OR(AND(ODD($A87)=$A87,ODD(AS$2)=AS$2),AND(EVEN($A87)=$A87,EVEN(AS$2)=AS$2)),AS$1,-100))","v":796.875},{"$f":"IF('Ceiling Speaker Calculator'!$C$29=\"Square\",AT$1,IF(OR(AND(ODD($A87)=$A87,ODD(AT$2)=AT$2),AND(EVEN($A87)=$A87,EVEN(AT$2)=AT$2)),AT$1,-100))","v":815.625},{"$f":"IF('Ceiling Speaker Calculator'!$C$29=\"Square\",AU$1,IF(OR(AND(ODD($A87)=$A87,ODD(AU$2)=AU$2),AND(EVEN($A87)=$A87,EVEN(AU$2)=AU$2)),AU$1,-100))","v":834.375},{"$f":"IF('Ceiling Speaker Calculator'!$C$29=\"Square\",AV$1,IF(OR(AND(ODD($A87)=$A87,ODD(AV$2)=AV$2),AND(EVEN($A87)=$A87,EVEN(AV$2)=AV$2)),AV$1,-100))","v":853.125},{"$f":"IF('Ceiling Speaker Calculator'!$C$29=\"Square\",AW$1,IF(OR(AND(ODD($A87)=$A87,ODD(AW$2)=AW$2),AND(EVEN($A87)=$A87,EVEN(AW$2)=AW$2)),AW$1,-100))","v":871.875},{"$f":"IF('Ceiling Speaker Calculator'!$C$29=\"Square\",AX$1,IF(OR(AND(ODD($A87)=$A87,ODD(AX$2)=AX$2),AND(EVEN($A87)=$A87,EVEN(AX$2)=AX$2)),AX$1,-100))","v":890.625},{"$f":"IF('Ceiling Speaker Calculator'!$C$29=\"Square\",AY$1,IF(OR(AND(ODD($A87)=$A87,ODD(AY$2)=AY$2),AND(EVEN($A87)=$A87,EVEN(AY$2)=AY$2)),AY$1,-100))","v":909.375},{"$f":"IF('Ceiling Speaker Calculator'!$C$29=\"Square\",AZ$1,IF(OR(AND(ODD($A87)=$A87,ODD(AZ$2)=AZ$2),AND(EVEN($A87)=$A87,EVEN(AZ$2)=AZ$2)),AZ$1,-100))","v":928.125},{"$f":"IF('Ceiling Speaker Calculator'!$C$29=\"Square\",BA$1,IF(OR(AND(ODD($A87)=$A87,ODD(BA$2)=BA$2),AND(EVEN($A87)=$A87,EVEN(BA$2)=BA$2)),BA$1,-100))","v":946.875},{"$f":"IF('Ceiling Speaker Calculator'!$C$29=\"Square\",BB$1,IF(OR(AND(ODD($A87)=$A87,ODD(BB$2)=BB$2),AND(EVEN($A87)=$A87,EVEN(BB$2)=BB$2)),BB$1,-100))","v":965.625},{"$f":"IF('Ceiling Speaker Calculator'!$C$29=\"Square\",BC$1,IF(OR(AND(ODD($A87)=$A87,ODD(BC$2)=BC$2),AND(EVEN($A87)=$A87,EVEN(BC$2)=BC$2)),BC$1,-100))","v":984.375},{"$f":"IF('Ceiling Speaker Calculator'!$C$29=\"Square\",BD$1,IF(OR(AND(ODD($A87)=$A87,ODD(BD$2)=BD$2),AND(EVEN($A87)=$A87,EVEN(BD$2)=BD$2)),BD$1,-100))","v":1003.125},{"$f":"IF('Ceiling Speaker Calculator'!$C$29=\"Square\",BE$1,IF(OR(AND(ODD($A87)=$A87,ODD(BE$2)=BE$2),AND(EVEN($A87)=$A87,EVEN(BE$2)=BE$2)),BE$1,-100))","v":1021.875},{"$f":"IF('Ceiling Speaker Calculator'!$C$29=\"Square\",BF$1,IF(OR(AND(ODD($A87)=$A87,ODD(BF$2)=BF$2),AND(EVEN($A87)=$A87,EVEN(BF$2)=BF$2)),BF$1,-100))","v":1040.625},{"$f":"IF('Ceiling Speaker Calculator'!$C$29=\"Square\",BG$1,IF(OR(AND(ODD($A87)=$A87,ODD(BG$2)=BG$2),AND(EVEN($A87)=$A87,EVEN(BG$2)=BG$2)),BG$1,-100))","v":1059.375},{"$f":"IF('Ceiling Speaker Calculator'!$C$29=\"Square\",BH$1,IF(OR(AND(ODD($A87)=$A87,ODD(BH$2)=BH$2),AND(EVEN($A87)=$A87,EVEN(BH$2)=BH$2)),BH$1,-100))","v":1078.125},{"$f":"IF('Ceiling Speaker Calculator'!$C$29=\"Square\",BI$1,IF(OR(AND(ODD($A87)=$A87,ODD(BI$2)=BI$2),AND(EVEN($A87)=$A87,EVEN(BI$2)=BI$2)),BI$1,-100))","v":1096.875},{"$f":"IF('Ceiling Speaker Calculator'!$C$29=\"Square\",BJ$1,IF(OR(AND(ODD($A87)=$A87,ODD(BJ$2)=BJ$2),AND(EVEN($A87)=$A87,EVEN(BJ$2)=BJ$2)),BJ$1,-100))","v":1115.625},{"$f":"IF('Ceiling Speaker Calculator'!$C$29=\"Square\",BK$1,IF(OR(AND(ODD($A87)=$A87,ODD(BK$2)=BK$2),AND(EVEN($A87)=$A87,EVEN(BK$2)=BK$2)),BK$1,-100))","v":1134.375},{"$f":"IF('Ceiling Speaker Calculator'!$C$29=\"Square\",BL$1,IF(OR(AND(ODD($A87)=$A87,ODD(BL$2)=BL$2),AND(EVEN($A87)=$A87,EVEN(BL$2)=BL$2)),BL$1,-100))","v":1153.125},{"$f":"IF('Ceiling Speaker Calculator'!$C$29=\"Square\",BM$1,IF(OR(AND(ODD($A87)=$A87,ODD(BM$2)=BM$2),AND(EVEN($A87)=$A87,EVEN(BM$2)=BM$2)),BM$1,-100))","v":1171.875},{"$f":"IF('Ceiling Speaker Calculator'!$C$29=\"Square\",BN$1,IF(OR(AND(ODD($A87)=$A87,ODD(BN$2)=BN$2),AND(EVEN($A87)=$A87,EVEN(BN$2)=BN$2)),BN$1,-100))","v":1190.625},{"$f":"IF('Ceiling Speaker Calculator'!$C$29=\"Square\",BO$1,IF(OR(AND(ODD($A87)=$A87,ODD(BO$2)=BO$2),AND(EVEN($A87)=$A87,EVEN(BO$2)=BO$2)),BO$1,-100))","v":1209.375},{"$f":"IF('Ceiling Speaker Calculator'!$C$29=\"Square\",BP$1,IF(OR(AND(ODD($A87)=$A87,ODD(BP$2)=BP$2),AND(EVEN($A87)=$A87,EVEN(BP$2)=BP$2)),BP$1,-100))","v":1228.125},{"$f":"IF('Ceiling Speaker Calculator'!$C$29=\"Square\",BQ$1,IF(OR(AND(ODD($A87)=$A87,ODD(BQ$2)=BQ$2),AND(EVEN($A87)=$A87,EVEN(BQ$2)=BQ$2)),BQ$1,-100))","v":1246.875},{"$f":"IF('Ceiling Speaker Calculator'!$C$29=\"Square\",BR$1,IF(OR(AND(ODD($A87)=$A87,ODD(BR$2)=BR$2),AND(EVEN($A87)=$A87,EVEN(BR$2)=BR$2)),BR$1,-100))","v":1265.625},{"$f":"IF('Ceiling Speaker Calculator'!$C$29=\"Square\",BS$1,IF(OR(AND(ODD($A87)=$A87,ODD(BS$2)=BS$2),AND(EVEN($A87)=$A87,EVEN(BS$2)=BS$2)),BS$1,-100))","v":1284.375},{"$f":"IF('Ceiling Speaker Calculator'!$C$29=\"Square\",BT$1,IF(OR(AND(ODD($A87)=$A87,ODD(BT$2)=BT$2),AND(EVEN($A87)=$A87,EVEN(BT$2)=BT$2)),BT$1,-100))","v":1303.125},{"$f":"IF('Ceiling Speaker Calculator'!$C$29=\"Square\",BU$1,IF(OR(AND(ODD($A87)=$A87,ODD(BU$2)=BU$2),AND(EVEN($A87)=$A87,EVEN(BU$2)=BU$2)),BU$1,-100))","v":1321.875},{"$f":"IF('Ceiling Speaker Calculator'!$C$29=\"Square\",BV$1,IF(OR(AND(ODD($A87)=$A87,ODD(BV$2)=BV$2),AND(EVEN($A87)=$A87,EVEN(BV$2)=BV$2)),BV$1,-100))","v":1340.625},{"$f":"IF('Ceiling Speaker Calculator'!$C$29=\"Square\",BW$1,IF(OR(AND(ODD($A87)=$A87,ODD(BW$2)=BW$2),AND(EVEN($A87)=$A87,EVEN(BW$2)=BW$2)),BW$1,-100))","v":1359.375},{"$f":"IF('Ceiling Speaker Calculator'!$C$29=\"Square\",BX$1,IF(OR(AND(ODD($A87)=$A87,ODD(BX$2)=BX$2),AND(EVEN($A87)=$A87,EVEN(BX$2)=BX$2)),BX$1,-100))","v":1378.125},{"$f":"IF('Ceiling Speaker Calculator'!$C$29=\"Square\",BY$1,IF(OR(AND(ODD($A87)=$A87,ODD(BY$2)=BY$2),AND(EVEN($A87)=$A87,EVEN(BY$2)=BY$2)),BY$1,-100))","v":1396.875},{"$f":"IF('Ceiling Speaker Calculator'!$C$29=\"Square\",BZ$1,IF(OR(AND(ODD($A87)=$A87,ODD(BZ$2)=BZ$2),AND(EVEN($A87)=$A87,EVEN(BZ$2)=BZ$2)),BZ$1,-100))","v":1415.625},{"$f":"IF('Ceiling Speaker Calculator'!$C$29=\"Square\",CA$1,IF(OR(AND(ODD($A87)=$A87,ODD(CA$2)=CA$2),AND(EVEN($A87)=$A87,EVEN(CA$2)=CA$2)),CA$1,-100))","v":1434.375},{"$f":"IF('Ceiling Speaker Calculator'!$C$29=\"Square\",CB$1,IF(OR(AND(ODD($A87)=$A87,ODD(CB$2)=CB$2),AND(EVEN($A87)=$A87,EVEN(CB$2)=CB$2)),CB$1,-100))","v":1453.125},{"$f":"IF('Ceiling Speaker Calculator'!$C$29=\"Square\",CC$1,IF(OR(AND(ODD($A87)=$A87,ODD(CC$2)=CC$2),AND(EVEN($A87)=$A87,EVEN(CC$2)=CC$2)),CC$1,-100))","v":1471.875},{"$f":"IF('Ceiling Speaker Calculator'!$C$29=\"Square\",CD$1,IF(OR(AND(ODD($A87)=$A87,ODD(CD$2)=CD$2),AND(EVEN($A87)=$A87,EVEN(CD$2)=CD$2)),CD$1,-100))","v":1490.625},{"$f":"IF('Ceiling Speaker Calculator'!$C$29=\"Square\",CE$1,IF(OR(AND(ODD($A87)=$A87,ODD(CE$2)=CE$2),AND(EVEN($A87)=$A87,EVEN(CE$2)=CE$2)),CE$1,-100))","v":1509.375},{"$f":"IF('Ceiling Speaker Calculator'!$C$29=\"Square\",CF$1,IF(OR(AND(ODD($A87)=$A87,ODD(CF$2)=CF$2),AND(EVEN($A87)=$A87,EVEN(CF$2)=CF$2)),CF$1,-100))","v":1528.125},{"$f":"IF('Ceiling Speaker Calculator'!$C$29=\"Square\",CG$1,IF(OR(AND(ODD($A87)=$A87,ODD(CG$2)=CG$2),AND(EVEN($A87)=$A87,EVEN(CG$2)=CG$2)),CG$1,-100))","v":1546.875},{"$f":"IF('Ceiling Speaker Calculator'!$C$29=\"Square\",CH$1,IF(OR(AND(ODD($A87)=$A87,ODD(CH$2)=CH$2),AND(EVEN($A87)=$A87,EVEN(CH$2)=CH$2)),CH$1,-100))","v":1565.625},{"$f":"IF('Ceiling Speaker Calculator'!$C$29=\"Square\",CI$1,IF(OR(AND(ODD($A87)=$A87,ODD(CI$2)=CI$2),AND(EVEN($A87)=$A87,EVEN(CI$2)=CI$2)),CI$1,-100))","v":1584.375},{"$f":"IF('Ceiling Speaker Calculator'!$C$29=\"Square\",CJ$1,IF(OR(AND(ODD($A87)=$A87,ODD(CJ$2)=CJ$2),AND(EVEN($A87)=$A87,EVEN(CJ$2)=CJ$2)),CJ$1,-100))","v":1603.125},{"$f":"IF('Ceiling Speaker Calculator'!$C$29=\"Square\",CK$1,IF(OR(AND(ODD($A87)=$A87,ODD(CK$2)=CK$2),AND(EVEN($A87)=$A87,EVEN(CK$2)=CK$2)),CK$1,-100))","v":1621.875},{"$f":"IF('Ceiling Speaker Calculator'!$C$29=\"Square\",CL$1,IF(OR(AND(ODD($A87)=$A87,ODD(CL$2)=CL$2),AND(EVEN($A87)=$A87,EVEN(CL$2)=CL$2)),CL$1,-100))","v":1640.625},{"$f":"IF('Ceiling Speaker Calculator'!$C$29=\"Square\",CM$1,IF(OR(AND(ODD($A87)=$A87,ODD(CM$2)=CM$2),AND(EVEN($A87)=$A87,EVEN(CM$2)=CM$2)),CM$1,-100))","v":1659.375},{"$f":"IF('Ceiling Speaker Calculator'!$C$29=\"Square\",CN$1,IF(OR(AND(ODD($A87)=$A87,ODD(CN$2)=CN$2),AND(EVEN($A87)=$A87,EVEN(CN$2)=CN$2)),CN$1,-100))","v":1678.125},{"$f":"IF('Ceiling Speaker Calculator'!$C$29=\"Square\",CO$1,IF(OR(AND(ODD($A87)=$A87,ODD(CO$2)=CO$2),AND(EVEN($A87)=$A87,EVEN(CO$2)=CO$2)),CO$1,-100))","v":1696.875},{"$f":"IF('Ceiling Speaker Calculator'!$C$29=\"Square\",CP$1,IF(OR(AND(ODD($A87)=$A87,ODD(CP$2)=CP$2),AND(EVEN($A87)=$A87,EVEN(CP$2)=CP$2)),CP$1,-100))","v":1715.625},{"$f":"IF('Ceiling Speaker Calculator'!$C$29=\"Square\",CQ$1,IF(OR(AND(ODD($A87)=$A87,ODD(CQ$2)=CQ$2),AND(EVEN($A87)=$A87,EVEN(CQ$2)=CQ$2)),CQ$1,-100))","v":1734.375},{"$f":"IF('Ceiling Speaker Calculator'!$C$29=\"Square\",CR$1,IF(OR(AND(ODD($A87)=$A87,ODD(CR$2)=CR$2),AND(EVEN($A87)=$A87,EVEN(CR$2)=CR$2)),CR$1,-100))","v":1753.125},{"$f":"IF('Ceiling Speaker Calculator'!$C$29=\"Square\",CS$1,IF(OR(AND(ODD($A87)=$A87,ODD(CS$2)=CS$2),AND(EVEN($A87)=$A87,EVEN(CS$2)=CS$2)),CS$1,-100))","v":1771.875},{"$f":"IF('Ceiling Speaker Calculator'!$C$29=\"Square\",CT$1,IF(OR(AND(ODD($A87)=$A87,ODD(CT$2)=CT$2),AND(EVEN($A87)=$A87,EVEN(CT$2)=CT$2)),CT$1,-100))","v":1790.625},{"$f":"IF('Ceiling Speaker Calculator'!$C$29=\"Square\",CU$1,IF(OR(AND(ODD($A87)=$A87,ODD(CU$2)=CU$2),AND(EVEN($A87)=$A87,EVEN(CU$2)=CU$2)),CU$1,-100))","v":1809.375},{"$f":"IF('Ceiling Speaker Calculator'!$C$29=\"Square\",CV$1,IF(OR(AND(ODD($A87)=$A87,ODD(CV$2)=CV$2),AND(EVEN($A87)=$A87,EVEN(CV$2)=CV$2)),CV$1,-100))","v":1828.125},{"$f":"IF('Ceiling Speaker Calculator'!$C$29=\"Square\",CW$1,IF(OR(AND(ODD($A87)=$A87,ODD(CW$2)=CW$2),AND(EVEN($A87)=$A87,EVEN(CW$2)=CW$2)),CW$1,-100))","v":1846.875},{"$f":"IF('Ceiling Speaker Calculator'!$C$29=\"Square\",CX$1,IF(OR(AND(ODD($A87)=$A87,ODD(CX$2)=CX$2),AND(EVEN($A87)=$A87,EVEN(CX$2)=CX$2)),CX$1,-100))","v":1865.625}]
[86,{"$f":"B87+'Ceiling Speaker Calculator'!$K$16","v":1710},{"$f":"IF('Ceiling Speaker Calculator'!$C$29=\"Square\",C$1,IF(OR(AND(ODD($A88)=$A88,ODD(C$2)=C$2),AND(EVEN($A88)=$A88,EVEN(C$2)=C$2)),C$1,-100))","v":9.375},{"$f":"IF('Ceiling Speaker Calculator'!$C$29=\"Square\",D$1,IF(OR(AND(ODD($A88)=$A88,ODD(D$2)=D$2),AND(EVEN($A88)=$A88,EVEN(D$2)=D$2)),D$1,-100))","v":28.125},{"$f":"IF('Ceiling Speaker Calculator'!$C$29=\"Square\",E$1,IF(OR(AND(ODD($A88)=$A88,ODD(E$2)=E$2),AND(EVEN($A88)=$A88,EVEN(E$2)=E$2)),E$1,-100))","v":46.875},{"$f":"IF('Ceiling Speaker Calculator'!$C$29=\"Square\",F$1,IF(OR(AND(ODD($A88)=$A88,ODD(F$2)=F$2),AND(EVEN($A88)=$A88,EVEN(F$2)=F$2)),F$1,-100))","v":65.625},{"$f":"IF('Ceiling Speaker Calculator'!$C$29=\"Square\",G$1,IF(OR(AND(ODD($A88)=$A88,ODD(G$2)=G$2),AND(EVEN($A88)=$A88,EVEN(G$2)=G$2)),G$1,-100))","v":84.375},{"$f":"IF('Ceiling Speaker Calculator'!$C$29=\"Square\",H$1,IF(OR(AND(ODD($A88)=$A88,ODD(H$2)=H$2),AND(EVEN($A88)=$A88,EVEN(H$2)=H$2)),H$1,-100))","v":103.125},{"$f":"IF('Ceiling Speaker Calculator'!$C$29=\"Square\",I$1,IF(OR(AND(ODD($A88)=$A88,ODD(I$2)=I$2),AND(EVEN($A88)=$A88,EVEN(I$2)=I$2)),I$1,-100))","v":121.875},{"$f":"IF('Ceiling Speaker Calculator'!$C$29=\"Square\",J$1,IF(OR(AND(ODD($A88)=$A88,ODD(J$2)=J$2),AND(EVEN($A88)=$A88,EVEN(J$2)=J$2)),J$1,-100))","v":140.625},{"$f":"IF('Ceiling Speaker Calculator'!$C$29=\"Square\",K$1,IF(OR(AND(ODD($A88)=$A88,ODD(K$2)=K$2),AND(EVEN($A88)=$A88,EVEN(K$2)=K$2)),K$1,-100))","v":159.375},{"$f":"IF('Ceiling Speaker Calculator'!$C$29=\"Square\",L$1,IF(OR(AND(ODD($A88)=$A88,ODD(L$2)=L$2),AND(EVEN($A88)=$A88,EVEN(L$2)=L$2)),L$1,-100))","v":178.125},{"$f":"IF('Ceiling Speaker Calculator'!$C$29=\"Square\",M$1,IF(OR(AND(ODD($A88)=$A88,ODD(M$2)=M$2),AND(EVEN($A88)=$A88,EVEN(M$2)=M$2)),M$1,-100))","v":196.875},{"$f":"IF('Ceiling Speaker Calculator'!$C$29=\"Square\",N$1,IF(OR(AND(ODD($A88)=$A88,ODD(N$2)=N$2),AND(EVEN($A88)=$A88,EVEN(N$2)=N$2)),N$1,-100))","v":215.625},{"$f":"IF('Ceiling Speaker Calculator'!$C$29=\"Square\",O$1,IF(OR(AND(ODD($A88)=$A88,ODD(O$2)=O$2),AND(EVEN($A88)=$A88,EVEN(O$2)=O$2)),O$1,-100))","v":234.375},{"$f":"IF('Ceiling Speaker Calculator'!$C$29=\"Square\",P$1,IF(OR(AND(ODD($A88)=$A88,ODD(P$2)=P$2),AND(EVEN($A88)=$A88,EVEN(P$2)=P$2)),P$1,-100))","v":253.125},{"$f":"IF('Ceiling Speaker Calculator'!$C$29=\"Square\",Q$1,IF(OR(AND(ODD($A88)=$A88,ODD(Q$2)=Q$2),AND(EVEN($A88)=$A88,EVEN(Q$2)=Q$2)),Q$1,-100))","v":271.875},{"$f":"IF('Ceiling Speaker Calculator'!$C$29=\"Square\",R$1,IF(OR(AND(ODD($A88)=$A88,ODD(R$2)=R$2),AND(EVEN($A88)=$A88,EVEN(R$2)=R$2)),R$1,-100))","v":290.625},{"$f":"IF('Ceiling Speaker Calculator'!$C$29=\"Square\",S$1,IF(OR(AND(ODD($A88)=$A88,ODD(S$2)=S$2),AND(EVEN($A88)=$A88,EVEN(S$2)=S$2)),S$1,-100))","v":309.375},{"$f":"IF('Ceiling Speaker Calculator'!$C$29=\"Square\",T$1,IF(OR(AND(ODD($A88)=$A88,ODD(T$2)=T$2),AND(EVEN($A88)=$A88,EVEN(T$2)=T$2)),T$1,-100))","v":328.125},{"$f":"IF('Ceiling Speaker Calculator'!$C$29=\"Square\",U$1,IF(OR(AND(ODD($A88)=$A88,ODD(U$2)=U$2),AND(EVEN($A88)=$A88,EVEN(U$2)=U$2)),U$1,-100))","v":346.875},{"$f":"IF('Ceiling Speaker Calculator'!$C$29=\"Square\",V$1,IF(OR(AND(ODD($A88)=$A88,ODD(V$2)=V$2),AND(EVEN($A88)=$A88,EVEN(V$2)=V$2)),V$1,-100))","v":365.625},{"$f":"IF('Ceiling Speaker Calculator'!$C$29=\"Square\",W$1,IF(OR(AND(ODD($A88)=$A88,ODD(W$2)=W$2),AND(EVEN($A88)=$A88,EVEN(W$2)=W$2)),W$1,-100))","v":384.375},{"$f":"IF('Ceiling Speaker Calculator'!$C$29=\"Square\",X$1,IF(OR(AND(ODD($A88)=$A88,ODD(X$2)=X$2),AND(EVEN($A88)=$A88,EVEN(X$2)=X$2)),X$1,-100))","v":403.125},{"$f":"IF('Ceiling Speaker Calculator'!$C$29=\"Square\",Y$1,IF(OR(AND(ODD($A88)=$A88,ODD(Y$2)=Y$2),AND(EVEN($A88)=$A88,EVEN(Y$2)=Y$2)),Y$1,-100))","v":421.875},{"$f":"IF('Ceiling Speaker Calculator'!$C$29=\"Square\",Z$1,IF(OR(AND(ODD($A88)=$A88,ODD(Z$2)=Z$2),AND(EVEN($A88)=$A88,EVEN(Z$2)=Z$2)),Z$1,-100))","v":440.625},{"$f":"IF('Ceiling Speaker Calculator'!$C$29=\"Square\",AA$1,IF(OR(AND(ODD($A88)=$A88,ODD(AA$2)=AA$2),AND(EVEN($A88)=$A88,EVEN(AA$2)=AA$2)),AA$1,-100))","v":459.375},{"$f":"IF('Ceiling Speaker Calculator'!$C$29=\"Square\",AB$1,IF(OR(AND(ODD($A88)=$A88,ODD(AB$2)=AB$2),AND(EVEN($A88)=$A88,EVEN(AB$2)=AB$2)),AB$1,-100))","v":478.125},{"$f":"IF('Ceiling Speaker Calculator'!$C$29=\"Square\",AC$1,IF(OR(AND(ODD($A88)=$A88,ODD(AC$2)=AC$2),AND(EVEN($A88)=$A88,EVEN(AC$2)=AC$2)),AC$1,-100))","v":496.875},{"$f":"IF('Ceiling Speaker Calculator'!$C$29=\"Square\",AD$1,IF(OR(AND(ODD($A88)=$A88,ODD(AD$2)=AD$2),AND(EVEN($A88)=$A88,EVEN(AD$2)=AD$2)),AD$1,-100))","v":515.625},{"$f":"IF('Ceiling Speaker Calculator'!$C$29=\"Square\",AE$1,IF(OR(AND(ODD($A88)=$A88,ODD(AE$2)=AE$2),AND(EVEN($A88)=$A88,EVEN(AE$2)=AE$2)),AE$1,-100))","v":534.375},{"$f":"IF('Ceiling Speaker Calculator'!$C$29=\"Square\",AF$1,IF(OR(AND(ODD($A88)=$A88,ODD(AF$2)=AF$2),AND(EVEN($A88)=$A88,EVEN(AF$2)=AF$2)),AF$1,-100))","v":553.125},{"$f":"IF('Ceiling Speaker Calculator'!$C$29=\"Square\",AG$1,IF(OR(AND(ODD($A88)=$A88,ODD(AG$2)=AG$2),AND(EVEN($A88)=$A88,EVEN(AG$2)=AG$2)),AG$1,-100))","v":571.875},{"$f":"IF('Ceiling Speaker Calculator'!$C$29=\"Square\",AH$1,IF(OR(AND(ODD($A88)=$A88,ODD(AH$2)=AH$2),AND(EVEN($A88)=$A88,EVEN(AH$2)=AH$2)),AH$1,-100))","v":590.625},{"$f":"IF('Ceiling Speaker Calculator'!$C$29=\"Square\",AI$1,IF(OR(AND(ODD($A88)=$A88,ODD(AI$2)=AI$2),AND(EVEN($A88)=$A88,EVEN(AI$2)=AI$2)),AI$1,-100))","v":609.375},{"$f":"IF('Ceiling Speaker Calculator'!$C$29=\"Square\",AJ$1,IF(OR(AND(ODD($A88)=$A88,ODD(AJ$2)=AJ$2),AND(EVEN($A88)=$A88,EVEN(AJ$2)=AJ$2)),AJ$1,-100))","v":628.125},{"$f":"IF('Ceiling Speaker Calculator'!$C$29=\"Square\",AK$1,IF(OR(AND(ODD($A88)=$A88,ODD(AK$2)=AK$2),AND(EVEN($A88)=$A88,EVEN(AK$2)=AK$2)),AK$1,-100))","v":646.875},{"$f":"IF('Ceiling Speaker Calculator'!$C$29=\"Square\",AL$1,IF(OR(AND(ODD($A88)=$A88,ODD(AL$2)=AL$2),AND(EVEN($A88)=$A88,EVEN(AL$2)=AL$2)),AL$1,-100))","v":665.625},{"$f":"IF('Ceiling Speaker Calculator'!$C$29=\"Square\",AM$1,IF(OR(AND(ODD($A88)=$A88,ODD(AM$2)=AM$2),AND(EVEN($A88)=$A88,EVEN(AM$2)=AM$2)),AM$1,-100))","v":684.375},{"$f":"IF('Ceiling Speaker Calculator'!$C$29=\"Square\",AN$1,IF(OR(AND(ODD($A88)=$A88,ODD(AN$2)=AN$2),AND(EVEN($A88)=$A88,EVEN(AN$2)=AN$2)),AN$1,-100))","v":703.125},{"$f":"IF('Ceiling Speaker Calculator'!$C$29=\"Square\",AO$1,IF(OR(AND(ODD($A88)=$A88,ODD(AO$2)=AO$2),AND(EVEN($A88)=$A88,EVEN(AO$2)=AO$2)),AO$1,-100))","v":721.875},{"$f":"IF('Ceiling Speaker Calculator'!$C$29=\"Square\",AP$1,IF(OR(AND(ODD($A88)=$A88,ODD(AP$2)=AP$2),AND(EVEN($A88)=$A88,EVEN(AP$2)=AP$2)),AP$1,-100))","v":740.625},{"$f":"IF('Ceiling Speaker Calculator'!$C$29=\"Square\",AQ$1,IF(OR(AND(ODD($A88)=$A88,ODD(AQ$2)=AQ$2),AND(EVEN($A88)=$A88,EVEN(AQ$2)=AQ$2)),AQ$1,-100))","v":759.375},{"$f":"IF('Ceiling Speaker Calculator'!$C$29=\"Square\",AR$1,IF(OR(AND(ODD($A88)=$A88,ODD(AR$2)=AR$2),AND(EVEN($A88)=$A88,EVEN(AR$2)=AR$2)),AR$1,-100))","v":778.125},{"$f":"IF('Ceiling Speaker Calculator'!$C$29=\"Square\",AS$1,IF(OR(AND(ODD($A88)=$A88,ODD(AS$2)=AS$2),AND(EVEN($A88)=$A88,EVEN(AS$2)=AS$2)),AS$1,-100))","v":796.875},{"$f":"IF('Ceiling Speaker Calculator'!$C$29=\"Square\",AT$1,IF(OR(AND(ODD($A88)=$A88,ODD(AT$2)=AT$2),AND(EVEN($A88)=$A88,EVEN(AT$2)=AT$2)),AT$1,-100))","v":815.625},{"$f":"IF('Ceiling Speaker Calculator'!$C$29=\"Square\",AU$1,IF(OR(AND(ODD($A88)=$A88,ODD(AU$2)=AU$2),AND(EVEN($A88)=$A88,EVEN(AU$2)=AU$2)),AU$1,-100))","v":834.375},{"$f":"IF('Ceiling Speaker Calculator'!$C$29=\"Square\",AV$1,IF(OR(AND(ODD($A88)=$A88,ODD(AV$2)=AV$2),AND(EVEN($A88)=$A88,EVEN(AV$2)=AV$2)),AV$1,-100))","v":853.125},{"$f":"IF('Ceiling Speaker Calculator'!$C$29=\"Square\",AW$1,IF(OR(AND(ODD($A88)=$A88,ODD(AW$2)=AW$2),AND(EVEN($A88)=$A88,EVEN(AW$2)=AW$2)),AW$1,-100))","v":871.875},{"$f":"IF('Ceiling Speaker Calculator'!$C$29=\"Square\",AX$1,IF(OR(AND(ODD($A88)=$A88,ODD(AX$2)=AX$2),AND(EVEN($A88)=$A88,EVEN(AX$2)=AX$2)),AX$1,-100))","v":890.625},{"$f":"IF('Ceiling Speaker Calculator'!$C$29=\"Square\",AY$1,IF(OR(AND(ODD($A88)=$A88,ODD(AY$2)=AY$2),AND(EVEN($A88)=$A88,EVEN(AY$2)=AY$2)),AY$1,-100))","v":909.375},{"$f":"IF('Ceiling Speaker Calculator'!$C$29=\"Square\",AZ$1,IF(OR(AND(ODD($A88)=$A88,ODD(AZ$2)=AZ$2),AND(EVEN($A88)=$A88,EVEN(AZ$2)=AZ$2)),AZ$1,-100))","v":928.125},{"$f":"IF('Ceiling Speaker Calculator'!$C$29=\"Square\",BA$1,IF(OR(AND(ODD($A88)=$A88,ODD(BA$2)=BA$2),AND(EVEN($A88)=$A88,EVEN(BA$2)=BA$2)),BA$1,-100))","v":946.875},{"$f":"IF('Ceiling Speaker Calculator'!$C$29=\"Square\",BB$1,IF(OR(AND(ODD($A88)=$A88,ODD(BB$2)=BB$2),AND(EVEN($A88)=$A88,EVEN(BB$2)=BB$2)),BB$1,-100))","v":965.625},{"$f":"IF('Ceiling Speaker Calculator'!$C$29=\"Square\",BC$1,IF(OR(AND(ODD($A88)=$A88,ODD(BC$2)=BC$2),AND(EVEN($A88)=$A88,EVEN(BC$2)=BC$2)),BC$1,-100))","v":984.375},{"$f":"IF('Ceiling Speaker Calculator'!$C$29=\"Square\",BD$1,IF(OR(AND(ODD($A88)=$A88,ODD(BD$2)=BD$2),AND(EVEN($A88)=$A88,EVEN(BD$2)=BD$2)),BD$1,-100))","v":1003.125},{"$f":"IF('Ceiling Speaker Calculator'!$C$29=\"Square\",BE$1,IF(OR(AND(ODD($A88)=$A88,ODD(BE$2)=BE$2),AND(EVEN($A88)=$A88,EVEN(BE$2)=BE$2)),BE$1,-100))","v":1021.875},{"$f":"IF('Ceiling Speaker Calculator'!$C$29=\"Square\",BF$1,IF(OR(AND(ODD($A88)=$A88,ODD(BF$2)=BF$2),AND(EVEN($A88)=$A88,EVEN(BF$2)=BF$2)),BF$1,-100))","v":1040.625},{"$f":"IF('Ceiling Speaker Calculator'!$C$29=\"Square\",BG$1,IF(OR(AND(ODD($A88)=$A88,ODD(BG$2)=BG$2),AND(EVEN($A88)=$A88,EVEN(BG$2)=BG$2)),BG$1,-100))","v":1059.375},{"$f":"IF('Ceiling Speaker Calculator'!$C$29=\"Square\",BH$1,IF(OR(AND(ODD($A88)=$A88,ODD(BH$2)=BH$2),AND(EVEN($A88)=$A88,EVEN(BH$2)=BH$2)),BH$1,-100))","v":1078.125},{"$f":"IF('Ceiling Speaker Calculator'!$C$29=\"Square\",BI$1,IF(OR(AND(ODD($A88)=$A88,ODD(BI$2)=BI$2),AND(EVEN($A88)=$A88,EVEN(BI$2)=BI$2)),BI$1,-100))","v":1096.875},{"$f":"IF('Ceiling Speaker Calculator'!$C$29=\"Square\",BJ$1,IF(OR(AND(ODD($A88)=$A88,ODD(BJ$2)=BJ$2),AND(EVEN($A88)=$A88,EVEN(BJ$2)=BJ$2)),BJ$1,-100))","v":1115.625},{"$f":"IF('Ceiling Speaker Calculator'!$C$29=\"Square\",BK$1,IF(OR(AND(ODD($A88)=$A88,ODD(BK$2)=BK$2),AND(EVEN($A88)=$A88,EVEN(BK$2)=BK$2)),BK$1,-100))","v":1134.375},{"$f":"IF('Ceiling Speaker Calculator'!$C$29=\"Square\",BL$1,IF(OR(AND(ODD($A88)=$A88,ODD(BL$2)=BL$2),AND(EVEN($A88)=$A88,EVEN(BL$2)=BL$2)),BL$1,-100))","v":1153.125},{"$f":"IF('Ceiling Speaker Calculator'!$C$29=\"Square\",BM$1,IF(OR(AND(ODD($A88)=$A88,ODD(BM$2)=BM$2),AND(EVEN($A88)=$A88,EVEN(BM$2)=BM$2)),BM$1,-100))","v":1171.875},{"$f":"IF('Ceiling Speaker Calculator'!$C$29=\"Square\",BN$1,IF(OR(AND(ODD($A88)=$A88,ODD(BN$2)=BN$2),AND(EVEN($A88)=$A88,EVEN(BN$2)=BN$2)),BN$1,-100))","v":1190.625},{"$f":"IF('Ceiling Speaker Calculator'!$C$29=\"Square\",BO$1,IF(OR(AND(ODD($A88)=$A88,ODD(BO$2)=BO$2),AND(EVEN($A88)=$A88,EVEN(BO$2)=BO$2)),BO$1,-100))","v":1209.375},{"$f":"IF('Ceiling Speaker Calculator'!$C$29=\"Square\",BP$1,IF(OR(AND(ODD($A88)=$A88,ODD(BP$2)=BP$2),AND(EVEN($A88)=$A88,EVEN(BP$2)=BP$2)),BP$1,-100))","v":1228.125},{"$f":"IF('Ceiling Speaker Calculator'!$C$29=\"Square\",BQ$1,IF(OR(AND(ODD($A88)=$A88,ODD(BQ$2)=BQ$2),AND(EVEN($A88)=$A88,EVEN(BQ$2)=BQ$2)),BQ$1,-100))","v":1246.875},{"$f":"IF('Ceiling Speaker Calculator'!$C$29=\"Square\",BR$1,IF(OR(AND(ODD($A88)=$A88,ODD(BR$2)=BR$2),AND(EVEN($A88)=$A88,EVEN(BR$2)=BR$2)),BR$1,-100))","v":1265.625},{"$f":"IF('Ceiling Speaker Calculator'!$C$29=\"Square\",BS$1,IF(OR(AND(ODD($A88)=$A88,ODD(BS$2)=BS$2),AND(EVEN($A88)=$A88,EVEN(BS$2)=BS$2)),BS$1,-100))","v":1284.375},{"$f":"IF('Ceiling Speaker Calculator'!$C$29=\"Square\",BT$1,IF(OR(AND(ODD($A88)=$A88,ODD(BT$2)=BT$2),AND(EVEN($A88)=$A88,EVEN(BT$2)=BT$2)),BT$1,-100))","v":1303.125},{"$f":"IF('Ceiling Speaker Calculator'!$C$29=\"Square\",BU$1,IF(OR(AND(ODD($A88)=$A88,ODD(BU$2)=BU$2),AND(EVEN($A88)=$A88,EVEN(BU$2)=BU$2)),BU$1,-100))","v":1321.875},{"$f":"IF('Ceiling Speaker Calculator'!$C$29=\"Square\",BV$1,IF(OR(AND(ODD($A88)=$A88,ODD(BV$2)=BV$2),AND(EVEN($A88)=$A88,EVEN(BV$2)=BV$2)),BV$1,-100))","v":1340.625},{"$f":"IF('Ceiling Speaker Calculator'!$C$29=\"Square\",BW$1,IF(OR(AND(ODD($A88)=$A88,ODD(BW$2)=BW$2),AND(EVEN($A88)=$A88,EVEN(BW$2)=BW$2)),BW$1,-100))","v":1359.375},{"$f":"IF('Ceiling Speaker Calculator'!$C$29=\"Square\",BX$1,IF(OR(AND(ODD($A88)=$A88,ODD(BX$2)=BX$2),AND(EVEN($A88)=$A88,EVEN(BX$2)=BX$2)),BX$1,-100))","v":1378.125},{"$f":"IF('Ceiling Speaker Calculator'!$C$29=\"Square\",BY$1,IF(OR(AND(ODD($A88)=$A88,ODD(BY$2)=BY$2),AND(EVEN($A88)=$A88,EVEN(BY$2)=BY$2)),BY$1,-100))","v":1396.875},{"$f":"IF('Ceiling Speaker Calculator'!$C$29=\"Square\",BZ$1,IF(OR(AND(ODD($A88)=$A88,ODD(BZ$2)=BZ$2),AND(EVEN($A88)=$A88,EVEN(BZ$2)=BZ$2)),BZ$1,-100))","v":1415.625},{"$f":"IF('Ceiling Speaker Calculator'!$C$29=\"Square\",CA$1,IF(OR(AND(ODD($A88)=$A88,ODD(CA$2)=CA$2),AND(EVEN($A88)=$A88,EVEN(CA$2)=CA$2)),CA$1,-100))","v":1434.375},{"$f":"IF('Ceiling Speaker Calculator'!$C$29=\"Square\",CB$1,IF(OR(AND(ODD($A88)=$A88,ODD(CB$2)=CB$2),AND(EVEN($A88)=$A88,EVEN(CB$2)=CB$2)),CB$1,-100))","v":1453.125},{"$f":"IF('Ceiling Speaker Calculator'!$C$29=\"Square\",CC$1,IF(OR(AND(ODD($A88)=$A88,ODD(CC$2)=CC$2),AND(EVEN($A88)=$A88,EVEN(CC$2)=CC$2)),CC$1,-100))","v":1471.875},{"$f":"IF('Ceiling Speaker Calculator'!$C$29=\"Square\",CD$1,IF(OR(AND(ODD($A88)=$A88,ODD(CD$2)=CD$2),AND(EVEN($A88)=$A88,EVEN(CD$2)=CD$2)),CD$1,-100))","v":1490.625},{"$f":"IF('Ceiling Speaker Calculator'!$C$29=\"Square\",CE$1,IF(OR(AND(ODD($A88)=$A88,ODD(CE$2)=CE$2),AND(EVEN($A88)=$A88,EVEN(CE$2)=CE$2)),CE$1,-100))","v":1509.375},{"$f":"IF('Ceiling Speaker Calculator'!$C$29=\"Square\",CF$1,IF(OR(AND(ODD($A88)=$A88,ODD(CF$2)=CF$2),AND(EVEN($A88)=$A88,EVEN(CF$2)=CF$2)),CF$1,-100))","v":1528.125},{"$f":"IF('Ceiling Speaker Calculator'!$C$29=\"Square\",CG$1,IF(OR(AND(ODD($A88)=$A88,ODD(CG$2)=CG$2),AND(EVEN($A88)=$A88,EVEN(CG$2)=CG$2)),CG$1,-100))","v":1546.875},{"$f":"IF('Ceiling Speaker Calculator'!$C$29=\"Square\",CH$1,IF(OR(AND(ODD($A88)=$A88,ODD(CH$2)=CH$2),AND(EVEN($A88)=$A88,EVEN(CH$2)=CH$2)),CH$1,-100))","v":1565.625},{"$f":"IF('Ceiling Speaker Calculator'!$C$29=\"Square\",CI$1,IF(OR(AND(ODD($A88)=$A88,ODD(CI$2)=CI$2),AND(EVEN($A88)=$A88,EVEN(CI$2)=CI$2)),CI$1,-100))","v":1584.375},{"$f":"IF('Ceiling Speaker Calculator'!$C$29=\"Square\",CJ$1,IF(OR(AND(ODD($A88)=$A88,ODD(CJ$2)=CJ$2),AND(EVEN($A88)=$A88,EVEN(CJ$2)=CJ$2)),CJ$1,-100))","v":1603.125},{"$f":"IF('Ceiling Speaker Calculator'!$C$29=\"Square\",CK$1,IF(OR(AND(ODD($A88)=$A88,ODD(CK$2)=CK$2),AND(EVEN($A88)=$A88,EVEN(CK$2)=CK$2)),CK$1,-100))","v":1621.875},{"$f":"IF('Ceiling Speaker Calculator'!$C$29=\"Square\",CL$1,IF(OR(AND(ODD($A88)=$A88,ODD(CL$2)=CL$2),AND(EVEN($A88)=$A88,EVEN(CL$2)=CL$2)),CL$1,-100))","v":1640.625},{"$f":"IF('Ceiling Speaker Calculator'!$C$29=\"Square\",CM$1,IF(OR(AND(ODD($A88)=$A88,ODD(CM$2)=CM$2),AND(EVEN($A88)=$A88,EVEN(CM$2)=CM$2)),CM$1,-100))","v":1659.375},{"$f":"IF('Ceiling Speaker Calculator'!$C$29=\"Square\",CN$1,IF(OR(AND(ODD($A88)=$A88,ODD(CN$2)=CN$2),AND(EVEN($A88)=$A88,EVEN(CN$2)=CN$2)),CN$1,-100))","v":1678.125},{"$f":"IF('Ceiling Speaker Calculator'!$C$29=\"Square\",CO$1,IF(OR(AND(ODD($A88)=$A88,ODD(CO$2)=CO$2),AND(EVEN($A88)=$A88,EVEN(CO$2)=CO$2)),CO$1,-100))","v":1696.875},{"$f":"IF('Ceiling Speaker Calculator'!$C$29=\"Square\",CP$1,IF(OR(AND(ODD($A88)=$A88,ODD(CP$2)=CP$2),AND(EVEN($A88)=$A88,EVEN(CP$2)=CP$2)),CP$1,-100))","v":1715.625},{"$f":"IF('Ceiling Speaker Calculator'!$C$29=\"Square\",CQ$1,IF(OR(AND(ODD($A88)=$A88,ODD(CQ$2)=CQ$2),AND(EVEN($A88)=$A88,EVEN(CQ$2)=CQ$2)),CQ$1,-100))","v":1734.375},{"$f":"IF('Ceiling Speaker Calculator'!$C$29=\"Square\",CR$1,IF(OR(AND(ODD($A88)=$A88,ODD(CR$2)=CR$2),AND(EVEN($A88)=$A88,EVEN(CR$2)=CR$2)),CR$1,-100))","v":1753.125},{"$f":"IF('Ceiling Speaker Calculator'!$C$29=\"Square\",CS$1,IF(OR(AND(ODD($A88)=$A88,ODD(CS$2)=CS$2),AND(EVEN($A88)=$A88,EVEN(CS$2)=CS$2)),CS$1,-100))","v":1771.875},{"$f":"IF('Ceiling Speaker Calculator'!$C$29=\"Square\",CT$1,IF(OR(AND(ODD($A88)=$A88,ODD(CT$2)=CT$2),AND(EVEN($A88)=$A88,EVEN(CT$2)=CT$2)),CT$1,-100))","v":1790.625},{"$f":"IF('Ceiling Speaker Calculator'!$C$29=\"Square\",CU$1,IF(OR(AND(ODD($A88)=$A88,ODD(CU$2)=CU$2),AND(EVEN($A88)=$A88,EVEN(CU$2)=CU$2)),CU$1,-100))","v":1809.375},{"$f":"IF('Ceiling Speaker Calculator'!$C$29=\"Square\",CV$1,IF(OR(AND(ODD($A88)=$A88,ODD(CV$2)=CV$2),AND(EVEN($A88)=$A88,EVEN(CV$2)=CV$2)),CV$1,-100))","v":1828.125},{"$f":"IF('Ceiling Speaker Calculator'!$C$29=\"Square\",CW$1,IF(OR(AND(ODD($A88)=$A88,ODD(CW$2)=CW$2),AND(EVEN($A88)=$A88,EVEN(CW$2)=CW$2)),CW$1,-100))","v":1846.875},{"$f":"IF('Ceiling Speaker Calculator'!$C$29=\"Square\",CX$1,IF(OR(AND(ODD($A88)=$A88,ODD(CX$2)=CX$2),AND(EVEN($A88)=$A88,EVEN(CX$2)=CX$2)),CX$1,-100))","v":1865.625}]
[87,{"$f":"B88+'Ceiling Speaker Calculator'!$K$16","v":1730},{"$f":"IF('Ceiling Speaker Calculator'!$C$29=\"Square\",C$1,IF(OR(AND(ODD($A89)=$A89,ODD(C$2)=C$2),AND(EVEN($A89)=$A89,EVEN(C$2)=C$2)),C$1,-100))","v":9.375},{"$f":"IF('Ceiling Speaker Calculator'!$C$29=\"Square\",D$1,IF(OR(AND(ODD($A89)=$A89,ODD(D$2)=D$2),AND(EVEN($A89)=$A89,EVEN(D$2)=D$2)),D$1,-100))","v":28.125},{"$f":"IF('Ceiling Speaker Calculator'!$C$29=\"Square\",E$1,IF(OR(AND(ODD($A89)=$A89,ODD(E$2)=E$2),AND(EVEN($A89)=$A89,EVEN(E$2)=E$2)),E$1,-100))","v":46.875},{"$f":"IF('Ceiling Speaker Calculator'!$C$29=\"Square\",F$1,IF(OR(AND(ODD($A89)=$A89,ODD(F$2)=F$2),AND(EVEN($A89)=$A89,EVEN(F$2)=F$2)),F$1,-100))","v":65.625},{"$f":"IF('Ceiling Speaker Calculator'!$C$29=\"Square\",G$1,IF(OR(AND(ODD($A89)=$A89,ODD(G$2)=G$2),AND(EVEN($A89)=$A89,EVEN(G$2)=G$2)),G$1,-100))","v":84.375},{"$f":"IF('Ceiling Speaker Calculator'!$C$29=\"Square\",H$1,IF(OR(AND(ODD($A89)=$A89,ODD(H$2)=H$2),AND(EVEN($A89)=$A89,EVEN(H$2)=H$2)),H$1,-100))","v":103.125},{"$f":"IF('Ceiling Speaker Calculator'!$C$29=\"Square\",I$1,IF(OR(AND(ODD($A89)=$A89,ODD(I$2)=I$2),AND(EVEN($A89)=$A89,EVEN(I$2)=I$2)),I$1,-100))","v":121.875},{"$f":"IF('Ceiling Speaker Calculator'!$C$29=\"Square\",J$1,IF(OR(AND(ODD($A89)=$A89,ODD(J$2)=J$2),AND(EVEN($A89)=$A89,EVEN(J$2)=J$2)),J$1,-100))","v":140.625},{"$f":"IF('Ceiling Speaker Calculator'!$C$29=\"Square\",K$1,IF(OR(AND(ODD($A89)=$A89,ODD(K$2)=K$2),AND(EVEN($A89)=$A89,EVEN(K$2)=K$2)),K$1,-100))","v":159.375},{"$f":"IF('Ceiling Speaker Calculator'!$C$29=\"Square\",L$1,IF(OR(AND(ODD($A89)=$A89,ODD(L$2)=L$2),AND(EVEN($A89)=$A89,EVEN(L$2)=L$2)),L$1,-100))","v":178.125},{"$f":"IF('Ceiling Speaker Calculator'!$C$29=\"Square\",M$1,IF(OR(AND(ODD($A89)=$A89,ODD(M$2)=M$2),AND(EVEN($A89)=$A89,EVEN(M$2)=M$2)),M$1,-100))","v":196.875},{"$f":"IF('Ceiling Speaker Calculator'!$C$29=\"Square\",N$1,IF(OR(AND(ODD($A89)=$A89,ODD(N$2)=N$2),AND(EVEN($A89)=$A89,EVEN(N$2)=N$2)),N$1,-100))","v":215.625},{"$f":"IF('Ceiling Speaker Calculator'!$C$29=\"Square\",O$1,IF(OR(AND(ODD($A89)=$A89,ODD(O$2)=O$2),AND(EVEN($A89)=$A89,EVEN(O$2)=O$2)),O$1,-100))","v":234.375},{"$f":"IF('Ceiling Speaker Calculator'!$C$29=\"Square\",P$1,IF(OR(AND(ODD($A89)=$A89,ODD(P$2)=P$2),AND(EVEN($A89)=$A89,EVEN(P$2)=P$2)),P$1,-100))","v":253.125},{"$f":"IF('Ceiling Speaker Calculator'!$C$29=\"Square\",Q$1,IF(OR(AND(ODD($A89)=$A89,ODD(Q$2)=Q$2),AND(EVEN($A89)=$A89,EVEN(Q$2)=Q$2)),Q$1,-100))","v":271.875},{"$f":"IF('Ceiling Speaker Calculator'!$C$29=\"Square\",R$1,IF(OR(AND(ODD($A89)=$A89,ODD(R$2)=R$2),AND(EVEN($A89)=$A89,EVEN(R$2)=R$2)),R$1,-100))","v":290.625},{"$f":"IF('Ceiling Speaker Calculator'!$C$29=\"Square\",S$1,IF(OR(AND(ODD($A89)=$A89,ODD(S$2)=S$2),AND(EVEN($A89)=$A89,EVEN(S$2)=S$2)),S$1,-100))","v":309.375},{"$f":"IF('Ceiling Speaker Calculator'!$C$29=\"Square\",T$1,IF(OR(AND(ODD($A89)=$A89,ODD(T$2)=T$2),AND(EVEN($A89)=$A89,EVEN(T$2)=T$2)),T$1,-100))","v":328.125},{"$f":"IF('Ceiling Speaker Calculator'!$C$29=\"Square\",U$1,IF(OR(AND(ODD($A89)=$A89,ODD(U$2)=U$2),AND(EVEN($A89)=$A89,EVEN(U$2)=U$2)),U$1,-100))","v":346.875},{"$f":"IF('Ceiling Speaker Calculator'!$C$29=\"Square\",V$1,IF(OR(AND(ODD($A89)=$A89,ODD(V$2)=V$2),AND(EVEN($A89)=$A89,EVEN(V$2)=V$2)),V$1,-100))","v":365.625},{"$f":"IF('Ceiling Speaker Calculator'!$C$29=\"Square\",W$1,IF(OR(AND(ODD($A89)=$A89,ODD(W$2)=W$2),AND(EVEN($A89)=$A89,EVEN(W$2)=W$2)),W$1,-100))","v":384.375},{"$f":"IF('Ceiling Speaker Calculator'!$C$29=\"Square\",X$1,IF(OR(AND(ODD($A89)=$A89,ODD(X$2)=X$2),AND(EVEN($A89)=$A89,EVEN(X$2)=X$2)),X$1,-100))","v":403.125},{"$f":"IF('Ceiling Speaker Calculator'!$C$29=\"Square\",Y$1,IF(OR(AND(ODD($A89)=$A89,ODD(Y$2)=Y$2),AND(EVEN($A89)=$A89,EVEN(Y$2)=Y$2)),Y$1,-100))","v":421.875},{"$f":"IF('Ceiling Speaker Calculator'!$C$29=\"Square\",Z$1,IF(OR(AND(ODD($A89)=$A89,ODD(Z$2)=Z$2),AND(EVEN($A89)=$A89,EVEN(Z$2)=Z$2)),Z$1,-100))","v":440.625},{"$f":"IF('Ceiling Speaker Calculator'!$C$29=\"Square\",AA$1,IF(OR(AND(ODD($A89)=$A89,ODD(AA$2)=AA$2),AND(EVEN($A89)=$A89,EVEN(AA$2)=AA$2)),AA$1,-100))","v":459.375},{"$f":"IF('Ceiling Speaker Calculator'!$C$29=\"Square\",AB$1,IF(OR(AND(ODD($A89)=$A89,ODD(AB$2)=AB$2),AND(EVEN($A89)=$A89,EVEN(AB$2)=AB$2)),AB$1,-100))","v":478.125},{"$f":"IF('Ceiling Speaker Calculator'!$C$29=\"Square\",AC$1,IF(OR(AND(ODD($A89)=$A89,ODD(AC$2)=AC$2),AND(EVEN($A89)=$A89,EVEN(AC$2)=AC$2)),AC$1,-100))","v":496.875},{"$f":"IF('Ceiling Speaker Calculator'!$C$29=\"Square\",AD$1,IF(OR(AND(ODD($A89)=$A89,ODD(AD$2)=AD$2),AND(EVEN($A89)=$A89,EVEN(AD$2)=AD$2)),AD$1,-100))","v":515.625},{"$f":"IF('Ceiling Speaker Calculator'!$C$29=\"Square\",AE$1,IF(OR(AND(ODD($A89)=$A89,ODD(AE$2)=AE$2),AND(EVEN($A89)=$A89,EVEN(AE$2)=AE$2)),AE$1,-100))","v":534.375},{"$f":"IF('Ceiling Speaker Calculator'!$C$29=\"Square\",AF$1,IF(OR(AND(ODD($A89)=$A89,ODD(AF$2)=AF$2),AND(EVEN($A89)=$A89,EVEN(AF$2)=AF$2)),AF$1,-100))","v":553.125},{"$f":"IF('Ceiling Speaker Calculator'!$C$29=\"Square\",AG$1,IF(OR(AND(ODD($A89)=$A89,ODD(AG$2)=AG$2),AND(EVEN($A89)=$A89,EVEN(AG$2)=AG$2)),AG$1,-100))","v":571.875},{"$f":"IF('Ceiling Speaker Calculator'!$C$29=\"Square\",AH$1,IF(OR(AND(ODD($A89)=$A89,ODD(AH$2)=AH$2),AND(EVEN($A89)=$A89,EVEN(AH$2)=AH$2)),AH$1,-100))","v":590.625},{"$f":"IF('Ceiling Speaker Calculator'!$C$29=\"Square\",AI$1,IF(OR(AND(ODD($A89)=$A89,ODD(AI$2)=AI$2),AND(EVEN($A89)=$A89,EVEN(AI$2)=AI$2)),AI$1,-100))","v":609.375},{"$f":"IF('Ceiling Speaker Calculator'!$C$29=\"Square\",AJ$1,IF(OR(AND(ODD($A89)=$A89,ODD(AJ$2)=AJ$2),AND(EVEN($A89)=$A89,EVEN(AJ$2)=AJ$2)),AJ$1,-100))","v":628.125},{"$f":"IF('Ceiling Speaker Calculator'!$C$29=\"Square\",AK$1,IF(OR(AND(ODD($A89)=$A89,ODD(AK$2)=AK$2),AND(EVEN($A89)=$A89,EVEN(AK$2)=AK$2)),AK$1,-100))","v":646.875},{"$f":"IF('Ceiling Speaker Calculator'!$C$29=\"Square\",AL$1,IF(OR(AND(ODD($A89)=$A89,ODD(AL$2)=AL$2),AND(EVEN($A89)=$A89,EVEN(AL$2)=AL$2)),AL$1,-100))","v":665.625},{"$f":"IF('Ceiling Speaker Calculator'!$C$29=\"Square\",AM$1,IF(OR(AND(ODD($A89)=$A89,ODD(AM$2)=AM$2),AND(EVEN($A89)=$A89,EVEN(AM$2)=AM$2)),AM$1,-100))","v":684.375},{"$f":"IF('Ceiling Speaker Calculator'!$C$29=\"Square\",AN$1,IF(OR(AND(ODD($A89)=$A89,ODD(AN$2)=AN$2),AND(EVEN($A89)=$A89,EVEN(AN$2)=AN$2)),AN$1,-100))","v":703.125},{"$f":"IF('Ceiling Speaker Calculator'!$C$29=\"Square\",AO$1,IF(OR(AND(ODD($A89)=$A89,ODD(AO$2)=AO$2),AND(EVEN($A89)=$A89,EVEN(AO$2)=AO$2)),AO$1,-100))","v":721.875},{"$f":"IF('Ceiling Speaker Calculator'!$C$29=\"Square\",AP$1,IF(OR(AND(ODD($A89)=$A89,ODD(AP$2)=AP$2),AND(EVEN($A89)=$A89,EVEN(AP$2)=AP$2)),AP$1,-100))","v":740.625},{"$f":"IF('Ceiling Speaker Calculator'!$C$29=\"Square\",AQ$1,IF(OR(AND(ODD($A89)=$A89,ODD(AQ$2)=AQ$2),AND(EVEN($A89)=$A89,EVEN(AQ$2)=AQ$2)),AQ$1,-100))","v":759.375},{"$f":"IF('Ceiling Speaker Calculator'!$C$29=\"Square\",AR$1,IF(OR(AND(ODD($A89)=$A89,ODD(AR$2)=AR$2),AND(EVEN($A89)=$A89,EVEN(AR$2)=AR$2)),AR$1,-100))","v":778.125},{"$f":"IF('Ceiling Speaker Calculator'!$C$29=\"Square\",AS$1,IF(OR(AND(ODD($A89)=$A89,ODD(AS$2)=AS$2),AND(EVEN($A89)=$A89,EVEN(AS$2)=AS$2)),AS$1,-100))","v":796.875},{"$f":"IF('Ceiling Speaker Calculator'!$C$29=\"Square\",AT$1,IF(OR(AND(ODD($A89)=$A89,ODD(AT$2)=AT$2),AND(EVEN($A89)=$A89,EVEN(AT$2)=AT$2)),AT$1,-100))","v":815.625},{"$f":"IF('Ceiling Speaker Calculator'!$C$29=\"Square\",AU$1,IF(OR(AND(ODD($A89)=$A89,ODD(AU$2)=AU$2),AND(EVEN($A89)=$A89,EVEN(AU$2)=AU$2)),AU$1,-100))","v":834.375},{"$f":"IF('Ceiling Speaker Calculator'!$C$29=\"Square\",AV$1,IF(OR(AND(ODD($A89)=$A89,ODD(AV$2)=AV$2),AND(EVEN($A89)=$A89,EVEN(AV$2)=AV$2)),AV$1,-100))","v":853.125},{"$f":"IF('Ceiling Speaker Calculator'!$C$29=\"Square\",AW$1,IF(OR(AND(ODD($A89)=$A89,ODD(AW$2)=AW$2),AND(EVEN($A89)=$A89,EVEN(AW$2)=AW$2)),AW$1,-100))","v":871.875},{"$f":"IF('Ceiling Speaker Calculator'!$C$29=\"Square\",AX$1,IF(OR(AND(ODD($A89)=$A89,ODD(AX$2)=AX$2),AND(EVEN($A89)=$A89,EVEN(AX$2)=AX$2)),AX$1,-100))","v":890.625},{"$f":"IF('Ceiling Speaker Calculator'!$C$29=\"Square\",AY$1,IF(OR(AND(ODD($A89)=$A89,ODD(AY$2)=AY$2),AND(EVEN($A89)=$A89,EVEN(AY$2)=AY$2)),AY$1,-100))","v":909.375},{"$f":"IF('Ceiling Speaker Calculator'!$C$29=\"Square\",AZ$1,IF(OR(AND(ODD($A89)=$A89,ODD(AZ$2)=AZ$2),AND(EVEN($A89)=$A89,EVEN(AZ$2)=AZ$2)),AZ$1,-100))","v":928.125},{"$f":"IF('Ceiling Speaker Calculator'!$C$29=\"Square\",BA$1,IF(OR(AND(ODD($A89)=$A89,ODD(BA$2)=BA$2),AND(EVEN($A89)=$A89,EVEN(BA$2)=BA$2)),BA$1,-100))","v":946.875},{"$f":"IF('Ceiling Speaker Calculator'!$C$29=\"Square\",BB$1,IF(OR(AND(ODD($A89)=$A89,ODD(BB$2)=BB$2),AND(EVEN($A89)=$A89,EVEN(BB$2)=BB$2)),BB$1,-100))","v":965.625},{"$f":"IF('Ceiling Speaker Calculator'!$C$29=\"Square\",BC$1,IF(OR(AND(ODD($A89)=$A89,ODD(BC$2)=BC$2),AND(EVEN($A89)=$A89,EVEN(BC$2)=BC$2)),BC$1,-100))","v":984.375},{"$f":"IF('Ceiling Speaker Calculator'!$C$29=\"Square\",BD$1,IF(OR(AND(ODD($A89)=$A89,ODD(BD$2)=BD$2),AND(EVEN($A89)=$A89,EVEN(BD$2)=BD$2)),BD$1,-100))","v":1003.125},{"$f":"IF('Ceiling Speaker Calculator'!$C$29=\"Square\",BE$1,IF(OR(AND(ODD($A89)=$A89,ODD(BE$2)=BE$2),AND(EVEN($A89)=$A89,EVEN(BE$2)=BE$2)),BE$1,-100))","v":1021.875},{"$f":"IF('Ceiling Speaker Calculator'!$C$29=\"Square\",BF$1,IF(OR(AND(ODD($A89)=$A89,ODD(BF$2)=BF$2),AND(EVEN($A89)=$A89,EVEN(BF$2)=BF$2)),BF$1,-100))","v":1040.625},{"$f":"IF('Ceiling Speaker Calculator'!$C$29=\"Square\",BG$1,IF(OR(AND(ODD($A89)=$A89,ODD(BG$2)=BG$2),AND(EVEN($A89)=$A89,EVEN(BG$2)=BG$2)),BG$1,-100))","v":1059.375},{"$f":"IF('Ceiling Speaker Calculator'!$C$29=\"Square\",BH$1,IF(OR(AND(ODD($A89)=$A89,ODD(BH$2)=BH$2),AND(EVEN($A89)=$A89,EVEN(BH$2)=BH$2)),BH$1,-100))","v":1078.125},{"$f":"IF('Ceiling Speaker Calculator'!$C$29=\"Square\",BI$1,IF(OR(AND(ODD($A89)=$A89,ODD(BI$2)=BI$2),AND(EVEN($A89)=$A89,EVEN(BI$2)=BI$2)),BI$1,-100))","v":1096.875},{"$f":"IF('Ceiling Speaker Calculator'!$C$29=\"Square\",BJ$1,IF(OR(AND(ODD($A89)=$A89,ODD(BJ$2)=BJ$2),AND(EVEN($A89)=$A89,EVEN(BJ$2)=BJ$2)),BJ$1,-100))","v":1115.625},{"$f":"IF('Ceiling Speaker Calculator'!$C$29=\"Square\",BK$1,IF(OR(AND(ODD($A89)=$A89,ODD(BK$2)=BK$2),AND(EVEN($A89)=$A89,EVEN(BK$2)=BK$2)),BK$1,-100))","v":1134.375},{"$f":"IF('Ceiling Speaker Calculator'!$C$29=\"Square\",BL$1,IF(OR(AND(ODD($A89)=$A89,ODD(BL$2)=BL$2),AND(EVEN($A89)=$A89,EVEN(BL$2)=BL$2)),BL$1,-100))","v":1153.125},{"$f":"IF('Ceiling Speaker Calculator'!$C$29=\"Square\",BM$1,IF(OR(AND(ODD($A89)=$A89,ODD(BM$2)=BM$2),AND(EVEN($A89)=$A89,EVEN(BM$2)=BM$2)),BM$1,-100))","v":1171.875},{"$f":"IF('Ceiling Speaker Calculator'!$C$29=\"Square\",BN$1,IF(OR(AND(ODD($A89)=$A89,ODD(BN$2)=BN$2),AND(EVEN($A89)=$A89,EVEN(BN$2)=BN$2)),BN$1,-100))","v":1190.625},{"$f":"IF('Ceiling Speaker Calculator'!$C$29=\"Square\",BO$1,IF(OR(AND(ODD($A89)=$A89,ODD(BO$2)=BO$2),AND(EVEN($A89)=$A89,EVEN(BO$2)=BO$2)),BO$1,-100))","v":1209.375},{"$f":"IF('Ceiling Speaker Calculator'!$C$29=\"Square\",BP$1,IF(OR(AND(ODD($A89)=$A89,ODD(BP$2)=BP$2),AND(EVEN($A89)=$A89,EVEN(BP$2)=BP$2)),BP$1,-100))","v":1228.125},{"$f":"IF('Ceiling Speaker Calculator'!$C$29=\"Square\",BQ$1,IF(OR(AND(ODD($A89)=$A89,ODD(BQ$2)=BQ$2),AND(EVEN($A89)=$A89,EVEN(BQ$2)=BQ$2)),BQ$1,-100))","v":1246.875},{"$f":"IF('Ceiling Speaker Calculator'!$C$29=\"Square\",BR$1,IF(OR(AND(ODD($A89)=$A89,ODD(BR$2)=BR$2),AND(EVEN($A89)=$A89,EVEN(BR$2)=BR$2)),BR$1,-100))","v":1265.625},{"$f":"IF('Ceiling Speaker Calculator'!$C$29=\"Square\",BS$1,IF(OR(AND(ODD($A89)=$A89,ODD(BS$2)=BS$2),AND(EVEN($A89)=$A89,EVEN(BS$2)=BS$2)),BS$1,-100))","v":1284.375},{"$f":"IF('Ceiling Speaker Calculator'!$C$29=\"Square\",BT$1,IF(OR(AND(ODD($A89)=$A89,ODD(BT$2)=BT$2),AND(EVEN($A89)=$A89,EVEN(BT$2)=BT$2)),BT$1,-100))","v":1303.125},{"$f":"IF('Ceiling Speaker Calculator'!$C$29=\"Square\",BU$1,IF(OR(AND(ODD($A89)=$A89,ODD(BU$2)=BU$2),AND(EVEN($A89)=$A89,EVEN(BU$2)=BU$2)),BU$1,-100))","v":1321.875},{"$f":"IF('Ceiling Speaker Calculator'!$C$29=\"Square\",BV$1,IF(OR(AND(ODD($A89)=$A89,ODD(BV$2)=BV$2),AND(EVEN($A89)=$A89,EVEN(BV$2)=BV$2)),BV$1,-100))","v":1340.625},{"$f":"IF('Ceiling Speaker Calculator'!$C$29=\"Square\",BW$1,IF(OR(AND(ODD($A89)=$A89,ODD(BW$2)=BW$2),AND(EVEN($A89)=$A89,EVEN(BW$2)=BW$2)),BW$1,-100))","v":1359.375},{"$f":"IF('Ceiling Speaker Calculator'!$C$29=\"Square\",BX$1,IF(OR(AND(ODD($A89)=$A89,ODD(BX$2)=BX$2),AND(EVEN($A89)=$A89,EVEN(BX$2)=BX$2)),BX$1,-100))","v":1378.125},{"$f":"IF('Ceiling Speaker Calculator'!$C$29=\"Square\",BY$1,IF(OR(AND(ODD($A89)=$A89,ODD(BY$2)=BY$2),AND(EVEN($A89)=$A89,EVEN(BY$2)=BY$2)),BY$1,-100))","v":1396.875},{"$f":"IF('Ceiling Speaker Calculator'!$C$29=\"Square\",BZ$1,IF(OR(AND(ODD($A89)=$A89,ODD(BZ$2)=BZ$2),AND(EVEN($A89)=$A89,EVEN(BZ$2)=BZ$2)),BZ$1,-100))","v":1415.625},{"$f":"IF('Ceiling Speaker Calculator'!$C$29=\"Square\",CA$1,IF(OR(AND(ODD($A89)=$A89,ODD(CA$2)=CA$2),AND(EVEN($A89)=$A89,EVEN(CA$2)=CA$2)),CA$1,-100))","v":1434.375},{"$f":"IF('Ceiling Speaker Calculator'!$C$29=\"Square\",CB$1,IF(OR(AND(ODD($A89)=$A89,ODD(CB$2)=CB$2),AND(EVEN($A89)=$A89,EVEN(CB$2)=CB$2)),CB$1,-100))","v":1453.125},{"$f":"IF('Ceiling Speaker Calculator'!$C$29=\"Square\",CC$1,IF(OR(AND(ODD($A89)=$A89,ODD(CC$2)=CC$2),AND(EVEN($A89)=$A89,EVEN(CC$2)=CC$2)),CC$1,-100))","v":1471.875},{"$f":"IF('Ceiling Speaker Calculator'!$C$29=\"Square\",CD$1,IF(OR(AND(ODD($A89)=$A89,ODD(CD$2)=CD$2),AND(EVEN($A89)=$A89,EVEN(CD$2)=CD$2)),CD$1,-100))","v":1490.625},{"$f":"IF('Ceiling Speaker Calculator'!$C$29=\"Square\",CE$1,IF(OR(AND(ODD($A89)=$A89,ODD(CE$2)=CE$2),AND(EVEN($A89)=$A89,EVEN(CE$2)=CE$2)),CE$1,-100))","v":1509.375},{"$f":"IF('Ceiling Speaker Calculator'!$C$29=\"Square\",CF$1,IF(OR(AND(ODD($A89)=$A89,ODD(CF$2)=CF$2),AND(EVEN($A89)=$A89,EVEN(CF$2)=CF$2)),CF$1,-100))","v":1528.125},{"$f":"IF('Ceiling Speaker Calculator'!$C$29=\"Square\",CG$1,IF(OR(AND(ODD($A89)=$A89,ODD(CG$2)=CG$2),AND(EVEN($A89)=$A89,EVEN(CG$2)=CG$2)),CG$1,-100))","v":1546.875},{"$f":"IF('Ceiling Speaker Calculator'!$C$29=\"Square\",CH$1,IF(OR(AND(ODD($A89)=$A89,ODD(CH$2)=CH$2),AND(EVEN($A89)=$A89,EVEN(CH$2)=CH$2)),CH$1,-100))","v":1565.625},{"$f":"IF('Ceiling Speaker Calculator'!$C$29=\"Square\",CI$1,IF(OR(AND(ODD($A89)=$A89,ODD(CI$2)=CI$2),AND(EVEN($A89)=$A89,EVEN(CI$2)=CI$2)),CI$1,-100))","v":1584.375},{"$f":"IF('Ceiling Speaker Calculator'!$C$29=\"Square\",CJ$1,IF(OR(AND(ODD($A89)=$A89,ODD(CJ$2)=CJ$2),AND(EVEN($A89)=$A89,EVEN(CJ$2)=CJ$2)),CJ$1,-100))","v":1603.125},{"$f":"IF('Ceiling Speaker Calculator'!$C$29=\"Square\",CK$1,IF(OR(AND(ODD($A89)=$A89,ODD(CK$2)=CK$2),AND(EVEN($A89)=$A89,EVEN(CK$2)=CK$2)),CK$1,-100))","v":1621.875},{"$f":"IF('Ceiling Speaker Calculator'!$C$29=\"Square\",CL$1,IF(OR(AND(ODD($A89)=$A89,ODD(CL$2)=CL$2),AND(EVEN($A89)=$A89,EVEN(CL$2)=CL$2)),CL$1,-100))","v":1640.625},{"$f":"IF('Ceiling Speaker Calculator'!$C$29=\"Square\",CM$1,IF(OR(AND(ODD($A89)=$A89,ODD(CM$2)=CM$2),AND(EVEN($A89)=$A89,EVEN(CM$2)=CM$2)),CM$1,-100))","v":1659.375},{"$f":"IF('Ceiling Speaker Calculator'!$C$29=\"Square\",CN$1,IF(OR(AND(ODD($A89)=$A89,ODD(CN$2)=CN$2),AND(EVEN($A89)=$A89,EVEN(CN$2)=CN$2)),CN$1,-100))","v":1678.125},{"$f":"IF('Ceiling Speaker Calculator'!$C$29=\"Square\",CO$1,IF(OR(AND(ODD($A89)=$A89,ODD(CO$2)=CO$2),AND(EVEN($A89)=$A89,EVEN(CO$2)=CO$2)),CO$1,-100))","v":1696.875},{"$f":"IF('Ceiling Speaker Calculator'!$C$29=\"Square\",CP$1,IF(OR(AND(ODD($A89)=$A89,ODD(CP$2)=CP$2),AND(EVEN($A89)=$A89,EVEN(CP$2)=CP$2)),CP$1,-100))","v":1715.625},{"$f":"IF('Ceiling Speaker Calculator'!$C$29=\"Square\",CQ$1,IF(OR(AND(ODD($A89)=$A89,ODD(CQ$2)=CQ$2),AND(EVEN($A89)=$A89,EVEN(CQ$2)=CQ$2)),CQ$1,-100))","v":1734.375},{"$f":"IF('Ceiling Speaker Calculator'!$C$29=\"Square\",CR$1,IF(OR(AND(ODD($A89)=$A89,ODD(CR$2)=CR$2),AND(EVEN($A89)=$A89,EVEN(CR$2)=CR$2)),CR$1,-100))","v":1753.125},{"$f":"IF('Ceiling Speaker Calculator'!$C$29=\"Square\",CS$1,IF(OR(AND(ODD($A89)=$A89,ODD(CS$2)=CS$2),AND(EVEN($A89)=$A89,EVEN(CS$2)=CS$2)),CS$1,-100))","v":1771.875},{"$f":"IF('Ceiling Speaker Calculator'!$C$29=\"Square\",CT$1,IF(OR(AND(ODD($A89)=$A89,ODD(CT$2)=CT$2),AND(EVEN($A89)=$A89,EVEN(CT$2)=CT$2)),CT$1,-100))","v":1790.625},{"$f":"IF('Ceiling Speaker Calculator'!$C$29=\"Square\",CU$1,IF(OR(AND(ODD($A89)=$A89,ODD(CU$2)=CU$2),AND(EVEN($A89)=$A89,EVEN(CU$2)=CU$2)),CU$1,-100))","v":1809.375},{"$f":"IF('Ceiling Speaker Calculator'!$C$29=\"Square\",CV$1,IF(OR(AND(ODD($A89)=$A89,ODD(CV$2)=CV$2),AND(EVEN($A89)=$A89,EVEN(CV$2)=CV$2)),CV$1,-100))","v":1828.125},{"$f":"IF('Ceiling Speaker Calculator'!$C$29=\"Square\",CW$1,IF(OR(AND(ODD($A89)=$A89,ODD(CW$2)=CW$2),AND(EVEN($A89)=$A89,EVEN(CW$2)=CW$2)),CW$1,-100))","v":1846.875},{"$f":"IF('Ceiling Speaker Calculator'!$C$29=\"Square\",CX$1,IF(OR(AND(ODD($A89)=$A89,ODD(CX$2)=CX$2),AND(EVEN($A89)=$A89,EVEN(CX$2)=CX$2)),CX$1,-100))","v":1865.625}]
[88,{"$f":"B89+'Ceiling Speaker Calculator'!$K$16","v":1750},{"$f":"IF('Ceiling Speaker Calculator'!$C$29=\"Square\",C$1,IF(OR(AND(ODD($A90)=$A90,ODD(C$2)=C$2),AND(EVEN($A90)=$A90,EVEN(C$2)=C$2)),C$1,-100))","v":9.375},{"$f":"IF('Ceiling Speaker Calculator'!$C$29=\"Square\",D$1,IF(OR(AND(ODD($A90)=$A90,ODD(D$2)=D$2),AND(EVEN($A90)=$A90,EVEN(D$2)=D$2)),D$1,-100))","v":28.125},{"$f":"IF('Ceiling Speaker Calculator'!$C$29=\"Square\",E$1,IF(OR(AND(ODD($A90)=$A90,ODD(E$2)=E$2),AND(EVEN($A90)=$A90,EVEN(E$2)=E$2)),E$1,-100))","v":46.875},{"$f":"IF('Ceiling Speaker Calculator'!$C$29=\"Square\",F$1,IF(OR(AND(ODD($A90)=$A90,ODD(F$2)=F$2),AND(EVEN($A90)=$A90,EVEN(F$2)=F$2)),F$1,-100))","v":65.625},{"$f":"IF('Ceiling Speaker Calculator'!$C$29=\"Square\",G$1,IF(OR(AND(ODD($A90)=$A90,ODD(G$2)=G$2),AND(EVEN($A90)=$A90,EVEN(G$2)=G$2)),G$1,-100))","v":84.375},{"$f":"IF('Ceiling Speaker Calculator'!$C$29=\"Square\",H$1,IF(OR(AND(ODD($A90)=$A90,ODD(H$2)=H$2),AND(EVEN($A90)=$A90,EVEN(H$2)=H$2)),H$1,-100))","v":103.125},{"$f":"IF('Ceiling Speaker Calculator'!$C$29=\"Square\",I$1,IF(OR(AND(ODD($A90)=$A90,ODD(I$2)=I$2),AND(EVEN($A90)=$A90,EVEN(I$2)=I$2)),I$1,-100))","v":121.875},{"$f":"IF('Ceiling Speaker Calculator'!$C$29=\"Square\",J$1,IF(OR(AND(ODD($A90)=$A90,ODD(J$2)=J$2),AND(EVEN($A90)=$A90,EVEN(J$2)=J$2)),J$1,-100))","v":140.625},{"$f":"IF('Ceiling Speaker Calculator'!$C$29=\"Square\",K$1,IF(OR(AND(ODD($A90)=$A90,ODD(K$2)=K$2),AND(EVEN($A90)=$A90,EVEN(K$2)=K$2)),K$1,-100))","v":159.375},{"$f":"IF('Ceiling Speaker Calculator'!$C$29=\"Square\",L$1,IF(OR(AND(ODD($A90)=$A90,ODD(L$2)=L$2),AND(EVEN($A90)=$A90,EVEN(L$2)=L$2)),L$1,-100))","v":178.125},{"$f":"IF('Ceiling Speaker Calculator'!$C$29=\"Square\",M$1,IF(OR(AND(ODD($A90)=$A90,ODD(M$2)=M$2),AND(EVEN($A90)=$A90,EVEN(M$2)=M$2)),M$1,-100))","v":196.875},{"$f":"IF('Ceiling Speaker Calculator'!$C$29=\"Square\",N$1,IF(OR(AND(ODD($A90)=$A90,ODD(N$2)=N$2),AND(EVEN($A90)=$A90,EVEN(N$2)=N$2)),N$1,-100))","v":215.625},{"$f":"IF('Ceiling Speaker Calculator'!$C$29=\"Square\",O$1,IF(OR(AND(ODD($A90)=$A90,ODD(O$2)=O$2),AND(EVEN($A90)=$A90,EVEN(O$2)=O$2)),O$1,-100))","v":234.375},{"$f":"IF('Ceiling Speaker Calculator'!$C$29=\"Square\",P$1,IF(OR(AND(ODD($A90)=$A90,ODD(P$2)=P$2),AND(EVEN($A90)=$A90,EVEN(P$2)=P$2)),P$1,-100))","v":253.125},{"$f":"IF('Ceiling Speaker Calculator'!$C$29=\"Square\",Q$1,IF(OR(AND(ODD($A90)=$A90,ODD(Q$2)=Q$2),AND(EVEN($A90)=$A90,EVEN(Q$2)=Q$2)),Q$1,-100))","v":271.875},{"$f":"IF('Ceiling Speaker Calculator'!$C$29=\"Square\",R$1,IF(OR(AND(ODD($A90)=$A90,ODD(R$2)=R$2),AND(EVEN($A90)=$A90,EVEN(R$2)=R$2)),R$1,-100))","v":290.625},{"$f":"IF('Ceiling Speaker Calculator'!$C$29=\"Square\",S$1,IF(OR(AND(ODD($A90)=$A90,ODD(S$2)=S$2),AND(EVEN($A90)=$A90,EVEN(S$2)=S$2)),S$1,-100))","v":309.375},{"$f":"IF('Ceiling Speaker Calculator'!$C$29=\"Square\",T$1,IF(OR(AND(ODD($A90)=$A90,ODD(T$2)=T$2),AND(EVEN($A90)=$A90,EVEN(T$2)=T$2)),T$1,-100))","v":328.125},{"$f":"IF('Ceiling Speaker Calculator'!$C$29=\"Square\",U$1,IF(OR(AND(ODD($A90)=$A90,ODD(U$2)=U$2),AND(EVEN($A90)=$A90,EVEN(U$2)=U$2)),U$1,-100))","v":346.875},{"$f":"IF('Ceiling Speaker Calculator'!$C$29=\"Square\",V$1,IF(OR(AND(ODD($A90)=$A90,ODD(V$2)=V$2),AND(EVEN($A90)=$A90,EVEN(V$2)=V$2)),V$1,-100))","v":365.625},{"$f":"IF('Ceiling Speaker Calculator'!$C$29=\"Square\",W$1,IF(OR(AND(ODD($A90)=$A90,ODD(W$2)=W$2),AND(EVEN($A90)=$A90,EVEN(W$2)=W$2)),W$1,-100))","v":384.375},{"$f":"IF('Ceiling Speaker Calculator'!$C$29=\"Square\",X$1,IF(OR(AND(ODD($A90)=$A90,ODD(X$2)=X$2),AND(EVEN($A90)=$A90,EVEN(X$2)=X$2)),X$1,-100))","v":403.125},{"$f":"IF('Ceiling Speaker Calculator'!$C$29=\"Square\",Y$1,IF(OR(AND(ODD($A90)=$A90,ODD(Y$2)=Y$2),AND(EVEN($A90)=$A90,EVEN(Y$2)=Y$2)),Y$1,-100))","v":421.875},{"$f":"IF('Ceiling Speaker Calculator'!$C$29=\"Square\",Z$1,IF(OR(AND(ODD($A90)=$A90,ODD(Z$2)=Z$2),AND(EVEN($A90)=$A90,EVEN(Z$2)=Z$2)),Z$1,-100))","v":440.625},{"$f":"IF('Ceiling Speaker Calculator'!$C$29=\"Square\",AA$1,IF(OR(AND(ODD($A90)=$A90,ODD(AA$2)=AA$2),AND(EVEN($A90)=$A90,EVEN(AA$2)=AA$2)),AA$1,-100))","v":459.375},{"$f":"IF('Ceiling Speaker Calculator'!$C$29=\"Square\",AB$1,IF(OR(AND(ODD($A90)=$A90,ODD(AB$2)=AB$2),AND(EVEN($A90)=$A90,EVEN(AB$2)=AB$2)),AB$1,-100))","v":478.125},{"$f":"IF('Ceiling Speaker Calculator'!$C$29=\"Square\",AC$1,IF(OR(AND(ODD($A90)=$A90,ODD(AC$2)=AC$2),AND(EVEN($A90)=$A90,EVEN(AC$2)=AC$2)),AC$1,-100))","v":496.875},{"$f":"IF('Ceiling Speaker Calculator'!$C$29=\"Square\",AD$1,IF(OR(AND(ODD($A90)=$A90,ODD(AD$2)=AD$2),AND(EVEN($A90)=$A90,EVEN(AD$2)=AD$2)),AD$1,-100))","v":515.625},{"$f":"IF('Ceiling Speaker Calculator'!$C$29=\"Square\",AE$1,IF(OR(AND(ODD($A90)=$A90,ODD(AE$2)=AE$2),AND(EVEN($A90)=$A90,EVEN(AE$2)=AE$2)),AE$1,-100))","v":534.375},{"$f":"IF('Ceiling Speaker Calculator'!$C$29=\"Square\",AF$1,IF(OR(AND(ODD($A90)=$A90,ODD(AF$2)=AF$2),AND(EVEN($A90)=$A90,EVEN(AF$2)=AF$2)),AF$1,-100))","v":553.125},{"$f":"IF('Ceiling Speaker Calculator'!$C$29=\"Square\",AG$1,IF(OR(AND(ODD($A90)=$A90,ODD(AG$2)=AG$2),AND(EVEN($A90)=$A90,EVEN(AG$2)=AG$2)),AG$1,-100))","v":571.875},{"$f":"IF('Ceiling Speaker Calculator'!$C$29=\"Square\",AH$1,IF(OR(AND(ODD($A90)=$A90,ODD(AH$2)=AH$2),AND(EVEN($A90)=$A90,EVEN(AH$2)=AH$2)),AH$1,-100))","v":590.625},{"$f":"IF('Ceiling Speaker Calculator'!$C$29=\"Square\",AI$1,IF(OR(AND(ODD($A90)=$A90,ODD(AI$2)=AI$2),AND(EVEN($A90)=$A90,EVEN(AI$2)=AI$2)),AI$1,-100))","v":609.375},{"$f":"IF('Ceiling Speaker Calculator'!$C$29=\"Square\",AJ$1,IF(OR(AND(ODD($A90)=$A90,ODD(AJ$2)=AJ$2),AND(EVEN($A90)=$A90,EVEN(AJ$2)=AJ$2)),AJ$1,-100))","v":628.125},{"$f":"IF('Ceiling Speaker Calculator'!$C$29=\"Square\",AK$1,IF(OR(AND(ODD($A90)=$A90,ODD(AK$2)=AK$2),AND(EVEN($A90)=$A90,EVEN(AK$2)=AK$2)),AK$1,-100))","v":646.875},{"$f":"IF('Ceiling Speaker Calculator'!$C$29=\"Square\",AL$1,IF(OR(AND(ODD($A90)=$A90,ODD(AL$2)=AL$2),AND(EVEN($A90)=$A90,EVEN(AL$2)=AL$2)),AL$1,-100))","v":665.625},{"$f":"IF('Ceiling Speaker Calculator'!$C$29=\"Square\",AM$1,IF(OR(AND(ODD($A90)=$A90,ODD(AM$2)=AM$2),AND(EVEN($A90)=$A90,EVEN(AM$2)=AM$2)),AM$1,-100))","v":684.375},{"$f":"IF('Ceiling Speaker Calculator'!$C$29=\"Square\",AN$1,IF(OR(AND(ODD($A90)=$A90,ODD(AN$2)=AN$2),AND(EVEN($A90)=$A90,EVEN(AN$2)=AN$2)),AN$1,-100))","v":703.125},{"$f":"IF('Ceiling Speaker Calculator'!$C$29=\"Square\",AO$1,IF(OR(AND(ODD($A90)=$A90,ODD(AO$2)=AO$2),AND(EVEN($A90)=$A90,EVEN(AO$2)=AO$2)),AO$1,-100))","v":721.875},{"$f":"IF('Ceiling Speaker Calculator'!$C$29=\"Square\",AP$1,IF(OR(AND(ODD($A90)=$A90,ODD(AP$2)=AP$2),AND(EVEN($A90)=$A90,EVEN(AP$2)=AP$2)),AP$1,-100))","v":740.625},{"$f":"IF('Ceiling Speaker Calculator'!$C$29=\"Square\",AQ$1,IF(OR(AND(ODD($A90)=$A90,ODD(AQ$2)=AQ$2),AND(EVEN($A90)=$A90,EVEN(AQ$2)=AQ$2)),AQ$1,-100))","v":759.375},{"$f":"IF('Ceiling Speaker Calculator'!$C$29=\"Square\",AR$1,IF(OR(AND(ODD($A90)=$A90,ODD(AR$2)=AR$2),AND(EVEN($A90)=$A90,EVEN(AR$2)=AR$2)),AR$1,-100))","v":778.125},{"$f":"IF('Ceiling Speaker Calculator'!$C$29=\"Square\",AS$1,IF(OR(AND(ODD($A90)=$A90,ODD(AS$2)=AS$2),AND(EVEN($A90)=$A90,EVEN(AS$2)=AS$2)),AS$1,-100))","v":796.875},{"$f":"IF('Ceiling Speaker Calculator'!$C$29=\"Square\",AT$1,IF(OR(AND(ODD($A90)=$A90,ODD(AT$2)=AT$2),AND(EVEN($A90)=$A90,EVEN(AT$2)=AT$2)),AT$1,-100))","v":815.625},{"$f":"IF('Ceiling Speaker Calculator'!$C$29=\"Square\",AU$1,IF(OR(AND(ODD($A90)=$A90,ODD(AU$2)=AU$2),AND(EVEN($A90)=$A90,EVEN(AU$2)=AU$2)),AU$1,-100))","v":834.375},{"$f":"IF('Ceiling Speaker Calculator'!$C$29=\"Square\",AV$1,IF(OR(AND(ODD($A90)=$A90,ODD(AV$2)=AV$2),AND(EVEN($A90)=$A90,EVEN(AV$2)=AV$2)),AV$1,-100))","v":853.125},{"$f":"IF('Ceiling Speaker Calculator'!$C$29=\"Square\",AW$1,IF(OR(AND(ODD($A90)=$A90,ODD(AW$2)=AW$2),AND(EVEN($A90)=$A90,EVEN(AW$2)=AW$2)),AW$1,-100))","v":871.875},{"$f":"IF('Ceiling Speaker Calculator'!$C$29=\"Square\",AX$1,IF(OR(AND(ODD($A90)=$A90,ODD(AX$2)=AX$2),AND(EVEN($A90)=$A90,EVEN(AX$2)=AX$2)),AX$1,-100))","v":890.625},{"$f":"IF('Ceiling Speaker Calculator'!$C$29=\"Square\",AY$1,IF(OR(AND(ODD($A90)=$A90,ODD(AY$2)=AY$2),AND(EVEN($A90)=$A90,EVEN(AY$2)=AY$2)),AY$1,-100))","v":909.375},{"$f":"IF('Ceiling Speaker Calculator'!$C$29=\"Square\",AZ$1,IF(OR(AND(ODD($A90)=$A90,ODD(AZ$2)=AZ$2),AND(EVEN($A90)=$A90,EVEN(AZ$2)=AZ$2)),AZ$1,-100))","v":928.125},{"$f":"IF('Ceiling Speaker Calculator'!$C$29=\"Square\",BA$1,IF(OR(AND(ODD($A90)=$A90,ODD(BA$2)=BA$2),AND(EVEN($A90)=$A90,EVEN(BA$2)=BA$2)),BA$1,-100))","v":946.875},{"$f":"IF('Ceiling Speaker Calculator'!$C$29=\"Square\",BB$1,IF(OR(AND(ODD($A90)=$A90,ODD(BB$2)=BB$2),AND(EVEN($A90)=$A90,EVEN(BB$2)=BB$2)),BB$1,-100))","v":965.625},{"$f":"IF('Ceiling Speaker Calculator'!$C$29=\"Square\",BC$1,IF(OR(AND(ODD($A90)=$A90,ODD(BC$2)=BC$2),AND(EVEN($A90)=$A90,EVEN(BC$2)=BC$2)),BC$1,-100))","v":984.375},{"$f":"IF('Ceiling Speaker Calculator'!$C$29=\"Square\",BD$1,IF(OR(AND(ODD($A90)=$A90,ODD(BD$2)=BD$2),AND(EVEN($A90)=$A90,EVEN(BD$2)=BD$2)),BD$1,-100))","v":1003.125},{"$f":"IF('Ceiling Speaker Calculator'!$C$29=\"Square\",BE$1,IF(OR(AND(ODD($A90)=$A90,ODD(BE$2)=BE$2),AND(EVEN($A90)=$A90,EVEN(BE$2)=BE$2)),BE$1,-100))","v":1021.875},{"$f":"IF('Ceiling Speaker Calculator'!$C$29=\"Square\",BF$1,IF(OR(AND(ODD($A90)=$A90,ODD(BF$2)=BF$2),AND(EVEN($A90)=$A90,EVEN(BF$2)=BF$2)),BF$1,-100))","v":1040.625},{"$f":"IF('Ceiling Speaker Calculator'!$C$29=\"Square\",BG$1,IF(OR(AND(ODD($A90)=$A90,ODD(BG$2)=BG$2),AND(EVEN($A90)=$A90,EVEN(BG$2)=BG$2)),BG$1,-100))","v":1059.375},{"$f":"IF('Ceiling Speaker Calculator'!$C$29=\"Square\",BH$1,IF(OR(AND(ODD($A90)=$A90,ODD(BH$2)=BH$2),AND(EVEN($A90)=$A90,EVEN(BH$2)=BH$2)),BH$1,-100))","v":1078.125},{"$f":"IF('Ceiling Speaker Calculator'!$C$29=\"Square\",BI$1,IF(OR(AND(ODD($A90)=$A90,ODD(BI$2)=BI$2),AND(EVEN($A90)=$A90,EVEN(BI$2)=BI$2)),BI$1,-100))","v":1096.875},{"$f":"IF('Ceiling Speaker Calculator'!$C$29=\"Square\",BJ$1,IF(OR(AND(ODD($A90)=$A90,ODD(BJ$2)=BJ$2),AND(EVEN($A90)=$A90,EVEN(BJ$2)=BJ$2)),BJ$1,-100))","v":1115.625},{"$f":"IF('Ceiling Speaker Calculator'!$C$29=\"Square\",BK$1,IF(OR(AND(ODD($A90)=$A90,ODD(BK$2)=BK$2),AND(EVEN($A90)=$A90,EVEN(BK$2)=BK$2)),BK$1,-100))","v":1134.375},{"$f":"IF('Ceiling Speaker Calculator'!$C$29=\"Square\",BL$1,IF(OR(AND(ODD($A90)=$A90,ODD(BL$2)=BL$2),AND(EVEN($A90)=$A90,EVEN(BL$2)=BL$2)),BL$1,-100))","v":1153.125},{"$f":"IF('Ceiling Speaker Calculator'!$C$29=\"Square\",BM$1,IF(OR(AND(ODD($A90)=$A90,ODD(BM$2)=BM$2),AND(EVEN($A90)=$A90,EVEN(BM$2)=BM$2)),BM$1,-100))","v":1171.875},{"$f":"IF('Ceiling Speaker Calculator'!$C$29=\"Square\",BN$1,IF(OR(AND(ODD($A90)=$A90,ODD(BN$2)=BN$2),AND(EVEN($A90)=$A90,EVEN(BN$2)=BN$2)),BN$1,-100))","v":1190.625},{"$f":"IF('Ceiling Speaker Calculator'!$C$29=\"Square\",BO$1,IF(OR(AND(ODD($A90)=$A90,ODD(BO$2)=BO$2),AND(EVEN($A90)=$A90,EVEN(BO$2)=BO$2)),BO$1,-100))","v":1209.375},{"$f":"IF('Ceiling Speaker Calculator'!$C$29=\"Square\",BP$1,IF(OR(AND(ODD($A90)=$A90,ODD(BP$2)=BP$2),AND(EVEN($A90)=$A90,EVEN(BP$2)=BP$2)),BP$1,-100))","v":1228.125},{"$f":"IF('Ceiling Speaker Calculator'!$C$29=\"Square\",BQ$1,IF(OR(AND(ODD($A90)=$A90,ODD(BQ$2)=BQ$2),AND(EVEN($A90)=$A90,EVEN(BQ$2)=BQ$2)),BQ$1,-100))","v":1246.875},{"$f":"IF('Ceiling Speaker Calculator'!$C$29=\"Square\",BR$1,IF(OR(AND(ODD($A90)=$A90,ODD(BR$2)=BR$2),AND(EVEN($A90)=$A90,EVEN(BR$2)=BR$2)),BR$1,-100))","v":1265.625},{"$f":"IF('Ceiling Speaker Calculator'!$C$29=\"Square\",BS$1,IF(OR(AND(ODD($A90)=$A90,ODD(BS$2)=BS$2),AND(EVEN($A90)=$A90,EVEN(BS$2)=BS$2)),BS$1,-100))","v":1284.375},{"$f":"IF('Ceiling Speaker Calculator'!$C$29=\"Square\",BT$1,IF(OR(AND(ODD($A90)=$A90,ODD(BT$2)=BT$2),AND(EVEN($A90)=$A90,EVEN(BT$2)=BT$2)),BT$1,-100))","v":1303.125},{"$f":"IF('Ceiling Speaker Calculator'!$C$29=\"Square\",BU$1,IF(OR(AND(ODD($A90)=$A90,ODD(BU$2)=BU$2),AND(EVEN($A90)=$A90,EVEN(BU$2)=BU$2)),BU$1,-100))","v":1321.875},{"$f":"IF('Ceiling Speaker Calculator'!$C$29=\"Square\",BV$1,IF(OR(AND(ODD($A90)=$A90,ODD(BV$2)=BV$2),AND(EVEN($A90)=$A90,EVEN(BV$2)=BV$2)),BV$1,-100))","v":1340.625},{"$f":"IF('Ceiling Speaker Calculator'!$C$29=\"Square\",BW$1,IF(OR(AND(ODD($A90)=$A90,ODD(BW$2)=BW$2),AND(EVEN($A90)=$A90,EVEN(BW$2)=BW$2)),BW$1,-100))","v":1359.375},{"$f":"IF('Ceiling Speaker Calculator'!$C$29=\"Square\",BX$1,IF(OR(AND(ODD($A90)=$A90,ODD(BX$2)=BX$2),AND(EVEN($A90)=$A90,EVEN(BX$2)=BX$2)),BX$1,-100))","v":1378.125},{"$f":"IF('Ceiling Speaker Calculator'!$C$29=\"Square\",BY$1,IF(OR(AND(ODD($A90)=$A90,ODD(BY$2)=BY$2),AND(EVEN($A90)=$A90,EVEN(BY$2)=BY$2)),BY$1,-100))","v":1396.875},{"$f":"IF('Ceiling Speaker Calculator'!$C$29=\"Square\",BZ$1,IF(OR(AND(ODD($A90)=$A90,ODD(BZ$2)=BZ$2),AND(EVEN($A90)=$A90,EVEN(BZ$2)=BZ$2)),BZ$1,-100))","v":1415.625},{"$f":"IF('Ceiling Speaker Calculator'!$C$29=\"Square\",CA$1,IF(OR(AND(ODD($A90)=$A90,ODD(CA$2)=CA$2),AND(EVEN($A90)=$A90,EVEN(CA$2)=CA$2)),CA$1,-100))","v":1434.375},{"$f":"IF('Ceiling Speaker Calculator'!$C$29=\"Square\",CB$1,IF(OR(AND(ODD($A90)=$A90,ODD(CB$2)=CB$2),AND(EVEN($A90)=$A90,EVEN(CB$2)=CB$2)),CB$1,-100))","v":1453.125},{"$f":"IF('Ceiling Speaker Calculator'!$C$29=\"Square\",CC$1,IF(OR(AND(ODD($A90)=$A90,ODD(CC$2)=CC$2),AND(EVEN($A90)=$A90,EVEN(CC$2)=CC$2)),CC$1,-100))","v":1471.875},{"$f":"IF('Ceiling Speaker Calculator'!$C$29=\"Square\",CD$1,IF(OR(AND(ODD($A90)=$A90,ODD(CD$2)=CD$2),AND(EVEN($A90)=$A90,EVEN(CD$2)=CD$2)),CD$1,-100))","v":1490.625},{"$f":"IF('Ceiling Speaker Calculator'!$C$29=\"Square\",CE$1,IF(OR(AND(ODD($A90)=$A90,ODD(CE$2)=CE$2),AND(EVEN($A90)=$A90,EVEN(CE$2)=CE$2)),CE$1,-100))","v":1509.375},{"$f":"IF('Ceiling Speaker Calculator'!$C$29=\"Square\",CF$1,IF(OR(AND(ODD($A90)=$A90,ODD(CF$2)=CF$2),AND(EVEN($A90)=$A90,EVEN(CF$2)=CF$2)),CF$1,-100))","v":1528.125},{"$f":"IF('Ceiling Speaker Calculator'!$C$29=\"Square\",CG$1,IF(OR(AND(ODD($A90)=$A90,ODD(CG$2)=CG$2),AND(EVEN($A90)=$A90,EVEN(CG$2)=CG$2)),CG$1,-100))","v":1546.875},{"$f":"IF('Ceiling Speaker Calculator'!$C$29=\"Square\",CH$1,IF(OR(AND(ODD($A90)=$A90,ODD(CH$2)=CH$2),AND(EVEN($A90)=$A90,EVEN(CH$2)=CH$2)),CH$1,-100))","v":1565.625},{"$f":"IF('Ceiling Speaker Calculator'!$C$29=\"Square\",CI$1,IF(OR(AND(ODD($A90)=$A90,ODD(CI$2)=CI$2),AND(EVEN($A90)=$A90,EVEN(CI$2)=CI$2)),CI$1,-100))","v":1584.375},{"$f":"IF('Ceiling Speaker Calculator'!$C$29=\"Square\",CJ$1,IF(OR(AND(ODD($A90)=$A90,ODD(CJ$2)=CJ$2),AND(EVEN($A90)=$A90,EVEN(CJ$2)=CJ$2)),CJ$1,-100))","v":1603.125},{"$f":"IF('Ceiling Speaker Calculator'!$C$29=\"Square\",CK$1,IF(OR(AND(ODD($A90)=$A90,ODD(CK$2)=CK$2),AND(EVEN($A90)=$A90,EVEN(CK$2)=CK$2)),CK$1,-100))","v":1621.875},{"$f":"IF('Ceiling Speaker Calculator'!$C$29=\"Square\",CL$1,IF(OR(AND(ODD($A90)=$A90,ODD(CL$2)=CL$2),AND(EVEN($A90)=$A90,EVEN(CL$2)=CL$2)),CL$1,-100))","v":1640.625},{"$f":"IF('Ceiling Speaker Calculator'!$C$29=\"Square\",CM$1,IF(OR(AND(ODD($A90)=$A90,ODD(CM$2)=CM$2),AND(EVEN($A90)=$A90,EVEN(CM$2)=CM$2)),CM$1,-100))","v":1659.375},{"$f":"IF('Ceiling Speaker Calculator'!$C$29=\"Square\",CN$1,IF(OR(AND(ODD($A90)=$A90,ODD(CN$2)=CN$2),AND(EVEN($A90)=$A90,EVEN(CN$2)=CN$2)),CN$1,-100))","v":1678.125},{"$f":"IF('Ceiling Speaker Calculator'!$C$29=\"Square\",CO$1,IF(OR(AND(ODD($A90)=$A90,ODD(CO$2)=CO$2),AND(EVEN($A90)=$A90,EVEN(CO$2)=CO$2)),CO$1,-100))","v":1696.875},{"$f":"IF('Ceiling Speaker Calculator'!$C$29=\"Square\",CP$1,IF(OR(AND(ODD($A90)=$A90,ODD(CP$2)=CP$2),AND(EVEN($A90)=$A90,EVEN(CP$2)=CP$2)),CP$1,-100))","v":1715.625},{"$f":"IF('Ceiling Speaker Calculator'!$C$29=\"Square\",CQ$1,IF(OR(AND(ODD($A90)=$A90,ODD(CQ$2)=CQ$2),AND(EVEN($A90)=$A90,EVEN(CQ$2)=CQ$2)),CQ$1,-100))","v":1734.375},{"$f":"IF('Ceiling Speaker Calculator'!$C$29=\"Square\",CR$1,IF(OR(AND(ODD($A90)=$A90,ODD(CR$2)=CR$2),AND(EVEN($A90)=$A90,EVEN(CR$2)=CR$2)),CR$1,-100))","v":1753.125},{"$f":"IF('Ceiling Speaker Calculator'!$C$29=\"Square\",CS$1,IF(OR(AND(ODD($A90)=$A90,ODD(CS$2)=CS$2),AND(EVEN($A90)=$A90,EVEN(CS$2)=CS$2)),CS$1,-100))","v":1771.875},{"$f":"IF('Ceiling Speaker Calculator'!$C$29=\"Square\",CT$1,IF(OR(AND(ODD($A90)=$A90,ODD(CT$2)=CT$2),AND(EVEN($A90)=$A90,EVEN(CT$2)=CT$2)),CT$1,-100))","v":1790.625},{"$f":"IF('Ceiling Speaker Calculator'!$C$29=\"Square\",CU$1,IF(OR(AND(ODD($A90)=$A90,ODD(CU$2)=CU$2),AND(EVEN($A90)=$A90,EVEN(CU$2)=CU$2)),CU$1,-100))","v":1809.375},{"$f":"IF('Ceiling Speaker Calculator'!$C$29=\"Square\",CV$1,IF(OR(AND(ODD($A90)=$A90,ODD(CV$2)=CV$2),AND(EVEN($A90)=$A90,EVEN(CV$2)=CV$2)),CV$1,-100))","v":1828.125},{"$f":"IF('Ceiling Speaker Calculator'!$C$29=\"Square\",CW$1,IF(OR(AND(ODD($A90)=$A90,ODD(CW$2)=CW$2),AND(EVEN($A90)=$A90,EVEN(CW$2)=CW$2)),CW$1,-100))","v":1846.875},{"$f":"IF('Ceiling Speaker Calculator'!$C$29=\"Square\",CX$1,IF(OR(AND(ODD($A90)=$A90,ODD(CX$2)=CX$2),AND(EVEN($A90)=$A90,EVEN(CX$2)=CX$2)),CX$1,-100))","v":1865.625}]
[89,{"$f":"B90+'Ceiling Speaker Calculator'!$K$16","v":1770},{"$f":"IF('Ceiling Speaker Calculator'!$C$29=\"Square\",C$1,IF(OR(AND(ODD($A91)=$A91,ODD(C$2)=C$2),AND(EVEN($A91)=$A91,EVEN(C$2)=C$2)),C$1,-100))","v":9.375},{"$f":"IF('Ceiling Speaker Calculator'!$C$29=\"Square\",D$1,IF(OR(AND(ODD($A91)=$A91,ODD(D$2)=D$2),AND(EVEN($A91)=$A91,EVEN(D$2)=D$2)),D$1,-100))","v":28.125},{"$f":"IF('Ceiling Speaker Calculator'!$C$29=\"Square\",E$1,IF(OR(AND(ODD($A91)=$A91,ODD(E$2)=E$2),AND(EVEN($A91)=$A91,EVEN(E$2)=E$2)),E$1,-100))","v":46.875},{"$f":"IF('Ceiling Speaker Calculator'!$C$29=\"Square\",F$1,IF(OR(AND(ODD($A91)=$A91,ODD(F$2)=F$2),AND(EVEN($A91)=$A91,EVEN(F$2)=F$2)),F$1,-100))","v":65.625},{"$f":"IF('Ceiling Speaker Calculator'!$C$29=\"Square\",G$1,IF(OR(AND(ODD($A91)=$A91,ODD(G$2)=G$2),AND(EVEN($A91)=$A91,EVEN(G$2)=G$2)),G$1,-100))","v":84.375},{"$f":"IF('Ceiling Speaker Calculator'!$C$29=\"Square\",H$1,IF(OR(AND(ODD($A91)=$A91,ODD(H$2)=H$2),AND(EVEN($A91)=$A91,EVEN(H$2)=H$2)),H$1,-100))","v":103.125},{"$f":"IF('Ceiling Speaker Calculator'!$C$29=\"Square\",I$1,IF(OR(AND(ODD($A91)=$A91,ODD(I$2)=I$2),AND(EVEN($A91)=$A91,EVEN(I$2)=I$2)),I$1,-100))","v":121.875},{"$f":"IF('Ceiling Speaker Calculator'!$C$29=\"Square\",J$1,IF(OR(AND(ODD($A91)=$A91,ODD(J$2)=J$2),AND(EVEN($A91)=$A91,EVEN(J$2)=J$2)),J$1,-100))","v":140.625},{"$f":"IF('Ceiling Speaker Calculator'!$C$29=\"Square\",K$1,IF(OR(AND(ODD($A91)=$A91,ODD(K$2)=K$2),AND(EVEN($A91)=$A91,EVEN(K$2)=K$2)),K$1,-100))","v":159.375},{"$f":"IF('Ceiling Speaker Calculator'!$C$29=\"Square\",L$1,IF(OR(AND(ODD($A91)=$A91,ODD(L$2)=L$2),AND(EVEN($A91)=$A91,EVEN(L$2)=L$2)),L$1,-100))","v":178.125},{"$f":"IF('Ceiling Speaker Calculator'!$C$29=\"Square\",M$1,IF(OR(AND(ODD($A91)=$A91,ODD(M$2)=M$2),AND(EVEN($A91)=$A91,EVEN(M$2)=M$2)),M$1,-100))","v":196.875},{"$f":"IF('Ceiling Speaker Calculator'!$C$29=\"Square\",N$1,IF(OR(AND(ODD($A91)=$A91,ODD(N$2)=N$2),AND(EVEN($A91)=$A91,EVEN(N$2)=N$2)),N$1,-100))","v":215.625},{"$f":"IF('Ceiling Speaker Calculator'!$C$29=\"Square\",O$1,IF(OR(AND(ODD($A91)=$A91,ODD(O$2)=O$2),AND(EVEN($A91)=$A91,EVEN(O$2)=O$2)),O$1,-100))","v":234.375},{"$f":"IF('Ceiling Speaker Calculator'!$C$29=\"Square\",P$1,IF(OR(AND(ODD($A91)=$A91,ODD(P$2)=P$2),AND(EVEN($A91)=$A91,EVEN(P$2)=P$2)),P$1,-100))","v":253.125},{"$f":"IF('Ceiling Speaker Calculator'!$C$29=\"Square\",Q$1,IF(OR(AND(ODD($A91)=$A91,ODD(Q$2)=Q$2),AND(EVEN($A91)=$A91,EVEN(Q$2)=Q$2)),Q$1,-100))","v":271.875},{"$f":"IF('Ceiling Speaker Calculator'!$C$29=\"Square\",R$1,IF(OR(AND(ODD($A91)=$A91,ODD(R$2)=R$2),AND(EVEN($A91)=$A91,EVEN(R$2)=R$2)),R$1,-100))","v":290.625},{"$f":"IF('Ceiling Speaker Calculator'!$C$29=\"Square\",S$1,IF(OR(AND(ODD($A91)=$A91,ODD(S$2)=S$2),AND(EVEN($A91)=$A91,EVEN(S$2)=S$2)),S$1,-100))","v":309.375},{"$f":"IF('Ceiling Speaker Calculator'!$C$29=\"Square\",T$1,IF(OR(AND(ODD($A91)=$A91,ODD(T$2)=T$2),AND(EVEN($A91)=$A91,EVEN(T$2)=T$2)),T$1,-100))","v":328.125},{"$f":"IF('Ceiling Speaker Calculator'!$C$29=\"Square\",U$1,IF(OR(AND(ODD($A91)=$A91,ODD(U$2)=U$2),AND(EVEN($A91)=$A91,EVEN(U$2)=U$2)),U$1,-100))","v":346.875},{"$f":"IF('Ceiling Speaker Calculator'!$C$29=\"Square\",V$1,IF(OR(AND(ODD($A91)=$A91,ODD(V$2)=V$2),AND(EVEN($A91)=$A91,EVEN(V$2)=V$2)),V$1,-100))","v":365.625},{"$f":"IF('Ceiling Speaker Calculator'!$C$29=\"Square\",W$1,IF(OR(AND(ODD($A91)=$A91,ODD(W$2)=W$2),AND(EVEN($A91)=$A91,EVEN(W$2)=W$2)),W$1,-100))","v":384.375},{"$f":"IF('Ceiling Speaker Calculator'!$C$29=\"Square\",X$1,IF(OR(AND(ODD($A91)=$A91,ODD(X$2)=X$2),AND(EVEN($A91)=$A91,EVEN(X$2)=X$2)),X$1,-100))","v":403.125},{"$f":"IF('Ceiling Speaker Calculator'!$C$29=\"Square\",Y$1,IF(OR(AND(ODD($A91)=$A91,ODD(Y$2)=Y$2),AND(EVEN($A91)=$A91,EVEN(Y$2)=Y$2)),Y$1,-100))","v":421.875},{"$f":"IF('Ceiling Speaker Calculator'!$C$29=\"Square\",Z$1,IF(OR(AND(ODD($A91)=$A91,ODD(Z$2)=Z$2),AND(EVEN($A91)=$A91,EVEN(Z$2)=Z$2)),Z$1,-100))","v":440.625},{"$f":"IF('Ceiling Speaker Calculator'!$C$29=\"Square\",AA$1,IF(OR(AND(ODD($A91)=$A91,ODD(AA$2)=AA$2),AND(EVEN($A91)=$A91,EVEN(AA$2)=AA$2)),AA$1,-100))","v":459.375},{"$f":"IF('Ceiling Speaker Calculator'!$C$29=\"Square\",AB$1,IF(OR(AND(ODD($A91)=$A91,ODD(AB$2)=AB$2),AND(EVEN($A91)=$A91,EVEN(AB$2)=AB$2)),AB$1,-100))","v":478.125},{"$f":"IF('Ceiling Speaker Calculator'!$C$29=\"Square\",AC$1,IF(OR(AND(ODD($A91)=$A91,ODD(AC$2)=AC$2),AND(EVEN($A91)=$A91,EVEN(AC$2)=AC$2)),AC$1,-100))","v":496.875},{"$f":"IF('Ceiling Speaker Calculator'!$C$29=\"Square\",AD$1,IF(OR(AND(ODD($A91)=$A91,ODD(AD$2)=AD$2),AND(EVEN($A91)=$A91,EVEN(AD$2)=AD$2)),AD$1,-100))","v":515.625},{"$f":"IF('Ceiling Speaker Calculator'!$C$29=\"Square\",AE$1,IF(OR(AND(ODD($A91)=$A91,ODD(AE$2)=AE$2),AND(EVEN($A91)=$A91,EVEN(AE$2)=AE$2)),AE$1,-100))","v":534.375},{"$f":"IF('Ceiling Speaker Calculator'!$C$29=\"Square\",AF$1,IF(OR(AND(ODD($A91)=$A91,ODD(AF$2)=AF$2),AND(EVEN($A91)=$A91,EVEN(AF$2)=AF$2)),AF$1,-100))","v":553.125},{"$f":"IF('Ceiling Speaker Calculator'!$C$29=\"Square\",AG$1,IF(OR(AND(ODD($A91)=$A91,ODD(AG$2)=AG$2),AND(EVEN($A91)=$A91,EVEN(AG$2)=AG$2)),AG$1,-100))","v":571.875},{"$f":"IF('Ceiling Speaker Calculator'!$C$29=\"Square\",AH$1,IF(OR(AND(ODD($A91)=$A91,ODD(AH$2)=AH$2),AND(EVEN($A91)=$A91,EVEN(AH$2)=AH$2)),AH$1,-100))","v":590.625},{"$f":"IF('Ceiling Speaker Calculator'!$C$29=\"Square\",AI$1,IF(OR(AND(ODD($A91)=$A91,ODD(AI$2)=AI$2),AND(EVEN($A91)=$A91,EVEN(AI$2)=AI$2)),AI$1,-100))","v":609.375},{"$f":"IF('Ceiling Speaker Calculator'!$C$29=\"Square\",AJ$1,IF(OR(AND(ODD($A91)=$A91,ODD(AJ$2)=AJ$2),AND(EVEN($A91)=$A91,EVEN(AJ$2)=AJ$2)),AJ$1,-100))","v":628.125},{"$f":"IF('Ceiling Speaker Calculator'!$C$29=\"Square\",AK$1,IF(OR(AND(ODD($A91)=$A91,ODD(AK$2)=AK$2),AND(EVEN($A91)=$A91,EVEN(AK$2)=AK$2)),AK$1,-100))","v":646.875},{"$f":"IF('Ceiling Speaker Calculator'!$C$29=\"Square\",AL$1,IF(OR(AND(ODD($A91)=$A91,ODD(AL$2)=AL$2),AND(EVEN($A91)=$A91,EVEN(AL$2)=AL$2)),AL$1,-100))","v":665.625},{"$f":"IF('Ceiling Speaker Calculator'!$C$29=\"Square\",AM$1,IF(OR(AND(ODD($A91)=$A91,ODD(AM$2)=AM$2),AND(EVEN($A91)=$A91,EVEN(AM$2)=AM$2)),AM$1,-100))","v":684.375},{"$f":"IF('Ceiling Speaker Calculator'!$C$29=\"Square\",AN$1,IF(OR(AND(ODD($A91)=$A91,ODD(AN$2)=AN$2),AND(EVEN($A91)=$A91,EVEN(AN$2)=AN$2)),AN$1,-100))","v":703.125},{"$f":"IF('Ceiling Speaker Calculator'!$C$29=\"Square\",AO$1,IF(OR(AND(ODD($A91)=$A91,ODD(AO$2)=AO$2),AND(EVEN($A91)=$A91,EVEN(AO$2)=AO$2)),AO$1,-100))","v":721.875},{"$f":"IF('Ceiling Speaker Calculator'!$C$29=\"Square\",AP$1,IF(OR(AND(ODD($A91)=$A91,ODD(AP$2)=AP$2),AND(EVEN($A91)=$A91,EVEN(AP$2)=AP$2)),AP$1,-100))","v":740.625},{"$f":"IF('Ceiling Speaker Calculator'!$C$29=\"Square\",AQ$1,IF(OR(AND(ODD($A91)=$A91,ODD(AQ$2)=AQ$2),AND(EVEN($A91)=$A91,EVEN(AQ$2)=AQ$2)),AQ$1,-100))","v":759.375},{"$f":"IF('Ceiling Speaker Calculator'!$C$29=\"Square\",AR$1,IF(OR(AND(ODD($A91)=$A91,ODD(AR$2)=AR$2),AND(EVEN($A91)=$A91,EVEN(AR$2)=AR$2)),AR$1,-100))","v":778.125},{"$f":"IF('Ceiling Speaker Calculator'!$C$29=\"Square\",AS$1,IF(OR(AND(ODD($A91)=$A91,ODD(AS$2)=AS$2),AND(EVEN($A91)=$A91,EVEN(AS$2)=AS$2)),AS$1,-100))","v":796.875},{"$f":"IF('Ceiling Speaker Calculator'!$C$29=\"Square\",AT$1,IF(OR(AND(ODD($A91)=$A91,ODD(AT$2)=AT$2),AND(EVEN($A91)=$A91,EVEN(AT$2)=AT$2)),AT$1,-100))","v":815.625},{"$f":"IF('Ceiling Speaker Calculator'!$C$29=\"Square\",AU$1,IF(OR(AND(ODD($A91)=$A91,ODD(AU$2)=AU$2),AND(EVEN($A91)=$A91,EVEN(AU$2)=AU$2)),AU$1,-100))","v":834.375},{"$f":"IF('Ceiling Speaker Calculator'!$C$29=\"Square\",AV$1,IF(OR(AND(ODD($A91)=$A91,ODD(AV$2)=AV$2),AND(EVEN($A91)=$A91,EVEN(AV$2)=AV$2)),AV$1,-100))","v":853.125},{"$f":"IF('Ceiling Speaker Calculator'!$C$29=\"Square\",AW$1,IF(OR(AND(ODD($A91)=$A91,ODD(AW$2)=AW$2),AND(EVEN($A91)=$A91,EVEN(AW$2)=AW$2)),AW$1,-100))","v":871.875},{"$f":"IF('Ceiling Speaker Calculator'!$C$29=\"Square\",AX$1,IF(OR(AND(ODD($A91)=$A91,ODD(AX$2)=AX$2),AND(EVEN($A91)=$A91,EVEN(AX$2)=AX$2)),AX$1,-100))","v":890.625},{"$f":"IF('Ceiling Speaker Calculator'!$C$29=\"Square\",AY$1,IF(OR(AND(ODD($A91)=$A91,ODD(AY$2)=AY$2),AND(EVEN($A91)=$A91,EVEN(AY$2)=AY$2)),AY$1,-100))","v":909.375},{"$f":"IF('Ceiling Speaker Calculator'!$C$29=\"Square\",AZ$1,IF(OR(AND(ODD($A91)=$A91,ODD(AZ$2)=AZ$2),AND(EVEN($A91)=$A91,EVEN(AZ$2)=AZ$2)),AZ$1,-100))","v":928.125},{"$f":"IF('Ceiling Speaker Calculator'!$C$29=\"Square\",BA$1,IF(OR(AND(ODD($A91)=$A91,ODD(BA$2)=BA$2),AND(EVEN($A91)=$A91,EVEN(BA$2)=BA$2)),BA$1,-100))","v":946.875},{"$f":"IF('Ceiling Speaker Calculator'!$C$29=\"Square\",BB$1,IF(OR(AND(ODD($A91)=$A91,ODD(BB$2)=BB$2),AND(EVEN($A91)=$A91,EVEN(BB$2)=BB$2)),BB$1,-100))","v":965.625},{"$f":"IF('Ceiling Speaker Calculator'!$C$29=\"Square\",BC$1,IF(OR(AND(ODD($A91)=$A91,ODD(BC$2)=BC$2),AND(EVEN($A91)=$A91,EVEN(BC$2)=BC$2)),BC$1,-100))","v":984.375},{"$f":"IF('Ceiling Speaker Calculator'!$C$29=\"Square\",BD$1,IF(OR(AND(ODD($A91)=$A91,ODD(BD$2)=BD$2),AND(EVEN($A91)=$A91,EVEN(BD$2)=BD$2)),BD$1,-100))","v":1003.125},{"$f":"IF('Ceiling Speaker Calculator'!$C$29=\"Square\",BE$1,IF(OR(AND(ODD($A91)=$A91,ODD(BE$2)=BE$2),AND(EVEN($A91)=$A91,EVEN(BE$2)=BE$2)),BE$1,-100))","v":1021.875},{"$f":"IF('Ceiling Speaker Calculator'!$C$29=\"Square\",BF$1,IF(OR(AND(ODD($A91)=$A91,ODD(BF$2)=BF$2),AND(EVEN($A91)=$A91,EVEN(BF$2)=BF$2)),BF$1,-100))","v":1040.625},{"$f":"IF('Ceiling Speaker Calculator'!$C$29=\"Square\",BG$1,IF(OR(AND(ODD($A91)=$A91,ODD(BG$2)=BG$2),AND(EVEN($A91)=$A91,EVEN(BG$2)=BG$2)),BG$1,-100))","v":1059.375},{"$f":"IF('Ceiling Speaker Calculator'!$C$29=\"Square\",BH$1,IF(OR(AND(ODD($A91)=$A91,ODD(BH$2)=BH$2),AND(EVEN($A91)=$A91,EVEN(BH$2)=BH$2)),BH$1,-100))","v":1078.125},{"$f":"IF('Ceiling Speaker Calculator'!$C$29=\"Square\",BI$1,IF(OR(AND(ODD($A91)=$A91,ODD(BI$2)=BI$2),AND(EVEN($A91)=$A91,EVEN(BI$2)=BI$2)),BI$1,-100))","v":1096.875},{"$f":"IF('Ceiling Speaker Calculator'!$C$29=\"Square\",BJ$1,IF(OR(AND(ODD($A91)=$A91,ODD(BJ$2)=BJ$2),AND(EVEN($A91)=$A91,EVEN(BJ$2)=BJ$2)),BJ$1,-100))","v":1115.625},{"$f":"IF('Ceiling Speaker Calculator'!$C$29=\"Square\",BK$1,IF(OR(AND(ODD($A91)=$A91,ODD(BK$2)=BK$2),AND(EVEN($A91)=$A91,EVEN(BK$2)=BK$2)),BK$1,-100))","v":1134.375},{"$f":"IF('Ceiling Speaker Calculator'!$C$29=\"Square\",BL$1,IF(OR(AND(ODD($A91)=$A91,ODD(BL$2)=BL$2),AND(EVEN($A91)=$A91,EVEN(BL$2)=BL$2)),BL$1,-100))","v":1153.125},{"$f":"IF('Ceiling Speaker Calculator'!$C$29=\"Square\",BM$1,IF(OR(AND(ODD($A91)=$A91,ODD(BM$2)=BM$2),AND(EVEN($A91)=$A91,EVEN(BM$2)=BM$2)),BM$1,-100))","v":1171.875},{"$f":"IF('Ceiling Speaker Calculator'!$C$29=\"Square\",BN$1,IF(OR(AND(ODD($A91)=$A91,ODD(BN$2)=BN$2),AND(EVEN($A91)=$A91,EVEN(BN$2)=BN$2)),BN$1,-100))","v":1190.625},{"$f":"IF('Ceiling Speaker Calculator'!$C$29=\"Square\",BO$1,IF(OR(AND(ODD($A91)=$A91,ODD(BO$2)=BO$2),AND(EVEN($A91)=$A91,EVEN(BO$2)=BO$2)),BO$1,-100))","v":1209.375},{"$f":"IF('Ceiling Speaker Calculator'!$C$29=\"Square\",BP$1,IF(OR(AND(ODD($A91)=$A91,ODD(BP$2)=BP$2),AND(EVEN($A91)=$A91,EVEN(BP$2)=BP$2)),BP$1,-100))","v":1228.125},{"$f":"IF('Ceiling Speaker Calculator'!$C$29=\"Square\",BQ$1,IF(OR(AND(ODD($A91)=$A91,ODD(BQ$2)=BQ$2),AND(EVEN($A91)=$A91,EVEN(BQ$2)=BQ$2)),BQ$1,-100))","v":1246.875},{"$f":"IF('Ceiling Speaker Calculator'!$C$29=\"Square\",BR$1,IF(OR(AND(ODD($A91)=$A91,ODD(BR$2)=BR$2),AND(EVEN($A91)=$A91,EVEN(BR$2)=BR$2)),BR$1,-100))","v":1265.625},{"$f":"IF('Ceiling Speaker Calculator'!$C$29=\"Square\",BS$1,IF(OR(AND(ODD($A91)=$A91,ODD(BS$2)=BS$2),AND(EVEN($A91)=$A91,EVEN(BS$2)=BS$2)),BS$1,-100))","v":1284.375},{"$f":"IF('Ceiling Speaker Calculator'!$C$29=\"Square\",BT$1,IF(OR(AND(ODD($A91)=$A91,ODD(BT$2)=BT$2),AND(EVEN($A91)=$A91,EVEN(BT$2)=BT$2)),BT$1,-100))","v":1303.125},{"$f":"IF('Ceiling Speaker Calculator'!$C$29=\"Square\",BU$1,IF(OR(AND(ODD($A91)=$A91,ODD(BU$2)=BU$2),AND(EVEN($A91)=$A91,EVEN(BU$2)=BU$2)),BU$1,-100))","v":1321.875},{"$f":"IF('Ceiling Speaker Calculator'!$C$29=\"Square\",BV$1,IF(OR(AND(ODD($A91)=$A91,ODD(BV$2)=BV$2),AND(EVEN($A91)=$A91,EVEN(BV$2)=BV$2)),BV$1,-100))","v":1340.625},{"$f":"IF('Ceiling Speaker Calculator'!$C$29=\"Square\",BW$1,IF(OR(AND(ODD($A91)=$A91,ODD(BW$2)=BW$2),AND(EVEN($A91)=$A91,EVEN(BW$2)=BW$2)),BW$1,-100))","v":1359.375},{"$f":"IF('Ceiling Speaker Calculator'!$C$29=\"Square\",BX$1,IF(OR(AND(ODD($A91)=$A91,ODD(BX$2)=BX$2),AND(EVEN($A91)=$A91,EVEN(BX$2)=BX$2)),BX$1,-100))","v":1378.125},{"$f":"IF('Ceiling Speaker Calculator'!$C$29=\"Square\",BY$1,IF(OR(AND(ODD($A91)=$A91,ODD(BY$2)=BY$2),AND(EVEN($A91)=$A91,EVEN(BY$2)=BY$2)),BY$1,-100))","v":1396.875},{"$f":"IF('Ceiling Speaker Calculator'!$C$29=\"Square\",BZ$1,IF(OR(AND(ODD($A91)=$A91,ODD(BZ$2)=BZ$2),AND(EVEN($A91)=$A91,EVEN(BZ$2)=BZ$2)),BZ$1,-100))","v":1415.625},{"$f":"IF('Ceiling Speaker Calculator'!$C$29=\"Square\",CA$1,IF(OR(AND(ODD($A91)=$A91,ODD(CA$2)=CA$2),AND(EVEN($A91)=$A91,EVEN(CA$2)=CA$2)),CA$1,-100))","v":1434.375},{"$f":"IF('Ceiling Speaker Calculator'!$C$29=\"Square\",CB$1,IF(OR(AND(ODD($A91)=$A91,ODD(CB$2)=CB$2),AND(EVEN($A91)=$A91,EVEN(CB$2)=CB$2)),CB$1,-100))","v":1453.125},{"$f":"IF('Ceiling Speaker Calculator'!$C$29=\"Square\",CC$1,IF(OR(AND(ODD($A91)=$A91,ODD(CC$2)=CC$2),AND(EVEN($A91)=$A91,EVEN(CC$2)=CC$2)),CC$1,-100))","v":1471.875},{"$f":"IF('Ceiling Speaker Calculator'!$C$29=\"Square\",CD$1,IF(OR(AND(ODD($A91)=$A91,ODD(CD$2)=CD$2),AND(EVEN($A91)=$A91,EVEN(CD$2)=CD$2)),CD$1,-100))","v":1490.625},{"$f":"IF('Ceiling Speaker Calculator'!$C$29=\"Square\",CE$1,IF(OR(AND(ODD($A91)=$A91,ODD(CE$2)=CE$2),AND(EVEN($A91)=$A91,EVEN(CE$2)=CE$2)),CE$1,-100))","v":1509.375},{"$f":"IF('Ceiling Speaker Calculator'!$C$29=\"Square\",CF$1,IF(OR(AND(ODD($A91)=$A91,ODD(CF$2)=CF$2),AND(EVEN($A91)=$A91,EVEN(CF$2)=CF$2)),CF$1,-100))","v":1528.125},{"$f":"IF('Ceiling Speaker Calculator'!$C$29=\"Square\",CG$1,IF(OR(AND(ODD($A91)=$A91,ODD(CG$2)=CG$2),AND(EVEN($A91)=$A91,EVEN(CG$2)=CG$2)),CG$1,-100))","v":1546.875},{"$f":"IF('Ceiling Speaker Calculator'!$C$29=\"Square\",CH$1,IF(OR(AND(ODD($A91)=$A91,ODD(CH$2)=CH$2),AND(EVEN($A91)=$A91,EVEN(CH$2)=CH$2)),CH$1,-100))","v":1565.625},{"$f":"IF('Ceiling Speaker Calculator'!$C$29=\"Square\",CI$1,IF(OR(AND(ODD($A91)=$A91,ODD(CI$2)=CI$2),AND(EVEN($A91)=$A91,EVEN(CI$2)=CI$2)),CI$1,-100))","v":1584.375},{"$f":"IF('Ceiling Speaker Calculator'!$C$29=\"Square\",CJ$1,IF(OR(AND(ODD($A91)=$A91,ODD(CJ$2)=CJ$2),AND(EVEN($A91)=$A91,EVEN(CJ$2)=CJ$2)),CJ$1,-100))","v":1603.125},{"$f":"IF('Ceiling Speaker Calculator'!$C$29=\"Square\",CK$1,IF(OR(AND(ODD($A91)=$A91,ODD(CK$2)=CK$2),AND(EVEN($A91)=$A91,EVEN(CK$2)=CK$2)),CK$1,-100))","v":1621.875},{"$f":"IF('Ceiling Speaker Calculator'!$C$29=\"Square\",CL$1,IF(OR(AND(ODD($A91)=$A91,ODD(CL$2)=CL$2),AND(EVEN($A91)=$A91,EVEN(CL$2)=CL$2)),CL$1,-100))","v":1640.625},{"$f":"IF('Ceiling Speaker Calculator'!$C$29=\"Square\",CM$1,IF(OR(AND(ODD($A91)=$A91,ODD(CM$2)=CM$2),AND(EVEN($A91)=$A91,EVEN(CM$2)=CM$2)),CM$1,-100))","v":1659.375},{"$f":"IF('Ceiling Speaker Calculator'!$C$29=\"Square\",CN$1,IF(OR(AND(ODD($A91)=$A91,ODD(CN$2)=CN$2),AND(EVEN($A91)=$A91,EVEN(CN$2)=CN$2)),CN$1,-100))","v":1678.125},{"$f":"IF('Ceiling Speaker Calculator'!$C$29=\"Square\",CO$1,IF(OR(AND(ODD($A91)=$A91,ODD(CO$2)=CO$2),AND(EVEN($A91)=$A91,EVEN(CO$2)=CO$2)),CO$1,-100))","v":1696.875},{"$f":"IF('Ceiling Speaker Calculator'!$C$29=\"Square\",CP$1,IF(OR(AND(ODD($A91)=$A91,ODD(CP$2)=CP$2),AND(EVEN($A91)=$A91,EVEN(CP$2)=CP$2)),CP$1,-100))","v":1715.625},{"$f":"IF('Ceiling Speaker Calculator'!$C$29=\"Square\",CQ$1,IF(OR(AND(ODD($A91)=$A91,ODD(CQ$2)=CQ$2),AND(EVEN($A91)=$A91,EVEN(CQ$2)=CQ$2)),CQ$1,-100))","v":1734.375},{"$f":"IF('Ceiling Speaker Calculator'!$C$29=\"Square\",CR$1,IF(OR(AND(ODD($A91)=$A91,ODD(CR$2)=CR$2),AND(EVEN($A91)=$A91,EVEN(CR$2)=CR$2)),CR$1,-100))","v":1753.125},{"$f":"IF('Ceiling Speaker Calculator'!$C$29=\"Square\",CS$1,IF(OR(AND(ODD($A91)=$A91,ODD(CS$2)=CS$2),AND(EVEN($A91)=$A91,EVEN(CS$2)=CS$2)),CS$1,-100))","v":1771.875},{"$f":"IF('Ceiling Speaker Calculator'!$C$29=\"Square\",CT$1,IF(OR(AND(ODD($A91)=$A91,ODD(CT$2)=CT$2),AND(EVEN($A91)=$A91,EVEN(CT$2)=CT$2)),CT$1,-100))","v":1790.625},{"$f":"IF('Ceiling Speaker Calculator'!$C$29=\"Square\",CU$1,IF(OR(AND(ODD($A91)=$A91,ODD(CU$2)=CU$2),AND(EVEN($A91)=$A91,EVEN(CU$2)=CU$2)),CU$1,-100))","v":1809.375},{"$f":"IF('Ceiling Speaker Calculator'!$C$29=\"Square\",CV$1,IF(OR(AND(ODD($A91)=$A91,ODD(CV$2)=CV$2),AND(EVEN($A91)=$A91,EVEN(CV$2)=CV$2)),CV$1,-100))","v":1828.125},{"$f":"IF('Ceiling Speaker Calculator'!$C$29=\"Square\",CW$1,IF(OR(AND(ODD($A91)=$A91,ODD(CW$2)=CW$2),AND(EVEN($A91)=$A91,EVEN(CW$2)=CW$2)),CW$1,-100))","v":1846.875},{"$f":"IF('Ceiling Speaker Calculator'!$C$29=\"Square\",CX$1,IF(OR(AND(ODD($A91)=$A91,ODD(CX$2)=CX$2),AND(EVEN($A91)=$A91,EVEN(CX$2)=CX$2)),CX$1,-100))","v":1865.625}]
[90,{"$f":"B91+'Ceiling Speaker Calculator'!$K$16","v":1790},{"$f":"IF('Ceiling Speaker Calculator'!$C$29=\"Square\",C$1,IF(OR(AND(ODD($A92)=$A92,ODD(C$2)=C$2),AND(EVEN($A92)=$A92,EVEN(C$2)=C$2)),C$1,-100))","v":9.375},{"$f":"IF('Ceiling Speaker Calculator'!$C$29=\"Square\",D$1,IF(OR(AND(ODD($A92)=$A92,ODD(D$2)=D$2),AND(EVEN($A92)=$A92,EVEN(D$2)=D$2)),D$1,-100))","v":28.125},{"$f":"IF('Ceiling Speaker Calculator'!$C$29=\"Square\",E$1,IF(OR(AND(ODD($A92)=$A92,ODD(E$2)=E$2),AND(EVEN($A92)=$A92,EVEN(E$2)=E$2)),E$1,-100))","v":46.875},{"$f":"IF('Ceiling Speaker Calculator'!$C$29=\"Square\",F$1,IF(OR(AND(ODD($A92)=$A92,ODD(F$2)=F$2),AND(EVEN($A92)=$A92,EVEN(F$2)=F$2)),F$1,-100))","v":65.625},{"$f":"IF('Ceiling Speaker Calculator'!$C$29=\"Square\",G$1,IF(OR(AND(ODD($A92)=$A92,ODD(G$2)=G$2),AND(EVEN($A92)=$A92,EVEN(G$2)=G$2)),G$1,-100))","v":84.375},{"$f":"IF('Ceiling Speaker Calculator'!$C$29=\"Square\",H$1,IF(OR(AND(ODD($A92)=$A92,ODD(H$2)=H$2),AND(EVEN($A92)=$A92,EVEN(H$2)=H$2)),H$1,-100))","v":103.125},{"$f":"IF('Ceiling Speaker Calculator'!$C$29=\"Square\",I$1,IF(OR(AND(ODD($A92)=$A92,ODD(I$2)=I$2),AND(EVEN($A92)=$A92,EVEN(I$2)=I$2)),I$1,-100))","v":121.875},{"$f":"IF('Ceiling Speaker Calculator'!$C$29=\"Square\",J$1,IF(OR(AND(ODD($A92)=$A92,ODD(J$2)=J$2),AND(EVEN($A92)=$A92,EVEN(J$2)=J$2)),J$1,-100))","v":140.625},{"$f":"IF('Ceiling Speaker Calculator'!$C$29=\"Square\",K$1,IF(OR(AND(ODD($A92)=$A92,ODD(K$2)=K$2),AND(EVEN($A92)=$A92,EVEN(K$2)=K$2)),K$1,-100))","v":159.375},{"$f":"IF('Ceiling Speaker Calculator'!$C$29=\"Square\",L$1,IF(OR(AND(ODD($A92)=$A92,ODD(L$2)=L$2),AND(EVEN($A92)=$A92,EVEN(L$2)=L$2)),L$1,-100))","v":178.125},{"$f":"IF('Ceiling Speaker Calculator'!$C$29=\"Square\",M$1,IF(OR(AND(ODD($A92)=$A92,ODD(M$2)=M$2),AND(EVEN($A92)=$A92,EVEN(M$2)=M$2)),M$1,-100))","v":196.875},{"$f":"IF('Ceiling Speaker Calculator'!$C$29=\"Square\",N$1,IF(OR(AND(ODD($A92)=$A92,ODD(N$2)=N$2),AND(EVEN($A92)=$A92,EVEN(N$2)=N$2)),N$1,-100))","v":215.625},{"$f":"IF('Ceiling Speaker Calculator'!$C$29=\"Square\",O$1,IF(OR(AND(ODD($A92)=$A92,ODD(O$2)=O$2),AND(EVEN($A92)=$A92,EVEN(O$2)=O$2)),O$1,-100))","v":234.375},{"$f":"IF('Ceiling Speaker Calculator'!$C$29=\"Square\",P$1,IF(OR(AND(ODD($A92)=$A92,ODD(P$2)=P$2),AND(EVEN($A92)=$A92,EVEN(P$2)=P$2)),P$1,-100))","v":253.125},{"$f":"IF('Ceiling Speaker Calculator'!$C$29=\"Square\",Q$1,IF(OR(AND(ODD($A92)=$A92,ODD(Q$2)=Q$2),AND(EVEN($A92)=$A92,EVEN(Q$2)=Q$2)),Q$1,-100))","v":271.875},{"$f":"IF('Ceiling Speaker Calculator'!$C$29=\"Square\",R$1,IF(OR(AND(ODD($A92)=$A92,ODD(R$2)=R$2),AND(EVEN($A92)=$A92,EVEN(R$2)=R$2)),R$1,-100))","v":290.625},{"$f":"IF('Ceiling Speaker Calculator'!$C$29=\"Square\",S$1,IF(OR(AND(ODD($A92)=$A92,ODD(S$2)=S$2),AND(EVEN($A92)=$A92,EVEN(S$2)=S$2)),S$1,-100))","v":309.375},{"$f":"IF('Ceiling Speaker Calculator'!$C$29=\"Square\",T$1,IF(OR(AND(ODD($A92)=$A92,ODD(T$2)=T$2),AND(EVEN($A92)=$A92,EVEN(T$2)=T$2)),T$1,-100))","v":328.125},{"$f":"IF('Ceiling Speaker Calculator'!$C$29=\"Square\",U$1,IF(OR(AND(ODD($A92)=$A92,ODD(U$2)=U$2),AND(EVEN($A92)=$A92,EVEN(U$2)=U$2)),U$1,-100))","v":346.875},{"$f":"IF('Ceiling Speaker Calculator'!$C$29=\"Square\",V$1,IF(OR(AND(ODD($A92)=$A92,ODD(V$2)=V$2),AND(EVEN($A92)=$A92,EVEN(V$2)=V$2)),V$1,-100))","v":365.625},{"$f":"IF('Ceiling Speaker Calculator'!$C$29=\"Square\",W$1,IF(OR(AND(ODD($A92)=$A92,ODD(W$2)=W$2),AND(EVEN($A92)=$A92,EVEN(W$2)=W$2)),W$1,-100))","v":384.375},{"$f":"IF('Ceiling Speaker Calculator'!$C$29=\"Square\",X$1,IF(OR(AND(ODD($A92)=$A92,ODD(X$2)=X$2),AND(EVEN($A92)=$A92,EVEN(X$2)=X$2)),X$1,-100))","v":403.125},{"$f":"IF('Ceiling Speaker Calculator'!$C$29=\"Square\",Y$1,IF(OR(AND(ODD($A92)=$A92,ODD(Y$2)=Y$2),AND(EVEN($A92)=$A92,EVEN(Y$2)=Y$2)),Y$1,-100))","v":421.875},{"$f":"IF('Ceiling Speaker Calculator'!$C$29=\"Square\",Z$1,IF(OR(AND(ODD($A92)=$A92,ODD(Z$2)=Z$2),AND(EVEN($A92)=$A92,EVEN(Z$2)=Z$2)),Z$1,-100))","v":440.625},{"$f":"IF('Ceiling Speaker Calculator'!$C$29=\"Square\",AA$1,IF(OR(AND(ODD($A92)=$A92,ODD(AA$2)=AA$2),AND(EVEN($A92)=$A92,EVEN(AA$2)=AA$2)),AA$1,-100))","v":459.375},{"$f":"IF('Ceiling Speaker Calculator'!$C$29=\"Square\",AB$1,IF(OR(AND(ODD($A92)=$A92,ODD(AB$2)=AB$2),AND(EVEN($A92)=$A92,EVEN(AB$2)=AB$2)),AB$1,-100))","v":478.125},{"$f":"IF('Ceiling Speaker Calculator'!$C$29=\"Square\",AC$1,IF(OR(AND(ODD($A92)=$A92,ODD(AC$2)=AC$2),AND(EVEN($A92)=$A92,EVEN(AC$2)=AC$2)),AC$1,-100))","v":496.875},{"$f":"IF('Ceiling Speaker Calculator'!$C$29=\"Square\",AD$1,IF(OR(AND(ODD($A92)=$A92,ODD(AD$2)=AD$2),AND(EVEN($A92)=$A92,EVEN(AD$2)=AD$2)),AD$1,-100))","v":515.625},{"$f":"IF('Ceiling Speaker Calculator'!$C$29=\"Square\",AE$1,IF(OR(AND(ODD($A92)=$A92,ODD(AE$2)=AE$2),AND(EVEN($A92)=$A92,EVEN(AE$2)=AE$2)),AE$1,-100))","v":534.375},{"$f":"IF('Ceiling Speaker Calculator'!$C$29=\"Square\",AF$1,IF(OR(AND(ODD($A92)=$A92,ODD(AF$2)=AF$2),AND(EVEN($A92)=$A92,EVEN(AF$2)=AF$2)),AF$1,-100))","v":553.125},{"$f":"IF('Ceiling Speaker Calculator'!$C$29=\"Square\",AG$1,IF(OR(AND(ODD($A92)=$A92,ODD(AG$2)=AG$2),AND(EVEN($A92)=$A92,EVEN(AG$2)=AG$2)),AG$1,-100))","v":571.875},{"$f":"IF('Ceiling Speaker Calculator'!$C$29=\"Square\",AH$1,IF(OR(AND(ODD($A92)=$A92,ODD(AH$2)=AH$2),AND(EVEN($A92)=$A92,EVEN(AH$2)=AH$2)),AH$1,-100))","v":590.625},{"$f":"IF('Ceiling Speaker Calculator'!$C$29=\"Square\",AI$1,IF(OR(AND(ODD($A92)=$A92,ODD(AI$2)=AI$2),AND(EVEN($A92)=$A92,EVEN(AI$2)=AI$2)),AI$1,-100))","v":609.375},{"$f":"IF('Ceiling Speaker Calculator'!$C$29=\"Square\",AJ$1,IF(OR(AND(ODD($A92)=$A92,ODD(AJ$2)=AJ$2),AND(EVEN($A92)=$A92,EVEN(AJ$2)=AJ$2)),AJ$1,-100))","v":628.125},{"$f":"IF('Ceiling Speaker Calculator'!$C$29=\"Square\",AK$1,IF(OR(AND(ODD($A92)=$A92,ODD(AK$2)=AK$2),AND(EVEN($A92)=$A92,EVEN(AK$2)=AK$2)),AK$1,-100))","v":646.875},{"$f":"IF('Ceiling Speaker Calculator'!$C$29=\"Square\",AL$1,IF(OR(AND(ODD($A92)=$A92,ODD(AL$2)=AL$2),AND(EVEN($A92)=$A92,EVEN(AL$2)=AL$2)),AL$1,-100))","v":665.625},{"$f":"IF('Ceiling Speaker Calculator'!$C$29=\"Square\",AM$1,IF(OR(AND(ODD($A92)=$A92,ODD(AM$2)=AM$2),AND(EVEN($A92)=$A92,EVEN(AM$2)=AM$2)),AM$1,-100))","v":684.375},{"$f":"IF('Ceiling Speaker Calculator'!$C$29=\"Square\",AN$1,IF(OR(AND(ODD($A92)=$A92,ODD(AN$2)=AN$2),AND(EVEN($A92)=$A92,EVEN(AN$2)=AN$2)),AN$1,-100))","v":703.125},{"$f":"IF('Ceiling Speaker Calculator'!$C$29=\"Square\",AO$1,IF(OR(AND(ODD($A92)=$A92,ODD(AO$2)=AO$2),AND(EVEN($A92)=$A92,EVEN(AO$2)=AO$2)),AO$1,-100))","v":721.875},{"$f":"IF('Ceiling Speaker Calculator'!$C$29=\"Square\",AP$1,IF(OR(AND(ODD($A92)=$A92,ODD(AP$2)=AP$2),AND(EVEN($A92)=$A92,EVEN(AP$2)=AP$2)),AP$1,-100))","v":740.625},{"$f":"IF('Ceiling Speaker Calculator'!$C$29=\"Square\",AQ$1,IF(OR(AND(ODD($A92)=$A92,ODD(AQ$2)=AQ$2),AND(EVEN($A92)=$A92,EVEN(AQ$2)=AQ$2)),AQ$1,-100))","v":759.375},{"$f":"IF('Ceiling Speaker Calculator'!$C$29=\"Square\",AR$1,IF(OR(AND(ODD($A92)=$A92,ODD(AR$2)=AR$2),AND(EVEN($A92)=$A92,EVEN(AR$2)=AR$2)),AR$1,-100))","v":778.125},{"$f":"IF('Ceiling Speaker Calculator'!$C$29=\"Square\",AS$1,IF(OR(AND(ODD($A92)=$A92,ODD(AS$2)=AS$2),AND(EVEN($A92)=$A92,EVEN(AS$2)=AS$2)),AS$1,-100))","v":796.875},{"$f":"IF('Ceiling Speaker Calculator'!$C$29=\"Square\",AT$1,IF(OR(AND(ODD($A92)=$A92,ODD(AT$2)=AT$2),AND(EVEN($A92)=$A92,EVEN(AT$2)=AT$2)),AT$1,-100))","v":815.625},{"$f":"IF('Ceiling Speaker Calculator'!$C$29=\"Square\",AU$1,IF(OR(AND(ODD($A92)=$A92,ODD(AU$2)=AU$2),AND(EVEN($A92)=$A92,EVEN(AU$2)=AU$2)),AU$1,-100))","v":834.375},{"$f":"IF('Ceiling Speaker Calculator'!$C$29=\"Square\",AV$1,IF(OR(AND(ODD($A92)=$A92,ODD(AV$2)=AV$2),AND(EVEN($A92)=$A92,EVEN(AV$2)=AV$2)),AV$1,-100))","v":853.125},{"$f":"IF('Ceiling Speaker Calculator'!$C$29=\"Square\",AW$1,IF(OR(AND(ODD($A92)=$A92,ODD(AW$2)=AW$2),AND(EVEN($A92)=$A92,EVEN(AW$2)=AW$2)),AW$1,-100))","v":871.875},{"$f":"IF('Ceiling Speaker Calculator'!$C$29=\"Square\",AX$1,IF(OR(AND(ODD($A92)=$A92,ODD(AX$2)=AX$2),AND(EVEN($A92)=$A92,EVEN(AX$2)=AX$2)),AX$1,-100))","v":890.625},{"$f":"IF('Ceiling Speaker Calculator'!$C$29=\"Square\",AY$1,IF(OR(AND(ODD($A92)=$A92,ODD(AY$2)=AY$2),AND(EVEN($A92)=$A92,EVEN(AY$2)=AY$2)),AY$1,-100))","v":909.375},{"$f":"IF('Ceiling Speaker Calculator'!$C$29=\"Square\",AZ$1,IF(OR(AND(ODD($A92)=$A92,ODD(AZ$2)=AZ$2),AND(EVEN($A92)=$A92,EVEN(AZ$2)=AZ$2)),AZ$1,-100))","v":928.125},{"$f":"IF('Ceiling Speaker Calculator'!$C$29=\"Square\",BA$1,IF(OR(AND(ODD($A92)=$A92,ODD(BA$2)=BA$2),AND(EVEN($A92)=$A92,EVEN(BA$2)=BA$2)),BA$1,-100))","v":946.875},{"$f":"IF('Ceiling Speaker Calculator'!$C$29=\"Square\",BB$1,IF(OR(AND(ODD($A92)=$A92,ODD(BB$2)=BB$2),AND(EVEN($A92)=$A92,EVEN(BB$2)=BB$2)),BB$1,-100))","v":965.625},{"$f":"IF('Ceiling Speaker Calculator'!$C$29=\"Square\",BC$1,IF(OR(AND(ODD($A92)=$A92,ODD(BC$2)=BC$2),AND(EVEN($A92)=$A92,EVEN(BC$2)=BC$2)),BC$1,-100))","v":984.375},{"$f":"IF('Ceiling Speaker Calculator'!$C$29=\"Square\",BD$1,IF(OR(AND(ODD($A92)=$A92,ODD(BD$2)=BD$2),AND(EVEN($A92)=$A92,EVEN(BD$2)=BD$2)),BD$1,-100))","v":1003.125},{"$f":"IF('Ceiling Speaker Calculator'!$C$29=\"Square\",BE$1,IF(OR(AND(ODD($A92)=$A92,ODD(BE$2)=BE$2),AND(EVEN($A92)=$A92,EVEN(BE$2)=BE$2)),BE$1,-100))","v":1021.875},{"$f":"IF('Ceiling Speaker Calculator'!$C$29=\"Square\",BF$1,IF(OR(AND(ODD($A92)=$A92,ODD(BF$2)=BF$2),AND(EVEN($A92)=$A92,EVEN(BF$2)=BF$2)),BF$1,-100))","v":1040.625},{"$f":"IF('Ceiling Speaker Calculator'!$C$29=\"Square\",BG$1,IF(OR(AND(ODD($A92)=$A92,ODD(BG$2)=BG$2),AND(EVEN($A92)=$A92,EVEN(BG$2)=BG$2)),BG$1,-100))","v":1059.375},{"$f":"IF('Ceiling Speaker Calculator'!$C$29=\"Square\",BH$1,IF(OR(AND(ODD($A92)=$A92,ODD(BH$2)=BH$2),AND(EVEN($A92)=$A92,EVEN(BH$2)=BH$2)),BH$1,-100))","v":1078.125},{"$f":"IF('Ceiling Speaker Calculator'!$C$29=\"Square\",BI$1,IF(OR(AND(ODD($A92)=$A92,ODD(BI$2)=BI$2),AND(EVEN($A92)=$A92,EVEN(BI$2)=BI$2)),BI$1,-100))","v":1096.875},{"$f":"IF('Ceiling Speaker Calculator'!$C$29=\"Square\",BJ$1,IF(OR(AND(ODD($A92)=$A92,ODD(BJ$2)=BJ$2),AND(EVEN($A92)=$A92,EVEN(BJ$2)=BJ$2)),BJ$1,-100))","v":1115.625},{"$f":"IF('Ceiling Speaker Calculator'!$C$29=\"Square\",BK$1,IF(OR(AND(ODD($A92)=$A92,ODD(BK$2)=BK$2),AND(EVEN($A92)=$A92,EVEN(BK$2)=BK$2)),BK$1,-100))","v":1134.375},{"$f":"IF('Ceiling Speaker Calculator'!$C$29=\"Square\",BL$1,IF(OR(AND(ODD($A92)=$A92,ODD(BL$2)=BL$2),AND(EVEN($A92)=$A92,EVEN(BL$2)=BL$2)),BL$1,-100))","v":1153.125},{"$f":"IF('Ceiling Speaker Calculator'!$C$29=\"Square\",BM$1,IF(OR(AND(ODD($A92)=$A92,ODD(BM$2)=BM$2),AND(EVEN($A92)=$A92,EVEN(BM$2)=BM$2)),BM$1,-100))","v":1171.875},{"$f":"IF('Ceiling Speaker Calculator'!$C$29=\"Square\",BN$1,IF(OR(AND(ODD($A92)=$A92,ODD(BN$2)=BN$2),AND(EVEN($A92)=$A92,EVEN(BN$2)=BN$2)),BN$1,-100))","v":1190.625},{"$f":"IF('Ceiling Speaker Calculator'!$C$29=\"Square\",BO$1,IF(OR(AND(ODD($A92)=$A92,ODD(BO$2)=BO$2),AND(EVEN($A92)=$A92,EVEN(BO$2)=BO$2)),BO$1,-100))","v":1209.375},{"$f":"IF('Ceiling Speaker Calculator'!$C$29=\"Square\",BP$1,IF(OR(AND(ODD($A92)=$A92,ODD(BP$2)=BP$2),AND(EVEN($A92)=$A92,EVEN(BP$2)=BP$2)),BP$1,-100))","v":1228.125},{"$f":"IF('Ceiling Speaker Calculator'!$C$29=\"Square\",BQ$1,IF(OR(AND(ODD($A92)=$A92,ODD(BQ$2)=BQ$2),AND(EVEN($A92)=$A92,EVEN(BQ$2)=BQ$2)),BQ$1,-100))","v":1246.875},{"$f":"IF('Ceiling Speaker Calculator'!$C$29=\"Square\",BR$1,IF(OR(AND(ODD($A92)=$A92,ODD(BR$2)=BR$2),AND(EVEN($A92)=$A92,EVEN(BR$2)=BR$2)),BR$1,-100))","v":1265.625},{"$f":"IF('Ceiling Speaker Calculator'!$C$29=\"Square\",BS$1,IF(OR(AND(ODD($A92)=$A92,ODD(BS$2)=BS$2),AND(EVEN($A92)=$A92,EVEN(BS$2)=BS$2)),BS$1,-100))","v":1284.375},{"$f":"IF('Ceiling Speaker Calculator'!$C$29=\"Square\",BT$1,IF(OR(AND(ODD($A92)=$A92,ODD(BT$2)=BT$2),AND(EVEN($A92)=$A92,EVEN(BT$2)=BT$2)),BT$1,-100))","v":1303.125},{"$f":"IF('Ceiling Speaker Calculator'!$C$29=\"Square\",BU$1,IF(OR(AND(ODD($A92)=$A92,ODD(BU$2)=BU$2),AND(EVEN($A92)=$A92,EVEN(BU$2)=BU$2)),BU$1,-100))","v":1321.875},{"$f":"IF('Ceiling Speaker Calculator'!$C$29=\"Square\",BV$1,IF(OR(AND(ODD($A92)=$A92,ODD(BV$2)=BV$2),AND(EVEN($A92)=$A92,EVEN(BV$2)=BV$2)),BV$1,-100))","v":1340.625},{"$f":"IF('Ceiling Speaker Calculator'!$C$29=\"Square\",BW$1,IF(OR(AND(ODD($A92)=$A92,ODD(BW$2)=BW$2),AND(EVEN($A92)=$A92,EVEN(BW$2)=BW$2)),BW$1,-100))","v":1359.375},{"$f":"IF('Ceiling Speaker Calculator'!$C$29=\"Square\",BX$1,IF(OR(AND(ODD($A92)=$A92,ODD(BX$2)=BX$2),AND(EVEN($A92)=$A92,EVEN(BX$2)=BX$2)),BX$1,-100))","v":1378.125},{"$f":"IF('Ceiling Speaker Calculator'!$C$29=\"Square\",BY$1,IF(OR(AND(ODD($A92)=$A92,ODD(BY$2)=BY$2),AND(EVEN($A92)=$A92,EVEN(BY$2)=BY$2)),BY$1,-100))","v":1396.875},{"$f":"IF('Ceiling Speaker Calculator'!$C$29=\"Square\",BZ$1,IF(OR(AND(ODD($A92)=$A92,ODD(BZ$2)=BZ$2),AND(EVEN($A92)=$A92,EVEN(BZ$2)=BZ$2)),BZ$1,-100))","v":1415.625},{"$f":"IF('Ceiling Speaker Calculator'!$C$29=\"Square\",CA$1,IF(OR(AND(ODD($A92)=$A92,ODD(CA$2)=CA$2),AND(EVEN($A92)=$A92,EVEN(CA$2)=CA$2)),CA$1,-100))","v":1434.375},{"$f":"IF('Ceiling Speaker Calculator'!$C$29=\"Square\",CB$1,IF(OR(AND(ODD($A92)=$A92,ODD(CB$2)=CB$2),AND(EVEN($A92)=$A92,EVEN(CB$2)=CB$2)),CB$1,-100))","v":1453.125},{"$f":"IF('Ceiling Speaker Calculator'!$C$29=\"Square\",CC$1,IF(OR(AND(ODD($A92)=$A92,ODD(CC$2)=CC$2),AND(EVEN($A92)=$A92,EVEN(CC$2)=CC$2)),CC$1,-100))","v":1471.875},{"$f":"IF('Ceiling Speaker Calculator'!$C$29=\"Square\",CD$1,IF(OR(AND(ODD($A92)=$A92,ODD(CD$2)=CD$2),AND(EVEN($A92)=$A92,EVEN(CD$2)=CD$2)),CD$1,-100))","v":1490.625},{"$f":"IF('Ceiling Speaker Calculator'!$C$29=\"Square\",CE$1,IF(OR(AND(ODD($A92)=$A92,ODD(CE$2)=CE$2),AND(EVEN($A92)=$A92,EVEN(CE$2)=CE$2)),CE$1,-100))","v":1509.375},{"$f":"IF('Ceiling Speaker Calculator'!$C$29=\"Square\",CF$1,IF(OR(AND(ODD($A92)=$A92,ODD(CF$2)=CF$2),AND(EVEN($A92)=$A92,EVEN(CF$2)=CF$2)),CF$1,-100))","v":1528.125},{"$f":"IF('Ceiling Speaker Calculator'!$C$29=\"Square\",CG$1,IF(OR(AND(ODD($A92)=$A92,ODD(CG$2)=CG$2),AND(EVEN($A92)=$A92,EVEN(CG$2)=CG$2)),CG$1,-100))","v":1546.875},{"$f":"IF('Ceiling Speaker Calculator'!$C$29=\"Square\",CH$1,IF(OR(AND(ODD($A92)=$A92,ODD(CH$2)=CH$2),AND(EVEN($A92)=$A92,EVEN(CH$2)=CH$2)),CH$1,-100))","v":1565.625},{"$f":"IF('Ceiling Speaker Calculator'!$C$29=\"Square\",CI$1,IF(OR(AND(ODD($A92)=$A92,ODD(CI$2)=CI$2),AND(EVEN($A92)=$A92,EVEN(CI$2)=CI$2)),CI$1,-100))","v":1584.375},{"$f":"IF('Ceiling Speaker Calculator'!$C$29=\"Square\",CJ$1,IF(OR(AND(ODD($A92)=$A92,ODD(CJ$2)=CJ$2),AND(EVEN($A92)=$A92,EVEN(CJ$2)=CJ$2)),CJ$1,-100))","v":1603.125},{"$f":"IF('Ceiling Speaker Calculator'!$C$29=\"Square\",CK$1,IF(OR(AND(ODD($A92)=$A92,ODD(CK$2)=CK$2),AND(EVEN($A92)=$A92,EVEN(CK$2)=CK$2)),CK$1,-100))","v":1621.875},{"$f":"IF('Ceiling Speaker Calculator'!$C$29=\"Square\",CL$1,IF(OR(AND(ODD($A92)=$A92,ODD(CL$2)=CL$2),AND(EVEN($A92)=$A92,EVEN(CL$2)=CL$2)),CL$1,-100))","v":1640.625},{"$f":"IF('Ceiling Speaker Calculator'!$C$29=\"Square\",CM$1,IF(OR(AND(ODD($A92)=$A92,ODD(CM$2)=CM$2),AND(EVEN($A92)=$A92,EVEN(CM$2)=CM$2)),CM$1,-100))","v":1659.375},{"$f":"IF('Ceiling Speaker Calculator'!$C$29=\"Square\",CN$1,IF(OR(AND(ODD($A92)=$A92,ODD(CN$2)=CN$2),AND(EVEN($A92)=$A92,EVEN(CN$2)=CN$2)),CN$1,-100))","v":1678.125},{"$f":"IF('Ceiling Speaker Calculator'!$C$29=\"Square\",CO$1,IF(OR(AND(ODD($A92)=$A92,ODD(CO$2)=CO$2),AND(EVEN($A92)=$A92,EVEN(CO$2)=CO$2)),CO$1,-100))","v":1696.875},{"$f":"IF('Ceiling Speaker Calculator'!$C$29=\"Square\",CP$1,IF(OR(AND(ODD($A92)=$A92,ODD(CP$2)=CP$2),AND(EVEN($A92)=$A92,EVEN(CP$2)=CP$2)),CP$1,-100))","v":1715.625},{"$f":"IF('Ceiling Speaker Calculator'!$C$29=\"Square\",CQ$1,IF(OR(AND(ODD($A92)=$A92,ODD(CQ$2)=CQ$2),AND(EVEN($A92)=$A92,EVEN(CQ$2)=CQ$2)),CQ$1,-100))","v":1734.375},{"$f":"IF('Ceiling Speaker Calculator'!$C$29=\"Square\",CR$1,IF(OR(AND(ODD($A92)=$A92,ODD(CR$2)=CR$2),AND(EVEN($A92)=$A92,EVEN(CR$2)=CR$2)),CR$1,-100))","v":1753.125},{"$f":"IF('Ceiling Speaker Calculator'!$C$29=\"Square\",CS$1,IF(OR(AND(ODD($A92)=$A92,ODD(CS$2)=CS$2),AND(EVEN($A92)=$A92,EVEN(CS$2)=CS$2)),CS$1,-100))","v":1771.875},{"$f":"IF('Ceiling Speaker Calculator'!$C$29=\"Square\",CT$1,IF(OR(AND(ODD($A92)=$A92,ODD(CT$2)=CT$2),AND(EVEN($A92)=$A92,EVEN(CT$2)=CT$2)),CT$1,-100))","v":1790.625},{"$f":"IF('Ceiling Speaker Calculator'!$C$29=\"Square\",CU$1,IF(OR(AND(ODD($A92)=$A92,ODD(CU$2)=CU$2),AND(EVEN($A92)=$A92,EVEN(CU$2)=CU$2)),CU$1,-100))","v":1809.375},{"$f":"IF('Ceiling Speaker Calculator'!$C$29=\"Square\",CV$1,IF(OR(AND(ODD($A92)=$A92,ODD(CV$2)=CV$2),AND(EVEN($A92)=$A92,EVEN(CV$2)=CV$2)),CV$1,-100))","v":1828.125},{"$f":"IF('Ceiling Speaker Calculator'!$C$29=\"Square\",CW$1,IF(OR(AND(ODD($A92)=$A92,ODD(CW$2)=CW$2),AND(EVEN($A92)=$A92,EVEN(CW$2)=CW$2)),CW$1,-100))","v":1846.875},{"$f":"IF('Ceiling Speaker Calculator'!$C$29=\"Square\",CX$1,IF(OR(AND(ODD($A92)=$A92,ODD(CX$2)=CX$2),AND(EVEN($A92)=$A92,EVEN(CX$2)=CX$2)),CX$1,-100))","v":1865.625}]
[91,{"$f":"B92+'Ceiling Speaker Calculator'!$K$16","v":1810},{"$f":"IF('Ceiling Speaker Calculator'!$C$29=\"Square\",C$1,IF(OR(AND(ODD($A93)=$A93,ODD(C$2)=C$2),AND(EVEN($A93)=$A93,EVEN(C$2)=C$2)),C$1,-100))","v":9.375},{"$f":"IF('Ceiling Speaker Calculator'!$C$29=\"Square\",D$1,IF(OR(AND(ODD($A93)=$A93,ODD(D$2)=D$2),AND(EVEN($A93)=$A93,EVEN(D$2)=D$2)),D$1,-100))","v":28.125},{"$f":"IF('Ceiling Speaker Calculator'!$C$29=\"Square\",E$1,IF(OR(AND(ODD($A93)=$A93,ODD(E$2)=E$2),AND(EVEN($A93)=$A93,EVEN(E$2)=E$2)),E$1,-100))","v":46.875},{"$f":"IF('Ceiling Speaker Calculator'!$C$29=\"Square\",F$1,IF(OR(AND(ODD($A93)=$A93,ODD(F$2)=F$2),AND(EVEN($A93)=$A93,EVEN(F$2)=F$2)),F$1,-100))","v":65.625},{"$f":"IF('Ceiling Speaker Calculator'!$C$29=\"Square\",G$1,IF(OR(AND(ODD($A93)=$A93,ODD(G$2)=G$2),AND(EVEN($A93)=$A93,EVEN(G$2)=G$2)),G$1,-100))","v":84.375},{"$f":"IF('Ceiling Speaker Calculator'!$C$29=\"Square\",H$1,IF(OR(AND(ODD($A93)=$A93,ODD(H$2)=H$2),AND(EVEN($A93)=$A93,EVEN(H$2)=H$2)),H$1,-100))","v":103.125},{"$f":"IF('Ceiling Speaker Calculator'!$C$29=\"Square\",I$1,IF(OR(AND(ODD($A93)=$A93,ODD(I$2)=I$2),AND(EVEN($A93)=$A93,EVEN(I$2)=I$2)),I$1,-100))","v":121.875},{"$f":"IF('Ceiling Speaker Calculator'!$C$29=\"Square\",J$1,IF(OR(AND(ODD($A93)=$A93,ODD(J$2)=J$2),AND(EVEN($A93)=$A93,EVEN(J$2)=J$2)),J$1,-100))","v":140.625},{"$f":"IF('Ceiling Speaker Calculator'!$C$29=\"Square\",K$1,IF(OR(AND(ODD($A93)=$A93,ODD(K$2)=K$2),AND(EVEN($A93)=$A93,EVEN(K$2)=K$2)),K$1,-100))","v":159.375},{"$f":"IF('Ceiling Speaker Calculator'!$C$29=\"Square\",L$1,IF(OR(AND(ODD($A93)=$A93,ODD(L$2)=L$2),AND(EVEN($A93)=$A93,EVEN(L$2)=L$2)),L$1,-100))","v":178.125},{"$f":"IF('Ceiling Speaker Calculator'!$C$29=\"Square\",M$1,IF(OR(AND(ODD($A93)=$A93,ODD(M$2)=M$2),AND(EVEN($A93)=$A93,EVEN(M$2)=M$2)),M$1,-100))","v":196.875},{"$f":"IF('Ceiling Speaker Calculator'!$C$29=\"Square\",N$1,IF(OR(AND(ODD($A93)=$A93,ODD(N$2)=N$2),AND(EVEN($A93)=$A93,EVEN(N$2)=N$2)),N$1,-100))","v":215.625},{"$f":"IF('Ceiling Speaker Calculator'!$C$29=\"Square\",O$1,IF(OR(AND(ODD($A93)=$A93,ODD(O$2)=O$2),AND(EVEN($A93)=$A93,EVEN(O$2)=O$2)),O$1,-100))","v":234.375},{"$f":"IF('Ceiling Speaker Calculator'!$C$29=\"Square\",P$1,IF(OR(AND(ODD($A93)=$A93,ODD(P$2)=P$2),AND(EVEN($A93)=$A93,EVEN(P$2)=P$2)),P$1,-100))","v":253.125},{"$f":"IF('Ceiling Speaker Calculator'!$C$29=\"Square\",Q$1,IF(OR(AND(ODD($A93)=$A93,ODD(Q$2)=Q$2),AND(EVEN($A93)=$A93,EVEN(Q$2)=Q$2)),Q$1,-100))","v":271.875},{"$f":"IF('Ceiling Speaker Calculator'!$C$29=\"Square\",R$1,IF(OR(AND(ODD($A93)=$A93,ODD(R$2)=R$2),AND(EVEN($A93)=$A93,EVEN(R$2)=R$2)),R$1,-100))","v":290.625},{"$f":"IF('Ceiling Speaker Calculator'!$C$29=\"Square\",S$1,IF(OR(AND(ODD($A93)=$A93,ODD(S$2)=S$2),AND(EVEN($A93)=$A93,EVEN(S$2)=S$2)),S$1,-100))","v":309.375},{"$f":"IF('Ceiling Speaker Calculator'!$C$29=\"Square\",T$1,IF(OR(AND(ODD($A93)=$A93,ODD(T$2)=T$2),AND(EVEN($A93)=$A93,EVEN(T$2)=T$2)),T$1,-100))","v":328.125},{"$f":"IF('Ceiling Speaker Calculator'!$C$29=\"Square\",U$1,IF(OR(AND(ODD($A93)=$A93,ODD(U$2)=U$2),AND(EVEN($A93)=$A93,EVEN(U$2)=U$2)),U$1,-100))","v":346.875},{"$f":"IF('Ceiling Speaker Calculator'!$C$29=\"Square\",V$1,IF(OR(AND(ODD($A93)=$A93,ODD(V$2)=V$2),AND(EVEN($A93)=$A93,EVEN(V$2)=V$2)),V$1,-100))","v":365.625},{"$f":"IF('Ceiling Speaker Calculator'!$C$29=\"Square\",W$1,IF(OR(AND(ODD($A93)=$A93,ODD(W$2)=W$2),AND(EVEN($A93)=$A93,EVEN(W$2)=W$2)),W$1,-100))","v":384.375},{"$f":"IF('Ceiling Speaker Calculator'!$C$29=\"Square\",X$1,IF(OR(AND(ODD($A93)=$A93,ODD(X$2)=X$2),AND(EVEN($A93)=$A93,EVEN(X$2)=X$2)),X$1,-100))","v":403.125},{"$f":"IF('Ceiling Speaker Calculator'!$C$29=\"Square\",Y$1,IF(OR(AND(ODD($A93)=$A93,ODD(Y$2)=Y$2),AND(EVEN($A93)=$A93,EVEN(Y$2)=Y$2)),Y$1,-100))","v":421.875},{"$f":"IF('Ceiling Speaker Calculator'!$C$29=\"Square\",Z$1,IF(OR(AND(ODD($A93)=$A93,ODD(Z$2)=Z$2),AND(EVEN($A93)=$A93,EVEN(Z$2)=Z$2)),Z$1,-100))","v":440.625},{"$f":"IF('Ceiling Speaker Calculator'!$C$29=\"Square\",AA$1,IF(OR(AND(ODD($A93)=$A93,ODD(AA$2)=AA$2),AND(EVEN($A93)=$A93,EVEN(AA$2)=AA$2)),AA$1,-100))","v":459.375},{"$f":"IF('Ceiling Speaker Calculator'!$C$29=\"Square\",AB$1,IF(OR(AND(ODD($A93)=$A93,ODD(AB$2)=AB$2),AND(EVEN($A93)=$A93,EVEN(AB$2)=AB$2)),AB$1,-100))","v":478.125},{"$f":"IF('Ceiling Speaker Calculator'!$C$29=\"Square\",AC$1,IF(OR(AND(ODD($A93)=$A93,ODD(AC$2)=AC$2),AND(EVEN($A93)=$A93,EVEN(AC$2)=AC$2)),AC$1,-100))","v":496.875},{"$f":"IF('Ceiling Speaker Calculator'!$C$29=\"Square\",AD$1,IF(OR(AND(ODD($A93)=$A93,ODD(AD$2)=AD$2),AND(EVEN($A93)=$A93,EVEN(AD$2)=AD$2)),AD$1,-100))","v":515.625},{"$f":"IF('Ceiling Speaker Calculator'!$C$29=\"Square\",AE$1,IF(OR(AND(ODD($A93)=$A93,ODD(AE$2)=AE$2),AND(EVEN($A93)=$A93,EVEN(AE$2)=AE$2)),AE$1,-100))","v":534.375},{"$f":"IF('Ceiling Speaker Calculator'!$C$29=\"Square\",AF$1,IF(OR(AND(ODD($A93)=$A93,ODD(AF$2)=AF$2),AND(EVEN($A93)=$A93,EVEN(AF$2)=AF$2)),AF$1,-100))","v":553.125},{"$f":"IF('Ceiling Speaker Calculator'!$C$29=\"Square\",AG$1,IF(OR(AND(ODD($A93)=$A93,ODD(AG$2)=AG$2),AND(EVEN($A93)=$A93,EVEN(AG$2)=AG$2)),AG$1,-100))","v":571.875},{"$f":"IF('Ceiling Speaker Calculator'!$C$29=\"Square\",AH$1,IF(OR(AND(ODD($A93)=$A93,ODD(AH$2)=AH$2),AND(EVEN($A93)=$A93,EVEN(AH$2)=AH$2)),AH$1,-100))","v":590.625},{"$f":"IF('Ceiling Speaker Calculator'!$C$29=\"Square\",AI$1,IF(OR(AND(ODD($A93)=$A93,ODD(AI$2)=AI$2),AND(EVEN($A93)=$A93,EVEN(AI$2)=AI$2)),AI$1,-100))","v":609.375},{"$f":"IF('Ceiling Speaker Calculator'!$C$29=\"Square\",AJ$1,IF(OR(AND(ODD($A93)=$A93,ODD(AJ$2)=AJ$2),AND(EVEN($A93)=$A93,EVEN(AJ$2)=AJ$2)),AJ$1,-100))","v":628.125},{"$f":"IF('Ceiling Speaker Calculator'!$C$29=\"Square\",AK$1,IF(OR(AND(ODD($A93)=$A93,ODD(AK$2)=AK$2),AND(EVEN($A93)=$A93,EVEN(AK$2)=AK$2)),AK$1,-100))","v":646.875},{"$f":"IF('Ceiling Speaker Calculator'!$C$29=\"Square\",AL$1,IF(OR(AND(ODD($A93)=$A93,ODD(AL$2)=AL$2),AND(EVEN($A93)=$A93,EVEN(AL$2)=AL$2)),AL$1,-100))","v":665.625},{"$f":"IF('Ceiling Speaker Calculator'!$C$29=\"Square\",AM$1,IF(OR(AND(ODD($A93)=$A93,ODD(AM$2)=AM$2),AND(EVEN($A93)=$A93,EVEN(AM$2)=AM$2)),AM$1,-100))","v":684.375},{"$f":"IF('Ceiling Speaker Calculator'!$C$29=\"Square\",AN$1,IF(OR(AND(ODD($A93)=$A93,ODD(AN$2)=AN$2),AND(EVEN($A93)=$A93,EVEN(AN$2)=AN$2)),AN$1,-100))","v":703.125},{"$f":"IF('Ceiling Speaker Calculator'!$C$29=\"Square\",AO$1,IF(OR(AND(ODD($A93)=$A93,ODD(AO$2)=AO$2),AND(EVEN($A93)=$A93,EVEN(AO$2)=AO$2)),AO$1,-100))","v":721.875},{"$f":"IF('Ceiling Speaker Calculator'!$C$29=\"Square\",AP$1,IF(OR(AND(ODD($A93)=$A93,ODD(AP$2)=AP$2),AND(EVEN($A93)=$A93,EVEN(AP$2)=AP$2)),AP$1,-100))","v":740.625},{"$f":"IF('Ceiling Speaker Calculator'!$C$29=\"Square\",AQ$1,IF(OR(AND(ODD($A93)=$A93,ODD(AQ$2)=AQ$2),AND(EVEN($A93)=$A93,EVEN(AQ$2)=AQ$2)),AQ$1,-100))","v":759.375},{"$f":"IF('Ceiling Speaker Calculator'!$C$29=\"Square\",AR$1,IF(OR(AND(ODD($A93)=$A93,ODD(AR$2)=AR$2),AND(EVEN($A93)=$A93,EVEN(AR$2)=AR$2)),AR$1,-100))","v":778.125},{"$f":"IF('Ceiling Speaker Calculator'!$C$29=\"Square\",AS$1,IF(OR(AND(ODD($A93)=$A93,ODD(AS$2)=AS$2),AND(EVEN($A93)=$A93,EVEN(AS$2)=AS$2)),AS$1,-100))","v":796.875},{"$f":"IF('Ceiling Speaker Calculator'!$C$29=\"Square\",AT$1,IF(OR(AND(ODD($A93)=$A93,ODD(AT$2)=AT$2),AND(EVEN($A93)=$A93,EVEN(AT$2)=AT$2)),AT$1,-100))","v":815.625},{"$f":"IF('Ceiling Speaker Calculator'!$C$29=\"Square\",AU$1,IF(OR(AND(ODD($A93)=$A93,ODD(AU$2)=AU$2),AND(EVEN($A93)=$A93,EVEN(AU$2)=AU$2)),AU$1,-100))","v":834.375},{"$f":"IF('Ceiling Speaker Calculator'!$C$29=\"Square\",AV$1,IF(OR(AND(ODD($A93)=$A93,ODD(AV$2)=AV$2),AND(EVEN($A93)=$A93,EVEN(AV$2)=AV$2)),AV$1,-100))","v":853.125},{"$f":"IF('Ceiling Speaker Calculator'!$C$29=\"Square\",AW$1,IF(OR(AND(ODD($A93)=$A93,ODD(AW$2)=AW$2),AND(EVEN($A93)=$A93,EVEN(AW$2)=AW$2)),AW$1,-100))","v":871.875},{"$f":"IF('Ceiling Speaker Calculator'!$C$29=\"Square\",AX$1,IF(OR(AND(ODD($A93)=$A93,ODD(AX$2)=AX$2),AND(EVEN($A93)=$A93,EVEN(AX$2)=AX$2)),AX$1,-100))","v":890.625},{"$f":"IF('Ceiling Speaker Calculator'!$C$29=\"Square\",AY$1,IF(OR(AND(ODD($A93)=$A93,ODD(AY$2)=AY$2),AND(EVEN($A93)=$A93,EVEN(AY$2)=AY$2)),AY$1,-100))","v":909.375},{"$f":"IF('Ceiling Speaker Calculator'!$C$29=\"Square\",AZ$1,IF(OR(AND(ODD($A93)=$A93,ODD(AZ$2)=AZ$2),AND(EVEN($A93)=$A93,EVEN(AZ$2)=AZ$2)),AZ$1,-100))","v":928.125},{"$f":"IF('Ceiling Speaker Calculator'!$C$29=\"Square\",BA$1,IF(OR(AND(ODD($A93)=$A93,ODD(BA$2)=BA$2),AND(EVEN($A93)=$A93,EVEN(BA$2)=BA$2)),BA$1,-100))","v":946.875},{"$f":"IF('Ceiling Speaker Calculator'!$C$29=\"Square\",BB$1,IF(OR(AND(ODD($A93)=$A93,ODD(BB$2)=BB$2),AND(EVEN($A93)=$A93,EVEN(BB$2)=BB$2)),BB$1,-100))","v":965.625},{"$f":"IF('Ceiling Speaker Calculator'!$C$29=\"Square\",BC$1,IF(OR(AND(ODD($A93)=$A93,ODD(BC$2)=BC$2),AND(EVEN($A93)=$A93,EVEN(BC$2)=BC$2)),BC$1,-100))","v":984.375},{"$f":"IF('Ceiling Speaker Calculator'!$C$29=\"Square\",BD$1,IF(OR(AND(ODD($A93)=$A93,ODD(BD$2)=BD$2),AND(EVEN($A93)=$A93,EVEN(BD$2)=BD$2)),BD$1,-100))","v":1003.125},{"$f":"IF('Ceiling Speaker Calculator'!$C$29=\"Square\",BE$1,IF(OR(AND(ODD($A93)=$A93,ODD(BE$2)=BE$2),AND(EVEN($A93)=$A93,EVEN(BE$2)=BE$2)),BE$1,-100))","v":1021.875},{"$f":"IF('Ceiling Speaker Calculator'!$C$29=\"Square\",BF$1,IF(OR(AND(ODD($A93)=$A93,ODD(BF$2)=BF$2),AND(EVEN($A93)=$A93,EVEN(BF$2)=BF$2)),BF$1,-100))","v":1040.625},{"$f":"IF('Ceiling Speaker Calculator'!$C$29=\"Square\",BG$1,IF(OR(AND(ODD($A93)=$A93,ODD(BG$2)=BG$2),AND(EVEN($A93)=$A93,EVEN(BG$2)=BG$2)),BG$1,-100))","v":1059.375},{"$f":"IF('Ceiling Speaker Calculator'!$C$29=\"Square\",BH$1,IF(OR(AND(ODD($A93)=$A93,ODD(BH$2)=BH$2),AND(EVEN($A93)=$A93,EVEN(BH$2)=BH$2)),BH$1,-100))","v":1078.125},{"$f":"IF('Ceiling Speaker Calculator'!$C$29=\"Square\",BI$1,IF(OR(AND(ODD($A93)=$A93,ODD(BI$2)=BI$2),AND(EVEN($A93)=$A93,EVEN(BI$2)=BI$2)),BI$1,-100))","v":1096.875},{"$f":"IF('Ceiling Speaker Calculator'!$C$29=\"Square\",BJ$1,IF(OR(AND(ODD($A93)=$A93,ODD(BJ$2)=BJ$2),AND(EVEN($A93)=$A93,EVEN(BJ$2)=BJ$2)),BJ$1,-100))","v":1115.625},{"$f":"IF('Ceiling Speaker Calculator'!$C$29=\"Square\",BK$1,IF(OR(AND(ODD($A93)=$A93,ODD(BK$2)=BK$2),AND(EVEN($A93)=$A93,EVEN(BK$2)=BK$2)),BK$1,-100))","v":1134.375},{"$f":"IF('Ceiling Speaker Calculator'!$C$29=\"Square\",BL$1,IF(OR(AND(ODD($A93)=$A93,ODD(BL$2)=BL$2),AND(EVEN($A93)=$A93,EVEN(BL$2)=BL$2)),BL$1,-100))","v":1153.125},{"$f":"IF('Ceiling Speaker Calculator'!$C$29=\"Square\",BM$1,IF(OR(AND(ODD($A93)=$A93,ODD(BM$2)=BM$2),AND(EVEN($A93)=$A93,EVEN(BM$2)=BM$2)),BM$1,-100))","v":1171.875},{"$f":"IF('Ceiling Speaker Calculator'!$C$29=\"Square\",BN$1,IF(OR(AND(ODD($A93)=$A93,ODD(BN$2)=BN$2),AND(EVEN($A93)=$A93,EVEN(BN$2)=BN$2)),BN$1,-100))","v":1190.625},{"$f":"IF('Ceiling Speaker Calculator'!$C$29=\"Square\",BO$1,IF(OR(AND(ODD($A93)=$A93,ODD(BO$2)=BO$2),AND(EVEN($A93)=$A93,EVEN(BO$2)=BO$2)),BO$1,-100))","v":1209.375},{"$f":"IF('Ceiling Speaker Calculator'!$C$29=\"Square\",BP$1,IF(OR(AND(ODD($A93)=$A93,ODD(BP$2)=BP$2),AND(EVEN($A93)=$A93,EVEN(BP$2)=BP$2)),BP$1,-100))","v":1228.125},{"$f":"IF('Ceiling Speaker Calculator'!$C$29=\"Square\",BQ$1,IF(OR(AND(ODD($A93)=$A93,ODD(BQ$2)=BQ$2),AND(EVEN($A93)=$A93,EVEN(BQ$2)=BQ$2)),BQ$1,-100))","v":1246.875},{"$f":"IF('Ceiling Speaker Calculator'!$C$29=\"Square\",BR$1,IF(OR(AND(ODD($A93)=$A93,ODD(BR$2)=BR$2),AND(EVEN($A93)=$A93,EVEN(BR$2)=BR$2)),BR$1,-100))","v":1265.625},{"$f":"IF('Ceiling Speaker Calculator'!$C$29=\"Square\",BS$1,IF(OR(AND(ODD($A93)=$A93,ODD(BS$2)=BS$2),AND(EVEN($A93)=$A93,EVEN(BS$2)=BS$2)),BS$1,-100))","v":1284.375},{"$f":"IF('Ceiling Speaker Calculator'!$C$29=\"Square\",BT$1,IF(OR(AND(ODD($A93)=$A93,ODD(BT$2)=BT$2),AND(EVEN($A93)=$A93,EVEN(BT$2)=BT$2)),BT$1,-100))","v":1303.125},{"$f":"IF('Ceiling Speaker Calculator'!$C$29=\"Square\",BU$1,IF(OR(AND(ODD($A93)=$A93,ODD(BU$2)=BU$2),AND(EVEN($A93)=$A93,EVEN(BU$2)=BU$2)),BU$1,-100))","v":1321.875},{"$f":"IF('Ceiling Speaker Calculator'!$C$29=\"Square\",BV$1,IF(OR(AND(ODD($A93)=$A93,ODD(BV$2)=BV$2),AND(EVEN($A93)=$A93,EVEN(BV$2)=BV$2)),BV$1,-100))","v":1340.625},{"$f":"IF('Ceiling Speaker Calculator'!$C$29=\"Square\",BW$1,IF(OR(AND(ODD($A93)=$A93,ODD(BW$2)=BW$2),AND(EVEN($A93)=$A93,EVEN(BW$2)=BW$2)),BW$1,-100))","v":1359.375},{"$f":"IF('Ceiling Speaker Calculator'!$C$29=\"Square\",BX$1,IF(OR(AND(ODD($A93)=$A93,ODD(BX$2)=BX$2),AND(EVEN($A93)=$A93,EVEN(BX$2)=BX$2)),BX$1,-100))","v":1378.125},{"$f":"IF('Ceiling Speaker Calculator'!$C$29=\"Square\",BY$1,IF(OR(AND(ODD($A93)=$A93,ODD(BY$2)=BY$2),AND(EVEN($A93)=$A93,EVEN(BY$2)=BY$2)),BY$1,-100))","v":1396.875},{"$f":"IF('Ceiling Speaker Calculator'!$C$29=\"Square\",BZ$1,IF(OR(AND(ODD($A93)=$A93,ODD(BZ$2)=BZ$2),AND(EVEN($A93)=$A93,EVEN(BZ$2)=BZ$2)),BZ$1,-100))","v":1415.625},{"$f":"IF('Ceiling Speaker Calculator'!$C$29=\"Square\",CA$1,IF(OR(AND(ODD($A93)=$A93,ODD(CA$2)=CA$2),AND(EVEN($A93)=$A93,EVEN(CA$2)=CA$2)),CA$1,-100))","v":1434.375},{"$f":"IF('Ceiling Speaker Calculator'!$C$29=\"Square\",CB$1,IF(OR(AND(ODD($A93)=$A93,ODD(CB$2)=CB$2),AND(EVEN($A93)=$A93,EVEN(CB$2)=CB$2)),CB$1,-100))","v":1453.125},{"$f":"IF('Ceiling Speaker Calculator'!$C$29=\"Square\",CC$1,IF(OR(AND(ODD($A93)=$A93,ODD(CC$2)=CC$2),AND(EVEN($A93)=$A93,EVEN(CC$2)=CC$2)),CC$1,-100))","v":1471.875},{"$f":"IF('Ceiling Speaker Calculator'!$C$29=\"Square\",CD$1,IF(OR(AND(ODD($A93)=$A93,ODD(CD$2)=CD$2),AND(EVEN($A93)=$A93,EVEN(CD$2)=CD$2)),CD$1,-100))","v":1490.625},{"$f":"IF('Ceiling Speaker Calculator'!$C$29=\"Square\",CE$1,IF(OR(AND(ODD($A93)=$A93,ODD(CE$2)=CE$2),AND(EVEN($A93)=$A93,EVEN(CE$2)=CE$2)),CE$1,-100))","v":1509.375},{"$f":"IF('Ceiling Speaker Calculator'!$C$29=\"Square\",CF$1,IF(OR(AND(ODD($A93)=$A93,ODD(CF$2)=CF$2),AND(EVEN($A93)=$A93,EVEN(CF$2)=CF$2)),CF$1,-100))","v":1528.125},{"$f":"IF('Ceiling Speaker Calculator'!$C$29=\"Square\",CG$1,IF(OR(AND(ODD($A93)=$A93,ODD(CG$2)=CG$2),AND(EVEN($A93)=$A93,EVEN(CG$2)=CG$2)),CG$1,-100))","v":1546.875},{"$f":"IF('Ceiling Speaker Calculator'!$C$29=\"Square\",CH$1,IF(OR(AND(ODD($A93)=$A93,ODD(CH$2)=CH$2),AND(EVEN($A93)=$A93,EVEN(CH$2)=CH$2)),CH$1,-100))","v":1565.625},{"$f":"IF('Ceiling Speaker Calculator'!$C$29=\"Square\",CI$1,IF(OR(AND(ODD($A93)=$A93,ODD(CI$2)=CI$2),AND(EVEN($A93)=$A93,EVEN(CI$2)=CI$2)),CI$1,-100))","v":1584.375},{"$f":"IF('Ceiling Speaker Calculator'!$C$29=\"Square\",CJ$1,IF(OR(AND(ODD($A93)=$A93,ODD(CJ$2)=CJ$2),AND(EVEN($A93)=$A93,EVEN(CJ$2)=CJ$2)),CJ$1,-100))","v":1603.125},{"$f":"IF('Ceiling Speaker Calculator'!$C$29=\"Square\",CK$1,IF(OR(AND(ODD($A93)=$A93,ODD(CK$2)=CK$2),AND(EVEN($A93)=$A93,EVEN(CK$2)=CK$2)),CK$1,-100))","v":1621.875},{"$f":"IF('Ceiling Speaker Calculator'!$C$29=\"Square\",CL$1,IF(OR(AND(ODD($A93)=$A93,ODD(CL$2)=CL$2),AND(EVEN($A93)=$A93,EVEN(CL$2)=CL$2)),CL$1,-100))","v":1640.625},{"$f":"IF('Ceiling Speaker Calculator'!$C$29=\"Square\",CM$1,IF(OR(AND(ODD($A93)=$A93,ODD(CM$2)=CM$2),AND(EVEN($A93)=$A93,EVEN(CM$2)=CM$2)),CM$1,-100))","v":1659.375},{"$f":"IF('Ceiling Speaker Calculator'!$C$29=\"Square\",CN$1,IF(OR(AND(ODD($A93)=$A93,ODD(CN$2)=CN$2),AND(EVEN($A93)=$A93,EVEN(CN$2)=CN$2)),CN$1,-100))","v":1678.125},{"$f":"IF('Ceiling Speaker Calculator'!$C$29=\"Square\",CO$1,IF(OR(AND(ODD($A93)=$A93,ODD(CO$2)=CO$2),AND(EVEN($A93)=$A93,EVEN(CO$2)=CO$2)),CO$1,-100))","v":1696.875},{"$f":"IF('Ceiling Speaker Calculator'!$C$29=\"Square\",CP$1,IF(OR(AND(ODD($A93)=$A93,ODD(CP$2)=CP$2),AND(EVEN($A93)=$A93,EVEN(CP$2)=CP$2)),CP$1,-100))","v":1715.625},{"$f":"IF('Ceiling Speaker Calculator'!$C$29=\"Square\",CQ$1,IF(OR(AND(ODD($A93)=$A93,ODD(CQ$2)=CQ$2),AND(EVEN($A93)=$A93,EVEN(CQ$2)=CQ$2)),CQ$1,-100))","v":1734.375},{"$f":"IF('Ceiling Speaker Calculator'!$C$29=\"Square\",CR$1,IF(OR(AND(ODD($A93)=$A93,ODD(CR$2)=CR$2),AND(EVEN($A93)=$A93,EVEN(CR$2)=CR$2)),CR$1,-100))","v":1753.125},{"$f":"IF('Ceiling Speaker Calculator'!$C$29=\"Square\",CS$1,IF(OR(AND(ODD($A93)=$A93,ODD(CS$2)=CS$2),AND(EVEN($A93)=$A93,EVEN(CS$2)=CS$2)),CS$1,-100))","v":1771.875},{"$f":"IF('Ceiling Speaker Calculator'!$C$29=\"Square\",CT$1,IF(OR(AND(ODD($A93)=$A93,ODD(CT$2)=CT$2),AND(EVEN($A93)=$A93,EVEN(CT$2)=CT$2)),CT$1,-100))","v":1790.625},{"$f":"IF('Ceiling Speaker Calculator'!$C$29=\"Square\",CU$1,IF(OR(AND(ODD($A93)=$A93,ODD(CU$2)=CU$2),AND(EVEN($A93)=$A93,EVEN(CU$2)=CU$2)),CU$1,-100))","v":1809.375},{"$f":"IF('Ceiling Speaker Calculator'!$C$29=\"Square\",CV$1,IF(OR(AND(ODD($A93)=$A93,ODD(CV$2)=CV$2),AND(EVEN($A93)=$A93,EVEN(CV$2)=CV$2)),CV$1,-100))","v":1828.125},{"$f":"IF('Ceiling Speaker Calculator'!$C$29=\"Square\",CW$1,IF(OR(AND(ODD($A93)=$A93,ODD(CW$2)=CW$2),AND(EVEN($A93)=$A93,EVEN(CW$2)=CW$2)),CW$1,-100))","v":1846.875},{"$f":"IF('Ceiling Speaker Calculator'!$C$29=\"Square\",CX$1,IF(OR(AND(ODD($A93)=$A93,ODD(CX$2)=CX$2),AND(EVEN($A93)=$A93,EVEN(CX$2)=CX$2)),CX$1,-100))","v":1865.625}]
[92,{"$f":"B93+'Ceiling Speaker Calculator'!$K$16","v":1830},{"$f":"IF('Ceiling Speaker Calculator'!$C$29=\"Square\",C$1,IF(OR(AND(ODD($A94)=$A94,ODD(C$2)=C$2),AND(EVEN($A94)=$A94,EVEN(C$2)=C$2)),C$1,-100))","v":9.375},{"$f":"IF('Ceiling Speaker Calculator'!$C$29=\"Square\",D$1,IF(OR(AND(ODD($A94)=$A94,ODD(D$2)=D$2),AND(EVEN($A94)=$A94,EVEN(D$2)=D$2)),D$1,-100))","v":28.125},{"$f":"IF('Ceiling Speaker Calculator'!$C$29=\"Square\",E$1,IF(OR(AND(ODD($A94)=$A94,ODD(E$2)=E$2),AND(EVEN($A94)=$A94,EVEN(E$2)=E$2)),E$1,-100))","v":46.875},{"$f":"IF('Ceiling Speaker Calculator'!$C$29=\"Square\",F$1,IF(OR(AND(ODD($A94)=$A94,ODD(F$2)=F$2),AND(EVEN($A94)=$A94,EVEN(F$2)=F$2)),F$1,-100))","v":65.625},{"$f":"IF('Ceiling Speaker Calculator'!$C$29=\"Square\",G$1,IF(OR(AND(ODD($A94)=$A94,ODD(G$2)=G$2),AND(EVEN($A94)=$A94,EVEN(G$2)=G$2)),G$1,-100))","v":84.375},{"$f":"IF('Ceiling Speaker Calculator'!$C$29=\"Square\",H$1,IF(OR(AND(ODD($A94)=$A94,ODD(H$2)=H$2),AND(EVEN($A94)=$A94,EVEN(H$2)=H$2)),H$1,-100))","v":103.125},{"$f":"IF('Ceiling Speaker Calculator'!$C$29=\"Square\",I$1,IF(OR(AND(ODD($A94)=$A94,ODD(I$2)=I$2),AND(EVEN($A94)=$A94,EVEN(I$2)=I$2)),I$1,-100))","v":121.875},{"$f":"IF('Ceiling Speaker Calculator'!$C$29=\"Square\",J$1,IF(OR(AND(ODD($A94)=$A94,ODD(J$2)=J$2),AND(EVEN($A94)=$A94,EVEN(J$2)=J$2)),J$1,-100))","v":140.625},{"$f":"IF('Ceiling Speaker Calculator'!$C$29=\"Square\",K$1,IF(OR(AND(ODD($A94)=$A94,ODD(K$2)=K$2),AND(EVEN($A94)=$A94,EVEN(K$2)=K$2)),K$1,-100))","v":159.375},{"$f":"IF('Ceiling Speaker Calculator'!$C$29=\"Square\",L$1,IF(OR(AND(ODD($A94)=$A94,ODD(L$2)=L$2),AND(EVEN($A94)=$A94,EVEN(L$2)=L$2)),L$1,-100))","v":178.125},{"$f":"IF('Ceiling Speaker Calculator'!$C$29=\"Square\",M$1,IF(OR(AND(ODD($A94)=$A94,ODD(M$2)=M$2),AND(EVEN($A94)=$A94,EVEN(M$2)=M$2)),M$1,-100))","v":196.875},{"$f":"IF('Ceiling Speaker Calculator'!$C$29=\"Square\",N$1,IF(OR(AND(ODD($A94)=$A94,ODD(N$2)=N$2),AND(EVEN($A94)=$A94,EVEN(N$2)=N$2)),N$1,-100))","v":215.625},{"$f":"IF('Ceiling Speaker Calculator'!$C$29=\"Square\",O$1,IF(OR(AND(ODD($A94)=$A94,ODD(O$2)=O$2),AND(EVEN($A94)=$A94,EVEN(O$2)=O$2)),O$1,-100))","v":234.375},{"$f":"IF('Ceiling Speaker Calculator'!$C$29=\"Square\",P$1,IF(OR(AND(ODD($A94)=$A94,ODD(P$2)=P$2),AND(EVEN($A94)=$A94,EVEN(P$2)=P$2)),P$1,-100))","v":253.125},{"$f":"IF('Ceiling Speaker Calculator'!$C$29=\"Square\",Q$1,IF(OR(AND(ODD($A94)=$A94,ODD(Q$2)=Q$2),AND(EVEN($A94)=$A94,EVEN(Q$2)=Q$2)),Q$1,-100))","v":271.875},{"$f":"IF('Ceiling Speaker Calculator'!$C$29=\"Square\",R$1,IF(OR(AND(ODD($A94)=$A94,ODD(R$2)=R$2),AND(EVEN($A94)=$A94,EVEN(R$2)=R$2)),R$1,-100))","v":290.625},{"$f":"IF('Ceiling Speaker Calculator'!$C$29=\"Square\",S$1,IF(OR(AND(ODD($A94)=$A94,ODD(S$2)=S$2),AND(EVEN($A94)=$A94,EVEN(S$2)=S$2)),S$1,-100))","v":309.375},{"$f":"IF('Ceiling Speaker Calculator'!$C$29=\"Square\",T$1,IF(OR(AND(ODD($A94)=$A94,ODD(T$2)=T$2),AND(EVEN($A94)=$A94,EVEN(T$2)=T$2)),T$1,-100))","v":328.125},{"$f":"IF('Ceiling Speaker Calculator'!$C$29=\"Square\",U$1,IF(OR(AND(ODD($A94)=$A94,ODD(U$2)=U$2),AND(EVEN($A94)=$A94,EVEN(U$2)=U$2)),U$1,-100))","v":346.875},{"$f":"IF('Ceiling Speaker Calculator'!$C$29=\"Square\",V$1,IF(OR(AND(ODD($A94)=$A94,ODD(V$2)=V$2),AND(EVEN($A94)=$A94,EVEN(V$2)=V$2)),V$1,-100))","v":365.625},{"$f":"IF('Ceiling Speaker Calculator'!$C$29=\"Square\",W$1,IF(OR(AND(ODD($A94)=$A94,ODD(W$2)=W$2),AND(EVEN($A94)=$A94,EVEN(W$2)=W$2)),W$1,-100))","v":384.375},{"$f":"IF('Ceiling Speaker Calculator'!$C$29=\"Square\",X$1,IF(OR(AND(ODD($A94)=$A94,ODD(X$2)=X$2),AND(EVEN($A94)=$A94,EVEN(X$2)=X$2)),X$1,-100))","v":403.125},{"$f":"IF('Ceiling Speaker Calculator'!$C$29=\"Square\",Y$1,IF(OR(AND(ODD($A94)=$A94,ODD(Y$2)=Y$2),AND(EVEN($A94)=$A94,EVEN(Y$2)=Y$2)),Y$1,-100))","v":421.875},{"$f":"IF('Ceiling Speaker Calculator'!$C$29=\"Square\",Z$1,IF(OR(AND(ODD($A94)=$A94,ODD(Z$2)=Z$2),AND(EVEN($A94)=$A94,EVEN(Z$2)=Z$2)),Z$1,-100))","v":440.625},{"$f":"IF('Ceiling Speaker Calculator'!$C$29=\"Square\",AA$1,IF(OR(AND(ODD($A94)=$A94,ODD(AA$2)=AA$2),AND(EVEN($A94)=$A94,EVEN(AA$2)=AA$2)),AA$1,-100))","v":459.375},{"$f":"IF('Ceiling Speaker Calculator'!$C$29=\"Square\",AB$1,IF(OR(AND(ODD($A94)=$A94,ODD(AB$2)=AB$2),AND(EVEN($A94)=$A94,EVEN(AB$2)=AB$2)),AB$1,-100))","v":478.125},{"$f":"IF('Ceiling Speaker Calculator'!$C$29=\"Square\",AC$1,IF(OR(AND(ODD($A94)=$A94,ODD(AC$2)=AC$2),AND(EVEN($A94)=$A94,EVEN(AC$2)=AC$2)),AC$1,-100))","v":496.875},{"$f":"IF('Ceiling Speaker Calculator'!$C$29=\"Square\",AD$1,IF(OR(AND(ODD($A94)=$A94,ODD(AD$2)=AD$2),AND(EVEN($A94)=$A94,EVEN(AD$2)=AD$2)),AD$1,-100))","v":515.625},{"$f":"IF('Ceiling Speaker Calculator'!$C$29=\"Square\",AE$1,IF(OR(AND(ODD($A94)=$A94,ODD(AE$2)=AE$2),AND(EVEN($A94)=$A94,EVEN(AE$2)=AE$2)),AE$1,-100))","v":534.375},{"$f":"IF('Ceiling Speaker Calculator'!$C$29=\"Square\",AF$1,IF(OR(AND(ODD($A94)=$A94,ODD(AF$2)=AF$2),AND(EVEN($A94)=$A94,EVEN(AF$2)=AF$2)),AF$1,-100))","v":553.125},{"$f":"IF('Ceiling Speaker Calculator'!$C$29=\"Square\",AG$1,IF(OR(AND(ODD($A94)=$A94,ODD(AG$2)=AG$2),AND(EVEN($A94)=$A94,EVEN(AG$2)=AG$2)),AG$1,-100))","v":571.875},{"$f":"IF('Ceiling Speaker Calculator'!$C$29=\"Square\",AH$1,IF(OR(AND(ODD($A94)=$A94,ODD(AH$2)=AH$2),AND(EVEN($A94)=$A94,EVEN(AH$2)=AH$2)),AH$1,-100))","v":590.625},{"$f":"IF('Ceiling Speaker Calculator'!$C$29=\"Square\",AI$1,IF(OR(AND(ODD($A94)=$A94,ODD(AI$2)=AI$2),AND(EVEN($A94)=$A94,EVEN(AI$2)=AI$2)),AI$1,-100))","v":609.375},{"$f":"IF('Ceiling Speaker Calculator'!$C$29=\"Square\",AJ$1,IF(OR(AND(ODD($A94)=$A94,ODD(AJ$2)=AJ$2),AND(EVEN($A94)=$A94,EVEN(AJ$2)=AJ$2)),AJ$1,-100))","v":628.125},{"$f":"IF('Ceiling Speaker Calculator'!$C$29=\"Square\",AK$1,IF(OR(AND(ODD($A94)=$A94,ODD(AK$2)=AK$2),AND(EVEN($A94)=$A94,EVEN(AK$2)=AK$2)),AK$1,-100))","v":646.875},{"$f":"IF('Ceiling Speaker Calculator'!$C$29=\"Square\",AL$1,IF(OR(AND(ODD($A94)=$A94,ODD(AL$2)=AL$2),AND(EVEN($A94)=$A94,EVEN(AL$2)=AL$2)),AL$1,-100))","v":665.625},{"$f":"IF('Ceiling Speaker Calculator'!$C$29=\"Square\",AM$1,IF(OR(AND(ODD($A94)=$A94,ODD(AM$2)=AM$2),AND(EVEN($A94)=$A94,EVEN(AM$2)=AM$2)),AM$1,-100))","v":684.375},{"$f":"IF('Ceiling Speaker Calculator'!$C$29=\"Square\",AN$1,IF(OR(AND(ODD($A94)=$A94,ODD(AN$2)=AN$2),AND(EVEN($A94)=$A94,EVEN(AN$2)=AN$2)),AN$1,-100))","v":703.125},{"$f":"IF('Ceiling Speaker Calculator'!$C$29=\"Square\",AO$1,IF(OR(AND(ODD($A94)=$A94,ODD(AO$2)=AO$2),AND(EVEN($A94)=$A94,EVEN(AO$2)=AO$2)),AO$1,-100))","v":721.875},{"$f":"IF('Ceiling Speaker Calculator'!$C$29=\"Square\",AP$1,IF(OR(AND(ODD($A94)=$A94,ODD(AP$2)=AP$2),AND(EVEN($A94)=$A94,EVEN(AP$2)=AP$2)),AP$1,-100))","v":740.625},{"$f":"IF('Ceiling Speaker Calculator'!$C$29=\"Square\",AQ$1,IF(OR(AND(ODD($A94)=$A94,ODD(AQ$2)=AQ$2),AND(EVEN($A94)=$A94,EVEN(AQ$2)=AQ$2)),AQ$1,-100))","v":759.375},{"$f":"IF('Ceiling Speaker Calculator'!$C$29=\"Square\",AR$1,IF(OR(AND(ODD($A94)=$A94,ODD(AR$2)=AR$2),AND(EVEN($A94)=$A94,EVEN(AR$2)=AR$2)),AR$1,-100))","v":778.125},{"$f":"IF('Ceiling Speaker Calculator'!$C$29=\"Square\",AS$1,IF(OR(AND(ODD($A94)=$A94,ODD(AS$2)=AS$2),AND(EVEN($A94)=$A94,EVEN(AS$2)=AS$2)),AS$1,-100))","v":796.875},{"$f":"IF('Ceiling Speaker Calculator'!$C$29=\"Square\",AT$1,IF(OR(AND(ODD($A94)=$A94,ODD(AT$2)=AT$2),AND(EVEN($A94)=$A94,EVEN(AT$2)=AT$2)),AT$1,-100))","v":815.625},{"$f":"IF('Ceiling Speaker Calculator'!$C$29=\"Square\",AU$1,IF(OR(AND(ODD($A94)=$A94,ODD(AU$2)=AU$2),AND(EVEN($A94)=$A94,EVEN(AU$2)=AU$2)),AU$1,-100))","v":834.375},{"$f":"IF('Ceiling Speaker Calculator'!$C$29=\"Square\",AV$1,IF(OR(AND(ODD($A94)=$A94,ODD(AV$2)=AV$2),AND(EVEN($A94)=$A94,EVEN(AV$2)=AV$2)),AV$1,-100))","v":853.125},{"$f":"IF('Ceiling Speaker Calculator'!$C$29=\"Square\",AW$1,IF(OR(AND(ODD($A94)=$A94,ODD(AW$2)=AW$2),AND(EVEN($A94)=$A94,EVEN(AW$2)=AW$2)),AW$1,-100))","v":871.875},{"$f":"IF('Ceiling Speaker Calculator'!$C$29=\"Square\",AX$1,IF(OR(AND(ODD($A94)=$A94,ODD(AX$2)=AX$2),AND(EVEN($A94)=$A94,EVEN(AX$2)=AX$2)),AX$1,-100))","v":890.625},{"$f":"IF('Ceiling Speaker Calculator'!$C$29=\"Square\",AY$1,IF(OR(AND(ODD($A94)=$A94,ODD(AY$2)=AY$2),AND(EVEN($A94)=$A94,EVEN(AY$2)=AY$2)),AY$1,-100))","v":909.375},{"$f":"IF('Ceiling Speaker Calculator'!$C$29=\"Square\",AZ$1,IF(OR(AND(ODD($A94)=$A94,ODD(AZ$2)=AZ$2),AND(EVEN($A94)=$A94,EVEN(AZ$2)=AZ$2)),AZ$1,-100))","v":928.125},{"$f":"IF('Ceiling Speaker Calculator'!$C$29=\"Square\",BA$1,IF(OR(AND(ODD($A94)=$A94,ODD(BA$2)=BA$2),AND(EVEN($A94)=$A94,EVEN(BA$2)=BA$2)),BA$1,-100))","v":946.875},{"$f":"IF('Ceiling Speaker Calculator'!$C$29=\"Square\",BB$1,IF(OR(AND(ODD($A94)=$A94,ODD(BB$2)=BB$2),AND(EVEN($A94)=$A94,EVEN(BB$2)=BB$2)),BB$1,-100))","v":965.625},{"$f":"IF('Ceiling Speaker Calculator'!$C$29=\"Square\",BC$1,IF(OR(AND(ODD($A94)=$A94,ODD(BC$2)=BC$2),AND(EVEN($A94)=$A94,EVEN(BC$2)=BC$2)),BC$1,-100))","v":984.375},{"$f":"IF('Ceiling Speaker Calculator'!$C$29=\"Square\",BD$1,IF(OR(AND(ODD($A94)=$A94,ODD(BD$2)=BD$2),AND(EVEN($A94)=$A94,EVEN(BD$2)=BD$2)),BD$1,-100))","v":1003.125},{"$f":"IF('Ceiling Speaker Calculator'!$C$29=\"Square\",BE$1,IF(OR(AND(ODD($A94)=$A94,ODD(BE$2)=BE$2),AND(EVEN($A94)=$A94,EVEN(BE$2)=BE$2)),BE$1,-100))","v":1021.875},{"$f":"IF('Ceiling Speaker Calculator'!$C$29=\"Square\",BF$1,IF(OR(AND(ODD($A94)=$A94,ODD(BF$2)=BF$2),AND(EVEN($A94)=$A94,EVEN(BF$2)=BF$2)),BF$1,-100))","v":1040.625},{"$f":"IF('Ceiling Speaker Calculator'!$C$29=\"Square\",BG$1,IF(OR(AND(ODD($A94)=$A94,ODD(BG$2)=BG$2),AND(EVEN($A94)=$A94,EVEN(BG$2)=BG$2)),BG$1,-100))","v":1059.375},{"$f":"IF('Ceiling Speaker Calculator'!$C$29=\"Square\",BH$1,IF(OR(AND(ODD($A94)=$A94,ODD(BH$2)=BH$2),AND(EVEN($A94)=$A94,EVEN(BH$2)=BH$2)),BH$1,-100))","v":1078.125},{"$f":"IF('Ceiling Speaker Calculator'!$C$29=\"Square\",BI$1,IF(OR(AND(ODD($A94)=$A94,ODD(BI$2)=BI$2),AND(EVEN($A94)=$A94,EVEN(BI$2)=BI$2)),BI$1,-100))","v":1096.875},{"$f":"IF('Ceiling Speaker Calculator'!$C$29=\"Square\",BJ$1,IF(OR(AND(ODD($A94)=$A94,ODD(BJ$2)=BJ$2),AND(EVEN($A94)=$A94,EVEN(BJ$2)=BJ$2)),BJ$1,-100))","v":1115.625},{"$f":"IF('Ceiling Speaker Calculator'!$C$29=\"Square\",BK$1,IF(OR(AND(ODD($A94)=$A94,ODD(BK$2)=BK$2),AND(EVEN($A94)=$A94,EVEN(BK$2)=BK$2)),BK$1,-100))","v":1134.375},{"$f":"IF('Ceiling Speaker Calculator'!$C$29=\"Square\",BL$1,IF(OR(AND(ODD($A94)=$A94,ODD(BL$2)=BL$2),AND(EVEN($A94)=$A94,EVEN(BL$2)=BL$2)),BL$1,-100))","v":1153.125},{"$f":"IF('Ceiling Speaker Calculator'!$C$29=\"Square\",BM$1,IF(OR(AND(ODD($A94)=$A94,ODD(BM$2)=BM$2),AND(EVEN($A94)=$A94,EVEN(BM$2)=BM$2)),BM$1,-100))","v":1171.875},{"$f":"IF('Ceiling Speaker Calculator'!$C$29=\"Square\",BN$1,IF(OR(AND(ODD($A94)=$A94,ODD(BN$2)=BN$2),AND(EVEN($A94)=$A94,EVEN(BN$2)=BN$2)),BN$1,-100))","v":1190.625},{"$f":"IF('Ceiling Speaker Calculator'!$C$29=\"Square\",BO$1,IF(OR(AND(ODD($A94)=$A94,ODD(BO$2)=BO$2),AND(EVEN($A94)=$A94,EVEN(BO$2)=BO$2)),BO$1,-100))","v":1209.375},{"$f":"IF('Ceiling Speaker Calculator'!$C$29=\"Square\",BP$1,IF(OR(AND(ODD($A94)=$A94,ODD(BP$2)=BP$2),AND(EVEN($A94)=$A94,EVEN(BP$2)=BP$2)),BP$1,-100))","v":1228.125},{"$f":"IF('Ceiling Speaker Calculator'!$C$29=\"Square\",BQ$1,IF(OR(AND(ODD($A94)=$A94,ODD(BQ$2)=BQ$2),AND(EVEN($A94)=$A94,EVEN(BQ$2)=BQ$2)),BQ$1,-100))","v":1246.875},{"$f":"IF('Ceiling Speaker Calculator'!$C$29=\"Square\",BR$1,IF(OR(AND(ODD($A94)=$A94,ODD(BR$2)=BR$2),AND(EVEN($A94)=$A94,EVEN(BR$2)=BR$2)),BR$1,-100))","v":1265.625},{"$f":"IF('Ceiling Speaker Calculator'!$C$29=\"Square\",BS$1,IF(OR(AND(ODD($A94)=$A94,ODD(BS$2)=BS$2),AND(EVEN($A94)=$A94,EVEN(BS$2)=BS$2)),BS$1,-100))","v":1284.375},{"$f":"IF('Ceiling Speaker Calculator'!$C$29=\"Square\",BT$1,IF(OR(AND(ODD($A94)=$A94,ODD(BT$2)=BT$2),AND(EVEN($A94)=$A94,EVEN(BT$2)=BT$2)),BT$1,-100))","v":1303.125},{"$f":"IF('Ceiling Speaker Calculator'!$C$29=\"Square\",BU$1,IF(OR(AND(ODD($A94)=$A94,ODD(BU$2)=BU$2),AND(EVEN($A94)=$A94,EVEN(BU$2)=BU$2)),BU$1,-100))","v":1321.875},{"$f":"IF('Ceiling Speaker Calculator'!$C$29=\"Square\",BV$1,IF(OR(AND(ODD($A94)=$A94,ODD(BV$2)=BV$2),AND(EVEN($A94)=$A94,EVEN(BV$2)=BV$2)),BV$1,-100))","v":1340.625},{"$f":"IF('Ceiling Speaker Calculator'!$C$29=\"Square\",BW$1,IF(OR(AND(ODD($A94)=$A94,ODD(BW$2)=BW$2),AND(EVEN($A94)=$A94,EVEN(BW$2)=BW$2)),BW$1,-100))","v":1359.375},{"$f":"IF('Ceiling Speaker Calculator'!$C$29=\"Square\",BX$1,IF(OR(AND(ODD($A94)=$A94,ODD(BX$2)=BX$2),AND(EVEN($A94)=$A94,EVEN(BX$2)=BX$2)),BX$1,-100))","v":1378.125},{"$f":"IF('Ceiling Speaker Calculator'!$C$29=\"Square\",BY$1,IF(OR(AND(ODD($A94)=$A94,ODD(BY$2)=BY$2),AND(EVEN($A94)=$A94,EVEN(BY$2)=BY$2)),BY$1,-100))","v":1396.875},{"$f":"IF('Ceiling Speaker Calculator'!$C$29=\"Square\",BZ$1,IF(OR(AND(ODD($A94)=$A94,ODD(BZ$2)=BZ$2),AND(EVEN($A94)=$A94,EVEN(BZ$2)=BZ$2)),BZ$1,-100))","v":1415.625},{"$f":"IF('Ceiling Speaker Calculator'!$C$29=\"Square\",CA$1,IF(OR(AND(ODD($A94)=$A94,ODD(CA$2)=CA$2),AND(EVEN($A94)=$A94,EVEN(CA$2)=CA$2)),CA$1,-100))","v":1434.375},{"$f":"IF('Ceiling Speaker Calculator'!$C$29=\"Square\",CB$1,IF(OR(AND(ODD($A94)=$A94,ODD(CB$2)=CB$2),AND(EVEN($A94)=$A94,EVEN(CB$2)=CB$2)),CB$1,-100))","v":1453.125},{"$f":"IF('Ceiling Speaker Calculator'!$C$29=\"Square\",CC$1,IF(OR(AND(ODD($A94)=$A94,ODD(CC$2)=CC$2),AND(EVEN($A94)=$A94,EVEN(CC$2)=CC$2)),CC$1,-100))","v":1471.875},{"$f":"IF('Ceiling Speaker Calculator'!$C$29=\"Square\",CD$1,IF(OR(AND(ODD($A94)=$A94,ODD(CD$2)=CD$2),AND(EVEN($A94)=$A94,EVEN(CD$2)=CD$2)),CD$1,-100))","v":1490.625},{"$f":"IF('Ceiling Speaker Calculator'!$C$29=\"Square\",CE$1,IF(OR(AND(ODD($A94)=$A94,ODD(CE$2)=CE$2),AND(EVEN($A94)=$A94,EVEN(CE$2)=CE$2)),CE$1,-100))","v":1509.375},{"$f":"IF('Ceiling Speaker Calculator'!$C$29=\"Square\",CF$1,IF(OR(AND(ODD($A94)=$A94,ODD(CF$2)=CF$2),AND(EVEN($A94)=$A94,EVEN(CF$2)=CF$2)),CF$1,-100))","v":1528.125},{"$f":"IF('Ceiling Speaker Calculator'!$C$29=\"Square\",CG$1,IF(OR(AND(ODD($A94)=$A94,ODD(CG$2)=CG$2),AND(EVEN($A94)=$A94,EVEN(CG$2)=CG$2)),CG$1,-100))","v":1546.875},{"$f":"IF('Ceiling Speaker Calculator'!$C$29=\"Square\",CH$1,IF(OR(AND(ODD($A94)=$A94,ODD(CH$2)=CH$2),AND(EVEN($A94)=$A94,EVEN(CH$2)=CH$2)),CH$1,-100))","v":1565.625},{"$f":"IF('Ceiling Speaker Calculator'!$C$29=\"Square\",CI$1,IF(OR(AND(ODD($A94)=$A94,ODD(CI$2)=CI$2),AND(EVEN($A94)=$A94,EVEN(CI$2)=CI$2)),CI$1,-100))","v":1584.375},{"$f":"IF('Ceiling Speaker Calculator'!$C$29=\"Square\",CJ$1,IF(OR(AND(ODD($A94)=$A94,ODD(CJ$2)=CJ$2),AND(EVEN($A94)=$A94,EVEN(CJ$2)=CJ$2)),CJ$1,-100))","v":1603.125},{"$f":"IF('Ceiling Speaker Calculator'!$C$29=\"Square\",CK$1,IF(OR(AND(ODD($A94)=$A94,ODD(CK$2)=CK$2),AND(EVEN($A94)=$A94,EVEN(CK$2)=CK$2)),CK$1,-100))","v":1621.875},{"$f":"IF('Ceiling Speaker Calculator'!$C$29=\"Square\",CL$1,IF(OR(AND(ODD($A94)=$A94,ODD(CL$2)=CL$2),AND(EVEN($A94)=$A94,EVEN(CL$2)=CL$2)),CL$1,-100))","v":1640.625},{"$f":"IF('Ceiling Speaker Calculator'!$C$29=\"Square\",CM$1,IF(OR(AND(ODD($A94)=$A94,ODD(CM$2)=CM$2),AND(EVEN($A94)=$A94,EVEN(CM$2)=CM$2)),CM$1,-100))","v":1659.375},{"$f":"IF('Ceiling Speaker Calculator'!$C$29=\"Square\",CN$1,IF(OR(AND(ODD($A94)=$A94,ODD(CN$2)=CN$2),AND(EVEN($A94)=$A94,EVEN(CN$2)=CN$2)),CN$1,-100))","v":1678.125},{"$f":"IF('Ceiling Speaker Calculator'!$C$29=\"Square\",CO$1,IF(OR(AND(ODD($A94)=$A94,ODD(CO$2)=CO$2),AND(EVEN($A94)=$A94,EVEN(CO$2)=CO$2)),CO$1,-100))","v":1696.875},{"$f":"IF('Ceiling Speaker Calculator'!$C$29=\"Square\",CP$1,IF(OR(AND(ODD($A94)=$A94,ODD(CP$2)=CP$2),AND(EVEN($A94)=$A94,EVEN(CP$2)=CP$2)),CP$1,-100))","v":1715.625},{"$f":"IF('Ceiling Speaker Calculator'!$C$29=\"Square\",CQ$1,IF(OR(AND(ODD($A94)=$A94,ODD(CQ$2)=CQ$2),AND(EVEN($A94)=$A94,EVEN(CQ$2)=CQ$2)),CQ$1,-100))","v":1734.375},{"$f":"IF('Ceiling Speaker Calculator'!$C$29=\"Square\",CR$1,IF(OR(AND(ODD($A94)=$A94,ODD(CR$2)=CR$2),AND(EVEN($A94)=$A94,EVEN(CR$2)=CR$2)),CR$1,-100))","v":1753.125},{"$f":"IF('Ceiling Speaker Calculator'!$C$29=\"Square\",CS$1,IF(OR(AND(ODD($A94)=$A94,ODD(CS$2)=CS$2),AND(EVEN($A94)=$A94,EVEN(CS$2)=CS$2)),CS$1,-100))","v":1771.875},{"$f":"IF('Ceiling Speaker Calculator'!$C$29=\"Square\",CT$1,IF(OR(AND(ODD($A94)=$A94,ODD(CT$2)=CT$2),AND(EVEN($A94)=$A94,EVEN(CT$2)=CT$2)),CT$1,-100))","v":1790.625},{"$f":"IF('Ceiling Speaker Calculator'!$C$29=\"Square\",CU$1,IF(OR(AND(ODD($A94)=$A94,ODD(CU$2)=CU$2),AND(EVEN($A94)=$A94,EVEN(CU$2)=CU$2)),CU$1,-100))","v":1809.375},{"$f":"IF('Ceiling Speaker Calculator'!$C$29=\"Square\",CV$1,IF(OR(AND(ODD($A94)=$A94,ODD(CV$2)=CV$2),AND(EVEN($A94)=$A94,EVEN(CV$2)=CV$2)),CV$1,-100))","v":1828.125},{"$f":"IF('Ceiling Speaker Calculator'!$C$29=\"Square\",CW$1,IF(OR(AND(ODD($A94)=$A94,ODD(CW$2)=CW$2),AND(EVEN($A94)=$A94,EVEN(CW$2)=CW$2)),CW$1,-100))","v":1846.875},{"$f":"IF('Ceiling Speaker Calculator'!$C$29=\"Square\",CX$1,IF(OR(AND(ODD($A94)=$A94,ODD(CX$2)=CX$2),AND(EVEN($A94)=$A94,EVEN(CX$2)=CX$2)),CX$1,-100))","v":1865.625}]
[93,{"$f":"B94+'Ceiling Speaker Calculator'!$K$16","v":1850},{"$f":"IF('Ceiling Speaker Calculator'!$C$29=\"Square\",C$1,IF(OR(AND(ODD($A95)=$A95,ODD(C$2)=C$2),AND(EVEN($A95)=$A95,EVEN(C$2)=C$2)),C$1,-100))","v":9.375},{"$f":"IF('Ceiling Speaker Calculator'!$C$29=\"Square\",D$1,IF(OR(AND(ODD($A95)=$A95,ODD(D$2)=D$2),AND(EVEN($A95)=$A95,EVEN(D$2)=D$2)),D$1,-100))","v":28.125},{"$f":"IF('Ceiling Speaker Calculator'!$C$29=\"Square\",E$1,IF(OR(AND(ODD($A95)=$A95,ODD(E$2)=E$2),AND(EVEN($A95)=$A95,EVEN(E$2)=E$2)),E$1,-100))","v":46.875},{"$f":"IF('Ceiling Speaker Calculator'!$C$29=\"Square\",F$1,IF(OR(AND(ODD($A95)=$A95,ODD(F$2)=F$2),AND(EVEN($A95)=$A95,EVEN(F$2)=F$2)),F$1,-100))","v":65.625},{"$f":"IF('Ceiling Speaker Calculator'!$C$29=\"Square\",G$1,IF(OR(AND(ODD($A95)=$A95,ODD(G$2)=G$2),AND(EVEN($A95)=$A95,EVEN(G$2)=G$2)),G$1,-100))","v":84.375},{"$f":"IF('Ceiling Speaker Calculator'!$C$29=\"Square\",H$1,IF(OR(AND(ODD($A95)=$A95,ODD(H$2)=H$2),AND(EVEN($A95)=$A95,EVEN(H$2)=H$2)),H$1,-100))","v":103.125},{"$f":"IF('Ceiling Speaker Calculator'!$C$29=\"Square\",I$1,IF(OR(AND(ODD($A95)=$A95,ODD(I$2)=I$2),AND(EVEN($A95)=$A95,EVEN(I$2)=I$2)),I$1,-100))","v":121.875},{"$f":"IF('Ceiling Speaker Calculator'!$C$29=\"Square\",J$1,IF(OR(AND(ODD($A95)=$A95,ODD(J$2)=J$2),AND(EVEN($A95)=$A95,EVEN(J$2)=J$2)),J$1,-100))","v":140.625},{"$f":"IF('Ceiling Speaker Calculator'!$C$29=\"Square\",K$1,IF(OR(AND(ODD($A95)=$A95,ODD(K$2)=K$2),AND(EVEN($A95)=$A95,EVEN(K$2)=K$2)),K$1,-100))","v":159.375},{"$f":"IF('Ceiling Speaker Calculator'!$C$29=\"Square\",L$1,IF(OR(AND(ODD($A95)=$A95,ODD(L$2)=L$2),AND(EVEN($A95)=$A95,EVEN(L$2)=L$2)),L$1,-100))","v":178.125},{"$f":"IF('Ceiling Speaker Calculator'!$C$29=\"Square\",M$1,IF(OR(AND(ODD($A95)=$A95,ODD(M$2)=M$2),AND(EVEN($A95)=$A95,EVEN(M$2)=M$2)),M$1,-100))","v":196.875},{"$f":"IF('Ceiling Speaker Calculator'!$C$29=\"Square\",N$1,IF(OR(AND(ODD($A95)=$A95,ODD(N$2)=N$2),AND(EVEN($A95)=$A95,EVEN(N$2)=N$2)),N$1,-100))","v":215.625},{"$f":"IF('Ceiling Speaker Calculator'!$C$29=\"Square\",O$1,IF(OR(AND(ODD($A95)=$A95,ODD(O$2)=O$2),AND(EVEN($A95)=$A95,EVEN(O$2)=O$2)),O$1,-100))","v":234.375},{"$f":"IF('Ceiling Speaker Calculator'!$C$29=\"Square\",P$1,IF(OR(AND(ODD($A95)=$A95,ODD(P$2)=P$2),AND(EVEN($A95)=$A95,EVEN(P$2)=P$2)),P$1,-100))","v":253.125},{"$f":"IF('Ceiling Speaker Calculator'!$C$29=\"Square\",Q$1,IF(OR(AND(ODD($A95)=$A95,ODD(Q$2)=Q$2),AND(EVEN($A95)=$A95,EVEN(Q$2)=Q$2)),Q$1,-100))","v":271.875},{"$f":"IF('Ceiling Speaker Calculator'!$C$29=\"Square\",R$1,IF(OR(AND(ODD($A95)=$A95,ODD(R$2)=R$2),AND(EVEN($A95)=$A95,EVEN(R$2)=R$2)),R$1,-100))","v":290.625},{"$f":"IF('Ceiling Speaker Calculator'!$C$29=\"Square\",S$1,IF(OR(AND(ODD($A95)=$A95,ODD(S$2)=S$2),AND(EVEN($A95)=$A95,EVEN(S$2)=S$2)),S$1,-100))","v":309.375},{"$f":"IF('Ceiling Speaker Calculator'!$C$29=\"Square\",T$1,IF(OR(AND(ODD($A95)=$A95,ODD(T$2)=T$2),AND(EVEN($A95)=$A95,EVEN(T$2)=T$2)),T$1,-100))","v":328.125},{"$f":"IF('Ceiling Speaker Calculator'!$C$29=\"Square\",U$1,IF(OR(AND(ODD($A95)=$A95,ODD(U$2)=U$2),AND(EVEN($A95)=$A95,EVEN(U$2)=U$2)),U$1,-100))","v":346.875},{"$f":"IF('Ceiling Speaker Calculator'!$C$29=\"Square\",V$1,IF(OR(AND(ODD($A95)=$A95,ODD(V$2)=V$2),AND(EVEN($A95)=$A95,EVEN(V$2)=V$2)),V$1,-100))","v":365.625},{"$f":"IF('Ceiling Speaker Calculator'!$C$29=\"Square\",W$1,IF(OR(AND(ODD($A95)=$A95,ODD(W$2)=W$2),AND(EVEN($A95)=$A95,EVEN(W$2)=W$2)),W$1,-100))","v":384.375},{"$f":"IF('Ceiling Speaker Calculator'!$C$29=\"Square\",X$1,IF(OR(AND(ODD($A95)=$A95,ODD(X$2)=X$2),AND(EVEN($A95)=$A95,EVEN(X$2)=X$2)),X$1,-100))","v":403.125},{"$f":"IF('Ceiling Speaker Calculator'!$C$29=\"Square\",Y$1,IF(OR(AND(ODD($A95)=$A95,ODD(Y$2)=Y$2),AND(EVEN($A95)=$A95,EVEN(Y$2)=Y$2)),Y$1,-100))","v":421.875},{"$f":"IF('Ceiling Speaker Calculator'!$C$29=\"Square\",Z$1,IF(OR(AND(ODD($A95)=$A95,ODD(Z$2)=Z$2),AND(EVEN($A95)=$A95,EVEN(Z$2)=Z$2)),Z$1,-100))","v":440.625},{"$f":"IF('Ceiling Speaker Calculator'!$C$29=\"Square\",AA$1,IF(OR(AND(ODD($A95)=$A95,ODD(AA$2)=AA$2),AND(EVEN($A95)=$A95,EVEN(AA$2)=AA$2)),AA$1,-100))","v":459.375},{"$f":"IF('Ceiling Speaker Calculator'!$C$29=\"Square\",AB$1,IF(OR(AND(ODD($A95)=$A95,ODD(AB$2)=AB$2),AND(EVEN($A95)=$A95,EVEN(AB$2)=AB$2)),AB$1,-100))","v":478.125},{"$f":"IF('Ceiling Speaker Calculator'!$C$29=\"Square\",AC$1,IF(OR(AND(ODD($A95)=$A95,ODD(AC$2)=AC$2),AND(EVEN($A95)=$A95,EVEN(AC$2)=AC$2)),AC$1,-100))","v":496.875},{"$f":"IF('Ceiling Speaker Calculator'!$C$29=\"Square\",AD$1,IF(OR(AND(ODD($A95)=$A95,ODD(AD$2)=AD$2),AND(EVEN($A95)=$A95,EVEN(AD$2)=AD$2)),AD$1,-100))","v":515.625},{"$f":"IF('Ceiling Speaker Calculator'!$C$29=\"Square\",AE$1,IF(OR(AND(ODD($A95)=$A95,ODD(AE$2)=AE$2),AND(EVEN($A95)=$A95,EVEN(AE$2)=AE$2)),AE$1,-100))","v":534.375},{"$f":"IF('Ceiling Speaker Calculator'!$C$29=\"Square\",AF$1,IF(OR(AND(ODD($A95)=$A95,ODD(AF$2)=AF$2),AND(EVEN($A95)=$A95,EVEN(AF$2)=AF$2)),AF$1,-100))","v":553.125},{"$f":"IF('Ceiling Speaker Calculator'!$C$29=\"Square\",AG$1,IF(OR(AND(ODD($A95)=$A95,ODD(AG$2)=AG$2),AND(EVEN($A95)=$A95,EVEN(AG$2)=AG$2)),AG$1,-100))","v":571.875},{"$f":"IF('Ceiling Speaker Calculator'!$C$29=\"Square\",AH$1,IF(OR(AND(ODD($A95)=$A95,ODD(AH$2)=AH$2),AND(EVEN($A95)=$A95,EVEN(AH$2)=AH$2)),AH$1,-100))","v":590.625},{"$f":"IF('Ceiling Speaker Calculator'!$C$29=\"Square\",AI$1,IF(OR(AND(ODD($A95)=$A95,ODD(AI$2)=AI$2),AND(EVEN($A95)=$A95,EVEN(AI$2)=AI$2)),AI$1,-100))","v":609.375},{"$f":"IF('Ceiling Speaker Calculator'!$C$29=\"Square\",AJ$1,IF(OR(AND(ODD($A95)=$A95,ODD(AJ$2)=AJ$2),AND(EVEN($A95)=$A95,EVEN(AJ$2)=AJ$2)),AJ$1,-100))","v":628.125},{"$f":"IF('Ceiling Speaker Calculator'!$C$29=\"Square\",AK$1,IF(OR(AND(ODD($A95)=$A95,ODD(AK$2)=AK$2),AND(EVEN($A95)=$A95,EVEN(AK$2)=AK$2)),AK$1,-100))","v":646.875},{"$f":"IF('Ceiling Speaker Calculator'!$C$29=\"Square\",AL$1,IF(OR(AND(ODD($A95)=$A95,ODD(AL$2)=AL$2),AND(EVEN($A95)=$A95,EVEN(AL$2)=AL$2)),AL$1,-100))","v":665.625},{"$f":"IF('Ceiling Speaker Calculator'!$C$29=\"Square\",AM$1,IF(OR(AND(ODD($A95)=$A95,ODD(AM$2)=AM$2),AND(EVEN($A95)=$A95,EVEN(AM$2)=AM$2)),AM$1,-100))","v":684.375},{"$f":"IF('Ceiling Speaker Calculator'!$C$29=\"Square\",AN$1,IF(OR(AND(ODD($A95)=$A95,ODD(AN$2)=AN$2),AND(EVEN($A95)=$A95,EVEN(AN$2)=AN$2)),AN$1,-100))","v":703.125},{"$f":"IF('Ceiling Speaker Calculator'!$C$29=\"Square\",AO$1,IF(OR(AND(ODD($A95)=$A95,ODD(AO$2)=AO$2),AND(EVEN($A95)=$A95,EVEN(AO$2)=AO$2)),AO$1,-100))","v":721.875},{"$f":"IF('Ceiling Speaker Calculator'!$C$29=\"Square\",AP$1,IF(OR(AND(ODD($A95)=$A95,ODD(AP$2)=AP$2),AND(EVEN($A95)=$A95,EVEN(AP$2)=AP$2)),AP$1,-100))","v":740.625},{"$f":"IF('Ceiling Speaker Calculator'!$C$29=\"Square\",AQ$1,IF(OR(AND(ODD($A95)=$A95,ODD(AQ$2)=AQ$2),AND(EVEN($A95)=$A95,EVEN(AQ$2)=AQ$2)),AQ$1,-100))","v":759.375},{"$f":"IF('Ceiling Speaker Calculator'!$C$29=\"Square\",AR$1,IF(OR(AND(ODD($A95)=$A95,ODD(AR$2)=AR$2),AND(EVEN($A95)=$A95,EVEN(AR$2)=AR$2)),AR$1,-100))","v":778.125},{"$f":"IF('Ceiling Speaker Calculator'!$C$29=\"Square\",AS$1,IF(OR(AND(ODD($A95)=$A95,ODD(AS$2)=AS$2),AND(EVEN($A95)=$A95,EVEN(AS$2)=AS$2)),AS$1,-100))","v":796.875},{"$f":"IF('Ceiling Speaker Calculator'!$C$29=\"Square\",AT$1,IF(OR(AND(ODD($A95)=$A95,ODD(AT$2)=AT$2),AND(EVEN($A95)=$A95,EVEN(AT$2)=AT$2)),AT$1,-100))","v":815.625},{"$f":"IF('Ceiling Speaker Calculator'!$C$29=\"Square\",AU$1,IF(OR(AND(ODD($A95)=$A95,ODD(AU$2)=AU$2),AND(EVEN($A95)=$A95,EVEN(AU$2)=AU$2)),AU$1,-100))","v":834.375},{"$f":"IF('Ceiling Speaker Calculator'!$C$29=\"Square\",AV$1,IF(OR(AND(ODD($A95)=$A95,ODD(AV$2)=AV$2),AND(EVEN($A95)=$A95,EVEN(AV$2)=AV$2)),AV$1,-100))","v":853.125},{"$f":"IF('Ceiling Speaker Calculator'!$C$29=\"Square\",AW$1,IF(OR(AND(ODD($A95)=$A95,ODD(AW$2)=AW$2),AND(EVEN($A95)=$A95,EVEN(AW$2)=AW$2)),AW$1,-100))","v":871.875},{"$f":"IF('Ceiling Speaker Calculator'!$C$29=\"Square\",AX$1,IF(OR(AND(ODD($A95)=$A95,ODD(AX$2)=AX$2),AND(EVEN($A95)=$A95,EVEN(AX$2)=AX$2)),AX$1,-100))","v":890.625},{"$f":"IF('Ceiling Speaker Calculator'!$C$29=\"Square\",AY$1,IF(OR(AND(ODD($A95)=$A95,ODD(AY$2)=AY$2),AND(EVEN($A95)=$A95,EVEN(AY$2)=AY$2)),AY$1,-100))","v":909.375},{"$f":"IF('Ceiling Speaker Calculator'!$C$29=\"Square\",AZ$1,IF(OR(AND(ODD($A95)=$A95,ODD(AZ$2)=AZ$2),AND(EVEN($A95)=$A95,EVEN(AZ$2)=AZ$2)),AZ$1,-100))","v":928.125},{"$f":"IF('Ceiling Speaker Calculator'!$C$29=\"Square\",BA$1,IF(OR(AND(ODD($A95)=$A95,ODD(BA$2)=BA$2),AND(EVEN($A95)=$A95,EVEN(BA$2)=BA$2)),BA$1,-100))","v":946.875},{"$f":"IF('Ceiling Speaker Calculator'!$C$29=\"Square\",BB$1,IF(OR(AND(ODD($A95)=$A95,ODD(BB$2)=BB$2),AND(EVEN($A95)=$A95,EVEN(BB$2)=BB$2)),BB$1,-100))","v":965.625},{"$f":"IF('Ceiling Speaker Calculator'!$C$29=\"Square\",BC$1,IF(OR(AND(ODD($A95)=$A95,ODD(BC$2)=BC$2),AND(EVEN($A95)=$A95,EVEN(BC$2)=BC$2)),BC$1,-100))","v":984.375},{"$f":"IF('Ceiling Speaker Calculator'!$C$29=\"Square\",BD$1,IF(OR(AND(ODD($A95)=$A95,ODD(BD$2)=BD$2),AND(EVEN($A95)=$A95,EVEN(BD$2)=BD$2)),BD$1,-100))","v":1003.125},{"$f":"IF('Ceiling Speaker Calculator'!$C$29=\"Square\",BE$1,IF(OR(AND(ODD($A95)=$A95,ODD(BE$2)=BE$2),AND(EVEN($A95)=$A95,EVEN(BE$2)=BE$2)),BE$1,-100))","v":1021.875},{"$f":"IF('Ceiling Speaker Calculator'!$C$29=\"Square\",BF$1,IF(OR(AND(ODD($A95)=$A95,ODD(BF$2)=BF$2),AND(EVEN($A95)=$A95,EVEN(BF$2)=BF$2)),BF$1,-100))","v":1040.625},{"$f":"IF('Ceiling Speaker Calculator'!$C$29=\"Square\",BG$1,IF(OR(AND(ODD($A95)=$A95,ODD(BG$2)=BG$2),AND(EVEN($A95)=$A95,EVEN(BG$2)=BG$2)),BG$1,-100))","v":1059.375},{"$f":"IF('Ceiling Speaker Calculator'!$C$29=\"Square\",BH$1,IF(OR(AND(ODD($A95)=$A95,ODD(BH$2)=BH$2),AND(EVEN($A95)=$A95,EVEN(BH$2)=BH$2)),BH$1,-100))","v":1078.125},{"$f":"IF('Ceiling Speaker Calculator'!$C$29=\"Square\",BI$1,IF(OR(AND(ODD($A95)=$A95,ODD(BI$2)=BI$2),AND(EVEN($A95)=$A95,EVEN(BI$2)=BI$2)),BI$1,-100))","v":1096.875},{"$f":"IF('Ceiling Speaker Calculator'!$C$29=\"Square\",BJ$1,IF(OR(AND(ODD($A95)=$A95,ODD(BJ$2)=BJ$2),AND(EVEN($A95)=$A95,EVEN(BJ$2)=BJ$2)),BJ$1,-100))","v":1115.625},{"$f":"IF('Ceiling Speaker Calculator'!$C$29=\"Square\",BK$1,IF(OR(AND(ODD($A95)=$A95,ODD(BK$2)=BK$2),AND(EVEN($A95)=$A95,EVEN(BK$2)=BK$2)),BK$1,-100))","v":1134.375},{"$f":"IF('Ceiling Speaker Calculator'!$C$29=\"Square\",BL$1,IF(OR(AND(ODD($A95)=$A95,ODD(BL$2)=BL$2),AND(EVEN($A95)=$A95,EVEN(BL$2)=BL$2)),BL$1,-100))","v":1153.125},{"$f":"IF('Ceiling Speaker Calculator'!$C$29=\"Square\",BM$1,IF(OR(AND(ODD($A95)=$A95,ODD(BM$2)=BM$2),AND(EVEN($A95)=$A95,EVEN(BM$2)=BM$2)),BM$1,-100))","v":1171.875},{"$f":"IF('Ceiling Speaker Calculator'!$C$29=\"Square\",BN$1,IF(OR(AND(ODD($A95)=$A95,ODD(BN$2)=BN$2),AND(EVEN($A95)=$A95,EVEN(BN$2)=BN$2)),BN$1,-100))","v":1190.625},{"$f":"IF('Ceiling Speaker Calculator'!$C$29=\"Square\",BO$1,IF(OR(AND(ODD($A95)=$A95,ODD(BO$2)=BO$2),AND(EVEN($A95)=$A95,EVEN(BO$2)=BO$2)),BO$1,-100))","v":1209.375},{"$f":"IF('Ceiling Speaker Calculator'!$C$29=\"Square\",BP$1,IF(OR(AND(ODD($A95)=$A95,ODD(BP$2)=BP$2),AND(EVEN($A95)=$A95,EVEN(BP$2)=BP$2)),BP$1,-100))","v":1228.125},{"$f":"IF('Ceiling Speaker Calculator'!$C$29=\"Square\",BQ$1,IF(OR(AND(ODD($A95)=$A95,ODD(BQ$2)=BQ$2),AND(EVEN($A95)=$A95,EVEN(BQ$2)=BQ$2)),BQ$1,-100))","v":1246.875},{"$f":"IF('Ceiling Speaker Calculator'!$C$29=\"Square\",BR$1,IF(OR(AND(ODD($A95)=$A95,ODD(BR$2)=BR$2),AND(EVEN($A95)=$A95,EVEN(BR$2)=BR$2)),BR$1,-100))","v":1265.625},{"$f":"IF('Ceiling Speaker Calculator'!$C$29=\"Square\",BS$1,IF(OR(AND(ODD($A95)=$A95,ODD(BS$2)=BS$2),AND(EVEN($A95)=$A95,EVEN(BS$2)=BS$2)),BS$1,-100))","v":1284.375},{"$f":"IF('Ceiling Speaker Calculator'!$C$29=\"Square\",BT$1,IF(OR(AND(ODD($A95)=$A95,ODD(BT$2)=BT$2),AND(EVEN($A95)=$A95,EVEN(BT$2)=BT$2)),BT$1,-100))","v":1303.125},{"$f":"IF('Ceiling Speaker Calculator'!$C$29=\"Square\",BU$1,IF(OR(AND(ODD($A95)=$A95,ODD(BU$2)=BU$2),AND(EVEN($A95)=$A95,EVEN(BU$2)=BU$2)),BU$1,-100))","v":1321.875},{"$f":"IF('Ceiling Speaker Calculator'!$C$29=\"Square\",BV$1,IF(OR(AND(ODD($A95)=$A95,ODD(BV$2)=BV$2),AND(EVEN($A95)=$A95,EVEN(BV$2)=BV$2)),BV$1,-100))","v":1340.625},{"$f":"IF('Ceiling Speaker Calculator'!$C$29=\"Square\",BW$1,IF(OR(AND(ODD($A95)=$A95,ODD(BW$2)=BW$2),AND(EVEN($A95)=$A95,EVEN(BW$2)=BW$2)),BW$1,-100))","v":1359.375},{"$f":"IF('Ceiling Speaker Calculator'!$C$29=\"Square\",BX$1,IF(OR(AND(ODD($A95)=$A95,ODD(BX$2)=BX$2),AND(EVEN($A95)=$A95,EVEN(BX$2)=BX$2)),BX$1,-100))","v":1378.125},{"$f":"IF('Ceiling Speaker Calculator'!$C$29=\"Square\",BY$1,IF(OR(AND(ODD($A95)=$A95,ODD(BY$2)=BY$2),AND(EVEN($A95)=$A95,EVEN(BY$2)=BY$2)),BY$1,-100))","v":1396.875},{"$f":"IF('Ceiling Speaker Calculator'!$C$29=\"Square\",BZ$1,IF(OR(AND(ODD($A95)=$A95,ODD(BZ$2)=BZ$2),AND(EVEN($A95)=$A95,EVEN(BZ$2)=BZ$2)),BZ$1,-100))","v":1415.625},{"$f":"IF('Ceiling Speaker Calculator'!$C$29=\"Square\",CA$1,IF(OR(AND(ODD($A95)=$A95,ODD(CA$2)=CA$2),AND(EVEN($A95)=$A95,EVEN(CA$2)=CA$2)),CA$1,-100))","v":1434.375},{"$f":"IF('Ceiling Speaker Calculator'!$C$29=\"Square\",CB$1,IF(OR(AND(ODD($A95)=$A95,ODD(CB$2)=CB$2),AND(EVEN($A95)=$A95,EVEN(CB$2)=CB$2)),CB$1,-100))","v":1453.125},{"$f":"IF('Ceiling Speaker Calculator'!$C$29=\"Square\",CC$1,IF(OR(AND(ODD($A95)=$A95,ODD(CC$2)=CC$2),AND(EVEN($A95)=$A95,EVEN(CC$2)=CC$2)),CC$1,-100))","v":1471.875},{"$f":"IF('Ceiling Speaker Calculator'!$C$29=\"Square\",CD$1,IF(OR(AND(ODD($A95)=$A95,ODD(CD$2)=CD$2),AND(EVEN($A95)=$A95,EVEN(CD$2)=CD$2)),CD$1,-100))","v":1490.625},{"$f":"IF('Ceiling Speaker Calculator'!$C$29=\"Square\",CE$1,IF(OR(AND(ODD($A95)=$A95,ODD(CE$2)=CE$2),AND(EVEN($A95)=$A95,EVEN(CE$2)=CE$2)),CE$1,-100))","v":1509.375},{"$f":"IF('Ceiling Speaker Calculator'!$C$29=\"Square\",CF$1,IF(OR(AND(ODD($A95)=$A95,ODD(CF$2)=CF$2),AND(EVEN($A95)=$A95,EVEN(CF$2)=CF$2)),CF$1,-100))","v":1528.125},{"$f":"IF('Ceiling Speaker Calculator'!$C$29=\"Square\",CG$1,IF(OR(AND(ODD($A95)=$A95,ODD(CG$2)=CG$2),AND(EVEN($A95)=$A95,EVEN(CG$2)=CG$2)),CG$1,-100))","v":1546.875},{"$f":"IF('Ceiling Speaker Calculator'!$C$29=\"Square\",CH$1,IF(OR(AND(ODD($A95)=$A95,ODD(CH$2)=CH$2),AND(EVEN($A95)=$A95,EVEN(CH$2)=CH$2)),CH$1,-100))","v":1565.625},{"$f":"IF('Ceiling Speaker Calculator'!$C$29=\"Square\",CI$1,IF(OR(AND(ODD($A95)=$A95,ODD(CI$2)=CI$2),AND(EVEN($A95)=$A95,EVEN(CI$2)=CI$2)),CI$1,-100))","v":1584.375},{"$f":"IF('Ceiling Speaker Calculator'!$C$29=\"Square\",CJ$1,IF(OR(AND(ODD($A95)=$A95,ODD(CJ$2)=CJ$2),AND(EVEN($A95)=$A95,EVEN(CJ$2)=CJ$2)),CJ$1,-100))","v":1603.125},{"$f":"IF('Ceiling Speaker Calculator'!$C$29=\"Square\",CK$1,IF(OR(AND(ODD($A95)=$A95,ODD(CK$2)=CK$2),AND(EVEN($A95)=$A95,EVEN(CK$2)=CK$2)),CK$1,-100))","v":1621.875},{"$f":"IF('Ceiling Speaker Calculator'!$C$29=\"Square\",CL$1,IF(OR(AND(ODD($A95)=$A95,ODD(CL$2)=CL$2),AND(EVEN($A95)=$A95,EVEN(CL$2)=CL$2)),CL$1,-100))","v":1640.625},{"$f":"IF('Ceiling Speaker Calculator'!$C$29=\"Square\",CM$1,IF(OR(AND(ODD($A95)=$A95,ODD(CM$2)=CM$2),AND(EVEN($A95)=$A95,EVEN(CM$2)=CM$2)),CM$1,-100))","v":1659.375},{"$f":"IF('Ceiling Speaker Calculator'!$C$29=\"Square\",CN$1,IF(OR(AND(ODD($A95)=$A95,ODD(CN$2)=CN$2),AND(EVEN($A95)=$A95,EVEN(CN$2)=CN$2)),CN$1,-100))","v":1678.125},{"$f":"IF('Ceiling Speaker Calculator'!$C$29=\"Square\",CO$1,IF(OR(AND(ODD($A95)=$A95,ODD(CO$2)=CO$2),AND(EVEN($A95)=$A95,EVEN(CO$2)=CO$2)),CO$1,-100))","v":1696.875},{"$f":"IF('Ceiling Speaker Calculator'!$C$29=\"Square\",CP$1,IF(OR(AND(ODD($A95)=$A95,ODD(CP$2)=CP$2),AND(EVEN($A95)=$A95,EVEN(CP$2)=CP$2)),CP$1,-100))","v":1715.625},{"$f":"IF('Ceiling Speaker Calculator'!$C$29=\"Square\",CQ$1,IF(OR(AND(ODD($A95)=$A95,ODD(CQ$2)=CQ$2),AND(EVEN($A95)=$A95,EVEN(CQ$2)=CQ$2)),CQ$1,-100))","v":1734.375},{"$f":"IF('Ceiling Speaker Calculator'!$C$29=\"Square\",CR$1,IF(OR(AND(ODD($A95)=$A95,ODD(CR$2)=CR$2),AND(EVEN($A95)=$A95,EVEN(CR$2)=CR$2)),CR$1,-100))","v":1753.125},{"$f":"IF('Ceiling Speaker Calculator'!$C$29=\"Square\",CS$1,IF(OR(AND(ODD($A95)=$A95,ODD(CS$2)=CS$2),AND(EVEN($A95)=$A95,EVEN(CS$2)=CS$2)),CS$1,-100))","v":1771.875},{"$f":"IF('Ceiling Speaker Calculator'!$C$29=\"Square\",CT$1,IF(OR(AND(ODD($A95)=$A95,ODD(CT$2)=CT$2),AND(EVEN($A95)=$A95,EVEN(CT$2)=CT$2)),CT$1,-100))","v":1790.625},{"$f":"IF('Ceiling Speaker Calculator'!$C$29=\"Square\",CU$1,IF(OR(AND(ODD($A95)=$A95,ODD(CU$2)=CU$2),AND(EVEN($A95)=$A95,EVEN(CU$2)=CU$2)),CU$1,-100))","v":1809.375},{"$f":"IF('Ceiling Speaker Calculator'!$C$29=\"Square\",CV$1,IF(OR(AND(ODD($A95)=$A95,ODD(CV$2)=CV$2),AND(EVEN($A95)=$A95,EVEN(CV$2)=CV$2)),CV$1,-100))","v":1828.125},{"$f":"IF('Ceiling Speaker Calculator'!$C$29=\"Square\",CW$1,IF(OR(AND(ODD($A95)=$A95,ODD(CW$2)=CW$2),AND(EVEN($A95)=$A95,EVEN(CW$2)=CW$2)),CW$1,-100))","v":1846.875},{"$f":"IF('Ceiling Speaker Calculator'!$C$29=\"Square\",CX$1,IF(OR(AND(ODD($A95)=$A95,ODD(CX$2)=CX$2),AND(EVEN($A95)=$A95,EVEN(CX$2)=CX$2)),CX$1,-100))","v":1865.625}]
[94,{"$f":"B95+'Ceiling Speaker Calculator'!$K$16","v":1870},{"$f":"IF('Ceiling Speaker Calculator'!$C$29=\"Square\",C$1,IF(OR(AND(ODD($A96)=$A96,ODD(C$2)=C$2),AND(EVEN($A96)=$A96,EVEN(C$2)=C$2)),C$1,-100))","v":9.375},{"$f":"IF('Ceiling Speaker Calculator'!$C$29=\"Square\",D$1,IF(OR(AND(ODD($A96)=$A96,ODD(D$2)=D$2),AND(EVEN($A96)=$A96,EVEN(D$2)=D$2)),D$1,-100))","v":28.125},{"$f":"IF('Ceiling Speaker Calculator'!$C$29=\"Square\",E$1,IF(OR(AND(ODD($A96)=$A96,ODD(E$2)=E$2),AND(EVEN($A96)=$A96,EVEN(E$2)=E$2)),E$1,-100))","v":46.875},{"$f":"IF('Ceiling Speaker Calculator'!$C$29=\"Square\",F$1,IF(OR(AND(ODD($A96)=$A96,ODD(F$2)=F$2),AND(EVEN($A96)=$A96,EVEN(F$2)=F$2)),F$1,-100))","v":65.625},{"$f":"IF('Ceiling Speaker Calculator'!$C$29=\"Square\",G$1,IF(OR(AND(ODD($A96)=$A96,ODD(G$2)=G$2),AND(EVEN($A96)=$A96,EVEN(G$2)=G$2)),G$1,-100))","v":84.375},{"$f":"IF('Ceiling Speaker Calculator'!$C$29=\"Square\",H$1,IF(OR(AND(ODD($A96)=$A96,ODD(H$2)=H$2),AND(EVEN($A96)=$A96,EVEN(H$2)=H$2)),H$1,-100))","v":103.125},{"$f":"IF('Ceiling Speaker Calculator'!$C$29=\"Square\",I$1,IF(OR(AND(ODD($A96)=$A96,ODD(I$2)=I$2),AND(EVEN($A96)=$A96,EVEN(I$2)=I$2)),I$1,-100))","v":121.875},{"$f":"IF('Ceiling Speaker Calculator'!$C$29=\"Square\",J$1,IF(OR(AND(ODD($A96)=$A96,ODD(J$2)=J$2),AND(EVEN($A96)=$A96,EVEN(J$2)=J$2)),J$1,-100))","v":140.625},{"$f":"IF('Ceiling Speaker Calculator'!$C$29=\"Square\",K$1,IF(OR(AND(ODD($A96)=$A96,ODD(K$2)=K$2),AND(EVEN($A96)=$A96,EVEN(K$2)=K$2)),K$1,-100))","v":159.375},{"$f":"IF('Ceiling Speaker Calculator'!$C$29=\"Square\",L$1,IF(OR(AND(ODD($A96)=$A96,ODD(L$2)=L$2),AND(EVEN($A96)=$A96,EVEN(L$2)=L$2)),L$1,-100))","v":178.125},{"$f":"IF('Ceiling Speaker Calculator'!$C$29=\"Square\",M$1,IF(OR(AND(ODD($A96)=$A96,ODD(M$2)=M$2),AND(EVEN($A96)=$A96,EVEN(M$2)=M$2)),M$1,-100))","v":196.875},{"$f":"IF('Ceiling Speaker Calculator'!$C$29=\"Square\",N$1,IF(OR(AND(ODD($A96)=$A96,ODD(N$2)=N$2),AND(EVEN($A96)=$A96,EVEN(N$2)=N$2)),N$1,-100))","v":215.625},{"$f":"IF('Ceiling Speaker Calculator'!$C$29=\"Square\",O$1,IF(OR(AND(ODD($A96)=$A96,ODD(O$2)=O$2),AND(EVEN($A96)=$A96,EVEN(O$2)=O$2)),O$1,-100))","v":234.375},{"$f":"IF('Ceiling Speaker Calculator'!$C$29=\"Square\",P$1,IF(OR(AND(ODD($A96)=$A96,ODD(P$2)=P$2),AND(EVEN($A96)=$A96,EVEN(P$2)=P$2)),P$1,-100))","v":253.125},{"$f":"IF('Ceiling Speaker Calculator'!$C$29=\"Square\",Q$1,IF(OR(AND(ODD($A96)=$A96,ODD(Q$2)=Q$2),AND(EVEN($A96)=$A96,EVEN(Q$2)=Q$2)),Q$1,-100))","v":271.875},{"$f":"IF('Ceiling Speaker Calculator'!$C$29=\"Square\",R$1,IF(OR(AND(ODD($A96)=$A96,ODD(R$2)=R$2),AND(EVEN($A96)=$A96,EVEN(R$2)=R$2)),R$1,-100))","v":290.625},{"$f":"IF('Ceiling Speaker Calculator'!$C$29=\"Square\",S$1,IF(OR(AND(ODD($A96)=$A96,ODD(S$2)=S$2),AND(EVEN($A96)=$A96,EVEN(S$2)=S$2)),S$1,-100))","v":309.375},{"$f":"IF('Ceiling Speaker Calculator'!$C$29=\"Square\",T$1,IF(OR(AND(ODD($A96)=$A96,ODD(T$2)=T$2),AND(EVEN($A96)=$A96,EVEN(T$2)=T$2)),T$1,-100))","v":328.125},{"$f":"IF('Ceiling Speaker Calculator'!$C$29=\"Square\",U$1,IF(OR(AND(ODD($A96)=$A96,ODD(U$2)=U$2),AND(EVEN($A96)=$A96,EVEN(U$2)=U$2)),U$1,-100))","v":346.875},{"$f":"IF('Ceiling Speaker Calculator'!$C$29=\"Square\",V$1,IF(OR(AND(ODD($A96)=$A96,ODD(V$2)=V$2),AND(EVEN($A96)=$A96,EVEN(V$2)=V$2)),V$1,-100))","v":365.625},{"$f":"IF('Ceiling Speaker Calculator'!$C$29=\"Square\",W$1,IF(OR(AND(ODD($A96)=$A96,ODD(W$2)=W$2),AND(EVEN($A96)=$A96,EVEN(W$2)=W$2)),W$1,-100))","v":384.375},{"$f":"IF('Ceiling Speaker Calculator'!$C$29=\"Square\",X$1,IF(OR(AND(ODD($A96)=$A96,ODD(X$2)=X$2),AND(EVEN($A96)=$A96,EVEN(X$2)=X$2)),X$1,-100))","v":403.125},{"$f":"IF('Ceiling Speaker Calculator'!$C$29=\"Square\",Y$1,IF(OR(AND(ODD($A96)=$A96,ODD(Y$2)=Y$2),AND(EVEN($A96)=$A96,EVEN(Y$2)=Y$2)),Y$1,-100))","v":421.875},{"$f":"IF('Ceiling Speaker Calculator'!$C$29=\"Square\",Z$1,IF(OR(AND(ODD($A96)=$A96,ODD(Z$2)=Z$2),AND(EVEN($A96)=$A96,EVEN(Z$2)=Z$2)),Z$1,-100))","v":440.625},{"$f":"IF('Ceiling Speaker Calculator'!$C$29=\"Square\",AA$1,IF(OR(AND(ODD($A96)=$A96,ODD(AA$2)=AA$2),AND(EVEN($A96)=$A96,EVEN(AA$2)=AA$2)),AA$1,-100))","v":459.375},{"$f":"IF('Ceiling Speaker Calculator'!$C$29=\"Square\",AB$1,IF(OR(AND(ODD($A96)=$A96,ODD(AB$2)=AB$2),AND(EVEN($A96)=$A96,EVEN(AB$2)=AB$2)),AB$1,-100))","v":478.125},{"$f":"IF('Ceiling Speaker Calculator'!$C$29=\"Square\",AC$1,IF(OR(AND(ODD($A96)=$A96,ODD(AC$2)=AC$2),AND(EVEN($A96)=$A96,EVEN(AC$2)=AC$2)),AC$1,-100))","v":496.875},{"$f":"IF('Ceiling Speaker Calculator'!$C$29=\"Square\",AD$1,IF(OR(AND(ODD($A96)=$A96,ODD(AD$2)=AD$2),AND(EVEN($A96)=$A96,EVEN(AD$2)=AD$2)),AD$1,-100))","v":515.625},{"$f":"IF('Ceiling Speaker Calculator'!$C$29=\"Square\",AE$1,IF(OR(AND(ODD($A96)=$A96,ODD(AE$2)=AE$2),AND(EVEN($A96)=$A96,EVEN(AE$2)=AE$2)),AE$1,-100))","v":534.375},{"$f":"IF('Ceiling Speaker Calculator'!$C$29=\"Square\",AF$1,IF(OR(AND(ODD($A96)=$A96,ODD(AF$2)=AF$2),AND(EVEN($A96)=$A96,EVEN(AF$2)=AF$2)),AF$1,-100))","v":553.125},{"$f":"IF('Ceiling Speaker Calculator'!$C$29=\"Square\",AG$1,IF(OR(AND(ODD($A96)=$A96,ODD(AG$2)=AG$2),AND(EVEN($A96)=$A96,EVEN(AG$2)=AG$2)),AG$1,-100))","v":571.875},{"$f":"IF('Ceiling Speaker Calculator'!$C$29=\"Square\",AH$1,IF(OR(AND(ODD($A96)=$A96,ODD(AH$2)=AH$2),AND(EVEN($A96)=$A96,EVEN(AH$2)=AH$2)),AH$1,-100))","v":590.625},{"$f":"IF('Ceiling Speaker Calculator'!$C$29=\"Square\",AI$1,IF(OR(AND(ODD($A96)=$A96,ODD(AI$2)=AI$2),AND(EVEN($A96)=$A96,EVEN(AI$2)=AI$2)),AI$1,-100))","v":609.375},{"$f":"IF('Ceiling Speaker Calculator'!$C$29=\"Square\",AJ$1,IF(OR(AND(ODD($A96)=$A96,ODD(AJ$2)=AJ$2),AND(EVEN($A96)=$A96,EVEN(AJ$2)=AJ$2)),AJ$1,-100))","v":628.125},{"$f":"IF('Ceiling Speaker Calculator'!$C$29=\"Square\",AK$1,IF(OR(AND(ODD($A96)=$A96,ODD(AK$2)=AK$2),AND(EVEN($A96)=$A96,EVEN(AK$2)=AK$2)),AK$1,-100))","v":646.875},{"$f":"IF('Ceiling Speaker Calculator'!$C$29=\"Square\",AL$1,IF(OR(AND(ODD($A96)=$A96,ODD(AL$2)=AL$2),AND(EVEN($A96)=$A96,EVEN(AL$2)=AL$2)),AL$1,-100))","v":665.625},{"$f":"IF('Ceiling Speaker Calculator'!$C$29=\"Square\",AM$1,IF(OR(AND(ODD($A96)=$A96,ODD(AM$2)=AM$2),AND(EVEN($A96)=$A96,EVEN(AM$2)=AM$2)),AM$1,-100))","v":684.375},{"$f":"IF('Ceiling Speaker Calculator'!$C$29=\"Square\",AN$1,IF(OR(AND(ODD($A96)=$A96,ODD(AN$2)=AN$2),AND(EVEN($A96)=$A96,EVEN(AN$2)=AN$2)),AN$1,-100))","v":703.125},{"$f":"IF('Ceiling Speaker Calculator'!$C$29=\"Square\",AO$1,IF(OR(AND(ODD($A96)=$A96,ODD(AO$2)=AO$2),AND(EVEN($A96)=$A96,EVEN(AO$2)=AO$2)),AO$1,-100))","v":721.875},{"$f":"IF('Ceiling Speaker Calculator'!$C$29=\"Square\",AP$1,IF(OR(AND(ODD($A96)=$A96,ODD(AP$2)=AP$2),AND(EVEN($A96)=$A96,EVEN(AP$2)=AP$2)),AP$1,-100))","v":740.625},{"$f":"IF('Ceiling Speaker Calculator'!$C$29=\"Square\",AQ$1,IF(OR(AND(ODD($A96)=$A96,ODD(AQ$2)=AQ$2),AND(EVEN($A96)=$A96,EVEN(AQ$2)=AQ$2)),AQ$1,-100))","v":759.375},{"$f":"IF('Ceiling Speaker Calculator'!$C$29=\"Square\",AR$1,IF(OR(AND(ODD($A96)=$A96,ODD(AR$2)=AR$2),AND(EVEN($A96)=$A96,EVEN(AR$2)=AR$2)),AR$1,-100))","v":778.125},{"$f":"IF('Ceiling Speaker Calculator'!$C$29=\"Square\",AS$1,IF(OR(AND(ODD($A96)=$A96,ODD(AS$2)=AS$2),AND(EVEN($A96)=$A96,EVEN(AS$2)=AS$2)),AS$1,-100))","v":796.875},{"$f":"IF('Ceiling Speaker Calculator'!$C$29=\"Square\",AT$1,IF(OR(AND(ODD($A96)=$A96,ODD(AT$2)=AT$2),AND(EVEN($A96)=$A96,EVEN(AT$2)=AT$2)),AT$1,-100))","v":815.625},{"$f":"IF('Ceiling Speaker Calculator'!$C$29=\"Square\",AU$1,IF(OR(AND(ODD($A96)=$A96,ODD(AU$2)=AU$2),AND(EVEN($A96)=$A96,EVEN(AU$2)=AU$2)),AU$1,-100))","v":834.375},{"$f":"IF('Ceiling Speaker Calculator'!$C$29=\"Square\",AV$1,IF(OR(AND(ODD($A96)=$A96,ODD(AV$2)=AV$2),AND(EVEN($A96)=$A96,EVEN(AV$2)=AV$2)),AV$1,-100))","v":853.125},{"$f":"IF('Ceiling Speaker Calculator'!$C$29=\"Square\",AW$1,IF(OR(AND(ODD($A96)=$A96,ODD(AW$2)=AW$2),AND(EVEN($A96)=$A96,EVEN(AW$2)=AW$2)),AW$1,-100))","v":871.875},{"$f":"IF('Ceiling Speaker Calculator'!$C$29=\"Square\",AX$1,IF(OR(AND(ODD($A96)=$A96,ODD(AX$2)=AX$2),AND(EVEN($A96)=$A96,EVEN(AX$2)=AX$2)),AX$1,-100))","v":890.625},{"$f":"IF('Ceiling Speaker Calculator'!$C$29=\"Square\",AY$1,IF(OR(AND(ODD($A96)=$A96,ODD(AY$2)=AY$2),AND(EVEN($A96)=$A96,EVEN(AY$2)=AY$2)),AY$1,-100))","v":909.375},{"$f":"IF('Ceiling Speaker Calculator'!$C$29=\"Square\",AZ$1,IF(OR(AND(ODD($A96)=$A96,ODD(AZ$2)=AZ$2),AND(EVEN($A96)=$A96,EVEN(AZ$2)=AZ$2)),AZ$1,-100))","v":928.125},{"$f":"IF('Ceiling Speaker Calculator'!$C$29=\"Square\",BA$1,IF(OR(AND(ODD($A96)=$A96,ODD(BA$2)=BA$2),AND(EVEN($A96)=$A96,EVEN(BA$2)=BA$2)),BA$1,-100))","v":946.875},{"$f":"IF('Ceiling Speaker Calculator'!$C$29=\"Square\",BB$1,IF(OR(AND(ODD($A96)=$A96,ODD(BB$2)=BB$2),AND(EVEN($A96)=$A96,EVEN(BB$2)=BB$2)),BB$1,-100))","v":965.625},{"$f":"IF('Ceiling Speaker Calculator'!$C$29=\"Square\",BC$1,IF(OR(AND(ODD($A96)=$A96,ODD(BC$2)=BC$2),AND(EVEN($A96)=$A96,EVEN(BC$2)=BC$2)),BC$1,-100))","v":984.375},{"$f":"IF('Ceiling Speaker Calculator'!$C$29=\"Square\",BD$1,IF(OR(AND(ODD($A96)=$A96,ODD(BD$2)=BD$2),AND(EVEN($A96)=$A96,EVEN(BD$2)=BD$2)),BD$1,-100))","v":1003.125},{"$f":"IF('Ceiling Speaker Calculator'!$C$29=\"Square\",BE$1,IF(OR(AND(ODD($A96)=$A96,ODD(BE$2)=BE$2),AND(EVEN($A96)=$A96,EVEN(BE$2)=BE$2)),BE$1,-100))","v":1021.875},{"$f":"IF('Ceiling Speaker Calculator'!$C$29=\"Square\",BF$1,IF(OR(AND(ODD($A96)=$A96,ODD(BF$2)=BF$2),AND(EVEN($A96)=$A96,EVEN(BF$2)=BF$2)),BF$1,-100))","v":1040.625},{"$f":"IF('Ceiling Speaker Calculator'!$C$29=\"Square\",BG$1,IF(OR(AND(ODD($A96)=$A96,ODD(BG$2)=BG$2),AND(EVEN($A96)=$A96,EVEN(BG$2)=BG$2)),BG$1,-100))","v":1059.375},{"$f":"IF('Ceiling Speaker Calculator'!$C$29=\"Square\",BH$1,IF(OR(AND(ODD($A96)=$A96,ODD(BH$2)=BH$2),AND(EVEN($A96)=$A96,EVEN(BH$2)=BH$2)),BH$1,-100))","v":1078.125},{"$f":"IF('Ceiling Speaker Calculator'!$C$29=\"Square\",BI$1,IF(OR(AND(ODD($A96)=$A96,ODD(BI$2)=BI$2),AND(EVEN($A96)=$A96,EVEN(BI$2)=BI$2)),BI$1,-100))","v":1096.875},{"$f":"IF('Ceiling Speaker Calculator'!$C$29=\"Square\",BJ$1,IF(OR(AND(ODD($A96)=$A96,ODD(BJ$2)=BJ$2),AND(EVEN($A96)=$A96,EVEN(BJ$2)=BJ$2)),BJ$1,-100))","v":1115.625},{"$f":"IF('Ceiling Speaker Calculator'!$C$29=\"Square\",BK$1,IF(OR(AND(ODD($A96)=$A96,ODD(BK$2)=BK$2),AND(EVEN($A96)=$A96,EVEN(BK$2)=BK$2)),BK$1,-100))","v":1134.375},{"$f":"IF('Ceiling Speaker Calculator'!$C$29=\"Square\",BL$1,IF(OR(AND(ODD($A96)=$A96,ODD(BL$2)=BL$2),AND(EVEN($A96)=$A96,EVEN(BL$2)=BL$2)),BL$1,-100))","v":1153.125},{"$f":"IF('Ceiling Speaker Calculator'!$C$29=\"Square\",BM$1,IF(OR(AND(ODD($A96)=$A96,ODD(BM$2)=BM$2),AND(EVEN($A96)=$A96,EVEN(BM$2)=BM$2)),BM$1,-100))","v":1171.875},{"$f":"IF('Ceiling Speaker Calculator'!$C$29=\"Square\",BN$1,IF(OR(AND(ODD($A96)=$A96,ODD(BN$2)=BN$2),AND(EVEN($A96)=$A96,EVEN(BN$2)=BN$2)),BN$1,-100))","v":1190.625},{"$f":"IF('Ceiling Speaker Calculator'!$C$29=\"Square\",BO$1,IF(OR(AND(ODD($A96)=$A96,ODD(BO$2)=BO$2),AND(EVEN($A96)=$A96,EVEN(BO$2)=BO$2)),BO$1,-100))","v":1209.375},{"$f":"IF('Ceiling Speaker Calculator'!$C$29=\"Square\",BP$1,IF(OR(AND(ODD($A96)=$A96,ODD(BP$2)=BP$2),AND(EVEN($A96)=$A96,EVEN(BP$2)=BP$2)),BP$1,-100))","v":1228.125},{"$f":"IF('Ceiling Speaker Calculator'!$C$29=\"Square\",BQ$1,IF(OR(AND(ODD($A96)=$A96,ODD(BQ$2)=BQ$2),AND(EVEN($A96)=$A96,EVEN(BQ$2)=BQ$2)),BQ$1,-100))","v":1246.875},{"$f":"IF('Ceiling Speaker Calculator'!$C$29=\"Square\",BR$1,IF(OR(AND(ODD($A96)=$A96,ODD(BR$2)=BR$2),AND(EVEN($A96)=$A96,EVEN(BR$2)=BR$2)),BR$1,-100))","v":1265.625},{"$f":"IF('Ceiling Speaker Calculator'!$C$29=\"Square\",BS$1,IF(OR(AND(ODD($A96)=$A96,ODD(BS$2)=BS$2),AND(EVEN($A96)=$A96,EVEN(BS$2)=BS$2)),BS$1,-100))","v":1284.375},{"$f":"IF('Ceiling Speaker Calculator'!$C$29=\"Square\",BT$1,IF(OR(AND(ODD($A96)=$A96,ODD(BT$2)=BT$2),AND(EVEN($A96)=$A96,EVEN(BT$2)=BT$2)),BT$1,-100))","v":1303.125},{"$f":"IF('Ceiling Speaker Calculator'!$C$29=\"Square\",BU$1,IF(OR(AND(ODD($A96)=$A96,ODD(BU$2)=BU$2),AND(EVEN($A96)=$A96,EVEN(BU$2)=BU$2)),BU$1,-100))","v":1321.875},{"$f":"IF('Ceiling Speaker Calculator'!$C$29=\"Square\",BV$1,IF(OR(AND(ODD($A96)=$A96,ODD(BV$2)=BV$2),AND(EVEN($A96)=$A96,EVEN(BV$2)=BV$2)),BV$1,-100))","v":1340.625},{"$f":"IF('Ceiling Speaker Calculator'!$C$29=\"Square\",BW$1,IF(OR(AND(ODD($A96)=$A96,ODD(BW$2)=BW$2),AND(EVEN($A96)=$A96,EVEN(BW$2)=BW$2)),BW$1,-100))","v":1359.375},{"$f":"IF('Ceiling Speaker Calculator'!$C$29=\"Square\",BX$1,IF(OR(AND(ODD($A96)=$A96,ODD(BX$2)=BX$2),AND(EVEN($A96)=$A96,EVEN(BX$2)=BX$2)),BX$1,-100))","v":1378.125},{"$f":"IF('Ceiling Speaker Calculator'!$C$29=\"Square\",BY$1,IF(OR(AND(ODD($A96)=$A96,ODD(BY$2)=BY$2),AND(EVEN($A96)=$A96,EVEN(BY$2)=BY$2)),BY$1,-100))","v":1396.875},{"$f":"IF('Ceiling Speaker Calculator'!$C$29=\"Square\",BZ$1,IF(OR(AND(ODD($A96)=$A96,ODD(BZ$2)=BZ$2),AND(EVEN($A96)=$A96,EVEN(BZ$2)=BZ$2)),BZ$1,-100))","v":1415.625},{"$f":"IF('Ceiling Speaker Calculator'!$C$29=\"Square\",CA$1,IF(OR(AND(ODD($A96)=$A96,ODD(CA$2)=CA$2),AND(EVEN($A96)=$A96,EVEN(CA$2)=CA$2)),CA$1,-100))","v":1434.375},{"$f":"IF('Ceiling Speaker Calculator'!$C$29=\"Square\",CB$1,IF(OR(AND(ODD($A96)=$A96,ODD(CB$2)=CB$2),AND(EVEN($A96)=$A96,EVEN(CB$2)=CB$2)),CB$1,-100))","v":1453.125},{"$f":"IF('Ceiling Speaker Calculator'!$C$29=\"Square\",CC$1,IF(OR(AND(ODD($A96)=$A96,ODD(CC$2)=CC$2),AND(EVEN($A96)=$A96,EVEN(CC$2)=CC$2)),CC$1,-100))","v":1471.875},{"$f":"IF('Ceiling Speaker Calculator'!$C$29=\"Square\",CD$1,IF(OR(AND(ODD($A96)=$A96,ODD(CD$2)=CD$2),AND(EVEN($A96)=$A96,EVEN(CD$2)=CD$2)),CD$1,-100))","v":1490.625},{"$f":"IF('Ceiling Speaker Calculator'!$C$29=\"Square\",CE$1,IF(OR(AND(ODD($A96)=$A96,ODD(CE$2)=CE$2),AND(EVEN($A96)=$A96,EVEN(CE$2)=CE$2)),CE$1,-100))","v":1509.375},{"$f":"IF('Ceiling Speaker Calculator'!$C$29=\"Square\",CF$1,IF(OR(AND(ODD($A96)=$A96,ODD(CF$2)=CF$2),AND(EVEN($A96)=$A96,EVEN(CF$2)=CF$2)),CF$1,-100))","v":1528.125},{"$f":"IF('Ceiling Speaker Calculator'!$C$29=\"Square\",CG$1,IF(OR(AND(ODD($A96)=$A96,ODD(CG$2)=CG$2),AND(EVEN($A96)=$A96,EVEN(CG$2)=CG$2)),CG$1,-100))","v":1546.875},{"$f":"IF('Ceiling Speaker Calculator'!$C$29=\"Square\",CH$1,IF(OR(AND(ODD($A96)=$A96,ODD(CH$2)=CH$2),AND(EVEN($A96)=$A96,EVEN(CH$2)=CH$2)),CH$1,-100))","v":1565.625},{"$f":"IF('Ceiling Speaker Calculator'!$C$29=\"Square\",CI$1,IF(OR(AND(ODD($A96)=$A96,ODD(CI$2)=CI$2),AND(EVEN($A96)=$A96,EVEN(CI$2)=CI$2)),CI$1,-100))","v":1584.375},{"$f":"IF('Ceiling Speaker Calculator'!$C$29=\"Square\",CJ$1,IF(OR(AND(ODD($A96)=$A96,ODD(CJ$2)=CJ$2),AND(EVEN($A96)=$A96,EVEN(CJ$2)=CJ$2)),CJ$1,-100))","v":1603.125},{"$f":"IF('Ceiling Speaker Calculator'!$C$29=\"Square\",CK$1,IF(OR(AND(ODD($A96)=$A96,ODD(CK$2)=CK$2),AND(EVEN($A96)=$A96,EVEN(CK$2)=CK$2)),CK$1,-100))","v":1621.875},{"$f":"IF('Ceiling Speaker Calculator'!$C$29=\"Square\",CL$1,IF(OR(AND(ODD($A96)=$A96,ODD(CL$2)=CL$2),AND(EVEN($A96)=$A96,EVEN(CL$2)=CL$2)),CL$1,-100))","v":1640.625},{"$f":"IF('Ceiling Speaker Calculator'!$C$29=\"Square\",CM$1,IF(OR(AND(ODD($A96)=$A96,ODD(CM$2)=CM$2),AND(EVEN($A96)=$A96,EVEN(CM$2)=CM$2)),CM$1,-100))","v":1659.375},{"$f":"IF('Ceiling Speaker Calculator'!$C$29=\"Square\",CN$1,IF(OR(AND(ODD($A96)=$A96,ODD(CN$2)=CN$2),AND(EVEN($A96)=$A96,EVEN(CN$2)=CN$2)),CN$1,-100))","v":1678.125},{"$f":"IF('Ceiling Speaker Calculator'!$C$29=\"Square\",CO$1,IF(OR(AND(ODD($A96)=$A96,ODD(CO$2)=CO$2),AND(EVEN($A96)=$A96,EVEN(CO$2)=CO$2)),CO$1,-100))","v":1696.875},{"$f":"IF('Ceiling Speaker Calculator'!$C$29=\"Square\",CP$1,IF(OR(AND(ODD($A96)=$A96,ODD(CP$2)=CP$2),AND(EVEN($A96)=$A96,EVEN(CP$2)=CP$2)),CP$1,-100))","v":1715.625},{"$f":"IF('Ceiling Speaker Calculator'!$C$29=\"Square\",CQ$1,IF(OR(AND(ODD($A96)=$A96,ODD(CQ$2)=CQ$2),AND(EVEN($A96)=$A96,EVEN(CQ$2)=CQ$2)),CQ$1,-100))","v":1734.375},{"$f":"IF('Ceiling Speaker Calculator'!$C$29=\"Square\",CR$1,IF(OR(AND(ODD($A96)=$A96,ODD(CR$2)=CR$2),AND(EVEN($A96)=$A96,EVEN(CR$2)=CR$2)),CR$1,-100))","v":1753.125},{"$f":"IF('Ceiling Speaker Calculator'!$C$29=\"Square\",CS$1,IF(OR(AND(ODD($A96)=$A96,ODD(CS$2)=CS$2),AND(EVEN($A96)=$A96,EVEN(CS$2)=CS$2)),CS$1,-100))","v":1771.875},{"$f":"IF('Ceiling Speaker Calculator'!$C$29=\"Square\",CT$1,IF(OR(AND(ODD($A96)=$A96,ODD(CT$2)=CT$2),AND(EVEN($A96)=$A96,EVEN(CT$2)=CT$2)),CT$1,-100))","v":1790.625},{"$f":"IF('Ceiling Speaker Calculator'!$C$29=\"Square\",CU$1,IF(OR(AND(ODD($A96)=$A96,ODD(CU$2)=CU$2),AND(EVEN($A96)=$A96,EVEN(CU$2)=CU$2)),CU$1,-100))","v":1809.375},{"$f":"IF('Ceiling Speaker Calculator'!$C$29=\"Square\",CV$1,IF(OR(AND(ODD($A96)=$A96,ODD(CV$2)=CV$2),AND(EVEN($A96)=$A96,EVEN(CV$2)=CV$2)),CV$1,-100))","v":1828.125},{"$f":"IF('Ceiling Speaker Calculator'!$C$29=\"Square\",CW$1,IF(OR(AND(ODD($A96)=$A96,ODD(CW$2)=CW$2),AND(EVEN($A96)=$A96,EVEN(CW$2)=CW$2)),CW$1,-100))","v":1846.875},{"$f":"IF('Ceiling Speaker Calculator'!$C$29=\"Square\",CX$1,IF(OR(AND(ODD($A96)=$A96,ODD(CX$2)=CX$2),AND(EVEN($A96)=$A96,EVEN(CX$2)=CX$2)),CX$1,-100))","v":1865.625}]
[95,{"$f":"B96+'Ceiling Speaker Calculator'!$K$16","v":1890},{"$f":"IF('Ceiling Speaker Calculator'!$C$29=\"Square\",C$1,IF(OR(AND(ODD($A97)=$A97,ODD(C$2)=C$2),AND(EVEN($A97)=$A97,EVEN(C$2)=C$2)),C$1,-100))","v":9.375},{"$f":"IF('Ceiling Speaker Calculator'!$C$29=\"Square\",D$1,IF(OR(AND(ODD($A97)=$A97,ODD(D$2)=D$2),AND(EVEN($A97)=$A97,EVEN(D$2)=D$2)),D$1,-100))","v":28.125},{"$f":"IF('Ceiling Speaker Calculator'!$C$29=\"Square\",E$1,IF(OR(AND(ODD($A97)=$A97,ODD(E$2)=E$2),AND(EVEN($A97)=$A97,EVEN(E$2)=E$2)),E$1,-100))","v":46.875},{"$f":"IF('Ceiling Speaker Calculator'!$C$29=\"Square\",F$1,IF(OR(AND(ODD($A97)=$A97,ODD(F$2)=F$2),AND(EVEN($A97)=$A97,EVEN(F$2)=F$2)),F$1,-100))","v":65.625},{"$f":"IF('Ceiling Speaker Calculator'!$C$29=\"Square\",G$1,IF(OR(AND(ODD($A97)=$A97,ODD(G$2)=G$2),AND(EVEN($A97)=$A97,EVEN(G$2)=G$2)),G$1,-100))","v":84.375},{"$f":"IF('Ceiling Speaker Calculator'!$C$29=\"Square\",H$1,IF(OR(AND(ODD($A97)=$A97,ODD(H$2)=H$2),AND(EVEN($A97)=$A97,EVEN(H$2)=H$2)),H$1,-100))","v":103.125},{"$f":"IF('Ceiling Speaker Calculator'!$C$29=\"Square\",I$1,IF(OR(AND(ODD($A97)=$A97,ODD(I$2)=I$2),AND(EVEN($A97)=$A97,EVEN(I$2)=I$2)),I$1,-100))","v":121.875},{"$f":"IF('Ceiling Speaker Calculator'!$C$29=\"Square\",J$1,IF(OR(AND(ODD($A97)=$A97,ODD(J$2)=J$2),AND(EVEN($A97)=$A97,EVEN(J$2)=J$2)),J$1,-100))","v":140.625},{"$f":"IF('Ceiling Speaker Calculator'!$C$29=\"Square\",K$1,IF(OR(AND(ODD($A97)=$A97,ODD(K$2)=K$2),AND(EVEN($A97)=$A97,EVEN(K$2)=K$2)),K$1,-100))","v":159.375},{"$f":"IF('Ceiling Speaker Calculator'!$C$29=\"Square\",L$1,IF(OR(AND(ODD($A97)=$A97,ODD(L$2)=L$2),AND(EVEN($A97)=$A97,EVEN(L$2)=L$2)),L$1,-100))","v":178.125},{"$f":"IF('Ceiling Speaker Calculator'!$C$29=\"Square\",M$1,IF(OR(AND(ODD($A97)=$A97,ODD(M$2)=M$2),AND(EVEN($A97)=$A97,EVEN(M$2)=M$2)),M$1,-100))","v":196.875},{"$f":"IF('Ceiling Speaker Calculator'!$C$29=\"Square\",N$1,IF(OR(AND(ODD($A97)=$A97,ODD(N$2)=N$2),AND(EVEN($A97)=$A97,EVEN(N$2)=N$2)),N$1,-100))","v":215.625},{"$f":"IF('Ceiling Speaker Calculator'!$C$29=\"Square\",O$1,IF(OR(AND(ODD($A97)=$A97,ODD(O$2)=O$2),AND(EVEN($A97)=$A97,EVEN(O$2)=O$2)),O$1,-100))","v":234.375},{"$f":"IF('Ceiling Speaker Calculator'!$C$29=\"Square\",P$1,IF(OR(AND(ODD($A97)=$A97,ODD(P$2)=P$2),AND(EVEN($A97)=$A97,EVEN(P$2)=P$2)),P$1,-100))","v":253.125},{"$f":"IF('Ceiling Speaker Calculator'!$C$29=\"Square\",Q$1,IF(OR(AND(ODD($A97)=$A97,ODD(Q$2)=Q$2),AND(EVEN($A97)=$A97,EVEN(Q$2)=Q$2)),Q$1,-100))","v":271.875},{"$f":"IF('Ceiling Speaker Calculator'!$C$29=\"Square\",R$1,IF(OR(AND(ODD($A97)=$A97,ODD(R$2)=R$2),AND(EVEN($A97)=$A97,EVEN(R$2)=R$2)),R$1,-100))","v":290.625},{"$f":"IF('Ceiling Speaker Calculator'!$C$29=\"Square\",S$1,IF(OR(AND(ODD($A97)=$A97,ODD(S$2)=S$2),AND(EVEN($A97)=$A97,EVEN(S$2)=S$2)),S$1,-100))","v":309.375},{"$f":"IF('Ceiling Speaker Calculator'!$C$29=\"Square\",T$1,IF(OR(AND(ODD($A97)=$A97,ODD(T$2)=T$2),AND(EVEN($A97)=$A97,EVEN(T$2)=T$2)),T$1,-100))","v":328.125},{"$f":"IF('Ceiling Speaker Calculator'!$C$29=\"Square\",U$1,IF(OR(AND(ODD($A97)=$A97,ODD(U$2)=U$2),AND(EVEN($A97)=$A97,EVEN(U$2)=U$2)),U$1,-100))","v":346.875},{"$f":"IF('Ceiling Speaker Calculator'!$C$29=\"Square\",V$1,IF(OR(AND(ODD($A97)=$A97,ODD(V$2)=V$2),AND(EVEN($A97)=$A97,EVEN(V$2)=V$2)),V$1,-100))","v":365.625},{"$f":"IF('Ceiling Speaker Calculator'!$C$29=\"Square\",W$1,IF(OR(AND(ODD($A97)=$A97,ODD(W$2)=W$2),AND(EVEN($A97)=$A97,EVEN(W$2)=W$2)),W$1,-100))","v":384.375},{"$f":"IF('Ceiling Speaker Calculator'!$C$29=\"Square\",X$1,IF(OR(AND(ODD($A97)=$A97,ODD(X$2)=X$2),AND(EVEN($A97)=$A97,EVEN(X$2)=X$2)),X$1,-100))","v":403.125},{"$f":"IF('Ceiling Speaker Calculator'!$C$29=\"Square\",Y$1,IF(OR(AND(ODD($A97)=$A97,ODD(Y$2)=Y$2),AND(EVEN($A97)=$A97,EVEN(Y$2)=Y$2)),Y$1,-100))","v":421.875},{"$f":"IF('Ceiling Speaker Calculator'!$C$29=\"Square\",Z$1,IF(OR(AND(ODD($A97)=$A97,ODD(Z$2)=Z$2),AND(EVEN($A97)=$A97,EVEN(Z$2)=Z$2)),Z$1,-100))","v":440.625},{"$f":"IF('Ceiling Speaker Calculator'!$C$29=\"Square\",AA$1,IF(OR(AND(ODD($A97)=$A97,ODD(AA$2)=AA$2),AND(EVEN($A97)=$A97,EVEN(AA$2)=AA$2)),AA$1,-100))","v":459.375},{"$f":"IF('Ceiling Speaker Calculator'!$C$29=\"Square\",AB$1,IF(OR(AND(ODD($A97)=$A97,ODD(AB$2)=AB$2),AND(EVEN($A97)=$A97,EVEN(AB$2)=AB$2)),AB$1,-100))","v":478.125},{"$f":"IF('Ceiling Speaker Calculator'!$C$29=\"Square\",AC$1,IF(OR(AND(ODD($A97)=$A97,ODD(AC$2)=AC$2),AND(EVEN($A97)=$A97,EVEN(AC$2)=AC$2)),AC$1,-100))","v":496.875},{"$f":"IF('Ceiling Speaker Calculator'!$C$29=\"Square\",AD$1,IF(OR(AND(ODD($A97)=$A97,ODD(AD$2)=AD$2),AND(EVEN($A97)=$A97,EVEN(AD$2)=AD$2)),AD$1,-100))","v":515.625},{"$f":"IF('Ceiling Speaker Calculator'!$C$29=\"Square\",AE$1,IF(OR(AND(ODD($A97)=$A97,ODD(AE$2)=AE$2),AND(EVEN($A97)=$A97,EVEN(AE$2)=AE$2)),AE$1,-100))","v":534.375},{"$f":"IF('Ceiling Speaker Calculator'!$C$29=\"Square\",AF$1,IF(OR(AND(ODD($A97)=$A97,ODD(AF$2)=AF$2),AND(EVEN($A97)=$A97,EVEN(AF$2)=AF$2)),AF$1,-100))","v":553.125},{"$f":"IF('Ceiling Speaker Calculator'!$C$29=\"Square\",AG$1,IF(OR(AND(ODD($A97)=$A97,ODD(AG$2)=AG$2),AND(EVEN($A97)=$A97,EVEN(AG$2)=AG$2)),AG$1,-100))","v":571.875},{"$f":"IF('Ceiling Speaker Calculator'!$C$29=\"Square\",AH$1,IF(OR(AND(ODD($A97)=$A97,ODD(AH$2)=AH$2),AND(EVEN($A97)=$A97,EVEN(AH$2)=AH$2)),AH$1,-100))","v":590.625},{"$f":"IF('Ceiling Speaker Calculator'!$C$29=\"Square\",AI$1,IF(OR(AND(ODD($A97)=$A97,ODD(AI$2)=AI$2),AND(EVEN($A97)=$A97,EVEN(AI$2)=AI$2)),AI$1,-100))","v":609.375},{"$f":"IF('Ceiling Speaker Calculator'!$C$29=\"Square\",AJ$1,IF(OR(AND(ODD($A97)=$A97,ODD(AJ$2)=AJ$2),AND(EVEN($A97)=$A97,EVEN(AJ$2)=AJ$2)),AJ$1,-100))","v":628.125},{"$f":"IF('Ceiling Speaker Calculator'!$C$29=\"Square\",AK$1,IF(OR(AND(ODD($A97)=$A97,ODD(AK$2)=AK$2),AND(EVEN($A97)=$A97,EVEN(AK$2)=AK$2)),AK$1,-100))","v":646.875},{"$f":"IF('Ceiling Speaker Calculator'!$C$29=\"Square\",AL$1,IF(OR(AND(ODD($A97)=$A97,ODD(AL$2)=AL$2),AND(EVEN($A97)=$A97,EVEN(AL$2)=AL$2)),AL$1,-100))","v":665.625},{"$f":"IF('Ceiling Speaker Calculator'!$C$29=\"Square\",AM$1,IF(OR(AND(ODD($A97)=$A97,ODD(AM$2)=AM$2),AND(EVEN($A97)=$A97,EVEN(AM$2)=AM$2)),AM$1,-100))","v":684.375},{"$f":"IF('Ceiling Speaker Calculator'!$C$29=\"Square\",AN$1,IF(OR(AND(ODD($A97)=$A97,ODD(AN$2)=AN$2),AND(EVEN($A97)=$A97,EVEN(AN$2)=AN$2)),AN$1,-100))","v":703.125},{"$f":"IF('Ceiling Speaker Calculator'!$C$29=\"Square\",AO$1,IF(OR(AND(ODD($A97)=$A97,ODD(AO$2)=AO$2),AND(EVEN($A97)=$A97,EVEN(AO$2)=AO$2)),AO$1,-100))","v":721.875},{"$f":"IF('Ceiling Speaker Calculator'!$C$29=\"Square\",AP$1,IF(OR(AND(ODD($A97)=$A97,ODD(AP$2)=AP$2),AND(EVEN($A97)=$A97,EVEN(AP$2)=AP$2)),AP$1,-100))","v":740.625},{"$f":"IF('Ceiling Speaker Calculator'!$C$29=\"Square\",AQ$1,IF(OR(AND(ODD($A97)=$A97,ODD(AQ$2)=AQ$2),AND(EVEN($A97)=$A97,EVEN(AQ$2)=AQ$2)),AQ$1,-100))","v":759.375},{"$f":"IF('Ceiling Speaker Calculator'!$C$29=\"Square\",AR$1,IF(OR(AND(ODD($A97)=$A97,ODD(AR$2)=AR$2),AND(EVEN($A97)=$A97,EVEN(AR$2)=AR$2)),AR$1,-100))","v":778.125},{"$f":"IF('Ceiling Speaker Calculator'!$C$29=\"Square\",AS$1,IF(OR(AND(ODD($A97)=$A97,ODD(AS$2)=AS$2),AND(EVEN($A97)=$A97,EVEN(AS$2)=AS$2)),AS$1,-100))","v":796.875},{"$f":"IF('Ceiling Speaker Calculator'!$C$29=\"Square\",AT$1,IF(OR(AND(ODD($A97)=$A97,ODD(AT$2)=AT$2),AND(EVEN($A97)=$A97,EVEN(AT$2)=AT$2)),AT$1,-100))","v":815.625},{"$f":"IF('Ceiling Speaker Calculator'!$C$29=\"Square\",AU$1,IF(OR(AND(ODD($A97)=$A97,ODD(AU$2)=AU$2),AND(EVEN($A97)=$A97,EVEN(AU$2)=AU$2)),AU$1,-100))","v":834.375},{"$f":"IF('Ceiling Speaker Calculator'!$C$29=\"Square\",AV$1,IF(OR(AND(ODD($A97)=$A97,ODD(AV$2)=AV$2),AND(EVEN($A97)=$A97,EVEN(AV$2)=AV$2)),AV$1,-100))","v":853.125},{"$f":"IF('Ceiling Speaker Calculator'!$C$29=\"Square\",AW$1,IF(OR(AND(ODD($A97)=$A97,ODD(AW$2)=AW$2),AND(EVEN($A97)=$A97,EVEN(AW$2)=AW$2)),AW$1,-100))","v":871.875},{"$f":"IF('Ceiling Speaker Calculator'!$C$29=\"Square\",AX$1,IF(OR(AND(ODD($A97)=$A97,ODD(AX$2)=AX$2),AND(EVEN($A97)=$A97,EVEN(AX$2)=AX$2)),AX$1,-100))","v":890.625},{"$f":"IF('Ceiling Speaker Calculator'!$C$29=\"Square\",AY$1,IF(OR(AND(ODD($A97)=$A97,ODD(AY$2)=AY$2),AND(EVEN($A97)=$A97,EVEN(AY$2)=AY$2)),AY$1,-100))","v":909.375},{"$f":"IF('Ceiling Speaker Calculator'!$C$29=\"Square\",AZ$1,IF(OR(AND(ODD($A97)=$A97,ODD(AZ$2)=AZ$2),AND(EVEN($A97)=$A97,EVEN(AZ$2)=AZ$2)),AZ$1,-100))","v":928.125},{"$f":"IF('Ceiling Speaker Calculator'!$C$29=\"Square\",BA$1,IF(OR(AND(ODD($A97)=$A97,ODD(BA$2)=BA$2),AND(EVEN($A97)=$A97,EVEN(BA$2)=BA$2)),BA$1,-100))","v":946.875},{"$f":"IF('Ceiling Speaker Calculator'!$C$29=\"Square\",BB$1,IF(OR(AND(ODD($A97)=$A97,ODD(BB$2)=BB$2),AND(EVEN($A97)=$A97,EVEN(BB$2)=BB$2)),BB$1,-100))","v":965.625},{"$f":"IF('Ceiling Speaker Calculator'!$C$29=\"Square\",BC$1,IF(OR(AND(ODD($A97)=$A97,ODD(BC$2)=BC$2),AND(EVEN($A97)=$A97,EVEN(BC$2)=BC$2)),BC$1,-100))","v":984.375},{"$f":"IF('Ceiling Speaker Calculator'!$C$29=\"Square\",BD$1,IF(OR(AND(ODD($A97)=$A97,ODD(BD$2)=BD$2),AND(EVEN($A97)=$A97,EVEN(BD$2)=BD$2)),BD$1,-100))","v":1003.125},{"$f":"IF('Ceiling Speaker Calculator'!$C$29=\"Square\",BE$1,IF(OR(AND(ODD($A97)=$A97,ODD(BE$2)=BE$2),AND(EVEN($A97)=$A97,EVEN(BE$2)=BE$2)),BE$1,-100))","v":1021.875},{"$f":"IF('Ceiling Speaker Calculator'!$C$29=\"Square\",BF$1,IF(OR(AND(ODD($A97)=$A97,ODD(BF$2)=BF$2),AND(EVEN($A97)=$A97,EVEN(BF$2)=BF$2)),BF$1,-100))","v":1040.625},{"$f":"IF('Ceiling Speaker Calculator'!$C$29=\"Square\",BG$1,IF(OR(AND(ODD($A97)=$A97,ODD(BG$2)=BG$2),AND(EVEN($A97)=$A97,EVEN(BG$2)=BG$2)),BG$1,-100))","v":1059.375},{"$f":"IF('Ceiling Speaker Calculator'!$C$29=\"Square\",BH$1,IF(OR(AND(ODD($A97)=$A97,ODD(BH$2)=BH$2),AND(EVEN($A97)=$A97,EVEN(BH$2)=BH$2)),BH$1,-100))","v":1078.125},{"$f":"IF('Ceiling Speaker Calculator'!$C$29=\"Square\",BI$1,IF(OR(AND(ODD($A97)=$A97,ODD(BI$2)=BI$2),AND(EVEN($A97)=$A97,EVEN(BI$2)=BI$2)),BI$1,-100))","v":1096.875},{"$f":"IF('Ceiling Speaker Calculator'!$C$29=\"Square\",BJ$1,IF(OR(AND(ODD($A97)=$A97,ODD(BJ$2)=BJ$2),AND(EVEN($A97)=$A97,EVEN(BJ$2)=BJ$2)),BJ$1,-100))","v":1115.625},{"$f":"IF('Ceiling Speaker Calculator'!$C$29=\"Square\",BK$1,IF(OR(AND(ODD($A97)=$A97,ODD(BK$2)=BK$2),AND(EVEN($A97)=$A97,EVEN(BK$2)=BK$2)),BK$1,-100))","v":1134.375},{"$f":"IF('Ceiling Speaker Calculator'!$C$29=\"Square\",BL$1,IF(OR(AND(ODD($A97)=$A97,ODD(BL$2)=BL$2),AND(EVEN($A97)=$A97,EVEN(BL$2)=BL$2)),BL$1,-100))","v":1153.125},{"$f":"IF('Ceiling Speaker Calculator'!$C$29=\"Square\",BM$1,IF(OR(AND(ODD($A97)=$A97,ODD(BM$2)=BM$2),AND(EVEN($A97)=$A97,EVEN(BM$2)=BM$2)),BM$1,-100))","v":1171.875},{"$f":"IF('Ceiling Speaker Calculator'!$C$29=\"Square\",BN$1,IF(OR(AND(ODD($A97)=$A97,ODD(BN$2)=BN$2),AND(EVEN($A97)=$A97,EVEN(BN$2)=BN$2)),BN$1,-100))","v":1190.625},{"$f":"IF('Ceiling Speaker Calculator'!$C$29=\"Square\",BO$1,IF(OR(AND(ODD($A97)=$A97,ODD(BO$2)=BO$2),AND(EVEN($A97)=$A97,EVEN(BO$2)=BO$2)),BO$1,-100))","v":1209.375},{"$f":"IF('Ceiling Speaker Calculator'!$C$29=\"Square\",BP$1,IF(OR(AND(ODD($A97)=$A97,ODD(BP$2)=BP$2),AND(EVEN($A97)=$A97,EVEN(BP$2)=BP$2)),BP$1,-100))","v":1228.125},{"$f":"IF('Ceiling Speaker Calculator'!$C$29=\"Square\",BQ$1,IF(OR(AND(ODD($A97)=$A97,ODD(BQ$2)=BQ$2),AND(EVEN($A97)=$A97,EVEN(BQ$2)=BQ$2)),BQ$1,-100))","v":1246.875},{"$f":"IF('Ceiling Speaker Calculator'!$C$29=\"Square\",BR$1,IF(OR(AND(ODD($A97)=$A97,ODD(BR$2)=BR$2),AND(EVEN($A97)=$A97,EVEN(BR$2)=BR$2)),BR$1,-100))","v":1265.625},{"$f":"IF('Ceiling Speaker Calculator'!$C$29=\"Square\",BS$1,IF(OR(AND(ODD($A97)=$A97,ODD(BS$2)=BS$2),AND(EVEN($A97)=$A97,EVEN(BS$2)=BS$2)),BS$1,-100))","v":1284.375},{"$f":"IF('Ceiling Speaker Calculator'!$C$29=\"Square\",BT$1,IF(OR(AND(ODD($A97)=$A97,ODD(BT$2)=BT$2),AND(EVEN($A97)=$A97,EVEN(BT$2)=BT$2)),BT$1,-100))","v":1303.125},{"$f":"IF('Ceiling Speaker Calculator'!$C$29=\"Square\",BU$1,IF(OR(AND(ODD($A97)=$A97,ODD(BU$2)=BU$2),AND(EVEN($A97)=$A97,EVEN(BU$2)=BU$2)),BU$1,-100))","v":1321.875},{"$f":"IF('Ceiling Speaker Calculator'!$C$29=\"Square\",BV$1,IF(OR(AND(ODD($A97)=$A97,ODD(BV$2)=BV$2),AND(EVEN($A97)=$A97,EVEN(BV$2)=BV$2)),BV$1,-100))","v":1340.625},{"$f":"IF('Ceiling Speaker Calculator'!$C$29=\"Square\",BW$1,IF(OR(AND(ODD($A97)=$A97,ODD(BW$2)=BW$2),AND(EVEN($A97)=$A97,EVEN(BW$2)=BW$2)),BW$1,-100))","v":1359.375},{"$f":"IF('Ceiling Speaker Calculator'!$C$29=\"Square\",BX$1,IF(OR(AND(ODD($A97)=$A97,ODD(BX$2)=BX$2),AND(EVEN($A97)=$A97,EVEN(BX$2)=BX$2)),BX$1,-100))","v":1378.125},{"$f":"IF('Ceiling Speaker Calculator'!$C$29=\"Square\",BY$1,IF(OR(AND(ODD($A97)=$A97,ODD(BY$2)=BY$2),AND(EVEN($A97)=$A97,EVEN(BY$2)=BY$2)),BY$1,-100))","v":1396.875},{"$f":"IF('Ceiling Speaker Calculator'!$C$29=\"Square\",BZ$1,IF(OR(AND(ODD($A97)=$A97,ODD(BZ$2)=BZ$2),AND(EVEN($A97)=$A97,EVEN(BZ$2)=BZ$2)),BZ$1,-100))","v":1415.625},{"$f":"IF('Ceiling Speaker Calculator'!$C$29=\"Square\",CA$1,IF(OR(AND(ODD($A97)=$A97,ODD(CA$2)=CA$2),AND(EVEN($A97)=$A97,EVEN(CA$2)=CA$2)),CA$1,-100))","v":1434.375},{"$f":"IF('Ceiling Speaker Calculator'!$C$29=\"Square\",CB$1,IF(OR(AND(ODD($A97)=$A97,ODD(CB$2)=CB$2),AND(EVEN($A97)=$A97,EVEN(CB$2)=CB$2)),CB$1,-100))","v":1453.125},{"$f":"IF('Ceiling Speaker Calculator'!$C$29=\"Square\",CC$1,IF(OR(AND(ODD($A97)=$A97,ODD(CC$2)=CC$2),AND(EVEN($A97)=$A97,EVEN(CC$2)=CC$2)),CC$1,-100))","v":1471.875},{"$f":"IF('Ceiling Speaker Calculator'!$C$29=\"Square\",CD$1,IF(OR(AND(ODD($A97)=$A97,ODD(CD$2)=CD$2),AND(EVEN($A97)=$A97,EVEN(CD$2)=CD$2)),CD$1,-100))","v":1490.625},{"$f":"IF('Ceiling Speaker Calculator'!$C$29=\"Square\",CE$1,IF(OR(AND(ODD($A97)=$A97,ODD(CE$2)=CE$2),AND(EVEN($A97)=$A97,EVEN(CE$2)=CE$2)),CE$1,-100))","v":1509.375},{"$f":"IF('Ceiling Speaker Calculator'!$C$29=\"Square\",CF$1,IF(OR(AND(ODD($A97)=$A97,ODD(CF$2)=CF$2),AND(EVEN($A97)=$A97,EVEN(CF$2)=CF$2)),CF$1,-100))","v":1528.125},{"$f":"IF('Ceiling Speaker Calculator'!$C$29=\"Square\",CG$1,IF(OR(AND(ODD($A97)=$A97,ODD(CG$2)=CG$2),AND(EVEN($A97)=$A97,EVEN(CG$2)=CG$2)),CG$1,-100))","v":1546.875},{"$f":"IF('Ceiling Speaker Calculator'!$C$29=\"Square\",CH$1,IF(OR(AND(ODD($A97)=$A97,ODD(CH$2)=CH$2),AND(EVEN($A97)=$A97,EVEN(CH$2)=CH$2)),CH$1,-100))","v":1565.625},{"$f":"IF('Ceiling Speaker Calculator'!$C$29=\"Square\",CI$1,IF(OR(AND(ODD($A97)=$A97,ODD(CI$2)=CI$2),AND(EVEN($A97)=$A97,EVEN(CI$2)=CI$2)),CI$1,-100))","v":1584.375},{"$f":"IF('Ceiling Speaker Calculator'!$C$29=\"Square\",CJ$1,IF(OR(AND(ODD($A97)=$A97,ODD(CJ$2)=CJ$2),AND(EVEN($A97)=$A97,EVEN(CJ$2)=CJ$2)),CJ$1,-100))","v":1603.125},{"$f":"IF('Ceiling Speaker Calculator'!$C$29=\"Square\",CK$1,IF(OR(AND(ODD($A97)=$A97,ODD(CK$2)=CK$2),AND(EVEN($A97)=$A97,EVEN(CK$2)=CK$2)),CK$1,-100))","v":1621.875},{"$f":"IF('Ceiling Speaker Calculator'!$C$29=\"Square\",CL$1,IF(OR(AND(ODD($A97)=$A97,ODD(CL$2)=CL$2),AND(EVEN($A97)=$A97,EVEN(CL$2)=CL$2)),CL$1,-100))","v":1640.625},{"$f":"IF('Ceiling Speaker Calculator'!$C$29=\"Square\",CM$1,IF(OR(AND(ODD($A97)=$A97,ODD(CM$2)=CM$2),AND(EVEN($A97)=$A97,EVEN(CM$2)=CM$2)),CM$1,-100))","v":1659.375},{"$f":"IF('Ceiling Speaker Calculator'!$C$29=\"Square\",CN$1,IF(OR(AND(ODD($A97)=$A97,ODD(CN$2)=CN$2),AND(EVEN($A97)=$A97,EVEN(CN$2)=CN$2)),CN$1,-100))","v":1678.125},{"$f":"IF('Ceiling Speaker Calculator'!$C$29=\"Square\",CO$1,IF(OR(AND(ODD($A97)=$A97,ODD(CO$2)=CO$2),AND(EVEN($A97)=$A97,EVEN(CO$2)=CO$2)),CO$1,-100))","v":1696.875},{"$f":"IF('Ceiling Speaker Calculator'!$C$29=\"Square\",CP$1,IF(OR(AND(ODD($A97)=$A97,ODD(CP$2)=CP$2),AND(EVEN($A97)=$A97,EVEN(CP$2)=CP$2)),CP$1,-100))","v":1715.625},{"$f":"IF('Ceiling Speaker Calculator'!$C$29=\"Square\",CQ$1,IF(OR(AND(ODD($A97)=$A97,ODD(CQ$2)=CQ$2),AND(EVEN($A97)=$A97,EVEN(CQ$2)=CQ$2)),CQ$1,-100))","v":1734.375},{"$f":"IF('Ceiling Speaker Calculator'!$C$29=\"Square\",CR$1,IF(OR(AND(ODD($A97)=$A97,ODD(CR$2)=CR$2),AND(EVEN($A97)=$A97,EVEN(CR$2)=CR$2)),CR$1,-100))","v":1753.125},{"$f":"IF('Ceiling Speaker Calculator'!$C$29=\"Square\",CS$1,IF(OR(AND(ODD($A97)=$A97,ODD(CS$2)=CS$2),AND(EVEN($A97)=$A97,EVEN(CS$2)=CS$2)),CS$1,-100))","v":1771.875},{"$f":"IF('Ceiling Speaker Calculator'!$C$29=\"Square\",CT$1,IF(OR(AND(ODD($A97)=$A97,ODD(CT$2)=CT$2),AND(EVEN($A97)=$A97,EVEN(CT$2)=CT$2)),CT$1,-100))","v":1790.625},{"$f":"IF('Ceiling Speaker Calculator'!$C$29=\"Square\",CU$1,IF(OR(AND(ODD($A97)=$A97,ODD(CU$2)=CU$2),AND(EVEN($A97)=$A97,EVEN(CU$2)=CU$2)),CU$1,-100))","v":1809.375},{"$f":"IF('Ceiling Speaker Calculator'!$C$29=\"Square\",CV$1,IF(OR(AND(ODD($A97)=$A97,ODD(CV$2)=CV$2),AND(EVEN($A97)=$A97,EVEN(CV$2)=CV$2)),CV$1,-100))","v":1828.125},{"$f":"IF('Ceiling Speaker Calculator'!$C$29=\"Square\",CW$1,IF(OR(AND(ODD($A97)=$A97,ODD(CW$2)=CW$2),AND(EVEN($A97)=$A97,EVEN(CW$2)=CW$2)),CW$1,-100))","v":1846.875},{"$f":"IF('Ceiling Speaker Calculator'!$C$29=\"Square\",CX$1,IF(OR(AND(ODD($A97)=$A97,ODD(CX$2)=CX$2),AND(EVEN($A97)=$A97,EVEN(CX$2)=CX$2)),CX$1,-100))","v":1865.625}]
[96,{"$f":"B97+'Ceiling Speaker Calculator'!$K$16","v":1910},{"$f":"IF('Ceiling Speaker Calculator'!$C$29=\"Square\",C$1,IF(OR(AND(ODD($A98)=$A98,ODD(C$2)=C$2),AND(EVEN($A98)=$A98,EVEN(C$2)=C$2)),C$1,-100))","v":9.375},{"$f":"IF('Ceiling Speaker Calculator'!$C$29=\"Square\",D$1,IF(OR(AND(ODD($A98)=$A98,ODD(D$2)=D$2),AND(EVEN($A98)=$A98,EVEN(D$2)=D$2)),D$1,-100))","v":28.125},{"$f":"IF('Ceiling Speaker Calculator'!$C$29=\"Square\",E$1,IF(OR(AND(ODD($A98)=$A98,ODD(E$2)=E$2),AND(EVEN($A98)=$A98,EVEN(E$2)=E$2)),E$1,-100))","v":46.875},{"$f":"IF('Ceiling Speaker Calculator'!$C$29=\"Square\",F$1,IF(OR(AND(ODD($A98)=$A98,ODD(F$2)=F$2),AND(EVEN($A98)=$A98,EVEN(F$2)=F$2)),F$1,-100))","v":65.625},{"$f":"IF('Ceiling Speaker Calculator'!$C$29=\"Square\",G$1,IF(OR(AND(ODD($A98)=$A98,ODD(G$2)=G$2),AND(EVEN($A98)=$A98,EVEN(G$2)=G$2)),G$1,-100))","v":84.375},{"$f":"IF('Ceiling Speaker Calculator'!$C$29=\"Square\",H$1,IF(OR(AND(ODD($A98)=$A98,ODD(H$2)=H$2),AND(EVEN($A98)=$A98,EVEN(H$2)=H$2)),H$1,-100))","v":103.125},{"$f":"IF('Ceiling Speaker Calculator'!$C$29=\"Square\",I$1,IF(OR(AND(ODD($A98)=$A98,ODD(I$2)=I$2),AND(EVEN($A98)=$A98,EVEN(I$2)=I$2)),I$1,-100))","v":121.875},{"$f":"IF('Ceiling Speaker Calculator'!$C$29=\"Square\",J$1,IF(OR(AND(ODD($A98)=$A98,ODD(J$2)=J$2),AND(EVEN($A98)=$A98,EVEN(J$2)=J$2)),J$1,-100))","v":140.625},{"$f":"IF('Ceiling Speaker Calculator'!$C$29=\"Square\",K$1,IF(OR(AND(ODD($A98)=$A98,ODD(K$2)=K$2),AND(EVEN($A98)=$A98,EVEN(K$2)=K$2)),K$1,-100))","v":159.375},{"$f":"IF('Ceiling Speaker Calculator'!$C$29=\"Square\",L$1,IF(OR(AND(ODD($A98)=$A98,ODD(L$2)=L$2),AND(EVEN($A98)=$A98,EVEN(L$2)=L$2)),L$1,-100))","v":178.125},{"$f":"IF('Ceiling Speaker Calculator'!$C$29=\"Square\",M$1,IF(OR(AND(ODD($A98)=$A98,ODD(M$2)=M$2),AND(EVEN($A98)=$A98,EVEN(M$2)=M$2)),M$1,-100))","v":196.875},{"$f":"IF('Ceiling Speaker Calculator'!$C$29=\"Square\",N$1,IF(OR(AND(ODD($A98)=$A98,ODD(N$2)=N$2),AND(EVEN($A98)=$A98,EVEN(N$2)=N$2)),N$1,-100))","v":215.625},{"$f":"IF('Ceiling Speaker Calculator'!$C$29=\"Square\",O$1,IF(OR(AND(ODD($A98)=$A98,ODD(O$2)=O$2),AND(EVEN($A98)=$A98,EVEN(O$2)=O$2)),O$1,-100))","v":234.375},{"$f":"IF('Ceiling Speaker Calculator'!$C$29=\"Square\",P$1,IF(OR(AND(ODD($A98)=$A98,ODD(P$2)=P$2),AND(EVEN($A98)=$A98,EVEN(P$2)=P$2)),P$1,-100))","v":253.125},{"$f":"IF('Ceiling Speaker Calculator'!$C$29=\"Square\",Q$1,IF(OR(AND(ODD($A98)=$A98,ODD(Q$2)=Q$2),AND(EVEN($A98)=$A98,EVEN(Q$2)=Q$2)),Q$1,-100))","v":271.875},{"$f":"IF('Ceiling Speaker Calculator'!$C$29=\"Square\",R$1,IF(OR(AND(ODD($A98)=$A98,ODD(R$2)=R$2),AND(EVEN($A98)=$A98,EVEN(R$2)=R$2)),R$1,-100))","v":290.625},{"$f":"IF('Ceiling Speaker Calculator'!$C$29=\"Square\",S$1,IF(OR(AND(ODD($A98)=$A98,ODD(S$2)=S$2),AND(EVEN($A98)=$A98,EVEN(S$2)=S$2)),S$1,-100))","v":309.375},{"$f":"IF('Ceiling Speaker Calculator'!$C$29=\"Square\",T$1,IF(OR(AND(ODD($A98)=$A98,ODD(T$2)=T$2),AND(EVEN($A98)=$A98,EVEN(T$2)=T$2)),T$1,-100))","v":328.125},{"$f":"IF('Ceiling Speaker Calculator'!$C$29=\"Square\",U$1,IF(OR(AND(ODD($A98)=$A98,ODD(U$2)=U$2),AND(EVEN($A98)=$A98,EVEN(U$2)=U$2)),U$1,-100))","v":346.875},{"$f":"IF('Ceiling Speaker Calculator'!$C$29=\"Square\",V$1,IF(OR(AND(ODD($A98)=$A98,ODD(V$2)=V$2),AND(EVEN($A98)=$A98,EVEN(V$2)=V$2)),V$1,-100))","v":365.625},{"$f":"IF('Ceiling Speaker Calculator'!$C$29=\"Square\",W$1,IF(OR(AND(ODD($A98)=$A98,ODD(W$2)=W$2),AND(EVEN($A98)=$A98,EVEN(W$2)=W$2)),W$1,-100))","v":384.375},{"$f":"IF('Ceiling Speaker Calculator'!$C$29=\"Square\",X$1,IF(OR(AND(ODD($A98)=$A98,ODD(X$2)=X$2),AND(EVEN($A98)=$A98,EVEN(X$2)=X$2)),X$1,-100))","v":403.125},{"$f":"IF('Ceiling Speaker Calculator'!$C$29=\"Square\",Y$1,IF(OR(AND(ODD($A98)=$A98,ODD(Y$2)=Y$2),AND(EVEN($A98)=$A98,EVEN(Y$2)=Y$2)),Y$1,-100))","v":421.875},{"$f":"IF('Ceiling Speaker Calculator'!$C$29=\"Square\",Z$1,IF(OR(AND(ODD($A98)=$A98,ODD(Z$2)=Z$2),AND(EVEN($A98)=$A98,EVEN(Z$2)=Z$2)),Z$1,-100))","v":440.625},{"$f":"IF('Ceiling Speaker Calculator'!$C$29=\"Square\",AA$1,IF(OR(AND(ODD($A98)=$A98,ODD(AA$2)=AA$2),AND(EVEN($A98)=$A98,EVEN(AA$2)=AA$2)),AA$1,-100))","v":459.375},{"$f":"IF('Ceiling Speaker Calculator'!$C$29=\"Square\",AB$1,IF(OR(AND(ODD($A98)=$A98,ODD(AB$2)=AB$2),AND(EVEN($A98)=$A98,EVEN(AB$2)=AB$2)),AB$1,-100))","v":478.125},{"$f":"IF('Ceiling Speaker Calculator'!$C$29=\"Square\",AC$1,IF(OR(AND(ODD($A98)=$A98,ODD(AC$2)=AC$2),AND(EVEN($A98)=$A98,EVEN(AC$2)=AC$2)),AC$1,-100))","v":496.875},{"$f":"IF('Ceiling Speaker Calculator'!$C$29=\"Square\",AD$1,IF(OR(AND(ODD($A98)=$A98,ODD(AD$2)=AD$2),AND(EVEN($A98)=$A98,EVEN(AD$2)=AD$2)),AD$1,-100))","v":515.625},{"$f":"IF('Ceiling Speaker Calculator'!$C$29=\"Square\",AE$1,IF(OR(AND(ODD($A98)=$A98,ODD(AE$2)=AE$2),AND(EVEN($A98)=$A98,EVEN(AE$2)=AE$2)),AE$1,-100))","v":534.375},{"$f":"IF('Ceiling Speaker Calculator'!$C$29=\"Square\",AF$1,IF(OR(AND(ODD($A98)=$A98,ODD(AF$2)=AF$2),AND(EVEN($A98)=$A98,EVEN(AF$2)=AF$2)),AF$1,-100))","v":553.125},{"$f":"IF('Ceiling Speaker Calculator'!$C$29=\"Square\",AG$1,IF(OR(AND(ODD($A98)=$A98,ODD(AG$2)=AG$2),AND(EVEN($A98)=$A98,EVEN(AG$2)=AG$2)),AG$1,-100))","v":571.875},{"$f":"IF('Ceiling Speaker Calculator'!$C$29=\"Square\",AH$1,IF(OR(AND(ODD($A98)=$A98,ODD(AH$2)=AH$2),AND(EVEN($A98)=$A98,EVEN(AH$2)=AH$2)),AH$1,-100))","v":590.625},{"$f":"IF('Ceiling Speaker Calculator'!$C$29=\"Square\",AI$1,IF(OR(AND(ODD($A98)=$A98,ODD(AI$2)=AI$2),AND(EVEN($A98)=$A98,EVEN(AI$2)=AI$2)),AI$1,-100))","v":609.375},{"$f":"IF('Ceiling Speaker Calculator'!$C$29=\"Square\",AJ$1,IF(OR(AND(ODD($A98)=$A98,ODD(AJ$2)=AJ$2),AND(EVEN($A98)=$A98,EVEN(AJ$2)=AJ$2)),AJ$1,-100))","v":628.125},{"$f":"IF('Ceiling Speaker Calculator'!$C$29=\"Square\",AK$1,IF(OR(AND(ODD($A98)=$A98,ODD(AK$2)=AK$2),AND(EVEN($A98)=$A98,EVEN(AK$2)=AK$2)),AK$1,-100))","v":646.875},{"$f":"IF('Ceiling Speaker Calculator'!$C$29=\"Square\",AL$1,IF(OR(AND(ODD($A98)=$A98,ODD(AL$2)=AL$2),AND(EVEN($A98)=$A98,EVEN(AL$2)=AL$2)),AL$1,-100))","v":665.625},{"$f":"IF('Ceiling Speaker Calculator'!$C$29=\"Square\",AM$1,IF(OR(AND(ODD($A98)=$A98,ODD(AM$2)=AM$2),AND(EVEN($A98)=$A98,EVEN(AM$2)=AM$2)),AM$1,-100))","v":684.375},{"$f":"IF('Ceiling Speaker Calculator'!$C$29=\"Square\",AN$1,IF(OR(AND(ODD($A98)=$A98,ODD(AN$2)=AN$2),AND(EVEN($A98)=$A98,EVEN(AN$2)=AN$2)),AN$1,-100))","v":703.125},{"$f":"IF('Ceiling Speaker Calculator'!$C$29=\"Square\",AO$1,IF(OR(AND(ODD($A98)=$A98,ODD(AO$2)=AO$2),AND(EVEN($A98)=$A98,EVEN(AO$2)=AO$2)),AO$1,-100))","v":721.875},{"$f":"IF('Ceiling Speaker Calculator'!$C$29=\"Square\",AP$1,IF(OR(AND(ODD($A98)=$A98,ODD(AP$2)=AP$2),AND(EVEN($A98)=$A98,EVEN(AP$2)=AP$2)),AP$1,-100))","v":740.625},{"$f":"IF('Ceiling Speaker Calculator'!$C$29=\"Square\",AQ$1,IF(OR(AND(ODD($A98)=$A98,ODD(AQ$2)=AQ$2),AND(EVEN($A98)=$A98,EVEN(AQ$2)=AQ$2)),AQ$1,-100))","v":759.375},{"$f":"IF('Ceiling Speaker Calculator'!$C$29=\"Square\",AR$1,IF(OR(AND(ODD($A98)=$A98,ODD(AR$2)=AR$2),AND(EVEN($A98)=$A98,EVEN(AR$2)=AR$2)),AR$1,-100))","v":778.125},{"$f":"IF('Ceiling Speaker Calculator'!$C$29=\"Square\",AS$1,IF(OR(AND(ODD($A98)=$A98,ODD(AS$2)=AS$2),AND(EVEN($A98)=$A98,EVEN(AS$2)=AS$2)),AS$1,-100))","v":796.875},{"$f":"IF('Ceiling Speaker Calculator'!$C$29=\"Square\",AT$1,IF(OR(AND(ODD($A98)=$A98,ODD(AT$2)=AT$2),AND(EVEN($A98)=$A98,EVEN(AT$2)=AT$2)),AT$1,-100))","v":815.625},{"$f":"IF('Ceiling Speaker Calculator'!$C$29=\"Square\",AU$1,IF(OR(AND(ODD($A98)=$A98,ODD(AU$2)=AU$2),AND(EVEN($A98)=$A98,EVEN(AU$2)=AU$2)),AU$1,-100))","v":834.375},{"$f":"IF('Ceiling Speaker Calculator'!$C$29=\"Square\",AV$1,IF(OR(AND(ODD($A98)=$A98,ODD(AV$2)=AV$2),AND(EVEN($A98)=$A98,EVEN(AV$2)=AV$2)),AV$1,-100))","v":853.125},{"$f":"IF('Ceiling Speaker Calculator'!$C$29=\"Square\",AW$1,IF(OR(AND(ODD($A98)=$A98,ODD(AW$2)=AW$2),AND(EVEN($A98)=$A98,EVEN(AW$2)=AW$2)),AW$1,-100))","v":871.875},{"$f":"IF('Ceiling Speaker Calculator'!$C$29=\"Square\",AX$1,IF(OR(AND(ODD($A98)=$A98,ODD(AX$2)=AX$2),AND(EVEN($A98)=$A98,EVEN(AX$2)=AX$2)),AX$1,-100))","v":890.625},{"$f":"IF('Ceiling Speaker Calculator'!$C$29=\"Square\",AY$1,IF(OR(AND(ODD($A98)=$A98,ODD(AY$2)=AY$2),AND(EVEN($A98)=$A98,EVEN(AY$2)=AY$2)),AY$1,-100))","v":909.375},{"$f":"IF('Ceiling Speaker Calculator'!$C$29=\"Square\",AZ$1,IF(OR(AND(ODD($A98)=$A98,ODD(AZ$2)=AZ$2),AND(EVEN($A98)=$A98,EVEN(AZ$2)=AZ$2)),AZ$1,-100))","v":928.125},{"$f":"IF('Ceiling Speaker Calculator'!$C$29=\"Square\",BA$1,IF(OR(AND(ODD($A98)=$A98,ODD(BA$2)=BA$2),AND(EVEN($A98)=$A98,EVEN(BA$2)=BA$2)),BA$1,-100))","v":946.875},{"$f":"IF('Ceiling Speaker Calculator'!$C$29=\"Square\",BB$1,IF(OR(AND(ODD($A98)=$A98,ODD(BB$2)=BB$2),AND(EVEN($A98)=$A98,EVEN(BB$2)=BB$2)),BB$1,-100))","v":965.625},{"$f":"IF('Ceiling Speaker Calculator'!$C$29=\"Square\",BC$1,IF(OR(AND(ODD($A98)=$A98,ODD(BC$2)=BC$2),AND(EVEN($A98)=$A98,EVEN(BC$2)=BC$2)),BC$1,-100))","v":984.375},{"$f":"IF('Ceiling Speaker Calculator'!$C$29=\"Square\",BD$1,IF(OR(AND(ODD($A98)=$A98,ODD(BD$2)=BD$2),AND(EVEN($A98)=$A98,EVEN(BD$2)=BD$2)),BD$1,-100))","v":1003.125},{"$f":"IF('Ceiling Speaker Calculator'!$C$29=\"Square\",BE$1,IF(OR(AND(ODD($A98)=$A98,ODD(BE$2)=BE$2),AND(EVEN($A98)=$A98,EVEN(BE$2)=BE$2)),BE$1,-100))","v":1021.875},{"$f":"IF('Ceiling Speaker Calculator'!$C$29=\"Square\",BF$1,IF(OR(AND(ODD($A98)=$A98,ODD(BF$2)=BF$2),AND(EVEN($A98)=$A98,EVEN(BF$2)=BF$2)),BF$1,-100))","v":1040.625},{"$f":"IF('Ceiling Speaker Calculator'!$C$29=\"Square\",BG$1,IF(OR(AND(ODD($A98)=$A98,ODD(BG$2)=BG$2),AND(EVEN($A98)=$A98,EVEN(BG$2)=BG$2)),BG$1,-100))","v":1059.375},{"$f":"IF('Ceiling Speaker Calculator'!$C$29=\"Square\",BH$1,IF(OR(AND(ODD($A98)=$A98,ODD(BH$2)=BH$2),AND(EVEN($A98)=$A98,EVEN(BH$2)=BH$2)),BH$1,-100))","v":1078.125},{"$f":"IF('Ceiling Speaker Calculator'!$C$29=\"Square\",BI$1,IF(OR(AND(ODD($A98)=$A98,ODD(BI$2)=BI$2),AND(EVEN($A98)=$A98,EVEN(BI$2)=BI$2)),BI$1,-100))","v":1096.875},{"$f":"IF('Ceiling Speaker Calculator'!$C$29=\"Square\",BJ$1,IF(OR(AND(ODD($A98)=$A98,ODD(BJ$2)=BJ$2),AND(EVEN($A98)=$A98,EVEN(BJ$2)=BJ$2)),BJ$1,-100))","v":1115.625},{"$f":"IF('Ceiling Speaker Calculator'!$C$29=\"Square\",BK$1,IF(OR(AND(ODD($A98)=$A98,ODD(BK$2)=BK$2),AND(EVEN($A98)=$A98,EVEN(BK$2)=BK$2)),BK$1,-100))","v":1134.375},{"$f":"IF('Ceiling Speaker Calculator'!$C$29=\"Square\",BL$1,IF(OR(AND(ODD($A98)=$A98,ODD(BL$2)=BL$2),AND(EVEN($A98)=$A98,EVEN(BL$2)=BL$2)),BL$1,-100))","v":1153.125},{"$f":"IF('Ceiling Speaker Calculator'!$C$29=\"Square\",BM$1,IF(OR(AND(ODD($A98)=$A98,ODD(BM$2)=BM$2),AND(EVEN($A98)=$A98,EVEN(BM$2)=BM$2)),BM$1,-100))","v":1171.875},{"$f":"IF('Ceiling Speaker Calculator'!$C$29=\"Square\",BN$1,IF(OR(AND(ODD($A98)=$A98,ODD(BN$2)=BN$2),AND(EVEN($A98)=$A98,EVEN(BN$2)=BN$2)),BN$1,-100))","v":1190.625},{"$f":"IF('Ceiling Speaker Calculator'!$C$29=\"Square\",BO$1,IF(OR(AND(ODD($A98)=$A98,ODD(BO$2)=BO$2),AND(EVEN($A98)=$A98,EVEN(BO$2)=BO$2)),BO$1,-100))","v":1209.375},{"$f":"IF('Ceiling Speaker Calculator'!$C$29=\"Square\",BP$1,IF(OR(AND(ODD($A98)=$A98,ODD(BP$2)=BP$2),AND(EVEN($A98)=$A98,EVEN(BP$2)=BP$2)),BP$1,-100))","v":1228.125},{"$f":"IF('Ceiling Speaker Calculator'!$C$29=\"Square\",BQ$1,IF(OR(AND(ODD($A98)=$A98,ODD(BQ$2)=BQ$2),AND(EVEN($A98)=$A98,EVEN(BQ$2)=BQ$2)),BQ$1,-100))","v":1246.875},{"$f":"IF('Ceiling Speaker Calculator'!$C$29=\"Square\",BR$1,IF(OR(AND(ODD($A98)=$A98,ODD(BR$2)=BR$2),AND(EVEN($A98)=$A98,EVEN(BR$2)=BR$2)),BR$1,-100))","v":1265.625},{"$f":"IF('Ceiling Speaker Calculator'!$C$29=\"Square\",BS$1,IF(OR(AND(ODD($A98)=$A98,ODD(BS$2)=BS$2),AND(EVEN($A98)=$A98,EVEN(BS$2)=BS$2)),BS$1,-100))","v":1284.375},{"$f":"IF('Ceiling Speaker Calculator'!$C$29=\"Square\",BT$1,IF(OR(AND(ODD($A98)=$A98,ODD(BT$2)=BT$2),AND(EVEN($A98)=$A98,EVEN(BT$2)=BT$2)),BT$1,-100))","v":1303.125},{"$f":"IF('Ceiling Speaker Calculator'!$C$29=\"Square\",BU$1,IF(OR(AND(ODD($A98)=$A98,ODD(BU$2)=BU$2),AND(EVEN($A98)=$A98,EVEN(BU$2)=BU$2)),BU$1,-100))","v":1321.875},{"$f":"IF('Ceiling Speaker Calculator'!$C$29=\"Square\",BV$1,IF(OR(AND(ODD($A98)=$A98,ODD(BV$2)=BV$2),AND(EVEN($A98)=$A98,EVEN(BV$2)=BV$2)),BV$1,-100))","v":1340.625},{"$f":"IF('Ceiling Speaker Calculator'!$C$29=\"Square\",BW$1,IF(OR(AND(ODD($A98)=$A98,ODD(BW$2)=BW$2),AND(EVEN($A98)=$A98,EVEN(BW$2)=BW$2)),BW$1,-100))","v":1359.375},{"$f":"IF('Ceiling Speaker Calculator'!$C$29=\"Square\",BX$1,IF(OR(AND(ODD($A98)=$A98,ODD(BX$2)=BX$2),AND(EVEN($A98)=$A98,EVEN(BX$2)=BX$2)),BX$1,-100))","v":1378.125},{"$f":"IF('Ceiling Speaker Calculator'!$C$29=\"Square\",BY$1,IF(OR(AND(ODD($A98)=$A98,ODD(BY$2)=BY$2),AND(EVEN($A98)=$A98,EVEN(BY$2)=BY$2)),BY$1,-100))","v":1396.875},{"$f":"IF('Ceiling Speaker Calculator'!$C$29=\"Square\",BZ$1,IF(OR(AND(ODD($A98)=$A98,ODD(BZ$2)=BZ$2),AND(EVEN($A98)=$A98,EVEN(BZ$2)=BZ$2)),BZ$1,-100))","v":1415.625},{"$f":"IF('Ceiling Speaker Calculator'!$C$29=\"Square\",CA$1,IF(OR(AND(ODD($A98)=$A98,ODD(CA$2)=CA$2),AND(EVEN($A98)=$A98,EVEN(CA$2)=CA$2)),CA$1,-100))","v":1434.375},{"$f":"IF('Ceiling Speaker Calculator'!$C$29=\"Square\",CB$1,IF(OR(AND(ODD($A98)=$A98,ODD(CB$2)=CB$2),AND(EVEN($A98)=$A98,EVEN(CB$2)=CB$2)),CB$1,-100))","v":1453.125},{"$f":"IF('Ceiling Speaker Calculator'!$C$29=\"Square\",CC$1,IF(OR(AND(ODD($A98)=$A98,ODD(CC$2)=CC$2),AND(EVEN($A98)=$A98,EVEN(CC$2)=CC$2)),CC$1,-100))","v":1471.875},{"$f":"IF('Ceiling Speaker Calculator'!$C$29=\"Square\",CD$1,IF(OR(AND(ODD($A98)=$A98,ODD(CD$2)=CD$2),AND(EVEN($A98)=$A98,EVEN(CD$2)=CD$2)),CD$1,-100))","v":1490.625},{"$f":"IF('Ceiling Speaker Calculator'!$C$29=\"Square\",CE$1,IF(OR(AND(ODD($A98)=$A98,ODD(CE$2)=CE$2),AND(EVEN($A98)=$A98,EVEN(CE$2)=CE$2)),CE$1,-100))","v":1509.375},{"$f":"IF('Ceiling Speaker Calculator'!$C$29=\"Square\",CF$1,IF(OR(AND(ODD($A98)=$A98,ODD(CF$2)=CF$2),AND(EVEN($A98)=$A98,EVEN(CF$2)=CF$2)),CF$1,-100))","v":1528.125},{"$f":"IF('Ceiling Speaker Calculator'!$C$29=\"Square\",CG$1,IF(OR(AND(ODD($A98)=$A98,ODD(CG$2)=CG$2),AND(EVEN($A98)=$A98,EVEN(CG$2)=CG$2)),CG$1,-100))","v":1546.875},{"$f":"IF('Ceiling Speaker Calculator'!$C$29=\"Square\",CH$1,IF(OR(AND(ODD($A98)=$A98,ODD(CH$2)=CH$2),AND(EVEN($A98)=$A98,EVEN(CH$2)=CH$2)),CH$1,-100))","v":1565.625},{"$f":"IF('Ceiling Speaker Calculator'!$C$29=\"Square\",CI$1,IF(OR(AND(ODD($A98)=$A98,ODD(CI$2)=CI$2),AND(EVEN($A98)=$A98,EVEN(CI$2)=CI$2)),CI$1,-100))","v":1584.375},{"$f":"IF('Ceiling Speaker Calculator'!$C$29=\"Square\",CJ$1,IF(OR(AND(ODD($A98)=$A98,ODD(CJ$2)=CJ$2),AND(EVEN($A98)=$A98,EVEN(CJ$2)=CJ$2)),CJ$1,-100))","v":1603.125},{"$f":"IF('Ceiling Speaker Calculator'!$C$29=\"Square\",CK$1,IF(OR(AND(ODD($A98)=$A98,ODD(CK$2)=CK$2),AND(EVEN($A98)=$A98,EVEN(CK$2)=CK$2)),CK$1,-100))","v":1621.875},{"$f":"IF('Ceiling Speaker Calculator'!$C$29=\"Square\",CL$1,IF(OR(AND(ODD($A98)=$A98,ODD(CL$2)=CL$2),AND(EVEN($A98)=$A98,EVEN(CL$2)=CL$2)),CL$1,-100))","v":1640.625},{"$f":"IF('Ceiling Speaker Calculator'!$C$29=\"Square\",CM$1,IF(OR(AND(ODD($A98)=$A98,ODD(CM$2)=CM$2),AND(EVEN($A98)=$A98,EVEN(CM$2)=CM$2)),CM$1,-100))","v":1659.375},{"$f":"IF('Ceiling Speaker Calculator'!$C$29=\"Square\",CN$1,IF(OR(AND(ODD($A98)=$A98,ODD(CN$2)=CN$2),AND(EVEN($A98)=$A98,EVEN(CN$2)=CN$2)),CN$1,-100))","v":1678.125},{"$f":"IF('Ceiling Speaker Calculator'!$C$29=\"Square\",CO$1,IF(OR(AND(ODD($A98)=$A98,ODD(CO$2)=CO$2),AND(EVEN($A98)=$A98,EVEN(CO$2)=CO$2)),CO$1,-100))","v":1696.875},{"$f":"IF('Ceiling Speaker Calculator'!$C$29=\"Square\",CP$1,IF(OR(AND(ODD($A98)=$A98,ODD(CP$2)=CP$2),AND(EVEN($A98)=$A98,EVEN(CP$2)=CP$2)),CP$1,-100))","v":1715.625},{"$f":"IF('Ceiling Speaker Calculator'!$C$29=\"Square\",CQ$1,IF(OR(AND(ODD($A98)=$A98,ODD(CQ$2)=CQ$2),AND(EVEN($A98)=$A98,EVEN(CQ$2)=CQ$2)),CQ$1,-100))","v":1734.375},{"$f":"IF('Ceiling Speaker Calculator'!$C$29=\"Square\",CR$1,IF(OR(AND(ODD($A98)=$A98,ODD(CR$2)=CR$2),AND(EVEN($A98)=$A98,EVEN(CR$2)=CR$2)),CR$1,-100))","v":1753.125},{"$f":"IF('Ceiling Speaker Calculator'!$C$29=\"Square\",CS$1,IF(OR(AND(ODD($A98)=$A98,ODD(CS$2)=CS$2),AND(EVEN($A98)=$A98,EVEN(CS$2)=CS$2)),CS$1,-100))","v":1771.875},{"$f":"IF('Ceiling Speaker Calculator'!$C$29=\"Square\",CT$1,IF(OR(AND(ODD($A98)=$A98,ODD(CT$2)=CT$2),AND(EVEN($A98)=$A98,EVEN(CT$2)=CT$2)),CT$1,-100))","v":1790.625},{"$f":"IF('Ceiling Speaker Calculator'!$C$29=\"Square\",CU$1,IF(OR(AND(ODD($A98)=$A98,ODD(CU$2)=CU$2),AND(EVEN($A98)=$A98,EVEN(CU$2)=CU$2)),CU$1,-100))","v":1809.375},{"$f":"IF('Ceiling Speaker Calculator'!$C$29=\"Square\",CV$1,IF(OR(AND(ODD($A98)=$A98,ODD(CV$2)=CV$2),AND(EVEN($A98)=$A98,EVEN(CV$2)=CV$2)),CV$1,-100))","v":1828.125},{"$f":"IF('Ceiling Speaker Calculator'!$C$29=\"Square\",CW$1,IF(OR(AND(ODD($A98)=$A98,ODD(CW$2)=CW$2),AND(EVEN($A98)=$A98,EVEN(CW$2)=CW$2)),CW$1,-100))","v":1846.875},{"$f":"IF('Ceiling Speaker Calculator'!$C$29=\"Square\",CX$1,IF(OR(AND(ODD($A98)=$A98,ODD(CX$2)=CX$2),AND(EVEN($A98)=$A98,EVEN(CX$2)=CX$2)),CX$1,-100))","v":1865.625}]
[97,{"$f":"B98+'Ceiling Speaker Calculator'!$K$16","v":1930},{"$f":"IF('Ceiling Speaker Calculator'!$C$29=\"Square\",C$1,IF(OR(AND(ODD($A99)=$A99,ODD(C$2)=C$2),AND(EVEN($A99)=$A99,EVEN(C$2)=C$2)),C$1,-100))","v":9.375},{"$f":"IF('Ceiling Speaker Calculator'!$C$29=\"Square\",D$1,IF(OR(AND(ODD($A99)=$A99,ODD(D$2)=D$2),AND(EVEN($A99)=$A99,EVEN(D$2)=D$2)),D$1,-100))","v":28.125},{"$f":"IF('Ceiling Speaker Calculator'!$C$29=\"Square\",E$1,IF(OR(AND(ODD($A99)=$A99,ODD(E$2)=E$2),AND(EVEN($A99)=$A99,EVEN(E$2)=E$2)),E$1,-100))","v":46.875},{"$f":"IF('Ceiling Speaker Calculator'!$C$29=\"Square\",F$1,IF(OR(AND(ODD($A99)=$A99,ODD(F$2)=F$2),AND(EVEN($A99)=$A99,EVEN(F$2)=F$2)),F$1,-100))","v":65.625},{"$f":"IF('Ceiling Speaker Calculator'!$C$29=\"Square\",G$1,IF(OR(AND(ODD($A99)=$A99,ODD(G$2)=G$2),AND(EVEN($A99)=$A99,EVEN(G$2)=G$2)),G$1,-100))","v":84.375},{"$f":"IF('Ceiling Speaker Calculator'!$C$29=\"Square\",H$1,IF(OR(AND(ODD($A99)=$A99,ODD(H$2)=H$2),AND(EVEN($A99)=$A99,EVEN(H$2)=H$2)),H$1,-100))","v":103.125},{"$f":"IF('Ceiling Speaker Calculator'!$C$29=\"Square\",I$1,IF(OR(AND(ODD($A99)=$A99,ODD(I$2)=I$2),AND(EVEN($A99)=$A99,EVEN(I$2)=I$2)),I$1,-100))","v":121.875},{"$f":"IF('Ceiling Speaker Calculator'!$C$29=\"Square\",J$1,IF(OR(AND(ODD($A99)=$A99,ODD(J$2)=J$2),AND(EVEN($A99)=$A99,EVEN(J$2)=J$2)),J$1,-100))","v":140.625},{"$f":"IF('Ceiling Speaker Calculator'!$C$29=\"Square\",K$1,IF(OR(AND(ODD($A99)=$A99,ODD(K$2)=K$2),AND(EVEN($A99)=$A99,EVEN(K$2)=K$2)),K$1,-100))","v":159.375},{"$f":"IF('Ceiling Speaker Calculator'!$C$29=\"Square\",L$1,IF(OR(AND(ODD($A99)=$A99,ODD(L$2)=L$2),AND(EVEN($A99)=$A99,EVEN(L$2)=L$2)),L$1,-100))","v":178.125},{"$f":"IF('Ceiling Speaker Calculator'!$C$29=\"Square\",M$1,IF(OR(AND(ODD($A99)=$A99,ODD(M$2)=M$2),AND(EVEN($A99)=$A99,EVEN(M$2)=M$2)),M$1,-100))","v":196.875},{"$f":"IF('Ceiling Speaker Calculator'!$C$29=\"Square\",N$1,IF(OR(AND(ODD($A99)=$A99,ODD(N$2)=N$2),AND(EVEN($A99)=$A99,EVEN(N$2)=N$2)),N$1,-100))","v":215.625},{"$f":"IF('Ceiling Speaker Calculator'!$C$29=\"Square\",O$1,IF(OR(AND(ODD($A99)=$A99,ODD(O$2)=O$2),AND(EVEN($A99)=$A99,EVEN(O$2)=O$2)),O$1,-100))","v":234.375},{"$f":"IF('Ceiling Speaker Calculator'!$C$29=\"Square\",P$1,IF(OR(AND(ODD($A99)=$A99,ODD(P$2)=P$2),AND(EVEN($A99)=$A99,EVEN(P$2)=P$2)),P$1,-100))","v":253.125},{"$f":"IF('Ceiling Speaker Calculator'!$C$29=\"Square\",Q$1,IF(OR(AND(ODD($A99)=$A99,ODD(Q$2)=Q$2),AND(EVEN($A99)=$A99,EVEN(Q$2)=Q$2)),Q$1,-100))","v":271.875},{"$f":"IF('Ceiling Speaker Calculator'!$C$29=\"Square\",R$1,IF(OR(AND(ODD($A99)=$A99,ODD(R$2)=R$2),AND(EVEN($A99)=$A99,EVEN(R$2)=R$2)),R$1,-100))","v":290.625},{"$f":"IF('Ceiling Speaker Calculator'!$C$29=\"Square\",S$1,IF(OR(AND(ODD($A99)=$A99,ODD(S$2)=S$2),AND(EVEN($A99)=$A99,EVEN(S$2)=S$2)),S$1,-100))","v":309.375},{"$f":"IF('Ceiling Speaker Calculator'!$C$29=\"Square\",T$1,IF(OR(AND(ODD($A99)=$A99,ODD(T$2)=T$2),AND(EVEN($A99)=$A99,EVEN(T$2)=T$2)),T$1,-100))","v":328.125},{"$f":"IF('Ceiling Speaker Calculator'!$C$29=\"Square\",U$1,IF(OR(AND(ODD($A99)=$A99,ODD(U$2)=U$2),AND(EVEN($A99)=$A99,EVEN(U$2)=U$2)),U$1,-100))","v":346.875},{"$f":"IF('Ceiling Speaker Calculator'!$C$29=\"Square\",V$1,IF(OR(AND(ODD($A99)=$A99,ODD(V$2)=V$2),AND(EVEN($A99)=$A99,EVEN(V$2)=V$2)),V$1,-100))","v":365.625},{"$f":"IF('Ceiling Speaker Calculator'!$C$29=\"Square\",W$1,IF(OR(AND(ODD($A99)=$A99,ODD(W$2)=W$2),AND(EVEN($A99)=$A99,EVEN(W$2)=W$2)),W$1,-100))","v":384.375},{"$f":"IF('Ceiling Speaker Calculator'!$C$29=\"Square\",X$1,IF(OR(AND(ODD($A99)=$A99,ODD(X$2)=X$2),AND(EVEN($A99)=$A99,EVEN(X$2)=X$2)),X$1,-100))","v":403.125},{"$f":"IF('Ceiling Speaker Calculator'!$C$29=\"Square\",Y$1,IF(OR(AND(ODD($A99)=$A99,ODD(Y$2)=Y$2),AND(EVEN($A99)=$A99,EVEN(Y$2)=Y$2)),Y$1,-100))","v":421.875},{"$f":"IF('Ceiling Speaker Calculator'!$C$29=\"Square\",Z$1,IF(OR(AND(ODD($A99)=$A99,ODD(Z$2)=Z$2),AND(EVEN($A99)=$A99,EVEN(Z$2)=Z$2)),Z$1,-100))","v":440.625},{"$f":"IF('Ceiling Speaker Calculator'!$C$29=\"Square\",AA$1,IF(OR(AND(ODD($A99)=$A99,ODD(AA$2)=AA$2),AND(EVEN($A99)=$A99,EVEN(AA$2)=AA$2)),AA$1,-100))","v":459.375},{"$f":"IF('Ceiling Speaker Calculator'!$C$29=\"Square\",AB$1,IF(OR(AND(ODD($A99)=$A99,ODD(AB$2)=AB$2),AND(EVEN($A99)=$A99,EVEN(AB$2)=AB$2)),AB$1,-100))","v":478.125},{"$f":"IF('Ceiling Speaker Calculator'!$C$29=\"Square\",AC$1,IF(OR(AND(ODD($A99)=$A99,ODD(AC$2)=AC$2),AND(EVEN($A99)=$A99,EVEN(AC$2)=AC$2)),AC$1,-100))","v":496.875},{"$f":"IF('Ceiling Speaker Calculator'!$C$29=\"Square\",AD$1,IF(OR(AND(ODD($A99)=$A99,ODD(AD$2)=AD$2),AND(EVEN($A99)=$A99,EVEN(AD$2)=AD$2)),AD$1,-100))","v":515.625},{"$f":"IF('Ceiling Speaker Calculator'!$C$29=\"Square\",AE$1,IF(OR(AND(ODD($A99)=$A99,ODD(AE$2)=AE$2),AND(EVEN($A99)=$A99,EVEN(AE$2)=AE$2)),AE$1,-100))","v":534.375},{"$f":"IF('Ceiling Speaker Calculator'!$C$29=\"Square\",AF$1,IF(OR(AND(ODD($A99)=$A99,ODD(AF$2)=AF$2),AND(EVEN($A99)=$A99,EVEN(AF$2)=AF$2)),AF$1,-100))","v":553.125},{"$f":"IF('Ceiling Speaker Calculator'!$C$29=\"Square\",AG$1,IF(OR(AND(ODD($A99)=$A99,ODD(AG$2)=AG$2),AND(EVEN($A99)=$A99,EVEN(AG$2)=AG$2)),AG$1,-100))","v":571.875},{"$f":"IF('Ceiling Speaker Calculator'!$C$29=\"Square\",AH$1,IF(OR(AND(ODD($A99)=$A99,ODD(AH$2)=AH$2),AND(EVEN($A99)=$A99,EVEN(AH$2)=AH$2)),AH$1,-100))","v":590.625},{"$f":"IF('Ceiling Speaker Calculator'!$C$29=\"Square\",AI$1,IF(OR(AND(ODD($A99)=$A99,ODD(AI$2)=AI$2),AND(EVEN($A99)=$A99,EVEN(AI$2)=AI$2)),AI$1,-100))","v":609.375},{"$f":"IF('Ceiling Speaker Calculator'!$C$29=\"Square\",AJ$1,IF(OR(AND(ODD($A99)=$A99,ODD(AJ$2)=AJ$2),AND(EVEN($A99)=$A99,EVEN(AJ$2)=AJ$2)),AJ$1,-100))","v":628.125},{"$f":"IF('Ceiling Speaker Calculator'!$C$29=\"Square\",AK$1,IF(OR(AND(ODD($A99)=$A99,ODD(AK$2)=AK$2),AND(EVEN($A99)=$A99,EVEN(AK$2)=AK$2)),AK$1,-100))","v":646.875},{"$f":"IF('Ceiling Speaker Calculator'!$C$29=\"Square\",AL$1,IF(OR(AND(ODD($A99)=$A99,ODD(AL$2)=AL$2),AND(EVEN($A99)=$A99,EVEN(AL$2)=AL$2)),AL$1,-100))","v":665.625},{"$f":"IF('Ceiling Speaker Calculator'!$C$29=\"Square\",AM$1,IF(OR(AND(ODD($A99)=$A99,ODD(AM$2)=AM$2),AND(EVEN($A99)=$A99,EVEN(AM$2)=AM$2)),AM$1,-100))","v":684.375},{"$f":"IF('Ceiling Speaker Calculator'!$C$29=\"Square\",AN$1,IF(OR(AND(ODD($A99)=$A99,ODD(AN$2)=AN$2),AND(EVEN($A99)=$A99,EVEN(AN$2)=AN$2)),AN$1,-100))","v":703.125},{"$f":"IF('Ceiling Speaker Calculator'!$C$29=\"Square\",AO$1,IF(OR(AND(ODD($A99)=$A99,ODD(AO$2)=AO$2),AND(EVEN($A99)=$A99,EVEN(AO$2)=AO$2)),AO$1,-100))","v":721.875},{"$f":"IF('Ceiling Speaker Calculator'!$C$29=\"Square\",AP$1,IF(OR(AND(ODD($A99)=$A99,ODD(AP$2)=AP$2),AND(EVEN($A99)=$A99,EVEN(AP$2)=AP$2)),AP$1,-100))","v":740.625},{"$f":"IF('Ceiling Speaker Calculator'!$C$29=\"Square\",AQ$1,IF(OR(AND(ODD($A99)=$A99,ODD(AQ$2)=AQ$2),AND(EVEN($A99)=$A99,EVEN(AQ$2)=AQ$2)),AQ$1,-100))","v":759.375},{"$f":"IF('Ceiling Speaker Calculator'!$C$29=\"Square\",AR$1,IF(OR(AND(ODD($A99)=$A99,ODD(AR$2)=AR$2),AND(EVEN($A99)=$A99,EVEN(AR$2)=AR$2)),AR$1,-100))","v":778.125},{"$f":"IF('Ceiling Speaker Calculator'!$C$29=\"Square\",AS$1,IF(OR(AND(ODD($A99)=$A99,ODD(AS$2)=AS$2),AND(EVEN($A99)=$A99,EVEN(AS$2)=AS$2)),AS$1,-100))","v":796.875},{"$f":"IF('Ceiling Speaker Calculator'!$C$29=\"Square\",AT$1,IF(OR(AND(ODD($A99)=$A99,ODD(AT$2)=AT$2),AND(EVEN($A99)=$A99,EVEN(AT$2)=AT$2)),AT$1,-100))","v":815.625},{"$f":"IF('Ceiling Speaker Calculator'!$C$29=\"Square\",AU$1,IF(OR(AND(ODD($A99)=$A99,ODD(AU$2)=AU$2),AND(EVEN($A99)=$A99,EVEN(AU$2)=AU$2)),AU$1,-100))","v":834.375},{"$f":"IF('Ceiling Speaker Calculator'!$C$29=\"Square\",AV$1,IF(OR(AND(ODD($A99)=$A99,ODD(AV$2)=AV$2),AND(EVEN($A99)=$A99,EVEN(AV$2)=AV$2)),AV$1,-100))","v":853.125},{"$f":"IF('Ceiling Speaker Calculator'!$C$29=\"Square\",AW$1,IF(OR(AND(ODD($A99)=$A99,ODD(AW$2)=AW$2),AND(EVEN($A99)=$A99,EVEN(AW$2)=AW$2)),AW$1,-100))","v":871.875},{"$f":"IF('Ceiling Speaker Calculator'!$C$29=\"Square\",AX$1,IF(OR(AND(ODD($A99)=$A99,ODD(AX$2)=AX$2),AND(EVEN($A99)=$A99,EVEN(AX$2)=AX$2)),AX$1,-100))","v":890.625},{"$f":"IF('Ceiling Speaker Calculator'!$C$29=\"Square\",AY$1,IF(OR(AND(ODD($A99)=$A99,ODD(AY$2)=AY$2),AND(EVEN($A99)=$A99,EVEN(AY$2)=AY$2)),AY$1,-100))","v":909.375},{"$f":"IF('Ceiling Speaker Calculator'!$C$29=\"Square\",AZ$1,IF(OR(AND(ODD($A99)=$A99,ODD(AZ$2)=AZ$2),AND(EVEN($A99)=$A99,EVEN(AZ$2)=AZ$2)),AZ$1,-100))","v":928.125},{"$f":"IF('Ceiling Speaker Calculator'!$C$29=\"Square\",BA$1,IF(OR(AND(ODD($A99)=$A99,ODD(BA$2)=BA$2),AND(EVEN($A99)=$A99,EVEN(BA$2)=BA$2)),BA$1,-100))","v":946.875},{"$f":"IF('Ceiling Speaker Calculator'!$C$29=\"Square\",BB$1,IF(OR(AND(ODD($A99)=$A99,ODD(BB$2)=BB$2),AND(EVEN($A99)=$A99,EVEN(BB$2)=BB$2)),BB$1,-100))","v":965.625},{"$f":"IF('Ceiling Speaker Calculator'!$C$29=\"Square\",BC$1,IF(OR(AND(ODD($A99)=$A99,ODD(BC$2)=BC$2),AND(EVEN($A99)=$A99,EVEN(BC$2)=BC$2)),BC$1,-100))","v":984.375},{"$f":"IF('Ceiling Speaker Calculator'!$C$29=\"Square\",BD$1,IF(OR(AND(ODD($A99)=$A99,ODD(BD$2)=BD$2),AND(EVEN($A99)=$A99,EVEN(BD$2)=BD$2)),BD$1,-100))","v":1003.125},{"$f":"IF('Ceiling Speaker Calculator'!$C$29=\"Square\",BE$1,IF(OR(AND(ODD($A99)=$A99,ODD(BE$2)=BE$2),AND(EVEN($A99)=$A99,EVEN(BE$2)=BE$2)),BE$1,-100))","v":1021.875},{"$f":"IF('Ceiling Speaker Calculator'!$C$29=\"Square\",BF$1,IF(OR(AND(ODD($A99)=$A99,ODD(BF$2)=BF$2),AND(EVEN($A99)=$A99,EVEN(BF$2)=BF$2)),BF$1,-100))","v":1040.625},{"$f":"IF('Ceiling Speaker Calculator'!$C$29=\"Square\",BG$1,IF(OR(AND(ODD($A99)=$A99,ODD(BG$2)=BG$2),AND(EVEN($A99)=$A99,EVEN(BG$2)=BG$2)),BG$1,-100))","v":1059.375},{"$f":"IF('Ceiling Speaker Calculator'!$C$29=\"Square\",BH$1,IF(OR(AND(ODD($A99)=$A99,ODD(BH$2)=BH$2),AND(EVEN($A99)=$A99,EVEN(BH$2)=BH$2)),BH$1,-100))","v":1078.125},{"$f":"IF('Ceiling Speaker Calculator'!$C$29=\"Square\",BI$1,IF(OR(AND(ODD($A99)=$A99,ODD(BI$2)=BI$2),AND(EVEN($A99)=$A99,EVEN(BI$2)=BI$2)),BI$1,-100))","v":1096.875},{"$f":"IF('Ceiling Speaker Calculator'!$C$29=\"Square\",BJ$1,IF(OR(AND(ODD($A99)=$A99,ODD(BJ$2)=BJ$2),AND(EVEN($A99)=$A99,EVEN(BJ$2)=BJ$2)),BJ$1,-100))","v":1115.625},{"$f":"IF('Ceiling Speaker Calculator'!$C$29=\"Square\",BK$1,IF(OR(AND(ODD($A99)=$A99,ODD(BK$2)=BK$2),AND(EVEN($A99)=$A99,EVEN(BK$2)=BK$2)),BK$1,-100))","v":1134.375},{"$f":"IF('Ceiling Speaker Calculator'!$C$29=\"Square\",BL$1,IF(OR(AND(ODD($A99)=$A99,ODD(BL$2)=BL$2),AND(EVEN($A99)=$A99,EVEN(BL$2)=BL$2)),BL$1,-100))","v":1153.125},{"$f":"IF('Ceiling Speaker Calculator'!$C$29=\"Square\",BM$1,IF(OR(AND(ODD($A99)=$A99,ODD(BM$2)=BM$2),AND(EVEN($A99)=$A99,EVEN(BM$2)=BM$2)),BM$1,-100))","v":1171.875},{"$f":"IF('Ceiling Speaker Calculator'!$C$29=\"Square\",BN$1,IF(OR(AND(ODD($A99)=$A99,ODD(BN$2)=BN$2),AND(EVEN($A99)=$A99,EVEN(BN$2)=BN$2)),BN$1,-100))","v":1190.625},{"$f":"IF('Ceiling Speaker Calculator'!$C$29=\"Square\",BO$1,IF(OR(AND(ODD($A99)=$A99,ODD(BO$2)=BO$2),AND(EVEN($A99)=$A99,EVEN(BO$2)=BO$2)),BO$1,-100))","v":1209.375},{"$f":"IF('Ceiling Speaker Calculator'!$C$29=\"Square\",BP$1,IF(OR(AND(ODD($A99)=$A99,ODD(BP$2)=BP$2),AND(EVEN($A99)=$A99,EVEN(BP$2)=BP$2)),BP$1,-100))","v":1228.125},{"$f":"IF('Ceiling Speaker Calculator'!$C$29=\"Square\",BQ$1,IF(OR(AND(ODD($A99)=$A99,ODD(BQ$2)=BQ$2),AND(EVEN($A99)=$A99,EVEN(BQ$2)=BQ$2)),BQ$1,-100))","v":1246.875},{"$f":"IF('Ceiling Speaker Calculator'!$C$29=\"Square\",BR$1,IF(OR(AND(ODD($A99)=$A99,ODD(BR$2)=BR$2),AND(EVEN($A99)=$A99,EVEN(BR$2)=BR$2)),BR$1,-100))","v":1265.625},{"$f":"IF('Ceiling Speaker Calculator'!$C$29=\"Square\",BS$1,IF(OR(AND(ODD($A99)=$A99,ODD(BS$2)=BS$2),AND(EVEN($A99)=$A99,EVEN(BS$2)=BS$2)),BS$1,-100))","v":1284.375},{"$f":"IF('Ceiling Speaker Calculator'!$C$29=\"Square\",BT$1,IF(OR(AND(ODD($A99)=$A99,ODD(BT$2)=BT$2),AND(EVEN($A99)=$A99,EVEN(BT$2)=BT$2)),BT$1,-100))","v":1303.125},{"$f":"IF('Ceiling Speaker Calculator'!$C$29=\"Square\",BU$1,IF(OR(AND(ODD($A99)=$A99,ODD(BU$2)=BU$2),AND(EVEN($A99)=$A99,EVEN(BU$2)=BU$2)),BU$1,-100))","v":1321.875},{"$f":"IF('Ceiling Speaker Calculator'!$C$29=\"Square\",BV$1,IF(OR(AND(ODD($A99)=$A99,ODD(BV$2)=BV$2),AND(EVEN($A99)=$A99,EVEN(BV$2)=BV$2)),BV$1,-100))","v":1340.625},{"$f":"IF('Ceiling Speaker Calculator'!$C$29=\"Square\",BW$1,IF(OR(AND(ODD($A99)=$A99,ODD(BW$2)=BW$2),AND(EVEN($A99)=$A99,EVEN(BW$2)=BW$2)),BW$1,-100))","v":1359.375},{"$f":"IF('Ceiling Speaker Calculator'!$C$29=\"Square\",BX$1,IF(OR(AND(ODD($A99)=$A99,ODD(BX$2)=BX$2),AND(EVEN($A99)=$A99,EVEN(BX$2)=BX$2)),BX$1,-100))","v":1378.125},{"$f":"IF('Ceiling Speaker Calculator'!$C$29=\"Square\",BY$1,IF(OR(AND(ODD($A99)=$A99,ODD(BY$2)=BY$2),AND(EVEN($A99)=$A99,EVEN(BY$2)=BY$2)),BY$1,-100))","v":1396.875},{"$f":"IF('Ceiling Speaker Calculator'!$C$29=\"Square\",BZ$1,IF(OR(AND(ODD($A99)=$A99,ODD(BZ$2)=BZ$2),AND(EVEN($A99)=$A99,EVEN(BZ$2)=BZ$2)),BZ$1,-100))","v":1415.625},{"$f":"IF('Ceiling Speaker Calculator'!$C$29=\"Square\",CA$1,IF(OR(AND(ODD($A99)=$A99,ODD(CA$2)=CA$2),AND(EVEN($A99)=$A99,EVEN(CA$2)=CA$2)),CA$1,-100))","v":1434.375},{"$f":"IF('Ceiling Speaker Calculator'!$C$29=\"Square\",CB$1,IF(OR(AND(ODD($A99)=$A99,ODD(CB$2)=CB$2),AND(EVEN($A99)=$A99,EVEN(CB$2)=CB$2)),CB$1,-100))","v":1453.125},{"$f":"IF('Ceiling Speaker Calculator'!$C$29=\"Square\",CC$1,IF(OR(AND(ODD($A99)=$A99,ODD(CC$2)=CC$2),AND(EVEN($A99)=$A99,EVEN(CC$2)=CC$2)),CC$1,-100))","v":1471.875},{"$f":"IF('Ceiling Speaker Calculator'!$C$29=\"Square\",CD$1,IF(OR(AND(ODD($A99)=$A99,ODD(CD$2)=CD$2),AND(EVEN($A99)=$A99,EVEN(CD$2)=CD$2)),CD$1,-100))","v":1490.625},{"$f":"IF('Ceiling Speaker Calculator'!$C$29=\"Square\",CE$1,IF(OR(AND(ODD($A99)=$A99,ODD(CE$2)=CE$2),AND(EVEN($A99)=$A99,EVEN(CE$2)=CE$2)),CE$1,-100))","v":1509.375},{"$f":"IF('Ceiling Speaker Calculator'!$C$29=\"Square\",CF$1,IF(OR(AND(ODD($A99)=$A99,ODD(CF$2)=CF$2),AND(EVEN($A99)=$A99,EVEN(CF$2)=CF$2)),CF$1,-100))","v":1528.125},{"$f":"IF('Ceiling Speaker Calculator'!$C$29=\"Square\",CG$1,IF(OR(AND(ODD($A99)=$A99,ODD(CG$2)=CG$2),AND(EVEN($A99)=$A99,EVEN(CG$2)=CG$2)),CG$1,-100))","v":1546.875},{"$f":"IF('Ceiling Speaker Calculator'!$C$29=\"Square\",CH$1,IF(OR(AND(ODD($A99)=$A99,ODD(CH$2)=CH$2),AND(EVEN($A99)=$A99,EVEN(CH$2)=CH$2)),CH$1,-100))","v":1565.625},{"$f":"IF('Ceiling Speaker Calculator'!$C$29=\"Square\",CI$1,IF(OR(AND(ODD($A99)=$A99,ODD(CI$2)=CI$2),AND(EVEN($A99)=$A99,EVEN(CI$2)=CI$2)),CI$1,-100))","v":1584.375},{"$f":"IF('Ceiling Speaker Calculator'!$C$29=\"Square\",CJ$1,IF(OR(AND(ODD($A99)=$A99,ODD(CJ$2)=CJ$2),AND(EVEN($A99)=$A99,EVEN(CJ$2)=CJ$2)),CJ$1,-100))","v":1603.125},{"$f":"IF('Ceiling Speaker Calculator'!$C$29=\"Square\",CK$1,IF(OR(AND(ODD($A99)=$A99,ODD(CK$2)=CK$2),AND(EVEN($A99)=$A99,EVEN(CK$2)=CK$2)),CK$1,-100))","v":1621.875},{"$f":"IF('Ceiling Speaker Calculator'!$C$29=\"Square\",CL$1,IF(OR(AND(ODD($A99)=$A99,ODD(CL$2)=CL$2),AND(EVEN($A99)=$A99,EVEN(CL$2)=CL$2)),CL$1,-100))","v":1640.625},{"$f":"IF('Ceiling Speaker Calculator'!$C$29=\"Square\",CM$1,IF(OR(AND(ODD($A99)=$A99,ODD(CM$2)=CM$2),AND(EVEN($A99)=$A99,EVEN(CM$2)=CM$2)),CM$1,-100))","v":1659.375},{"$f":"IF('Ceiling Speaker Calculator'!$C$29=\"Square\",CN$1,IF(OR(AND(ODD($A99)=$A99,ODD(CN$2)=CN$2),AND(EVEN($A99)=$A99,EVEN(CN$2)=CN$2)),CN$1,-100))","v":1678.125},{"$f":"IF('Ceiling Speaker Calculator'!$C$29=\"Square\",CO$1,IF(OR(AND(ODD($A99)=$A99,ODD(CO$2)=CO$2),AND(EVEN($A99)=$A99,EVEN(CO$2)=CO$2)),CO$1,-100))","v":1696.875},{"$f":"IF('Ceiling Speaker Calculator'!$C$29=\"Square\",CP$1,IF(OR(AND(ODD($A99)=$A99,ODD(CP$2)=CP$2),AND(EVEN($A99)=$A99,EVEN(CP$2)=CP$2)),CP$1,-100))","v":1715.625},{"$f":"IF('Ceiling Speaker Calculator'!$C$29=\"Square\",CQ$1,IF(OR(AND(ODD($A99)=$A99,ODD(CQ$2)=CQ$2),AND(EVEN($A99)=$A99,EVEN(CQ$2)=CQ$2)),CQ$1,-100))","v":1734.375},{"$f":"IF('Ceiling Speaker Calculator'!$C$29=\"Square\",CR$1,IF(OR(AND(ODD($A99)=$A99,ODD(CR$2)=CR$2),AND(EVEN($A99)=$A99,EVEN(CR$2)=CR$2)),CR$1,-100))","v":1753.125},{"$f":"IF('Ceiling Speaker Calculator'!$C$29=\"Square\",CS$1,IF(OR(AND(ODD($A99)=$A99,ODD(CS$2)=CS$2),AND(EVEN($A99)=$A99,EVEN(CS$2)=CS$2)),CS$1,-100))","v":1771.875},{"$f":"IF('Ceiling Speaker Calculator'!$C$29=\"Square\",CT$1,IF(OR(AND(ODD($A99)=$A99,ODD(CT$2)=CT$2),AND(EVEN($A99)=$A99,EVEN(CT$2)=CT$2)),CT$1,-100))","v":1790.625},{"$f":"IF('Ceiling Speaker Calculator'!$C$29=\"Square\",CU$1,IF(OR(AND(ODD($A99)=$A99,ODD(CU$2)=CU$2),AND(EVEN($A99)=$A99,EVEN(CU$2)=CU$2)),CU$1,-100))","v":1809.375},{"$f":"IF('Ceiling Speaker Calculator'!$C$29=\"Square\",CV$1,IF(OR(AND(ODD($A99)=$A99,ODD(CV$2)=CV$2),AND(EVEN($A99)=$A99,EVEN(CV$2)=CV$2)),CV$1,-100))","v":1828.125},{"$f":"IF('Ceiling Speaker Calculator'!$C$29=\"Square\",CW$1,IF(OR(AND(ODD($A99)=$A99,ODD(CW$2)=CW$2),AND(EVEN($A99)=$A99,EVEN(CW$2)=CW$2)),CW$1,-100))","v":1846.875},{"$f":"IF('Ceiling Speaker Calculator'!$C$29=\"Square\",CX$1,IF(OR(AND(ODD($A99)=$A99,ODD(CX$2)=CX$2),AND(EVEN($A99)=$A99,EVEN(CX$2)=CX$2)),CX$1,-100))","v":1865.625}]
[98,{"$f":"B99+'Ceiling Speaker Calculator'!$K$16","v":1950},{"$f":"IF('Ceiling Speaker Calculator'!$C$29=\"Square\",C$1,IF(OR(AND(ODD($A100)=$A100,ODD(C$2)=C$2),AND(EVEN($A100)=$A100,EVEN(C$2)=C$2)),C$1,-100))","v":9.375},{"$f":"IF('Ceiling Speaker Calculator'!$C$29=\"Square\",D$1,IF(OR(AND(ODD($A100)=$A100,ODD(D$2)=D$2),AND(EVEN($A100)=$A100,EVEN(D$2)=D$2)),D$1,-100))","v":28.125},{"$f":"IF('Ceiling Speaker Calculator'!$C$29=\"Square\",E$1,IF(OR(AND(ODD($A100)=$A100,ODD(E$2)=E$2),AND(EVEN($A100)=$A100,EVEN(E$2)=E$2)),E$1,-100))","v":46.875},{"$f":"IF('Ceiling Speaker Calculator'!$C$29=\"Square\",F$1,IF(OR(AND(ODD($A100)=$A100,ODD(F$2)=F$2),AND(EVEN($A100)=$A100,EVEN(F$2)=F$2)),F$1,-100))","v":65.625},{"$f":"IF('Ceiling Speaker Calculator'!$C$29=\"Square\",G$1,IF(OR(AND(ODD($A100)=$A100,ODD(G$2)=G$2),AND(EVEN($A100)=$A100,EVEN(G$2)=G$2)),G$1,-100))","v":84.375},{"$f":"IF('Ceiling Speaker Calculator'!$C$29=\"Square\",H$1,IF(OR(AND(ODD($A100)=$A100,ODD(H$2)=H$2),AND(EVEN($A100)=$A100,EVEN(H$2)=H$2)),H$1,-100))","v":103.125},{"$f":"IF('Ceiling Speaker Calculator'!$C$29=\"Square\",I$1,IF(OR(AND(ODD($A100)=$A100,ODD(I$2)=I$2),AND(EVEN($A100)=$A100,EVEN(I$2)=I$2)),I$1,-100))","v":121.875},{"$f":"IF('Ceiling Speaker Calculator'!$C$29=\"Square\",J$1,IF(OR(AND(ODD($A100)=$A100,ODD(J$2)=J$2),AND(EVEN($A100)=$A100,EVEN(J$2)=J$2)),J$1,-100))","v":140.625},{"$f":"IF('Ceiling Speaker Calculator'!$C$29=\"Square\",K$1,IF(OR(AND(ODD($A100)=$A100,ODD(K$2)=K$2),AND(EVEN($A100)=$A100,EVEN(K$2)=K$2)),K$1,-100))","v":159.375},{"$f":"IF('Ceiling Speaker Calculator'!$C$29=\"Square\",L$1,IF(OR(AND(ODD($A100)=$A100,ODD(L$2)=L$2),AND(EVEN($A100)=$A100,EVEN(L$2)=L$2)),L$1,-100))","v":178.125},{"$f":"IF('Ceiling Speaker Calculator'!$C$29=\"Square\",M$1,IF(OR(AND(ODD($A100)=$A100,ODD(M$2)=M$2),AND(EVEN($A100)=$A100,EVEN(M$2)=M$2)),M$1,-100))","v":196.875},{"$f":"IF('Ceiling Speaker Calculator'!$C$29=\"Square\",N$1,IF(OR(AND(ODD($A100)=$A100,ODD(N$2)=N$2),AND(EVEN($A100)=$A100,EVEN(N$2)=N$2)),N$1,-100))","v":215.625},{"$f":"IF('Ceiling Speaker Calculator'!$C$29=\"Square\",O$1,IF(OR(AND(ODD($A100)=$A100,ODD(O$2)=O$2),AND(EVEN($A100)=$A100,EVEN(O$2)=O$2)),O$1,-100))","v":234.375},{"$f":"IF('Ceiling Speaker Calculator'!$C$29=\"Square\",P$1,IF(OR(AND(ODD($A100)=$A100,ODD(P$2)=P$2),AND(EVEN($A100)=$A100,EVEN(P$2)=P$2)),P$1,-100))","v":253.125},{"$f":"IF('Ceiling Speaker Calculator'!$C$29=\"Square\",Q$1,IF(OR(AND(ODD($A100)=$A100,ODD(Q$2)=Q$2),AND(EVEN($A100)=$A100,EVEN(Q$2)=Q$2)),Q$1,-100))","v":271.875},{"$f":"IF('Ceiling Speaker Calculator'!$C$29=\"Square\",R$1,IF(OR(AND(ODD($A100)=$A100,ODD(R$2)=R$2),AND(EVEN($A100)=$A100,EVEN(R$2)=R$2)),R$1,-100))","v":290.625},{"$f":"IF('Ceiling Speaker Calculator'!$C$29=\"Square\",S$1,IF(OR(AND(ODD($A100)=$A100,ODD(S$2)=S$2),AND(EVEN($A100)=$A100,EVEN(S$2)=S$2)),S$1,-100))","v":309.375},{"$f":"IF('Ceiling Speaker Calculator'!$C$29=\"Square\",T$1,IF(OR(AND(ODD($A100)=$A100,ODD(T$2)=T$2),AND(EVEN($A100)=$A100,EVEN(T$2)=T$2)),T$1,-100))","v":328.125},{"$f":"IF('Ceiling Speaker Calculator'!$C$29=\"Square\",U$1,IF(OR(AND(ODD($A100)=$A100,ODD(U$2)=U$2),AND(EVEN($A100)=$A100,EVEN(U$2)=U$2)),U$1,-100))","v":346.875},{"$f":"IF('Ceiling Speaker Calculator'!$C$29=\"Square\",V$1,IF(OR(AND(ODD($A100)=$A100,ODD(V$2)=V$2),AND(EVEN($A100)=$A100,EVEN(V$2)=V$2)),V$1,-100))","v":365.625},{"$f":"IF('Ceiling Speaker Calculator'!$C$29=\"Square\",W$1,IF(OR(AND(ODD($A100)=$A100,ODD(W$2)=W$2),AND(EVEN($A100)=$A100,EVEN(W$2)=W$2)),W$1,-100))","v":384.375},{"$f":"IF('Ceiling Speaker Calculator'!$C$29=\"Square\",X$1,IF(OR(AND(ODD($A100)=$A100,ODD(X$2)=X$2),AND(EVEN($A100)=$A100,EVEN(X$2)=X$2)),X$1,-100))","v":403.125},{"$f":"IF('Ceiling Speaker Calculator'!$C$29=\"Square\",Y$1,IF(OR(AND(ODD($A100)=$A100,ODD(Y$2)=Y$2),AND(EVEN($A100)=$A100,EVEN(Y$2)=Y$2)),Y$1,-100))","v":421.875},{"$f":"IF('Ceiling Speaker Calculator'!$C$29=\"Square\",Z$1,IF(OR(AND(ODD($A100)=$A100,ODD(Z$2)=Z$2),AND(EVEN($A100)=$A100,EVEN(Z$2)=Z$2)),Z$1,-100))","v":440.625},{"$f":"IF('Ceiling Speaker Calculator'!$C$29=\"Square\",AA$1,IF(OR(AND(ODD($A100)=$A100,ODD(AA$2)=AA$2),AND(EVEN($A100)=$A100,EVEN(AA$2)=AA$2)),AA$1,-100))","v":459.375},{"$f":"IF('Ceiling Speaker Calculator'!$C$29=\"Square\",AB$1,IF(OR(AND(ODD($A100)=$A100,ODD(AB$2)=AB$2),AND(EVEN($A100)=$A100,EVEN(AB$2)=AB$2)),AB$1,-100))","v":478.125},{"$f":"IF('Ceiling Speaker Calculator'!$C$29=\"Square\",AC$1,IF(OR(AND(ODD($A100)=$A100,ODD(AC$2)=AC$2),AND(EVEN($A100)=$A100,EVEN(AC$2)=AC$2)),AC$1,-100))","v":496.875},{"$f":"IF('Ceiling Speaker Calculator'!$C$29=\"Square\",AD$1,IF(OR(AND(ODD($A100)=$A100,ODD(AD$2)=AD$2),AND(EVEN($A100)=$A100,EVEN(AD$2)=AD$2)),AD$1,-100))","v":515.625},{"$f":"IF('Ceiling Speaker Calculator'!$C$29=\"Square\",AE$1,IF(OR(AND(ODD($A100)=$A100,ODD(AE$2)=AE$2),AND(EVEN($A100)=$A100,EVEN(AE$2)=AE$2)),AE$1,-100))","v":534.375},{"$f":"IF('Ceiling Speaker Calculator'!$C$29=\"Square\",AF$1,IF(OR(AND(ODD($A100)=$A100,ODD(AF$2)=AF$2),AND(EVEN($A100)=$A100,EVEN(AF$2)=AF$2)),AF$1,-100))","v":553.125},{"$f":"IF('Ceiling Speaker Calculator'!$C$29=\"Square\",AG$1,IF(OR(AND(ODD($A100)=$A100,ODD(AG$2)=AG$2),AND(EVEN($A100)=$A100,EVEN(AG$2)=AG$2)),AG$1,-100))","v":571.875},{"$f":"IF('Ceiling Speaker Calculator'!$C$29=\"Square\",AH$1,IF(OR(AND(ODD($A100)=$A100,ODD(AH$2)=AH$2),AND(EVEN($A100)=$A100,EVEN(AH$2)=AH$2)),AH$1,-100))","v":590.625},{"$f":"IF('Ceiling Speaker Calculator'!$C$29=\"Square\",AI$1,IF(OR(AND(ODD($A100)=$A100,ODD(AI$2)=AI$2),AND(EVEN($A100)=$A100,EVEN(AI$2)=AI$2)),AI$1,-100))","v":609.375},{"$f":"IF('Ceiling Speaker Calculator'!$C$29=\"Square\",AJ$1,IF(OR(AND(ODD($A100)=$A100,ODD(AJ$2)=AJ$2),AND(EVEN($A100)=$A100,EVEN(AJ$2)=AJ$2)),AJ$1,-100))","v":628.125},{"$f":"IF('Ceiling Speaker Calculator'!$C$29=\"Square\",AK$1,IF(OR(AND(ODD($A100)=$A100,ODD(AK$2)=AK$2),AND(EVEN($A100)=$A100,EVEN(AK$2)=AK$2)),AK$1,-100))","v":646.875},{"$f":"IF('Ceiling Speaker Calculator'!$C$29=\"Square\",AL$1,IF(OR(AND(ODD($A100)=$A100,ODD(AL$2)=AL$2),AND(EVEN($A100)=$A100,EVEN(AL$2)=AL$2)),AL$1,-100))","v":665.625},{"$f":"IF('Ceiling Speaker Calculator'!$C$29=\"Square\",AM$1,IF(OR(AND(ODD($A100)=$A100,ODD(AM$2)=AM$2),AND(EVEN($A100)=$A100,EVEN(AM$2)=AM$2)),AM$1,-100))","v":684.375},{"$f":"IF('Ceiling Speaker Calculator'!$C$29=\"Square\",AN$1,IF(OR(AND(ODD($A100)=$A100,ODD(AN$2)=AN$2),AND(EVEN($A100)=$A100,EVEN(AN$2)=AN$2)),AN$1,-100))","v":703.125},{"$f":"IF('Ceiling Speaker Calculator'!$C$29=\"Square\",AO$1,IF(OR(AND(ODD($A100)=$A100,ODD(AO$2)=AO$2),AND(EVEN($A100)=$A100,EVEN(AO$2)=AO$2)),AO$1,-100))","v":721.875},{"$f":"IF('Ceiling Speaker Calculator'!$C$29=\"Square\",AP$1,IF(OR(AND(ODD($A100)=$A100,ODD(AP$2)=AP$2),AND(EVEN($A100)=$A100,EVEN(AP$2)=AP$2)),AP$1,-100))","v":740.625},{"$f":"IF('Ceiling Speaker Calculator'!$C$29=\"Square\",AQ$1,IF(OR(AND(ODD($A100)=$A100,ODD(AQ$2)=AQ$2),AND(EVEN($A100)=$A100,EVEN(AQ$2)=AQ$2)),AQ$1,-100))","v":759.375},{"$f":"IF('Ceiling Speaker Calculator'!$C$29=\"Square\",AR$1,IF(OR(AND(ODD($A100)=$A100,ODD(AR$2)=AR$2),AND(EVEN($A100)=$A100,EVEN(AR$2)=AR$2)),AR$1,-100))","v":778.125},{"$f":"IF('Ceiling Speaker Calculator'!$C$29=\"Square\",AS$1,IF(OR(AND(ODD($A100)=$A100,ODD(AS$2)=AS$2),AND(EVEN($A100)=$A100,EVEN(AS$2)=AS$2)),AS$1,-100))","v":796.875},{"$f":"IF('Ceiling Speaker Calculator'!$C$29=\"Square\",AT$1,IF(OR(AND(ODD($A100)=$A100,ODD(AT$2)=AT$2),AND(EVEN($A100)=$A100,EVEN(AT$2)=AT$2)),AT$1,-100))","v":815.625},{"$f":"IF('Ceiling Speaker Calculator'!$C$29=\"Square\",AU$1,IF(OR(AND(ODD($A100)=$A100,ODD(AU$2)=AU$2),AND(EVEN($A100)=$A100,EVEN(AU$2)=AU$2)),AU$1,-100))","v":834.375},{"$f":"IF('Ceiling Speaker Calculator'!$C$29=\"Square\",AV$1,IF(OR(AND(ODD($A100)=$A100,ODD(AV$2)=AV$2),AND(EVEN($A100)=$A100,EVEN(AV$2)=AV$2)),AV$1,-100))","v":853.125},{"$f":"IF('Ceiling Speaker Calculator'!$C$29=\"Square\",AW$1,IF(OR(AND(ODD($A100)=$A100,ODD(AW$2)=AW$2),AND(EVEN($A100)=$A100,EVEN(AW$2)=AW$2)),AW$1,-100))","v":871.875},{"$f":"IF('Ceiling Speaker Calculator'!$C$29=\"Square\",AX$1,IF(OR(AND(ODD($A100)=$A100,ODD(AX$2)=AX$2),AND(EVEN($A100)=$A100,EVEN(AX$2)=AX$2)),AX$1,-100))","v":890.625},{"$f":"IF('Ceiling Speaker Calculator'!$C$29=\"Square\",AY$1,IF(OR(AND(ODD($A100)=$A100,ODD(AY$2)=AY$2),AND(EVEN($A100)=$A100,EVEN(AY$2)=AY$2)),AY$1,-100))","v":909.375},{"$f":"IF('Ceiling Speaker Calculator'!$C$29=\"Square\",AZ$1,IF(OR(AND(ODD($A100)=$A100,ODD(AZ$2)=AZ$2),AND(EVEN($A100)=$A100,EVEN(AZ$2)=AZ$2)),AZ$1,-100))","v":928.125},{"$f":"IF('Ceiling Speaker Calculator'!$C$29=\"Square\",BA$1,IF(OR(AND(ODD($A100)=$A100,ODD(BA$2)=BA$2),AND(EVEN($A100)=$A100,EVEN(BA$2)=BA$2)),BA$1,-100))","v":946.875},{"$f":"IF('Ceiling Speaker Calculator'!$C$29=\"Square\",BB$1,IF(OR(AND(ODD($A100)=$A100,ODD(BB$2)=BB$2),AND(EVEN($A100)=$A100,EVEN(BB$2)=BB$2)),BB$1,-100))","v":965.625},{"$f":"IF('Ceiling Speaker Calculator'!$C$29=\"Square\",BC$1,IF(OR(AND(ODD($A100)=$A100,ODD(BC$2)=BC$2),AND(EVEN($A100)=$A100,EVEN(BC$2)=BC$2)),BC$1,-100))","v":984.375},{"$f":"IF('Ceiling Speaker Calculator'!$C$29=\"Square\",BD$1,IF(OR(AND(ODD($A100)=$A100,ODD(BD$2)=BD$2),AND(EVEN($A100)=$A100,EVEN(BD$2)=BD$2)),BD$1,-100))","v":1003.125},{"$f":"IF('Ceiling Speaker Calculator'!$C$29=\"Square\",BE$1,IF(OR(AND(ODD($A100)=$A100,ODD(BE$2)=BE$2),AND(EVEN($A100)=$A100,EVEN(BE$2)=BE$2)),BE$1,-100))","v":1021.875},{"$f":"IF('Ceiling Speaker Calculator'!$C$29=\"Square\",BF$1,IF(OR(AND(ODD($A100)=$A100,ODD(BF$2)=BF$2),AND(EVEN($A100)=$A100,EVEN(BF$2)=BF$2)),BF$1,-100))","v":1040.625},{"$f":"IF('Ceiling Speaker Calculator'!$C$29=\"Square\",BG$1,IF(OR(AND(ODD($A100)=$A100,ODD(BG$2)=BG$2),AND(EVEN($A100)=$A100,EVEN(BG$2)=BG$2)),BG$1,-100))","v":1059.375},{"$f":"IF('Ceiling Speaker Calculator'!$C$29=\"Square\",BH$1,IF(OR(AND(ODD($A100)=$A100,ODD(BH$2)=BH$2),AND(EVEN($A100)=$A100,EVEN(BH$2)=BH$2)),BH$1,-100))","v":1078.125},{"$f":"IF('Ceiling Speaker Calculator'!$C$29=\"Square\",BI$1,IF(OR(AND(ODD($A100)=$A100,ODD(BI$2)=BI$2),AND(EVEN($A100)=$A100,EVEN(BI$2)=BI$2)),BI$1,-100))","v":1096.875},{"$f":"IF('Ceiling Speaker Calculator'!$C$29=\"Square\",BJ$1,IF(OR(AND(ODD($A100)=$A100,ODD(BJ$2)=BJ$2),AND(EVEN($A100)=$A100,EVEN(BJ$2)=BJ$2)),BJ$1,-100))","v":1115.625},{"$f":"IF('Ceiling Speaker Calculator'!$C$29=\"Square\",BK$1,IF(OR(AND(ODD($A100)=$A100,ODD(BK$2)=BK$2),AND(EVEN($A100)=$A100,EVEN(BK$2)=BK$2)),BK$1,-100))","v":1134.375},{"$f":"IF('Ceiling Speaker Calculator'!$C$29=\"Square\",BL$1,IF(OR(AND(ODD($A100)=$A100,ODD(BL$2)=BL$2),AND(EVEN($A100)=$A100,EVEN(BL$2)=BL$2)),BL$1,-100))","v":1153.125},{"$f":"IF('Ceiling Speaker Calculator'!$C$29=\"Square\",BM$1,IF(OR(AND(ODD($A100)=$A100,ODD(BM$2)=BM$2),AND(EVEN($A100)=$A100,EVEN(BM$2)=BM$2)),BM$1,-100))","v":1171.875},{"$f":"IF('Ceiling Speaker Calculator'!$C$29=\"Square\",BN$1,IF(OR(AND(ODD($A100)=$A100,ODD(BN$2)=BN$2),AND(EVEN($A100)=$A100,EVEN(BN$2)=BN$2)),BN$1,-100))","v":1190.625},{"$f":"IF('Ceiling Speaker Calculator'!$C$29=\"Square\",BO$1,IF(OR(AND(ODD($A100)=$A100,ODD(BO$2)=BO$2),AND(EVEN($A100)=$A100,EVEN(BO$2)=BO$2)),BO$1,-100))","v":1209.375},{"$f":"IF('Ceiling Speaker Calculator'!$C$29=\"Square\",BP$1,IF(OR(AND(ODD($A100)=$A100,ODD(BP$2)=BP$2),AND(EVEN($A100)=$A100,EVEN(BP$2)=BP$2)),BP$1,-100))","v":1228.125},{"$f":"IF('Ceiling Speaker Calculator'!$C$29=\"Square\",BQ$1,IF(OR(AND(ODD($A100)=$A100,ODD(BQ$2)=BQ$2),AND(EVEN($A100)=$A100,EVEN(BQ$2)=BQ$2)),BQ$1,-100))","v":1246.875},{"$f":"IF('Ceiling Speaker Calculator'!$C$29=\"Square\",BR$1,IF(OR(AND(ODD($A100)=$A100,ODD(BR$2)=BR$2),AND(EVEN($A100)=$A100,EVEN(BR$2)=BR$2)),BR$1,-100))","v":1265.625},{"$f":"IF('Ceiling Speaker Calculator'!$C$29=\"Square\",BS$1,IF(OR(AND(ODD($A100)=$A100,ODD(BS$2)=BS$2),AND(EVEN($A100)=$A100,EVEN(BS$2)=BS$2)),BS$1,-100))","v":1284.375},{"$f":"IF('Ceiling Speaker Calculator'!$C$29=\"Square\",BT$1,IF(OR(AND(ODD($A100)=$A100,ODD(BT$2)=BT$2),AND(EVEN($A100)=$A100,EVEN(BT$2)=BT$2)),BT$1,-100))","v":1303.125},{"$f":"IF('Ceiling Speaker Calculator'!$C$29=\"Square\",BU$1,IF(OR(AND(ODD($A100)=$A100,ODD(BU$2)=BU$2),AND(EVEN($A100)=$A100,EVEN(BU$2)=BU$2)),BU$1,-100))","v":1321.875},{"$f":"IF('Ceiling Speaker Calculator'!$C$29=\"Square\",BV$1,IF(OR(AND(ODD($A100)=$A100,ODD(BV$2)=BV$2),AND(EVEN($A100)=$A100,EVEN(BV$2)=BV$2)),BV$1,-100))","v":1340.625},{"$f":"IF('Ceiling Speaker Calculator'!$C$29=\"Square\",BW$1,IF(OR(AND(ODD($A100)=$A100,ODD(BW$2)=BW$2),AND(EVEN($A100)=$A100,EVEN(BW$2)=BW$2)),BW$1,-100))","v":1359.375},{"$f":"IF('Ceiling Speaker Calculator'!$C$29=\"Square\",BX$1,IF(OR(AND(ODD($A100)=$A100,ODD(BX$2)=BX$2),AND(EVEN($A100)=$A100,EVEN(BX$2)=BX$2)),BX$1,-100))","v":1378.125},{"$f":"IF('Ceiling Speaker Calculator'!$C$29=\"Square\",BY$1,IF(OR(AND(ODD($A100)=$A100,ODD(BY$2)=BY$2),AND(EVEN($A100)=$A100,EVEN(BY$2)=BY$2)),BY$1,-100))","v":1396.875},{"$f":"IF('Ceiling Speaker Calculator'!$C$29=\"Square\",BZ$1,IF(OR(AND(ODD($A100)=$A100,ODD(BZ$2)=BZ$2),AND(EVEN($A100)=$A100,EVEN(BZ$2)=BZ$2)),BZ$1,-100))","v":1415.625},{"$f":"IF('Ceiling Speaker Calculator'!$C$29=\"Square\",CA$1,IF(OR(AND(ODD($A100)=$A100,ODD(CA$2)=CA$2),AND(EVEN($A100)=$A100,EVEN(CA$2)=CA$2)),CA$1,-100))","v":1434.375},{"$f":"IF('Ceiling Speaker Calculator'!$C$29=\"Square\",CB$1,IF(OR(AND(ODD($A100)=$A100,ODD(CB$2)=CB$2),AND(EVEN($A100)=$A100,EVEN(CB$2)=CB$2)),CB$1,-100))","v":1453.125},{"$f":"IF('Ceiling Speaker Calculator'!$C$29=\"Square\",CC$1,IF(OR(AND(ODD($A100)=$A100,ODD(CC$2)=CC$2),AND(EVEN($A100)=$A100,EVEN(CC$2)=CC$2)),CC$1,-100))","v":1471.875},{"$f":"IF('Ceiling Speaker Calculator'!$C$29=\"Square\",CD$1,IF(OR(AND(ODD($A100)=$A100,ODD(CD$2)=CD$2),AND(EVEN($A100)=$A100,EVEN(CD$2)=CD$2)),CD$1,-100))","v":1490.625},{"$f":"IF('Ceiling Speaker Calculator'!$C$29=\"Square\",CE$1,IF(OR(AND(ODD($A100)=$A100,ODD(CE$2)=CE$2),AND(EVEN($A100)=$A100,EVEN(CE$2)=CE$2)),CE$1,-100))","v":1509.375},{"$f":"IF('Ceiling Speaker Calculator'!$C$29=\"Square\",CF$1,IF(OR(AND(ODD($A100)=$A100,ODD(CF$2)=CF$2),AND(EVEN($A100)=$A100,EVEN(CF$2)=CF$2)),CF$1,-100))","v":1528.125},{"$f":"IF('Ceiling Speaker Calculator'!$C$29=\"Square\",CG$1,IF(OR(AND(ODD($A100)=$A100,ODD(CG$2)=CG$2),AND(EVEN($A100)=$A100,EVEN(CG$2)=CG$2)),CG$1,-100))","v":1546.875},{"$f":"IF('Ceiling Speaker Calculator'!$C$29=\"Square\",CH$1,IF(OR(AND(ODD($A100)=$A100,ODD(CH$2)=CH$2),AND(EVEN($A100)=$A100,EVEN(CH$2)=CH$2)),CH$1,-100))","v":1565.625},{"$f":"IF('Ceiling Speaker Calculator'!$C$29=\"Square\",CI$1,IF(OR(AND(ODD($A100)=$A100,ODD(CI$2)=CI$2),AND(EVEN($A100)=$A100,EVEN(CI$2)=CI$2)),CI$1,-100))","v":1584.375},{"$f":"IF('Ceiling Speaker Calculator'!$C$29=\"Square\",CJ$1,IF(OR(AND(ODD($A100)=$A100,ODD(CJ$2)=CJ$2),AND(EVEN($A100)=$A100,EVEN(CJ$2)=CJ$2)),CJ$1,-100))","v":1603.125},{"$f":"IF('Ceiling Speaker Calculator'!$C$29=\"Square\",CK$1,IF(OR(AND(ODD($A100)=$A100,ODD(CK$2)=CK$2),AND(EVEN($A100)=$A100,EVEN(CK$2)=CK$2)),CK$1,-100))","v":1621.875},{"$f":"IF('Ceiling Speaker Calculator'!$C$29=\"Square\",CL$1,IF(OR(AND(ODD($A100)=$A100,ODD(CL$2)=CL$2),AND(EVEN($A100)=$A100,EVEN(CL$2)=CL$2)),CL$1,-100))","v":1640.625},{"$f":"IF('Ceiling Speaker Calculator'!$C$29=\"Square\",CM$1,IF(OR(AND(ODD($A100)=$A100,ODD(CM$2)=CM$2),AND(EVEN($A100)=$A100,EVEN(CM$2)=CM$2)),CM$1,-100))","v":1659.375},{"$f":"IF('Ceiling Speaker Calculator'!$C$29=\"Square\",CN$1,IF(OR(AND(ODD($A100)=$A100,ODD(CN$2)=CN$2),AND(EVEN($A100)=$A100,EVEN(CN$2)=CN$2)),CN$1,-100))","v":1678.125},{"$f":"IF('Ceiling Speaker Calculator'!$C$29=\"Square\",CO$1,IF(OR(AND(ODD($A100)=$A100,ODD(CO$2)=CO$2),AND(EVEN($A100)=$A100,EVEN(CO$2)=CO$2)),CO$1,-100))","v":1696.875},{"$f":"IF('Ceiling Speaker Calculator'!$C$29=\"Square\",CP$1,IF(OR(AND(ODD($A100)=$A100,ODD(CP$2)=CP$2),AND(EVEN($A100)=$A100,EVEN(CP$2)=CP$2)),CP$1,-100))","v":1715.625},{"$f":"IF('Ceiling Speaker Calculator'!$C$29=\"Square\",CQ$1,IF(OR(AND(ODD($A100)=$A100,ODD(CQ$2)=CQ$2),AND(EVEN($A100)=$A100,EVEN(CQ$2)=CQ$2)),CQ$1,-100))","v":1734.375},{"$f":"IF('Ceiling Speaker Calculator'!$C$29=\"Square\",CR$1,IF(OR(AND(ODD($A100)=$A100,ODD(CR$2)=CR$2),AND(EVEN($A100)=$A100,EVEN(CR$2)=CR$2)),CR$1,-100))","v":1753.125},{"$f":"IF('Ceiling Speaker Calculator'!$C$29=\"Square\",CS$1,IF(OR(AND(ODD($A100)=$A100,ODD(CS$2)=CS$2),AND(EVEN($A100)=$A100,EVEN(CS$2)=CS$2)),CS$1,-100))","v":1771.875},{"$f":"IF('Ceiling Speaker Calculator'!$C$29=\"Square\",CT$1,IF(OR(AND(ODD($A100)=$A100,ODD(CT$2)=CT$2),AND(EVEN($A100)=$A100,EVEN(CT$2)=CT$2)),CT$1,-100))","v":1790.625},{"$f":"IF('Ceiling Speaker Calculator'!$C$29=\"Square\",CU$1,IF(OR(AND(ODD($A100)=$A100,ODD(CU$2)=CU$2),AND(EVEN($A100)=$A100,EVEN(CU$2)=CU$2)),CU$1,-100))","v":1809.375},{"$f":"IF('Ceiling Speaker Calculator'!$C$29=\"Square\",CV$1,IF(OR(AND(ODD($A100)=$A100,ODD(CV$2)=CV$2),AND(EVEN($A100)=$A100,EVEN(CV$2)=CV$2)),CV$1,-100))","v":1828.125},{"$f":"IF('Ceiling Speaker Calculator'!$C$29=\"Square\",CW$1,IF(OR(AND(ODD($A100)=$A100,ODD(CW$2)=CW$2),AND(EVEN($A100)=$A100,EVEN(CW$2)=CW$2)),CW$1,-100))","v":1846.875},{"$f":"IF('Ceiling Speaker Calculator'!$C$29=\"Square\",CX$1,IF(OR(AND(ODD($A100)=$A100,ODD(CX$2)=CX$2),AND(EVEN($A100)=$A100,EVEN(CX$2)=CX$2)),CX$1,-100))","v":1865.625}]
[99,{"$f":"B100+'Ceiling Speaker Calculator'!$K$16","v":1970},{"$f":"IF('Ceiling Speaker Calculator'!$C$29=\"Square\",C$1,IF(OR(AND(ODD($A101)=$A101,ODD(C$2)=C$2),AND(EVEN($A101)=$A101,EVEN(C$2)=C$2)),C$1,-100))","v":9.375},{"$f":"IF('Ceiling Speaker Calculator'!$C$29=\"Square\",D$1,IF(OR(AND(ODD($A101)=$A101,ODD(D$2)=D$2),AND(EVEN($A101)=$A101,EVEN(D$2)=D$2)),D$1,-100))","v":28.125},{"$f":"IF('Ceiling Speaker Calculator'!$C$29=\"Square\",E$1,IF(OR(AND(ODD($A101)=$A101,ODD(E$2)=E$2),AND(EVEN($A101)=$A101,EVEN(E$2)=E$2)),E$1,-100))","v":46.875},{"$f":"IF('Ceiling Speaker Calculator'!$C$29=\"Square\",F$1,IF(OR(AND(ODD($A101)=$A101,ODD(F$2)=F$2),AND(EVEN($A101)=$A101,EVEN(F$2)=F$2)),F$1,-100))","v":65.625},{"$f":"IF('Ceiling Speaker Calculator'!$C$29=\"Square\",G$1,IF(OR(AND(ODD($A101)=$A101,ODD(G$2)=G$2),AND(EVEN($A101)=$A101,EVEN(G$2)=G$2)),G$1,-100))","v":84.375},{"$f":"IF('Ceiling Speaker Calculator'!$C$29=\"Square\",H$1,IF(OR(AND(ODD($A101)=$A101,ODD(H$2)=H$2),AND(EVEN($A101)=$A101,EVEN(H$2)=H$2)),H$1,-100))","v":103.125},{"$f":"IF('Ceiling Speaker Calculator'!$C$29=\"Square\",I$1,IF(OR(AND(ODD($A101)=$A101,ODD(I$2)=I$2),AND(EVEN($A101)=$A101,EVEN(I$2)=I$2)),I$1,-100))","v":121.875},{"$f":"IF('Ceiling Speaker Calculator'!$C$29=\"Square\",J$1,IF(OR(AND(ODD($A101)=$A101,ODD(J$2)=J$2),AND(EVEN($A101)=$A101,EVEN(J$2)=J$2)),J$1,-100))","v":140.625},{"$f":"IF('Ceiling Speaker Calculator'!$C$29=\"Square\",K$1,IF(OR(AND(ODD($A101)=$A101,ODD(K$2)=K$2),AND(EVEN($A101)=$A101,EVEN(K$2)=K$2)),K$1,-100))","v":159.375},{"$f":"IF('Ceiling Speaker Calculator'!$C$29=\"Square\",L$1,IF(OR(AND(ODD($A101)=$A101,ODD(L$2)=L$2),AND(EVEN($A101)=$A101,EVEN(L$2)=L$2)),L$1,-100))","v":178.125},{"$f":"IF('Ceiling Speaker Calculator'!$C$29=\"Square\",M$1,IF(OR(AND(ODD($A101)=$A101,ODD(M$2)=M$2),AND(EVEN($A101)=$A101,EVEN(M$2)=M$2)),M$1,-100))","v":196.875},{"$f":"IF('Ceiling Speaker Calculator'!$C$29=\"Square\",N$1,IF(OR(AND(ODD($A101)=$A101,ODD(N$2)=N$2),AND(EVEN($A101)=$A101,EVEN(N$2)=N$2)),N$1,-100))","v":215.625},{"$f":"IF('Ceiling Speaker Calculator'!$C$29=\"Square\",O$1,IF(OR(AND(ODD($A101)=$A101,ODD(O$2)=O$2),AND(EVEN($A101)=$A101,EVEN(O$2)=O$2)),O$1,-100))","v":234.375},{"$f":"IF('Ceiling Speaker Calculator'!$C$29=\"Square\",P$1,IF(OR(AND(ODD($A101)=$A101,ODD(P$2)=P$2),AND(EVEN($A101)=$A101,EVEN(P$2)=P$2)),P$1,-100))","v":253.125},{"$f":"IF('Ceiling Speaker Calculator'!$C$29=\"Square\",Q$1,IF(OR(AND(ODD($A101)=$A101,ODD(Q$2)=Q$2),AND(EVEN($A101)=$A101,EVEN(Q$2)=Q$2)),Q$1,-100))","v":271.875},{"$f":"IF('Ceiling Speaker Calculator'!$C$29=\"Square\",R$1,IF(OR(AND(ODD($A101)=$A101,ODD(R$2)=R$2),AND(EVEN($A101)=$A101,EVEN(R$2)=R$2)),R$1,-100))","v":290.625},{"$f":"IF('Ceiling Speaker Calculator'!$C$29=\"Square\",S$1,IF(OR(AND(ODD($A101)=$A101,ODD(S$2)=S$2),AND(EVEN($A101)=$A101,EVEN(S$2)=S$2)),S$1,-100))","v":309.375},{"$f":"IF('Ceiling Speaker Calculator'!$C$29=\"Square\",T$1,IF(OR(AND(ODD($A101)=$A101,ODD(T$2)=T$2),AND(EVEN($A101)=$A101,EVEN(T$2)=T$2)),T$1,-100))","v":328.125},{"$f":"IF('Ceiling Speaker Calculator'!$C$29=\"Square\",U$1,IF(OR(AND(ODD($A101)=$A101,ODD(U$2)=U$2),AND(EVEN($A101)=$A101,EVEN(U$2)=U$2)),U$1,-100))","v":346.875},{"$f":"IF('Ceiling Speaker Calculator'!$C$29=\"Square\",V$1,IF(OR(AND(ODD($A101)=$A101,ODD(V$2)=V$2),AND(EVEN($A101)=$A101,EVEN(V$2)=V$2)),V$1,-100))","v":365.625},{"$f":"IF('Ceiling Speaker Calculator'!$C$29=\"Square\",W$1,IF(OR(AND(ODD($A101)=$A101,ODD(W$2)=W$2),AND(EVEN($A101)=$A101,EVEN(W$2)=W$2)),W$1,-100))","v":384.375},{"$f":"IF('Ceiling Speaker Calculator'!$C$29=\"Square\",X$1,IF(OR(AND(ODD($A101)=$A101,ODD(X$2)=X$2),AND(EVEN($A101)=$A101,EVEN(X$2)=X$2)),X$1,-100))","v":403.125},{"$f":"IF('Ceiling Speaker Calculator'!$C$29=\"Square\",Y$1,IF(OR(AND(ODD($A101)=$A101,ODD(Y$2)=Y$2),AND(EVEN($A101)=$A101,EVEN(Y$2)=Y$2)),Y$1,-100))","v":421.875},{"$f":"IF('Ceiling Speaker Calculator'!$C$29=\"Square\",Z$1,IF(OR(AND(ODD($A101)=$A101,ODD(Z$2)=Z$2),AND(EVEN($A101)=$A101,EVEN(Z$2)=Z$2)),Z$1,-100))","v":440.625},{"$f":"IF('Ceiling Speaker Calculator'!$C$29=\"Square\",AA$1,IF(OR(AND(ODD($A101)=$A101,ODD(AA$2)=AA$2),AND(EVEN($A101)=$A101,EVEN(AA$2)=AA$2)),AA$1,-100))","v":459.375},{"$f":"IF('Ceiling Speaker Calculator'!$C$29=\"Square\",AB$1,IF(OR(AND(ODD($A101)=$A101,ODD(AB$2)=AB$2),AND(EVEN($A101)=$A101,EVEN(AB$2)=AB$2)),AB$1,-100))","v":478.125},{"$f":"IF('Ceiling Speaker Calculator'!$C$29=\"Square\",AC$1,IF(OR(AND(ODD($A101)=$A101,ODD(AC$2)=AC$2),AND(EVEN($A101)=$A101,EVEN(AC$2)=AC$2)),AC$1,-100))","v":496.875},{"$f":"IF('Ceiling Speaker Calculator'!$C$29=\"Square\",AD$1,IF(OR(AND(ODD($A101)=$A101,ODD(AD$2)=AD$2),AND(EVEN($A101)=$A101,EVEN(AD$2)=AD$2)),AD$1,-100))","v":515.625},{"$f":"IF('Ceiling Speaker Calculator'!$C$29=\"Square\",AE$1,IF(OR(AND(ODD($A101)=$A101,ODD(AE$2)=AE$2),AND(EVEN($A101)=$A101,EVEN(AE$2)=AE$2)),AE$1,-100))","v":534.375},{"$f":"IF('Ceiling Speaker Calculator'!$C$29=\"Square\",AF$1,IF(OR(AND(ODD($A101)=$A101,ODD(AF$2)=AF$2),AND(EVEN($A101)=$A101,EVEN(AF$2)=AF$2)),AF$1,-100))","v":553.125},{"$f":"IF('Ceiling Speaker Calculator'!$C$29=\"Square\",AG$1,IF(OR(AND(ODD($A101)=$A101,ODD(AG$2)=AG$2),AND(EVEN($A101)=$A101,EVEN(AG$2)=AG$2)),AG$1,-100))","v":571.875},{"$f":"IF('Ceiling Speaker Calculator'!$C$29=\"Square\",AH$1,IF(OR(AND(ODD($A101)=$A101,ODD(AH$2)=AH$2),AND(EVEN($A101)=$A101,EVEN(AH$2)=AH$2)),AH$1,-100))","v":590.625},{"$f":"IF('Ceiling Speaker Calculator'!$C$29=\"Square\",AI$1,IF(OR(AND(ODD($A101)=$A101,ODD(AI$2)=AI$2),AND(EVEN($A101)=$A101,EVEN(AI$2)=AI$2)),AI$1,-100))","v":609.375},{"$f":"IF('Ceiling Speaker Calculator'!$C$29=\"Square\",AJ$1,IF(OR(AND(ODD($A101)=$A101,ODD(AJ$2)=AJ$2),AND(EVEN($A101)=$A101,EVEN(AJ$2)=AJ$2)),AJ$1,-100))","v":628.125},{"$f":"IF('Ceiling Speaker Calculator'!$C$29=\"Square\",AK$1,IF(OR(AND(ODD($A101)=$A101,ODD(AK$2)=AK$2),AND(EVEN($A101)=$A101,EVEN(AK$2)=AK$2)),AK$1,-100))","v":646.875},{"$f":"IF('Ceiling Speaker Calculator'!$C$29=\"Square\",AL$1,IF(OR(AND(ODD($A101)=$A101,ODD(AL$2)=AL$2),AND(EVEN($A101)=$A101,EVEN(AL$2)=AL$2)),AL$1,-100))","v":665.625},{"$f":"IF('Ceiling Speaker Calculator'!$C$29=\"Square\",AM$1,IF(OR(AND(ODD($A101)=$A101,ODD(AM$2)=AM$2),AND(EVEN($A101)=$A101,EVEN(AM$2)=AM$2)),AM$1,-100))","v":684.375},{"$f":"IF('Ceiling Speaker Calculator'!$C$29=\"Square\",AN$1,IF(OR(AND(ODD($A101)=$A101,ODD(AN$2)=AN$2),AND(EVEN($A101)=$A101,EVEN(AN$2)=AN$2)),AN$1,-100))","v":703.125},{"$f":"IF('Ceiling Speaker Calculator'!$C$29=\"Square\",AO$1,IF(OR(AND(ODD($A101)=$A101,ODD(AO$2)=AO$2),AND(EVEN($A101)=$A101,EVEN(AO$2)=AO$2)),AO$1,-100))","v":721.875},{"$f":"IF('Ceiling Speaker Calculator'!$C$29=\"Square\",AP$1,IF(OR(AND(ODD($A101)=$A101,ODD(AP$2)=AP$2),AND(EVEN($A101)=$A101,EVEN(AP$2)=AP$2)),AP$1,-100))","v":740.625},{"$f":"IF('Ceiling Speaker Calculator'!$C$29=\"Square\",AQ$1,IF(OR(AND(ODD($A101)=$A101,ODD(AQ$2)=AQ$2),AND(EVEN($A101)=$A101,EVEN(AQ$2)=AQ$2)),AQ$1,-100))","v":759.375},{"$f":"IF('Ceiling Speaker Calculator'!$C$29=\"Square\",AR$1,IF(OR(AND(ODD($A101)=$A101,ODD(AR$2)=AR$2),AND(EVEN($A101)=$A101,EVEN(AR$2)=AR$2)),AR$1,-100))","v":778.125},{"$f":"IF('Ceiling Speaker Calculator'!$C$29=\"Square\",AS$1,IF(OR(AND(ODD($A101)=$A101,ODD(AS$2)=AS$2),AND(EVEN($A101)=$A101,EVEN(AS$2)=AS$2)),AS$1,-100))","v":796.875},{"$f":"IF('Ceiling Speaker Calculator'!$C$29=\"Square\",AT$1,IF(OR(AND(ODD($A101)=$A101,ODD(AT$2)=AT$2),AND(EVEN($A101)=$A101,EVEN(AT$2)=AT$2)),AT$1,-100))","v":815.625},{"$f":"IF('Ceiling Speaker Calculator'!$C$29=\"Square\",AU$1,IF(OR(AND(ODD($A101)=$A101,ODD(AU$2)=AU$2),AND(EVEN($A101)=$A101,EVEN(AU$2)=AU$2)),AU$1,-100))","v":834.375},{"$f":"IF('Ceiling Speaker Calculator'!$C$29=\"Square\",AV$1,IF(OR(AND(ODD($A101)=$A101,ODD(AV$2)=AV$2),AND(EVEN($A101)=$A101,EVEN(AV$2)=AV$2)),AV$1,-100))","v":853.125},{"$f":"IF('Ceiling Speaker Calculator'!$C$29=\"Square\",AW$1,IF(OR(AND(ODD($A101)=$A101,ODD(AW$2)=AW$2),AND(EVEN($A101)=$A101,EVEN(AW$2)=AW$2)),AW$1,-100))","v":871.875},{"$f":"IF('Ceiling Speaker Calculator'!$C$29=\"Square\",AX$1,IF(OR(AND(ODD($A101)=$A101,ODD(AX$2)=AX$2),AND(EVEN($A101)=$A101,EVEN(AX$2)=AX$2)),AX$1,-100))","v":890.625},{"$f":"IF('Ceiling Speaker Calculator'!$C$29=\"Square\",AY$1,IF(OR(AND(ODD($A101)=$A101,ODD(AY$2)=AY$2),AND(EVEN($A101)=$A101,EVEN(AY$2)=AY$2)),AY$1,-100))","v":909.375},{"$f":"IF('Ceiling Speaker Calculator'!$C$29=\"Square\",AZ$1,IF(OR(AND(ODD($A101)=$A101,ODD(AZ$2)=AZ$2),AND(EVEN($A101)=$A101,EVEN(AZ$2)=AZ$2)),AZ$1,-100))","v":928.125},{"$f":"IF('Ceiling Speaker Calculator'!$C$29=\"Square\",BA$1,IF(OR(AND(ODD($A101)=$A101,ODD(BA$2)=BA$2),AND(EVEN($A101)=$A101,EVEN(BA$2)=BA$2)),BA$1,-100))","v":946.875},{"$f":"IF('Ceiling Speaker Calculator'!$C$29=\"Square\",BB$1,IF(OR(AND(ODD($A101)=$A101,ODD(BB$2)=BB$2),AND(EVEN($A101)=$A101,EVEN(BB$2)=BB$2)),BB$1,-100))","v":965.625},{"$f":"IF('Ceiling Speaker Calculator'!$C$29=\"Square\",BC$1,IF(OR(AND(ODD($A101)=$A101,ODD(BC$2)=BC$2),AND(EVEN($A101)=$A101,EVEN(BC$2)=BC$2)),BC$1,-100))","v":984.375},{"$f":"IF('Ceiling Speaker Calculator'!$C$29=\"Square\",BD$1,IF(OR(AND(ODD($A101)=$A101,ODD(BD$2)=BD$2),AND(EVEN($A101)=$A101,EVEN(BD$2)=BD$2)),BD$1,-100))","v":1003.125},{"$f":"IF('Ceiling Speaker Calculator'!$C$29=\"Square\",BE$1,IF(OR(AND(ODD($A101)=$A101,ODD(BE$2)=BE$2),AND(EVEN($A101)=$A101,EVEN(BE$2)=BE$2)),BE$1,-100))","v":1021.875},{"$f":"IF('Ceiling Speaker Calculator'!$C$29=\"Square\",BF$1,IF(OR(AND(ODD($A101)=$A101,ODD(BF$2)=BF$2),AND(EVEN($A101)=$A101,EVEN(BF$2)=BF$2)),BF$1,-100))","v":1040.625},{"$f":"IF('Ceiling Speaker Calculator'!$C$29=\"Square\",BG$1,IF(OR(AND(ODD($A101)=$A101,ODD(BG$2)=BG$2),AND(EVEN($A101)=$A101,EVEN(BG$2)=BG$2)),BG$1,-100))","v":1059.375},{"$f":"IF('Ceiling Speaker Calculator'!$C$29=\"Square\",BH$1,IF(OR(AND(ODD($A101)=$A101,ODD(BH$2)=BH$2),AND(EVEN($A101)=$A101,EVEN(BH$2)=BH$2)),BH$1,-100))","v":1078.125},{"$f":"IF('Ceiling Speaker Calculator'!$C$29=\"Square\",BI$1,IF(OR(AND(ODD($A101)=$A101,ODD(BI$2)=BI$2),AND(EVEN($A101)=$A101,EVEN(BI$2)=BI$2)),BI$1,-100))","v":1096.875},{"$f":"IF('Ceiling Speaker Calculator'!$C$29=\"Square\",BJ$1,IF(OR(AND(ODD($A101)=$A101,ODD(BJ$2)=BJ$2),AND(EVEN($A101)=$A101,EVEN(BJ$2)=BJ$2)),BJ$1,-100))","v":1115.625},{"$f":"IF('Ceiling Speaker Calculator'!$C$29=\"Square\",BK$1,IF(OR(AND(ODD($A101)=$A101,ODD(BK$2)=BK$2),AND(EVEN($A101)=$A101,EVEN(BK$2)=BK$2)),BK$1,-100))","v":1134.375},{"$f":"IF('Ceiling Speaker Calculator'!$C$29=\"Square\",BL$1,IF(OR(AND(ODD($A101)=$A101,ODD(BL$2)=BL$2),AND(EVEN($A101)=$A101,EVEN(BL$2)=BL$2)),BL$1,-100))","v":1153.125},{"$f":"IF('Ceiling Speaker Calculator'!$C$29=\"Square\",BM$1,IF(OR(AND(ODD($A101)=$A101,ODD(BM$2)=BM$2),AND(EVEN($A101)=$A101,EVEN(BM$2)=BM$2)),BM$1,-100))","v":1171.875},{"$f":"IF('Ceiling Speaker Calculator'!$C$29=\"Square\",BN$1,IF(OR(AND(ODD($A101)=$A101,ODD(BN$2)=BN$2),AND(EVEN($A101)=$A101,EVEN(BN$2)=BN$2)),BN$1,-100))","v":1190.625},{"$f":"IF('Ceiling Speaker Calculator'!$C$29=\"Square\",BO$1,IF(OR(AND(ODD($A101)=$A101,ODD(BO$2)=BO$2),AND(EVEN($A101)=$A101,EVEN(BO$2)=BO$2)),BO$1,-100))","v":1209.375},{"$f":"IF('Ceiling Speaker Calculator'!$C$29=\"Square\",BP$1,IF(OR(AND(ODD($A101)=$A101,ODD(BP$2)=BP$2),AND(EVEN($A101)=$A101,EVEN(BP$2)=BP$2)),BP$1,-100))","v":1228.125},{"$f":"IF('Ceiling Speaker Calculator'!$C$29=\"Square\",BQ$1,IF(OR(AND(ODD($A101)=$A101,ODD(BQ$2)=BQ$2),AND(EVEN($A101)=$A101,EVEN(BQ$2)=BQ$2)),BQ$1,-100))","v":1246.875},{"$f":"IF('Ceiling Speaker Calculator'!$C$29=\"Square\",BR$1,IF(OR(AND(ODD($A101)=$A101,ODD(BR$2)=BR$2),AND(EVEN($A101)=$A101,EVEN(BR$2)=BR$2)),BR$1,-100))","v":1265.625},{"$f":"IF('Ceiling Speaker Calculator'!$C$29=\"Square\",BS$1,IF(OR(AND(ODD($A101)=$A101,ODD(BS$2)=BS$2),AND(EVEN($A101)=$A101,EVEN(BS$2)=BS$2)),BS$1,-100))","v":1284.375},{"$f":"IF('Ceiling Speaker Calculator'!$C$29=\"Square\",BT$1,IF(OR(AND(ODD($A101)=$A101,ODD(BT$2)=BT$2),AND(EVEN($A101)=$A101,EVEN(BT$2)=BT$2)),BT$1,-100))","v":1303.125},{"$f":"IF('Ceiling Speaker Calculator'!$C$29=\"Square\",BU$1,IF(OR(AND(ODD($A101)=$A101,ODD(BU$2)=BU$2),AND(EVEN($A101)=$A101,EVEN(BU$2)=BU$2)),BU$1,-100))","v":1321.875},{"$f":"IF('Ceiling Speaker Calculator'!$C$29=\"Square\",BV$1,IF(OR(AND(ODD($A101)=$A101,ODD(BV$2)=BV$2),AND(EVEN($A101)=$A101,EVEN(BV$2)=BV$2)),BV$1,-100))","v":1340.625},{"$f":"IF('Ceiling Speaker Calculator'!$C$29=\"Square\",BW$1,IF(OR(AND(ODD($A101)=$A101,ODD(BW$2)=BW$2),AND(EVEN($A101)=$A101,EVEN(BW$2)=BW$2)),BW$1,-100))","v":1359.375},{"$f":"IF('Ceiling Speaker Calculator'!$C$29=\"Square\",BX$1,IF(OR(AND(ODD($A101)=$A101,ODD(BX$2)=BX$2),AND(EVEN($A101)=$A101,EVEN(BX$2)=BX$2)),BX$1,-100))","v":1378.125},{"$f":"IF('Ceiling Speaker Calculator'!$C$29=\"Square\",BY$1,IF(OR(AND(ODD($A101)=$A101,ODD(BY$2)=BY$2),AND(EVEN($A101)=$A101,EVEN(BY$2)=BY$2)),BY$1,-100))","v":1396.875},{"$f":"IF('Ceiling Speaker Calculator'!$C$29=\"Square\",BZ$1,IF(OR(AND(ODD($A101)=$A101,ODD(BZ$2)=BZ$2),AND(EVEN($A101)=$A101,EVEN(BZ$2)=BZ$2)),BZ$1,-100))","v":1415.625},{"$f":"IF('Ceiling Speaker Calculator'!$C$29=\"Square\",CA$1,IF(OR(AND(ODD($A101)=$A101,ODD(CA$2)=CA$2),AND(EVEN($A101)=$A101,EVEN(CA$2)=CA$2)),CA$1,-100))","v":1434.375},{"$f":"IF('Ceiling Speaker Calculator'!$C$29=\"Square\",CB$1,IF(OR(AND(ODD($A101)=$A101,ODD(CB$2)=CB$2),AND(EVEN($A101)=$A101,EVEN(CB$2)=CB$2)),CB$1,-100))","v":1453.125},{"$f":"IF('Ceiling Speaker Calculator'!$C$29=\"Square\",CC$1,IF(OR(AND(ODD($A101)=$A101,ODD(CC$2)=CC$2),AND(EVEN($A101)=$A101,EVEN(CC$2)=CC$2)),CC$1,-100))","v":1471.875},{"$f":"IF('Ceiling Speaker Calculator'!$C$29=\"Square\",CD$1,IF(OR(AND(ODD($A101)=$A101,ODD(CD$2)=CD$2),AND(EVEN($A101)=$A101,EVEN(CD$2)=CD$2)),CD$1,-100))","v":1490.625},{"$f":"IF('Ceiling Speaker Calculator'!$C$29=\"Square\",CE$1,IF(OR(AND(ODD($A101)=$A101,ODD(CE$2)=CE$2),AND(EVEN($A101)=$A101,EVEN(CE$2)=CE$2)),CE$1,-100))","v":1509.375},{"$f":"IF('Ceiling Speaker Calculator'!$C$29=\"Square\",CF$1,IF(OR(AND(ODD($A101)=$A101,ODD(CF$2)=CF$2),AND(EVEN($A101)=$A101,EVEN(CF$2)=CF$2)),CF$1,-100))","v":1528.125},{"$f":"IF('Ceiling Speaker Calculator'!$C$29=\"Square\",CG$1,IF(OR(AND(ODD($A101)=$A101,ODD(CG$2)=CG$2),AND(EVEN($A101)=$A101,EVEN(CG$2)=CG$2)),CG$1,-100))","v":1546.875},{"$f":"IF('Ceiling Speaker Calculator'!$C$29=\"Square\",CH$1,IF(OR(AND(ODD($A101)=$A101,ODD(CH$2)=CH$2),AND(EVEN($A101)=$A101,EVEN(CH$2)=CH$2)),CH$1,-100))","v":1565.625},{"$f":"IF('Ceiling Speaker Calculator'!$C$29=\"Square\",CI$1,IF(OR(AND(ODD($A101)=$A101,ODD(CI$2)=CI$2),AND(EVEN($A101)=$A101,EVEN(CI$2)=CI$2)),CI$1,-100))","v":1584.375},{"$f":"IF('Ceiling Speaker Calculator'!$C$29=\"Square\",CJ$1,IF(OR(AND(ODD($A101)=$A101,ODD(CJ$2)=CJ$2),AND(EVEN($A101)=$A101,EVEN(CJ$2)=CJ$2)),CJ$1,-100))","v":1603.125},{"$f":"IF('Ceiling Speaker Calculator'!$C$29=\"Square\",CK$1,IF(OR(AND(ODD($A101)=$A101,ODD(CK$2)=CK$2),AND(EVEN($A101)=$A101,EVEN(CK$2)=CK$2)),CK$1,-100))","v":1621.875},{"$f":"IF('Ceiling Speaker Calculator'!$C$29=\"Square\",CL$1,IF(OR(AND(ODD($A101)=$A101,ODD(CL$2)=CL$2),AND(EVEN($A101)=$A101,EVEN(CL$2)=CL$2)),CL$1,-100))","v":1640.625},{"$f":"IF('Ceiling Speaker Calculator'!$C$29=\"Square\",CM$1,IF(OR(AND(ODD($A101)=$A101,ODD(CM$2)=CM$2),AND(EVEN($A101)=$A101,EVEN(CM$2)=CM$2)),CM$1,-100))","v":1659.375},{"$f":"IF('Ceiling Speaker Calculator'!$C$29=\"Square\",CN$1,IF(OR(AND(ODD($A101)=$A101,ODD(CN$2)=CN$2),AND(EVEN($A101)=$A101,EVEN(CN$2)=CN$2)),CN$1,-100))","v":1678.125},{"$f":"IF('Ceiling Speaker Calculator'!$C$29=\"Square\",CO$1,IF(OR(AND(ODD($A101)=$A101,ODD(CO$2)=CO$2),AND(EVEN($A101)=$A101,EVEN(CO$2)=CO$2)),CO$1,-100))","v":1696.875},{"$f":"IF('Ceiling Speaker Calculator'!$C$29=\"Square\",CP$1,IF(OR(AND(ODD($A101)=$A101,ODD(CP$2)=CP$2),AND(EVEN($A101)=$A101,EVEN(CP$2)=CP$2)),CP$1,-100))","v":1715.625},{"$f":"IF('Ceiling Speaker Calculator'!$C$29=\"Square\",CQ$1,IF(OR(AND(ODD($A101)=$A101,ODD(CQ$2)=CQ$2),AND(EVEN($A101)=$A101,EVEN(CQ$2)=CQ$2)),CQ$1,-100))","v":1734.375},{"$f":"IF('Ceiling Speaker Calculator'!$C$29=\"Square\",CR$1,IF(OR(AND(ODD($A101)=$A101,ODD(CR$2)=CR$2),AND(EVEN($A101)=$A101,EVEN(CR$2)=CR$2)),CR$1,-100))","v":1753.125},{"$f":"IF('Ceiling Speaker Calculator'!$C$29=\"Square\",CS$1,IF(OR(AND(ODD($A101)=$A101,ODD(CS$2)=CS$2),AND(EVEN($A101)=$A101,EVEN(CS$2)=CS$2)),CS$1,-100))","v":1771.875},{"$f":"IF('Ceiling Speaker Calculator'!$C$29=\"Square\",CT$1,IF(OR(AND(ODD($A101)=$A101,ODD(CT$2)=CT$2),AND(EVEN($A101)=$A101,EVEN(CT$2)=CT$2)),CT$1,-100))","v":1790.625},{"$f":"IF('Ceiling Speaker Calculator'!$C$29=\"Square\",CU$1,IF(OR(AND(ODD($A101)=$A101,ODD(CU$2)=CU$2),AND(EVEN($A101)=$A101,EVEN(CU$2)=CU$2)),CU$1,-100))","v":1809.375},{"$f":"IF('Ceiling Speaker Calculator'!$C$29=\"Square\",CV$1,IF(OR(AND(ODD($A101)=$A101,ODD(CV$2)=CV$2),AND(EVEN($A101)=$A101,EVEN(CV$2)=CV$2)),CV$1,-100))","v":1828.125},{"$f":"IF('Ceiling Speaker Calculator'!$C$29=\"Square\",CW$1,IF(OR(AND(ODD($A101)=$A101,ODD(CW$2)=CW$2),AND(EVEN($A101)=$A101,EVEN(CW$2)=CW$2)),CW$1,-100))","v":1846.875},{"$f":"IF('Ceiling Speaker Calculator'!$C$29=\"Square\",CX$1,IF(OR(AND(ODD($A101)=$A101,ODD(CX$2)=CX$2),AND(EVEN($A101)=$A101,EVEN(CX$2)=CX$2)),CX$1,-100))","v":1865.625}]
[100,{"$f":"B101+'Ceiling Speaker Calculator'!$K$16","v":1990},{"$f":"IF('Ceiling Speaker Calculator'!$C$29=\"Square\",C$1,IF(OR(AND(ODD($A102)=$A102,ODD(C$2)=C$2),AND(EVEN($A102)=$A102,EVEN(C$2)=C$2)),C$1,-100))","v":9.375},{"$f":"IF('Ceiling Speaker Calculator'!$C$29=\"Square\",D$1,IF(OR(AND(ODD($A102)=$A102,ODD(D$2)=D$2),AND(EVEN($A102)=$A102,EVEN(D$2)=D$2)),D$1,-100))","v":28.125},{"$f":"IF('Ceiling Speaker Calculator'!$C$29=\"Square\",E$1,IF(OR(AND(ODD($A102)=$A102,ODD(E$2)=E$2),AND(EVEN($A102)=$A102,EVEN(E$2)=E$2)),E$1,-100))","v":46.875},{"$f":"IF('Ceiling Speaker Calculator'!$C$29=\"Square\",F$1,IF(OR(AND(ODD($A102)=$A102,ODD(F$2)=F$2),AND(EVEN($A102)=$A102,EVEN(F$2)=F$2)),F$1,-100))","v":65.625},{"$f":"IF('Ceiling Speaker Calculator'!$C$29=\"Square\",G$1,IF(OR(AND(ODD($A102)=$A102,ODD(G$2)=G$2),AND(EVEN($A102)=$A102,EVEN(G$2)=G$2)),G$1,-100))","v":84.375},{"$f":"IF('Ceiling Speaker Calculator'!$C$29=\"Square\",H$1,IF(OR(AND(ODD($A102)=$A102,ODD(H$2)=H$2),AND(EVEN($A102)=$A102,EVEN(H$2)=H$2)),H$1,-100))","v":103.125},{"$f":"IF('Ceiling Speaker Calculator'!$C$29=\"Square\",I$1,IF(OR(AND(ODD($A102)=$A102,ODD(I$2)=I$2),AND(EVEN($A102)=$A102,EVEN(I$2)=I$2)),I$1,-100))","v":121.875},{"$f":"IF('Ceiling Speaker Calculator'!$C$29=\"Square\",J$1,IF(OR(AND(ODD($A102)=$A102,ODD(J$2)=J$2),AND(EVEN($A102)=$A102,EVEN(J$2)=J$2)),J$1,-100))","v":140.625},{"$f":"IF('Ceiling Speaker Calculator'!$C$29=\"Square\",K$1,IF(OR(AND(ODD($A102)=$A102,ODD(K$2)=K$2),AND(EVEN($A102)=$A102,EVEN(K$2)=K$2)),K$1,-100))","v":159.375},{"$f":"IF('Ceiling Speaker Calculator'!$C$29=\"Square\",L$1,IF(OR(AND(ODD($A102)=$A102,ODD(L$2)=L$2),AND(EVEN($A102)=$A102,EVEN(L$2)=L$2)),L$1,-100))","v":178.125},{"$f":"IF('Ceiling Speaker Calculator'!$C$29=\"Square\",M$1,IF(OR(AND(ODD($A102)=$A102,ODD(M$2)=M$2),AND(EVEN($A102)=$A102,EVEN(M$2)=M$2)),M$1,-100))","v":196.875},{"$f":"IF('Ceiling Speaker Calculator'!$C$29=\"Square\",N$1,IF(OR(AND(ODD($A102)=$A102,ODD(N$2)=N$2),AND(EVEN($A102)=$A102,EVEN(N$2)=N$2)),N$1,-100))","v":215.625},{"$f":"IF('Ceiling Speaker Calculator'!$C$29=\"Square\",O$1,IF(OR(AND(ODD($A102)=$A102,ODD(O$2)=O$2),AND(EVEN($A102)=$A102,EVEN(O$2)=O$2)),O$1,-100))","v":234.375},{"$f":"IF('Ceiling Speaker Calculator'!$C$29=\"Square\",P$1,IF(OR(AND(ODD($A102)=$A102,ODD(P$2)=P$2),AND(EVEN($A102)=$A102,EVEN(P$2)=P$2)),P$1,-100))","v":253.125},{"$f":"IF('Ceiling Speaker Calculator'!$C$29=\"Square\",Q$1,IF(OR(AND(ODD($A102)=$A102,ODD(Q$2)=Q$2),AND(EVEN($A102)=$A102,EVEN(Q$2)=Q$2)),Q$1,-100))","v":271.875},{"$f":"IF('Ceiling Speaker Calculator'!$C$29=\"Square\",R$1,IF(OR(AND(ODD($A102)=$A102,ODD(R$2)=R$2),AND(EVEN($A102)=$A102,EVEN(R$2)=R$2)),R$1,-100))","v":290.625},{"$f":"IF('Ceiling Speaker Calculator'!$C$29=\"Square\",S$1,IF(OR(AND(ODD($A102)=$A102,ODD(S$2)=S$2),AND(EVEN($A102)=$A102,EVEN(S$2)=S$2)),S$1,-100))","v":309.375},{"$f":"IF('Ceiling Speaker Calculator'!$C$29=\"Square\",T$1,IF(OR(AND(ODD($A102)=$A102,ODD(T$2)=T$2),AND(EVEN($A102)=$A102,EVEN(T$2)=T$2)),T$1,-100))","v":328.125},{"$f":"IF('Ceiling Speaker Calculator'!$C$29=\"Square\",U$1,IF(OR(AND(ODD($A102)=$A102,ODD(U$2)=U$2),AND(EVEN($A102)=$A102,EVEN(U$2)=U$2)),U$1,-100))","v":346.875},{"$f":"IF('Ceiling Speaker Calculator'!$C$29=\"Square\",V$1,IF(OR(AND(ODD($A102)=$A102,ODD(V$2)=V$2),AND(EVEN($A102)=$A102,EVEN(V$2)=V$2)),V$1,-100))","v":365.625},{"$f":"IF('Ceiling Speaker Calculator'!$C$29=\"Square\",W$1,IF(OR(AND(ODD($A102)=$A102,ODD(W$2)=W$2),AND(EVEN($A102)=$A102,EVEN(W$2)=W$2)),W$1,-100))","v":384.375},{"$f":"IF('Ceiling Speaker Calculator'!$C$29=\"Square\",X$1,IF(OR(AND(ODD($A102)=$A102,ODD(X$2)=X$2),AND(EVEN($A102)=$A102,EVEN(X$2)=X$2)),X$1,-100))","v":403.125},{"$f":"IF('Ceiling Speaker Calculator'!$C$29=\"Square\",Y$1,IF(OR(AND(ODD($A102)=$A102,ODD(Y$2)=Y$2),AND(EVEN($A102)=$A102,EVEN(Y$2)=Y$2)),Y$1,-100))","v":421.875},{"$f":"IF('Ceiling Speaker Calculator'!$C$29=\"Square\",Z$1,IF(OR(AND(ODD($A102)=$A102,ODD(Z$2)=Z$2),AND(EVEN($A102)=$A102,EVEN(Z$2)=Z$2)),Z$1,-100))","v":440.625},{"$f":"IF('Ceiling Speaker Calculator'!$C$29=\"Square\",AA$1,IF(OR(AND(ODD($A102)=$A102,ODD(AA$2)=AA$2),AND(EVEN($A102)=$A102,EVEN(AA$2)=AA$2)),AA$1,-100))","v":459.375},{"$f":"IF('Ceiling Speaker Calculator'!$C$29=\"Square\",AB$1,IF(OR(AND(ODD($A102)=$A102,ODD(AB$2)=AB$2),AND(EVEN($A102)=$A102,EVEN(AB$2)=AB$2)),AB$1,-100))","v":478.125},{"$f":"IF('Ceiling Speaker Calculator'!$C$29=\"Square\",AC$1,IF(OR(AND(ODD($A102)=$A102,ODD(AC$2)=AC$2),AND(EVEN($A102)=$A102,EVEN(AC$2)=AC$2)),AC$1,-100))","v":496.875},{"$f":"IF('Ceiling Speaker Calculator'!$C$29=\"Square\",AD$1,IF(OR(AND(ODD($A102)=$A102,ODD(AD$2)=AD$2),AND(EVEN($A102)=$A102,EVEN(AD$2)=AD$2)),AD$1,-100))","v":515.625},{"$f":"IF('Ceiling Speaker Calculator'!$C$29=\"Square\",AE$1,IF(OR(AND(ODD($A102)=$A102,ODD(AE$2)=AE$2),AND(EVEN($A102)=$A102,EVEN(AE$2)=AE$2)),AE$1,-100))","v":534.375},{"$f":"IF('Ceiling Speaker Calculator'!$C$29=\"Square\",AF$1,IF(OR(AND(ODD($A102)=$A102,ODD(AF$2)=AF$2),AND(EVEN($A102)=$A102,EVEN(AF$2)=AF$2)),AF$1,-100))","v":553.125},{"$f":"IF('Ceiling Speaker Calculator'!$C$29=\"Square\",AG$1,IF(OR(AND(ODD($A102)=$A102,ODD(AG$2)=AG$2),AND(EVEN($A102)=$A102,EVEN(AG$2)=AG$2)),AG$1,-100))","v":571.875},{"$f":"IF('Ceiling Speaker Calculator'!$C$29=\"Square\",AH$1,IF(OR(AND(ODD($A102)=$A102,ODD(AH$2)=AH$2),AND(EVEN($A102)=$A102,EVEN(AH$2)=AH$2)),AH$1,-100))","v":590.625},{"$f":"IF('Ceiling Speaker Calculator'!$C$29=\"Square\",AI$1,IF(OR(AND(ODD($A102)=$A102,ODD(AI$2)=AI$2),AND(EVEN($A102)=$A102,EVEN(AI$2)=AI$2)),AI$1,-100))","v":609.375},{"$f":"IF('Ceiling Speaker Calculator'!$C$29=\"Square\",AJ$1,IF(OR(AND(ODD($A102)=$A102,ODD(AJ$2)=AJ$2),AND(EVEN($A102)=$A102,EVEN(AJ$2)=AJ$2)),AJ$1,-100))","v":628.125},{"$f":"IF('Ceiling Speaker Calculator'!$C$29=\"Square\",AK$1,IF(OR(AND(ODD($A102)=$A102,ODD(AK$2)=AK$2),AND(EVEN($A102)=$A102,EVEN(AK$2)=AK$2)),AK$1,-100))","v":646.875},{"$f":"IF('Ceiling Speaker Calculator'!$C$29=\"Square\",AL$1,IF(OR(AND(ODD($A102)=$A102,ODD(AL$2)=AL$2),AND(EVEN($A102)=$A102,EVEN(AL$2)=AL$2)),AL$1,-100))","v":665.625},{"$f":"IF('Ceiling Speaker Calculator'!$C$29=\"Square\",AM$1,IF(OR(AND(ODD($A102)=$A102,ODD(AM$2)=AM$2),AND(EVEN($A102)=$A102,EVEN(AM$2)=AM$2)),AM$1,-100))","v":684.375},{"$f":"IF('Ceiling Speaker Calculator'!$C$29=\"Square\",AN$1,IF(OR(AND(ODD($A102)=$A102,ODD(AN$2)=AN$2),AND(EVEN($A102)=$A102,EVEN(AN$2)=AN$2)),AN$1,-100))","v":703.125},{"$f":"IF('Ceiling Speaker Calculator'!$C$29=\"Square\",AO$1,IF(OR(AND(ODD($A102)=$A102,ODD(AO$2)=AO$2),AND(EVEN($A102)=$A102,EVEN(AO$2)=AO$2)),AO$1,-100))","v":721.875},{"$f":"IF('Ceiling Speaker Calculator'!$C$29=\"Square\",AP$1,IF(OR(AND(ODD($A102)=$A102,ODD(AP$2)=AP$2),AND(EVEN($A102)=$A102,EVEN(AP$2)=AP$2)),AP$1,-100))","v":740.625},{"$f":"IF('Ceiling Speaker Calculator'!$C$29=\"Square\",AQ$1,IF(OR(AND(ODD($A102)=$A102,ODD(AQ$2)=AQ$2),AND(EVEN($A102)=$A102,EVEN(AQ$2)=AQ$2)),AQ$1,-100))","v":759.375},{"$f":"IF('Ceiling Speaker Calculator'!$C$29=\"Square\",AR$1,IF(OR(AND(ODD($A102)=$A102,ODD(AR$2)=AR$2),AND(EVEN($A102)=$A102,EVEN(AR$2)=AR$2)),AR$1,-100))","v":778.125},{"$f":"IF('Ceiling Speaker Calculator'!$C$29=\"Square\",AS$1,IF(OR(AND(ODD($A102)=$A102,ODD(AS$2)=AS$2),AND(EVEN($A102)=$A102,EVEN(AS$2)=AS$2)),AS$1,-100))","v":796.875},{"$f":"IF('Ceiling Speaker Calculator'!$C$29=\"Square\",AT$1,IF(OR(AND(ODD($A102)=$A102,ODD(AT$2)=AT$2),AND(EVEN($A102)=$A102,EVEN(AT$2)=AT$2)),AT$1,-100))","v":815.625},{"$f":"IF('Ceiling Speaker Calculator'!$C$29=\"Square\",AU$1,IF(OR(AND(ODD($A102)=$A102,ODD(AU$2)=AU$2),AND(EVEN($A102)=$A102,EVEN(AU$2)=AU$2)),AU$1,-100))","v":834.375},{"$f":"IF('Ceiling Speaker Calculator'!$C$29=\"Square\",AV$1,IF(OR(AND(ODD($A102)=$A102,ODD(AV$2)=AV$2),AND(EVEN($A102)=$A102,EVEN(AV$2)=AV$2)),AV$1,-100))","v":853.125},{"$f":"IF('Ceiling Speaker Calculator'!$C$29=\"Square\",AW$1,IF(OR(AND(ODD($A102)=$A102,ODD(AW$2)=AW$2),AND(EVEN($A102)=$A102,EVEN(AW$2)=AW$2)),AW$1,-100))","v":871.875},{"$f":"IF('Ceiling Speaker Calculator'!$C$29=\"Square\",AX$1,IF(OR(AND(ODD($A102)=$A102,ODD(AX$2)=AX$2),AND(EVEN($A102)=$A102,EVEN(AX$2)=AX$2)),AX$1,-100))","v":890.625},{"$f":"IF('Ceiling Speaker Calculator'!$C$29=\"Square\",AY$1,IF(OR(AND(ODD($A102)=$A102,ODD(AY$2)=AY$2),AND(EVEN($A102)=$A102,EVEN(AY$2)=AY$2)),AY$1,-100))","v":909.375},{"$f":"IF('Ceiling Speaker Calculator'!$C$29=\"Square\",AZ$1,IF(OR(AND(ODD($A102)=$A102,ODD(AZ$2)=AZ$2),AND(EVEN($A102)=$A102,EVEN(AZ$2)=AZ$2)),AZ$1,-100))","v":928.125},{"$f":"IF('Ceiling Speaker Calculator'!$C$29=\"Square\",BA$1,IF(OR(AND(ODD($A102)=$A102,ODD(BA$2)=BA$2),AND(EVEN($A102)=$A102,EVEN(BA$2)=BA$2)),BA$1,-100))","v":946.875},{"$f":"IF('Ceiling Speaker Calculator'!$C$29=\"Square\",BB$1,IF(OR(AND(ODD($A102)=$A102,ODD(BB$2)=BB$2),AND(EVEN($A102)=$A102,EVEN(BB$2)=BB$2)),BB$1,-100))","v":965.625},{"$f":"IF('Ceiling Speaker Calculator'!$C$29=\"Square\",BC$1,IF(OR(AND(ODD($A102)=$A102,ODD(BC$2)=BC$2),AND(EVEN($A102)=$A102,EVEN(BC$2)=BC$2)),BC$1,-100))","v":984.375},{"$f":"IF('Ceiling Speaker Calculator'!$C$29=\"Square\",BD$1,IF(OR(AND(ODD($A102)=$A102,ODD(BD$2)=BD$2),AND(EVEN($A102)=$A102,EVEN(BD$2)=BD$2)),BD$1,-100))","v":1003.125},{"$f":"IF('Ceiling Speaker Calculator'!$C$29=\"Square\",BE$1,IF(OR(AND(ODD($A102)=$A102,ODD(BE$2)=BE$2),AND(EVEN($A102)=$A102,EVEN(BE$2)=BE$2)),BE$1,-100))","v":1021.875},{"$f":"IF('Ceiling Speaker Calculator'!$C$29=\"Square\",BF$1,IF(OR(AND(ODD($A102)=$A102,ODD(BF$2)=BF$2),AND(EVEN($A102)=$A102,EVEN(BF$2)=BF$2)),BF$1,-100))","v":1040.625},{"$f":"IF('Ceiling Speaker Calculator'!$C$29=\"Square\",BG$1,IF(OR(AND(ODD($A102)=$A102,ODD(BG$2)=BG$2),AND(EVEN($A102)=$A102,EVEN(BG$2)=BG$2)),BG$1,-100))","v":1059.375},{"$f":"IF('Ceiling Speaker Calculator'!$C$29=\"Square\",BH$1,IF(OR(AND(ODD($A102)=$A102,ODD(BH$2)=BH$2),AND(EVEN($A102)=$A102,EVEN(BH$2)=BH$2)),BH$1,-100))","v":1078.125},{"$f":"IF('Ceiling Speaker Calculator'!$C$29=\"Square\",BI$1,IF(OR(AND(ODD($A102)=$A102,ODD(BI$2)=BI$2),AND(EVEN($A102)=$A102,EVEN(BI$2)=BI$2)),BI$1,-100))","v":1096.875},{"$f":"IF('Ceiling Speaker Calculator'!$C$29=\"Square\",BJ$1,IF(OR(AND(ODD($A102)=$A102,ODD(BJ$2)=BJ$2),AND(EVEN($A102)=$A102,EVEN(BJ$2)=BJ$2)),BJ$1,-100))","v":1115.625},{"$f":"IF('Ceiling Speaker Calculator'!$C$29=\"Square\",BK$1,IF(OR(AND(ODD($A102)=$A102,ODD(BK$2)=BK$2),AND(EVEN($A102)=$A102,EVEN(BK$2)=BK$2)),BK$1,-100))","v":1134.375},{"$f":"IF('Ceiling Speaker Calculator'!$C$29=\"Square\",BL$1,IF(OR(AND(ODD($A102)=$A102,ODD(BL$2)=BL$2),AND(EVEN($A102)=$A102,EVEN(BL$2)=BL$2)),BL$1,-100))","v":1153.125},{"$f":"IF('Ceiling Speaker Calculator'!$C$29=\"Square\",BM$1,IF(OR(AND(ODD($A102)=$A102,ODD(BM$2)=BM$2),AND(EVEN($A102)=$A102,EVEN(BM$2)=BM$2)),BM$1,-100))","v":1171.875},{"$f":"IF('Ceiling Speaker Calculator'!$C$29=\"Square\",BN$1,IF(OR(AND(ODD($A102)=$A102,ODD(BN$2)=BN$2),AND(EVEN($A102)=$A102,EVEN(BN$2)=BN$2)),BN$1,-100))","v":1190.625},{"$f":"IF('Ceiling Speaker Calculator'!$C$29=\"Square\",BO$1,IF(OR(AND(ODD($A102)=$A102,ODD(BO$2)=BO$2),AND(EVEN($A102)=$A102,EVEN(BO$2)=BO$2)),BO$1,-100))","v":1209.375},{"$f":"IF('Ceiling Speaker Calculator'!$C$29=\"Square\",BP$1,IF(OR(AND(ODD($A102)=$A102,ODD(BP$2)=BP$2),AND(EVEN($A102)=$A102,EVEN(BP$2)=BP$2)),BP$1,-100))","v":1228.125},{"$f":"IF('Ceiling Speaker Calculator'!$C$29=\"Square\",BQ$1,IF(OR(AND(ODD($A102)=$A102,ODD(BQ$2)=BQ$2),AND(EVEN($A102)=$A102,EVEN(BQ$2)=BQ$2)),BQ$1,-100))","v":1246.875},{"$f":"IF('Ceiling Speaker Calculator'!$C$29=\"Square\",BR$1,IF(OR(AND(ODD($A102)=$A102,ODD(BR$2)=BR$2),AND(EVEN($A102)=$A102,EVEN(BR$2)=BR$2)),BR$1,-100))","v":1265.625},{"$f":"IF('Ceiling Speaker Calculator'!$C$29=\"Square\",BS$1,IF(OR(AND(ODD($A102)=$A102,ODD(BS$2)=BS$2),AND(EVEN($A102)=$A102,EVEN(BS$2)=BS$2)),BS$1,-100))","v":1284.375},{"$f":"IF('Ceiling Speaker Calculator'!$C$29=\"Square\",BT$1,IF(OR(AND(ODD($A102)=$A102,ODD(BT$2)=BT$2),AND(EVEN($A102)=$A102,EVEN(BT$2)=BT$2)),BT$1,-100))","v":1303.125},{"$f":"IF('Ceiling Speaker Calculator'!$C$29=\"Square\",BU$1,IF(OR(AND(ODD($A102)=$A102,ODD(BU$2)=BU$2),AND(EVEN($A102)=$A102,EVEN(BU$2)=BU$2)),BU$1,-100))","v":1321.875},{"$f":"IF('Ceiling Speaker Calculator'!$C$29=\"Square\",BV$1,IF(OR(AND(ODD($A102)=$A102,ODD(BV$2)=BV$2),AND(EVEN($A102)=$A102,EVEN(BV$2)=BV$2)),BV$1,-100))","v":1340.625},{"$f":"IF('Ceiling Speaker Calculator'!$C$29=\"Square\",BW$1,IF(OR(AND(ODD($A102)=$A102,ODD(BW$2)=BW$2),AND(EVEN($A102)=$A102,EVEN(BW$2)=BW$2)),BW$1,-100))","v":1359.375},{"$f":"IF('Ceiling Speaker Calculator'!$C$29=\"Square\",BX$1,IF(OR(AND(ODD($A102)=$A102,ODD(BX$2)=BX$2),AND(EVEN($A102)=$A102,EVEN(BX$2)=BX$2)),BX$1,-100))","v":1378.125},{"$f":"IF('Ceiling Speaker Calculator'!$C$29=\"Square\",BY$1,IF(OR(AND(ODD($A102)=$A102,ODD(BY$2)=BY$2),AND(EVEN($A102)=$A102,EVEN(BY$2)=BY$2)),BY$1,-100))","v":1396.875},{"$f":"IF('Ceiling Speaker Calculator'!$C$29=\"Square\",BZ$1,IF(OR(AND(ODD($A102)=$A102,ODD(BZ$2)=BZ$2),AND(EVEN($A102)=$A102,EVEN(BZ$2)=BZ$2)),BZ$1,-100))","v":1415.625},{"$f":"IF('Ceiling Speaker Calculator'!$C$29=\"Square\",CA$1,IF(OR(AND(ODD($A102)=$A102,ODD(CA$2)=CA$2),AND(EVEN($A102)=$A102,EVEN(CA$2)=CA$2)),CA$1,-100))","v":1434.375},{"$f":"IF('Ceiling Speaker Calculator'!$C$29=\"Square\",CB$1,IF(OR(AND(ODD($A102)=$A102,ODD(CB$2)=CB$2),AND(EVEN($A102)=$A102,EVEN(CB$2)=CB$2)),CB$1,-100))","v":1453.125},{"$f":"IF('Ceiling Speaker Calculator'!$C$29=\"Square\",CC$1,IF(OR(AND(ODD($A102)=$A102,ODD(CC$2)=CC$2),AND(EVEN($A102)=$A102,EVEN(CC$2)=CC$2)),CC$1,-100))","v":1471.875},{"$f":"IF('Ceiling Speaker Calculator'!$C$29=\"Square\",CD$1,IF(OR(AND(ODD($A102)=$A102,ODD(CD$2)=CD$2),AND(EVEN($A102)=$A102,EVEN(CD$2)=CD$2)),CD$1,-100))","v":1490.625},{"$f":"IF('Ceiling Speaker Calculator'!$C$29=\"Square\",CE$1,IF(OR(AND(ODD($A102)=$A102,ODD(CE$2)=CE$2),AND(EVEN($A102)=$A102,EVEN(CE$2)=CE$2)),CE$1,-100))","v":1509.375},{"$f":"IF('Ceiling Speaker Calculator'!$C$29=\"Square\",CF$1,IF(OR(AND(ODD($A102)=$A102,ODD(CF$2)=CF$2),AND(EVEN($A102)=$A102,EVEN(CF$2)=CF$2)),CF$1,-100))","v":1528.125},{"$f":"IF('Ceiling Speaker Calculator'!$C$29=\"Square\",CG$1,IF(OR(AND(ODD($A102)=$A102,ODD(CG$2)=CG$2),AND(EVEN($A102)=$A102,EVEN(CG$2)=CG$2)),CG$1,-100))","v":1546.875},{"$f":"IF('Ceiling Speaker Calculator'!$C$29=\"Square\",CH$1,IF(OR(AND(ODD($A102)=$A102,ODD(CH$2)=CH$2),AND(EVEN($A102)=$A102,EVEN(CH$2)=CH$2)),CH$1,-100))","v":1565.625},{"$f":"IF('Ceiling Speaker Calculator'!$C$29=\"Square\",CI$1,IF(OR(AND(ODD($A102)=$A102,ODD(CI$2)=CI$2),AND(EVEN($A102)=$A102,EVEN(CI$2)=CI$2)),CI$1,-100))","v":1584.375},{"$f":"IF('Ceiling Speaker Calculator'!$C$29=\"Square\",CJ$1,IF(OR(AND(ODD($A102)=$A102,ODD(CJ$2)=CJ$2),AND(EVEN($A102)=$A102,EVEN(CJ$2)=CJ$2)),CJ$1,-100))","v":1603.125},{"$f":"IF('Ceiling Speaker Calculator'!$C$29=\"Square\",CK$1,IF(OR(AND(ODD($A102)=$A102,ODD(CK$2)=CK$2),AND(EVEN($A102)=$A102,EVEN(CK$2)=CK$2)),CK$1,-100))","v":1621.875},{"$f":"IF('Ceiling Speaker Calculator'!$C$29=\"Square\",CL$1,IF(OR(AND(ODD($A102)=$A102,ODD(CL$2)=CL$2),AND(EVEN($A102)=$A102,EVEN(CL$2)=CL$2)),CL$1,-100))","v":1640.625},{"$f":"IF('Ceiling Speaker Calculator'!$C$29=\"Square\",CM$1,IF(OR(AND(ODD($A102)=$A102,ODD(CM$2)=CM$2),AND(EVEN($A102)=$A102,EVEN(CM$2)=CM$2)),CM$1,-100))","v":1659.375},{"$f":"IF('Ceiling Speaker Calculator'!$C$29=\"Square\",CN$1,IF(OR(AND(ODD($A102)=$A102,ODD(CN$2)=CN$2),AND(EVEN($A102)=$A102,EVEN(CN$2)=CN$2)),CN$1,-100))","v":1678.125},{"$f":"IF('Ceiling Speaker Calculator'!$C$29=\"Square\",CO$1,IF(OR(AND(ODD($A102)=$A102,ODD(CO$2)=CO$2),AND(EVEN($A102)=$A102,EVEN(CO$2)=CO$2)),CO$1,-100))","v":1696.875},{"$f":"IF('Ceiling Speaker Calculator'!$C$29=\"Square\",CP$1,IF(OR(AND(ODD($A102)=$A102,ODD(CP$2)=CP$2),AND(EVEN($A102)=$A102,EVEN(CP$2)=CP$2)),CP$1,-100))","v":1715.625},{"$f":"IF('Ceiling Speaker Calculator'!$C$29=\"Square\",CQ$1,IF(OR(AND(ODD($A102)=$A102,ODD(CQ$2)=CQ$2),AND(EVEN($A102)=$A102,EVEN(CQ$2)=CQ$2)),CQ$1,-100))","v":1734.375},{"$f":"IF('Ceiling Speaker Calculator'!$C$29=\"Square\",CR$1,IF(OR(AND(ODD($A102)=$A102,ODD(CR$2)=CR$2),AND(EVEN($A102)=$A102,EVEN(CR$2)=CR$2)),CR$1,-100))","v":1753.125},{"$f":"IF('Ceiling Speaker Calculator'!$C$29=\"Square\",CS$1,IF(OR(AND(ODD($A102)=$A102,ODD(CS$2)=CS$2),AND(EVEN($A102)=$A102,EVEN(CS$2)=CS$2)),CS$1,-100))","v":1771.875},{"$f":"IF('Ceiling Speaker Calculator'!$C$29=\"Square\",CT$1,IF(OR(AND(ODD($A102)=$A102,ODD(CT$2)=CT$2),AND(EVEN($A102)=$A102,EVEN(CT$2)=CT$2)),CT$1,-100))","v":1790.625},{"$f":"IF('Ceiling Speaker Calculator'!$C$29=\"Square\",CU$1,IF(OR(AND(ODD($A102)=$A102,ODD(CU$2)=CU$2),AND(EVEN($A102)=$A102,EVEN(CU$2)=CU$2)),CU$1,-100))","v":1809.375},{"$f":"IF('Ceiling Speaker Calculator'!$C$29=\"Square\",CV$1,IF(OR(AND(ODD($A102)=$A102,ODD(CV$2)=CV$2),AND(EVEN($A102)=$A102,EVEN(CV$2)=CV$2)),CV$1,-100))","v":1828.125},{"$f":"IF('Ceiling Speaker Calculator'!$C$29=\"Square\",CW$1,IF(OR(AND(ODD($A102)=$A102,ODD(CW$2)=CW$2),AND(EVEN($A102)=$A102,EVEN(CW$2)=CW$2)),CW$1,-100))","v":1846.875},{"$f":"IF('Ceiling Speaker Calculator'!$C$29=\"Square\",CX$1,IF(OR(AND(ODD($A102)=$A102,ODD(CX$2)=CX$2),AND(EVEN($A102)=$A102,EVEN(CX$2)=CX$2)),CX$1,-100))","v":1865.625}]

{"sheet":"Cone Coverage Pattern","index":6,"n_rows":12,"n_cols":10,"rows_kept":12,"cut":false,"hidden":true,"merged":[]}
[]
[null,null,"Speaker",null,null,"Speaker",null,null,"Speaker"]
["Width",{"$f":"C3-Calculations!$C33","v":-0.4059927956830709},{"$f":"'Speaker Placement Pattern'!C1","v":9.375},{"$f":"C3+Calculations!$C33","v":19.155992795683069},{"$f":"F3-Calculations!$C33","v":18.344007204316931},{"$f":"'Speaker Placement Pattern'!D1","v":28.125},{"$f":"F3+Calculations!$C33","v":37.905992795683069},{"$f":"I3-Calculations!$C33","v":37.094007204316931},{"$f":"'Speaker Placement Pattern'!E1","v":46.875},{"$f":"I3+Calculations!$C33","v":56.655992795683069}]
["Length",{"$f":"C4-Calculations!$C33","v":0.2190072043169291},{"$f":"'Speaker Placement Pattern'!B3","v":10},{"$f":"C4+Calculations!$C33","v":19.780992795683069},{"$f":"F4-Calculations!$C33","v":20.219007204316931},{"$f":"'Speaker Placement Pattern'!B4","v":30},{"$f":"F4+Calculations!$C33","v":39.780992795683069},{"$f":"I4-Calculations!$C33","v":40.219007204316931},{"$f":"'Speaker Placement Pattern'!B5","v":50},{"$f":"I4+Calculations!$C33","v":59.780992795683069}]
[]
[]
[]
[]
[null,null,"Width",null,null,null,"Length"]
["Listener",{"$f":"B11-Calculations!C9","v":4},{"$f":"B3","v":-0.4059927956830709},{"$f":"E3","v":18.344007204316931},{"$f":"H3","v":37.094007204316931},null,{"$f":"B4","v":0.2190072043169291},{"$f":"E4","v":20.219007204316931},{"$f":"H4","v":40.219007204316931}]
["Installation",{"$f":"IF('Ceiling Speaker Calculator'!C23<>0,'Ceiling Speaker Calculator'!C23,'Ceiling Speaker Calculator'!C22)","v":12},{"$f":"C3","v":9.375},{"$f":"F3","v":28.125},{"$f":"I3","v":46.875},null,{"$f":"C4","v":10},{"$f":"F4","v":30},{"$f":"I4","v":50}]
["Listener",{"$f":"B10","v":4},{"$f":"D3","v":19.155992795683069},{"$f":"G3","v":37.905992795683069},{"$f":"J3","v":56.655992795683069},null,{"$f":"D4","v":19.780992795683069},{"$f":"G4","v":39.780992795683069},{"$f":"J4","v":59.780992795683069}]